Workbook
Name Type: listing!$B$27:$B$35

Sheet bon de commande
B1: Formats | C1: Brillant | D1: Mat | J1: VOTRE COMMANDE
A2: Posters | B2: 20 x 60 | C2: =listing!C19 -> 15 | D2: =listing!D19 -> 15 | J2: Montant | M2: TVA | N2: 0.196 | O2: =SUM(P4:P8) -> 71.7 | P2: =SUM(P4:P8)*N2+O2 -> 85.7532
B3: 30x 30 | C3: =listing!C20 -> 15 | D3: =listing!D20 -> 15 | J3: Numéros / noms Photo | K3: Type | L3: Format | M3: Finition | N3: Quantité | O3: Prix Unitaire | P3: Prix
B4: 30 x 40 | C4: =listing!C21 -> 15 | D4: =listing!D21 -> 15 | K4: Posters | L4: 30x 30 | M4: Brillant | N4: 1 | O4: =IF(K4=$A$2,IF(M4=$C$1,VLOOKUP(L4,$B$1:$D$15,2,FALSE),IF(M4=$D$1,VLOOKUP(L4,$B$1:$D$15,3,FALSE))),IF(K4=$A$17,IF(M4=BRILLANTMAT[[#Headers],[Brillant]],VLOOKUP(L4,$B$16:$F$36,2,FALSE),IF(M4=SATINEPORTRAIT[[#Headers],[Mat]],VLOOKUP(L4,$B$16:$F$36,3,FALSE),IF(M4=SATINEPORTRAIT[[#Headers],[Satiné]],VLOOKUP(L4,$B$16:$F$36,4,FALSE),IF(M4=SATINEPORTRAIT[[#Headers],[Portrait]],VLOOKUP(L4,$B$16:$F$36,5,FALSE),)))),"")) -> 15 | P4: =IF(K4="","",N4*O4) -> 15
B5: 30 x 45 | C5: =listing!C22 -> 15 | D5: =listing!D22 -> 15 | K5: Photos | L5: 13 x 17 | M5: brillant | N5: 1 | O5: =IF(K5=$A$2,IF(M5=$C$1,VLOOKUP(L5,$B$1:$D$15,2,FALSE),IF(M5=$D$1,VLOOKUP(L5,$B$1:$D$15,3,FALSE))),IF(K5=$A$17,IF(M5=BRILLANTMAT[[#Headers],[Brillant]],VLOOKUP(L5,$B$16:$F$36,2,FALSE),IF(M5=SATINEPORTRAIT[[#Headers],[Mat]],VLOOKUP(L5,$B$16:$F$36,3,FALSE),IF(M5=SATINEPORTRAIT[[#Headers],[Satiné]],VLOOKUP(L5,$B$16:$F$36,4,FALSE),IF(M5=SATINEPORTRAIT[[#Headers],[Portrait]],VLOOKUP(L5,$B$16:$F$36,5,FALSE),)))),"")) -> 0.95 | P5: =IF(K5="","",N5*O5) -> 0.95
B6: 30 x 90 | C6: =listing!C23 -> 15 | D6: =listing!D23 -> 15 | K6: Posters | L6: 30 x 45 | M6: mat | N6: 1 | O6: =IF(K6=$A$2,IF(M6=$C$1,VLOOKUP(L6,$B$1:$D$15,2,FALSE),IF(M6=$D$1,VLOOKUP(L6,$B$1:$D$15,3,FALSE))),IF(K6=$A$17,IF(M6=BRILLANTMAT[[#Headers],[Brillant]],VLOOKUP(L6,$B$16:$F$36,2,FALSE),IF(M6=SATINEPORTRAIT[[#Headers],[Mat]],VLOOKUP(L6,$B$16:$F$36,3,FALSE),IF(M6=SATINEPORTRAIT[[#Headers],[Satiné]],VLOOKUP(L6,$B$16:$F$36,4,FALSE),IF(M6=SATINEPORTRAIT[[#Headers],[Portrait]],VLOOKUP(L6,$B$16:$F$36,5,FALSE),)))),"")) -> 15 | P6: =IF(K6="","",N6*O6) -> 15
B7: 40 x 40 | C7: =listing!C24 -> 30 | D7: =listing!D24 -> 30 | K7: Photos | L7: 10 x 15 | M7: mat | N7: 1 | O7: =IF(K7=$A$2,IF(M7=$C$1,VLOOKUP(L7,$B$1:$D$15,2,FALSE),IF(M7=$D$1,VLOOKUP(L7,$B$1:$D$15,3,FALSE))),IF(K7=$A$17,IF(M7=BRILLANTMAT[[#Headers],[Brillant]],VLOOKUP(L7,$B$16:$F$36,2,FALSE),IF(M7=SATINEPORTRAIT[[#Headers],[Mat]],VLOOKUP(L7,$B$16:$F$36,3,FALSE),IF(M7=SATINEPORTRAIT[[#Headers],[Satiné]],VLOOKUP(L7,$B$16:$F$36,4,FALSE),IF(M7=SATINEPORTRAIT[[#Headers],[Portrait]],VLOOKUP(L7,$B$16:$F$36,5,FALSE),)))),"")) -> 0.75 | P7: =IF(K7="","",N7*O7) -> 0.75
B8: 40 x50 | C8: =listing!C25 -> 30 | D8: =listing!D25 -> 30 | K8: Posters | L8: 50 x 50 | M8: brillant | N8: 1 | O8: =IF(K8=$A$2,IF(M8=$C$1,VLOOKUP(L8,$B$1:$D$15,2,FALSE),IF(M8=$D$1,VLOOKUP(L8,$B$1:$D$15,3,FALSE))),IF(K8=$A$17,IF(M8=BRILLANTMAT[[#Headers],[Brillant]],VLOOKUP(L8,$B$16:$F$36,2,FALSE),IF(M8=SATINEPORTRAIT[[#Headers],[Mat]],VLOOKUP(L8,$B$16:$F$36,3,FALSE),IF(M8=SATINEPORTRAIT[[#Headers],[Satiné]],VLOOKUP(L8,$B$16:$F$36,4,FALSE),IF(M8=SATINEPORTRAIT[[#Headers],[Portrait]],VLOOKUP(L8,$B$16:$F$36,5,FALSE),)))),"")) -> 40 | P8: =IF(K8="","",N8*O8) -> 40
B9: 40 x 60 | C9: =listing!C26 -> 30 | D9: =listing!D26 -> 30 | K9: Posters | L9: 30 x 90 | M9: brillant | N9: 1 | O9: =IF(K9=$A$2,IF(M9=$C$1,VLOOKUP(L9,$B$1:$D$15,2,FALSE),IF(M9=$D$1,VLOOKUP(L9,$B$1:$D$15,3,FALSE))),IF(K9=$A$17,IF(M9=BRILLANTMAT[[#Headers],[Brillant]],VLOOKUP(L9,$B$16:$F$36,2,FALSE),IF(M9=SATINEPORTRAIT[[#Headers],[Mat]],VLOOKUP(L9,$B$16:$F$36,3,FALSE),IF(M9=SATINEPORTRAIT[[#Headers],[Satiné]],VLOOKUP(L9,$B$16:$F$36,4,FALSE),IF(M9=SATINEPORTRAIT[[#Headers],[Portrait]],VLOOKUP(L9,$B$16:$F$36,5,FALSE),)))),"")) -> 15 | P9: =IF(K9="","",N9*O9) -> 15
B10: 50 x 50 | C10: =listing!C27 -> 40 | D10: =listing!D27 -> 40 | K10: Photos | L10: 10 x 13 | M10: Brillant | N10: 1 | O10: =IF(K10=$A$2,IF(M10=$C$1,VLOOKUP(L10,$B$1:$D$15,2,FALSE),IF(M10=$D$1,VLOOKUP(L10,$B$1:$D$15,3,FALSE))),IF(K10=$A$17,IF(M10=BRILLANTMAT[[#Headers],[Brillant]],VLOOKUP(L10,$B$16:$F$36,2,FALSE),IF(M10=SATINEPORTRAIT[[#Headers],[Mat]],VLOOKUP(L10,$B$16:$F$36,3,FALSE),IF(M10=SATINEPORTRAIT[[#Headers],[Satiné]],VLOOKUP(L10,$B$16:$F$36,4,FALSE),IF(M10=SATINEPORTRAIT[[#Headers],[Portrait]],VLOOKUP(L10,$B$16:$F$36,5,FALSE),)))),"")) -> 0.75 | P10: =IF(K10="","",N10*O10) -> 0.75
B11: 50 x 70 | C11: =listing!C28 -> 55 | D11: =listing!D28 -> 55 | K11: Photos | L11: 21 x 29 | M11: Mat | N11: 1 | O11: =IF(K11=$A$2,IF(M11=$C$1,VLOOKUP(L11,$B$1:$D$15,2,FALSE),IF(M11=$D$1,VLOOKUP(L11,$B$1:$D$15,3,FALSE))),IF(K11=$A$17,IF(M11=BRILLANTMAT[[#Headers],[Brillant]],VLOOKUP(L11,$B$16:$F$36,2,FALSE),IF(M11=SATINEPORTRAIT[[#Headers],[Mat]],VLOOKUP(L11,$B$16:$F$36,3,FALSE),IF(M11=SATINEPORTRAIT[[#Headers],[Satiné]],VLOOKUP(L11,$B$16:$F$36,4,FALSE),IF(M11=SATINEPORTRAIT[[#Headers],[Portrait]],VLOOKUP(L11,$B$16:$F$36,5,FALSE),)))),"")) -> 2.45 | P11: =IF(K11="","",N11*O11) -> 2.45
B12: 50 x 75 | C12: =listing!C29 -> 55 | D12: =listing!D29 -> 55 | K12: Photos | L12: 30 x 45 | M12: Satiné | N12: 1 | O12: =IF(K12=$A$2,IF(M12=$C$1,VLOOKUP(L12,$B$1:$D$15,2,FALSE),IF(M12=$D$1,VLOOKUP(L12,$B$1:$D$15,3,FALSE))),IF(K12=$A$17,IF(M12=BRILLANTMAT[[#Headers],[Brillant]],VLOOKUP(L12,$B$16:$F$36,2,FALSE),IF(M12=SATINEPORTRAIT[[#Headers],[Mat]],VLOOKUP(L12,$B$16:$F$36,3,FALSE),IF(M12=SATINEPORTRAIT[[#Headers],[Satiné]],VLOOKUP(L12,$B$16:$F$36,4,FALSE),IF(M12=SATINEPORTRAIT[[#Headers],[Portrait]],VLOOKUP(L12,$B$16:$F$36,5,FALSE),)))),"")) -> 9.45 | P12: =IF(K12="","",N12*O12) -> 9.45
B13: 60 x 60 | C13: =listing!C30 -> 50 | D13: =listing!D30 -> 50 | K13: Photos | L13: 13 x 18 | M13: Portrait | N13: 1 | O13: =IF(K13=$A$2,IF(M13=$C$1,VLOOKUP(L13,$B$1:$D$15,2,FALSE),IF(M13=$D$1,VLOOKUP(L13,$B$1:$D$15,3,FALSE))),IF(K13=$A$17,IF(M13=BRILLANTMAT[[#Headers],[Brillant]],VLOOKUP(L13,$B$16:$F$36,2,FALSE),IF(M13=SATINEPORTRAIT[[#Headers],[Mat]],VLOOKUP(L13,$B$16:$F$36,3,FALSE),IF(M13=SATINEPORTRAIT[[#Headers],[Satiné]],VLOOKUP(L13,$B$16:$F$36,4,FALSE),IF(M13=SATINEPORTRAIT[[#Headers],[Portrait]],VLOOKUP(L13,$B$16:$F$36,5,FALSE),)))),"")) -> 1.45 | P13: =IF(K13="","",N13*O13) -> 1.45
B14: 60 x 80 | C14: =listing!C31 -> 70 | D14: =listing!D31 -> 70 | K14: Photos | L14: 10 x 15 | M14: Brillant | N14: 1 | O14: =IF(K14=$A$2,IF(M14=$C$1,VLOOKUP(L14,$B$1:$D$15,2,FALSE),IF(M14=$D$1,VLOOKUP(L14,$B$1:$D$15,3,FALSE))),IF(K14=$A$17,IF(M14=BRILLANTMAT[[#Headers],[Brillant]],VLOOKUP(L14,$B$16:$F$36,2,FALSE),IF(M14=SATINEPORTRAIT[[#Headers],[Mat]],VLOOKUP(L14,$B$16:$F$36,3,FALSE),IF(M14=SATINEPORTRAIT[[#Headers],[Satiné]],VLOOKUP(L14,$B$16:$F$36,4,FALSE),IF(M14=SATINEPORTRAIT[[#Headers],[Portrait]],VLOOKUP(L14,$B$16:$F$36,5,FALSE),)))),"")) -> 0.75 | P14: =IF(K14="","",N14*O14) -> 0.75
B15: 60 x 90 | C15: =listing!C32 -> 70 | D15: =listing!D32 -> 70 | K15: Photos | L15: 30 x 40 | M15: Mat | N15: 1 | O15: =IF(K15=$A$2,IF(M15=$C$1,VLOOKUP(L15,$B$1:$D$15,2,FALSE),IF(M15=$D$1,VLOOKUP(L15,$B$1:$D$15,3,FALSE))),IF(K15=$A$17,IF(M15=BRILLANTMAT[[#Headers],[Brillant]],VLOOKUP(L15,$B$16:$F$36,2,FALSE),IF(M15=SATINEPORTRAIT[[#Headers],[Mat]],VLOOKUP(L15,$B$16:$F$36,3,FALSE),IF(M15=SATINEPORTRAIT[[#Headers],[Satiné]],VLOOKUP(L15,$B$16:$F$36,4,FALSE),IF(M15=SATINEPORTRAIT[[#Headers],[Portrait]],VLOOKUP(L15,$B$16:$F$36,5,FALSE),)))),"")) -> 8.95 | P15: =IF(K15="","",N15*O15) -> 8.95
B16: Formats | C16: Brillant | D16: Mat | E16: Satiné | F16: Portrait | K16: Photos | L16: 13 x 17 | M16: Satiné | N16: 1 | O16: =IF(K16=$A$2,IF(M16=$C$1,VLOOKUP(L16,$B$1:$D$15,2,FALSE),IF(M16=$D$1,VLOOKUP(L16,$B$1:$D$15,3,FALSE))),IF(K16=$A$17,IF(M16=BRILLANTMAT[[#Headers],[Brillant]],VLOOKUP(L16,$B$16:$F$36,2,FALSE),IF(M16=SATINEPORTRAIT[[#Headers],[Mat]],VLOOKUP(L16,$B$16:$F$36,3,FALSE),IF(M16=SATINEPORTRAIT[[#Headers],[Satiné]],VLOOKUP(L16,$B$16:$F$36,4,FALSE),IF(M16=SATINEPORTRAIT[[#Headers],[Portrait]],VLOOKUP(L16,$B$16:$F$36,5,FALSE),)))),"")) -> 1.45 | P16: =IF(K16="","",N16*O16) -> 1.45
A17: Photos | B17: 9 x 13 | C17: =listing!C34 -> 0.45 | D17: =listing!D34 -> 0.45 | E17: =listing!E34 -> 0.95 | F17: =listing!F34 -> 0.95 | K17: Photos | L17: 10 x 13 | M17: Portrait | N17: 1 | O17: =IF(K17=$A$2,IF(M17=$C$1,VLOOKUP(L17,$B$1:$D$15,2,FALSE),IF(M17=$D$1,VLOOKUP(L17,$B$1:$D$15,3,FALSE))),IF(K17=$A$17,IF(M17=BRILLANTMAT[[#Headers],[Brillant]],VLOOKUP(L17,$B$16:$F$36,2,FALSE),IF(M17=SATINEPORTRAIT[[#Headers],[Mat]],VLOOKUP(L17,$B$16:$F$36,3,FALSE),IF(M17=SATINEPORTRAIT[[#Headers],[Satiné]],VLOOKUP(L17,$B$16:$F$36,4,FALSE),IF(M17=SATINEPORTRAIT[[#Headers],[Portrait]],VLOOKUP(L17,$B$16:$F$36,5,FALSE),)))),"")) -> 1.25 | P17: =IF(K17="","",N17*O17) -> 1.25
B18: 10 x 13 | C18: =listing!C35 -> 0.75 | D18: =listing!D35 -> 0.75 | E18: =listing!E35 -> 1.25 | F18: =listing!F35 -> 1.25 | K18: Posters | L18: 30x 30 | M18: Mat | N18: 1 | O18: =IF(K18=$A$2,IF(M18=$C$1,VLOOKUP(L18,$B$1:$D$15,2,FALSE),IF(M18=$D$1,VLOOKUP(L18,$B$1:$D$15,3,FALSE))),IF(K18=$A$17,IF(M18=BRILLANTMAT[[#Headers],[Brillant]],VLOOKUP(L18,$B$16:$F$36,2,FALSE),IF(M18=SATINEPORTRAIT[[#Headers],[Mat]],VLOOKUP(L18,$B$16:$F$36,3,FALSE),IF(M18=SATINEPORTRAIT[[#Headers],[Satiné]],VLOOKUP(L18,$B$16:$F$36,4,FALSE),IF(M18=SATINEPORTRAIT[[#Headers],[Portrait]],VLOOKUP(L18,$B$16:$F$36,5,FALSE),)))),"")) -> 15 | P18: =IF(K18="","",N18*O18) -> 15
B19: 10 x 15 | C19: =listing!C36 -> 0.75 | D19: =listing!D36 -> 0.75 | E19: =listing!E36 -> 1.25 | F19: =listing!F36 -> 1.25 | K19: Posters | L19: 30 x 90 | M19: Brillant | N19: 1 | O19: =IF(K19=$A$2,IF(M19=$C$1,VLOOKUP(L19,$B$1:$D$15,2,FALSE),IF(M19=$D$1,VLOOKUP(L19,$B$1:$D$15,3,FALSE))),IF(K19=$A$17,IF(M19=BRILLANTMAT[[#Headers],[Brillant]],VLOOKUP(L19,$B$16:$F$36,2,FALSE),IF(M19=SATINEPORTRAIT[[#Headers],[Mat]],VLOOKUP(L19,$B$16:$F$36,3,FALSE),IF(M19=SATINEPORTRAIT[[#Headers],[Satiné]],VLOOKUP(L19,$B$16:$F$36,4,FALSE),IF(M19=SATINEPORTRAIT[[#Headers],[Portrait]],VLOOKUP(L19,$B$16:$F$36,5,FALSE),)))),"")) -> 15 | P19: =IF(K19="","",N19*O19) -> 15
B20: 10 x 20 | C20: =listing!C37 -> 1.45 | D20: =listing!D37 -> 1.45 | E20: =listing!E37 -> 1.95 | F20: =listing!F37 -> 1.95 | K20: Photos | L20: 30 x 45 | M20: brillant | N20: 1 | O20: =IF(K20=$A$2,IF(M20=$C$1,VLOOKUP(L20,$B$1:$D$15,2,FALSE),IF(M20=$D$1,VLOOKUP(L20,$B$1:$D$15,3,FALSE))),IF(K20=$A$17,IF(M20=BRILLANTMAT[[#Headers],[Brillant]],VLOOKUP(L20,$B$16:$F$36,2,FALSE),IF(M20=SATINEPORTRAIT[[#Headers],[Mat]],VLOOKUP(L20,$B$16:$F$36,3,FALSE),IF(M20=SATINEPORTRAIT[[#Headers],[Satiné]],VLOOKUP(L20,$B$16:$F$36,4,FALSE),IF(M20=SATINEPORTRAIT[[#Headers],[Portrait]],VLOOKUP(L20,$B$16:$F$36,5,FALSE),)))),"")) -> 8.95 | P20: =IF(K20="","",N20*O20) -> 8.95
B21: 13 x 13 | C21: =listing!C38 -> 0.95 | D21: =listing!D38 -> 0.95 | E21: =listing!E38 -> 1.45 | F21: =listing!F38 -> 1.45
B22: 13 x 17 | C22: =listing!C39 -> 0.95 | D22: =listing!D39 -> 0.95 | E22: =listing!E39 -> 1.45 | F22: =listing!F39 -> 1.45
B23: 13 x 18 | C23: =listing!C40 -> 0.95 | D23: =listing!D40 -> 0.95 | E23: =listing!E40 -> 1.45 | F23: =listing!F40 -> 1.45
B24: 13 x 19 | C24: =listing!C41 -> 0.95 | D24: =listing!D41 -> 0.95 | E24: =listing!E41 -> 1.45 | F24: =listing!F41 -> 1.45
B25: 15 x 21 | C25: =listing!C42 -> 1.45 | D25: =listing!D42 -> 1.45 | E25: =listing!E42 -> 1.95 | F25: =listing!F42 -> 1.95
B26: 20 x 30 | C26: =listing!C43 -> 2.45 | D26: =listing!D43 -> 2.45 | E26: =listing!E43 -> 2.95 | F26: =listing!F43 -> 2.95
B27: 21 x 21 | C27: =listing!C44 -> 2.45 | D27: =listing!D44 -> 2.45 | E27: =listing!E44 -> 2.95 | F27: =listing!F44 -> 2.95
B28: 21 x 25 | C28: =listing!C45 -> 2.45 | D28: =listing!D45 -> 2.45 | E28: =listing!E45 -> 2.95 | F28: =listing!F45 -> 2.95
B29: 21 x 27 | C29: =listing!C46 -> 2.45 | D29: =listing!D46 -> 2.45 | E29: =listing!E46 -> 2.95 | F29: =listing!F46 -> 2.95
B30: 21 x 28 | C30: =listing!C47 -> 2.45 | D30: =listing!D47 -> 2.45 | E30: =listing!E47 -> 2.95 | F30: =listing!F47 -> 2.95
B31: 21 x 29 | C31: =listing!C48 -> 2.45 | D31: =listing!D48 -> 2.45 | E31: =listing!E48 -> 2.95 | F31: =listing!F48 -> 2.95
B32: 21 x 30 | C32: =listing!C49 -> 2.45 | D32: =listing!D49 -> 2.45 | E32: =listing!E49 -> 2.95 | F32: =listing!F49 -> 2.95
... B36: 30 x 45 | C36: =listing!C53 -> 8.95 | D36: =listing!D53 -> 8.95 | E36: =listing!E53 -> 9.45 | F36: =listing!F53 -> 9.45
A112: Posters
A113: Photos

Sheet listing
B4: Posters Photo
B5: Deux finitions papier différentes | C5: 1
B7: -Chaque finition papier va vous ravir à sa manière. L´intense spectre de couleurs assure des produits photo exceptionnels qui vous raviront pendant très longtemps !
B8: -développés sur du vrai papier photo
B9: -nombreux formats
B13: Photos
B14: -Trois finitions disponibles, brillant, mat et satiné/portait
B15: - nombreux formats
B18: Formats | C18: Brillant | D18: Mat
A19: Posters | B19: 20 x 60 | C19: 15 | D19: 15
B20: 30x 30 | C20: 15 | D20: 15
B21: 30 x 40 | C21: 15 | D21: 15
B22: 30 x 45 | C22: 15 | D22: 15
B23: 30 x 90 | C23: 15 | D23: 15
B24: 40 x 40 | C24: 30 | D24: 30
B25: 40 x50 | C25: 30 | D25: 30
B26: 40 x 60 | C26: 30 | D26: 30
B27: 50 x 50 | C27: 40 | D27: 40
B28: 50 x 70 | C28: 55 | D28: 55
B29: 50 x 75 | C29: 55 | D29: 55
B30: 60 x 60 | C30: 50 | D30: 50
B31: 60 x 80 | C31: 70 | D31: 70
B32: 60 x 90 | C32: 70 | D32: 70
B33: Formats | C33: Brillant | D33: Mat | E33: Satiné | F33: Portrait
A34: Photos | B34: 9 x 13 | C34: 0.45 | D34: 0.45 | E34: 0.95 | F34: 0.95
B35: 10 x 13 | C35: 0.75 | D35: 0.75 | E35: 1.25 | F35: 1.25
B36: 10 x 15 | C36: 0.75 | D36: 0.75 | E36: 1.25 | F36: 1.25
B37: 10 x 20 | C37: 1.45 | D37: 1.45 | E37: 1.95 | F37: 1.95
B38: 13 x 13 | C38: 0.95 | D38: 0.95 | E38: 1.45 | F38: 1.45
B39: 13 x 17 | C39: 0.95 | D39: 0.95 | E39: 1.45 | F39: 1.45
B40: 13 x 18 | C40: 0.95 | D40: 0.95 | E40: 1.45 | F40: 1.45
B41: 13 x 19 | C41: 0.95 | D41: 0.95 | E41: 1.45 | F41: 1.45
B42: 15 x 21 | C42: 1.45 | D42: 1.45 | E42: 1.95 | F42: 1.95
B43: 20 x 30 | C43: 2.45 | D43: 2.45 | E43: 2.95 | F43: 2.95
B44: 21 x 21 | C44: 2.45 | D44: 2.45 | E44: 2.95 | F44: 2.95
B45: 21 x 25 | C45: 2.45 | D45: 2.45 | E45: 2.95 | F45: 2.95
B46: 21 x 27 | C46: 2.45 | D46: 2.45 | E46: 2.95 | F46: 2.95
... B53: 30 x 45 | C53: 8.95 | D53: 8.95 | E53: 9.45 | F53: 9.45
A129: Posters
A130: Photos
