Workbook
Name Bat.: #REF!
Name Batiment.: #REF!
Name Décapage: #REF!
Name Excel_BuiltIn_Print_Area_2: #REF!
Name Rails: #REF!
Name Rampes___Docks: #REF!
Name Voiries_légeres: #REF!
Name Voiries_Lourdes: #REF!

Sheet feuille 1
A1: Année | B1: 2015 | C1: Mois | D1: 6
A3: ouvrier
A5: durée du chantier
B6: =C6/7 -> 1.1428571 | C6: =MAX(D8:D38) -> 8 | D6: étude | H6: chantier
A7: Date | B7: semaine | C7: semaines cumulées | D7: Jours cumulés | E7: Type de travail | F7: Pose journalière | G7: pose cumulée | H7: type de travail | I7: pose journalière | J7: pose cumulée | K7: remarques
A8: =DATE(B1,D1,1) -> 42156 | B8: =WEEKNUM(A8,1) -> 23 | C8: =IF(AND(C7="",D8<>0),1,IF(E8="","",IF(E7<>"",C7+1,2))) | D8: =IF(E8="",0,D7+1) -> 0 | G8: =IF(F8="",0,F8) -> 0 | J8: =IF(I8="",0,I8) -> 0
A9: =A8+1 -> 42157 | C9: =IF(E9="","",IF(AND(E9<>"",C8=""),1,C8)) | D9: =IF(E9="",0,D8+1) -> 0 | G9: =IF(AND(G8="",F9=""),0,G8+F9) -> 0 | J9: =IF(AND(J8="",I9=""),0,J8+I9) -> 0
A10: =A9+1 -> 42158 | C10: =IF(E10="","",IF(AND(E10<>"",C9=""),1,C9)) | D10: =IF(E10="",0,D9+1) -> 0 | G10: =IF(AND(G9="",F10=""),0,G9+F10) -> 0 | J10: =IF(AND(J9="",I10=""),0,J9+I10) -> 0
A11: =A10+1 -> 42159 | C11: =IF(E11="","",IF(AND(E11<>"",C10=""),1,C10)) | D11: =IF(E11="",0,D10+1) -> 0 | G11: =IF(AND(G10="",F11=""),0,G10+F11) -> 0 | J11: =IF(AND(J10="",I11=""),0,J10+I11) -> 0
A12: =A11+1 -> 42160 | C12: =IF(E12="","",IF(AND(E12<>"",C11=""),1,C11)) | D12: =IF(E12="",0,D11+1) -> 0 | G12: =IF(AND(G11="",F12=""),0,G11+F12) -> 0 | I12: 20 | J12: =IF(AND(J11="",I12=""),0,J11+I12) -> 20
A13: =A12+1 -> 42161 | C13: =IF(E13="","",IF(AND(E13<>"",C12=""),1,C12)) | D13: =IF(E13="",0,D12+1) -> 0 | G13: =IF(AND(G12="",F13=""),0,G12+F13) -> 0 | I13: 30 | J13: =IF(AND(J12="",I13=""),0,J12+I13) -> 50
A14: =A13+1 -> 42162 | C14: =IF(E14="","",IF(AND(E14<>"",C13=""),1,C13)) | D14: =IF(E14="",0,D13+1) -> 0 | G14: =IF(AND(G13="",F14=""),0,G13+F14) -> 0 | I14: 20 | J14: =IF(AND(J13="",I14=""),0,J13+I14) -> 70
A15: =A14+1 -> 42163 | B15: =WEEKNUM(A15,1) -> 24 | C15: =IF(AND(C14="",D15<>0),1,IF(E15="","",IF(E14<>"",C14+1,2))) | D15: =IF(E15="",0,D14+1) -> 0 | G15: =IF(AND(G14="",F15=""),0,G14+F15) -> 0 | I15: 15 | J15: =IF(AND(J14="",I15=""),0,J14+I15) -> 85
A16: =A15+1 -> 42164 | C16: =IF(E16="","",IF(AND(E16<>"",C15=""),1,C15)) | D16: =IF(E16="",0,D15+1) -> 0 | G16: =IF(AND(G15="",F16=""),0,G15+F16) -> 0 | I16: 20 | J16: =IF(AND(J15="",I16=""),0,J15+I16) -> 105
A17: =A16+1 -> 42165 | C17: =IF(E17="","",IF(AND(E17<>"",C16=""),1,C16)) | D17: =IF(E17="",0,D16+1) -> 0 | G17: =IF(AND(G16="",F17=""),0,G16+F17) -> 0 | I17: 20 | J17: =IF(AND(J16="",I17=""),0,J16+I17) -> 125
A18: =A17+1 -> 42166 | C18: =IF(E18="","",IF(AND(E18<>"",C17=""),1,C17)) -> 1 | D18: =IF(E18="",0,D17+1) -> 1 | E18: couche de formation | F18: 60 | G18: =IF(AND(G17="",F18=""),0,G17+F18) -> 60 | J18: =IF(AND(J17="",I18=""),0,J17+I18) -> 125
A19: =A18+1 -> 42167 | C19: =IF(E19="","",IF(AND(E19<>"",C18=""),1,C18)) -> 1 | D19: =IF(E19="",0,D18+1) -> 2 | E19: couche de formation | F19: 60 | G19: =IF(AND(G18="",F19=""),0,G18+F19) -> 120 | J19: =IF(AND(J18="",I19=""),0,J18+I19) -> 125
A20: =A19+1 -> 42168 | C20: =IF(E20="","",IF(AND(E20<>"",C19=""),1,C19)) -> 1 | D20: =IF(E20="",0,D19+1) -> 3 | E20: couche de formation | F20: 60 | G20: =IF(AND(G19="",F20=""),0,G19+F20) -> 180 | I20: 20 | J20: =IF(AND(J19="",I20=""),0,J19+I20) -> 145
A21: =A20+1 -> 42169 | C21: =IF(E21="","",IF(AND(E21<>"",C20=""),1,C20)) -> 1 | D21: =IF(E21="",0,D20+1) -> 4 | E21: couche de formation | F21: 60 | G21: =IF(AND(G20="",F21=""),0,G20+F21) -> 240 | I21: 20 | J21: =IF(AND(J20="",I21=""),0,J20+I21) -> 165
A22: =A21+1 -> 42170 | B22: =WEEKNUM(A22,1) -> 25 | C22: =IF(AND(C21="",D22<>0),1,IF(E22="","",IF(E21<>"",C21+1,2))) -> 2 | D22: =IF(E22="",0,D21+1) -> 5 | E22: couche de formation | F22: 60 | G22: =IF(AND(G21="",F22=""),0,G21+F22) -> 300 | I22: 0 | J22: =IF(AND(J21="",I22=""),0,J21+I22) -> 165
A23: =A22+1 -> 42171 | C23: =IF(E23="","",IF(AND(E23<>"",C22=""),1,C22)) -> 2 | D23: =IF(E23="",0,D22+1) -> 6 | E23: couche de formation | F23: 60 | G23: =IF(AND(G22="",F23=""),0,G22+F23) -> 360 | I23: 20 | J23: =IF(AND(J22="",I23=""),0,J22+I23) -> 185
A24: =A23+1 -> 42172 | C24: =IF(E24="","",IF(AND(E24<>"",C23=""),1,C23)) -> 2 | D24: =IF(E24="",0,D23+1) -> 7 | E24: couche de formation | F24: 60 | G24: =IF(AND(G23="",F24=""),0,G23+F24) -> 420 | I24: 25 | J24: =IF(AND(J23="",I24=""),0,J23+I24) -> 210
A25: =A24+1 -> 42173 | C25: =IF(E25="","",IF(AND(E25<>"",C24=""),1,C24)) -> 2 | D25: =IF(E25="",0,D24+1) -> 8 | E25: couche de formation | F25: 60 | G25: =IF(AND(G24="",F25=""),0,G24+F25) -> 480 | I25: 25 | J25: =IF(AND(J24="",I25=""),0,J24+I25) -> 235
A26: =A25+1 -> 42174 | C26: =IF(E26="","",IF(AND(E26<>"",C25=""),1,C25)) | D26: =IF(E26="",0,D25+1) -> 0 | G26: =IF(AND(G25="",F26=""),0,G25+F26) -> 480 | I26: 28 | J26: =IF(AND(J25="",I26=""),0,J25+I26) -> 263
A27: =A26+1 -> 42175 | C27: =IF(E27="","",IF(AND(E27<>"",C26=""),1,C26)) | D27: =IF(E27="",0,D26+1) -> 0 | G27: =IF(AND(G26="",F27=""),"",G26+F27) -> 480 | I27: 28 | J27: =IF(AND(J26="",I27=""),"",J26+I27) -> 291
A28: =A27+1 -> 42176 | C28: =IF(E28="","",IF(AND(E28<>"",C27=""),1,C27)) | D28: =IF(E28="",0,D27+1) -> 0 | G28: =IF(AND(G27="",F28=""),"",G27+F28) -> 480 | I28: 25 | J28: =IF(AND(J27="",I28=""),"",J27+I28) -> 316
A29: =A28+1 -> 42177 | B29: =WEEKNUM(A29,1) -> 26 | C29: =IF(AND(C28="",D29<>0),1,IF(E29="","",IF(E28<>"",C28+1,2))) | D29: =IF(E29="",0,D28+1) -> 0 | G29: =IF(AND(G28="",F29=""),"",G28+F29) -> 480 | I29: 9 | J29: =IF(AND(J28="",I29=""),"",J28+I29) -> 325
A30: =A29+1 -> 42178 | C30: =IF(E30="","",IF(AND(E30<>"",C29=""),1,C29)) | D30: =IF(E30="",0,D29+1) -> 0 | G30: =IF(AND(G29="",F30=""),"",G29+F30) -> 480 | J30: =IF(AND(J29="",I30=""),"",J29+I30) -> 325
A31: =A30+1 -> 42179 | C31: =IF(E31="","",IF(AND(E31<>"",C30=""),1,C30)) | D31: =IF(E31="",0,D30+1) -> 0 | G31: =IF(AND(G30="",F31=""),"",G30+F31) -> 480 | J31: =IF(AND(J30="",I31=""),"",J30+I31) -> 325
A32: =A31+1 -> 42180 | C32: =IF(E32="","",IF(AND(E32<>"",C31=""),1,C31)) | D32: =IF(E32="",0,D31+1) -> 0 | G32: =IF(AND(G31="",F32=""),"",G31+F32) -> 480 | I32: 25 | J32: =IF(AND(J31="",I32=""),"",J31+I32) -> 350
A33: =A32+1 -> 42181 | C33: =IF(E33="","",IF(AND(E33<>"",C32=""),1,C32)) | D33: =IF(E33="",0,D32+1) -> 0 | G33: =IF(AND(G32="",F33=""),"",G32+F33) -> 480 | I33: 25 | J33: =IF(AND(J32="",I33=""),"",J32+I33) -> 375
A34: =A33+1 -> 42182 | C34: =IF(E34="","",IF(AND(E34<>"",C33=""),1,C33)) | D34: =IF(E34="",0,D33+1) -> 0 | G34: =IF(AND(G33="",F34=""),"",G33+F34) -> 480 | I34: 30 | J34: =IF(AND(J33="",I34=""),"",J33+I34) -> 405
A35: =A34+1 -> 42183 | C35: =IF(E35="","",IF(AND(E35<>"",C34=""),1,C34)) | D35: =IF(E35="",0,D34+1) -> 0 | G35: =IF(AND(G34="",F35=""),"",G34+F35) -> 480 | I35: 25 | J35: =IF(AND(J34="",I35=""),"",J34+I35) -> 430
A36: =A35+1 -> 42184 | B36: =WEEKNUM(A36,1) -> 27 | C36: =IF(AND(C35="",D36<>0),1,IF(E36="","",IF(E35<>"",C35+1,2))) | D36: =IF(E36="",0,D35+1) -> 0 | G36: =IF(AND(G35="",F36=""),"",G35+F36) -> 480 | I36: 28 | J36: =IF(AND(J35="",I36=""),"",J35+I36) -> 458
A37: =A36+1 -> 42185 | C37: =IF(E37="","",IF(AND(E37<>"",C36=""),1,C36)) | D37: =IF(E37="",0,D36+1) -> 0 | G37: =IF(AND(G36="",F37=""),"",G36+F37) -> 480 | I37: 7 | J37: =IF(AND(J36="",I37=""),"",J36+I37) -> 465
A38: =A37+1 -> 42186 | C38: =IF(E38="","",IF(AND(E38<>"",C37=""),1,C37)) | D38: =IF(E38="",0,D37+1) -> 0 | G38: =IF(AND(G37="",F38=""),"",G37+F38) -> 480 | J38: =IF(AND(J37="",I38=""),"",J37+I38) -> 465

Sheet feuille 3
G3: Hét | H3: ='feuille 1'!B8 -> 23 | J3: ='feuille 1'!B9 -> 0 | L3: ='feuille 1'!B10 -> 0 | N3: ='feuille 1'!B11 -> 0 | P3: ='feuille 1'!B12 -> 0 | R3: ='feuille 1'!B13 -> 0 | T3: ='feuille 1'!B14 -> 0 | V3: ='feuille 1'!B15 -> 24 | X3: ='feuille 1'!B16 -> 0 | Z3: ='feuille 1'!B17 -> 0 | AB3: ='feuille 1'!B18 -> 0 | AD3: ='feuille 1'!B19 -> 0 | AF3: ='feuille 1'!B20 -> 0 | AH3: ='feuille 1'!B21 -> 0 | AJ3: ='feuille 1'!B22 -> 25 | AL3: ='feuille 1'!B23 -> 0 | AN3: ='feuille 1'!B24 -> 0 | AP3: ='feuille 1'!B25 -> 0 | AR3: ='feuille 1'!B26 -> 0 | AT3: ='feuille 1'!B27 -> 0 | AV3: ='feuille 1'!B28 -> 0 | AX3: ='feuille 1'!B29 -> 26 | AZ3: ='feuille 1'!B30 -> 0 | BB3: ='feuille 1'!B31 -> 0 | BD3: ='feuille 1'!B32 -> 0 | BF3: ='feuille 1'!B33 -> 0 | BH3: ='feuille 1'!B34 -> 0 | BJ3: ='feuille 1'!B35 -> 0 | BL3: ='feuille 1'!B36 -> 27 | BN3: ='feuille 1'!B37 -> 0 | BP3: ='feuille 1'!B38 -> 0 | BR3: ='feuille 1'!#REF! -> #REF! | BT3: ='feuille 1'!#REF! -> #REF! | BV3: ='feuille 1'!#REF! -> #REF! | BX3: ='feuille 1'!#REF! -> #REF! | BZ3: ='feuille 1'!#REF! -> #REF! | CB3: ='feuille 1'!#REF! -> #REF! | CD3: ='feuille 1'!#REF! -> #REF! | CF3: ='feuille 1'!#REF! -> #REF! | CH3: ='feuille 1'!#REF! -> #REF! | CJ3: ='feuille 1'!#REF! -> #REF! | CL3: ='feuille 1'!#REF! -> #REF! | CN3: ='feuille 1'!#REF! -> #REF! | CP3: ='feuille 1'!#REF! -> #REF! | CR3: ='feuille 1'!#REF! -> #REF! | CT3: ='feuille 1'!#REF! -> #REF! | CV3: ='feuille 1'!#REF! -> #REF! | CX3: ='feuille 1'!#REF! -> #REF! | CZ3: ='feuille 1'!#REF! -> #REF! | DB3: ='feuille 1'!B39 -> 0 | DD3: ='feuille 1'!B40 -> 0 | DF3: ='feuille 1'!B41 -> 0 | DH3: ='feuille 1'!B42 -> 0 | DJ3: ='feuille 1'!B43 -> 0 | DL3: ='feuille 1'!B44 -> 0 | DN3: ='feuille 1'!B45 -> 0 | DP3: ='feuille 1'!B46 -> 0 | DR3: ='feuille 1'!B47 -> 0 | DT3: ='feuille 1'!B48 -> 0 | DV3: ='feuille 1'!B49 -> 0 | DX3: ='feuille 1'!B50 -> 0 | DZ3: ='feuille 1'!B51 -> 0 | EB3: ='feuille 1'!B52 -> 0 | ED3: ='feuille 1'!B53 -> 0
G4: kumulatív hétig | H4: ='feuille 1'!C8 | J4: ='feuille 1'!C9 | L4: ='feuille 1'!C10 | N4: ='feuille 1'!C11 | P4: ='feuille 1'!C12 | R4: ='feuille 1'!C13 | T4: ='feuille 1'!C14 | V4: ='feuille 1'!C15 | X4: ='feuille 1'!C16 | Z4: ='feuille 1'!C17 | AB4: ='feuille 1'!C18 -> 1 | AD4: ='feuille 1'!C19 -> 1 | AF4: ='feuille 1'!C20 -> 1 | AH4: ='feuille 1'!C21 -> 1 | AJ4: ='feuille 1'!C22 -> 2 | AL4: ='feuille 1'!C23 -> 2 | AN4: ='feuille 1'!C24 -> 2 | AP4: ='feuille 1'!C25 -> 2 | AR4: ='feuille 1'!C26 | AT4: ='feuille 1'!C27 | AV4: ='feuille 1'!C28 | AX4: ='feuille 1'!C29 | AZ4: ='feuille 1'!C30 | BB4: ='feuille 1'!C31 | BD4: ='feuille 1'!C32 | BF4: ='feuille 1'!C33 | BH4: ='feuille 1'!C34 | BJ4: ='feuille 1'!C35 | BL4: ='feuille 1'!C36 | BN4: ='feuille 1'!C37 | BP4: ='feuille 1'!C38 | BR4: ='feuille 1'!#REF! -> #REF! | BT4: ='feuille 1'!#REF! -> #REF! | BV4: ='feuille 1'!#REF! -> #REF! | BX4: ='feuille 1'!#REF! -> #REF! | BZ4: ='feuille 1'!#REF! -> #REF! | CB4: ='feuille 1'!#REF! -> #REF! | CD4: ='feuille 1'!#REF! -> #REF! | CF4: ='feuille 1'!#REF! -> #REF! | CH4: ='feuille 1'!#REF! -> #REF! | CJ4: ='feuille 1'!#REF! -> #REF! | CL4: ='feuille 1'!#REF! -> #REF! | CN4: ='feuille 1'!#REF! -> #REF! | CP4: ='feuille 1'!#REF! -> #REF! | CR4: ='feuille 1'!#REF! -> #REF! | CT4: ='feuille 1'!#REF! -> #REF! | CV4: ='feuille 1'!#REF! -> #REF! | CX4: ='feuille 1'!#REF! -> #REF! | CZ4: ='feuille 1'!#REF! -> #REF! | DB4: ='feuille 1'!#REF! -> #REF! | DD4: ='feuille 1'!#REF! -> #REF! | DF4: ='feuille 1'!#REF! -> #REF! | DH4: ='feuille 1'!#REF! -> #REF! | DJ4: ='feuille 1'!#REF! -> #REF! | DL4: ='feuille 1'!#REF! -> #REF! | DN4: ='feuille 1'!#REF! -> #REF! | DP4: ='feuille 1'!#REF! -> #REF! | DR4: ='feuille 1'!#REF! -> #REF! | DT4: ='feuille 1'!#REF! -> #REF! | DV4: ='feuille 1'!#REF! -> #REF! | DX4: ='feuille 1'!#REF! -> #REF! | DZ4: ='feuille 1'!#REF! -> #REF! | EB4: ='feuille 1'!#REF! -> #REF! | ED4: ='feuille 1'!C42 -> 0
A5: Tétel | B5: Főcsoport | D5: Alcsoport | E5: Egys. | F5: Egységár | G5: göngyölt össz. | H5: klt. | I5: menny. | J5: klt. | K5: menny. | L5: klt. | M5: menny. | N5: klt. | O5: menny. | P5: klt. | Q5: menny. | R5: klt. | S5: menny. | T5: klt. | U5: menny. | V5: klt. | W5: menny. | X5: klt. | Y5: menny. | Z5: klt. | AA5: menny. | AB5: klt. | AC5: menny. | AD5: klt. | AE5: menny. | AF5: klt. | AG5: menny. | AH5: klt. | AI5: menny. | AJ5: klt. | AK5: menny. | AL5: klt. | AM5: menny. | AN5: klt. | AO5: menny. | AP5: klt. | AQ5: menny. | AR5: klt. | AS5: menny. | AT5: klt. | AU5: menny. | AV5: klt. | AW5: menny. | AX5: klt. | AY5: menny. | AZ5: klt. | BA5: menny. | BB5: klt. | BC5: menny. | BD5: klt. | BE5: menny. | BF5: klt. | BG5: menny. | BH5: klt. | BI5: menny. | BJ5: klt. | BK5: menny. | BL5: klt. | BM5: menny. | BN5: klt. | BO5: menny. | BP5: klt. | BQ5: menny. | BR5: klt. | BS5: menny. | BT5: klt. | BU5: menny. | BV5: klt. | BW5: menny. | BX5: klt. | BY5: menny. | BZ5: klt. | CA5: menny. | CB5: klt. | CC5: menny. | CD5: klt. | CE5: menny. | CF5: klt. | CG5: menny. | CH5: klt. | CI5: menny. | CJ5: klt. | CK5: menny. | CL5: klt. | CM5: menny. | CN5: klt. | CO5: menny. | CP5: klt. | CQ5: menny. | CR5: klt. | CS5: menny. | CT5: klt. | CU5: menny. | CV5: klt. | CW5: menny. | CX5: klt. | CY5: menny. | CZ5: klt. | DA5: menny. | DB5: klt. | DC5: menny. | DD5: klt. | DE5: menny. | DF5: klt. | DG5: menny. | DH5: klt. | DI5: menny. | DJ5: klt. | DK5: menny. | DL5: klt. | DM5: menny. | DN5: klt. | DO5: menny. | DP5: klt. | DQ5: menny. | DR5: klt. | DS5: menny. | DT5: klt. | DU5: menny. | DV5: klt. | DW5: menny. | DX5: klt. | DY5: menny. | DZ5: klt. | EA5: menny. | EB5: klt. | EC5: menny. | ED5: klt. | EE5: menny.
A6: N0 | B6: Költség átterhelés | G6: =#VALUE! -> 0 | I6: =SUM(I7) -> 0 | K6: =SUM(K7) -> 0 | M6: =SUM(M7) -> 0 | O6: =SUM(O7) -> 0 | Q6: =SUM(Q7) -> 0 | S6: =SUM(S7) -> 0 | U6: =SUM(U7) -> 0 | W6: =SUM(W7) -> 0 | Y6: =SUM(Y7) -> 0 | AA6: =SUM(AA7) -> 0 | AC6: =SUM(AC7) -> 0 | AE6: =SUM(AE7) -> 0 | AG6: =SUM(AG7) -> 0 | AI6: =SUM(AI7) -> 0 | AK6: =SUM(AK7) -> 0 | AM6: =SUM(AM7) -> 0 | AO6: =SUM(AO7) -> 0 | AQ6: =SUM(AQ7) -> 0 | AS6: =SUM(AS7) -> 0 | AU6: =SUM(AU7) -> 0 | AW6: =SUM(AW7) -> 0 | AY6: =SUM(AY7) -> 0 | BA6: =SUM(BA7) -> 0 | BC6: =SUM(BC7) -> 0 | BE6: =SUM(BE7) -> 0 | BG6: =SUM(BG7) -> 0 | BI6: =SUM(BI7) -> 0 | BK6: =SUM(BK7) -> 0 | BM6: =SUM(BM7) -> 0 | BO6: =SUM(BO7) -> 0 | BQ6: =SUM(BQ7) -> 0 | BS6: =SUM(BS7) -> 0 | BU6: =SUM(BU7) -> 0 | BW6: =SUM(BW7) -> 0 | BY6: =SUM(BY7) -> 0 | CA6: =SUM(CA7) -> 0 | CC6: =SUM(CC7) -> 0 | CE6: =SUM(CE7) -> 0 | CG6: =SUM(CG7) -> 0 | CI6: =SUM(CI7) -> 0 | CK6: =SUM(CK7) -> 0 | CM6: =SUM(CM7) -> 0 | CO6: =SUM(CO7) -> 0 | CQ6: =SUM(CQ7) -> 0 | CS6: =SUM(CS7) -> 0 | CU6: =SUM(CU7) -> 0 | CW6: =SUM(CW7) -> 0 | CY6: =SUM(CY7) -> 0 | DA6: =SUM(DA7) -> 0 | DC6: =SUM(DC7) -> 0 | DE6: =SUM(DE7) -> 0 | DG6: =SUM(DG7) -> 0 | DI6: =SUM(DI7) -> 0 | DK6: =SUM(DK7) -> 0 | DM6: =SUM(DM7) -> 0 | DO6: =SUM(DO7) -> 0 | DQ6: =SUM(DQ7) -> 0 | DS6: =SUM(DS7) -> 0 | DU6: =SUM(DU7) -> 0 | DW6: =SUM(DW7) -> 0 | DY6: =SUM(DY7) -> 0 | EA6: =SUM(EA7) -> 0 | EC6: =SUM(EC7) -> 0 | EE6: =SUM(EE7) -> 0
G7: =#VALUE! -> 0 | I7: =H7*$F7 -> 0 | K7: =J7*$F7 -> 0 | M7: =L7*$F7 -> 0 | O7: =N7*$F7 -> 0 | Q7: =P7*$F7 -> 0 | S7: =R7*$F7 -> 0 | U7: =T7*$F7 -> 0 | W7: =V7*$F7 -> 0 | Y7: =X7*$F7 -> 0 | AA7: =Z7*$F7 -> 0 | AC7: =AB7*$F7 -> 0 | AE7: =AD7*$F7 -> 0 | AG7: =AF7*$F7 -> 0 | AI7: =AH7*$F7 -> 0 | AK7: =AJ7*$F7 -> 0 | AM7: =AL7*$F7 -> 0 | AO7: =AN7*$F7 -> 0 | AQ7: =AP7*$F7 -> 0 | AS7: =AR7*$F7 -> 0 | AU7: =AT7*$F7 -> 0 | AW7: =AV7*$F7 -> 0 | AY7: =AX7*$F7 -> 0 | BA7: =AZ7*$F7 -> 0 | BC7: =BB7*$F7 -> 0 | BE7: =BD7*$F7 -> 0 | BG7: =BF7*$F7 -> 0 | BI7: =BH7*$F7 -> 0 | BK7: =BJ7*$F7 -> 0 | BM7: =BL7*$F7 -> 0 | BO7: =BN7*$F7 -> 0 | BQ7: =BP7*$F7 -> 0 | BS7: =BR7*$F7 -> 0 | BU7: =BT7*$F7 -> 0 | BW7: =BV7*$F7 -> 0 | BY7: =BX7*$F7 -> 0 | CA7: =BZ7*$F7 -> 0 | CC7: =CB7*$F7 -> 0 | CE7: =CD7*$F7 -> 0 | CG7: =CF7*$F7 -> 0 | CI7: =CH7*$F7 -> 0 | CK7: =CJ7*$F7 -> 0 | CM7: =CL7*$F7 -> 0 | CO7: =CN7*$F7 -> 0 | CQ7: =CP7*$F7 -> 0 | CS7: =CR7*$F7 -> 0 | CU7: =CT7*$F7 -> 0 | CW7: =CV7*$F7 -> 0 | CY7: =CX7*$F7 -> 0 | DA7: =CZ7*$F7 -> 0 | DC7: =DB7*$F7 -> 0 | DE7: =DD7*$F7 -> 0 | DG7: =DF7*$F7 -> 0 | DI7: =DH7*$F7 -> 0 | DK7: =DJ7*$F7 -> 0 | DM7: =DL7*$F7 -> 0 | DO7: =DN7*$F7 -> 0 | DQ7: =DP7*$F7 -> 0 | DS7: =DR7*$F7 -> 0 | DU7: =DT7*$F7 -> 0 | DW7: =DV7*$F7 -> 0 | DY7: =DX7*$F7 -> 0 | EA7: =DZ7*$F7 -> 0 | EC7: =EB7*$F7 -> 0 | EE7: =ED7*$F7 -> 0
A9: N1 | B9: Gépek | G9: =#VALUE! -> 0 | I9: =SUM(I10,I34,I42,I44) -> 0 | K9: =SUM(K10,K34,K42,K44) -> 0 | M9: =SUM(M10,M34,M42,M44) -> 0 | O9: =SUM(O10,O34,O42,O44) -> 0 | Q9: =SUM(Q10,Q34,Q42,Q44) -> 0 | S9: =SUM(S10,S34,S42,S44) -> 0 | U9: =SUM(U10,U34,U42,U44) -> 0 | W9: =SUM(W10,W34,W42,W44) -> 0 | Y9: =SUM(Y10,Y34,Y42,Y44) -> 0 | AA9: =SUM(AA10,AA34,AA42,AA44) -> 0 | AC9: =SUM(AC10,AC34,AC42,AC44) -> 0 | AE9: =SUM(AE10,AE34,AE42,AE44) -> 0 | AG9: =SUM(AG10,AG34,AG42,AG44) -> 0 | AI9: =SUM(AI10,AI34,AI42,AI44) -> 0 | AK9: =SUM(AK10,AK34,AK42,AK44) -> 0 | AM9: =SUM(AM10,AM34,AM42,AM44) -> 0 | AO9: =SUM(AO10,AO34,AO42,AO44) -> 0 | AQ9: =SUM(AQ10,AQ34,AQ42,AQ44) -> 0 | AS9: =SUM(AS10,AS34,AS42,AS44) -> 0 | AU9: =SUM(AU10,AU34,AU42,AU44) -> 0 | AW9: =SUM(AW10,AW34,AW42,AW44) -> 0 | AY9: =SUM(AY10,AY34,AY42,AY44) -> 0 | BA9: =SUM(BA10,BA34,BA42,BA44) -> 0 | BC9: =SUM(BC10,BC34,BC42,BC44) -> 0 | BE9: =SUM(BE10,BE34,BE42,BE44) -> 0 | BG9: =SUM(BG10,BG34,BG42,BG44) -> 0 | BI9: =SUM(BI10,BI34,BI42,BI44) -> 0 | BK9: =SUM(BK10,BK34,BK42,BK44) -> 0 | BM9: =SUM(BM10,BM34,BM42,BM44) -> 0 | BO9: =SUM(BO10,BO34,BO42,BO44) -> 0 | BQ9: =SUM(BQ10,BQ34,BQ42,BQ44) -> 0 | BS9: =SUM(BS10,BS34,BS42,BS44) -> 0 | BU9: =SUM(BU10,BU34,BU42,BU44) -> 0 | BW9: =SUM(BW10,BW34,BW42,BW44) -> 0 | BY9: =SUM(BY10,BY34,BY42,BY44) -> 0 | CA9: =SUM(CA10,CA34,CA42,CA44) -> 0 | CC9: =SUM(CC10,CC34,CC42,CC44) -> 0 | CE9: =SUM(CE10,CE34,CE42,CE44) -> 0 | CG9: =SUM(CG10,CG34,CG42,CG44) -> 0 | CI9: =SUM(CI10,CI34,CI42,CI44) -> 0 | CK9: =SUM(CK10,CK34,CK42,CK44) -> 0 | CM9: =SUM(CM10,CM34,CM42,CM44) -> 0 | CO9: =SUM(CO10,CO34,CO42,CO44) -> 0 | CQ9: =SUM(CQ10,CQ34,CQ42,CQ44) -> 0 | CS9: =SUM(CS10,CS34,CS42,CS44) -> 0 | CU9: =SUM(CU10,CU34,CU42,CU44) -> 0 | CW9: =SUM(CW10,CW34,CW42,CW44) -> 0 | CY9: =SUM(CY10,CY34,CY42,CY44) -> 0 | DA9: =SUM(DA10,DA34,DA42,DA44) -> 0 | DC9: =SUM(DC10,DC34,DC42,DC44) -> 0 | DE9: =SUM(DE10,DE34,DE42,DE44) -> 0 | DG9: =SUM(DG10,DG34,DG42,DG44) -> 0 | DI9: =SUM(DI10,DI34,DI42,DI44) -> 0 | DK9: =SUM(DK10,DK34,DK42,DK44) -> 0 | DM9: =SUM(DM10,DM34,DM42,DM44) -> 0 | DO9: =SUM(DO10,DO34,DO42,DO44) -> 0 | DQ9: =SUM(DQ10,DQ34,DQ42,DQ44) -> 0 | DS9: =SUM(DS10,DS34,DS42,DS44) -> 0 | DU9: =SUM(DU10,DU34,DU42,DU44) -> 0 | DW9: =SUM(DW10,DW34,DW42,DW44) -> 0 | DY9: =SUM(DY10,DY34,DY42,DY44) -> 0 | EA9: =SUM(EA10,EA34,EA42,EA44) -> 0 | EC9: =SUM(EC10,EC34,EC42,EC44) -> 0 | EE9: =SUM(EE10,EE34,EE42,EE44) -> 0
C10: 11 | D10: Belső gépbérlet | G10: =#VALUE! -> 0 | I10: =SUM(I11:I33) -> 0 | K10: =SUM(K11:K33) -> 0 | M10: =SUM(M11:M33) -> 0 | O10: =SUM(O11:O33) -> 0 | Q10: =SUM(Q11:Q33) -> 0 | S10: =SUM(S11:S33) -> 0 | U10: =SUM(U11:U33) -> 0 | W10: =SUM(W11:W33) -> 0 | Y10: =SUM(Y11:Y33) -> 0 | AA10: =SUM(AA11:AA33) -> 0 | AC10: =SUM(AC11:AC33) -> 0 | AE10: =SUM(AE11:AE33) -> 0 | AG10: =SUM(AG11:AG33) -> 0 | AI10: =SUM(AI11:AI33) -> 0 | AK10: =SUM(AK11:AK33) -> 0 | AM10: =SUM(AM11:AM33) -> 0 | AO10: =SUM(AO11:AO33) -> 0 | AQ10: =SUM(AQ11:AQ33) -> 0 | AS10: =SUM(AS11:AS33) -> 0 | AU10: =SUM(AU11:AU33) -> 0 | AW10: =SUM(AW11:AW33) -> 0 | AY10: =SUM(AY11:AY33) -> 0 | BA10: =SUM(BA11:BA33) -> 0 | BC10: =SUM(BC11:BC33) -> 0 | BE10: =SUM(BE11:BE33) -> 0 | BG10: =SUM(BG11:BG33) -> 0 | BI10: =SUM(BI11:BI33) -> 0 | BK10: =SUM(BK11:BK33) -> 0 | BM10: =SUM(BM11:BM33) -> 0 | BO10: =SUM(BO11:BO33) -> 0 | BQ10: =SUM(BQ11:BQ33) -> 0 | BS10: =SUM(BS11:BS33) -> 0 | BU10: =SUM(BU11:BU33) -> 0 | BW10: =SUM(BW11:BW33) -> 0 | BY10: =SUM(BY11:BY33) -> 0 | CA10: =SUM(CA11:CA33) -> 0 | CC10: =SUM(CC11:CC33) -> 0 | CE10: =SUM(CE11:CE33) -> 0 | CG10: =SUM(CG11:CG33) -> 0 | CI10: =SUM(CI11:CI33) -> 0 | CK10: =SUM(CK11:CK33) -> 0 | CM10: =SUM(CM11:CM33) -> 0 | CO10: =SUM(CO11:CO33) -> 0 | CQ10: =SUM(CQ11:CQ33) -> 0 | CS10: =SUM(CS11:CS33) -> 0 | CU10: =SUM(CU11:CU33) -> 0 | CW10: =SUM(CW11:CW33) -> 0 | CY10: =SUM(CY11:CY33) -> 0 | DA10: =SUM(DA11:DA33) -> 0 | DC10: =SUM(DC11:DC33) -> 0 | DE10: =SUM(DE11:DE33) -> 0 | DG10: =SUM(DG11:DG33) -> 0 | DI10: =SUM(DI11:DI33) -> 0 | DK10: =SUM(DK11:DK33) -> 0 | DM10: =SUM(DM11:DM33) -> 0 | DO10: =SUM(DO11:DO33) -> 0 | DQ10: =SUM(DQ11:DQ33) -> 0 | DS10: =SUM(DS11:DS33) -> 0 | DU10: =SUM(DU11:DU33) -> 0 | DW10: =SUM(DW11:DW33) -> 0 | DY10: =SUM(DY11:DY33) -> 0 | EA10: =SUM(EA11:EA33) -> 0 | EC10: =SUM(EC11:EC33) -> 0 | EE10: =SUM(EE11:EE33) -> 0
D11: LIEBHERR 30t Daru de. | E11: h | G11: =#VALUE! -> 0 | I11: =H11*$F11 -> 0 | K11: =J11*$F11 -> 0 | M11: =L11*$F11 -> 0 | O11: =N11*$F11 -> 0 | Q11: =P11*$F11 -> 0 | S11: =R11*$F11 -> 0 | U11: =T11*$F11 -> 0 | W11: =V11*$F11 -> 0 | Y11: =X11*$F11 -> 0 | AA11: =Z11*$F11 -> 0 | AC11: =AB11*$F11 -> 0 | AE11: =AD11*$F11 -> 0 | AG11: =AF11*$F11 -> 0 | AI11: =AH11*$F11 -> 0 | AK11: =AJ11*$F11 -> 0 | AM11: =AL11*$F11 -> 0 | AO11: =AN11*$F11 -> 0 | AQ11: =AP11*$F11 -> 0 | AS11: =AR11*$F11 -> 0 | AU11: =AT11*$F11 -> 0 | AW11: =AV11*$F11 -> 0 | AY11: =AX11*$F11 -> 0 | BA11: =AZ11*$F11 -> 0 | BC11: =BB11*$F11 -> 0 | BE11: =BD11*$F11 -> 0 | BG11: =BF11*$F11 -> 0 | BI11: =BH11*$F11 -> 0 | BK11: =BJ11*$F11 -> 0 | BM11: =BL11*$F11 -> 0 | BO11: =BN11*$F11 -> 0 | BQ11: =BP11*$F11 -> 0 | BS11: =BR11*$F11 -> 0 | BU11: =BT11*$F11 -> 0 | BW11: =BV11*$F11 -> 0 | BY11: =BX11*$F11 -> 0 | CA11: =BZ11*$F11 -> 0 | CC11: =CB11*$F11 -> 0 | CE11: =CD11*$F11 -> 0 | CG11: =CF11*$F11 -> 0 | CI11: =CH11*$F11 -> 0 | CK11: =CJ11*$F11 -> 0 | CM11: =CL11*$F11 -> 0 | CO11: =CN11*$F11 -> 0 | CQ11: =CP11*$F11 -> 0 | CS11: =CR11*$F11 -> 0 | CU11: =CT11*$F11 -> 0 | CW11: =CV11*$F11 -> 0 | CY11: =CX11*$F11 -> 0 | DA11: =CZ11*$F11 -> 0 | DC11: =DB11*$F11 -> 0 | DE11: =DD11*$F11 -> 0 | DG11: =DF11*$F11 -> 0 | DI11: =DH11*$F11 -> 0 | DK11: =DJ11*$F11 -> 0 | DM11: =DL11*$F11 -> 0 | DO11: =DN11*$F11 -> 0 | DQ11: =DP11*$F11 -> 0 | DS11: =DR11*$F11 -> 0 | DU11: =DT11*$F11 -> 0 | DW11: =DV11*$F11 -> 0 | DY11: =DX11*$F11 -> 0 | EA11: =DZ11*$F11 -> 0 | EC11: =EB11*$F11 -> 0 | EE11: =ED11*$F11 -> 0
D12: LIEBHERR 30t Daru du. | E12: h | G12: =#VALUE! -> 0 | I12: =H12*$F12 -> 0 | K12: =J12*$F12 -> 0 | M12: =L12*$F12 -> 0 | O12: =N12*$F12 -> 0 | Q12: =P12*$F12 -> 0 | S12: =R12*$F12 -> 0 | U12: =T12*$F12 -> 0 | W12: =V12*$F12 -> 0 | Y12: =X12*$F12 -> 0 | AA12: =Z12*$F12 -> 0 | AC12: =AB12*$F12 -> 0 | AE12: =AD12*$F12 -> 0 | AG12: =AF12*$F12 -> 0 | AI12: =AH12*$F12 -> 0 | AK12: =AJ12*$F12 -> 0 | AM12: =AL12*$F12 -> 0 | AO12: =AN12*$F12 -> 0 | AQ12: =AP12*$F12 -> 0 | AS12: =AR12*$F12 -> 0 | AU12: =AT12*$F12 -> 0 | AW12: =AV12*$F12 -> 0 | AY12: =AX12*$F12 -> 0 | BA12: =AZ12*$F12 -> 0 | BC12: =BB12*$F12 -> 0 | BE12: =BD12*$F12 -> 0 | BG12: =BF12*$F12 -> 0 | BI12: =BH12*$F12 -> 0 | BK12: =BJ12*$F12 -> 0 | BM12: =BL12*$F12 -> 0 | BO12: =BN12*$F12 -> 0 | BQ12: =BP12*$F12 -> 0 | BS12: =BR12*$F12 -> 0 | BU12: =BT12*$F12 -> 0 | BW12: =BV12*$F12 -> 0 | BY12: =BX12*$F12 -> 0 | CA12: =BZ12*$F12 -> 0 | CC12: =CB12*$F12 -> 0 | CE12: =CD12*$F12 -> 0 | CG12: =CF12*$F12 -> 0 | CI12: =CH12*$F12 -> 0 | CK12: =CJ12*$F12 -> 0 | CM12: =CL12*$F12 -> 0 | CO12: =CN12*$F12 -> 0 | CQ12: =CP12*$F12 -> 0 | CS12: =CR12*$F12 -> 0 | CU12: =CT12*$F12 -> 0 | CW12: =CV12*$F12 -> 0 | CY12: =CX12*$F12 -> 0 | DA12: =CZ12*$F12 -> 0 | DC12: =DB12*$F12 -> 0 | DE12: =DD12*$F12 -> 0 | DG12: =DF12*$F12 -> 0 | DI12: =DH12*$F12 -> 0 | DK12: =DJ12*$F12 -> 0 | DM12: =DL12*$F12 -> 0 | DO12: =DN12*$F12 -> 0 | DQ12: =DP12*$F12 -> 0 | DS12: =DR12*$F12 -> 0 | DU12: =DT12*$F12 -> 0 | DW12: =DV12*$F12 -> 0 | DY12: =DX12*$F12 -> 0 | EA12: =DZ12*$F12 -> 0 | EC12: =EB12*$F12 -> 0 | EE12: =ED12*$F12 -> 0
D13: LIEBHERR 30t Daru éj. | E13: h | G13: =#VALUE! -> 0 | I13: =H13*$F13 -> 0 | K13: =J13*$F13 -> 0 | M13: =L13*$F13 -> 0 | O13: =N13*$F13 -> 0 | Q13: =P13*$F13 -> 0 | S13: =R13*$F13 -> 0 | U13: =T13*$F13 -> 0 | W13: =V13*$F13 -> 0 | Y13: =X13*$F13 -> 0 | AA13: =Z13*$F13 -> 0 | AC13: =AB13*$F13 -> 0 | AE13: =AD13*$F13 -> 0 | AG13: =AF13*$F13 -> 0 | AI13: =AH13*$F13 -> 0 | AK13: =AJ13*$F13 -> 0 | AM13: =AL13*$F13 -> 0 | AO13: =AN13*$F13 -> 0 | AQ13: =AP13*$F13 -> 0 | AS13: =AR13*$F13 -> 0 | AU13: =AT13*$F13 -> 0 | AW13: =AV13*$F13 -> 0 | AY13: =AX13*$F13 -> 0 | BA13: =AZ13*$F13 -> 0 | BC13: =BB13*$F13 -> 0 | BE13: =BD13*$F13 -> 0 | BG13: =BF13*$F13 -> 0 | BI13: =BH13*$F13 -> 0 | BK13: =BJ13*$F13 -> 0 | BM13: =BL13*$F13 -> 0 | BO13: =BN13*$F13 -> 0 | BQ13: =BP13*$F13 -> 0 | BS13: =BR13*$F13 -> 0 | BU13: =BT13*$F13 -> 0 | BW13: =BV13*$F13 -> 0 | BY13: =BX13*$F13 -> 0 | CA13: =BZ13*$F13 -> 0 | CC13: =CB13*$F13 -> 0 | CE13: =CD13*$F13 -> 0 | CG13: =CF13*$F13 -> 0 | CI13: =CH13*$F13 -> 0 | CK13: =CJ13*$F13 -> 0 | CM13: =CL13*$F13 -> 0 | CO13: =CN13*$F13 -> 0 | CQ13: =CP13*$F13 -> 0 | CS13: =CR13*$F13 -> 0 | CU13: =CT13*$F13 -> 0 | CW13: =CV13*$F13 -> 0 | CY13: =CX13*$F13 -> 0 | DA13: =CZ13*$F13 -> 0 | DC13: =DB13*$F13 -> 0 | DE13: =DD13*$F13 -> 0 | DG13: =DF13*$F13 -> 0 | DI13: =DH13*$F13 -> 0 | DK13: =DJ13*$F13 -> 0 | DM13: =DL13*$F13 -> 0 | DO13: =DN13*$F13 -> 0 | DQ13: =DP13*$F13 -> 0 | DS13: =DR13*$F13 -> 0 | DU13: =DT13*$F13 -> 0 | DW13: =DV13*$F13 -> 0 | DY13: =DX13*$F13 -> 0 | EA13: =DZ13*$F13 -> 0 | EC13: =EB13*$F13 -> 0 | EE13: =ED13*$F13 -> 0
D14: Kompresszor | E14: db | G14: =#VALUE! -> 0 | I14: =H14*$F14 -> 0 | K14: =J14*$F14 -> 0 | M14: =L14*$F14 -> 0 | O14: =N14*$F14 -> 0 | Q14: =P14*$F14 -> 0 | S14: =R14*$F14 -> 0 | U14: =T14*$F14 -> 0 | W14: =V14*$F14 -> 0 | Y14: =X14*$F14 -> 0 | AA14: =Z14*$F14 -> 0 | AC14: =AB14*$F14 -> 0 | AE14: =AD14*$F14 -> 0 | AG14: =AF14*$F14 -> 0 | AI14: =AH14*$F14 -> 0 | AK14: =AJ14*$F14 -> 0 | AM14: =AL14*$F14 -> 0 | AO14: =AN14*$F14 -> 0 | AQ14: =AP14*$F14 -> 0 | AS14: =AR14*$F14 -> 0 | AU14: =AT14*$F14 -> 0 | AW14: =AV14*$F14 -> 0 | AY14: =AX14*$F14 -> 0 | BA14: =AZ14*$F14 -> 0 | BC14: =BB14*$F14 -> 0 | BE14: =BD14*$F14 -> 0 | BG14: =BF14*$F14 -> 0 | BI14: =BH14*$F14 -> 0 | BK14: =BJ14*$F14 -> 0 | BM14: =BL14*$F14 -> 0 | BO14: =BN14*$F14 -> 0 | BQ14: =BP14*$F14 -> 0 | BS14: =BR14*$F14 -> 0 | BU14: =BT14*$F14 -> 0 | BW14: =BV14*$F14 -> 0 | BY14: =BX14*$F14 -> 0 | CA14: =BZ14*$F14 -> 0 | CC14: =CB14*$F14 -> 0 | CE14: =CD14*$F14 -> 0 | CG14: =CF14*$F14 -> 0 | CI14: =CH14*$F14 -> 0 | CK14: =CJ14*$F14 -> 0 | CM14: =CL14*$F14 -> 0 | CO14: =CN14*$F14 -> 0 | CQ14: =CP14*$F14 -> 0 | CS14: =CR14*$F14 -> 0 | CU14: =CT14*$F14 -> 0 | CW14: =CV14*$F14 -> 0 | CY14: =CX14*$F14 -> 0 | DA14: =CZ14*$F14 -> 0 | DC14: =DB14*$F14 -> 0 | DE14: =DD14*$F14 -> 0 | DG14: =DF14*$F14 -> 0 | DI14: =DH14*$F14 -> 0 | DK14: =DJ14*$F14 -> 0 | DM14: =DL14*$F14 -> 0 | DO14: =DN14*$F14 -> 0 | DQ14: =DP14*$F14 -> 0 | DS14: =DR14*$F14 -> 0 | DU14: =DT14*$F14 -> 0 | DW14: =DV14*$F14 -> 0 | DY14: =DX14*$F14 -> 0 | EA14: =DZ14*$F14 -> 0 | EC14: =EB14*$F14 -> 0 | EE14: =ED14*$F14 -> 0
D15: szivattyúk... | E15: h | G15: =#VALUE! -> 0 | I15: =H15*$F15 -> 0 | K15: =J15*$F15 -> 0 | M15: =L15*$F15 -> 0 | O15: =N15*$F15 -> 0 | Q15: =P15*$F15 -> 0 | S15: =R15*$F15 -> 0 | U15: =T15*$F15 -> 0 | W15: =V15*$F15 -> 0 | Y15: =X15*$F15 -> 0 | AA15: =Z15*$F15 -> 0 | AC15: =AB15*$F15 -> 0 | AE15: =AD15*$F15 -> 0 | AG15: =AF15*$F15 -> 0 | AI15: =AH15*$F15 -> 0 | AK15: =AJ15*$F15 -> 0 | AM15: =AL15*$F15 -> 0 | AO15: =AN15*$F15 -> 0 | AQ15: =AP15*$F15 -> 0 | AS15: =AR15*$F15 -> 0 | AU15: =AT15*$F15 -> 0 | AW15: =AV15*$F15 -> 0 | AY15: =AX15*$F15 -> 0 | BA15: =AZ15*$F15 -> 0 | BC15: =BB15*$F15 -> 0 | BE15: =BD15*$F15 -> 0 | BG15: =BF15*$F15 -> 0 | BI15: =BH15*$F15 -> 0 | BK15: =BJ15*$F15 -> 0 | BM15: =BL15*$F15 -> 0 | BO15: =BN15*$F15 -> 0 | BQ15: =BP15*$F15 -> 0 | BS15: =BR15*$F15 -> 0 | BU15: =BT15*$F15 -> 0 | BW15: =BV15*$F15 -> 0 | BY15: =BX15*$F15 -> 0 | CA15: =BZ15*$F15 -> 0 | CC15: =CB15*$F15 -> 0 | CE15: =CD15*$F15 -> 0 | CG15: =CF15*$F15 -> 0 | CI15: =CH15*$F15 -> 0 | CK15: =CJ15*$F15 -> 0 | CM15: =CL15*$F15 -> 0 | CO15: =CN15*$F15 -> 0 | CQ15: =CP15*$F15 -> 0 | CS15: =CR15*$F15 -> 0 | CU15: =CT15*$F15 -> 0 | CW15: =CV15*$F15 -> 0 | CY15: =CX15*$F15 -> 0 | DA15: =CZ15*$F15 -> 0 | DC15: =DB15*$F15 -> 0 | DE15: =DD15*$F15 -> 0 | DG15: =DF15*$F15 -> 0 | DI15: =DH15*$F15 -> 0 | DK15: =DJ15*$F15 -> 0 | DM15: =DL15*$F15 -> 0 | DO15: =DN15*$F15 -> 0 | DQ15: =DP15*$F15 -> 0 | DS15: =DR15*$F15 -> 0 | DU15: =DT15*$F15 -> 0 | DW15: =DV15*$F15 -> 0 | DY15: =DX15*$F15 -> 0 | EA15: =DZ15*$F15 -> 0 | EC15: =EB15*$F15 -> 0 | EE15: =ED15*$F15 -> 0
D16: Kotró | E16: h | G16: =#VALUE! -> 0 | I16: =H16*$F16 -> 0 | K16: =J16*$F16 -> 0 | M16: =L16*$F16 -> 0 | O16: =N16*$F16 -> 0 | Q16: =P16*$F16 -> 0 | S16: =R16*$F16 -> 0 | U16: =T16*$F16 -> 0 | W16: =V16*$F16 -> 0 | Y16: =X16*$F16 -> 0 | AA16: =Z16*$F16 -> 0 | AC16: =AB16*$F16 -> 0 | AE16: =AD16*$F16 -> 0 | AG16: =AF16*$F16 -> 0 | AI16: =AH16*$F16 -> 0 | AK16: =AJ16*$F16 -> 0 | AM16: =AL16*$F16 -> 0 | AO16: =AN16*$F16 -> 0 | AQ16: =AP16*$F16 -> 0 | AS16: =AR16*$F16 -> 0 | AU16: =AT16*$F16 -> 0 | AW16: =AV16*$F16 -> 0 | AY16: =AX16*$F16 -> 0 | BA16: =AZ16*$F16 -> 0 | BC16: =BB16*$F16 -> 0 | BE16: =BD16*$F16 -> 0 | BG16: =BF16*$F16 -> 0 | BI16: =BH16*$F16 -> 0 | BK16: =BJ16*$F16 -> 0 | BM16: =BL16*$F16 -> 0 | BO16: =BN16*$F16 -> 0 | BQ16: =BP16*$F16 -> 0 | BS16: =BR16*$F16 -> 0 | BU16: =BT16*$F16 -> 0 | BW16: =BV16*$F16 -> 0 | BY16: =BX16*$F16 -> 0 | CA16: =BZ16*$F16 -> 0 | CC16: =CB16*$F16 -> 0 | CE16: =CD16*$F16 -> 0 | CG16: =CF16*$F16 -> 0 | CI16: =CH16*$F16 -> 0 | CK16: =CJ16*$F16 -> 0 | CM16: =CL16*$F16 -> 0 | CO16: =CN16*$F16 -> 0 | CQ16: =CP16*$F16 -> 0 | CS16: =CR16*$F16 -> 0 | CU16: =CT16*$F16 -> 0 | CW16: =CV16*$F16 -> 0 | CY16: =CX16*$F16 -> 0 | DA16: =CZ16*$F16 -> 0 | DC16: =DB16*$F16 -> 0 | DE16: =DD16*$F16 -> 0 | DG16: =DF16*$F16 -> 0 | DI16: =DH16*$F16 -> 0 | DK16: =DJ16*$F16 -> 0 | DM16: =DL16*$F16 -> 0 | DO16: =DN16*$F16 -> 0 | DQ16: =DP16*$F16 -> 0 | DS16: =DR16*$F16 -> 0 | DU16: =DT16*$F16 -> 0 | DW16: =DV16*$F16 -> 0 | DY16: =DX16*$F16 -> 0 | EA16: =DZ16*$F16 -> 0 | EC16: =EB16*$F16 -> 0 | EE16: =ED16*$F16 -> 0
D17: Építésvezető autó | E17: db | G17: =#VALUE! -> 0 | I17: =H17*$F17 -> 0 | K17: =J17*$F17 -> 0 | M17: =L17*$F17 -> 0 | O17: =N17*$F17 -> 0 | Q17: =P17*$F17 -> 0 | S17: =R17*$F17 -> 0 | U17: =T17*$F17 -> 0 | W17: =V17*$F17 -> 0 | Y17: =X17*$F17 -> 0 | AA17: =Z17*$F17 -> 0 | AC17: =AB17*$F17 -> 0 | AE17: =AD17*$F17 -> 0 | AG17: =AF17*$F17 -> 0 | AI17: =AH17*$F17 -> 0 | AK17: =AJ17*$F17 -> 0 | AM17: =AL17*$F17 -> 0 | AO17: =AN17*$F17 -> 0 | AQ17: =AP17*$F17 -> 0 | AS17: =AR17*$F17 -> 0 | AU17: =AT17*$F17 -> 0 | AW17: =AV17*$F17 -> 0 | AY17: =AX17*$F17 -> 0 | BA17: =AZ17*$F17 -> 0 | BC17: =BB17*$F17 -> 0 | BE17: =BD17*$F17 -> 0 | BG17: =BF17*$F17 -> 0 | BI17: =BH17*$F17 -> 0 | BK17: =BJ17*$F17 -> 0 | BM17: =BL17*$F17 -> 0 | BO17: =BN17*$F17 -> 0 | BQ17: =BP17*$F17 -> 0 | BS17: =BR17*$F17 -> 0 | BU17: =BT17*$F17 -> 0 | BW17: =BV17*$F17 -> 0 | BY17: =BX17*$F17 -> 0 | CA17: =BZ17*$F17 -> 0 | CC17: =CB17*$F17 -> 0 | CE17: =CD17*$F17 -> 0 | CG17: =CF17*$F17 -> 0 | CI17: =CH17*$F17 -> 0 | CK17: =CJ17*$F17 -> 0 | CM17: =CL17*$F17 -> 0 | CO17: =CN17*$F17 -> 0 | CQ17: =CP17*$F17 -> 0 | CS17: =CR17*$F17 -> 0 | CU17: =CT17*$F17 -> 0 | CW17: =CV17*$F17 -> 0 | CY17: =CX17*$F17 -> 0 | DA17: =CZ17*$F17 -> 0 | DC17: =DB17*$F17 -> 0 | DE17: =DD17*$F17 -> 0 | DG17: =DF17*$F17 -> 0 | DI17: =DH17*$F17 -> 0 | DK17: =DJ17*$F17 -> 0 | DM17: =DL17*$F17 -> 0 | DO17: =DN17*$F17 -> 0 | DQ17: =DP17*$F17 -> 0 | DS17: =DR17*$F17 -> 0 | DU17: =DT17*$F17 -> 0 | DW17: =DV17*$F17 -> 0 | DY17: =DX17*$F17 -> 0 | EA17: =DZ17*$F17 -> 0 | EC17: =EB17*$F17 -> 0 | EE17: =ED17*$F17 -> 0
D18: Operátor autó | E18: db | G18: =#VALUE! -> 0 | I18: =H18*$F18 -> 0 | K18: =J18*$F18 -> 0 | M18: =L18*$F18 -> 0 | O18: =N18*$F18 -> 0 | Q18: =P18*$F18 -> 0 | S18: =R18*$F18 -> 0 | U18: =T18*$F18 -> 0 | W18: =V18*$F18 -> 0 | Y18: =X18*$F18 -> 0 | AA18: =Z18*$F18 -> 0 | AC18: =AB18*$F18 -> 0 | AE18: =AD18*$F18 -> 0 | AG18: =AF18*$F18 -> 0 | AI18: =AH18*$F18 -> 0 | AK18: =AJ18*$F18 -> 0 | AM18: =AL18*$F18 -> 0 | AO18: =AN18*$F18 -> 0 | AQ18: =AP18*$F18 -> 0 | AS18: =AR18*$F18 -> 0 | AU18: =AT18*$F18 -> 0 | AW18: =AV18*$F18 -> 0 | AY18: =AX18*$F18 -> 0 | BA18: =AZ18*$F18 -> 0 | BC18: =BB18*$F18 -> 0 | BE18: =BD18*$F18 -> 0 | BG18: =BF18*$F18 -> 0 | BI18: =BH18*$F18 -> 0 | BK18: =BJ18*$F18 -> 0 | BM18: =BL18*$F18 -> 0 | BO18: =BN18*$F18 -> 0 | BQ18: =BP18*$F18 -> 0 | BS18: =BR18*$F18 -> 0 | BU18: =BT18*$F18 -> 0 | BW18: =BV18*$F18 -> 0 | BY18: =BX18*$F18 -> 0 | CA18: =BZ18*$F18 -> 0 | CC18: =CB18*$F18 -> 0 | CE18: =CD18*$F18 -> 0 | CG18: =CF18*$F18 -> 0 | CI18: =CH18*$F18 -> 0 | CK18: =CJ18*$F18 -> 0 | CM18: =CL18*$F18 -> 0 | CO18: =CN18*$F18 -> 0 | CQ18: =CP18*$F18 -> 0 | CS18: =CR18*$F18 -> 0 | CU18: =CT18*$F18 -> 0 | CW18: =CV18*$F18 -> 0 | CY18: =CX18*$F18 -> 0 | DA18: =CZ18*$F18 -> 0 | DC18: =DB18*$F18 -> 0 | DE18: =DD18*$F18 -> 0 | DG18: =DF18*$F18 -> 0 | DI18: =DH18*$F18 -> 0 | DK18: =DJ18*$F18 -> 0 | DM18: =DL18*$F18 -> 0 | DO18: =DN18*$F18 -> 0 | DQ18: =DP18*$F18 -> 0 | DS18: =DR18*$F18 -> 0 | DU18: =DT18*$F18 -> 0 | DW18: =DV18*$F18 -> 0 | DY18: =DX18*$F18 -> 0 | EA18: =DZ18*$F18 -> 0 | EC18: =EB18*$F18 -> 0 | EE18: =ED18*$F18 -> 0
D19: Darukezelő, gépkezelő autó | E19: db | G19: =#VALUE! -> 0 | I19: =H19*$F19 -> 0 | K19: =J19*$F19 -> 0 | M19: =L19*$F19 -> 0 | O19: =N19*$F19 -> 0 | Q19: =P19*$F19 -> 0 | S19: =R19*$F19 -> 0 | U19: =T19*$F19 -> 0 | W19: =V19*$F19 -> 0 | Y19: =X19*$F19 -> 0 | AA19: =Z19*$F19 -> 0 | AC19: =AB19*$F19 -> 0 | AE19: =AD19*$F19 -> 0 | AG19: =AF19*$F19 -> 0 | AI19: =AH19*$F19 -> 0 | AK19: =AJ19*$F19 -> 0 | AM19: =AL19*$F19 -> 0 | AO19: =AN19*$F19 -> 0 | AQ19: =AP19*$F19 -> 0 | AS19: =AR19*$F19 -> 0 | AU19: =AT19*$F19 -> 0 | AW19: =AV19*$F19 -> 0 | AY19: =AX19*$F19 -> 0 | BA19: =AZ19*$F19 -> 0 | BC19: =BB19*$F19 -> 0 | BE19: =BD19*$F19 -> 0 | BG19: =BF19*$F19 -> 0 | BI19: =BH19*$F19 -> 0 | BK19: =BJ19*$F19 -> 0 | BM19: =BL19*$F19 -> 0 | BO19: =BN19*$F19 -> 0 | BQ19: =BP19*$F19 -> 0 | BS19: =BR19*$F19 -> 0 | BU19: =BT19*$F19 -> 0 | BW19: =BV19*$F19 -> 0 | BY19: =BX19*$F19 -> 0 | CA19: =BZ19*$F19 -> 0 | CC19: =CB19*$F19 -> 0 | CE19: =CD19*$F19 -> 0 | CG19: =CF19*$F19 -> 0 | CI19: =CH19*$F19 -> 0 | CK19: =CJ19*$F19 -> 0 | CM19: =CL19*$F19 -> 0 | CO19: =CN19*$F19 -> 0 | CQ19: =CP19*$F19 -> 0 | CS19: =CR19*$F19 -> 0 | CU19: =CT19*$F19 -> 0 | CW19: =CV19*$F19 -> 0 | CY19: =CX19*$F19 -> 0 | DA19: =CZ19*$F19 -> 0 | DC19: =DB19*$F19 -> 0 | DE19: =DD19*$F19 -> 0 | DG19: =DF19*$F19 -> 0 | DI19: =DH19*$F19 -> 0 | DK19: =DJ19*$F19 -> 0 | DM19: =DL19*$F19 -> 0 | DO19: =DN19*$F19 -> 0 | DQ19: =DP19*$F19 -> 0 | DS19: =DR19*$F19 -> 0 | DU19: =DT19*$F19 -> 0 | DW19: =DV19*$F19 -> 0 | DY19: =DX19*$F19 -> 0 | EA19: =DZ19*$F19 -> 0 | EC19: =EB19*$F19 -> 0 | EE19: =ED19*$F19 -> 0
D20: Csapatszállító autó | E20: db | G20: =#VALUE! -> 0 | I20: =H20*$F20 -> 0 | K20: =J20*$F20 -> 0 | M20: =L20*$F20 -> 0 | O20: =N20*$F20 -> 0 | Q20: =P20*$F20 -> 0 | S20: =R20*$F20 -> 0 | U20: =T20*$F20 -> 0 | W20: =V20*$F20 -> 0 | Y20: =X20*$F20 -> 0 | AA20: =Z20*$F20 -> 0 | AC20: =AB20*$F20 -> 0 | AE20: =AD20*$F20 -> 0 | AG20: =AF20*$F20 -> 0 | AI20: =AH20*$F20 -> 0 | AK20: =AJ20*$F20 -> 0 | AM20: =AL20*$F20 -> 0 | AO20: =AN20*$F20 -> 0 | AQ20: =AP20*$F20 -> 0 | AS20: =AR20*$F20 -> 0 | AU20: =AT20*$F20 -> 0 | AW20: =AV20*$F20 -> 0 | AY20: =AX20*$F20 -> 0 | BA20: =AZ20*$F20 -> 0 | BC20: =BB20*$F20 -> 0 | BE20: =BD20*$F20 -> 0 | BG20: =BF20*$F20 -> 0 | BI20: =BH20*$F20 -> 0 | BK20: =BJ20*$F20 -> 0 | BM20: =BL20*$F20 -> 0 | BO20: =BN20*$F20 -> 0 | BQ20: =BP20*$F20 -> 0 | BS20: =BR20*$F20 -> 0 | BU20: =BT20*$F20 -> 0 | BW20: =BV20*$F20 -> 0 | BY20: =BX20*$F20 -> 0 | CA20: =BZ20*$F20 -> 0 | CC20: =CB20*$F20 -> 0 | CE20: =CD20*$F20 -> 0 | CG20: =CF20*$F20 -> 0 | CI20: =CH20*$F20 -> 0 | CK20: =CJ20*$F20 -> 0 | CM20: =CL20*$F20 -> 0 | CO20: =CN20*$F20 -> 0 | CQ20: =CP20*$F20 -> 0 | CS20: =CR20*$F20 -> 0 | CU20: =CT20*$F20 -> 0 | CW20: =CV20*$F20 -> 0 | CY20: =CX20*$F20 -> 0 | DA20: =CZ20*$F20 -> 0 | DC20: =DB20*$F20 -> 0 | DE20: =DD20*$F20 -> 0 | DG20: =DF20*$F20 -> 0 | DI20: =DH20*$F20 -> 0 | DK20: =DJ20*$F20 -> 0 | DM20: =DL20*$F20 -> 0 | DO20: =DN20*$F20 -> 0 | DQ20: =DP20*$F20 -> 0 | DS20: =DR20*$F20 -> 0 | DU20: =DT20*$F20 -> 0 | DW20: =DV20*$F20 -> 0 | DY20: =DX20*$F20 -> 0 | EA20: =DZ20*$F20 -> 0 | EC20: =EB20*$F20 -> 0 | EE20: =ED20*$F20 -> 0
D21: Bontókalapács | E21: db | G21: =#VALUE! -> 0 | I21: =H21*$F21 -> 0 | K21: =J21*$F21 -> 0 | M21: =L21*$F21 -> 0 | O21: =N21*$F21 -> 0 | Q21: =P21*$F21 -> 0 | S21: =R21*$F21 -> 0 | U21: =T21*$F21 -> 0 | W21: =V21*$F21 -> 0 | Y21: =X21*$F21 -> 0 | AA21: =Z21*$F21 -> 0 | AC21: =AB21*$F21 -> 0 | AE21: =AD21*$F21 -> 0 | AG21: =AF21*$F21 -> 0 | AI21: =AH21*$F21 -> 0 | AK21: =AJ21*$F21 -> 0 | AM21: =AL21*$F21 -> 0 | AO21: =AN21*$F21 -> 0 | AQ21: =AP21*$F21 -> 0 | AS21: =AR21*$F21 -> 0 | AU21: =AT21*$F21 -> 0 | AW21: =AV21*$F21 -> 0 | AY21: =AX21*$F21 -> 0 | BA21: =AZ21*$F21 -> 0 | BC21: =BB21*$F21 -> 0 | BE21: =BD21*$F21 -> 0 | BG21: =BF21*$F21 -> 0 | BI21: =BH21*$F21 -> 0 | BK21: =BJ21*$F21 -> 0 | BM21: =BL21*$F21 -> 0 | BO21: =BN21*$F21 -> 0 | BQ21: =BP21*$F21 -> 0 | BS21: =BR21*$F21 -> 0 | BU21: =BT21*$F21 -> 0 | BW21: =BV21*$F21 -> 0 | BY21: =BX21*$F21 -> 0 | CA21: =BZ21*$F21 -> 0 | CC21: =CB21*$F21 -> 0 | CE21: =CD21*$F21 -> 0 | CG21: =CF21*$F21 -> 0 | CI21: =CH21*$F21 -> 0 | CK21: =CJ21*$F21 -> 0 | CM21: =CL21*$F21 -> 0 | CO21: =CN21*$F21 -> 0 | CQ21: =CP21*$F21 -> 0 | CS21: =CR21*$F21 -> 0 | CU21: =CT21*$F21 -> 0 | CW21: =CV21*$F21 -> 0 | CY21: =CX21*$F21 -> 0 | DA21: =CZ21*$F21 -> 0 | DC21: =DB21*$F21 -> 0 | DE21: =DD21*$F21 -> 0 | DG21: =DF21*$F21 -> 0 | DI21: =DH21*$F21 -> 0 | DK21: =DJ21*$F21 -> 0 | DM21: =DL21*$F21 -> 0 | DO21: =DN21*$F21 -> 0 | DQ21: =DP21*$F21 -> 0 | DS21: =DR21*$F21 -> 0 | DU21: =DT21*$F21 -> 0 | DW21: =DV21*$F21 -> 0 | DY21: =DX21*$F21 -> 0 | EA21: =DZ21*$F21 -> 0 | EC21: =EB21*$F21 -> 0 | EE21: =ED21*$F21 -> 0
D22: Kisgépek... | E22: db | G22: =#VALUE! -> 0 | I22: =H22*$F22 -> 0 | K22: =J22*$F22 -> 0 | M22: =L22*$F22 -> 0 | O22: =N22*$F22 -> 0 | Q22: =P22*$F22 -> 0 | S22: =R22*$F22 -> 0 | U22: =T22*$F22 -> 0 | W22: =V22*$F22 -> 0 | Y22: =X22*$F22 -> 0 | AA22: =Z22*$F22 -> 0 | AC22: =AB22*$F22 -> 0 | AE22: =AD22*$F22 -> 0 | AG22: =AF22*$F22 -> 0 | AI22: =AH22*$F22 -> 0 | AK22: =AJ22*$F22 -> 0 | AM22: =AL22*$F22 -> 0 | AO22: =AN22*$F22 -> 0 | AQ22: =AP22*$F22 -> 0 | AS22: =AR22*$F22 -> 0 | AU22: =AT22*$F22 -> 0 | AW22: =AV22*$F22 -> 0 | AY22: =AX22*$F22 -> 0 | BA22: =AZ22*$F22 -> 0 | BC22: =BB22*$F22 -> 0 | BE22: =BD22*$F22 -> 0 | BG22: =BF22*$F22 -> 0 | BI22: =BH22*$F22 -> 0 | BK22: =BJ22*$F22 -> 0 | BM22: =BL22*$F22 -> 0 | BO22: =BN22*$F22 -> 0 | BQ22: =BP22*$F22 -> 0 | BS22: =BR22*$F22 -> 0 | BU22: =BT22*$F22 -> 0 | BW22: =BV22*$F22 -> 0 | BY22: =BX22*$F22 -> 0 | CA22: =BZ22*$F22 -> 0 | CC22: =CB22*$F22 -> 0 | CE22: =CD22*$F22 -> 0 | CG22: =CF22*$F22 -> 0 | CI22: =CH22*$F22 -> 0 | CK22: =CJ22*$F22 -> 0 | CM22: =CL22*$F22 -> 0 | CO22: =CN22*$F22 -> 0 | CQ22: =CP22*$F22 -> 0 | CS22: =CR22*$F22 -> 0 | CU22: =CT22*$F22 -> 0 | CW22: =CV22*$F22 -> 0 | CY22: =CX22*$F22 -> 0 | DA22: =CZ22*$F22 -> 0 | DC22: =DB22*$F22 -> 0 | DE22: =DD22*$F22 -> 0 | DG22: =DF22*$F22 -> 0 | DI22: =DH22*$F22 -> 0 | DK22: =DJ22*$F22 -> 0 | DM22: =DL22*$F22 -> 0 | DO22: =DN22*$F22 -> 0 | DQ22: =DP22*$F22 -> 0 | DS22: =DR22*$F22 -> 0 | DU22: =DT22*$F22 -> 0 | DW22: =DV22*$F22 -> 0 | DY22: =DX22*$F22 -> 0 | EA22: =DZ22*$F22 -> 0 | EC22: =EB22*$F22 -> 0 | EE22: =ED22*$F22 -> 0
... D33: HK bentonitszivattyú | E33: db | G33: =#VALUE! -> 0 | I33: =H33*$F33 -> 0 | K33: =J33*$F33 -> 0 | M33: =L33*$F33 -> 0 | O33: =N33*$F33 -> 0 | Q33: =P33*$F33 -> 0 | S33: =R33*$F33 -> 0 | U33: =T33*$F33 -> 0 | W33: =V33*$F33 -> 0 | Y33: =X33*$F33 -> 0 | AA33: =Z33*$F33 -> 0 | AC33: =AB33*$F33 -> 0 | AE33: =AD33*$F33 -> 0 | AG33: =AF33*$F33 -> 0 | AI33: =AH33*$F33 -> 0 | AK33: =AJ33*$F33 -> 0 | AM33: =AL33*$F33 -> 0 | AO33: =AN33*$F33 -> 0 | AQ33: =AP33*$F33 -> 0 | AS33: =AR33*$F33 -> 0 | AU33: =AT33*$F33 -> 0 | AW33: =AV33*$F33 -> 0 | AY33: =AX33*$F33 -> 0 | BA33: =AZ33*$F33 -> 0 | BC33: =BB33*$F33 -> 0 | BE33: =BD33*$F33 -> 0 | BG33: =BF33*$F33 -> 0 | BI33: =BH33*$F33 -> 0 | BK33: =BJ33*$F33 -> 0 | BM33: =BL33*$F33 -> 0 | BO33: =BN33*$F33 -> 0 | BQ33: =BP33*$F33 -> 0 | BS33: =BR33*$F33 -> 0 | BU33: =BT33*$F33 -> 0 | BW33: =BV33*$F33 -> 0 | BY33: =BX33*$F33 -> 0 | CA33: =BZ33*$F33 -> 0 | CC33: =CB33*$F33 -> 0 | CE33: =CD33*$F33 -> 0 | CG33: =CF33*$F33 -> 0 | CI33: =CH33*$F33 -> 0 | CK33: =CJ33*$F33 -> 0 | CM33: =CL33*$F33 -> 0 | CO33: =CN33*$F33 -> 0 | CQ33: =CP33*$F33 -> 0 | CS33: =CR33*$F33 -> 0 | CU33: =CT33*$F33 -> 0 | CW33: =CV33*$F33 -> 0 | CY33: =CX33*$F33 -> 0 | DA33: =CZ33*$F33 -> 0 | DC33: =DB33*$F33 -> 0 | DE33: =DD33*$F33 -> 0 | DG33: =DF33*$F33 -> 0 | DI33: =DH33*$F33 -> 0 | DK33: =DJ33*$F33 -> 0 | DM33: =DL33*$F33 -> 0 | DO33: =DN33*$F33 -> 0 | DQ33: =DP33*$F33 -> 0 | DS33: =DR33*$F33 -> 0 | DU33: =DT33*$F33 -> 0 | DW33: =DV33*$F33 -> 0 | DY33: =DX33*$F33 -> 0 | EA33: =DZ33*$F33 -> 0 | EC33: =EB33*$F33 -> 0 | EE33: =ED33*$F33 -> 0
C34: 12 | D34: Külső gépbérlet | G34: =#VALUE! -> 0 | I34: =SUM(I36:I41) -> 0 | K34: =SUM(K36:K41) -> 0 | M34: =SUM(M36:M41) -> 0 | O34: =SUM(O36:O41) -> 0 | Q34: =SUM(Q36:Q41) -> 0 | S34: =SUM(S36:S41) -> 0 | U34: =SUM(U36:U41) -> 0 | W34: =SUM(W36:W41) -> 0 | Y34: =SUM(Y36:Y41) -> 0 | AA34: =SUM(AA36:AA41) -> 0 | AC34: =SUM(AC36:AC41) -> 0 | AE34: =SUM(AE36:AE41) -> 0 | AG34: =SUM(AG36:AG41) -> 0 | AI34: =SUM(AI36:AI41) -> 0 | AK34: =SUM(AK36:AK41) -> 0 | AM34: =SUM(AM36:AM41) -> 0 | AO34: =SUM(AO36:AO41) -> 0 | AQ34: =SUM(AQ36:AQ41) -> 0 | AS34: =SUM(AS36:AS41) -> 0 | AU34: =SUM(AU36:AU41) -> 0 | AW34: =SUM(AW36:AW41) -> 0 | AY34: =SUM(AY36:AY41) -> 0 | BA34: =SUM(BA36:BA41) -> 0 | BC34: =SUM(BC36:BC41) -> 0 | BE34: =SUM(BE36:BE41) -> 0 | BG34: =SUM(BG36:BG41) -> 0 | BI34: =SUM(BI36:BI41) -> 0 | BK34: =SUM(BK36:BK41) -> 0 | BM34: =SUM(BM36:BM41) -> 0 | BO34: =SUM(BO36:BO41) -> 0 | BQ34: =SUM(BQ36:BQ41) -> 0 | BS34: =SUM(BS36:BS41) -> 0 | BU34: =SUM(BU36:BU41) -> 0 | BW34: =SUM(BW36:BW41) -> 0 | BY34: =SUM(BY36:BY41) -> 0 | CA34: =SUM(CA36:CA41) -> 0 | CC34: =SUM(CC36:CC41) -> 0 | CE34: =SUM(CE36:CE41) -> 0 | CG34: =SUM(CG36:CG41) -> 0 | CI34: =SUM(CI36:CI41) -> 0 | CK34: =SUM(CK36:CK41) -> 0 | CM34: =SUM(CM36:CM41) -> 0 | CO34: =SUM(CO36:CO41) -> 0 | CQ34: =SUM(CQ36:CQ41) -> 0 | CS34: =SUM(CS36:CS41) -> 0 | CU34: =SUM(CU36:CU41) -> 0 | CW34: =SUM(CW36:CW41) -> 0 | CY34: =SUM(CY36:CY41) -> 0 | DA34: =SUM(DA36:DA41) -> 0 | DC34: =SUM(DC36:DC41) -> 0 | DE34: =SUM(DE36:DE41) -> 0 | DG34: =SUM(DG36:DG41) -> 0 | DI34: =SUM(DI36:DI41) -> 0 | DK34: =SUM(DK36:DK41) -> 0 | DM34: =SUM(DM36:DM41) -> 0 | DO34: =SUM(DO36:DO41) -> 0 | DQ34: =SUM(DQ36:DQ41) -> 0 | DS34: =SUM(DS36:DS41) -> 0 | DU34: =SUM(DU36:DU41) -> 0 | DW34: =SUM(DW36:DW41) -> 0 | DY34: =SUM(DY36:DY41) -> 0 | EA34: =SUM(EA36:EA41) -> 0 | EC34: =SUM(EC36:EC41) -> 0 | EE34: =SUM(EE36:EE41) -> 0
D35: Irodakonténer | E35: db | G35: =#VALUE! -> 0 | I35: =H35*$F35 -> 0 | K35: =J35*$F35 -> 0 | M35: =L35*$F35 -> 0 | O35: =N35*$F35 -> 0 | Q35: =P35*$F35 -> 0 | S35: =R35*$F35 -> 0 | U35: =T35*$F35 -> 0 | W35: =V35*$F35 -> 0 | Y35: =X35*$F35 -> 0 | AA35: =Z35*$F35 -> 0 | AC35: =AB35*$F35 -> 0 | AE35: =AD35*$F35 -> 0 | AG35: =AF35*$F35 -> 0 | AI35: =AH35*$F35 -> 0 | AK35: =AJ35*$F35 -> 0 | AM35: =AL35*$F35 -> 0 | AO35: =AN35*$F35 -> 0 | AQ35: =AP35*$F35 -> 0 | AS35: =AR35*$F35 -> 0 | AU35: =AT35*$F35 -> 0 | AW35: =AV35*$F35 -> 0 | AY35: =AX35*$F35 -> 0 | BA35: =AZ35*$F35 -> 0 | BC35: =BB35*$F35 -> 0 | BE35: =BD35*$F35 -> 0 | BG35: =BF35*$F35 -> 0 | BI35: =BH35*$F35 -> 0 | BK35: =BJ35*$F35 -> 0 | BM35: =BL35*$F35 -> 0 | BO35: =BN35*$F35 -> 0 | BQ35: =BP35*$F35 -> 0 | BS35: =BR35*$F35 -> 0 | BU35: =BT35*$F35 -> 0 | BW35: =BV35*$F35 -> 0 | BY35: =BX35*$F35 -> 0 | CA35: =BZ35*$F35 -> 0 | CC35: =CB35*$F35 -> 0 | CE35: =CD35*$F35 -> 0 | CG35: =CF35*$F35 -> 0 | CI35: =CH35*$F35 -> 0 | CK35: =CJ35*$F35 -> 0 | CM35: =CL35*$F35 -> 0 | CO35: =CN35*$F35 -> 0 | CQ35: =CP35*$F35 -> 0 | CS35: =CR35*$F35 -> 0 | CU35: =CT35*$F35 -> 0 | CW35: =CV35*$F35 -> 0 | CY35: =CX35*$F35 -> 0 | DA35: =CZ35*$F35 -> 0 | DC35: =DB35*$F35 -> 0 | DE35: =DD35*$F35 -> 0 | DG35: =DF35*$F35 -> 0 | DI35: =DH35*$F35 -> 0 | DK35: =DJ35*$F35 -> 0 | DM35: =DL35*$F35 -> 0 | DO35: =DN35*$F35 -> 0 | DQ35: =DP35*$F35 -> 0 | DS35: =DR35*$F35 -> 0 | DU35: =DT35*$F35 -> 0 | DW35: =DV35*$F35 -> 0 | DY35: =DX35*$F35 -> 0 | EA35: =DZ35*$F35 -> 0 | EC35: =EB35*$F35 -> 0 | EE35: =ED35*$F35 -> 0
D36: Teherautó | E36: h | G36: =#VALUE! -> 0 | I36: =H36*$F36 -> 0 | K36: =J36*$F36 -> 0 | M36: =L36*$F36 -> 0 | O36: =N36*$F36 -> 0 | Q36: =P36*$F36 -> 0 | S36: =R36*$F36 -> 0 | U36: =T36*$F36 -> 0 | W36: =V36*$F36 -> 0 | Y36: =X36*$F36 -> 0 | AA36: =Z36*$F36 -> 0 | AC36: =AB36*$F36 -> 0 | AE36: =AD36*$F36 -> 0 | AG36: =AF36*$F36 -> 0 | AI36: =AH36*$F36 -> 0 | AK36: =AJ36*$F36 -> 0 | AM36: =AL36*$F36 -> 0 | AO36: =AN36*$F36 -> 0 | AQ36: =AP36*$F36 -> 0 | AS36: =AR36*$F36 -> 0 | AU36: =AT36*$F36 -> 0 | AW36: =AV36*$F36 -> 0 | AY36: =AX36*$F36 -> 0 | BA36: =AZ36*$F36 -> 0 | BC36: =BB36*$F36 -> 0 | BE36: =BD36*$F36 -> 0 | BG36: =BF36*$F36 -> 0 | BI36: =BH36*$F36 -> 0 | BK36: =BJ36*$F36 -> 0 | BM36: =BL36*$F36 -> 0 | BO36: =BN36*$F36 -> 0 | BQ36: =BP36*$F36 -> 0 | BS36: =BR36*$F36 -> 0 | BU36: =BT36*$F36 -> 0 | BW36: =BV36*$F36 -> 0 | BY36: =BX36*$F36 -> 0 | CA36: =BZ36*$F36 -> 0 | CC36: =CB36*$F36 -> 0 | CE36: =CD36*$F36 -> 0 | CG36: =CF36*$F36 -> 0 | CI36: =CH36*$F36 -> 0 | CK36: =CJ36*$F36 -> 0 | CM36: =CL36*$F36 -> 0 | CO36: =CN36*$F36 -> 0 | CQ36: =CP36*$F36 -> 0 | CS36: =CR36*$F36 -> 0 | CU36: =CT36*$F36 -> 0 | CW36: =CV36*$F36 -> 0 | CY36: =CX36*$F36 -> 0 | DA36: =CZ36*$F36 -> 0 | DC36: =DB36*$F36 -> 0 | DE36: =DD36*$F36 -> 0 | DG36: =DF36*$F36 -> 0 | DI36: =DH36*$F36 -> 0 | DK36: =DJ36*$F36 -> 0 | DM36: =DL36*$F36 -> 0 | DO36: =DN36*$F36 -> 0 | DQ36: =DP36*$F36 -> 0 | DS36: =DR36*$F36 -> 0 | DU36: =DT36*$F36 -> 0 | DW36: =DV36*$F36 -> 0 | DY36: =DX36*$F36 -> 0 | EA36: =DZ36*$F36 -> 0 | EC36: =EB36*$F36 -> 0 | EE36: =ED36*$F36 -> 0
D37: Vágókerék | E37: db | G37: =#VALUE! -> 0 | I37: =H37*$F37 -> 0 | K37: =J37*$F37 -> 0 | M37: =L37*$F37 -> 0 | O37: =N37*$F37 -> 0 | Q37: =P37*$F37 -> 0 | S37: =R37*$F37 -> 0 | U37: =T37*$F37 -> 0 | W37: =V37*$F37 -> 0 | Y37: =X37*$F37 -> 0 | AA37: =Z37*$F37 -> 0 | AC37: =AB37*$F37 -> 0 | AE37: =AD37*$F37 -> 0 | AG37: =AF37*$F37 -> 0 | AI37: =AH37*$F37 -> 0 | AK37: =AJ37*$F37 -> 0 | AM37: =AL37*$F37 -> 0 | AO37: =AN37*$F37 -> 0 | AQ37: =AP37*$F37 -> 0 | AS37: =AR37*$F37 -> 0 | AU37: =AT37*$F37 -> 0 | AW37: =AV37*$F37 -> 0 | AY37: =AX37*$F37 -> 0 | BA37: =AZ37*$F37 -> 0 | BC37: =BB37*$F37 -> 0 | BE37: =BD37*$F37 -> 0 | BG37: =BF37*$F37 -> 0 | BI37: =BH37*$F37 -> 0 | BK37: =BJ37*$F37 -> 0 | BM37: =BL37*$F37 -> 0 | BO37: =BN37*$F37 -> 0 | BQ37: =BP37*$F37 -> 0 | BS37: =BR37*$F37 -> 0 | BU37: =BT37*$F37 -> 0 | BW37: =BV37*$F37 -> 0 | BY37: =BX37*$F37 -> 0 | CA37: =BZ37*$F37 -> 0 | CC37: =CB37*$F37 -> 0 | CE37: =CD37*$F37 -> 0 | CG37: =CF37*$F37 -> 0 | CI37: =CH37*$F37 -> 0 | CK37: =CJ37*$F37 -> 0 | CM37: =CL37*$F37 -> 0 | CO37: =CN37*$F37 -> 0 | CQ37: =CP37*$F37 -> 0 | CS37: =CR37*$F37 -> 0 | CU37: =CT37*$F37 -> 0 | CW37: =CV37*$F37 -> 0 | CY37: =CX37*$F37 -> 0 | DA37: =CZ37*$F37 -> 0 | DC37: =DB37*$F37 -> 0 | DE37: =DD37*$F37 -> 0 | DG37: =DF37*$F37 -> 0 | DI37: =DH37*$F37 -> 0 | DK37: =DJ37*$F37 -> 0 | DM37: =DL37*$F37 -> 0 | DO37: =DN37*$F37 -> 0 | DQ37: =DP37*$F37 -> 0 | DS37: =DR37*$F37 -> 0 | DU37: =DT37*$F37 -> 0 | DW37: =DV37*$F37 -> 0 | DY37: =DX37*$F37 -> 0 | EA37: =DZ37*$F37 -> 0 | EC37: =EB37*$F37 -> 0 | EE37: =ED37*$F37 -> 0
D38: Bauer desilter | E38: db | G38: =#VALUE! -> 0 | I38: =H38*$F38 -> 0 | K38: =J38*$F38 -> 0 | M38: =L38*$F38 -> 0 | O38: =N38*$F38 -> 0 | Q38: =P38*$F38 -> 0 | S38: =R38*$F38 -> 0 | U38: =T38*$F38 -> 0 | W38: =V38*$F38 -> 0 | Y38: =X38*$F38 -> 0 | AA38: =Z38*$F38 -> 0 | AC38: =AB38*$F38 -> 0 | AE38: =AD38*$F38 -> 0 | AG38: =AF38*$F38 -> 0 | AI38: =AH38*$F38 -> 0 | AK38: =AJ38*$F38 -> 0 | AM38: =AL38*$F38 -> 0 | AO38: =AN38*$F38 -> 0 | AQ38: =AP38*$F38 -> 0 | AS38: =AR38*$F38 -> 0 | AU38: =AT38*$F38 -> 0 | AW38: =AV38*$F38 -> 0 | AY38: =AX38*$F38 -> 0 | BA38: =AZ38*$F38 -> 0 | BC38: =BB38*$F38 -> 0 | BE38: =BD38*$F38 -> 0 | BG38: =BF38*$F38 -> 0 | BI38: =BH38*$F38 -> 0 | BK38: =BJ38*$F38 -> 0 | BM38: =BL38*$F38 -> 0 | BO38: =BN38*$F38 -> 0 | BQ38: =BP38*$F38 -> 0 | BS38: =BR38*$F38 -> 0 | BU38: =BT38*$F38 -> 0 | BW38: =BV38*$F38 -> 0 | BY38: =BX38*$F38 -> 0 | CA38: =BZ38*$F38 -> 0 | CC38: =CB38*$F38 -> 0 | CE38: =CD38*$F38 -> 0 | CG38: =CF38*$F38 -> 0 | CI38: =CH38*$F38 -> 0 | CK38: =CJ38*$F38 -> 0 | CM38: =CL38*$F38 -> 0 | CO38: =CN38*$F38 -> 0 | CQ38: =CP38*$F38 -> 0 | CS38: =CR38*$F38 -> 0 | CU38: =CT38*$F38 -> 0 | CW38: =CV38*$F38 -> 0 | CY38: =CX38*$F38 -> 0 | DA38: =CZ38*$F38 -> 0 | DC38: =DB38*$F38 -> 0 | DE38: =DD38*$F38 -> 0 | DG38: =DF38*$F38 -> 0 | DI38: =DH38*$F38 -> 0 | DK38: =DJ38*$F38 -> 0 | DM38: =DL38*$F38 -> 0 | DO38: =DN38*$F38 -> 0 | DQ38: =DP38*$F38 -> 0 | DS38: =DR38*$F38 -> 0 | DU38: =DT38*$F38 -> 0 | DW38: =DV38*$F38 -> 0 | DY38: =DX38*$F38 -> 0 | EA38: =DZ38*$F38 -> 0 | EC38: =EB38*$F38 -> 0 | EE38: =ED38*$F38 -> 0
D39: közbenső hengerek | E39: db | G39: =#VALUE! -> 0 | I39: =H39*$F39 -> 0 | K39: =J39*$F39 -> 0 | M39: =L39*$F39 -> 0 | O39: =N39*$F39 -> 0 | Q39: =P39*$F39 -> 0 | S39: =R39*$F39 -> 0 | U39: =T39*$F39 -> 0 | W39: =V39*$F39 -> 0 | Y39: =X39*$F39 -> 0 | AA39: =Z39*$F39 -> 0 | AC39: =AB39*$F39 -> 0 | AE39: =AD39*$F39 -> 0 | AG39: =AF39*$F39 -> 0 | AI39: =AH39*$F39 -> 0 | AK39: =AJ39*$F39 -> 0 | AM39: =AL39*$F39 -> 0 | AO39: =AN39*$F39 -> 0 | AQ39: =AP39*$F39 -> 0 | AS39: =AR39*$F39 -> 0 | AU39: =AT39*$F39 -> 0 | AW39: =AV39*$F39 -> 0 | AY39: =AX39*$F39 -> 0 | BA39: =AZ39*$F39 -> 0 | BC39: =BB39*$F39 -> 0 | BE39: =BD39*$F39 -> 0 | BG39: =BF39*$F39 -> 0 | BI39: =BH39*$F39 -> 0 | BK39: =BJ39*$F39 -> 0 | BM39: =BL39*$F39 -> 0 | BO39: =BN39*$F39 -> 0 | BQ39: =BP39*$F39 -> 0 | BS39: =BR39*$F39 -> 0 | BU39: =BT39*$F39 -> 0 | BW39: =BV39*$F39 -> 0 | BY39: =BX39*$F39 -> 0 | CA39: =BZ39*$F39 -> 0 | CC39: =CB39*$F39 -> 0 | CE39: =CD39*$F39 -> 0 | CG39: =CF39*$F39 -> 0 | CI39: =CH39*$F39 -> 0 | CK39: =CJ39*$F39 -> 0 | CM39: =CL39*$F39 -> 0 | CO39: =CN39*$F39 -> 0 | CQ39: =CP39*$F39 -> 0 | CS39: =CR39*$F39 -> 0 | CU39: =CT39*$F39 -> 0 | CW39: =CV39*$F39 -> 0 | CY39: =CX39*$F39 -> 0 | DA39: =CZ39*$F39 -> 0 | DC39: =DB39*$F39 -> 0 | DE39: =DD39*$F39 -> 0 | DG39: =DF39*$F39 -> 0 | DI39: =DH39*$F39 -> 0 | DK39: =DJ39*$F39 -> 0 | DM39: =DL39*$F39 -> 0 | DO39: =DN39*$F39 -> 0 | DQ39: =DP39*$F39 -> 0 | DS39: =DR39*$F39 -> 0 | DU39: =DT39*$F39 -> 0 | DW39: =DV39*$F39 -> 0 | DY39: =DX39*$F39 -> 0 | EA39: =DZ39*$F39 -> 0 | EC39: =EB39*$F39 -> 0 | EE39: =ED39*$F39 -> 0
D40: Szivattyúk... | E40: db | G40: =#VALUE! -> 0 | I40: =H40*$F40 -> 0 | K40: =J40*$F40 -> 0 | M40: =L40*$F40 -> 0 | O40: =N40*$F40 -> 0 | Q40: =P40*$F40 -> 0 | S40: =R40*$F40 -> 0 | U40: =T40*$F40 -> 0 | W40: =V40*$F40 -> 0 | Y40: =X40*$F40 -> 0 | AA40: =Z40*$F40 -> 0 | AC40: =AB40*$F40 -> 0 | AE40: =AD40*$F40 -> 0 | AG40: =AF40*$F40 -> 0 | AI40: =AH40*$F40 -> 0 | AK40: =AJ40*$F40 -> 0 | AM40: =AL40*$F40 -> 0 | AO40: =AN40*$F40 -> 0 | AQ40: =AP40*$F40 -> 0 | AS40: =AR40*$F40 -> 0 | AU40: =AT40*$F40 -> 0 | AW40: =AV40*$F40 -> 0 | AY40: =AX40*$F40 -> 0 | BA40: =AZ40*$F40 -> 0 | BC40: =BB40*$F40 -> 0 | BE40: =BD40*$F40 -> 0 | BG40: =BF40*$F40 -> 0 | BI40: =BH40*$F40 -> 0 | BK40: =BJ40*$F40 -> 0 | BM40: =BL40*$F40 -> 0 | BO40: =BN40*$F40 -> 0 | BQ40: =BP40*$F40 -> 0 | BS40: =BR40*$F40 -> 0 | BU40: =BT40*$F40 -> 0 | BW40: =BV40*$F40 -> 0 | BY40: =BX40*$F40 -> 0 | CA40: =BZ40*$F40 -> 0 | CC40: =CB40*$F40 -> 0 | CE40: =CD40*$F40 -> 0 | CG40: =CF40*$F40 -> 0 | CI40: =CH40*$F40 -> 0 | CK40: =CJ40*$F40 -> 0 | CM40: =CL40*$F40 -> 0 | CO40: =CN40*$F40 -> 0 | CQ40: =CP40*$F40 -> 0 | CS40: =CR40*$F40 -> 0 | CU40: =CT40*$F40 -> 0 | CW40: =CV40*$F40 -> 0 | CY40: =CX40*$F40 -> 0 | DA40: =CZ40*$F40 -> 0 | DC40: =DB40*$F40 -> 0 | DE40: =DD40*$F40 -> 0 | DG40: =DF40*$F40 -> 0 | DI40: =DH40*$F40 -> 0 | DK40: =DJ40*$F40 -> 0 | DM40: =DL40*$F40 -> 0 | DO40: =DN40*$F40 -> 0 | DQ40: =DP40*$F40 -> 0 | DS40: =DR40*$F40 -> 0 | DU40: =DT40*$F40 -> 0 | DW40: =DV40*$F40 -> 0 | DY40: =DX40*$F40 -> 0 | EA40: =DZ40*$F40 -> 0 | EC40: =EB40*$F40 -> 0 | EE40: =ED40*$F40 -> 0
D41: Kisgépek... | E41: db | G41: =#VALUE! -> 0 | I41: =H41*$F41 -> 0 | K41: =J41*$F41 -> 0 | M41: =L41*$F41 -> 0 | O41: =N41*$F41 -> 0 | Q41: =P41*$F41 -> 0 | S41: =R41*$F41 -> 0 | U41: =T41*$F41 -> 0 | W41: =V41*$F41 -> 0 | Y41: =X41*$F41 -> 0 | AA41: =Z41*$F41 -> 0 | AC41: =AB41*$F41 -> 0 | AE41: =AD41*$F41 -> 0 | AG41: =AF41*$F41 -> 0 | AI41: =AH41*$F41 -> 0 | AK41: =AJ41*$F41 -> 0 | AM41: =AL41*$F41 -> 0 | AO41: =AN41*$F41 -> 0 | AQ41: =AP41*$F41 -> 0 | AS41: =AR41*$F41 -> 0 | AU41: =AT41*$F41 -> 0 | AW41: =AV41*$F41 -> 0 | AY41: =AX41*$F41 -> 0 | BA41: =AZ41*$F41 -> 0 | BC41: =BB41*$F41 -> 0 | BE41: =BD41*$F41 -> 0 | BG41: =BF41*$F41 -> 0 | BI41: =BH41*$F41 -> 0 | BK41: =BJ41*$F41 -> 0 | BM41: =BL41*$F41 -> 0 | BO41: =BN41*$F41 -> 0 | BQ41: =BP41*$F41 -> 0 | BS41: =BR41*$F41 -> 0 | BU41: =BT41*$F41 -> 0 | BW41: =BV41*$F41 -> 0 | BY41: =BX41*$F41 -> 0 | CA41: =BZ41*$F41 -> 0 | CC41: =CB41*$F41 -> 0 | CE41: =CD41*$F41 -> 0 | CG41: =CF41*$F41 -> 0 | CI41: =CH41*$F41 -> 0 | CK41: =CJ41*$F41 -> 0 | CM41: =CL41*$F41 -> 0 | CO41: =CN41*$F41 -> 0 | CQ41: =CP41*$F41 -> 0 | CS41: =CR41*$F41 -> 0 | CU41: =CT41*$F41 -> 0 | CW41: =CV41*$F41 -> 0 | CY41: =CX41*$F41 -> 0 | DA41: =CZ41*$F41 -> 0 | DC41: =DB41*$F41 -> 0 | DE41: =DD41*$F41 -> 0 | DG41: =DF41*$F41 -> 0 | DI41: =DH41*$F41 -> 0 | DK41: =DJ41*$F41 -> 0 | DM41: =DL41*$F41 -> 0 | DO41: =DN41*$F41 -> 0 | DQ41: =DP41*$F41 -> 0 | DS41: =DR41*$F41 -> 0 | DU41: =DT41*$F41 -> 0 | DW41: =DV41*$F41 -> 0 | DY41: =DX41*$F41 -> 0 | EA41: =DZ41*$F41 -> 0 | EC41: =EB41*$F41 -> 0 | EE41: =ED41*$F41 -> 0
C42: 13 | D42: Üzemanyag, Kenőanyag | G42: =#VALUE! -> 0 | I42: =SUM(I43) -> 0 | K42: =SUM(K43) -> 0 | M42: =SUM(M43) -> 0 | O42: =SUM(O43) -> 0 | Q42: =SUM(Q43) -> 0 | S42: =SUM(S43) -> 0 | U42: =SUM(U43) -> 0 | W42: =SUM(W43) -> 0 | Y42: =SUM(Y43) -> 0 | AA42: =SUM(AA43) -> 0 | AC42: =SUM(AC43) -> 0 | AE42: =SUM(AE43) -> 0 | AG42: =SUM(AG43) -> 0 | AI42: =SUM(AI43) -> 0 | AK42: =SUM(AK43) -> 0 | AM42: =SUM(AM43) -> 0 | AO42: =SUM(AO43) -> 0 | AQ42: =SUM(AQ43) -> 0 | AS42: =SUM(AS43) -> 0 | AU42: =SUM(AU43) -> 0 | AW42: =SUM(AW43) -> 0 | AY42: =SUM(AY43) -> 0 | BA42: =SUM(BA43) -> 0 | BC42: =SUM(BC43) -> 0 | BE42: =SUM(BE43) -> 0 | BG42: =SUM(BG43) -> 0 | BI42: =SUM(BI43) -> 0 | BK42: =SUM(BK43) -> 0 | BM42: =SUM(BM43) -> 0 | BO42: =SUM(BO43) -> 0 | BQ42: =SUM(BQ43) -> 0 | BS42: =SUM(BS43) -> 0 | BU42: =SUM(BU43) -> 0 | BW42: =SUM(BW43) -> 0 | BY42: =SUM(BY43) -> 0 | CA42: =SUM(CA43) -> 0 | CC42: =SUM(CC43) -> 0 | CE42: =SUM(CE43) -> 0 | CG42: =SUM(CG43) -> 0 | CI42: =SUM(CI43) -> 0 | CK42: =SUM(CK43) -> 0 | CM42: =SUM(CM43) -> 0 | CO42: =SUM(CO43) -> 0 | CQ42: =SUM(CQ43) -> 0 | CS42: =SUM(CS43) -> 0 | CU42: =SUM(CU43) -> 0 | CW42: =SUM(CW43) -> 0 | CY42: =SUM(CY43) -> 0 | DA42: =SUM(DA43) -> 0 | DC42: =SUM(DC43) -> 0 | DE42: =SUM(DE43) -> 0 | DG42: =SUM(DG43) -> 0 | DI42: =SUM(DI43) -> 0 | DK42: =SUM(DK43) -> 0 | DM42: =SUM(DM43) -> 0 | DO42: =SUM(DO43) -> 0 | DQ42: =SUM(DQ43) -> 0 | DS42: =SUM(DS43) -> 0 | DU42: =SUM(DU43) -> 0 | DW42: =SUM(DW43) -> 0 | DY42: =SUM(DY43) -> 0 | EA42: =SUM(EA43) -> 0 | EC42: =SUM(EC43) -> 0 | EE42: =SUM(EE43) -> 0
D43: gázolaj | E43: l | G43: =#VALUE! -> 0 | I43: =H43*$F43 -> 0 | K43: =J43*$F43 -> 0 | M43: =L43*$F43 -> 0 | O43: =N43*$F43 -> 0 | Q43: =P43*$F43 -> 0 | S43: =R43*$F43 -> 0 | U43: =T43*$F43 -> 0 | W43: =V43*$F43 -> 0 | Y43: =X43*$F43 -> 0 | AA43: =Z43*$F43 -> 0 | AC43: =AB43*$F43 -> 0 | AE43: =AD43*$F43 -> 0 | AG43: =AF43*$F43 -> 0 | AI43: =AH43*$F43 -> 0 | AK43: =AJ43*$F43 -> 0 | AM43: =AL43*$F43 -> 0 | AO43: =AN43*$F43 -> 0 | AQ43: =AP43*$F43 -> 0 | AS43: =AR43*$F43 -> 0 | AU43: =AT43*$F43 -> 0 | AW43: =AV43*$F43 -> 0 | AY43: =AX43*$F43 -> 0 | BA43: =AZ43*$F43 -> 0 | BC43: =BB43*$F43 -> 0 | BE43: =BD43*$F43 -> 0 | BG43: =BF43*$F43 -> 0 | BI43: =BH43*$F43 -> 0 | BK43: =BJ43*$F43 -> 0 | BM43: =BL43*$F43 -> 0 | BO43: =BN43*$F43 -> 0 | BQ43: =BP43*$F43 -> 0 | BS43: =BR43*$F43 -> 0 | BU43: =BT43*$F43 -> 0 | BW43: =BV43*$F43 -> 0 | BY43: =BX43*$F43 -> 0 | CA43: =BZ43*$F43 -> 0 | CC43: =CB43*$F43 -> 0 | CE43: =CD43*$F43 -> 0 | CG43: =CF43*$F43 -> 0 | CI43: =CH43*$F43 -> 0 | CK43: =CJ43*$F43 -> 0 | CM43: =CL43*$F43 -> 0 | CO43: =CN43*$F43 -> 0 | CQ43: =CP43*$F43 -> 0 | CS43: =CR43*$F43 -> 0 | CU43: =CT43*$F43 -> 0 | CW43: =CV43*$F43 -> 0 | CY43: =CX43*$F43 -> 0 | DA43: =CZ43*$F43 -> 0 | DC43: =DB43*$F43 -> 0 | DE43: =DD43*$F43 -> 0 | DG43: =DF43*$F43 -> 0 | DI43: =DH43*$F43 -> 0 | DK43: =DJ43*$F43 -> 0 | DM43: =DL43*$F43 -> 0 | DO43: =DN43*$F43 -> 0 | DQ43: =DP43*$F43 -> 0 | DS43: =DR43*$F43 -> 0 | DU43: =DT43*$F43 -> 0 | DW43: =DV43*$F43 -> 0 | DY43: =DX43*$F43 -> 0 | EA43: =DZ43*$F43 -> 0 | EC43: =EB43*$F43 -> 0 | EE43: =ED43*$F43 -> 0
C44: 19 | D44: Egyéb, gépekkel kapcsolatos ráf. | G44: =#VALUE! -> 0 | I44: =SUM(I45:I47) -> 0 | K44: =SUM(K45:K47) -> 0 | M44: =SUM(M45:M47) -> 0 | O44: =SUM(O45:O47) -> 0 | Q44: =SUM(Q45:Q47) -> 0 | S44: =SUM(S45:S47) -> 0 | U44: =SUM(U45:U47) -> 0 | W44: =SUM(W45:W47) -> 0 | Y44: =SUM(Y45:Y47) -> 0 | AA44: =SUM(AA45:AA47) -> 0 | AC44: =SUM(AC45:AC47) -> 0 | AE44: =SUM(AE45:AE47) -> 0 | AG44: =SUM(AG45:AG47) -> 0 | AI44: =SUM(AI45:AI47) -> 0 | AK44: =SUM(AK45:AK47) -> 0 | AM44: =SUM(AM45:AM47) -> 0 | AO44: =SUM(AO45:AO47) -> 0 | AQ44: =SUM(AQ45:AQ47) -> 0 | AS44: =SUM(AS45:AS47) -> 0 | AU44: =SUM(AU45:AU47) -> 0 | AW44: =SUM(AW45:AW47) -> 0 | AY44: =SUM(AY45:AY47) -> 0 | BA44: =SUM(BA45:BA47) -> 0 | BC44: =SUM(BC45:BC47) -> 0 | BE44: =SUM(BE45:BE47) -> 0 | BG44: =SUM(BG45:BG47) -> 0 | BI44: =SUM(BI45:BI47) -> 0 | BK44: =SUM(BK45:BK47) -> 0 | BM44: =SUM(BM45:BM47) -> 0 | BO44: =SUM(BO45:BO47) -> 0 | BQ44: =SUM(BQ45:BQ47) -> 0 | BS44: =SUM(BS45:BS47) -> 0 | BU44: =SUM(BU45:BU47) -> 0 | BW44: =SUM(BW45:BW47) -> 0 | BY44: =SUM(BY45:BY47) -> 0 | CA44: =SUM(CA45:CA47) -> 0 | CC44: =SUM(CC45:CC47) -> 0 | CE44: =SUM(CE45:CE47) -> 0 | CG44: =SUM(CG45:CG47) -> 0 | CI44: =SUM(CI45:CI47) -> 0 | CK44: =SUM(CK45:CK47) -> 0 | CM44: =SUM(CM45:CM47) -> 0 | CO44: =SUM(CO45:CO47) -> 0 | CQ44: =SUM(CQ45:CQ47) -> 0 | CS44: =SUM(CS45:CS47) -> 0 | CU44: =SUM(CU45:CU47) -> 0 | CW44: =SUM(CW45:CW47) -> 0 | CY44: =SUM(CY45:CY47) -> 0 | DA44: =SUM(DA45:DA47) -> 0 | DC44: =SUM(DC45:DC47) -> 0 | DE44: =SUM(DE45:DE47) -> 0 | DG44: =SUM(DG45:DG47) -> 0 | DI44: =SUM(DI45:DI47) -> 0 | DK44: =SUM(DK45:DK47) -> 0 | DM44: =SUM(DM45:DM47) -> 0 | DO44: =SUM(DO45:DO47) -> 0 | DQ44: =SUM(DQ45:DQ47) -> 0 | DS44: =SUM(DS45:DS47) -> 0 | DU44: =SUM(DU45:DU47) -> 0 | DW44: =SUM(DW45:DW47) -> 0 | DY44: =SUM(DY45:DY47) -> 0 | EA44: =SUM(EA45:EA47) -> 0 | EC44: =SUM(EC45:EC47) -> 0 | EE44: =SUM(EE45:EE47) -> 0
D45: HK vágófej-szerszámok | E45: e | G45: =#VALUE! -> 0 | I45: =H45*$F45 -> 0 | K45: =J45*$F45 -> 0 | M45: =L45*$F45 -> 0 | O45: =N45*$F45 -> 0 | Q45: =P45*$F45 -> 0 | S45: =R45*$F45 -> 0 | U45: =T45*$F45 -> 0 | W45: =V45*$F45 -> 0 | Y45: =X45*$F45 -> 0 | AA45: =Z45*$F45 -> 0 | AC45: =AB45*$F45 -> 0 | AE45: =AD45*$F45 -> 0 | AG45: =AF45*$F45 -> 0 | AI45: =AH45*$F45 -> 0 | AK45: =AJ45*$F45 -> 0 | AM45: =AL45*$F45 -> 0 | AO45: =AN45*$F45 -> 0 | AQ45: =AP45*$F45 -> 0 | AS45: =AR45*$F45 -> 0 | AU45: =AT45*$F45 -> 0 | AW45: =AV45*$F45 -> 0 | AY45: =AX45*$F45 -> 0 | BA45: =AZ45*$F45 -> 0 | BC45: =BB45*$F45 -> 0 | BE45: =BD45*$F45 -> 0 | BG45: =BF45*$F45 -> 0 | BI45: =BH45*$F45 -> 0 | BK45: =BJ45*$F45 -> 0 | BM45: =BL45*$F45 -> 0 | BO45: =BN45*$F45 -> 0 | BQ45: =BP45*$F45 -> 0 | BS45: =BR45*$F45 -> 0 | BU45: =BT45*$F45 -> 0 | BW45: =BV45*$F45 -> 0 | BY45: =BX45*$F45 -> 0 | CA45: =BZ45*$F45 -> 0 | CC45: =CB45*$F45 -> 0 | CE45: =CD45*$F45 -> 0 | CG45: =CF45*$F45 -> 0 | CI45: =CH45*$F45 -> 0 | CK45: =CJ45*$F45 -> 0 | CM45: =CL45*$F45 -> 0 | CO45: =CN45*$F45 -> 0 | CQ45: =CP45*$F45 -> 0 | CS45: =CR45*$F45 -> 0 | CU45: =CT45*$F45 -> 0 | CW45: =CV45*$F45 -> 0 | CY45: =CX45*$F45 -> 0 | DA45: =CZ45*$F45 -> 0 | DC45: =DB45*$F45 -> 0 | DE45: =DD45*$F45 -> 0 | DG45: =DF45*$F45 -> 0 | DI45: =DH45*$F45 -> 0 | DK45: =DJ45*$F45 -> 0 | DM45: =DL45*$F45 -> 0 | DO45: =DN45*$F45 -> 0 | DQ45: =DP45*$F45 -> 0 | DS45: =DR45*$F45 -> 0 | DU45: =DT45*$F45 -> 0 | DW45: =DV45*$F45 -> 0 | DY45: =DX45*$F45 -> 0 | EA45: =DZ45*$F45 -> 0 | EC45: =EB45*$F45 -> 0 | EE45: =ED45*$F45 -> 0
D46: HK cserealkatrészek... | E46: e | G46: =#VALUE! -> 0 | I46: =H46*$F46 -> 0 | K46: =J46*$F46 -> 0 | M46: =L46*$F46 -> 0 | O46: =N46*$F46 -> 0 | Q46: =P46*$F46 -> 0 | S46: =R46*$F46 -> 0 | U46: =T46*$F46 -> 0 | W46: =V46*$F46 -> 0 | Y46: =X46*$F46 -> 0 | AA46: =Z46*$F46 -> 0 | AC46: =AB46*$F46 -> 0 | AE46: =AD46*$F46 -> 0 | AG46: =AF46*$F46 -> 0 | AI46: =AH46*$F46 -> 0 | AK46: =AJ46*$F46 -> 0 | AM46: =AL46*$F46 -> 0 | AO46: =AN46*$F46 -> 0 | AQ46: =AP46*$F46 -> 0 | AS46: =AR46*$F46 -> 0 | AU46: =AT46*$F46 -> 0 | AW46: =AV46*$F46 -> 0 | AY46: =AX46*$F46 -> 0 | BA46: =AZ46*$F46 -> 0 | BC46: =BB46*$F46 -> 0 | BE46: =BD46*$F46 -> 0 | BG46: =BF46*$F46 -> 0 | BI46: =BH46*$F46 -> 0 | BK46: =BJ46*$F46 -> 0 | BM46: =BL46*$F46 -> 0 | BO46: =BN46*$F46 -> 0 | BQ46: =BP46*$F46 -> 0 | BS46: =BR46*$F46 -> 0 | BU46: =BT46*$F46 -> 0 | BW46: =BV46*$F46 -> 0 | BY46: =BX46*$F46 -> 0 | CA46: =BZ46*$F46 -> 0 | CC46: =CB46*$F46 -> 0 | CE46: =CD46*$F46 -> 0 | CG46: =CF46*$F46 -> 0 | CI46: =CH46*$F46 -> 0 | CK46: =CJ46*$F46 -> 0 | CM46: =CL46*$F46 -> 0 | CO46: =CN46*$F46 -> 0 | CQ46: =CP46*$F46 -> 0 | CS46: =CR46*$F46 -> 0 | CU46: =CT46*$F46 -> 0 | CW46: =CV46*$F46 -> 0 | CY46: =CX46*$F46 -> 0 | DA46: =CZ46*$F46 -> 0 | DC46: =DB46*$F46 -> 0 | DE46: =DD46*$F46 -> 0 | DG46: =DF46*$F46 -> 0 | DI46: =DH46*$F46 -> 0 | DK46: =DJ46*$F46 -> 0 | DM46: =DL46*$F46 -> 0 | DO46: =DN46*$F46 -> 0 | DQ46: =DP46*$F46 -> 0 | DS46: =DR46*$F46 -> 0 | DU46: =DT46*$F46 -> 0 | DW46: =DV46*$F46 -> 0 | DY46: =DX46*$F46 -> 0 | EA46: =DZ46*$F46 -> 0 | EC46: =EB46*$F46 -> 0 | EE46: =ED46*$F46 -> 0
D47: HK javítás... | E47: e | G47: =#VALUE! -> 0 | I47: =H47*$F47 -> 0 | K47: =J47*$F47 -> 0 | M47: =L47*$F47 -> 0 | O47: =N47*$F47 -> 0 | Q47: =P47*$F47 -> 0 | S47: =R47*$F47 -> 0 | U47: =T47*$F47 -> 0 | W47: =V47*$F47 -> 0 | Y47: =X47*$F47 -> 0 | AA47: =Z47*$F47 -> 0 | AC47: =AB47*$F47 -> 0 | AE47: =AD47*$F47 -> 0 | AG47: =AF47*$F47 -> 0 | AI47: =AH47*$F47 -> 0 | AK47: =AJ47*$F47 -> 0 | AM47: =AL47*$F47 -> 0 | AO47: =AN47*$F47 -> 0 | AQ47: =AP47*$F47 -> 0 | AS47: =AR47*$F47 -> 0 | AU47: =AT47*$F47 -> 0 | AW47: =AV47*$F47 -> 0 | AY47: =AX47*$F47 -> 0 | BA47: =AZ47*$F47 -> 0 | BC47: =BB47*$F47 -> 0 | BE47: =BD47*$F47 -> 0 | BG47: =BF47*$F47 -> 0 | BI47: =BH47*$F47 -> 0 | BK47: =BJ47*$F47 -> 0 | BM47: =BL47*$F47 -> 0 | BO47: =BN47*$F47 -> 0 | BQ47: =BP47*$F47 -> 0 | BS47: =BR47*$F47 -> 0 | BU47: =BT47*$F47 -> 0 | BW47: =BV47*$F47 -> 0 | BY47: =BX47*$F47 -> 0 | CA47: =BZ47*$F47 -> 0 | CC47: =CB47*$F47 -> 0 | CE47: =CD47*$F47 -> 0 | CG47: =CF47*$F47 -> 0 | CI47: =CH47*$F47 -> 0 | CK47: =CJ47*$F47 -> 0 | CM47: =CL47*$F47 -> 0 | CO47: =CN47*$F47 -> 0 | CQ47: =CP47*$F47 -> 0 | CS47: =CR47*$F47 -> 0 | CU47: =CT47*$F47 -> 0 | CW47: =CV47*$F47 -> 0 | CY47: =CX47*$F47 -> 0 | DA47: =CZ47*$F47 -> 0 | DC47: =DB47*$F47 -> 0 | DE47: =DD47*$F47 -> 0 | DG47: =DF47*$F47 -> 0 | DI47: =DH47*$F47 -> 0 | DK47: =DJ47*$F47 -> 0 | DM47: =DL47*$F47 -> 0 | DO47: =DN47*$F47 -> 0 | DQ47: =DP47*$F47 -> 0 | DS47: =DR47*$F47 -> 0 | DU47: =DT47*$F47 -> 0 | DW47: =DV47*$F47 -> 0 | DY47: =DX47*$F47 -> 0 | EA47: =DZ47*$F47 -> 0 | EC47: =EB47*$F47 -> 0 | EE47: =ED47*$F47 -> 0
A49: N2 | B49: Munkaerő | G49: =#VALUE! -> 0 | I49: =SUM(I50,I52,I54,I55) -> 0 | K49: =SUM(K50,K52,K54,K55) -> 0 | M49: =SUM(M50,M52,M54,M55) -> 0 | O49: =SUM(O50,O52,O54,O55) -> 0 | Q49: =SUM(Q50,Q52,Q54,Q55) -> 0 | S49: =SUM(S50,S52,S54,S55) -> 0 | U49: =SUM(U50,U52,U54,U55) -> 0 | W49: =SUM(W50,W52,W54,W55) -> 0 | Y49: =SUM(Y50,Y52,Y54,Y55) -> 0 | AA49: =SUM(AA50,AA52,AA54,AA55) -> 0 | AC49: =SUM(AC50,AC52,AC54,AC55) -> 0 | AE49: =SUM(AE50,AE52,AE54,AE55) -> 0 | AG49: =SUM(AG50,AG52,AG54,AG55) -> 0 | AI49: =SUM(AI50,AI52,AI54,AI55) -> 0 | AK49: =SUM(AK50,AK52,AK54,AK55) -> 0 | AM49: =SUM(AM50,AM52,AM54,AM55) -> 0 | AO49: =SUM(AO50,AO52,AO54,AO55) -> 0 | AQ49: =SUM(AQ50,AQ52,AQ54,AQ55) -> 0 | AS49: =SUM(AS50,AS52,AS54,AS55) -> 0 | AU49: =SUM(AU50,AU52,AU54,AU55) -> 0 | AW49: =SUM(AW50,AW52,AW54,AW55) -> 0 | AY49: =SUM(AY50,AY52,AY54,AY55) -> 0 | BA49: =SUM(BA50,BA52,BA54,BA55) -> 0 | BC49: =SUM(BC50,BC52,BC54,BC55) -> 0 | BE49: =SUM(BE50,BE52,BE54,BE55) -> 0 | BG49: =SUM(BG50,BG52,BG54,BG55) -> 0 | BI49: =SUM(BI50,BI52,BI54,BI55) -> 0 | BK49: =SUM(BK50,BK52,BK54,BK55) -> 0 | BM49: =SUM(BM50,BM52,BM54,BM55) -> 0 | BO49: =SUM(BO50,BO52,BO54,BO55) -> 0 | BQ49: =SUM(BQ50,BQ52,BQ54,BQ55) -> 0 | BS49: =SUM(BS50,BS52,BS54,BS55) -> 0 | BU49: =SUM(BU50,BU52,BU54,BU55) -> 0 | BW49: =SUM(BW50,BW52,BW54,BW55) -> 0 | BY49: =SUM(BY50,BY52,BY54,BY55) -> 0 | CA49: =SUM(CA50,CA52,CA54,CA55) -> 0 | CC49: =SUM(CC50,CC52,CC54,CC55) -> 0 | CE49: =SUM(CE50,CE52,CE54,CE55) -> 0 | CG49: =SUM(CG50,CG52,CG54,CG55) -> 0 | CI49: =SUM(CI50,CI52,CI54,CI55) -> 0 | CK49: =SUM(CK50,CK52,CK54,CK55) -> 0 | CM49: =SUM(CM50,CM52,CM54,CM55) -> 0 | CO49: =SUM(CO50,CO52,CO54,CO55) -> 0 | CQ49: =SUM(CQ50,CQ52,CQ54,CQ55) -> 0 | CS49: =SUM(CS50,CS52,CS54,CS55) -> 0 | CU49: =SUM(CU50,CU52,CU54,CU55) -> 0 | CW49: =SUM(CW50,CW52,CW54,CW55) -> 0 | CY49: =SUM(CY50,CY52,CY54,CY55) -> 0 | DA49: =SUM(DA50,DA52,DA54,DA55) -> 0 | DC49: =SUM(DC50,DC52,DC54,DC55) -> 0 | DE49: =SUM(DE50,DE52,DE54,DE55) -> 0 | DG49: =SUM(DG50,DG52,DG54,DG55) -> 0 | DI49: =SUM(DI50,DI52,DI54,DI55) -> 0 | DK49: =SUM(DK50,DK52,DK54,DK55) -> 0 | DM49: =SUM(DM50,DM52,DM54,DM55) -> 0 | DO49: =SUM(DO50,DO52,DO54,DO55) -> 0 | DQ49: =SUM(DQ50,DQ52,DQ54,DQ55) -> 0 | DS49: =SUM(DS50,DS52,DS54,DS55) -> 0 | DU49: =SUM(DU50,DU52,DU54,DU55) -> 0 | DW49: =SUM(DW50,DW52,DW54,DW55) -> 0 | DY49: =SUM(DY50,DY52,DY54,DY55) -> 0 | EA49: =SUM(EA50,EA52,EA54,EA55) -> 0 | EC49: =SUM(EC50,EC52,EC54,EC55) -> 0 | EE49: =SUM(EE50,EE52,EE54,EE55) -> 0
C50: 21 | D50: Belső munkaerő - Fizikai | G50: =#VALUE! -> 0 | I50: =SUM(I51) -> 0 | K50: =SUM(K51) -> 0 | M50: =SUM(M51) -> 0 | O50: =SUM(O51) -> 0 | Q50: =SUM(Q51) -> 0 | S50: =SUM(S51) -> 0 | U50: =SUM(U51) -> 0 | W50: =SUM(W51) -> 0 | Y50: =SUM(Y51) -> 0 | AA50: =SUM(AA51) -> 0 | AC50: =SUM(AC51) -> 0 | AE50: =SUM(AE51) -> 0 | AG50: =SUM(AG51) -> 0 | AI50: =SUM(AI51) -> 0 | AK50: =SUM(AK51) -> 0 | AM50: =SUM(AM51) -> 0 | AO50: =SUM(AO51) -> 0 | AQ50: =SUM(AQ51) -> 0 | AS50: =SUM(AS51) -> 0 | AU50: =SUM(AU51) -> 0 | AW50: =SUM(AW51) -> 0 | AY50: =SUM(AY51) -> 0 | BA50: =SUM(BA51) -> 0 | BC50: =SUM(BC51) -> 0 | BE50: =SUM(BE51) -> 0 | BG50: =SUM(BG51) -> 0 | BI50: =SUM(BI51) -> 0 | BK50: =SUM(BK51) -> 0 | BM50: =SUM(BM51) -> 0 | BO50: =SUM(BO51) -> 0 | BQ50: =SUM(BQ51) -> 0 | BS50: =SUM(BS51) -> 0 | BU50: =SUM(BU51) -> 0 | BW50: =SUM(BW51) -> 0 | BY50: =SUM(BY51) -> 0 | CA50: =SUM(CA51) -> 0 | CC50: =SUM(CC51) -> 0 | CE50: =SUM(CE51) -> 0 | CG50: =SUM(CG51) -> 0 | CI50: =SUM(CI51) -> 0 | CK50: =SUM(CK51) -> 0 | CM50: =SUM(CM51) -> 0 | CO50: =SUM(CO51) -> 0 | CQ50: =SUM(CQ51) -> 0 | CS50: =SUM(CS51) -> 0 | CU50: =SUM(CU51) -> 0 | CW50: =SUM(CW51) -> 0 | CY50: =SUM(CY51) -> 0 | DA50: =SUM(DA51) -> 0 | DC50: =SUM(DC51) -> 0 | DE50: =SUM(DE51) -> 0 | DG50: =SUM(DG51) -> 0 | DI50: =SUM(DI51) -> 0 | DK50: =SUM(DK51) -> 0 | DM50: =SUM(DM51) -> 0 | DO50: =SUM(DO51) -> 0 | DQ50: =SUM(DQ51) -> 0 | DS50: =SUM(DS51) -> 0 | DU50: =SUM(DU51) -> 0 | DW50: =SUM(DW51) -> 0 | DY50: =SUM(DY51) -> 0 | EA50: =SUM(EA51) -> 0 | EC50: =SUM(EC51) -> 0 | EE50: =SUM(EE51) -> 0
D51: fizikai létszám | E51: fő | G51: =#VALUE! -> 0 | I51: =H51*$F51 -> 0 | K51: =J51*$F51 -> 0 | M51: =L51*$F51 -> 0 | O51: =N51*$F51 -> 0 | Q51: =P51*$F51 -> 0 | S51: =R51*$F51 -> 0 | U51: =T51*$F51 -> 0 | W51: =V51*$F51 -> 0 | Y51: =X51*$F51 -> 0 | AA51: =Z51*$F51 -> 0 | AC51: =AB51*$F51 -> 0 | AE51: =AD51*$F51 -> 0 | AG51: =AF51*$F51 -> 0 | AI51: =AH51*$F51 -> 0 | AK51: =AJ51*$F51 -> 0 | AM51: =AL51*$F51 -> 0 | AO51: =AN51*$F51 -> 0 | AQ51: =AP51*$F51 -> 0 | AS51: =AR51*$F51 -> 0 | AU51: =AT51*$F51 -> 0 | AW51: =AV51*$F51 -> 0 | AY51: =AX51*$F51 -> 0 | BA51: =AZ51*$F51 -> 0 | BC51: =BB51*$F51 -> 0 | BE51: =BD51*$F51 -> 0 | BG51: =BF51*$F51 -> 0 | BI51: =BH51*$F51 -> 0 | BK51: =BJ51*$F51 -> 0 | BM51: =BL51*$F51 -> 0 | BO51: =BN51*$F51 -> 0 | BQ51: =BP51*$F51 -> 0 | BS51: =BR51*$F51 -> 0 | BU51: =BT51*$F51 -> 0 | BW51: =BV51*$F51 -> 0 | BY51: =BX51*$F51 -> 0 | CA51: =BZ51*$F51 -> 0 | CC51: =CB51*$F51 -> 0 | CE51: =CD51*$F51 -> 0 | CG51: =CF51*$F51 -> 0 | CI51: =CH51*$F51 -> 0 | CK51: =CJ51*$F51 -> 0 | CM51: =CL51*$F51 -> 0 | CO51: =CN51*$F51 -> 0 | CQ51: =CP51*$F51 -> 0 | CS51: =CR51*$F51 -> 0 | CU51: =CT51*$F51 -> 0 | CW51: =CV51*$F51 -> 0 | CY51: =CX51*$F51 -> 0 | DA51: =CZ51*$F51 -> 0 | DC51: =DB51*$F51 -> 0 | DE51: =DD51*$F51 -> 0 | DG51: =DF51*$F51 -> 0 | DI51: =DH51*$F51 -> 0 | DK51: =DJ51*$F51 -> 0 | DM51: =DL51*$F51 -> 0 | DO51: =DN51*$F51 -> 0 | DQ51: =DP51*$F51 -> 0 | DS51: =DR51*$F51 -> 0 | DU51: =DT51*$F51 -> 0 | DW51: =DV51*$F51 -> 0 | DY51: =DX51*$F51 -> 0 | EA51: =DZ51*$F51 -> 0 | EC51: =EB51*$F51 -> 0 | EE51: =ED51*$F51 -> 0
C52: 22 | D52: Belső munkaerő - Vezetői | G52: =#VALUE! -> 0 | I52: =SUM(I53) -> 0 | K52: =SUM(K53) -> 0 | M52: =SUM(M53) -> 0 | O52: =SUM(O53) -> 0 | Q52: =SUM(Q53) -> 0 | S52: =SUM(S53) -> 0 | U52: =SUM(U53) -> 0 | W52: =SUM(W53) -> 0 | Y52: =SUM(Y53) -> 0 | AA52: =SUM(AA53) -> 0 | AC52: =SUM(AC53) -> 0 | AE52: =SUM(AE53) -> 0 | AG52: =SUM(AG53) -> 0 | AI52: =SUM(AI53) -> 0 | AK52: =SUM(AK53) -> 0 | AM52: =SUM(AM53) -> 0 | AO52: =SUM(AO53) -> 0 | AQ52: =SUM(AQ53) -> 0 | AS52: =SUM(AS53) -> 0 | AU52: =SUM(AU53) -> 0 | AW52: =SUM(AW53) -> 0 | AY52: =SUM(AY53) -> 0 | BA52: =SUM(BA53) -> 0 | BC52: =SUM(BC53) -> 0 | BE52: =SUM(BE53) -> 0 | BG52: =SUM(BG53) -> 0 | BI52: =SUM(BI53) -> 0 | BK52: =SUM(BK53) -> 0 | BM52: =SUM(BM53) -> 0 | BO52: =SUM(BO53) -> 0 | BQ52: =SUM(BQ53) -> 0 | BS52: =SUM(BS53) -> 0 | BU52: =SUM(BU53) -> 0 | BW52: =SUM(BW53) -> 0 | BY52: =SUM(BY53) -> 0 | CA52: =SUM(CA53) -> 0 | CC52: =SUM(CC53) -> 0 | CE52: =SUM(CE53) -> 0 | CG52: =SUM(CG53) -> 0 | CI52: =SUM(CI53) -> 0 | CK52: =SUM(CK53) -> 0 | CM52: =SUM(CM53) -> 0 | CO52: =SUM(CO53) -> 0 | CQ52: =SUM(CQ53) -> 0 | CS52: =SUM(CS53) -> 0 | CU52: =SUM(CU53) -> 0 | CW52: =SUM(CW53) -> 0 | CY52: =SUM(CY53) -> 0 | DA52: =SUM(DA53) -> 0 | DC52: =SUM(DC53) -> 0 | DE52: =SUM(DE53) -> 0 | DG52: =SUM(DG53) -> 0 | DI52: =SUM(DI53) -> 0 | DK52: =SUM(DK53) -> 0 | DM52: =SUM(DM53) -> 0 | DO52: =SUM(DO53) -> 0 | DQ52: =SUM(DQ53) -> 0 | DS52: =SUM(DS53) -> 0 | DU52: =SUM(DU53) -> 0 | DW52: =SUM(DW53) -> 0 | DY52: =SUM(DY53) -> 0 | EA52: =SUM(EA53) -> 0 | EC52: =SUM(EC53) -> 0 | EE52: =SUM(EE53) -> 0
D53: építésvezető | E53: fő | G53: =#VALUE! -> 0 | I53: =H53*$F53 -> 0 | K53: =J53*$F53 -> 0 | M53: =L53*$F53 -> 0 | O53: =N53*$F53 -> 0 | Q53: =P53*$F53 -> 0 | S53: =R53*$F53 -> 0 | U53: =T53*$F53 -> 0 | W53: =V53*$F53 -> 0 | Y53: =X53*$F53 -> 0 | AA53: =Z53*$F53 -> 0 | AC53: =AB53*$F53 -> 0 | AE53: =AD53*$F53 -> 0 | AG53: =AF53*$F53 -> 0 | AI53: =AH53*$F53 -> 0 | AK53: =AJ53*$F53 -> 0 | AM53: =AL53*$F53 -> 0 | AO53: =AN53*$F53 -> 0 | AQ53: =AP53*$F53 -> 0 | AS53: =AR53*$F53 -> 0 | AU53: =AT53*$F53 -> 0 | AW53: =AV53*$F53 -> 0 | AY53: =AX53*$F53 -> 0 | BA53: =AZ53*$F53 -> 0 | BC53: =BB53*$F53 -> 0 | BE53: =BD53*$F53 -> 0 | BG53: =BF53*$F53 -> 0 | BI53: =BH53*$F53 -> 0 | BK53: =BJ53*$F53 -> 0 | BM53: =BL53*$F53 -> 0 | BO53: =BN53*$F53 -> 0 | BQ53: =BP53*$F53 -> 0 | BS53: =BR53*$F53 -> 0 | BU53: =BT53*$F53 -> 0 | BW53: =BV53*$F53 -> 0 | BY53: =BX53*$F53 -> 0 | CA53: =BZ53*$F53 -> 0 | CC53: =CB53*$F53 -> 0 | CE53: =CD53*$F53 -> 0 | CG53: =CF53*$F53 -> 0 | CI53: =CH53*$F53 -> 0 | CK53: =CJ53*$F53 -> 0 | CM53: =CL53*$F53 -> 0 | CO53: =CN53*$F53 -> 0 | CQ53: =CP53*$F53 -> 0 | CS53: =CR53*$F53 -> 0 | CU53: =CT53*$F53 -> 0 | CW53: =CV53*$F53 -> 0 | CY53: =CX53*$F53 -> 0 | DA53: =CZ53*$F53 -> 0 | DC53: =DB53*$F53 -> 0 | DE53: =DD53*$F53 -> 0 | DG53: =DF53*$F53 -> 0 | DI53: =DH53*$F53 -> 0 | DK53: =DJ53*$F53 -> 0 | DM53: =DL53*$F53 -> 0 | DO53: =DN53*$F53 -> 0 | DQ53: =DP53*$F53 -> 0 | DS53: =DR53*$F53 -> 0 | DU53: =DT53*$F53 -> 0 | DW53: =DV53*$F53 -> 0 | DY53: =DX53*$F53 -> 0 | EA53: =DZ53*$F53 -> 0 | EC53: =EB53*$F53 -> 0 | EE53: =ED53*$F53 -> 0
C54: 24 | D54: Külső munkaerő - Magyarok | G54: =#VALUE! -> 0 | I54: =H54*$F54 -> 0 | K54: =J54*$F54 -> 0 | M54: =L54*$F54 -> 0 | O54: =N54*$F54 -> 0 | Q54: =P54*$F54 -> 0 | S54: =R54*$F54 -> 0 | U54: =T54*$F54 -> 0 | W54: =V54*$F54 -> 0 | Y54: =X54*$F54 -> 0 | AA54: =Z54*$F54 -> 0 | AC54: =AB54*$F54 -> 0 | AE54: =AD54*$F54 -> 0 | AG54: =AF54*$F54 -> 0 | AI54: =AH54*$F54 -> 0 | AK54: =AJ54*$F54 -> 0 | AM54: =AL54*$F54 -> 0 | AO54: =AN54*$F54 -> 0 | AQ54: =AP54*$F54 -> 0 | AS54: =AR54*$F54 -> 0 | AU54: =AT54*$F54 -> 0 | AW54: =AV54*$F54 -> 0 | AY54: =AX54*$F54 -> 0 | BA54: =AZ54*$F54 -> 0 | BC54: =BB54*$F54 -> 0 | BE54: =BD54*$F54 -> 0 | BG54: =BF54*$F54 -> 0 | BI54: =BH54*$F54 -> 0 | BK54: =BJ54*$F54 -> 0 | BM54: =BL54*$F54 -> 0 | BO54: =BN54*$F54 -> 0 | BQ54: =BP54*$F54 -> 0 | BS54: =BR54*$F54 -> 0 | BU54: =BT54*$F54 -> 0 | BW54: =BV54*$F54 -> 0 | BY54: =BX54*$F54 -> 0 | CA54: =BZ54*$F54 -> 0 | CC54: =CB54*$F54 -> 0 | CE54: =CD54*$F54 -> 0 | CG54: =CF54*$F54 -> 0 | CI54: =CH54*$F54 -> 0 | CK54: =CJ54*$F54 -> 0 | CM54: =CL54*$F54 -> 0 | CO54: =CN54*$F54 -> 0 | CQ54: =CP54*$F54 -> 0 | CS54: =CR54*$F54 -> 0 | CU54: =CT54*$F54 -> 0 | CW54: =CV54*$F54 -> 0 | CY54: =CX54*$F54 -> 0 | DA54: =CZ54*$F54 -> 0 | DC54: =DB54*$F54 -> 0 | DE54: =DD54*$F54 -> 0 | DG54: =DF54*$F54 -> 0 | DI54: =DH54*$F54 -> 0 | DK54: =DJ54*$F54 -> 0 | DM54: =DL54*$F54 -> 0 | DO54: =DN54*$F54 -> 0 | DQ54: =DP54*$F54 -> 0 | DS54: =DR54*$F54 -> 0 | DU54: =DT54*$F54 -> 0 | DW54: =DV54*$F54 -> 0 | DY54: =DX54*$F54 -> 0 | EA54: =DZ54*$F54 -> 0 | EC54: =EB54*$F54 -> 0 | EE54: =ED54*$F54 -> 0
C55: 25 | D55: Külső munkaerő - Külföldiek | G55: =#VALUE! -> 0 | I55: =H55*$F55 -> 0 | K55: =J55*$F55 -> 0 | M55: =L55*$F55 -> 0 | O55: =N55*$F55 -> 0 | Q55: =P55*$F55 -> 0 | S55: =R55*$F55 -> 0 | U55: =T55*$F55 -> 0 | W55: =V55*$F55 -> 0 | Y55: =X55*$F55 -> 0 | AA55: =Z55*$F55 -> 0 | AC55: =AB55*$F55 -> 0 | AE55: =AD55*$F55 -> 0 | AG55: =AF55*$F55 -> 0 | AI55: =AH55*$F55 -> 0 | AK55: =AJ55*$F55 -> 0 | AM55: =AL55*$F55 -> 0 | AO55: =AN55*$F55 -> 0 | AQ55: =AP55*$F55 -> 0 | AS55: =AR55*$F55 -> 0 | AU55: =AT55*$F55 -> 0 | AW55: =AV55*$F55 -> 0 | AY55: =AX55*$F55 -> 0 | BA55: =AZ55*$F55 -> 0 | BC55: =BB55*$F55 -> 0 | BE55: =BD55*$F55 -> 0 | BG55: =BF55*$F55 -> 0 | BI55: =BH55*$F55 -> 0 | BK55: =BJ55*$F55 -> 0 | BM55: =BL55*$F55 -> 0 | BO55: =BN55*$F55 -> 0 | BQ55: =BP55*$F55 -> 0 | BS55: =BR55*$F55 -> 0 | BU55: =BT55*$F55 -> 0 | BW55: =BV55*$F55 -> 0 | BY55: =BX55*$F55 -> 0 | CA55: =BZ55*$F55 -> 0 | CC55: =CB55*$F55 -> 0 | CE55: =CD55*$F55 -> 0 | CG55: =CF55*$F55 -> 0 | CI55: =CH55*$F55 -> 0 | CK55: =CJ55*$F55 -> 0 | CM55: =CL55*$F55 -> 0 | CO55: =CN55*$F55 -> 0 | CQ55: =CP55*$F55 -> 0 | CS55: =CR55*$F55 -> 0 | CU55: =CT55*$F55 -> 0 | CW55: =CV55*$F55 -> 0 | CY55: =CX55*$F55 -> 0 | DA55: =CZ55*$F55 -> 0 | DC55: =DB55*$F55 -> 0 | DE55: =DD55*$F55 -> 0 | DG55: =DF55*$F55 -> 0 | DI55: =DH55*$F55 -> 0 | DK55: =DJ55*$F55 -> 0 | DM55: =DL55*$F55 -> 0 | DO55: =DN55*$F55 -> 0 | DQ55: =DP55*$F55 -> 0 | DS55: =DR55*$F55 -> 0 | DU55: =DT55*$F55 -> 0 | DW55: =DV55*$F55 -> 0 | DY55: =DX55*$F55 -> 0 | EA55: =DZ55*$F55 -> 0 | EC55: =EB55*$F55 -> 0 | EE55: =ED55*$F55 -> 0
A57: N3 | B57: Alvállalkozók | G57: =#VALUE! -> 0 | I57: =SUM(I58,I102:I109,I112:I117,I120,I123) -> 0 | K57: =SUM(K58,K102:K109,K112:K117,K120,K123) -> 0 | M57: =SUM(M58,M102:M109,M112:M117,M120,M123) -> 0 | O57: =SUM(O58,O102:O109,O112:O117,O120,O123) -> 0 | Q57: =SUM(Q58,Q102:Q109,Q112:Q117,Q120,Q123) -> 0 | S57: =SUM(S58,S102:S109,S112:S117,S120,S123) -> 0 | U57: =SUM(U58,U102:U109,U112:U117,U120,U123) -> 0 | W57: =SUM(W58,W102:W109,W112:W117,W120,W123) -> 0 | Y57: =SUM(Y58,Y102:Y109,Y112:Y117,Y120,Y123) -> 0 | AA57: =SUM(AA58,AA102:AA109,AA112:AA117,AA120,AA123) -> 0 | AC57: =SUM(AC58,AC102:AC109,AC112:AC117,AC120,AC123) -> 0 | AE57: =SUM(AE58,AE102:AE109,AE112:AE117,AE120,AE123) -> 0 | AG57: =SUM(AG58,AG102:AG109,AG112:AG117,AG120,AG123) -> 0 | AI57: =SUM(AI58,AI102:AI109,AI112:AI117,AI120,AI123) -> 0 | AK57: =SUM(AK58,AK102:AK109,AK112:AK117,AK120,AK123) -> 0 | AM57: =SUM(AM58,AM102:AM109,AM112:AM117,AM120,AM123) -> 0 | AO57: =SUM(AO58,AO102:AO109,AO112:AO117,AO120,AO123) -> 0 | AQ57: =SUM(AQ58,AQ102:AQ109,AQ112:AQ117,AQ120,AQ123) -> 0 | AS57: =SUM(AS58,AS102:AS109,AS112:AS117,AS120,AS123) -> 0 | AU57: =SUM(AU58,AU102:AU109,AU112:AU117,AU120,AU123) -> 0 | AW57: =SUM(AW58,AW102:AW109,AW112:AW117,AW120,AW123) -> 0 | AY57: =SUM(AY58,AY102:AY109,AY112:AY117,AY120,AY123) -> 0 | BA57: =SUM(BA58,BA102:BA109,BA112:BA117,BA120,BA123) -> 0 | BC57: =SUM(BC58,BC102:BC109,BC112:BC117,BC120,BC123) -> 0 | BE57: =SUM(BE58,BE102:BE109,BE112:BE117,BE120,BE123) -> 0 | BG57: =SUM(BG58,BG102:BG109,BG112:BG117,BG120,BG123) -> 0 | BI57: =SUM(BI58,BI102:BI109,BI112:BI117,BI120,BI123) -> 0 | BK57: =SUM(BK58,BK102:BK109,BK112:BK117,BK120,BK123) -> 0 | BM57: =SUM(BM58,BM102:BM109,BM112:BM117,BM120,BM123) -> 0 | BO57: =SUM(BO58,BO102:BO109,BO112:BO117,BO120,BO123) -> 0 | BQ57: =SUM(BQ58,BQ102:BQ109,BQ112:BQ117,BQ120,BQ123) -> 0 | BS57: =SUM(BS58,BS102:BS109,BS112:BS117,BS120,BS123) -> 0 | BU57: =SUM(BU58,BU102:BU109,BU112:BU117,BU120,BU123) -> 0 | BW57: =SUM(BW58,BW102:BW109,BW112:BW117,BW120,BW123) -> 0 | BY57: =SUM(BY58,BY102:BY109,BY112:BY117,BY120,BY123) -> 0 | CA57: =SUM(CA58,CA102:CA109,CA112:CA117,CA120,CA123) -> 0 | CC57: =SUM(CC58,CC102:CC109,CC112:CC117,CC120,CC123) -> 0 | CE57: =SUM(CE58,CE102:CE109,CE112:CE117,CE120,CE123) -> 0 | CG57: =SUM(CG58,CG102:CG109,CG112:CG117,CG120,CG123) -> 0 | CI57: =SUM(CI58,CI102:CI109,CI112:CI117,CI120,CI123) -> 0 | CK57: =SUM(CK58,CK102:CK109,CK112:CK117,CK120,CK123) -> 0 | CM57: =SUM(CM58,CM102:CM109,CM112:CM117,CM120,CM123) -> 0 | CO57: =SUM(CO58,CO102:CO109,CO112:CO117,CO120,CO123) -> 0 | CQ57: =SUM(CQ58,CQ102:CQ109,CQ112:CQ117,CQ120,CQ123) -> 0 | CS57: =SUM(CS58,CS102:CS109,CS112:CS117,CS120,CS123) -> 0 | CU57: =SUM(CU58,CU102:CU109,CU112:CU117,CU120,CU123) -> 0 | CW57: =SUM(CW58,CW102:CW109,CW112:CW117,CW120,CW123) -> 0 | CY57: =SUM(CY58,CY102:CY109,CY112:CY117,CY120,CY123) -> 0 | DA57: =SUM(DA58,DA102:DA109,DA112:DA117,DA120,DA123) -> 0 | DC57: =SUM(DC58,DC102:DC109,DC112:DC117,DC120,DC123) -> 0 | DE57: =SUM(DE58,DE102:DE109,DE112:DE117,DE120,DE123) -> 0 | DG57: =SUM(DG58,DG102:DG109,DG112:DG117,DG120,DG123) -> 0 | DI57: =SUM(DI58,DI102:DI109,DI112:DI117,DI120,DI123) -> 0 | DK57: =SUM(DK58,DK102:DK109,DK112:DK117,DK120,DK123) -> 0 | DM57: =SUM(DM58,DM102:DM109,DM112:DM117,DM120,DM123) -> 0 | DO57: =SUM(DO58,DO102:DO109,DO112:DO117,DO120,DO123) -> 0 | DQ57: =SUM(DQ58,DQ102:DQ109,DQ112:DQ117,DQ120,DQ123) -> 0 | DS57: =SUM(DS58,DS102:DS109,DS112:DS117,DS120,DS123) -> 0 | DU57: =SUM(DU58,DU102:DU109,DU112:DU117,DU120,DU123) -> 0 | DW57: =SUM(DW58,DW102:DW109,DW112:DW117,DW120,DW123) -> 0 | DY57: =SUM(DY58,DY102:DY109,DY112:DY117,DY120,DY123) -> 0 | EA57: =SUM(EA58,EA102:EA109,EA112:EA117,EA120,EA123) -> 0 | EC57: =SUM(EC58,EC102:EC109,EC112:EC117,EC120,EC123) -> 0 | EE57: =SUM(EE58,EE102:EE109,EE112:EE117,EE120,EE123) -> 0
C58: 31 | D58: Szerkezetépítés | G58: =#VALUE! -> 0 | I58: =SUM(I59:I101) -> 0 | K58: =SUM(K59:K101) -> 0 | M58: =SUM(M59:M101) -> 0 | O58: =SUM(O59:O101) -> 0 | Q58: =SUM(Q59:Q101) -> 0 | S58: =SUM(S59:S101) -> 0 | U58: =SUM(U59:U101) -> 0 | W58: =SUM(W59:W101) -> 0 | Y58: =SUM(Y59:Y101) -> 0 | AA58: =SUM(AA59:AA101) -> 0 | AC58: =SUM(AC59:AC101) -> 0 | AE58: =SUM(AE59:AE101) -> 0 | AG58: =SUM(AG59:AG101) -> 0 | AI58: =SUM(AI59:AI101) -> 0 | AK58: =SUM(AK59:AK101) -> 0 | AM58: =SUM(AM59:AM101) -> 0 | AO58: =SUM(AO59:AO101) -> 0 | AQ58: =SUM(AQ59:AQ101) -> 0 | AS58: =SUM(AS59:AS101) -> 0 | AU58: =SUM(AU59:AU101) -> 0 | AW58: =SUM(AW59:AW101) -> 0 | AY58: =SUM(AY59:AY101) -> 0 | BA58: =SUM(BA59:BA101) -> 0 | BC58: =SUM(BC59:BC101) -> 0 | BE58: =SUM(BE59:BE101) -> 0 | BG58: =SUM(BG59:BG101) -> 0 | BI58: =SUM(BI59:BI101) -> 0 | BK58: =SUM(BK59:BK101) -> 0 | BM58: =SUM(BM59:BM101) -> 0 | BO58: =SUM(BO59:BO101) -> 0 | BQ58: =SUM(BQ59:BQ101) -> 0 | BS58: =SUM(BS59:BS101) -> 0 | BU58: =SUM(BU59:BU101) -> 0 | BW58: =SUM(BW59:BW101) -> 0 | BY58: =SUM(BY59:BY101) -> 0 | CA58: =SUM(CA59:CA101) -> 0 | CC58: =SUM(CC59:CC101) -> 0 | CE58: =SUM(CE59:CE101) -> 0 | CG58: =SUM(CG59:CG101) -> 0 | CI58: =SUM(CI59:CI101) -> 0 | CK58: =SUM(CK59:CK101) -> 0 | CM58: =SUM(CM59:CM101) -> 0 | CO58: =SUM(CO59:CO101) -> 0 | CQ58: =SUM(CQ59:CQ101) -> 0 | CS58: =SUM(CS59:CS101) -> 0 | CU58: =SUM(CU59:CU101) -> 0 | CW58: =SUM(CW59:CW101) -> 0 | CY58: =SUM(CY59:CY101) -> 0 | DA58: =SUM(DA59:DA101) -> 0 | DC58: =SUM(DC59:DC101) -> 0 | DE58: =SUM(DE59:DE101) -> 0 | DG58: =SUM(DG59:DG101) -> 0 | DI58: =SUM(DI59:DI101) -> 0 | DK58: =SUM(DK59:DK101) -> 0 | DM58: =SUM(DM59:DM101) -> 0 | DO58: =SUM(DO59:DO101) -> 0 | DQ58: =SUM(DQ59:DQ101) -> 0 | DS58: =SUM(DS59:DS101) -> 0 | DU58: =SUM(DU59:DU101) -> 0 | DW58: =SUM(DW59:DW101) -> 0 | DY58: =SUM(DY59:DY101) -> 0 | EA58: =SUM(EA59:EA101) -> 0 | EC58: =SUM(EC59:EC101) -> 0 | EE58: =SUM(EE59:EE101) -> 0
D59: 2. sz. fogadóakna B&N építés | E59: db | G59: =#VALUE! -> 0 | I59: =H59*$F59 -> 0 | K59: =J59*$F59 -> 0 | M59: =L59*$F59 -> 0 | O59: =N59*$F59 -> 0 | Q59: =P59*$F59 -> 0 | S59: =R59*$F59 -> 0 | U59: =T59*$F59 -> 0 | W59: =V59*$F59 -> 0 | Y59: =X59*$F59 -> 0 | AA59: =Z59*$F59 -> 0 | AC59: =AB59*$F59 -> 0 | AE59: =AD59*$F59 -> 0 | AG59: =AF59*$F59 -> 0 | AI59: =AH59*$F59 -> 0 | AK59: =AJ59*$F59 -> 0 | AM59: =AL59*$F59 -> 0 | AO59: =AN59*$F59 -> 0 | AQ59: =AP59*$F59 -> 0 | AS59: =AR59*$F59 -> 0 | AU59: =AT59*$F59 -> 0 | AW59: =AV59*$F59 -> 0 | AY59: =AX59*$F59 -> 0 | BA59: =AZ59*$F59 -> 0 | BC59: =BB59*$F59 -> 0 | BE59: =BD59*$F59 -> 0 | BG59: =BF59*$F59 -> 0 | BI59: =BH59*$F59 -> 0 | BK59: =BJ59*$F59 -> 0 | BM59: =BL59*$F59 -> 0 | BO59: =BN59*$F59 -> 0 | BQ59: =BP59*$F59 -> 0 | BS59: =BR59*$F59 -> 0 | BU59: =BT59*$F59 -> 0 | BW59: =BV59*$F59 -> 0 | BY59: =BX59*$F59 -> 0 | CA59: =BZ59*$F59 -> 0 | CC59: =CB59*$F59 -> 0 | CE59: =CD59*$F59 -> 0 | CG59: =CF59*$F59 -> 0 | CI59: =CH59*$F59 -> 0 | CK59: =CJ59*$F59 -> 0 | CM59: =CL59*$F59 -> 0 | CO59: =CN59*$F59 -> 0 | CQ59: =CP59*$F59 -> 0 | CS59: =CR59*$F59 -> 0 | CU59: =CT59*$F59 -> 0 | CW59: =CV59*$F59 -> 0 | CY59: =CX59*$F59 -> 0 | DA59: =CZ59*$F59 -> 0 | DC59: =DB59*$F59 -> 0 | DE59: =DD59*$F59 -> 0 | DG59: =DF59*$F59 -> 0 | DI59: =DH59*$F59 -> 0 | DK59: =DJ59*$F59 -> 0 | DM59: =DL59*$F59 -> 0 | DO59: =DN59*$F59 -> 0 | DQ59: =DP59*$F59 -> 0 | DS59: =DR59*$F59 -> 0 | DU59: =DT59*$F59 -> 0 | DW59: =DV59*$F59 -> 0 | DY59: =DX59*$F59 -> 0 | EA59: =DZ59*$F59 -> 0 | EC59: =EB59*$F59 -> 0 | EE59: =ED59*$F59 -> 0
D60: 2. sz. indítóakna B&N építés | E60: db | G60: =#VALUE! -> 0 | I60: =H60*$F60 -> 0 | K60: =J60*$F60 -> 0 | M60: =L60*$F60 -> 0 | O60: =N60*$F60 -> 0 | Q60: =P60*$F60 -> 0 | S60: =R60*$F60 -> 0 | U60: =T60*$F60 -> 0 | W60: =V60*$F60 -> 0 | Y60: =X60*$F60 -> 0 | AA60: =Z60*$F60 -> 0 | AC60: =AB60*$F60 -> 0 | AE60: =AD60*$F60 -> 0 | AG60: =AF60*$F60 -> 0 | AI60: =AH60*$F60 -> 0 | AK60: =AJ60*$F60 -> 0 | AM60: =AL60*$F60 -> 0 | AO60: =AN60*$F60 -> 0 | AQ60: =AP60*$F60 -> 0 | AS60: =AR60*$F60 -> 0 | AU60: =AT60*$F60 -> 0 | AW60: =AV60*$F60 -> 0 | AY60: =AX60*$F60 -> 0 | BA60: =AZ60*$F60 -> 0 | BC60: =BB60*$F60 -> 0 | BE60: =BD60*$F60 -> 0 | BG60: =BF60*$F60 -> 0 | BI60: =BH60*$F60 -> 0 | BK60: =BJ60*$F60 -> 0 | BM60: =BL60*$F60 -> 0 | BO60: =BN60*$F60 -> 0 | BQ60: =BP60*$F60 -> 0 | BS60: =BR60*$F60 -> 0 | BU60: =BT60*$F60 -> 0 | BW60: =BV60*$F60 -> 0 | BY60: =BX60*$F60 -> 0 | CA60: =BZ60*$F60 -> 0 | CC60: =CB60*$F60 -> 0 | CE60: =CD60*$F60 -> 0 | CG60: =CF60*$F60 -> 0 | CI60: =CH60*$F60 -> 0 | CK60: =CJ60*$F60 -> 0 | CM60: =CL60*$F60 -> 0 | CO60: =CN60*$F60 -> 0 | CQ60: =CP60*$F60 -> 0 | CS60: =CR60*$F60 -> 0 | CU60: =CT60*$F60 -> 0 | CW60: =CV60*$F60 -> 0 | CY60: =CX60*$F60 -> 0 | DA60: =CZ60*$F60 -> 0 | DC60: =DB60*$F60 -> 0 | DE60: =DD60*$F60 -> 0 | DG60: =DF60*$F60 -> 0 | DI60: =DH60*$F60 -> 0 | DK60: =DJ60*$F60 -> 0 | DM60: =DL60*$F60 -> 0 | DO60: =DN60*$F60 -> 0 | DQ60: =DP60*$F60 -> 0 | DS60: =DR60*$F60 -> 0 | DU60: =DT60*$F60 -> 0 | DW60: =DV60*$F60 -> 0 | DY60: =DX60*$F60 -> 0 | EA60: =DZ60*$F60 -> 0 | EC60: =EB60*$F60 -> 0 | EE60: =ED60*$F60 -> 0
D61: 3. sz. fogadóakna B&N építés | E61: db | G61: =#VALUE! -> 0 | I61: =H61*$F61 -> 0 | K61: =J61*$F61 -> 0 | M61: =L61*$F61 -> 0 | O61: =N61*$F61 -> 0 | Q61: =P61*$F61 -> 0 | S61: =R61*$F61 -> 0 | U61: =T61*$F61 -> 0 | W61: =V61*$F61 -> 0 | Y61: =X61*$F61 -> 0 | AA61: =Z61*$F61 -> 0 | AC61: =AB61*$F61 -> 0 | AE61: =AD61*$F61 -> 0 | AG61: =AF61*$F61 -> 0 | AI61: =AH61*$F61 -> 0 | AK61: =AJ61*$F61 -> 0 | AM61: =AL61*$F61 -> 0 | AO61: =AN61*$F61 -> 0 | AQ61: =AP61*$F61 -> 0 | AS61: =AR61*$F61 -> 0 | AU61: =AT61*$F61 -> 0 | AW61: =AV61*$F61 -> 0 | AY61: =AX61*$F61 -> 0 | BA61: =AZ61*$F61 -> 0 | BC61: =BB61*$F61 -> 0 | BE61: =BD61*$F61 -> 0 | BG61: =BF61*$F61 -> 0 | BI61: =BH61*$F61 -> 0 | BK61: =BJ61*$F61 -> 0 | BM61: =BL61*$F61 -> 0 | BO61: =BN61*$F61 -> 0 | BQ61: =BP61*$F61 -> 0 | BS61: =BR61*$F61 -> 0 | BU61: =BT61*$F61 -> 0 | BW61: =BV61*$F61 -> 0 | BY61: =BX61*$F61 -> 0 | CA61: =BZ61*$F61 -> 0 | CC61: =CB61*$F61 -> 0 | CE61: =CD61*$F61 -> 0 | CG61: =CF61*$F61 -> 0 | CI61: =CH61*$F61 -> 0 | CK61: =CJ61*$F61 -> 0 | CM61: =CL61*$F61 -> 0 | CO61: =CN61*$F61 -> 0 | CQ61: =CP61*$F61 -> 0 | CS61: =CR61*$F61 -> 0 | CU61: =CT61*$F61 -> 0 | CW61: =CV61*$F61 -> 0 | CY61: =CX61*$F61 -> 0 | DA61: =CZ61*$F61 -> 0 | DC61: =DB61*$F61 -> 0 | DE61: =DD61*$F61 -> 0 | DG61: =DF61*$F61 -> 0 | DI61: =DH61*$F61 -> 0 | DK61: =DJ61*$F61 -> 0 | DM61: =DL61*$F61 -> 0 | DO61: =DN61*$F61 -> 0 | DQ61: =DP61*$F61 -> 0 | DS61: =DR61*$F61 -> 0 | DU61: =DT61*$F61 -> 0 | DW61: =DV61*$F61 -> 0 | DY61: =DX61*$F61 -> 0 | EA61: =DZ61*$F61 -> 0 | EC61: =EB61*$F61 -> 0 | EE61: =ED61*$F61 -> 0
D62: 3. sz. indítóakna B&N építés | E62: db | G62: =#VALUE! -> 0 | I62: =H62*$F62 -> 0 | K62: =J62*$F62 -> 0 | M62: =L62*$F62 -> 0 | O62: =N62*$F62 -> 0 | Q62: =P62*$F62 -> 0 | S62: =R62*$F62 -> 0 | U62: =T62*$F62 -> 0 | W62: =V62*$F62 -> 0 | Y62: =X62*$F62 -> 0 | AA62: =Z62*$F62 -> 0 | AC62: =AB62*$F62 -> 0 | AE62: =AD62*$F62 -> 0 | AG62: =AF62*$F62 -> 0 | AI62: =AH62*$F62 -> 0 | AK62: =AJ62*$F62 -> 0 | AM62: =AL62*$F62 -> 0 | AO62: =AN62*$F62 -> 0 | AQ62: =AP62*$F62 -> 0 | AS62: =AR62*$F62 -> 0 | AU62: =AT62*$F62 -> 0 | AW62: =AV62*$F62 -> 0 | AY62: =AX62*$F62 -> 0 | BA62: =AZ62*$F62 -> 0 | BC62: =BB62*$F62 -> 0 | BE62: =BD62*$F62 -> 0 | BG62: =BF62*$F62 -> 0 | BI62: =BH62*$F62 -> 0 | BK62: =BJ62*$F62 -> 0 | BM62: =BL62*$F62 -> 0 | BO62: =BN62*$F62 -> 0 | BQ62: =BP62*$F62 -> 0 | BS62: =BR62*$F62 -> 0 | BU62: =BT62*$F62 -> 0 | BW62: =BV62*$F62 -> 0 | BY62: =BX62*$F62 -> 0 | CA62: =BZ62*$F62 -> 0 | CC62: =CB62*$F62 -> 0 | CE62: =CD62*$F62 -> 0 | CG62: =CF62*$F62 -> 0 | CI62: =CH62*$F62 -> 0 | CK62: =CJ62*$F62 -> 0 | CM62: =CL62*$F62 -> 0 | CO62: =CN62*$F62 -> 0 | CQ62: =CP62*$F62 -> 0 | CS62: =CR62*$F62 -> 0 | CU62: =CT62*$F62 -> 0 | CW62: =CV62*$F62 -> 0 | CY62: =CX62*$F62 -> 0 | DA62: =CZ62*$F62 -> 0 | DC62: =DB62*$F62 -> 0 | DE62: =DD62*$F62 -> 0 | DG62: =DF62*$F62 -> 0 | DI62: =DH62*$F62 -> 0 | DK62: =DJ62*$F62 -> 0 | DM62: =DL62*$F62 -> 0 | DO62: =DN62*$F62 -> 0 | DQ62: =DP62*$F62 -> 0 | DS62: =DR62*$F62 -> 0 | DU62: =DT62*$F62 -> 0 | DW62: =DV62*$F62 -> 0 | DY62: =DX62*$F62 -> 0 | EA62: =DZ62*$F62 -> 0 | EC62: =EB62*$F62 -> 0 | EE62: =ED62*$F62 -> 0
D63: 4. sz. fogadóakna B&N építés | E63: db | G63: =#VALUE! -> 0 | I63: =H63*$F63 -> 0 | K63: =J63*$F63 -> 0 | M63: =L63*$F63 -> 0 | O63: =N63*$F63 -> 0 | Q63: =P63*$F63 -> 0 | S63: =R63*$F63 -> 0 | U63: =T63*$F63 -> 0 | W63: =V63*$F63 -> 0 | Y63: =X63*$F63 -> 0 | AA63: =Z63*$F63 -> 0 | AC63: =AB63*$F63 -> 0 | AE63: =AD63*$F63 -> 0 | AG63: =AF63*$F63 -> 0 | AI63: =AH63*$F63 -> 0 | AK63: =AJ63*$F63 -> 0 | AM63: =AL63*$F63 -> 0 | AO63: =AN63*$F63 -> 0 | AQ63: =AP63*$F63 -> 0 | AS63: =AR63*$F63 -> 0 | AU63: =AT63*$F63 -> 0 | AW63: =AV63*$F63 -> 0 | AY63: =AX63*$F63 -> 0 | BA63: =AZ63*$F63 -> 0 | BC63: =BB63*$F63 -> 0 | BE63: =BD63*$F63 -> 0 | BG63: =BF63*$F63 -> 0 | BI63: =BH63*$F63 -> 0 | BK63: =BJ63*$F63 -> 0 | BM63: =BL63*$F63 -> 0 | BO63: =BN63*$F63 -> 0 | BQ63: =BP63*$F63 -> 0 | BS63: =BR63*$F63 -> 0 | BU63: =BT63*$F63 -> 0 | BW63: =BV63*$F63 -> 0 | BY63: =BX63*$F63 -> 0 | CA63: =BZ63*$F63 -> 0 | CC63: =CB63*$F63 -> 0 | CE63: =CD63*$F63 -> 0 | CG63: =CF63*$F63 -> 0 | CI63: =CH63*$F63 -> 0 | CK63: =CJ63*$F63 -> 0 | CM63: =CL63*$F63 -> 0 | CO63: =CN63*$F63 -> 0 | CQ63: =CP63*$F63 -> 0 | CS63: =CR63*$F63 -> 0 | CU63: =CT63*$F63 -> 0 | CW63: =CV63*$F63 -> 0 | CY63: =CX63*$F63 -> 0 | DA63: =CZ63*$F63 -> 0 | DC63: =DB63*$F63 -> 0 | DE63: =DD63*$F63 -> 0 | DG63: =DF63*$F63 -> 0 | DI63: =DH63*$F63 -> 0 | DK63: =DJ63*$F63 -> 0 | DM63: =DL63*$F63 -> 0 | DO63: =DN63*$F63 -> 0 | DQ63: =DP63*$F63 -> 0 | DS63: =DR63*$F63 -> 0 | DU63: =DT63*$F63 -> 0 | DW63: =DV63*$F63 -> 0 | DY63: =DX63*$F63 -> 0 | EA63: =DZ63*$F63 -> 0 | EC63: =EB63*$F63 -> 0 | EE63: =ED63*$F63 -> 0
D64: 4. sz. fogadóakna B&N felszámolás | E64: db | G64: =#VALUE! -> 0 | I64: =H64*$F64 -> 0 | K64: =J64*$F64 -> 0 | M64: =L64*$F64 -> 0 | O64: =N64*$F64 -> 0 | Q64: =P64*$F64 -> 0 | S64: =R64*$F64 -> 0 | U64: =T64*$F64 -> 0 | W64: =V64*$F64 -> 0 | Y64: =X64*$F64 -> 0 | AA64: =Z64*$F64 -> 0 | AC64: =AB64*$F64 -> 0 | AE64: =AD64*$F64 -> 0 | AG64: =AF64*$F64 -> 0 | AI64: =AH64*$F64 -> 0 | AK64: =AJ64*$F64 -> 0 | AM64: =AL64*$F64 -> 0 | AO64: =AN64*$F64 -> 0 | AQ64: =AP64*$F64 -> 0 | AS64: =AR64*$F64 -> 0 | AU64: =AT64*$F64 -> 0 | AW64: =AV64*$F64 -> 0 | AY64: =AX64*$F64 -> 0 | BA64: =AZ64*$F64 -> 0 | BC64: =BB64*$F64 -> 0 | BE64: =BD64*$F64 -> 0 | BG64: =BF64*$F64 -> 0 | BI64: =BH64*$F64 -> 0 | BK64: =BJ64*$F64 -> 0 | BM64: =BL64*$F64 -> 0 | BO64: =BN64*$F64 -> 0 | BQ64: =BP64*$F64 -> 0 | BS64: =BR64*$F64 -> 0 | BU64: =BT64*$F64 -> 0 | BW64: =BV64*$F64 -> 0 | BY64: =BX64*$F64 -> 0 | CA64: =BZ64*$F64 -> 0 | CC64: =CB64*$F64 -> 0 | CE64: =CD64*$F64 -> 0 | CG64: =CF64*$F64 -> 0 | CI64: =CH64*$F64 -> 0 | CK64: =CJ64*$F64 -> 0 | CM64: =CL64*$F64 -> 0 | CO64: =CN64*$F64 -> 0 | CQ64: =CP64*$F64 -> 0 | CS64: =CR64*$F64 -> 0 | CU64: =CT64*$F64 -> 0 | CW64: =CV64*$F64 -> 0 | CY64: =CX64*$F64 -> 0 | DA64: =CZ64*$F64 -> 0 | DC64: =DB64*$F64 -> 0 | DE64: =DD64*$F64 -> 0 | DG64: =DF64*$F64 -> 0 | DI64: =DH64*$F64 -> 0 | DK64: =DJ64*$F64 -> 0 | DM64: =DL64*$F64 -> 0 | DO64: =DN64*$F64 -> 0 | DQ64: =DP64*$F64 -> 0 | DS64: =DR64*$F64 -> 0 | DU64: =DT64*$F64 -> 0 | DW64: =DV64*$F64 -> 0 | DY64: =DX64*$F64 -> 0 | EA64: =DZ64*$F64 -> 0 | EC64: =EB64*$F64 -> 0 | EE64: =ED64*$F64 -> 0
D65: 5. sz. indítóakna B&N építés | E65: db | G65: =#VALUE! -> 0 | I65: =H65*$F65 -> 0 | K65: =J65*$F65 -> 0 | M65: =L65*$F65 -> 0 | O65: =N65*$F65 -> 0 | Q65: =P65*$F65 -> 0 | S65: =R65*$F65 -> 0 | U65: =T65*$F65 -> 0 | W65: =V65*$F65 -> 0 | Y65: =X65*$F65 -> 0 | AA65: =Z65*$F65 -> 0 | AC65: =AB65*$F65 -> 0 | AE65: =AD65*$F65 -> 0 | AG65: =AF65*$F65 -> 0 | AI65: =AH65*$F65 -> 0 | AK65: =AJ65*$F65 -> 0 | AM65: =AL65*$F65 -> 0 | AO65: =AN65*$F65 -> 0 | AQ65: =AP65*$F65 -> 0 | AS65: =AR65*$F65 -> 0 | AU65: =AT65*$F65 -> 0 | AW65: =AV65*$F65 -> 0 | AY65: =AX65*$F65 -> 0 | BA65: =AZ65*$F65 -> 0 | BC65: =BB65*$F65 -> 0 | BE65: =BD65*$F65 -> 0 | BG65: =BF65*$F65 -> 0 | BI65: =BH65*$F65 -> 0 | BK65: =BJ65*$F65 -> 0 | BM65: =BL65*$F65 -> 0 | BO65: =BN65*$F65 -> 0 | BQ65: =BP65*$F65 -> 0 | BS65: =BR65*$F65 -> 0 | BU65: =BT65*$F65 -> 0 | BW65: =BV65*$F65 -> 0 | BY65: =BX65*$F65 -> 0 | CA65: =BZ65*$F65 -> 0 | CC65: =CB65*$F65 -> 0 | CE65: =CD65*$F65 -> 0 | CG65: =CF65*$F65 -> 0 | CI65: =CH65*$F65 -> 0 | CK65: =CJ65*$F65 -> 0 | CM65: =CL65*$F65 -> 0 | CO65: =CN65*$F65 -> 0 | CQ65: =CP65*$F65 -> 0 | CS65: =CR65*$F65 -> 0 | CU65: =CT65*$F65 -> 0 | CW65: =CV65*$F65 -> 0 | CY65: =CX65*$F65 -> 0 | DA65: =CZ65*$F65 -> 0 | DC65: =DB65*$F65 -> 0 | DE65: =DD65*$F65 -> 0 | DG65: =DF65*$F65 -> 0 | DI65: =DH65*$F65 -> 0 | DK65: =DJ65*$F65 -> 0 | DM65: =DL65*$F65 -> 0 | DO65: =DN65*$F65 -> 0 | DQ65: =DP65*$F65 -> 0 | DS65: =DR65*$F65 -> 0 | DU65: =DT65*$F65 -> 0 | DW65: =DV65*$F65 -> 0 | DY65: =DX65*$F65 -> 0 | EA65: =DZ65*$F65 -> 0 | EC65: =EB65*$F65 -> 0 | EE65: =ED65*$F65 -> 0
D66: 6. sz. fogadóakna B&N építés | E66: db | G66: =#VALUE! -> 0 | I66: =H66*$F66 -> 0 | K66: =J66*$F66 -> 0 | M66: =L66*$F66 -> 0 | O66: =N66*$F66 -> 0 | Q66: =P66*$F66 -> 0 | S66: =R66*$F66 -> 0 | U66: =T66*$F66 -> 0 | W66: =V66*$F66 -> 0 | Y66: =X66*$F66 -> 0 | AA66: =Z66*$F66 -> 0 | AC66: =AB66*$F66 -> 0 | AE66: =AD66*$F66 -> 0 | AG66: =AF66*$F66 -> 0 | AI66: =AH66*$F66 -> 0 | AK66: =AJ66*$F66 -> 0 | AM66: =AL66*$F66 -> 0 | AO66: =AN66*$F66 -> 0 | AQ66: =AP66*$F66 -> 0 | AS66: =AR66*$F66 -> 0 | AU66: =AT66*$F66 -> 0 | AW66: =AV66*$F66 -> 0 | AY66: =AX66*$F66 -> 0 | BA66: =AZ66*$F66 -> 0 | BC66: =BB66*$F66 -> 0 | BE66: =BD66*$F66 -> 0 | BG66: =BF66*$F66 -> 0 | BI66: =BH66*$F66 -> 0 | BK66: =BJ66*$F66 -> 0 | BM66: =BL66*$F66 -> 0 | BO66: =BN66*$F66 -> 0 | BQ66: =BP66*$F66 -> 0 | BS66: =BR66*$F66 -> 0 | BU66: =BT66*$F66 -> 0 | BW66: =BV66*$F66 -> 0 | BY66: =BX66*$F66 -> 0 | CA66: =BZ66*$F66 -> 0 | CC66: =CB66*$F66 -> 0 | CE66: =CD66*$F66 -> 0 | CG66: =CF66*$F66 -> 0 | CI66: =CH66*$F66 -> 0 | CK66: =CJ66*$F66 -> 0 | CM66: =CL66*$F66 -> 0 | CO66: =CN66*$F66 -> 0 | CQ66: =CP66*$F66 -> 0 | CS66: =CR66*$F66 -> 0 | CU66: =CT66*$F66 -> 0 | CW66: =CV66*$F66 -> 0 | CY66: =CX66*$F66 -> 0 | DA66: =CZ66*$F66 -> 0 | DC66: =DB66*$F66 -> 0 | DE66: =DD66*$F66 -> 0 | DG66: =DF66*$F66 -> 0 | DI66: =DH66*$F66 -> 0 | DK66: =DJ66*$F66 -> 0 | DM66: =DL66*$F66 -> 0 | DO66: =DN66*$F66 -> 0 | DQ66: =DP66*$F66 -> 0 | DS66: =DR66*$F66 -> 0 | DU66: =DT66*$F66 -> 0 | DW66: =DV66*$F66 -> 0 | DY66: =DX66*$F66 -> 0 | EA66: =DZ66*$F66 -> 0 | EC66: =EB66*$F66 -> 0 | EE66: =ED66*$F66 -> 0
D67: 6. sz. indítóakna B&N építés | E67: db | G67: =#VALUE! -> 0 | I67: =H67*$F67 -> 0 | K67: =J67*$F67 -> 0 | M67: =L67*$F67 -> 0 | O67: =N67*$F67 -> 0 | Q67: =P67*$F67 -> 0 | S67: =R67*$F67 -> 0 | U67: =T67*$F67 -> 0 | W67: =V67*$F67 -> 0 | Y67: =X67*$F67 -> 0 | AA67: =Z67*$F67 -> 0 | AC67: =AB67*$F67 -> 0 | AE67: =AD67*$F67 -> 0 | AG67: =AF67*$F67 -> 0 | AI67: =AH67*$F67 -> 0 | AK67: =AJ67*$F67 -> 0 | AM67: =AL67*$F67 -> 0 | AO67: =AN67*$F67 -> 0 | AQ67: =AP67*$F67 -> 0 | AS67: =AR67*$F67 -> 0 | AU67: =AT67*$F67 -> 0 | AW67: =AV67*$F67 -> 0 | AY67: =AX67*$F67 -> 0 | BA67: =AZ67*$F67 -> 0 | BC67: =BB67*$F67 -> 0 | BE67: =BD67*$F67 -> 0 | BG67: =BF67*$F67 -> 0 | BI67: =BH67*$F67 -> 0 | BK67: =BJ67*$F67 -> 0 | BM67: =BL67*$F67 -> 0 | BO67: =BN67*$F67 -> 0 | BQ67: =BP67*$F67 -> 0 | BS67: =BR67*$F67 -> 0 | BU67: =BT67*$F67 -> 0 | BW67: =BV67*$F67 -> 0 | BY67: =BX67*$F67 -> 0 | CA67: =BZ67*$F67 -> 0 | CC67: =CB67*$F67 -> 0 | CE67: =CD67*$F67 -> 0 | CG67: =CF67*$F67 -> 0 | CI67: =CH67*$F67 -> 0 | CK67: =CJ67*$F67 -> 0 | CM67: =CL67*$F67 -> 0 | CO67: =CN67*$F67 -> 0 | CQ67: =CP67*$F67 -> 0 | CS67: =CR67*$F67 -> 0 | CU67: =CT67*$F67 -> 0 | CW67: =CV67*$F67 -> 0 | CY67: =CX67*$F67 -> 0 | DA67: =CZ67*$F67 -> 0 | DC67: =DB67*$F67 -> 0 | DE67: =DD67*$F67 -> 0 | DG67: =DF67*$F67 -> 0 | DI67: =DH67*$F67 -> 0 | DK67: =DJ67*$F67 -> 0 | DM67: =DL67*$F67 -> 0 | DO67: =DN67*$F67 -> 0 | DQ67: =DP67*$F67 -> 0 | DS67: =DR67*$F67 -> 0 | DU67: =DT67*$F67 -> 0 | DW67: =DV67*$F67 -> 0 | DY67: =DX67*$F67 -> 0 | EA67: =DZ67*$F67 -> 0 | EC67: =EB67*$F67 -> 0 | EE67: =ED67*$F67 -> 0
D68: 7. sz. indítóakna B&N építés | E68: db | G68: =#VALUE! -> 0 | I68: =H68*$F68 -> 0 | K68: =J68*$F68 -> 0 | M68: =L68*$F68 -> 0 | O68: =N68*$F68 -> 0 | Q68: =P68*$F68 -> 0 | S68: =R68*$F68 -> 0 | U68: =T68*$F68 -> 0 | W68: =V68*$F68 -> 0 | Y68: =X68*$F68 -> 0 | AA68: =Z68*$F68 -> 0 | AC68: =AB68*$F68 -> 0 | AE68: =AD68*$F68 -> 0 | AG68: =AF68*$F68 -> 0 | AI68: =AH68*$F68 -> 0 | AK68: =AJ68*$F68 -> 0 | AM68: =AL68*$F68 -> 0 | AO68: =AN68*$F68 -> 0 | AQ68: =AP68*$F68 -> 0 | AS68: =AR68*$F68 -> 0 | AU68: =AT68*$F68 -> 0 | AW68: =AV68*$F68 -> 0 | AY68: =AX68*$F68 -> 0 | BA68: =AZ68*$F68 -> 0 | BC68: =BB68*$F68 -> 0 | BE68: =BD68*$F68 -> 0 | BG68: =BF68*$F68 -> 0 | BI68: =BH68*$F68 -> 0 | BK68: =BJ68*$F68 -> 0 | BM68: =BL68*$F68 -> 0 | BO68: =BN68*$F68 -> 0 | BQ68: =BP68*$F68 -> 0 | BS68: =BR68*$F68 -> 0 | BU68: =BT68*$F68 -> 0 | BW68: =BV68*$F68 -> 0 | BY68: =BX68*$F68 -> 0 | CA68: =BZ68*$F68 -> 0 | CC68: =CB68*$F68 -> 0 | CE68: =CD68*$F68 -> 0 | CG68: =CF68*$F68 -> 0 | CI68: =CH68*$F68 -> 0 | CK68: =CJ68*$F68 -> 0 | CM68: =CL68*$F68 -> 0 | CO68: =CN68*$F68 -> 0 | CQ68: =CP68*$F68 -> 0 | CS68: =CR68*$F68 -> 0 | CU68: =CT68*$F68 -> 0 | CW68: =CV68*$F68 -> 0 | CY68: =CX68*$F68 -> 0 | DA68: =CZ68*$F68 -> 0 | DC68: =DB68*$F68 -> 0 | DE68: =DD68*$F68 -> 0 | DG68: =DF68*$F68 -> 0 | DI68: =DH68*$F68 -> 0 | DK68: =DJ68*$F68 -> 0 | DM68: =DL68*$F68 -> 0 | DO68: =DN68*$F68 -> 0 | DQ68: =DP68*$F68 -> 0 | DS68: =DR68*$F68 -> 0 | DU68: =DT68*$F68 -> 0 | DW68: =DV68*$F68 -> 0 | DY68: =DX68*$F68 -> 0 | EA68: =DZ68*$F68 -> 0 | EC68: =EB68*$F68 -> 0 | EE68: =ED68*$F68 -> 0
D69: 7. sz. fogadóakna B&N építés | E69: db | G69: =#VALUE! -> 0 | I69: =H69*$F69 -> 0 | K69: =J69*$F69 -> 0 | M69: =L69*$F69 -> 0 | O69: =N69*$F69 -> 0 | Q69: =P69*$F69 -> 0 | S69: =R69*$F69 -> 0 | U69: =T69*$F69 -> 0 | W69: =V69*$F69 -> 0 | Y69: =X69*$F69 -> 0 | AA69: =Z69*$F69 -> 0 | AC69: =AB69*$F69 -> 0 | AE69: =AD69*$F69 -> 0 | AG69: =AF69*$F69 -> 0 | AI69: =AH69*$F69 -> 0 | AK69: =AJ69*$F69 -> 0 | AM69: =AL69*$F69 -> 0 | AO69: =AN69*$F69 -> 0 | AQ69: =AP69*$F69 -> 0 | AS69: =AR69*$F69 -> 0 | AU69: =AT69*$F69 -> 0 | AW69: =AV69*$F69 -> 0 | AY69: =AX69*$F69 -> 0 | BA69: =AZ69*$F69 -> 0 | BC69: =BB69*$F69 -> 0 | BE69: =BD69*$F69 -> 0 | BG69: =BF69*$F69 -> 0 | BI69: =BH69*$F69 -> 0 | BK69: =BJ69*$F69 -> 0 | BM69: =BL69*$F69 -> 0 | BO69: =BN69*$F69 -> 0 | BQ69: =BP69*$F69 -> 0 | BS69: =BR69*$F69 -> 0 | BU69: =BT69*$F69 -> 0 | BW69: =BV69*$F69 -> 0 | BY69: =BX69*$F69 -> 0 | CA69: =BZ69*$F69 -> 0 | CC69: =CB69*$F69 -> 0 | CE69: =CD69*$F69 -> 0 | CG69: =CF69*$F69 -> 0 | CI69: =CH69*$F69 -> 0 | CK69: =CJ69*$F69 -> 0 | CM69: =CL69*$F69 -> 0 | CO69: =CN69*$F69 -> 0 | CQ69: =CP69*$F69 -> 0 | CS69: =CR69*$F69 -> 0 | CU69: =CT69*$F69 -> 0 | CW69: =CV69*$F69 -> 0 | CY69: =CX69*$F69 -> 0 | DA69: =CZ69*$F69 -> 0 | DC69: =DB69*$F69 -> 0 | DE69: =DD69*$F69 -> 0 | DG69: =DF69*$F69 -> 0 | DI69: =DH69*$F69 -> 0 | DK69: =DJ69*$F69 -> 0 | DM69: =DL69*$F69 -> 0 | DO69: =DN69*$F69 -> 0 | DQ69: =DP69*$F69 -> 0 | DS69: =DR69*$F69 -> 0 | DU69: =DT69*$F69 -> 0 | DW69: =DV69*$F69 -> 0 | DY69: =DX69*$F69 -> 0 | EA69: =DZ69*$F69 -> 0 | EC69: =EB69*$F69 -> 0 | EE69: =ED69*$F69 -> 0
D70: 7. sz. fogadóakna B&N felszámolás | E70: db | G70: =#VALUE! -> 0 | I70: =H70*$F70 -> 0 | K70: =J70*$F70 -> 0 | M70: =L70*$F70 -> 0 | O70: =N70*$F70 -> 0 | Q70: =P70*$F70 -> 0 | S70: =R70*$F70 -> 0 | U70: =T70*$F70 -> 0 | W70: =V70*$F70 -> 0 | Y70: =X70*$F70 -> 0 | AA70: =Z70*$F70 -> 0 | AC70: =AB70*$F70 -> 0 | AE70: =AD70*$F70 -> 0 | AG70: =AF70*$F70 -> 0 | AI70: =AH70*$F70 -> 0 | AK70: =AJ70*$F70 -> 0 | AM70: =AL70*$F70 -> 0 | AO70: =AN70*$F70 -> 0 | AQ70: =AP70*$F70 -> 0 | AS70: =AR70*$F70 -> 0 | AU70: =AT70*$F70 -> 0 | AW70: =AV70*$F70 -> 0 | AY70: =AX70*$F70 -> 0 | BA70: =AZ70*$F70 -> 0 | BC70: =BB70*$F70 -> 0 | BE70: =BD70*$F70 -> 0 | BG70: =BF70*$F70 -> 0 | BI70: =BH70*$F70 -> 0 | BK70: =BJ70*$F70 -> 0 | BM70: =BL70*$F70 -> 0 | BO70: =BN70*$F70 -> 0 | BQ70: =BP70*$F70 -> 0 | BS70: =BR70*$F70 -> 0 | BU70: =BT70*$F70 -> 0 | BW70: =BV70*$F70 -> 0 | BY70: =BX70*$F70 -> 0 | CA70: =BZ70*$F70 -> 0 | CC70: =CB70*$F70 -> 0 | CE70: =CD70*$F70 -> 0 | CG70: =CF70*$F70 -> 0 | CI70: =CH70*$F70 -> 0 | CK70: =CJ70*$F70 -> 0 | CM70: =CL70*$F70 -> 0 | CO70: =CN70*$F70 -> 0 | CQ70: =CP70*$F70 -> 0 | CS70: =CR70*$F70 -> 0 | CU70: =CT70*$F70 -> 0 | CW70: =CV70*$F70 -> 0 | CY70: =CX70*$F70 -> 0 | DA70: =CZ70*$F70 -> 0 | DC70: =DB70*$F70 -> 0 | DE70: =DD70*$F70 -> 0 | DG70: =DF70*$F70 -> 0 | DI70: =DH70*$F70 -> 0 | DK70: =DJ70*$F70 -> 0 | DM70: =DL70*$F70 -> 0 | DO70: =DN70*$F70 -> 0 | DQ70: =DP70*$F70 -> 0 | DS70: =DR70*$F70 -> 0 | DU70: =DT70*$F70 -> 0 | DW70: =DV70*$F70 -> 0 | DY70: =DX70*$F70 -> 0 | EA70: =DZ70*$F70 -> 0 | EC70: =EB70*$F70 -> 0 | EE70: =ED70*$F70 -> 0
... D101: Bonex csőbehúzás | E101: fm | G101: =#VALUE! -> 0 | I101: =H101*$F101 -> 0 | K101: =J101*$F101 -> 0 | M101: =L101*$F101 -> 0 | O101: =N101*$F101 -> 0 | Q101: =P101*$F101 -> 0 | S101: =R101*$F101 -> 0 | U101: =T101*$F101 -> 0 | W101: =V101*$F101 -> 0 | Y101: =X101*$F101 -> 0 | AA101: =Z101*$F101 -> 0 | AC101: =AB101*$F101 -> 0 | AE101: =AD101*$F101 -> 0 | AG101: =AF101*$F101 -> 0 | AI101: =AH101*$F101 -> 0 | AK101: =AJ101*$F101 -> 0 | AM101: =AL101*$F101 -> 0 | AO101: =AN101*$F101 -> 0 | AQ101: =AP101*$F101 -> 0 | AS101: =AR101*$F101 -> 0 | AU101: =AT101*$F101 -> 0 | AW101: =AV101*$F101 -> 0 | AY101: =AX101*$F101 -> 0 | BA101: =AZ101*$F101 -> 0 | BC101: =BB101*$F101 -> 0 | BE101: =BD101*$F101 -> 0 | BG101: =BF101*$F101 -> 0 | BI101: =BH101*$F101 -> 0 | BK101: =BJ101*$F101 -> 0 | BM101: =BL101*$F101 -> 0 | BO101: =BN101*$F101 -> 0 | BQ101: =BP101*$F101 -> 0 | BS101: =BR101*$F101 -> 0 | BU101: =BT101*$F101 -> 0 | BW101: =BV101*$F101 -> 0 | BY101: =BX101*$F101 -> 0 | CA101: =BZ101*$F101 -> 0 | CC101: =CB101*$F101 -> 0 | CE101: =CD101*$F101 -> 0 | CG101: =CF101*$F101 -> 0 | CI101: =CH101*$F101 -> 0 | CK101: =CJ101*$F101 -> 0 | CM101: =CL101*$F101 -> 0 | CO101: =CN101*$F101 -> 0 | CQ101: =CP101*$F101 -> 0 | CS101: =CR101*$F101 -> 0 | CU101: =CT101*$F101 -> 0 | CW101: =CV101*$F101 -> 0 | CY101: =CX101*$F101 -> 0 | DA101: =CZ101*$F101 -> 0 | DC101: =DB101*$F101 -> 0 | DE101: =DD101*$F101 -> 0 | DG101: =DF101*$F101 -> 0 | DI101: =DH101*$F101 -> 0 | DK101: =DJ101*$F101 -> 0 | DM101: =DL101*$F101 -> 0 | DO101: =DN101*$F101 -> 0 | DQ101: =DP101*$F101 -> 0 | DS101: =DR101*$F101 -> 0 | DU101: =DT101*$F101 -> 0 | DW101: =DV101*$F101 -> 0 | DY101: =DX101*$F101 -> 0 | EA101: =DZ101*$F101 -> 0 | EC101: =EB101*$F101 -> 0 | EE101: =ED101*$F101 -> 0
C102: 32 | D102: Ivóvízvezeték fektetés | G102: =#VALUE! -> 0 | I102: =H102*$F102 -> 0 | K102: =J102*$F102 -> 0 | M102: =L102*$F102 -> 0 | O102: =N102*$F102 -> 0 | Q102: =P102*$F102 -> 0 | S102: =R102*$F102 -> 0 | U102: =T102*$F102 -> 0 | W102: =V102*$F102 -> 0 | Y102: =X102*$F102 -> 0 | AA102: =Z102*$F102 -> 0 | AC102: =AB102*$F102 -> 0 | AE102: =AD102*$F102 -> 0 | AG102: =AF102*$F102 -> 0 | AI102: =AH102*$F102 -> 0 | AK102: =AJ102*$F102 -> 0 | AM102: =AL102*$F102 -> 0 | AO102: =AN102*$F102 -> 0 | AQ102: =AP102*$F102 -> 0 | AS102: =AR102*$F102 -> 0 | AU102: =AT102*$F102 -> 0 | AW102: =AV102*$F102 -> 0 | AY102: =AX102*$F102 -> 0 | BA102: =AZ102*$F102 -> 0 | BC102: =BB102*$F102 -> 0 | BE102: =BD102*$F102 -> 0 | BG102: =BF102*$F102 -> 0 | BI102: =BH102*$F102 -> 0 | BK102: =BJ102*$F102 -> 0 | BM102: =BL102*$F102 -> 0 | BO102: =BN102*$F102 -> 0 | BQ102: =BP102*$F102 -> 0 | BS102: =BR102*$F102 -> 0 | BU102: =BT102*$F102 -> 0 | BW102: =BV102*$F102 -> 0 | BY102: =BX102*$F102 -> 0 | CA102: =BZ102*$F102 -> 0 | CC102: =CB102*$F102 -> 0 | CE102: =CD102*$F102 -> 0 | CG102: =CF102*$F102 -> 0 | CI102: =CH102*$F102 -> 0 | CK102: =CJ102*$F102 -> 0 | CM102: =CL102*$F102 -> 0 | CO102: =CN102*$F102 -> 0 | CQ102: =CP102*$F102 -> 0 | CS102: =CR102*$F102 -> 0 | CU102: =CT102*$F102 -> 0 | CW102: =CV102*$F102 -> 0 | CY102: =CX102*$F102 -> 0 | DA102: =CZ102*$F102 -> 0 | DC102: =DB102*$F102 -> 0 | DE102: =DD102*$F102 -> 0 | DG102: =DF102*$F102 -> 0 | DI102: =DH102*$F102 -> 0 | DK102: =DJ102*$F102 -> 0 | DM102: =DL102*$F102 -> 0 | DO102: =DN102*$F102 -> 0 | DQ102: =DP102*$F102 -> 0 | DS102: =DR102*$F102 -> 0 | DU102: =DT102*$F102 -> 0 | DW102: =DV102*$F102 -> 0 | DY102: =DX102*$F102 -> 0 | EA102: =DZ102*$F102 -> 0 | EC102: =EB102*$F102 -> 0 | EE102: =ED102*$F102 -> 0
C103: 33 | D103: Csatornaépítés | G103: =#VALUE! -> 0 | I103: =H103*$F103 -> 0 | K103: =J103*$F103 -> 0 | M103: =L103*$F103 -> 0 | O103: =N103*$F103 -> 0 | Q103: =P103*$F103 -> 0 | S103: =R103*$F103 -> 0 | U103: =T103*$F103 -> 0 | W103: =V103*$F103 -> 0 | Y103: =X103*$F103 -> 0 | AA103: =Z103*$F103 -> 0 | AC103: =AB103*$F103 -> 0 | AE103: =AD103*$F103 -> 0 | AG103: =AF103*$F103 -> 0 | AI103: =AH103*$F103 -> 0 | AK103: =AJ103*$F103 -> 0 | AM103: =AL103*$F103 -> 0 | AO103: =AN103*$F103 -> 0 | AQ103: =AP103*$F103 -> 0 | AS103: =AR103*$F103 -> 0 | AU103: =AT103*$F103 -> 0 | AW103: =AV103*$F103 -> 0 | AY103: =AX103*$F103 -> 0 | BA103: =AZ103*$F103 -> 0 | BC103: =BB103*$F103 -> 0 | BE103: =BD103*$F103 -> 0 | BG103: =BF103*$F103 -> 0 | BI103: =BH103*$F103 -> 0 | BK103: =BJ103*$F103 -> 0 | BM103: =BL103*$F103 -> 0 | BO103: =BN103*$F103 -> 0 | BQ103: =BP103*$F103 -> 0 | BS103: =BR103*$F103 -> 0 | BU103: =BT103*$F103 -> 0 | BW103: =BV103*$F103 -> 0 | BY103: =BX103*$F103 -> 0 | CA103: =BZ103*$F103 -> 0 | CC103: =CB103*$F103 -> 0 | CE103: =CD103*$F103 -> 0 | CG103: =CF103*$F103 -> 0 | CI103: =CH103*$F103 -> 0 | CK103: =CJ103*$F103 -> 0 | CM103: =CL103*$F103 -> 0 | CO103: =CN103*$F103 -> 0 | CQ103: =CP103*$F103 -> 0 | CS103: =CR103*$F103 -> 0 | CU103: =CT103*$F103 -> 0 | CW103: =CV103*$F103 -> 0 | CY103: =CX103*$F103 -> 0 | DA103: =CZ103*$F103 -> 0 | DC103: =DB103*$F103 -> 0 | DE103: =DD103*$F103 -> 0 | DG103: =DF103*$F103 -> 0 | DI103: =DH103*$F103 -> 0 | DK103: =DJ103*$F103 -> 0 | DM103: =DL103*$F103 -> 0 | DO103: =DN103*$F103 -> 0 | DQ103: =DP103*$F103 -> 0 | DS103: =DR103*$F103 -> 0 | DU103: =DT103*$F103 -> 0 | DW103: =DV103*$F103 -> 0 | DY103: =DX103*$F103 -> 0 | EA103: =DZ103*$F103 -> 0 | EC103: =EB103*$F103 -> 0 | EE103: =ED103*$F103 -> 0
C104: 34 | D104: Gázvezeték fektetés | G104: =#VALUE! -> 0 | I104: =H104*$F104 -> 0 | K104: =J104*$F104 -> 0 | M104: =L104*$F104 -> 0 | O104: =N104*$F104 -> 0 | Q104: =P104*$F104 -> 0 | S104: =R104*$F104 -> 0 | U104: =T104*$F104 -> 0 | W104: =V104*$F104 -> 0 | Y104: =X104*$F104 -> 0 | AA104: =Z104*$F104 -> 0 | AC104: =AB104*$F104 -> 0 | AE104: =AD104*$F104 -> 0 | AG104: =AF104*$F104 -> 0 | AI104: =AH104*$F104 -> 0 | AK104: =AJ104*$F104 -> 0 | AM104: =AL104*$F104 -> 0 | AO104: =AN104*$F104 -> 0 | AQ104: =AP104*$F104 -> 0 | AS104: =AR104*$F104 -> 0 | AU104: =AT104*$F104 -> 0 | AW104: =AV104*$F104 -> 0 | AY104: =AX104*$F104 -> 0 | BA104: =AZ104*$F104 -> 0 | BC104: =BB104*$F104 -> 0 | BE104: =BD104*$F104 -> 0 | BG104: =BF104*$F104 -> 0 | BI104: =BH104*$F104 -> 0 | BK104: =BJ104*$F104 -> 0 | BM104: =BL104*$F104 -> 0 | BO104: =BN104*$F104 -> 0 | BQ104: =BP104*$F104 -> 0 | BS104: =BR104*$F104 -> 0 | BU104: =BT104*$F104 -> 0 | BW104: =BV104*$F104 -> 0 | BY104: =BX104*$F104 -> 0 | CA104: =BZ104*$F104 -> 0 | CC104: =CB104*$F104 -> 0 | CE104: =CD104*$F104 -> 0 | CG104: =CF104*$F104 -> 0 | CI104: =CH104*$F104 -> 0 | CK104: =CJ104*$F104 -> 0 | CM104: =CL104*$F104 -> 0 | CO104: =CN104*$F104 -> 0 | CQ104: =CP104*$F104 -> 0 | CS104: =CR104*$F104 -> 0 | CU104: =CT104*$F104 -> 0 | CW104: =CV104*$F104 -> 0 | CY104: =CX104*$F104 -> 0 | DA104: =CZ104*$F104 -> 0 | DC104: =DB104*$F104 -> 0 | DE104: =DD104*$F104 -> 0 | DG104: =DF104*$F104 -> 0 | DI104: =DH104*$F104 -> 0 | DK104: =DJ104*$F104 -> 0 | DM104: =DL104*$F104 -> 0 | DO104: =DN104*$F104 -> 0 | DQ104: =DP104*$F104 -> 0 | DS104: =DR104*$F104 -> 0 | DU104: =DT104*$F104 -> 0 | DW104: =DV104*$F104 -> 0 | DY104: =DX104*$F104 -> 0 | EA104: =DZ104*$F104 -> 0 | EC104: =EB104*$F104 -> 0 | EE104: =ED104*$F104 -> 0
C105: 35 | D105: Telefonkábel fektetés | G105: =#VALUE! -> 0 | I105: =H105*$F105 -> 0 | K105: =J105*$F105 -> 0 | M105: =L105*$F105 -> 0 | O105: =N105*$F105 -> 0 | Q105: =P105*$F105 -> 0 | S105: =R105*$F105 -> 0 | U105: =T105*$F105 -> 0 | W105: =V105*$F105 -> 0 | Y105: =X105*$F105 -> 0 | AA105: =Z105*$F105 -> 0 | AC105: =AB105*$F105 -> 0 | AE105: =AD105*$F105 -> 0 | AG105: =AF105*$F105 -> 0 | AI105: =AH105*$F105 -> 0 | AK105: =AJ105*$F105 -> 0 | AM105: =AL105*$F105 -> 0 | AO105: =AN105*$F105 -> 0 | AQ105: =AP105*$F105 -> 0 | AS105: =AR105*$F105 -> 0 | AU105: =AT105*$F105 -> 0 | AW105: =AV105*$F105 -> 0 | AY105: =AX105*$F105 -> 0 | BA105: =AZ105*$F105 -> 0 | BC105: =BB105*$F105 -> 0 | BE105: =BD105*$F105 -> 0 | BG105: =BF105*$F105 -> 0 | BI105: =BH105*$F105 -> 0 | BK105: =BJ105*$F105 -> 0 | BM105: =BL105*$F105 -> 0 | BO105: =BN105*$F105 -> 0 | BQ105: =BP105*$F105 -> 0 | BS105: =BR105*$F105 -> 0 | BU105: =BT105*$F105 -> 0 | BW105: =BV105*$F105 -> 0 | BY105: =BX105*$F105 -> 0 | CA105: =BZ105*$F105 -> 0 | CC105: =CB105*$F105 -> 0 | CE105: =CD105*$F105 -> 0 | CG105: =CF105*$F105 -> 0 | CI105: =CH105*$F105 -> 0 | CK105: =CJ105*$F105 -> 0 | CM105: =CL105*$F105 -> 0 | CO105: =CN105*$F105 -> 0 | CQ105: =CP105*$F105 -> 0 | CS105: =CR105*$F105 -> 0 | CU105: =CT105*$F105 -> 0 | CW105: =CV105*$F105 -> 0 | CY105: =CX105*$F105 -> 0 | DA105: =CZ105*$F105 -> 0 | DC105: =DB105*$F105 -> 0 | DE105: =DD105*$F105 -> 0 | DG105: =DF105*$F105 -> 0 | DI105: =DH105*$F105 -> 0 | DK105: =DJ105*$F105 -> 0 | DM105: =DL105*$F105 -> 0 | DO105: =DN105*$F105 -> 0 | DQ105: =DP105*$F105 -> 0 | DS105: =DR105*$F105 -> 0 | DU105: =DT105*$F105 -> 0 | DW105: =DV105*$F105 -> 0 | DY105: =DX105*$F105 -> 0 | EA105: =DZ105*$F105 -> 0 | EC105: =EB105*$F105 -> 0 | EE105: =ED105*$F105 -> 0
C106: 36 | D106: Áramvezeték fektetés | G106: =#VALUE! -> 0 | I106: =H106*$F106 -> 0 | K106: =J106*$F106 -> 0 | M106: =L106*$F106 -> 0 | O106: =N106*$F106 -> 0 | Q106: =P106*$F106 -> 0 | S106: =R106*$F106 -> 0 | U106: =T106*$F106 -> 0 | W106: =V106*$F106 -> 0 | Y106: =X106*$F106 -> 0 | AA106: =Z106*$F106 -> 0 | AC106: =AB106*$F106 -> 0 | AE106: =AD106*$F106 -> 0 | AG106: =AF106*$F106 -> 0 | AI106: =AH106*$F106 -> 0 | AK106: =AJ106*$F106 -> 0 | AM106: =AL106*$F106 -> 0 | AO106: =AN106*$F106 -> 0 | AQ106: =AP106*$F106 -> 0 | AS106: =AR106*$F106 -> 0 | AU106: =AT106*$F106 -> 0 | AW106: =AV106*$F106 -> 0 | AY106: =AX106*$F106 -> 0 | BA106: =AZ106*$F106 -> 0 | BC106: =BB106*$F106 -> 0 | BE106: =BD106*$F106 -> 0 | BG106: =BF106*$F106 -> 0 | BI106: =BH106*$F106 -> 0 | BK106: =BJ106*$F106 -> 0 | BM106: =BL106*$F106 -> 0 | BO106: =BN106*$F106 -> 0 | BQ106: =BP106*$F106 -> 0 | BS106: =BR106*$F106 -> 0 | BU106: =BT106*$F106 -> 0 | BW106: =BV106*$F106 -> 0 | BY106: =BX106*$F106 -> 0 | CA106: =BZ106*$F106 -> 0 | CC106: =CB106*$F106 -> 0 | CE106: =CD106*$F106 -> 0 | CG106: =CF106*$F106 -> 0 | CI106: =CH106*$F106 -> 0 | CK106: =CJ106*$F106 -> 0 | CM106: =CL106*$F106 -> 0 | CO106: =CN106*$F106 -> 0 | CQ106: =CP106*$F106 -> 0 | CS106: =CR106*$F106 -> 0 | CU106: =CT106*$F106 -> 0 | CW106: =CV106*$F106 -> 0 | CY106: =CX106*$F106 -> 0 | DA106: =CZ106*$F106 -> 0 | DC106: =DB106*$F106 -> 0 | DE106: =DD106*$F106 -> 0 | DG106: =DF106*$F106 -> 0 | DI106: =DH106*$F106 -> 0 | DK106: =DJ106*$F106 -> 0 | DM106: =DL106*$F106 -> 0 | DO106: =DN106*$F106 -> 0 | DQ106: =DP106*$F106 -> 0 | DS106: =DR106*$F106 -> 0 | DU106: =DT106*$F106 -> 0 | DW106: =DV106*$F106 -> 0 | DY106: =DX106*$F106 -> 0 | EA106: =DZ106*$F106 -> 0 | EC106: =EB106*$F106 -> 0 | EE106: =ED106*$F106 -> 0
C107: 37 | D107: Távhővezeték fektetés | G107: =#VALUE! -> 0 | I107: =H107*$F107 -> 0 | K107: =J107*$F107 -> 0 | M107: =L107*$F107 -> 0 | O107: =N107*$F107 -> 0 | Q107: =P107*$F107 -> 0 | S107: =R107*$F107 -> 0 | U107: =T107*$F107 -> 0 | W107: =V107*$F107 -> 0 | Y107: =X107*$F107 -> 0 | AA107: =Z107*$F107 -> 0 | AC107: =AB107*$F107 -> 0 | AE107: =AD107*$F107 -> 0 | AG107: =AF107*$F107 -> 0 | AI107: =AH107*$F107 -> 0 | AK107: =AJ107*$F107 -> 0 | AM107: =AL107*$F107 -> 0 | AO107: =AN107*$F107 -> 0 | AQ107: =AP107*$F107 -> 0 | AS107: =AR107*$F107 -> 0 | AU107: =AT107*$F107 -> 0 | AW107: =AV107*$F107 -> 0 | AY107: =AX107*$F107 -> 0 | BA107: =AZ107*$F107 -> 0 | BC107: =BB107*$F107 -> 0 | BE107: =BD107*$F107 -> 0 | BG107: =BF107*$F107 -> 0 | BI107: =BH107*$F107 -> 0 | BK107: =BJ107*$F107 -> 0 | BM107: =BL107*$F107 -> 0 | BO107: =BN107*$F107 -> 0 | BQ107: =BP107*$F107 -> 0 | BS107: =BR107*$F107 -> 0 | BU107: =BT107*$F107 -> 0 | BW107: =BV107*$F107 -> 0 | BY107: =BX107*$F107 -> 0 | CA107: =BZ107*$F107 -> 0 | CC107: =CB107*$F107 -> 0 | CE107: =CD107*$F107 -> 0 | CG107: =CF107*$F107 -> 0 | CI107: =CH107*$F107 -> 0 | CK107: =CJ107*$F107 -> 0 | CM107: =CL107*$F107 -> 0 | CO107: =CN107*$F107 -> 0 | CQ107: =CP107*$F107 -> 0 | CS107: =CR107*$F107 -> 0 | CU107: =CT107*$F107 -> 0 | CW107: =CV107*$F107 -> 0 | CY107: =CX107*$F107 -> 0 | DA107: =CZ107*$F107 -> 0 | DC107: =DB107*$F107 -> 0 | DE107: =DD107*$F107 -> 0 | DG107: =DF107*$F107 -> 0 | DI107: =DH107*$F107 -> 0 | DK107: =DJ107*$F107 -> 0 | DM107: =DL107*$F107 -> 0 | DO107: =DN107*$F107 -> 0 | DQ107: =DP107*$F107 -> 0 | DS107: =DR107*$F107 -> 0 | DU107: =DT107*$F107 -> 0 | DW107: =DV107*$F107 -> 0 | DY107: =DX107*$F107 -> 0 | EA107: =DZ107*$F107 -> 0 | EC107: =EB107*$F107 -> 0 | EE107: =ED107*$F107 -> 0
C108: 38 | D108: Elektromechanika | G108: =#VALUE! -> 0 | I108: =H108*$F108 -> 0 | K108: =J108*$F108 -> 0 | M108: =L108*$F108 -> 0 | O108: =N108*$F108 -> 0 | Q108: =P108*$F108 -> 0 | S108: =R108*$F108 -> 0 | U108: =T108*$F108 -> 0 | W108: =V108*$F108 -> 0 | Y108: =X108*$F108 -> 0 | AA108: =Z108*$F108 -> 0 | AC108: =AB108*$F108 -> 0 | AE108: =AD108*$F108 -> 0 | AG108: =AF108*$F108 -> 0 | AI108: =AH108*$F108 -> 0 | AK108: =AJ108*$F108 -> 0 | AM108: =AL108*$F108 -> 0 | AO108: =AN108*$F108 -> 0 | AQ108: =AP108*$F108 -> 0 | AS108: =AR108*$F108 -> 0 | AU108: =AT108*$F108 -> 0 | AW108: =AV108*$F108 -> 0 | AY108: =AX108*$F108 -> 0 | BA108: =AZ108*$F108 -> 0 | BC108: =BB108*$F108 -> 0 | BE108: =BD108*$F108 -> 0 | BG108: =BF108*$F108 -> 0 | BI108: =BH108*$F108 -> 0 | BK108: =BJ108*$F108 -> 0 | BM108: =BL108*$F108 -> 0 | BO108: =BN108*$F108 -> 0 | BQ108: =BP108*$F108 -> 0 | BS108: =BR108*$F108 -> 0 | BU108: =BT108*$F108 -> 0 | BW108: =BV108*$F108 -> 0 | BY108: =BX108*$F108 -> 0 | CA108: =BZ108*$F108 -> 0 | CC108: =CB108*$F108 -> 0 | CE108: =CD108*$F108 -> 0 | CG108: =CF108*$F108 -> 0 | CI108: =CH108*$F108 -> 0 | CK108: =CJ108*$F108 -> 0 | CM108: =CL108*$F108 -> 0 | CO108: =CN108*$F108 -> 0 | CQ108: =CP108*$F108 -> 0 | CS108: =CR108*$F108 -> 0 | CU108: =CT108*$F108 -> 0 | CW108: =CV108*$F108 -> 0 | CY108: =CX108*$F108 -> 0 | DA108: =CZ108*$F108 -> 0 | DC108: =DB108*$F108 -> 0 | DE108: =DD108*$F108 -> 0 | DG108: =DF108*$F108 -> 0 | DI108: =DH108*$F108 -> 0 | DK108: =DJ108*$F108 -> 0 | DM108: =DL108*$F108 -> 0 | DO108: =DN108*$F108 -> 0 | DQ108: =DP108*$F108 -> 0 | DS108: =DR108*$F108 -> 0 | DU108: =DT108*$F108 -> 0 | DW108: =DV108*$F108 -> 0 | DY108: =DX108*$F108 -> 0 | EA108: =DZ108*$F108 -> 0 | EC108: =EB108*$F108 -> 0 | EE108: =ED108*$F108 -> 0
C109: 39 | D109: Egyéb alvállalkozói teljesítés | G109: =#VALUE! -> 0 | I109: =SUM(I110:I111) -> 0 | K109: =SUM(K110:K111) -> 0 | M109: =SUM(M110:M111) -> 0 | O109: =SUM(O110:O111) -> 0 | Q109: =SUM(Q110:Q111) -> 0 | S109: =SUM(S110:S111) -> 0 | U109: =SUM(U110:U111) -> 0 | W109: =SUM(W110:W111) -> 0 | Y109: =SUM(Y110:Y111) -> 0 | AA109: =SUM(AA110:AA111) -> 0 | AC109: =SUM(AC110:AC111) -> 0 | AE109: =SUM(AE110:AE111) -> 0 | AG109: =SUM(AG110:AG111) -> 0 | AI109: =SUM(AI110:AI111) -> 0 | AK109: =SUM(AK110:AK111) -> 0 | AM109: =SUM(AM110:AM111) -> 0 | AO109: =SUM(AO110:AO111) -> 0 | AQ109: =SUM(AQ110:AQ111) -> 0 | AS109: =SUM(AS110:AS111) -> 0 | AU109: =SUM(AU110:AU111) -> 0 | AW109: =SUM(AW110:AW111) -> 0 | AY109: =SUM(AY110:AY111) -> 0 | BA109: =SUM(BA110:BA111) -> 0 | BC109: =SUM(BC110:BC111) -> 0 | BE109: =SUM(BE110:BE111) -> 0 | BG109: =SUM(BG110:BG111) -> 0 | BI109: =SUM(BI110:BI111) -> 0 | BK109: =SUM(BK110:BK111) -> 0 | BM109: =SUM(BM110:BM111) -> 0 | BO109: =SUM(BO110:BO111) -> 0 | BQ109: =SUM(BQ110:BQ111) -> 0 | BS109: =SUM(BS110:BS111) -> 0 | BU109: =SUM(BU110:BU111) -> 0 | BW109: =SUM(BW110:BW111) -> 0 | BY109: =SUM(BY110:BY111) -> 0 | CA109: =SUM(CA110:CA111) -> 0 | CC109: =SUM(CC110:CC111) -> 0 | CE109: =SUM(CE110:CE111) -> 0 | CG109: =SUM(CG110:CG111) -> 0 | CI109: =SUM(CI110:CI111) -> 0 | CK109: =SUM(CK110:CK111) -> 0 | CM109: =SUM(CM110:CM111) -> 0 | CO109: =SUM(CO110:CO111) -> 0 | CQ109: =SUM(CQ110:CQ111) -> 0 | CS109: =SUM(CS110:CS111) -> 0 | CU109: =SUM(CU110:CU111) -> 0 | CW109: =SUM(CW110:CW111) -> 0 | CY109: =SUM(CY110:CY111) -> 0 | DA109: =SUM(DA110:DA111) -> 0 | DC109: =SUM(DC110:DC111) -> 0 | DE109: =SUM(DE110:DE111) -> 0 | DG109: =SUM(DG110:DG111) -> 0 | DI109: =SUM(DI110:DI111) -> 0 | DK109: =SUM(DK110:DK111) -> 0 | DM109: =SUM(DM110:DM111) -> 0 | DO109: =SUM(DO110:DO111) -> 0 | DQ109: =SUM(DQ110:DQ111) -> 0 | DS109: =SUM(DS110:DS111) -> 0 | DU109: =SUM(DU110:DU111) -> 0 | DW109: =SUM(DW110:DW111) -> 0 | DY109: =SUM(DY110:DY111) -> 0 | EA109: =SUM(EA110:EA111) -> 0 | EC109: =SUM(EC110:EC111) -> 0 | EE109: =SUM(EE110:EE111) -> 0
D110: lőszermentesítés | E110: db | G110: =#VALUE! -> 0 | I110: =H110*$F110 -> 0 | K110: =J110*$F110 -> 0 | M110: =L110*$F110 -> 0 | O110: =N110*$F110 -> 0 | Q110: =P110*$F110 -> 0 | S110: =R110*$F110 -> 0 | U110: =T110*$F110 -> 0 | W110: =V110*$F110 -> 0 | Y110: =X110*$F110 -> 0 | AA110: =Z110*$F110 -> 0 | AC110: =AB110*$F110 -> 0 | AE110: =AD110*$F110 -> 0 | AG110: =AF110*$F110 -> 0 | AI110: =AH110*$F110 -> 0 | AK110: =AJ110*$F110 -> 0 | AM110: =AL110*$F110 -> 0 | AO110: =AN110*$F110 -> 0 | AQ110: =AP110*$F110 -> 0 | AS110: =AR110*$F110 -> 0 | AU110: =AT110*$F110 -> 0 | AW110: =AV110*$F110 -> 0 | AY110: =AX110*$F110 -> 0 | BA110: =AZ110*$F110 -> 0 | BC110: =BB110*$F110 -> 0 | BE110: =BD110*$F110 -> 0 | BG110: =BF110*$F110 -> 0 | BI110: =BH110*$F110 -> 0 | BK110: =BJ110*$F110 -> 0 | BM110: =BL110*$F110 -> 0 | BO110: =BN110*$F110 -> 0 | BQ110: =BP110*$F110 -> 0 | BS110: =BR110*$F110 -> 0 | BU110: =BT110*$F110 -> 0 | BW110: =BV110*$F110 -> 0 | BY110: =BX110*$F110 -> 0 | CA110: =BZ110*$F110 -> 0 | CC110: =CB110*$F110 -> 0 | CE110: =CD110*$F110 -> 0 | CG110: =CF110*$F110 -> 0 | CI110: =CH110*$F110 -> 0 | CK110: =CJ110*$F110 -> 0 | CM110: =CL110*$F110 -> 0 | CO110: =CN110*$F110 -> 0 | CQ110: =CP110*$F110 -> 0 | CS110: =CR110*$F110 -> 0 | CU110: =CT110*$F110 -> 0 | CW110: =CV110*$F110 -> 0 | CY110: =CX110*$F110 -> 0 | DA110: =CZ110*$F110 -> 0 | DC110: =DB110*$F110 -> 0 | DE110: =DD110*$F110 -> 0 | DG110: =DF110*$F110 -> 0 | DI110: =DH110*$F110 -> 0 | DK110: =DJ110*$F110 -> 0 | DM110: =DL110*$F110 -> 0 | DO110: =DN110*$F110 -> 0 | DQ110: =DP110*$F110 -> 0 | DS110: =DR110*$F110 -> 0 | DU110: =DT110*$F110 -> 0 | DW110: =DV110*$F110 -> 0 | DY110: =DX110*$F110 -> 0 | EA110: =DZ110*$F110 -> 0 | EC110: =EB110*$F110 -> 0 | EE110: =ED110*$F110 -> 0
D111: forgalomtechnika | G111: =#VALUE! -> 0 | I111: =H111*$F111 -> 0 | K111: =J111*$F111 -> 0 | M111: =L111*$F111 -> 0 | O111: =N111*$F111 -> 0 | Q111: =P111*$F111 -> 0 | S111: =R111*$F111 -> 0 | U111: =T111*$F111 -> 0 | W111: =V111*$F111 -> 0 | Y111: =X111*$F111 -> 0 | AA111: =Z111*$F111 -> 0 | AC111: =AB111*$F111 -> 0 | AE111: =AD111*$F111 -> 0 | AG111: =AF111*$F111 -> 0 | AI111: =AH111*$F111 -> 0 | AK111: =AJ111*$F111 -> 0 | AM111: =AL111*$F111 -> 0 | AO111: =AN111*$F111 -> 0 | AQ111: =AP111*$F111 -> 0 | AS111: =AR111*$F111 -> 0 | AU111: =AT111*$F111 -> 0 | AW111: =AV111*$F111 -> 0 | AY111: =AX111*$F111 -> 0 | BA111: =AZ111*$F111 -> 0 | BC111: =BB111*$F111 -> 0 | BE111: =BD111*$F111 -> 0 | BG111: =BF111*$F111 -> 0 | BI111: =BH111*$F111 -> 0 | BK111: =BJ111*$F111 -> 0 | BM111: =BL111*$F111 -> 0 | BO111: =BN111*$F111 -> 0 | BQ111: =BP111*$F111 -> 0 | BS111: =BR111*$F111 -> 0 | BU111: =BT111*$F111 -> 0 | BW111: =BV111*$F111 -> 0 | BY111: =BX111*$F111 -> 0 | CA111: =BZ111*$F111 -> 0 | CC111: =CB111*$F111 -> 0 | CE111: =CD111*$F111 -> 0 | CG111: =CF111*$F111 -> 0 | CI111: =CH111*$F111 -> 0 | CK111: =CJ111*$F111 -> 0 | CM111: =CL111*$F111 -> 0 | CO111: =CN111*$F111 -> 0 | CQ111: =CP111*$F111 -> 0 | CS111: =CR111*$F111 -> 0 | CU111: =CT111*$F111 -> 0 | CW111: =CV111*$F111 -> 0 | CY111: =CX111*$F111 -> 0 | DA111: =CZ111*$F111 -> 0 | DC111: =DB111*$F111 -> 0 | DE111: =DD111*$F111 -> 0 | DG111: =DF111*$F111 -> 0 | DI111: =DH111*$F111 -> 0 | DK111: =DJ111*$F111 -> 0 | DM111: =DL111*$F111 -> 0 | DO111: =DN111*$F111 -> 0 | DQ111: =DP111*$F111 -> 0 | DS111: =DR111*$F111 -> 0 | DU111: =DT111*$F111 -> 0 | DW111: =DV111*$F111 -> 0 | DY111: =DX111*$F111 -> 0 | EA111: =DZ111*$F111 -> 0 | EC111: =EB111*$F111 -> 0 | EE111: =ED111*$F111 -> 0
C112: 40 | D112: Földmunka | G112: =#VALUE! -> 0 | I112: =H112*$F112 -> 0 | K112: =J112*$F112 -> 0 | M112: =L112*$F112 -> 0 | O112: =N112*$F112 -> 0 | Q112: =P112*$F112 -> 0 | S112: =R112*$F112 -> 0 | U112: =T112*$F112 -> 0 | W112: =V112*$F112 -> 0 | Y112: =X112*$F112 -> 0 | AA112: =Z112*$F112 -> 0 | AC112: =AB112*$F112 -> 0 | AE112: =AD112*$F112 -> 0 | AG112: =AF112*$F112 -> 0 | AI112: =AH112*$F112 -> 0 | AK112: =AJ112*$F112 -> 0 | AM112: =AL112*$F112 -> 0 | AO112: =AN112*$F112 -> 0 | AQ112: =AP112*$F112 -> 0 | AS112: =AR112*$F112 -> 0 | AU112: =AT112*$F112 -> 0 | AW112: =AV112*$F112 -> 0 | AY112: =AX112*$F112 -> 0 | BA112: =AZ112*$F112 -> 0 | BC112: =BB112*$F112 -> 0 | BE112: =BD112*$F112 -> 0 | BG112: =BF112*$F112 -> 0 | BI112: =BH112*$F112 -> 0 | BK112: =BJ112*$F112 -> 0 | BM112: =BL112*$F112 -> 0 | BO112: =BN112*$F112 -> 0 | BQ112: =BP112*$F112 -> 0 | BS112: =BR112*$F112 -> 0 | BU112: =BT112*$F112 -> 0 | BW112: =BV112*$F112 -> 0 | BY112: =BX112*$F112 -> 0 | CA112: =BZ112*$F112 -> 0 | CC112: =CB112*$F112 -> 0 | CE112: =CD112*$F112 -> 0 | CG112: =CF112*$F112 -> 0 | CI112: =CH112*$F112 -> 0 | CK112: =CJ112*$F112 -> 0 | CM112: =CL112*$F112 -> 0 | CO112: =CN112*$F112 -> 0 | CQ112: =CP112*$F112 -> 0 | CS112: =CR112*$F112 -> 0 | CU112: =CT112*$F112 -> 0 | CW112: =CV112*$F112 -> 0 | CY112: =CX112*$F112 -> 0 | DA112: =CZ112*$F112 -> 0 | DC112: =DB112*$F112 -> 0 | DE112: =DD112*$F112 -> 0 | DG112: =DF112*$F112 -> 0 | DI112: =DH112*$F112 -> 0 | DK112: =DJ112*$F112 -> 0 | DM112: =DL112*$F112 -> 0 | DO112: =DN112*$F112 -> 0 | DQ112: =DP112*$F112 -> 0 | DS112: =DR112*$F112 -> 0 | DU112: =DT112*$F112 -> 0 | DW112: =DV112*$F112 -> 0 | DY112: =DX112*$F112 -> 0 | EA112: =DZ112*$F112 -> 0 | EC112: =EB112*$F112 -> 0 | EE112: =ED112*$F112 -> 0
C113: 41 | D113: Pályaszerkezet | G113: =#VALUE! -> 0 | I113: =H113*$F113 -> 0 | K113: =J113*$F113 -> 0 | M113: =L113*$F113 -> 0 | O113: =N113*$F113 -> 0 | Q113: =P113*$F113 -> 0 | S113: =R113*$F113 -> 0 | U113: =T113*$F113 -> 0 | W113: =V113*$F113 -> 0 | Y113: =X113*$F113 -> 0 | AA113: =Z113*$F113 -> 0 | AC113: =AB113*$F113 -> 0 | AE113: =AD113*$F113 -> 0 | AG113: =AF113*$F113 -> 0 | AI113: =AH113*$F113 -> 0 | AK113: =AJ113*$F113 -> 0 | AM113: =AL113*$F113 -> 0 | AO113: =AN113*$F113 -> 0 | AQ113: =AP113*$F113 -> 0 | AS113: =AR113*$F113 -> 0 | AU113: =AT113*$F113 -> 0 | AW113: =AV113*$F113 -> 0 | AY113: =AX113*$F113 -> 0 | BA113: =AZ113*$F113 -> 0 | BC113: =BB113*$F113 -> 0 | BE113: =BD113*$F113 -> 0 | BG113: =BF113*$F113 -> 0 | BI113: =BH113*$F113 -> 0 | BK113: =BJ113*$F113 -> 0 | BM113: =BL113*$F113 -> 0 | BO113: =BN113*$F113 -> 0 | BQ113: =BP113*$F113 -> 0 | BS113: =BR113*$F113 -> 0 | BU113: =BT113*$F113 -> 0 | BW113: =BV113*$F113 -> 0 | BY113: =BX113*$F113 -> 0 | CA113: =BZ113*$F113 -> 0 | CC113: =CB113*$F113 -> 0 | CE113: =CD113*$F113 -> 0 | CG113: =CF113*$F113 -> 0 | CI113: =CH113*$F113 -> 0 | CK113: =CJ113*$F113 -> 0 | CM113: =CL113*$F113 -> 0 | CO113: =CN113*$F113 -> 0 | CQ113: =CP113*$F113 -> 0 | CS113: =CR113*$F113 -> 0 | CU113: =CT113*$F113 -> 0 | CW113: =CV113*$F113 -> 0 | CY113: =CX113*$F113 -> 0 | DA113: =CZ113*$F113 -> 0 | DC113: =DB113*$F113 -> 0 | DE113: =DD113*$F113 -> 0 | DG113: =DF113*$F113 -> 0 | DI113: =DH113*$F113 -> 0 | DK113: =DJ113*$F113 -> 0 | DM113: =DL113*$F113 -> 0 | DO113: =DN113*$F113 -> 0 | DQ113: =DP113*$F113 -> 0 | DS113: =DR113*$F113 -> 0 | DU113: =DT113*$F113 -> 0 | DW113: =DV113*$F113 -> 0 | DY113: =DX113*$F113 -> 0 | EA113: =DZ113*$F113 -> 0 | EC113: =EB113*$F113 -> 0 | EE113: =ED113*$F113 -> 0
C114: 42 | D114: Útszegély-, Korlátépítés | G114: =#VALUE! -> 0 | I114: =H114*$F114 -> 0 | K114: =J114*$F114 -> 0 | M114: =L114*$F114 -> 0 | O114: =N114*$F114 -> 0 | Q114: =P114*$F114 -> 0 | S114: =R114*$F114 -> 0 | U114: =T114*$F114 -> 0 | W114: =V114*$F114 -> 0 | Y114: =X114*$F114 -> 0 | AA114: =Z114*$F114 -> 0 | AC114: =AB114*$F114 -> 0 | AE114: =AD114*$F114 -> 0 | AG114: =AF114*$F114 -> 0 | AI114: =AH114*$F114 -> 0 | AK114: =AJ114*$F114 -> 0 | AM114: =AL114*$F114 -> 0 | AO114: =AN114*$F114 -> 0 | AQ114: =AP114*$F114 -> 0 | AS114: =AR114*$F114 -> 0 | AU114: =AT114*$F114 -> 0 | AW114: =AV114*$F114 -> 0 | AY114: =AX114*$F114 -> 0 | BA114: =AZ114*$F114 -> 0 | BC114: =BB114*$F114 -> 0 | BE114: =BD114*$F114 -> 0 | BG114: =BF114*$F114 -> 0 | BI114: =BH114*$F114 -> 0 | BK114: =BJ114*$F114 -> 0 | BM114: =BL114*$F114 -> 0 | BO114: =BN114*$F114 -> 0 | BQ114: =BP114*$F114 -> 0 | BS114: =BR114*$F114 -> 0 | BU114: =BT114*$F114 -> 0 | BW114: =BV114*$F114 -> 0 | BY114: =BX114*$F114 -> 0 | CA114: =BZ114*$F114 -> 0 | CC114: =CB114*$F114 -> 0 | CE114: =CD114*$F114 -> 0 | CG114: =CF114*$F114 -> 0 | CI114: =CH114*$F114 -> 0 | CK114: =CJ114*$F114 -> 0 | CM114: =CL114*$F114 -> 0 | CO114: =CN114*$F114 -> 0 | CQ114: =CP114*$F114 -> 0 | CS114: =CR114*$F114 -> 0 | CU114: =CT114*$F114 -> 0 | CW114: =CV114*$F114 -> 0 | CY114: =CX114*$F114 -> 0 | DA114: =CZ114*$F114 -> 0 | DC114: =DB114*$F114 -> 0 | DE114: =DD114*$F114 -> 0 | DG114: =DF114*$F114 -> 0 | DI114: =DH114*$F114 -> 0 | DK114: =DJ114*$F114 -> 0 | DM114: =DL114*$F114 -> 0 | DO114: =DN114*$F114 -> 0 | DQ114: =DP114*$F114 -> 0 | DS114: =DR114*$F114 -> 0 | DU114: =DT114*$F114 -> 0 | DW114: =DV114*$F114 -> 0 | DY114: =DX114*$F114 -> 0 | EA114: =DZ114*$F114 -> 0 | EC114: =EB114*$F114 -> 0 | EE114: =ED114*$F114 -> 0
C115: 43 | D115: Térkő fektetés | G115: =#VALUE! -> 0 | I115: =H115*$F115 -> 0 | K115: =J115*$F115 -> 0 | M115: =L115*$F115 -> 0 | O115: =N115*$F115 -> 0 | Q115: =P115*$F115 -> 0 | S115: =R115*$F115 -> 0 | U115: =T115*$F115 -> 0 | W115: =V115*$F115 -> 0 | Y115: =X115*$F115 -> 0 | AA115: =Z115*$F115 -> 0 | AC115: =AB115*$F115 -> 0 | AE115: =AD115*$F115 -> 0 | AG115: =AF115*$F115 -> 0 | AI115: =AH115*$F115 -> 0 | AK115: =AJ115*$F115 -> 0 | AM115: =AL115*$F115 -> 0 | AO115: =AN115*$F115 -> 0 | AQ115: =AP115*$F115 -> 0 | AS115: =AR115*$F115 -> 0 | AU115: =AT115*$F115 -> 0 | AW115: =AV115*$F115 -> 0 | AY115: =AX115*$F115 -> 0 | BA115: =AZ115*$F115 -> 0 | BC115: =BB115*$F115 -> 0 | BE115: =BD115*$F115 -> 0 | BG115: =BF115*$F115 -> 0 | BI115: =BH115*$F115 -> 0 | BK115: =BJ115*$F115 -> 0 | BM115: =BL115*$F115 -> 0 | BO115: =BN115*$F115 -> 0 | BQ115: =BP115*$F115 -> 0 | BS115: =BR115*$F115 -> 0 | BU115: =BT115*$F115 -> 0 | BW115: =BV115*$F115 -> 0 | BY115: =BX115*$F115 -> 0 | CA115: =BZ115*$F115 -> 0 | CC115: =CB115*$F115 -> 0 | CE115: =CD115*$F115 -> 0 | CG115: =CF115*$F115 -> 0 | CI115: =CH115*$F115 -> 0 | CK115: =CJ115*$F115 -> 0 | CM115: =CL115*$F115 -> 0 | CO115: =CN115*$F115 -> 0 | CQ115: =CP115*$F115 -> 0 | CS115: =CR115*$F115 -> 0 | CU115: =CT115*$F115 -> 0 | CW115: =CV115*$F115 -> 0 | CY115: =CX115*$F115 -> 0 | DA115: =CZ115*$F115 -> 0 | DC115: =DB115*$F115 -> 0 | DE115: =DD115*$F115 -> 0 | DG115: =DF115*$F115 -> 0 | DI115: =DH115*$F115 -> 0 | DK115: =DJ115*$F115 -> 0 | DM115: =DL115*$F115 -> 0 | DO115: =DN115*$F115 -> 0 | DQ115: =DP115*$F115 -> 0 | DS115: =DR115*$F115 -> 0 | DU115: =DT115*$F115 -> 0 | DW115: =DV115*$F115 -> 0 | DY115: =DX115*$F115 -> 0 | EA115: =DZ115*$F115 -> 0 | EC115: =EB115*$F115 -> 0 | EE115: =ED115*$F115 -> 0
C116: 44 | D116: Egyéb útépítési munkák | G116: =#VALUE! -> 0 | I116: =H116*$F116 -> 0 | K116: =J116*$F116 -> 0 | M116: =L116*$F116 -> 0 | O116: =N116*$F116 -> 0 | Q116: =P116*$F116 -> 0 | S116: =R116*$F116 -> 0 | U116: =T116*$F116 -> 0 | W116: =V116*$F116 -> 0 | Y116: =X116*$F116 -> 0 | AA116: =Z116*$F116 -> 0 | AC116: =AB116*$F116 -> 0 | AE116: =AD116*$F116 -> 0 | AG116: =AF116*$F116 -> 0 | AI116: =AH116*$F116 -> 0 | AK116: =AJ116*$F116 -> 0 | AM116: =AL116*$F116 -> 0 | AO116: =AN116*$F116 -> 0 | AQ116: =AP116*$F116 -> 0 | AS116: =AR116*$F116 -> 0 | AU116: =AT116*$F116 -> 0 | AW116: =AV116*$F116 -> 0 | AY116: =AX116*$F116 -> 0 | BA116: =AZ116*$F116 -> 0 | BC116: =BB116*$F116 -> 0 | BE116: =BD116*$F116 -> 0 | BG116: =BF116*$F116 -> 0 | BI116: =BH116*$F116 -> 0 | BK116: =BJ116*$F116 -> 0 | BM116: =BL116*$F116 -> 0 | BO116: =BN116*$F116 -> 0 | BQ116: =BP116*$F116 -> 0 | BS116: =BR116*$F116 -> 0 | BU116: =BT116*$F116 -> 0 | BW116: =BV116*$F116 -> 0 | BY116: =BX116*$F116 -> 0 | CA116: =BZ116*$F116 -> 0 | CC116: =CB116*$F116 -> 0 | CE116: =CD116*$F116 -> 0 | CG116: =CF116*$F116 -> 0 | CI116: =CH116*$F116 -> 0 | CK116: =CJ116*$F116 -> 0 | CM116: =CL116*$F116 -> 0 | CO116: =CN116*$F116 -> 0 | CQ116: =CP116*$F116 -> 0 | CS116: =CR116*$F116 -> 0 | CU116: =CT116*$F116 -> 0 | CW116: =CV116*$F116 -> 0 | CY116: =CX116*$F116 -> 0 | DA116: =CZ116*$F116 -> 0 | DC116: =DB116*$F116 -> 0 | DE116: =DD116*$F116 -> 0 | DG116: =DF116*$F116 -> 0 | DI116: =DH116*$F116 -> 0 | DK116: =DJ116*$F116 -> 0 | DM116: =DL116*$F116 -> 0 | DO116: =DN116*$F116 -> 0 | DQ116: =DP116*$F116 -> 0 | DS116: =DR116*$F116 -> 0 | DU116: =DT116*$F116 -> 0 | DW116: =DV116*$F116 -> 0 | DY116: =DX116*$F116 -> 0 | EA116: =DZ116*$F116 -> 0 | EC116: =EB116*$F116 -> 0 | EE116: =ED116*$F116 -> 0
C117: 45 | D117: Geodéziai munkák | G117: =#VALUE! -> 0 | I117: =SUM(I118:I119) -> 0 | K117: =SUM(K118:K119) -> 0 | M117: =SUM(M118:M119) -> 0 | O117: =SUM(O118:O119) -> 0 | Q117: =SUM(Q118:Q119) -> 0 | S117: =SUM(S118:S119) -> 0 | U117: =SUM(U118:U119) -> 0 | W117: =SUM(W118:W119) -> 0 | Y117: =SUM(Y118:Y119) -> 0 | AA117: =SUM(AA118:AA119) -> 0 | AC117: =SUM(AC118:AC119) -> 0 | AE117: =SUM(AE118:AE119) -> 0 | AG117: =SUM(AG118:AG119) -> 0 | AI117: =SUM(AI118:AI119) -> 0 | AK117: =SUM(AK118:AK119) -> 0 | AM117: =SUM(AM118:AM119) -> 0 | AO117: =SUM(AO118:AO119) -> 0 | AQ117: =SUM(AQ118:AQ119) -> 0 | AS117: =SUM(AS118:AS119) -> 0 | AU117: =SUM(AU118:AU119) -> 0 | AW117: =SUM(AW118:AW119) -> 0 | AY117: =SUM(AY118:AY119) -> 0 | BA117: =SUM(BA118:BA119) -> 0 | BC117: =SUM(BC118:BC119) -> 0 | BE117: =SUM(BE118:BE119) -> 0 | BG117: =SUM(BG118:BG119) -> 0 | BI117: =SUM(BI118:BI119) -> 0 | BK117: =SUM(BK118:BK119) -> 0 | BM117: =SUM(BM118:BM119) -> 0 | BO117: =SUM(BO118:BO119) -> 0 | BQ117: =SUM(BQ118:BQ119) -> 0 | BS117: =SUM(BS118:BS119) -> 0 | BU117: =SUM(BU118:BU119) -> 0 | BW117: =SUM(BW118:BW119) -> 0 | BY117: =SUM(BY118:BY119) -> 0 | CA117: =SUM(CA118:CA119) -> 0 | CC117: =SUM(CC118:CC119) -> 0 | CE117: =SUM(CE118:CE119) -> 0 | CG117: =SUM(CG118:CG119) -> 0 | CI117: =SUM(CI118:CI119) -> 0 | CK117: =SUM(CK118:CK119) -> 0 | CM117: =SUM(CM118:CM119) -> 0 | CO117: =SUM(CO118:CO119) -> 0 | CQ117: =SUM(CQ118:CQ119) -> 0 | CS117: =SUM(CS118:CS119) -> 0 | CU117: =SUM(CU118:CU119) -> 0 | CW117: =SUM(CW118:CW119) -> 0 | CY117: =SUM(CY118:CY119) -> 0 | DA117: =SUM(DA118:DA119) -> 0 | DC117: =SUM(DC118:DC119) -> 0 | DE117: =SUM(DE118:DE119) -> 0 | DG117: =SUM(DG118:DG119) -> 0 | DI117: =SUM(DI118:DI119) -> 0 | DK117: =SUM(DK118:DK119) -> 0 | DM117: =SUM(DM118:DM119) -> 0 | DO117: =SUM(DO118:DO119) -> 0 | DQ117: =SUM(DQ118:DQ119) -> 0 | DS117: =SUM(DS118:DS119) -> 0 | DU117: =SUM(DU118:DU119) -> 0 | DW117: =SUM(DW118:DW119) -> 0 | DY117: =SUM(DY118:DY119) -> 0 | EA117: =SUM(EA118:EA119) -> 0 | EC117: =SUM(EC118:EC119) -> 0 | EE117: =SUM(EE118:EE119) -> 0
D118: kitűzés | G118: =#VALUE! -> 0 | I118: =H118*$F118 -> 0 | K118: =J118*$F118 -> 0 | M118: =L118*$F118 -> 0 | O118: =N118*$F118 -> 0 | Q118: =P118*$F118 -> 0 | S118: =R118*$F118 -> 0 | U118: =T118*$F118 -> 0 | W118: =V118*$F118 -> 0 | Y118: =X118*$F118 -> 0 | AA118: =Z118*$F118 -> 0 | AC118: =AB118*$F118 -> 0 | AE118: =AD118*$F118 -> 0 | AG118: =AF118*$F118 -> 0 | AI118: =AH118*$F118 -> 0 | AK118: =AJ118*$F118 -> 0 | AM118: =AL118*$F118 -> 0 | AO118: =AN118*$F118 -> 0 | AQ118: =AP118*$F118 -> 0 | AS118: =AR118*$F118 -> 0 | AU118: =AT118*$F118 -> 0 | AW118: =AV118*$F118 -> 0 | AY118: =AX118*$F118 -> 0 | BA118: =AZ118*$F118 -> 0 | BC118: =BB118*$F118 -> 0 | BE118: =BD118*$F118 -> 0 | BG118: =BF118*$F118 -> 0 | BI118: =BH118*$F118 -> 0 | BK118: =BJ118*$F118 -> 0 | BM118: =BL118*$F118 -> 0 | BO118: =BN118*$F118 -> 0 | BQ118: =BP118*$F118 -> 0 | BS118: =BR118*$F118 -> 0 | BU118: =BT118*$F118 -> 0 | BW118: =BV118*$F118 -> 0 | BY118: =BX118*$F118 -> 0 | CA118: =BZ118*$F118 -> 0 | CC118: =CB118*$F118 -> 0 | CE118: =CD118*$F118 -> 0 | CG118: =CF118*$F118 -> 0 | CI118: =CH118*$F118 -> 0 | CK118: =CJ118*$F118 -> 0 | CM118: =CL118*$F118 -> 0 | CO118: =CN118*$F118 -> 0 | CQ118: =CP118*$F118 -> 0 | CS118: =CR118*$F118 -> 0 | CU118: =CT118*$F118 -> 0 | CW118: =CV118*$F118 -> 0 | CY118: =CX118*$F118 -> 0 | DA118: =CZ118*$F118 -> 0 | DC118: =DB118*$F118 -> 0 | DE118: =DD118*$F118 -> 0 | DG118: =DF118*$F118 -> 0 | DI118: =DH118*$F118 -> 0 | DK118: =DJ118*$F118 -> 0 | DM118: =DL118*$F118 -> 0 | DO118: =DN118*$F118 -> 0 | DQ118: =DP118*$F118 -> 0 | DS118: =DR118*$F118 -> 0 | DU118: =DT118*$F118 -> 0 | DW118: =DV118*$F118 -> 0 | DY118: =DX118*$F118 -> 0 | EA118: =DZ118*$F118 -> 0 | EC118: =EB118*$F118 -> 0 | EE118: =ED118*$F118 -> 0
D119: megvalósulási | G119: =#VALUE! -> 0 | I119: =H119*$F119 -> 0 | K119: =J119*$F119 -> 0 | M119: =L119*$F119 -> 0 | O119: =N119*$F119 -> 0 | Q119: =P119*$F119 -> 0 | S119: =R119*$F119 -> 0 | U119: =T119*$F119 -> 0 | W119: =V119*$F119 -> 0 | Y119: =X119*$F119 -> 0 | AA119: =Z119*$F119 -> 0 | AC119: =AB119*$F119 -> 0 | AE119: =AD119*$F119 -> 0 | AG119: =AF119*$F119 -> 0 | AI119: =AH119*$F119 -> 0 | AK119: =AJ119*$F119 -> 0 | AM119: =AL119*$F119 -> 0 | AO119: =AN119*$F119 -> 0 | AQ119: =AP119*$F119 -> 0 | AS119: =AR119*$F119 -> 0 | AU119: =AT119*$F119 -> 0 | AW119: =AV119*$F119 -> 0 | AY119: =AX119*$F119 -> 0 | BA119: =AZ119*$F119 -> 0 | BC119: =BB119*$F119 -> 0 | BE119: =BD119*$F119 -> 0 | BG119: =BF119*$F119 -> 0 | BI119: =BH119*$F119 -> 0 | BK119: =BJ119*$F119 -> 0 | BM119: =BL119*$F119 -> 0 | BO119: =BN119*$F119 -> 0 | BQ119: =BP119*$F119 -> 0 | BS119: =BR119*$F119 -> 0 | BU119: =BT119*$F119 -> 0 | BW119: =BV119*$F119 -> 0 | BY119: =BX119*$F119 -> 0 | CA119: =BZ119*$F119 -> 0 | CC119: =CB119*$F119 -> 0 | CE119: =CD119*$F119 -> 0 | CG119: =CF119*$F119 -> 0 | CI119: =CH119*$F119 -> 0 | CK119: =CJ119*$F119 -> 0 | CM119: =CL119*$F119 -> 0 | CO119: =CN119*$F119 -> 0 | CQ119: =CP119*$F119 -> 0 | CS119: =CR119*$F119 -> 0 | CU119: =CT119*$F119 -> 0 | CW119: =CV119*$F119 -> 0 | CY119: =CX119*$F119 -> 0 | DA119: =CZ119*$F119 -> 0 | DC119: =DB119*$F119 -> 0 | DE119: =DD119*$F119 -> 0 | DG119: =DF119*$F119 -> 0 | DI119: =DH119*$F119 -> 0 | DK119: =DJ119*$F119 -> 0 | DM119: =DL119*$F119 -> 0 | DO119: =DN119*$F119 -> 0 | DQ119: =DP119*$F119 -> 0 | DS119: =DR119*$F119 -> 0 | DU119: =DT119*$F119 -> 0 | DW119: =DV119*$F119 -> 0 | DY119: =DX119*$F119 -> 0 | EA119: =DZ119*$F119 -> 0 | EC119: =EB119*$F119 -> 0 | EE119: =ED119*$F119 -> 0
C120: 46 | D120: Vizsgálatok, próbamérések | G120: =#VALUE! -> 0 | I120: =SUM(I121:I122) -> 0 | K120: =SUM(K121:K122) -> 0 | M120: =SUM(M121:M122) -> 0 | O120: =SUM(O121:O122) -> 0 | Q120: =SUM(Q121:Q122) -> 0 | S120: =SUM(S121:S122) -> 0 | U120: =SUM(U121:U122) -> 0 | W120: =SUM(W121:W122) -> 0 | Y120: =SUM(Y121:Y122) -> 0 | AA120: =SUM(AA121:AA122) -> 0 | AC120: =SUM(AC121:AC122) -> 0 | AE120: =SUM(AE121:AE122) -> 0 | AG120: =SUM(AG121:AG122) -> 0 | AI120: =SUM(AI121:AI122) -> 0 | AK120: =SUM(AK121:AK122) -> 0 | AM120: =SUM(AM121:AM122) -> 0 | AO120: =SUM(AO121:AO122) -> 0 | AQ120: =SUM(AQ121:AQ122) -> 0 | AS120: =SUM(AS121:AS122) -> 0 | AU120: =SUM(AU121:AU122) -> 0 | AW120: =SUM(AW121:AW122) -> 0 | AY120: =SUM(AY121:AY122) -> 0 | BA120: =SUM(BA121:BA122) -> 0 | BC120: =SUM(BC121:BC122) -> 0 | BE120: =SUM(BE121:BE122) -> 0 | BG120: =SUM(BG121:BG122) -> 0 | BI120: =SUM(BI121:BI122) -> 0 | BK120: =SUM(BK121:BK122) -> 0 | BM120: =SUM(BM121:BM122) -> 0 | BO120: =SUM(BO121:BO122) -> 0 | BQ120: =SUM(BQ121:BQ122) -> 0 | BS120: =SUM(BS121:BS122) -> 0 | BU120: =SUM(BU121:BU122) -> 0 | BW120: =SUM(BW121:BW122) -> 0 | BY120: =SUM(BY121:BY122) -> 0 | CA120: =SUM(CA121:CA122) -> 0 | CC120: =SUM(CC121:CC122) -> 0 | CE120: =SUM(CE121:CE122) -> 0 | CG120: =SUM(CG121:CG122) -> 0 | CI120: =SUM(CI121:CI122) -> 0 | CK120: =SUM(CK121:CK122) -> 0 | CM120: =SUM(CM121:CM122) -> 0 | CO120: =SUM(CO121:CO122) -> 0 | CQ120: =SUM(CQ121:CQ122) -> 0 | CS120: =SUM(CS121:CS122) -> 0 | CU120: =SUM(CU121:CU122) -> 0 | CW120: =SUM(CW121:CW122) -> 0 | CY120: =SUM(CY121:CY122) -> 0 | DA120: =SUM(DA121:DA122) -> 0 | DC120: =SUM(DC121:DC122) -> 0 | DE120: =SUM(DE121:DE122) -> 0 | DG120: =SUM(DG121:DG122) -> 0 | DI120: =SUM(DI121:DI122) -> 0 | DK120: =SUM(DK121:DK122) -> 0 | DM120: =SUM(DM121:DM122) -> 0 | DO120: =SUM(DO121:DO122) -> 0 | DQ120: =SUM(DQ121:DQ122) -> 0 | DS120: =SUM(DS121:DS122) -> 0 | DU120: =SUM(DU121:DU122) -> 0 | DW120: =SUM(DW121:DW122) -> 0 | DY120: =SUM(DY121:DY122) -> 0 | EA120: =SUM(EA121:EA122) -> 0 | EC120: =SUM(EC121:EC122) -> 0 | EE120: =SUM(EE121:EE122) -> 0
D121: próbafúrás | G121: =#VALUE! -> 0 | I121: =H121*$F121 -> 0 | K121: =J121*$F121 -> 0 | M121: =L121*$F121 -> 0 | O121: =N121*$F121 -> 0 | Q121: =P121*$F121 -> 0 | S121: =R121*$F121 -> 0 | U121: =T121*$F121 -> 0 | W121: =V121*$F121 -> 0 | Y121: =X121*$F121 -> 0 | AA121: =Z121*$F121 -> 0 | AC121: =AB121*$F121 -> 0 | AE121: =AD121*$F121 -> 0 | AG121: =AF121*$F121 -> 0 | AI121: =AH121*$F121 -> 0 | AK121: =AJ121*$F121 -> 0 | AM121: =AL121*$F121 -> 0 | AO121: =AN121*$F121 -> 0 | AQ121: =AP121*$F121 -> 0 | AS121: =AR121*$F121 -> 0 | AU121: =AT121*$F121 -> 0 | AW121: =AV121*$F121 -> 0 | AY121: =AX121*$F121 -> 0 | BA121: =AZ121*$F121 -> 0 | BC121: =BB121*$F121 -> 0 | BE121: =BD121*$F121 -> 0 | BG121: =BF121*$F121 -> 0 | BI121: =BH121*$F121 -> 0 | BK121: =BJ121*$F121 -> 0 | BM121: =BL121*$F121 -> 0 | BO121: =BN121*$F121 -> 0 | BQ121: =BP121*$F121 -> 0 | BS121: =BR121*$F121 -> 0 | BU121: =BT121*$F121 -> 0 | BW121: =BV121*$F121 -> 0 | BY121: =BX121*$F121 -> 0 | CA121: =BZ121*$F121 -> 0 | CC121: =CB121*$F121 -> 0 | CE121: =CD121*$F121 -> 0 | CG121: =CF121*$F121 -> 0 | CI121: =CH121*$F121 -> 0 | CK121: =CJ121*$F121 -> 0 | CM121: =CL121*$F121 -> 0 | CO121: =CN121*$F121 -> 0 | CQ121: =CP121*$F121 -> 0 | CS121: =CR121*$F121 -> 0 | CU121: =CT121*$F121 -> 0 | CW121: =CV121*$F121 -> 0 | CY121: =CX121*$F121 -> 0 | DA121: =CZ121*$F121 -> 0 | DC121: =DB121*$F121 -> 0 | DE121: =DD121*$F121 -> 0 | DG121: =DF121*$F121 -> 0 | DI121: =DH121*$F121 -> 0 | DK121: =DJ121*$F121 -> 0 | DM121: =DL121*$F121 -> 0 | DO121: =DN121*$F121 -> 0 | DQ121: =DP121*$F121 -> 0 | DS121: =DR121*$F121 -> 0 | DU121: =DT121*$F121 -> 0 | DW121: =DV121*$F121 -> 0 | DY121: =DX121*$F121 -> 0 | EA121: =DZ121*$F121 -> 0 | EC121: =EB121*$F121 -> 0 | EE121: =ED121*$F121 -> 0
D122: tömörség | G122: =#VALUE! -> 0 | I122: =H122*$F122 -> 0 | K122: =J122*$F122 -> 0 | M122: =L122*$F122 -> 0 | O122: =N122*$F122 -> 0 | Q122: =P122*$F122 -> 0 | S122: =R122*$F122 -> 0 | U122: =T122*$F122 -> 0 | W122: =V122*$F122 -> 0 | Y122: =X122*$F122 -> 0 | AA122: =Z122*$F122 -> 0 | AC122: =AB122*$F122 -> 0 | AE122: =AD122*$F122 -> 0 | AG122: =AF122*$F122 -> 0 | AI122: =AH122*$F122 -> 0 | AK122: =AJ122*$F122 -> 0 | AM122: =AL122*$F122 -> 0 | AO122: =AN122*$F122 -> 0 | AQ122: =AP122*$F122 -> 0 | AS122: =AR122*$F122 -> 0 | AU122: =AT122*$F122 -> 0 | AW122: =AV122*$F122 -> 0 | AY122: =AX122*$F122 -> 0 | BA122: =AZ122*$F122 -> 0 | BC122: =BB122*$F122 -> 0 | BE122: =BD122*$F122 -> 0 | BG122: =BF122*$F122 -> 0 | BI122: =BH122*$F122 -> 0 | BK122: =BJ122*$F122 -> 0 | BM122: =BL122*$F122 -> 0 | BO122: =BN122*$F122 -> 0 | BQ122: =BP122*$F122 -> 0 | BS122: =BR122*$F122 -> 0 | BU122: =BT122*$F122 -> 0 | BW122: =BV122*$F122 -> 0 | BY122: =BX122*$F122 -> 0 | CA122: =BZ122*$F122 -> 0 | CC122: =CB122*$F122 -> 0 | CE122: =CD122*$F122 -> 0 | CG122: =CF122*$F122 -> 0 | CI122: =CH122*$F122 -> 0 | CK122: =CJ122*$F122 -> 0 | CM122: =CL122*$F122 -> 0 | CO122: =CN122*$F122 -> 0 | CQ122: =CP122*$F122 -> 0 | CS122: =CR122*$F122 -> 0 | CU122: =CT122*$F122 -> 0 | CW122: =CV122*$F122 -> 0 | CY122: =CX122*$F122 -> 0 | DA122: =CZ122*$F122 -> 0 | DC122: =DB122*$F122 -> 0 | DE122: =DD122*$F122 -> 0 | DG122: =DF122*$F122 -> 0 | DI122: =DH122*$F122 -> 0 | DK122: =DJ122*$F122 -> 0 | DM122: =DL122*$F122 -> 0 | DO122: =DN122*$F122 -> 0 | DQ122: =DP122*$F122 -> 0 | DS122: =DR122*$F122 -> 0 | DU122: =DT122*$F122 -> 0 | DW122: =DV122*$F122 -> 0 | DY122: =DX122*$F122 -> 0 | EA122: =DZ122*$F122 -> 0 | EC122: =EB122*$F122 -> 0 | EE122: =ED122*$F122 -> 0
C123: 47 | D123: Tervezés | G123: =#VALUE! -> 0 | I123: =H123*$F123 -> 0 | K123: =J123*$F123 -> 0 | M123: =L123*$F123 -> 0 | O123: =N123*$F123 -> 0 | Q123: =P123*$F123 -> 0 | S123: =R123*$F123 -> 0 | U123: =T123*$F123 -> 0 | W123: =V123*$F123 -> 0 | Y123: =X123*$F123 -> 0 | AA123: =Z123*$F123 -> 0 | AC123: =AB123*$F123 -> 0 | AE123: =AD123*$F123 -> 0 | AG123: =AF123*$F123 -> 0 | AI123: =AH123*$F123 -> 0 | AK123: =AJ123*$F123 -> 0 | AM123: =AL123*$F123 -> 0 | AO123: =AN123*$F123 -> 0 | AQ123: =AP123*$F123 -> 0 | AS123: =AR123*$F123 -> 0 | AU123: =AT123*$F123 -> 0 | AW123: =AV123*$F123 -> 0 | AY123: =AX123*$F123 -> 0 | BA123: =AZ123*$F123 -> 0 | BC123: =BB123*$F123 -> 0 | BE123: =BD123*$F123 -> 0 | BG123: =BF123*$F123 -> 0 | BI123: =BH123*$F123 -> 0 | BK123: =BJ123*$F123 -> 0 | BM123: =BL123*$F123 -> 0 | BO123: =BN123*$F123 -> 0 | BQ123: =BP123*$F123 -> 0 | BS123: =BR123*$F123 -> 0 | BU123: =BT123*$F123 -> 0 | BW123: =BV123*$F123 -> 0 | BY123: =BX123*$F123 -> 0 | CA123: =BZ123*$F123 -> 0 | CC123: =CB123*$F123 -> 0 | CE123: =CD123*$F123 -> 0 | CG123: =CF123*$F123 -> 0 | CI123: =CH123*$F123 -> 0 | CK123: =CJ123*$F123 -> 0 | CM123: =CL123*$F123 -> 0 | CO123: =CN123*$F123 -> 0 | CQ123: =CP123*$F123 -> 0 | CS123: =CR123*$F123 -> 0 | CU123: =CT123*$F123 -> 0 | CW123: =CV123*$F123 -> 0 | CY123: =CX123*$F123 -> 0 | DA123: =CZ123*$F123 -> 0 | DC123: =DB123*$F123 -> 0 | DE123: =DD123*$F123 -> 0 | DG123: =DF123*$F123 -> 0 | DI123: =DH123*$F123 -> 0 | DK123: =DJ123*$F123 -> 0 | DM123: =DL123*$F123 -> 0 | DO123: =DN123*$F123 -> 0 | DQ123: =DP123*$F123 -> 0 | DS123: =DR123*$F123 -> 0 | DU123: =DT123*$F123 -> 0 | DW123: =DV123*$F123 -> 0 | DY123: =DX123*$F123 -> 0 | EA123: =DZ123*$F123 -> 0 | EC123: =EB123*$F123 -> 0 | EE123: =ED123*$F123 -> 0
A125: N5 | B125: Anyagok | G125: =#VALUE! -> 0 | I125: =SUM(I126,I130,I129,I132,I134,I136,I138:I140,I142,I146,I145) -> 0 | K125: =SUM(K126,K130,K129,K132,K134,K136,K138:K140,K142,K146,K145) -> 0 | M125: =SUM(M126,M130,M129,M132,M134,M136,M138:M140,M142,M146,M145) -> 0 | O125: =SUM(O126,O130,O129,O132,O134,O136,O138:O140,O142,O146,O145) -> 0 | Q125: =SUM(Q126,Q130,Q129,Q132,Q134,Q136,Q138:Q140,Q142,Q146,Q145) -> 0 | S125: =SUM(S126,S130,S129,S132,S134,S136,S138:S140,S142,S146,S145) -> 0 | U125: =SUM(U126,U130,U129,U132,U134,U136,U138:U140,U142,U146,U145) -> 0 | W125: =SUM(W126,W130,W129,W132,W134,W136,W138:W140,W142,W146,W145) -> 0 | Y125: =SUM(Y126,Y130,Y129,Y132,Y134,Y136,Y138:Y140,Y142,Y146,Y145) -> 0 | AA125: =SUM(AA126,AA130,AA129,AA132,AA134,AA136,AA138:AA140,AA142,AA146,AA145) -> 0 | AC125: =SUM(AC126,AC130,AC129,AC132,AC134,AC136,AC138:AC140,AC142,AC146,AC145) -> 0 | AE125: =SUM(AE126,AE130,AE129,AE132,AE134,AE136,AE138:AE140,AE142,AE146,AE145) -> 0 | AG125: =SUM(AG126,AG130,AG129,AG132,AG134,AG136,AG138:AG140,AG142,AG146,AG145) -> 0 | AI125: =SUM(AI126,AI130,AI129,AI132,AI134,AI136,AI138:AI140,AI142,AI146,AI145) -> 0 | AK125: =SUM(AK126,AK130,AK129,AK132,AK134,AK136,AK138:AK140,AK142,AK146,AK145) -> 0 | AM125: =SUM(AM126,AM130,AM129,AM132,AM134,AM136,AM138:AM140,AM142,AM146,AM145) -> 0 | AO125: =SUM(AO126,AO130,AO129,AO132,AO134,AO136,AO138:AO140,AO142,AO146,AO145) -> 0 | AQ125: =SUM(AQ126,AQ130,AQ129,AQ132,AQ134,AQ136,AQ138:AQ140,AQ142,AQ146,AQ145) -> 0 | AS125: =SUM(AS126,AS130,AS129,AS132,AS134,AS136,AS138:AS140,AS142,AS146,AS145) -> 0 | AU125: =SUM(AU126,AU130,AU129,AU132,AU134,AU136,AU138:AU140,AU142,AU146,AU145) -> 0 | AW125: =SUM(AW126,AW130,AW129,AW132,AW134,AW136,AW138:AW140,AW142,AW146,AW145) -> 0 | AY125: =SUM(AY126,AY130,AY129,AY132,AY134,AY136,AY138:AY140,AY142,AY146,AY145) -> 0 | BA125: =SUM(BA126,BA130,BA129,BA132,BA134,BA136,BA138:BA140,BA142,BA146,BA145) -> 0 | BC125: =SUM(BC126,BC130,BC129,BC132,BC134,BC136,BC138:BC140,BC142,BC146,BC145) -> 0 | BE125: =SUM(BE126,BE130,BE129,BE132,BE134,BE136,BE138:BE140,BE142,BE146,BE145) -> 0 | BG125: =SUM(BG126,BG130,BG129,BG132,BG134,BG136,BG138:BG140,BG142,BG146,BG145) -> 0 | BI125: =SUM(BI126,BI130,BI129,BI132,BI134,BI136,BI138:BI140,BI142,BI146,BI145) -> 0 | BK125: =SUM(BK126,BK130,BK129,BK132,BK134,BK136,BK138:BK140,BK142,BK146,BK145) -> 0 | BM125: =SUM(BM126,BM130,BM129,BM132,BM134,BM136,BM138:BM140,BM142,BM146,BM145) -> 0 | BO125: =SUM(BO126,BO130,BO129,BO132,BO134,BO136,BO138:BO140,BO142,BO146,BO145) -> 0 | BQ125: =SUM(BQ126,BQ130,BQ129,BQ132,BQ134,BQ136,BQ138:BQ140,BQ142,BQ146,BQ145) -> 0 | BS125: =SUM(BS126,BS130,BS129,BS132,BS134,BS136,BS138:BS140,BS142,BS146,BS145) -> 0 | BU125: =SUM(BU126,BU130,BU129,BU132,BU134,BU136,BU138:BU140,BU142,BU146,BU145) -> 0 | BW125: =SUM(BW126,BW130,BW129,BW132,BW134,BW136,BW138:BW140,BW142,BW146,BW145) -> 0 | BY125: =SUM(BY126,BY130,BY129,BY132,BY134,BY136,BY138:BY140,BY142,BY146,BY145) -> 0 | CA125: =SUM(CA126,CA130,CA129,CA132,CA134,CA136,CA138:CA140,CA142,CA146,CA145) -> 0 | CC125: =SUM(CC126,CC130,CC129,CC132,CC134,CC136,CC138:CC140,CC142,CC146,CC145) -> 0 | CE125: =SUM(CE126,CE130,CE129,CE132,CE134,CE136,CE138:CE140,CE142,CE146,CE145) -> 0 | CG125: =SUM(CG126,CG130,CG129,CG132,CG134,CG136,CG138:CG140,CG142,CG146,CG145) -> 0 | CI125: =SUM(CI126,CI130,CI129,CI132,CI134,CI136,CI138:CI140,CI142,CI146,CI145) -> 0 | CK125: =SUM(CK126,CK130,CK129,CK132,CK134,CK136,CK138:CK140,CK142,CK146,CK145) -> 0 | CM125: =SUM(CM126,CM130,CM129,CM132,CM134,CM136,CM138:CM140,CM142,CM146,CM145) -> 0 | CO125: =SUM(CO126,CO130,CO129,CO132,CO134,CO136,CO138:CO140,CO142,CO146,CO145) -> 0 | CQ125: =SUM(CQ126,CQ130,CQ129,CQ132,CQ134,CQ136,CQ138:CQ140,CQ142,CQ146,CQ145) -> 0 | CS125: =SUM(CS126,CS130,CS129,CS132,CS134,CS136,CS138:CS140,CS142,CS146,CS145) -> 0 | CU125: =SUM(CU126,CU130,CU129,CU132,CU134,CU136,CU138:CU140,CU142,CU146,CU145) -> 0 | CW125: =SUM(CW126,CW130,CW129,CW132,CW134,CW136,CW138:CW140,CW142,CW146,CW145) -> 0 | CY125: =SUM(CY126,CY130,CY129,CY132,CY134,CY136,CY138:CY140,CY142,CY146,CY145) -> 0 | DA125: =SUM(DA126,DA130,DA129,DA132,DA134,DA136,DA138:DA140,DA142,DA146,DA145) -> 0 | DC125: =SUM(DC126,DC130,DC129,DC132,DC134,DC136,DC138:DC140,DC142,DC146,DC145) -> 0 | DE125: =SUM(DE126,DE130,DE129,DE132,DE134,DE136,DE138:DE140,DE142,DE146,DE145) -> 0 | DG125: =SUM(DG126,DG130,DG129,DG132,DG134,DG136,DG138:DG140,DG142,DG146,DG145) -> 0 | DI125: =SUM(DI126,DI130,DI129,DI132,DI134,DI136,DI138:DI140,DI142,DI146,DI145) -> 0 | DK125: =SUM(DK126,DK130,DK129,DK132,DK134,DK136,DK138:DK140,DK142,DK146,DK145) -> 0 | DM125: =SUM(DM126,DM130,DM129,DM132,DM134,DM136,DM138:DM140,DM142,DM146,DM145) -> 0 | DO125: =SUM(DO126,DO130,DO129,DO132,DO134,DO136,DO138:DO140,DO142,DO146,DO145) -> 0 | DQ125: =SUM(DQ126,DQ130,DQ129,DQ132,DQ134,DQ136,DQ138:DQ140,DQ142,DQ146,DQ145) -> 0 | DS125: =SUM(DS126,DS130,DS129,DS132,DS134,DS136,DS138:DS140,DS142,DS146,DS145) -> 0 | DU125: =SUM(DU126,DU130,DU129,DU132,DU134,DU136,DU138:DU140,DU142,DU146,DU145) -> 0 | DW125: =SUM(DW126,DW130,DW129,DW132,DW134,DW136,DW138:DW140,DW142,DW146,DW145) -> 0 | DY125: =SUM(DY126,DY130,DY129,DY132,DY134,DY136,DY138:DY140,DY142,DY146,DY145) -> 0 | EA125: =SUM(EA126,EA130,EA129,EA132,EA134,EA136,EA138:EA140,EA142,EA146,EA145) -> 0 | EC125: =SUM(EC126,EC130,EC129,EC132,EC134,EC136,EC138:EC140,EC142,EC146,EC145) -> 0 | EE125: =SUM(EE126,EE130,EE129,EE132,EE134,EE136,EE138:EE140,EE142,EE146,EE145) -> 0
C126: 515 | D126: Csövek | G126: =#VALUE! -> 0 | I126: =SUM(I127:I128) -> 0 | K126: =SUM(K127:K128) -> 0 | M126: =SUM(M127:M128) -> 0 | O126: =SUM(O127:O128) -> 0 | Q126: =SUM(Q127:Q128) -> 0 | S126: =SUM(S127:S128) -> 0 | U126: =SUM(U127:U128) -> 0 | W126: =SUM(W127:W128) -> 0 | Y126: =SUM(Y127:Y128) -> 0 | AA126: =SUM(AA127:AA128) -> 0 | AC126: =SUM(AC127:AC128) -> 0 | AE126: =SUM(AE127:AE128) -> 0 | AG126: =SUM(AG127:AG128) -> 0 | AI126: =SUM(AI127:AI128) -> 0 | AK126: =SUM(AK127:AK128) -> 0 | AM126: =SUM(AM127:AM128) -> 0 | AO126: =SUM(AO127:AO128) -> 0 | AQ126: =SUM(AQ127:AQ128) -> 0 | AS126: =SUM(AS127:AS128) -> 0 | AU126: =SUM(AU127:AU128) -> 0 | AW126: =SUM(AW127:AW128) -> 0 | AY126: =SUM(AY127:AY128) -> 0 | BA126: =SUM(BA127:BA128) -> 0 | BC126: =SUM(BC127:BC128) -> 0 | BE126: =SUM(BE127:BE128) -> 0 | BG126: =SUM(BG127:BG128) -> 0 | BI126: =SUM(BI127:BI128) -> 0 | BK126: =SUM(BK127:BK128) -> 0 | BM126: =SUM(BM127:BM128) -> 0 | BO126: =SUM(BO127:BO128) -> 0 | BQ126: =SUM(BQ127:BQ128) -> 0 | BS126: =SUM(BS127:BS128) -> 0 | BU126: =SUM(BU127:BU128) -> 0 | BW126: =SUM(BW127:BW128) -> 0 | BY126: =SUM(BY127:BY128) -> 0 | CA126: =SUM(CA127:CA128) -> 0 | CC126: =SUM(CC127:CC128) -> 0 | CE126: =SUM(CE127:CE128) -> 0 | CG126: =SUM(CG127:CG128) -> 0 | CI126: =SUM(CI127:CI128) -> 0 | CK126: =SUM(CK127:CK128) -> 0 | CM126: =SUM(CM127:CM128) -> 0 | CO126: =SUM(CO127:CO128) -> 0 | CQ126: =SUM(CQ127:CQ128) -> 0 | CS126: =SUM(CS127:CS128) -> 0 | CU126: =SUM(CU127:CU128) -> 0 | CW126: =SUM(CW127:CW128) -> 0 | CY126: =SUM(CY127:CY128) -> 0 | DA126: =SUM(DA127:DA128) -> 0 | DC126: =SUM(DC127:DC128) -> 0 | DE126: =SUM(DE127:DE128) -> 0 | DG126: =SUM(DG127:DG128) -> 0 | DI126: =SUM(DI127:DI128) -> 0 | DK126: =SUM(DK127:DK128) -> 0 | DM126: =SUM(DM127:DM128) -> 0 | DO126: =SUM(DO127:DO128) -> 0 | DQ126: =SUM(DQ127:DQ128) -> 0 | DS126: =SUM(DS127:DS128) -> 0 | DU126: =SUM(DU127:DU128) -> 0 | DW126: =SUM(DW127:DW128) -> 0 | DY126: =SUM(DY127:DY128) -> 0 | EA126: =SUM(EA127:EA128) -> 0 | EC126: =SUM(EC127:EC128) -> 0 | EE126: =SUM(EE127:EE128) -> 0
D127: Bonex | G127: =#VALUE! -> 0 | I127: =H127*$F127 -> 0 | K127: =J127*$F127 -> 0 | M127: =L127*$F127 -> 0 | O127: =N127*$F127 -> 0 | Q127: =P127*$F127 -> 0 | S127: =R127*$F127 -> 0 | U127: =T127*$F127 -> 0 | W127: =V127*$F127 -> 0 | Y127: =X127*$F127 -> 0 | AA127: =Z127*$F127 -> 0 | AC127: =AB127*$F127 -> 0 | AE127: =AD127*$F127 -> 0 | AG127: =AF127*$F127 -> 0 | AI127: =AH127*$F127 -> 0 | AK127: =AJ127*$F127 -> 0 | AM127: =AL127*$F127 -> 0 | AO127: =AN127*$F127 -> 0 | AQ127: =AP127*$F127 -> 0 | AS127: =AR127*$F127 -> 0 | AU127: =AT127*$F127 -> 0 | AW127: =AV127*$F127 -> 0 | AY127: =AX127*$F127 -> 0 | BA127: =AZ127*$F127 -> 0 | BC127: =BB127*$F127 -> 0 | BE127: =BD127*$F127 -> 0 | BG127: =BF127*$F127 -> 0 | BI127: =BH127*$F127 -> 0 | BK127: =BJ127*$F127 -> 0 | BM127: =BL127*$F127 -> 0 | BO127: =BN127*$F127 -> 0 | BQ127: =BP127*$F127 -> 0 | BS127: =BR127*$F127 -> 0 | BU127: =BT127*$F127 -> 0 | BW127: =BV127*$F127 -> 0 | BY127: =BX127*$F127 -> 0 | CA127: =BZ127*$F127 -> 0 | CC127: =CB127*$F127 -> 0 | CE127: =CD127*$F127 -> 0 | CG127: =CF127*$F127 -> 0 | CI127: =CH127*$F127 -> 0 | CK127: =CJ127*$F127 -> 0 | CM127: =CL127*$F127 -> 0 | CO127: =CN127*$F127 -> 0 | CQ127: =CP127*$F127 -> 0 | CS127: =CR127*$F127 -> 0 | CU127: =CT127*$F127 -> 0 | CW127: =CV127*$F127 -> 0 | CY127: =CX127*$F127 -> 0 | DA127: =CZ127*$F127 -> 0 | DC127: =DB127*$F127 -> 0 | DE127: =DD127*$F127 -> 0 | DG127: =DF127*$F127 -> 0 | DI127: =DH127*$F127 -> 0 | DK127: =DJ127*$F127 -> 0 | DM127: =DL127*$F127 -> 0 | DO127: =DN127*$F127 -> 0 | DQ127: =DP127*$F127 -> 0 | DS127: =DR127*$F127 -> 0 | DU127: =DT127*$F127 -> 0 | DW127: =DV127*$F127 -> 0 | DY127: =DX127*$F127 -> 0 | EA127: =DZ127*$F127 -> 0 | EC127: =EB127*$F127 -> 0 | EE127: =ED127*$F127 -> 0
D128: AGM | G128: =#VALUE! -> 0 | I128: =H128*$F128 -> 0 | K128: =J128*$F128 -> 0 | M128: =L128*$F128 -> 0 | O128: =N128*$F128 -> 0 | Q128: =P128*$F128 -> 0 | S128: =R128*$F128 -> 0 | U128: =T128*$F128 -> 0 | W128: =V128*$F128 -> 0 | Y128: =X128*$F128 -> 0 | AA128: =Z128*$F128 -> 0 | AC128: =AB128*$F128 -> 0 | AE128: =AD128*$F128 -> 0 | AG128: =AF128*$F128 -> 0 | AI128: =AH128*$F128 -> 0 | AK128: =AJ128*$F128 -> 0 | AM128: =AL128*$F128 -> 0 | AO128: =AN128*$F128 -> 0 | AQ128: =AP128*$F128 -> 0 | AS128: =AR128*$F128 -> 0 | AU128: =AT128*$F128 -> 0 | AW128: =AV128*$F128 -> 0 | AY128: =AX128*$F128 -> 0 | BA128: =AZ128*$F128 -> 0 | BC128: =BB128*$F128 -> 0 | BE128: =BD128*$F128 -> 0 | BG128: =BF128*$F128 -> 0 | BI128: =BH128*$F128 -> 0 | BK128: =BJ128*$F128 -> 0 | BM128: =BL128*$F128 -> 0 | BO128: =BN128*$F128 -> 0 | BQ128: =BP128*$F128 -> 0 | BS128: =BR128*$F128 -> 0 | BU128: =BT128*$F128 -> 0 | BW128: =BV128*$F128 -> 0 | BY128: =BX128*$F128 -> 0 | CA128: =BZ128*$F128 -> 0 | CC128: =CB128*$F128 -> 0 | CE128: =CD128*$F128 -> 0 | CG128: =CF128*$F128 -> 0 | CI128: =CH128*$F128 -> 0 | CK128: =CJ128*$F128 -> 0 | CM128: =CL128*$F128 -> 0 | CO128: =CN128*$F128 -> 0 | CQ128: =CP128*$F128 -> 0 | CS128: =CR128*$F128 -> 0 | CU128: =CT128*$F128 -> 0 | CW128: =CV128*$F128 -> 0 | CY128: =CX128*$F128 -> 0 | DA128: =CZ128*$F128 -> 0 | DC128: =DB128*$F128 -> 0 | DE128: =DD128*$F128 -> 0 | DG128: =DF128*$F128 -> 0 | DI128: =DH128*$F128 -> 0 | DK128: =DJ128*$F128 -> 0 | DM128: =DL128*$F128 -> 0 | DO128: =DN128*$F128 -> 0 | DQ128: =DP128*$F128 -> 0 | DS128: =DR128*$F128 -> 0 | DU128: =DT128*$F128 -> 0 | DW128: =DV128*$F128 -> 0 | DY128: =DX128*$F128 -> 0 | EA128: =DZ128*$F128 -> 0 | EC128: =EB128*$F128 -> 0 | ED128: 45 | EE128: =ED128*$F128 -> 0
C129: 516 | D129: Idomok | G129: =#VALUE! -> 0 | I129: =H129*$F129 -> 0 | K129: =J129*$F129 -> 0 | M129: =L129*$F129 -> 0 | O129: =N129*$F129 -> 0 | Q129: =P129*$F129 -> 0 | S129: =R129*$F129 -> 0 | U129: =T129*$F129 -> 0 | W129: =V129*$F129 -> 0 | Y129: =X129*$F129 -> 0 | AA129: =Z129*$F129 -> 0 | AC129: =AB129*$F129 -> 0 | AE129: =AD129*$F129 -> 0 | AG129: =AF129*$F129 -> 0 | AI129: =AH129*$F129 -> 0 | AK129: =AJ129*$F129 -> 0 | AM129: =AL129*$F129 -> 0 | AO129: =AN129*$F129 -> 0 | AQ129: =AP129*$F129 -> 0 | AS129: =AR129*$F129 -> 0 | AU129: =AT129*$F129 -> 0 | AW129: =AV129*$F129 -> 0 | AY129: =AX129*$F129 -> 0 | BA129: =AZ129*$F129 -> 0 | BC129: =BB129*$F129 -> 0 | BE129: =BD129*$F129 -> 0 | BG129: =BF129*$F129 -> 0 | BI129: =BH129*$F129 -> 0 | BK129: =BJ129*$F129 -> 0 | BM129: =BL129*$F129 -> 0 | BO129: =BN129*$F129 -> 0 | BQ129: =BP129*$F129 -> 0 | BS129: =BR129*$F129 -> 0 | BU129: =BT129*$F129 -> 0 | BW129: =BV129*$F129 -> 0 | BY129: =BX129*$F129 -> 0 | CA129: =BZ129*$F129 -> 0 | CC129: =CB129*$F129 -> 0 | CE129: =CD129*$F129 -> 0 | CG129: =CF129*$F129 -> 0 | CI129: =CH129*$F129 -> 0 | CK129: =CJ129*$F129 -> 0 | CM129: =CL129*$F129 -> 0 | CO129: =CN129*$F129 -> 0 | CQ129: =CP129*$F129 -> 0 | CS129: =CR129*$F129 -> 0 | CU129: =CT129*$F129 -> 0 | CW129: =CV129*$F129 -> 0 | CY129: =CX129*$F129 -> 0 | DA129: =CZ129*$F129 -> 0 | DC129: =DB129*$F129 -> 0 | DE129: =DD129*$F129 -> 0 | DG129: =DF129*$F129 -> 0 | DI129: =DH129*$F129 -> 0 | DK129: =DJ129*$F129 -> 0 | DM129: =DL129*$F129 -> 0 | DO129: =DN129*$F129 -> 0 | DQ129: =DP129*$F129 -> 0 | DS129: =DR129*$F129 -> 0 | DU129: =DT129*$F129 -> 0 | DW129: =DV129*$F129 -> 0 | DY129: =DX129*$F129 -> 0 | EA129: =DZ129*$F129 -> 0 | EC129: =EB129*$F129 -> 0 | ED129: 5 | EE129: =ED129*$F129 -> 0
C130: 52 | D130: Beton | G130: =#VALUE! -> 0 | I130: =SUM(I131) -> 0 | K130: =SUM(K131) -> 0 | M130: =SUM(M131) -> 0 | O130: =SUM(O131) -> 0 | Q130: =SUM(Q131) -> 0 | S130: =SUM(S131) -> 0 | U130: =SUM(U131) -> 0 | W130: =SUM(W131) -> 0 | Y130: =SUM(Y131) -> 0 | AA130: =SUM(AA131) -> 0 | AC130: =SUM(AC131) -> 0 | AE130: =SUM(AE131) -> 0 | AG130: =SUM(AG131) -> 0 | AI130: =SUM(AI131) -> 0 | AK130: =SUM(AK131) -> 0 | AM130: =SUM(AM131) -> 0 | AO130: =SUM(AO131) -> 0 | AQ130: =SUM(AQ131) -> 0 | AS130: =SUM(AS131) -> 0 | AU130: =SUM(AU131) -> 0 | AW130: =SUM(AW131) -> 0 | AY130: =SUM(AY131) -> 0 | BA130: =SUM(BA131) -> 0 | BC130: =SUM(BC131) -> 0 | BE130: =SUM(BE131) -> 0 | BG130: =SUM(BG131) -> 0 | BI130: =SUM(BI131) -> 0 | BK130: =SUM(BK131) -> 0 | BM130: =SUM(BM131) -> 0 | BO130: =SUM(BO131) -> 0 | BQ130: =SUM(BQ131) -> 0 | BS130: =SUM(BS131) -> 0 | BU130: =SUM(BU131) -> 0 | BW130: =SUM(BW131) -> 0 | BY130: =SUM(BY131) -> 0 | CA130: =SUM(CA131) -> 0 | CC130: =SUM(CC131) -> 0 | CE130: =SUM(CE131) -> 0 | CG130: =SUM(CG131) -> 0 | CI130: =SUM(CI131) -> 0 | CK130: =SUM(CK131) -> 0 | CM130: =SUM(CM131) -> 0 | CO130: =SUM(CO131) -> 0 | CQ130: =SUM(CQ131) -> 0 | CS130: =SUM(CS131) -> 0 | CU130: =SUM(CU131) -> 0 | CW130: =SUM(CW131) -> 0 | CY130: =SUM(CY131) -> 0 | DA130: =SUM(DA131) -> 0 | DC130: =SUM(DC131) -> 0 | DE130: =SUM(DE131) -> 0 | DG130: =SUM(DG131) -> 0 | DI130: =SUM(DI131) -> 0 | DK130: =SUM(DK131) -> 0 | DM130: =SUM(DM131) -> 0 | DO130: =SUM(DO131) -> 0 | DQ130: =SUM(DQ131) -> 0 | DS130: =SUM(DS131) -> 0 | DU130: =SUM(DU131) -> 0 | DW130: =SUM(DW131) -> 0 | DY130: =SUM(DY131) -> 0 | EA130: =SUM(EA131) -> 0 | EC130: =SUM(EC131) -> 0 | ED130: 5 | EE130: =SUM(EE131) -> 0
D131: Beton... | G131: =#VALUE! -> 0 | I131: =H131*$F131 -> 0 | K131: =J131*$F131 -> 0 | M131: =L131*$F131 -> 0 | O131: =N131*$F131 -> 0 | Q131: =P131*$F131 -> 0 | S131: =R131*$F131 -> 0 | U131: =T131*$F131 -> 0 | W131: =V131*$F131 -> 0 | Y131: =X131*$F131 -> 0 | AA131: =Z131*$F131 -> 0 | AC131: =AB131*$F131 -> 0 | AE131: =AD131*$F131 -> 0 | AG131: =AF131*$F131 -> 0 | AI131: =AH131*$F131 -> 0 | AK131: =AJ131*$F131 -> 0 | AM131: =AL131*$F131 -> 0 | AO131: =AN131*$F131 -> 0 | AQ131: =AP131*$F131 -> 0 | AS131: =AR131*$F131 -> 0 | AU131: =AT131*$F131 -> 0 | AW131: =AV131*$F131 -> 0 | AY131: =AX131*$F131 -> 0 | BA131: =AZ131*$F131 -> 0 | BC131: =BB131*$F131 -> 0 | BE131: =BD131*$F131 -> 0 | BG131: =BF131*$F131 -> 0 | BI131: =BH131*$F131 -> 0 | BK131: =BJ131*$F131 -> 0 | BM131: =BL131*$F131 -> 0 | BO131: =BN131*$F131 -> 0 | BQ131: =BP131*$F131 -> 0 | BS131: =BR131*$F131 -> 0 | BU131: =BT131*$F131 -> 0 | BW131: =BV131*$F131 -> 0 | BY131: =BX131*$F131 -> 0 | CA131: =BZ131*$F131 -> 0 | CC131: =CB131*$F131 -> 0 | CE131: =CD131*$F131 -> 0 | CG131: =CF131*$F131 -> 0 | CI131: =CH131*$F131 -> 0 | CK131: =CJ131*$F131 -> 0 | CM131: =CL131*$F131 -> 0 | CO131: =CN131*$F131 -> 0 | CQ131: =CP131*$F131 -> 0 | CS131: =CR131*$F131 -> 0 | CU131: =CT131*$F131 -> 0 | CW131: =CV131*$F131 -> 0 | CY131: =CX131*$F131 -> 0 | DA131: =CZ131*$F131 -> 0 | DC131: =DB131*$F131 -> 0 | DE131: =DD131*$F131 -> 0 | DG131: =DF131*$F131 -> 0 | DI131: =DH131*$F131 -> 0 | DK131: =DJ131*$F131 -> 0 | DM131: =DL131*$F131 -> 0 | DO131: =DN131*$F131 -> 0 | DQ131: =DP131*$F131 -> 0 | DS131: =DR131*$F131 -> 0 | DU131: =DT131*$F131 -> 0 | DW131: =DV131*$F131 -> 0 | DY131: =DX131*$F131 -> 0 | EA131: =DZ131*$F131 -> 0 | EC131: =EB131*$F131 -> 0 | ED131: 5 | EE131: =ED131*$F131 -> 0
C132: 53 | D132: Sóder, Kavics, Homok | G132: =#VALUE! -> 0 | I132: =SUM(I133) -> 0 | K132: =SUM(K133) -> 0 | M132: =SUM(M133) -> 0 | O132: =SUM(O133) -> 0 | Q132: =SUM(Q133) -> 0 | S132: =SUM(S133) -> 0 | U132: =SUM(U133) -> 0 | W132: =SUM(W133) -> 0 | Y132: =SUM(Y133) -> 0 | AA132: =SUM(AA133) -> 0 | AC132: =SUM(AC133) -> 0 | AE132: =SUM(AE133) -> 0 | AG132: =SUM(AG133) -> 0 | AI132: =SUM(AI133) -> 0 | AK132: =SUM(AK133) -> 0 | AM132: =SUM(AM133) -> 0 | AO132: =SUM(AO133) -> 0 | AQ132: =SUM(AQ133) -> 0 | AS132: =SUM(AS133) -> 0 | AU132: =SUM(AU133) -> 0 | AW132: =SUM(AW133) -> 0 | AY132: =SUM(AY133) -> 0 | BA132: =SUM(BA133) -> 0 | BC132: =SUM(BC133) -> 0 | BE132: =SUM(BE133) -> 0 | BG132: =SUM(BG133) -> 0 | BI132: =SUM(BI133) -> 0 | BK132: =SUM(BK133) -> 0 | BM132: =SUM(BM133) -> 0 | BO132: =SUM(BO133) -> 0 | BQ132: =SUM(BQ133) -> 0 | BS132: =SUM(BS133) -> 0 | BU132: =SUM(BU133) -> 0 | BW132: =SUM(BW133) -> 0 | BY132: =SUM(BY133) -> 0 | CA132: =SUM(CA133) -> 0 | CC132: =SUM(CC133) -> 0 | CE132: =SUM(CE133) -> 0 | CG132: =SUM(CG133) -> 0 | CI132: =SUM(CI133) -> 0 | CK132: =SUM(CK133) -> 0 | CM132: =SUM(CM133) -> 0 | CO132: =SUM(CO133) -> 0 | CQ132: =SUM(CQ133) -> 0 | CS132: =SUM(CS133) -> 0 | CU132: =SUM(CU133) -> 0 | CW132: =SUM(CW133) -> 0 | CY132: =SUM(CY133) -> 0 | DA132: =SUM(DA133) -> 0 | DC132: =SUM(DC133) -> 0 | DE132: =SUM(DE133) -> 0 | DG132: =SUM(DG133) -> 0 | DI132: =SUM(DI133) -> 0 | DK132: =SUM(DK133) -> 0 | DM132: =SUM(DM133) -> 0 | DO132: =SUM(DO133) -> 0 | DQ132: =SUM(DQ133) -> 0 | DS132: =SUM(DS133) -> 0 | DU132: =SUM(DU133) -> 0 | DW132: =SUM(DW133) -> 0 | DY132: =SUM(DY133) -> 0 | EA132: =SUM(EA133) -> 0 | EC132: =SUM(EC133) -> 0 | ED132: 5 | EE132: =SUM(EE133) -> 0
D133: Kavics... | G133: =#VALUE! -> 0 | I133: =H133*$F133 -> 0 | K133: =J133*$F133 -> 0 | M133: =L133*$F133 -> 0 | O133: =N133*$F133 -> 0 | Q133: =P133*$F133 -> 0 | S133: =R133*$F133 -> 0 | U133: =T133*$F133 -> 0 | W133: =V133*$F133 -> 0 | Y133: =X133*$F133 -> 0 | AA133: =Z133*$F133 -> 0 | AC133: =AB133*$F133 -> 0 | AE133: =AD133*$F133 -> 0 | AG133: =AF133*$F133 -> 0 | AI133: =AH133*$F133 -> 0 | AK133: =AJ133*$F133 -> 0 | AM133: =AL133*$F133 -> 0 | AO133: =AN133*$F133 -> 0 | AQ133: =AP133*$F133 -> 0 | AS133: =AR133*$F133 -> 0 | AU133: =AT133*$F133 -> 0 | AW133: =AV133*$F133 -> 0 | AY133: =AX133*$F133 -> 0 | BA133: =AZ133*$F133 -> 0 | BC133: =BB133*$F133 -> 0 | BE133: =BD133*$F133 -> 0 | BG133: =BF133*$F133 -> 0 | BI133: =BH133*$F133 -> 0 | BK133: =BJ133*$F133 -> 0 | BM133: =BL133*$F133 -> 0 | BO133: =BN133*$F133 -> 0 | BQ133: =BP133*$F133 -> 0 | BS133: =BR133*$F133 -> 0 | BU133: =BT133*$F133 -> 0 | BW133: =BV133*$F133 -> 0 | BY133: =BX133*$F133 -> 0 | CA133: =BZ133*$F133 -> 0 | CC133: =CB133*$F133 -> 0 | CE133: =CD133*$F133 -> 0 | CG133: =CF133*$F133 -> 0 | CI133: =CH133*$F133 -> 0 | CK133: =CJ133*$F133 -> 0 | CM133: =CL133*$F133 -> 0 | CO133: =CN133*$F133 -> 0 | CQ133: =CP133*$F133 -> 0 | CS133: =CR133*$F133 -> 0 | CU133: =CT133*$F133 -> 0 | CW133: =CV133*$F133 -> 0 | CY133: =CX133*$F133 -> 0 | DA133: =CZ133*$F133 -> 0 | DC133: =DB133*$F133 -> 0 | DE133: =DD133*$F133 -> 0 | DG133: =DF133*$F133 -> 0 | DI133: =DH133*$F133 -> 0 | DK133: =DJ133*$F133 -> 0 | DM133: =DL133*$F133 -> 0 | DO133: =DN133*$F133 -> 0 | DQ133: =DP133*$F133 -> 0 | DS133: =DR133*$F133 -> 0 | DU133: =DT133*$F133 -> 0 | DW133: =DV133*$F133 -> 0 | DY133: =DX133*$F133 -> 0 | EA133: =DZ133*$F133 -> 0 | EC133: =EB133*$F133 -> 0 | ED133: 5 | EE133: =ED133*$F133 -> 0
C134: 54 | D134: Cement, adalékanyagok v. szerek | G134: =#VALUE! -> 0 | I134: =SUM(I135) -> 0 | K134: =SUM(K135) -> 0 | M134: =SUM(M135) -> 0 | O134: =SUM(O135) -> 0 | Q134: =SUM(Q135) -> 0 | S134: =SUM(S135) -> 0 | U134: =SUM(U135) -> 0 | W134: =SUM(W135) -> 0 | Y134: =SUM(Y135) -> 0 | AA134: =SUM(AA135) -> 0 | AC134: =SUM(AC135) -> 0 | AE134: =SUM(AE135) -> 0 | AG134: =SUM(AG135) -> 0 | AI134: =SUM(AI135) -> 0 | AK134: =SUM(AK135) -> 0 | AM134: =SUM(AM135) -> 0 | AO134: =SUM(AO135) -> 0 | AQ134: =SUM(AQ135) -> 0 | AS134: =SUM(AS135) -> 0 | AU134: =SUM(AU135) -> 0 | AW134: =SUM(AW135) -> 0 | AY134: =SUM(AY135) -> 0 | BA134: =SUM(BA135) -> 0 | BC134: =SUM(BC135) -> 0 | BE134: =SUM(BE135) -> 0 | BG134: =SUM(BG135) -> 0 | BI134: =SUM(BI135) -> 0 | BK134: =SUM(BK135) -> 0 | BM134: =SUM(BM135) -> 0 | BO134: =SUM(BO135) -> 0 | BQ134: =SUM(BQ135) -> 0 | BS134: =SUM(BS135) -> 0 | BU134: =SUM(BU135) -> 0 | BW134: =SUM(BW135) -> 0 | BY134: =SUM(BY135) -> 0 | CA134: =SUM(CA135) -> 0 | CC134: =SUM(CC135) -> 0 | CE134: =SUM(CE135) -> 0 | CG134: =SUM(CG135) -> 0 | CI134: =SUM(CI135) -> 0 | CK134: =SUM(CK135) -> 0 | CM134: =SUM(CM135) -> 0 | CO134: =SUM(CO135) -> 0 | CQ134: =SUM(CQ135) -> 0 | CS134: =SUM(CS135) -> 0 | CU134: =SUM(CU135) -> 0 | CW134: =SUM(CW135) -> 0 | CY134: =SUM(CY135) -> 0 | DA134: =SUM(DA135) -> 0 | DC134: =SUM(DC135) -> 0 | DE134: =SUM(DE135) -> 0 | DG134: =SUM(DG135) -> 0 | DI134: =SUM(DI135) -> 0 | DK134: =SUM(DK135) -> 0 | DM134: =SUM(DM135) -> 0 | DO134: =SUM(DO135) -> 0 | DQ134: =SUM(DQ135) -> 0 | DS134: =SUM(DS135) -> 0 | DU134: =SUM(DU135) -> 0 | DW134: =SUM(DW135) -> 0 | DY134: =SUM(DY135) -> 0 | EA134: =SUM(EA135) -> 0 | EC134: =SUM(EC135) -> 0 | ED134: 5 | EE134: =SUM(EE135) -> 0
D135: Cement... | G135: =#VALUE! -> 0 | I135: =H135*$F135 -> 0 | K135: =J135*$F135 -> 0 | M135: =L135*$F135 -> 0 | O135: =N135*$F135 -> 0 | Q135: =P135*$F135 -> 0 | S135: =R135*$F135 -> 0 | U135: =T135*$F135 -> 0 | W135: =V135*$F135 -> 0 | Y135: =X135*$F135 -> 0 | AA135: =Z135*$F135 -> 0 | AC135: =AB135*$F135 -> 0 | AE135: =AD135*$F135 -> 0 | AG135: =AF135*$F135 -> 0 | AI135: =AH135*$F135 -> 0 | AK135: =AJ135*$F135 -> 0 | AM135: =AL135*$F135 -> 0 | AO135: =AN135*$F135 -> 0 | AQ135: =AP135*$F135 -> 0 | AS135: =AR135*$F135 -> 0 | AU135: =AT135*$F135 -> 0 | AW135: =AV135*$F135 -> 0 | AY135: =AX135*$F135 -> 0 | BA135: =AZ135*$F135 -> 0 | BC135: =BB135*$F135 -> 0 | BE135: =BD135*$F135 -> 0 | BG135: =BF135*$F135 -> 0 | BI135: =BH135*$F135 -> 0 | BK135: =BJ135*$F135 -> 0 | BM135: =BL135*$F135 -> 0 | BO135: =BN135*$F135 -> 0 | BQ135: =BP135*$F135 -> 0 | BS135: =BR135*$F135 -> 0 | BU135: =BT135*$F135 -> 0 | BW135: =BV135*$F135 -> 0 | BY135: =BX135*$F135 -> 0 | CA135: =BZ135*$F135 -> 0 | CC135: =CB135*$F135 -> 0 | CE135: =CD135*$F135 -> 0 | CG135: =CF135*$F135 -> 0 | CI135: =CH135*$F135 -> 0 | CK135: =CJ135*$F135 -> 0 | CM135: =CL135*$F135 -> 0 | CO135: =CN135*$F135 -> 0 | CQ135: =CP135*$F135 -> 0 | CS135: =CR135*$F135 -> 0 | CU135: =CT135*$F135 -> 0 | CW135: =CV135*$F135 -> 0 | CY135: =CX135*$F135 -> 0 | DA135: =CZ135*$F135 -> 0 | DC135: =DB135*$F135 -> 0 | DE135: =DD135*$F135 -> 0 | DG135: =DF135*$F135 -> 0 | DI135: =DH135*$F135 -> 0 | DK135: =DJ135*$F135 -> 0 | DM135: =DL135*$F135 -> 0 | DO135: =DN135*$F135 -> 0 | DQ135: =DP135*$F135 -> 0 | DS135: =DR135*$F135 -> 0 | DU135: =DT135*$F135 -> 0 | DW135: =DV135*$F135 -> 0 | DY135: =DX135*$F135 -> 0 | EA135: =DZ135*$F135 -> 0 | EC135: =EB135*$F135 -> 0 | ED135: 5 | EE135: =ED135*$F135 -> 0
C136: 55 | D136: Betonvas | G136: =#VALUE! -> 0 | I136: =SUM(I137) -> 0 | K136: =SUM(K137) -> 0 | M136: =SUM(M137) -> 0 | O136: =SUM(O137) -> 0 | Q136: =SUM(Q137) -> 0 | S136: =SUM(S137) -> 0 | U136: =SUM(U137) -> 0 | W136: =SUM(W137) -> 0 | Y136: =SUM(Y137) -> 0 | AA136: =SUM(AA137) -> 0 | AC136: =SUM(AC137) -> 0 | AE136: =SUM(AE137) -> 0 | AG136: =SUM(AG137) -> 0 | AI136: =SUM(AI137) -> 0 | AK136: =SUM(AK137) -> 0 | AM136: =SUM(AM137) -> 0 | AO136: =SUM(AO137) -> 0 | AQ136: =SUM(AQ137) -> 0 | AS136: =SUM(AS137) -> 0 | AU136: =SUM(AU137) -> 0 | AW136: =SUM(AW137) -> 0 | AY136: =SUM(AY137) -> 0 | BA136: =SUM(BA137) -> 0 | BC136: =SUM(BC137) -> 0 | BE136: =SUM(BE137) -> 0 | BG136: =SUM(BG137) -> 0 | BI136: =SUM(BI137) -> 0 | BK136: =SUM(BK137) -> 0 | BM136: =SUM(BM137) -> 0 | BO136: =SUM(BO137) -> 0 | BQ136: =SUM(BQ137) -> 0 | BS136: =SUM(BS137) -> 0 | BU136: =SUM(BU137) -> 0 | BW136: =SUM(BW137) -> 0 | BY136: =SUM(BY137) -> 0 | CA136: =SUM(CA137) -> 0 | CC136: =SUM(CC137) -> 0 | CE136: =SUM(CE137) -> 0 | CG136: =SUM(CG137) -> 0 | CI136: =SUM(CI137) -> 0 | CK136: =SUM(CK137) -> 0 | CM136: =SUM(CM137) -> 0 | CO136: =SUM(CO137) -> 0 | CQ136: =SUM(CQ137) -> 0 | CS136: =SUM(CS137) -> 0 | CU136: =SUM(CU137) -> 0 | CW136: =SUM(CW137) -> 0 | CY136: =SUM(CY137) -> 0 | DA136: =SUM(DA137) -> 0 | DC136: =SUM(DC137) -> 0 | DE136: =SUM(DE137) -> 0 | DG136: =SUM(DG137) -> 0 | DI136: =SUM(DI137) -> 0 | DK136: =SUM(DK137) -> 0 | DM136: =SUM(DM137) -> 0 | DO136: =SUM(DO137) -> 0 | DQ136: =SUM(DQ137) -> 0 | DS136: =SUM(DS137) -> 0 | DU136: =SUM(DU137) -> 0 | DW136: =SUM(DW137) -> 0 | DY136: =SUM(DY137) -> 0 | EA136: =SUM(EA137) -> 0 | EC136: =SUM(EC137) -> 0 | ED136: 5 | EE136: =SUM(EE137) -> 0
D137: Betonvas... | G137: =#VALUE! -> 0 | I137: =H137*$F137 -> 0 | K137: =J137*$F137 -> 0 | M137: =L137*$F137 -> 0 | O137: =N137*$F137 -> 0 | Q137: =P137*$F137 -> 0 | S137: =R137*$F137 -> 0 | U137: =T137*$F137 -> 0 | W137: =V137*$F137 -> 0 | Y137: =X137*$F137 -> 0 | AA137: =Z137*$F137 -> 0 | AC137: =AB137*$F137 -> 0 | AE137: =AD137*$F137 -> 0 | AG137: =AF137*$F137 -> 0 | AI137: =AH137*$F137 -> 0 | AK137: =AJ137*$F137 -> 0 | AM137: =AL137*$F137 -> 0 | AO137: =AN137*$F137 -> 0 | AQ137: =AP137*$F137 -> 0 | AS137: =AR137*$F137 -> 0 | AU137: =AT137*$F137 -> 0 | AW137: =AV137*$F137 -> 0 | AY137: =AX137*$F137 -> 0 | BA137: =AZ137*$F137 -> 0 | BC137: =BB137*$F137 -> 0 | BE137: =BD137*$F137 -> 0 | BG137: =BF137*$F137 -> 0 | BI137: =BH137*$F137 -> 0 | BK137: =BJ137*$F137 -> 0 | BM137: =BL137*$F137 -> 0 | BO137: =BN137*$F137 -> 0 | BQ137: =BP137*$F137 -> 0 | BS137: =BR137*$F137 -> 0 | BU137: =BT137*$F137 -> 0 | BW137: =BV137*$F137 -> 0 | BY137: =BX137*$F137 -> 0 | CA137: =BZ137*$F137 -> 0 | CC137: =CB137*$F137 -> 0 | CE137: =CD137*$F137 -> 0 | CG137: =CF137*$F137 -> 0 | CI137: =CH137*$F137 -> 0 | CK137: =CJ137*$F137 -> 0 | CM137: =CL137*$F137 -> 0 | CO137: =CN137*$F137 -> 0 | CQ137: =CP137*$F137 -> 0 | CS137: =CR137*$F137 -> 0 | CU137: =CT137*$F137 -> 0 | CW137: =CV137*$F137 -> 0 | CY137: =CX137*$F137 -> 0 | DA137: =CZ137*$F137 -> 0 | DC137: =DB137*$F137 -> 0 | DE137: =DD137*$F137 -> 0 | DG137: =DF137*$F137 -> 0 | DI137: =DH137*$F137 -> 0 | DK137: =DJ137*$F137 -> 0 | DM137: =DL137*$F137 -> 0 | DO137: =DN137*$F137 -> 0 | DQ137: =DP137*$F137 -> 0 | DS137: =DR137*$F137 -> 0 | DU137: =DT137*$F137 -> 0 | DW137: =DV137*$F137 -> 0 | DY137: =DX137*$F137 -> 0 | EA137: =DZ137*$F137 -> 0 | EC137: =EB137*$F137 -> 0 | ED137: 5 | EE137: =ED137*$F137 -> 0
C138: 561 | D138: Térkövek | G138: =#VALUE! -> 0 | I138: =H138*$F138 -> 0 | K138: =J138*$F138 -> 0 | M138: =L138*$F138 -> 0 | O138: =N138*$F138 -> 0 | Q138: =P138*$F138 -> 0 | S138: =R138*$F138 -> 0 | U138: =T138*$F138 -> 0 | W138: =V138*$F138 -> 0 | Y138: =X138*$F138 -> 0 | AA138: =Z138*$F138 -> 0 | AC138: =AB138*$F138 -> 0 | AE138: =AD138*$F138 -> 0 | AG138: =AF138*$F138 -> 0 | AI138: =AH138*$F138 -> 0 | AK138: =AJ138*$F138 -> 0 | AM138: =AL138*$F138 -> 0 | AO138: =AN138*$F138 -> 0 | AQ138: =AP138*$F138 -> 0 | AS138: =AR138*$F138 -> 0 | AU138: =AT138*$F138 -> 0 | AW138: =AV138*$F138 -> 0 | AY138: =AX138*$F138 -> 0 | BA138: =AZ138*$F138 -> 0 | BC138: =BB138*$F138 -> 0 | BE138: =BD138*$F138 -> 0 | BG138: =BF138*$F138 -> 0 | BI138: =BH138*$F138 -> 0 | BK138: =BJ138*$F138 -> 0 | BM138: =BL138*$F138 -> 0 | BO138: =BN138*$F138 -> 0 | BQ138: =BP138*$F138 -> 0 | BS138: =BR138*$F138 -> 0 | BU138: =BT138*$F138 -> 0 | BW138: =BV138*$F138 -> 0 | BY138: =BX138*$F138 -> 0 | CA138: =BZ138*$F138 -> 0 | CC138: =CB138*$F138 -> 0 | CE138: =CD138*$F138 -> 0 | CG138: =CF138*$F138 -> 0 | CI138: =CH138*$F138 -> 0 | CK138: =CJ138*$F138 -> 0 | CM138: =CL138*$F138 -> 0 | CO138: =CN138*$F138 -> 0 | CQ138: =CP138*$F138 -> 0 | CS138: =CR138*$F138 -> 0 | CU138: =CT138*$F138 -> 0 | CW138: =CV138*$F138 -> 0 | CY138: =CX138*$F138 -> 0 | DA138: =CZ138*$F138 -> 0 | DC138: =DB138*$F138 -> 0 | DE138: =DD138*$F138 -> 0 | DG138: =DF138*$F138 -> 0 | DI138: =DH138*$F138 -> 0 | DK138: =DJ138*$F138 -> 0 | DM138: =DL138*$F138 -> 0 | DO138: =DN138*$F138 -> 0 | DQ138: =DP138*$F138 -> 0 | DS138: =DR138*$F138 -> 0 | DU138: =DT138*$F138 -> 0 | DW138: =DV138*$F138 -> 0 | DY138: =DX138*$F138 -> 0 | EA138: =DZ138*$F138 -> 0 | EC138: =EB138*$F138 -> 0 | EE138: =ED138*$F138 -> 0
C139: 562 | D139: Szegélyek, korlátok | G139: =#VALUE! -> 0 | I139: =H139*$F139 -> 0 | K139: =J139*$F139 -> 0 | M139: =L139*$F139 -> 0 | O139: =N139*$F139 -> 0 | Q139: =P139*$F139 -> 0 | S139: =R139*$F139 -> 0 | U139: =T139*$F139 -> 0 | W139: =V139*$F139 -> 0 | Y139: =X139*$F139 -> 0 | AA139: =Z139*$F139 -> 0 | AC139: =AB139*$F139 -> 0 | AE139: =AD139*$F139 -> 0 | AG139: =AF139*$F139 -> 0 | AI139: =AH139*$F139 -> 0 | AK139: =AJ139*$F139 -> 0 | AM139: =AL139*$F139 -> 0 | AO139: =AN139*$F139 -> 0 | AQ139: =AP139*$F139 -> 0 | AS139: =AR139*$F139 -> 0 | AU139: =AT139*$F139 -> 0 | AW139: =AV139*$F139 -> 0 | AY139: =AX139*$F139 -> 0 | BA139: =AZ139*$F139 -> 0 | BC139: =BB139*$F139 -> 0 | BE139: =BD139*$F139 -> 0 | BG139: =BF139*$F139 -> 0 | BI139: =BH139*$F139 -> 0 | BK139: =BJ139*$F139 -> 0 | BM139: =BL139*$F139 -> 0 | BO139: =BN139*$F139 -> 0 | BQ139: =BP139*$F139 -> 0 | BS139: =BR139*$F139 -> 0 | BU139: =BT139*$F139 -> 0 | BW139: =BV139*$F139 -> 0 | BY139: =BX139*$F139 -> 0 | CA139: =BZ139*$F139 -> 0 | CC139: =CB139*$F139 -> 0 | CE139: =CD139*$F139 -> 0 | CG139: =CF139*$F139 -> 0 | CI139: =CH139*$F139 -> 0 | CK139: =CJ139*$F139 -> 0 | CM139: =CL139*$F139 -> 0 | CO139: =CN139*$F139 -> 0 | CQ139: =CP139*$F139 -> 0 | CS139: =CR139*$F139 -> 0 | CU139: =CT139*$F139 -> 0 | CW139: =CV139*$F139 -> 0 | CY139: =CX139*$F139 -> 0 | DA139: =CZ139*$F139 -> 0 | DC139: =DB139*$F139 -> 0 | DE139: =DD139*$F139 -> 0 | DG139: =DF139*$F139 -> 0 | DI139: =DH139*$F139 -> 0 | DK139: =DJ139*$F139 -> 0 | DM139: =DL139*$F139 -> 0 | DO139: =DN139*$F139 -> 0 | DQ139: =DP139*$F139 -> 0 | DS139: =DR139*$F139 -> 0 | DU139: =DT139*$F139 -> 0 | DW139: =DV139*$F139 -> 0 | DY139: =DX139*$F139 -> 0 | EA139: =DZ139*$F139 -> 0 | EC139: =EB139*$F139 -> 0 | ED139: 5 | EE139: =ED139*$F139 -> 0
C140: 563 | D140: Egyéb előgyártott elemek | G140: =#VALUE! -> 0 | I140: =H140*$F140 -> 0 | K140: =J140*$F140 -> 0 | M140: =L140*$F140 -> 0 | O140: =N140*$F140 -> 0 | Q140: =P140*$F140 -> 0 | S140: =R140*$F140 -> 0 | U140: =T140*$F140 -> 0 | W140: =V140*$F140 -> 0 | Y140: =X140*$F140 -> 0 | AA140: =Z140*$F140 -> 0 | AC140: =AB140*$F140 -> 0 | AE140: =AD140*$F140 -> 0 | AG140: =AF140*$F140 -> 0 | AI140: =AH140*$F140 -> 0 | AK140: =AJ140*$F140 -> 0 | AM140: =AL140*$F140 -> 0 | AO140: =AN140*$F140 -> 0 | AQ140: =AP140*$F140 -> 0 | AS140: =AR140*$F140 -> 0 | AU140: =AT140*$F140 -> 0 | AW140: =AV140*$F140 -> 0 | AY140: =AX140*$F140 -> 0 | BA140: =AZ140*$F140 -> 0 | BC140: =BB140*$F140 -> 0 | BE140: =BD140*$F140 -> 0 | BG140: =BF140*$F140 -> 0 | BI140: =BH140*$F140 -> 0 | BK140: =BJ140*$F140 -> 0 | BM140: =BL140*$F140 -> 0 | BO140: =BN140*$F140 -> 0 | BQ140: =BP140*$F140 -> 0 | BS140: =BR140*$F140 -> 0 | BU140: =BT140*$F140 -> 0 | BW140: =BV140*$F140 -> 0 | BY140: =BX140*$F140 -> 0 | CA140: =BZ140*$F140 -> 0 | CC140: =CB140*$F140 -> 0 | CE140: =CD140*$F140 -> 0 | CG140: =CF140*$F140 -> 0 | CI140: =CH140*$F140 -> 0 | CK140: =CJ140*$F140 -> 0 | CM140: =CL140*$F140 -> 0 | CO140: =CN140*$F140 -> 0 | CQ140: =CP140*$F140 -> 0 | CS140: =CR140*$F140 -> 0 | CU140: =CT140*$F140 -> 0 | CW140: =CV140*$F140 -> 0 | CY140: =CX140*$F140 -> 0 | DA140: =CZ140*$F140 -> 0 | DC140: =DB140*$F140 -> 0 | DE140: =DD140*$F140 -> 0 | DG140: =DF140*$F140 -> 0 | DI140: =DH140*$F140 -> 0 | DK140: =DJ140*$F140 -> 0 | DM140: =DL140*$F140 -> 0 | DO140: =DN140*$F140 -> 0 | DQ140: =DP140*$F140 -> 0 | DS140: =DR140*$F140 -> 0 | DU140: =DT140*$F140 -> 0 | DW140: =DV140*$F140 -> 0 | DY140: =DX140*$F140 -> 0 | EA140: =DZ140*$F140 -> 0 | EC140: =EB140*$F140 -> 0 | ED140: 5 | EE140: =ED140*$F140 -> 0
C141: 569 | D141: Beépített egyéb alapanyagok | G141: =#VALUE! -> 0 | I141: =H141*$F141 -> 0 | K141: =J141*$F141 -> 0 | M141: =L141*$F141 -> 0 | O141: =N141*$F141 -> 0 | Q141: =P141*$F141 -> 0 | S141: =R141*$F141 -> 0 | U141: =T141*$F141 -> 0 | W141: =V141*$F141 -> 0 | Y141: =X141*$F141 -> 0 | AA141: =Z141*$F141 -> 0 | AC141: =AB141*$F141 -> 0 | AE141: =AD141*$F141 -> 0 | AG141: =AF141*$F141 -> 0 | AI141: =AH141*$F141 -> 0 | AK141: =AJ141*$F141 -> 0 | AM141: =AL141*$F141 -> 0 | AO141: =AN141*$F141 -> 0 | AQ141: =AP141*$F141 -> 0 | AS141: =AR141*$F141 -> 0 | AU141: =AT141*$F141 -> 0 | AW141: =AV141*$F141 -> 0 | AY141: =AX141*$F141 -> 0 | BA141: =AZ141*$F141 -> 0 | BC141: =BB141*$F141 -> 0 | BE141: =BD141*$F141 -> 0 | BG141: =BF141*$F141 -> 0 | BI141: =BH141*$F141 -> 0 | BK141: =BJ141*$F141 -> 0 | BM141: =BL141*$F141 -> 0 | BO141: =BN141*$F141 -> 0 | BQ141: =BP141*$F141 -> 0 | BS141: =BR141*$F141 -> 0 | BU141: =BT141*$F141 -> 0 | BW141: =BV141*$F141 -> 0 | BY141: =BX141*$F141 -> 0 | CA141: =BZ141*$F141 -> 0 | CC141: =CB141*$F141 -> 0 | CE141: =CD141*$F141 -> 0 | CG141: =CF141*$F141 -> 0 | CI141: =CH141*$F141 -> 0 | CK141: =CJ141*$F141 -> 0 | CM141: =CL141*$F141 -> 0 | CO141: =CN141*$F141 -> 0 | CQ141: =CP141*$F141 -> 0 | CS141: =CR141*$F141 -> 0 | CU141: =CT141*$F141 -> 0 | CW141: =CV141*$F141 -> 0 | CY141: =CX141*$F141 -> 0 | DA141: =CZ141*$F141 -> 0 | DC141: =DB141*$F141 -> 0 | DE141: =DD141*$F141 -> 0 | DG141: =DF141*$F141 -> 0 | DI141: =DH141*$F141 -> 0 | DK141: =DJ141*$F141 -> 0 | DM141: =DL141*$F141 -> 0 | DO141: =DN141*$F141 -> 0 | DQ141: =DP141*$F141 -> 0 | DS141: =DR141*$F141 -> 0 | DU141: =DT141*$F141 -> 0 | DW141: =DV141*$F141 -> 0 | DY141: =DX141*$F141 -> 0 | EA141: =DZ141*$F141 -> 0 | EC141: =EB141*$F141 -> 0 | ED141: 5 | EE141: =ED141*$F141 -> 0
C142: 57 | D142: Nem beépített fogyó anyagok | G142: =#VALUE! -> 0 | I142: =SUM(I143:I144) -> 0 | K142: =SUM(K143:K144) -> 0 | M142: =SUM(M143:M144) -> 0 | O142: =SUM(O143:O144) -> 0 | Q142: =SUM(Q143:Q144) -> 0 | S142: =SUM(S143:S144) -> 0 | U142: =SUM(U143:U144) -> 0 | W142: =SUM(W143:W144) -> 0 | Y142: =SUM(Y143:Y144) -> 0 | AA142: =SUM(AA143:AA144) -> 0 | AC142: =SUM(AC143:AC144) -> 0 | AE142: =SUM(AE143:AE144) -> 0 | AG142: =SUM(AG143:AG144) -> 0 | AI142: =SUM(AI143:AI144) -> 0 | AK142: =SUM(AK143:AK144) -> 0 | AM142: =SUM(AM143:AM144) -> 0 | AO142: =SUM(AO143:AO144) -> 0 | AQ142: =SUM(AQ143:AQ144) -> 0 | AS142: =SUM(AS143:AS144) -> 0 | AU142: =SUM(AU143:AU144) -> 0 | AW142: =SUM(AW143:AW144) -> 0 | AY142: =SUM(AY143:AY144) -> 0 | BA142: =SUM(BA143:BA144) -> 0 | BC142: =SUM(BC143:BC144) -> 0 | BE142: =SUM(BE143:BE144) -> 0 | BG142: =SUM(BG143:BG144) -> 0 | BI142: =SUM(BI143:BI144) -> 0 | BK142: =SUM(BK143:BK144) -> 0 | BM142: =SUM(BM143:BM144) -> 0 | BO142: =SUM(BO143:BO144) -> 0 | BQ142: =SUM(BQ143:BQ144) -> 0 | BS142: =SUM(BS143:BS144) -> 0 | BU142: =SUM(BU143:BU144) -> 0 | BW142: =SUM(BW143:BW144) -> 0 | BY142: =SUM(BY143:BY144) -> 0 | CA142: =SUM(CA143:CA144) -> 0 | CC142: =SUM(CC143:CC144) -> 0 | CE142: =SUM(CE143:CE144) -> 0 | CG142: =SUM(CG143:CG144) -> 0 | CI142: =SUM(CI143:CI144) -> 0 | CK142: =SUM(CK143:CK144) -> 0 | CM142: =SUM(CM143:CM144) -> 0 | CO142: =SUM(CO143:CO144) -> 0 | CQ142: =SUM(CQ143:CQ144) -> 0 | CS142: =SUM(CS143:CS144) -> 0 | CU142: =SUM(CU143:CU144) -> 0 | CW142: =SUM(CW143:CW144) -> 0 | CY142: =SUM(CY143:CY144) -> 0 | DA142: =SUM(DA143:DA144) -> 0 | DC142: =SUM(DC143:DC144) -> 0 | DE142: =SUM(DE143:DE144) -> 0 | DG142: =SUM(DG143:DG144) -> 0 | DI142: =SUM(DI143:DI144) -> 0 | DK142: =SUM(DK143:DK144) -> 0 | DM142: =SUM(DM143:DM144) -> 0 | DO142: =SUM(DO143:DO144) -> 0 | DQ142: =SUM(DQ143:DQ144) -> 0 | DS142: =SUM(DS143:DS144) -> 0 | DU142: =SUM(DU143:DU144) -> 0 | DW142: =SUM(DW143:DW144) -> 0 | DY142: =SUM(DY143:DY144) -> 0 | EA142: =SUM(EA143:EA144) -> 0 | EC142: =SUM(EC143:EC144) -> 0 | ED142: 5 | EE142: =SUM(EE143:EE144) -> 0
D143: Bentonit | E143: fuvar | G143: =#VALUE! -> 0 | I143: =H143*$F143 -> 0 | K143: =J143*$F143 -> 0 | M143: =L143*$F143 -> 0 | O143: =N143*$F143 -> 0 | Q143: =P143*$F143 -> 0 | S143: =R143*$F143 -> 0 | U143: =T143*$F143 -> 0 | W143: =V143*$F143 -> 0 | Y143: =X143*$F143 -> 0 | AA143: =Z143*$F143 -> 0 | AC143: =AB143*$F143 -> 0 | AE143: =AD143*$F143 -> 0 | AG143: =AF143*$F143 -> 0 | AI143: =AH143*$F143 -> 0 | AK143: =AJ143*$F143 -> 0 | AM143: =AL143*$F143 -> 0 | AO143: =AN143*$F143 -> 0 | AQ143: =AP143*$F143 -> 0 | AS143: =AR143*$F143 -> 0 | AU143: =AT143*$F143 -> 0 | AW143: =AV143*$F143 -> 0 | AY143: =AX143*$F143 -> 0 | BA143: =AZ143*$F143 -> 0 | BC143: =BB143*$F143 -> 0 | BE143: =BD143*$F143 -> 0 | BG143: =BF143*$F143 -> 0 | BI143: =BH143*$F143 -> 0 | BK143: =BJ143*$F143 -> 0 | BM143: =BL143*$F143 -> 0 | BO143: =BN143*$F143 -> 0 | BQ143: =BP143*$F143 -> 0 | BS143: =BR143*$F143 -> 0 | BU143: =BT143*$F143 -> 0 | BW143: =BV143*$F143 -> 0 | BY143: =BX143*$F143 -> 0 | CA143: =BZ143*$F143 -> 0 | CC143: =CB143*$F143 -> 0 | CE143: =CD143*$F143 -> 0 | CG143: =CF143*$F143 -> 0 | CI143: =CH143*$F143 -> 0 | CK143: =CJ143*$F143 -> 0 | CM143: =CL143*$F143 -> 0 | CO143: =CN143*$F143 -> 0 | CQ143: =CP143*$F143 -> 0 | CS143: =CR143*$F143 -> 0 | CU143: =CT143*$F143 -> 0 | CW143: =CV143*$F143 -> 0 | CY143: =CX143*$F143 -> 0 | DA143: =CZ143*$F143 -> 0 | DC143: =DB143*$F143 -> 0 | DE143: =DD143*$F143 -> 0 | DG143: =DF143*$F143 -> 0 | DI143: =DH143*$F143 -> 0 | DK143: =DJ143*$F143 -> 0 | DM143: =DL143*$F143 -> 0 | DO143: =DN143*$F143 -> 0 | DQ143: =DP143*$F143 -> 0 | DS143: =DR143*$F143 -> 0 | DU143: =DT143*$F143 -> 0 | DW143: =DV143*$F143 -> 0 | DY143: =DX143*$F143 -> 0 | EA143: =DZ143*$F143 -> 0 | EC143: =EB143*$F143 -> 0 | ED143: 5
D144: Fadob | E144: db | G144: =#VALUE! -> 0 | I144: =H144*$F144 -> 0 | K144: =J144*$F144 -> 0 | M144: =L144*$F144 -> 0 | O144: =N144*$F144 -> 0 | Q144: =P144*$F144 -> 0 | S144: =R144*$F144 -> 0 | U144: =T144*$F144 -> 0 | W144: =V144*$F144 -> 0 | Y144: =X144*$F144 -> 0 | AA144: =Z144*$F144 -> 0 | AC144: =AB144*$F144 -> 0 | AE144: =AD144*$F144 -> 0 | AG144: =AF144*$F144 -> 0 | AI144: =AH144*$F144 -> 0 | AK144: =AJ144*$F144 -> 0 | AM144: =AL144*$F144 -> 0 | AO144: =AN144*$F144 -> 0 | AQ144: =AP144*$F144 -> 0 | AS144: =AR144*$F144 -> 0 | AU144: =AT144*$F144 -> 0 | AW144: =AV144*$F144 -> 0 | AY144: =AX144*$F144 -> 0 | BA144: =AZ144*$F144 -> 0 | BC144: =BB144*$F144 -> 0 | BE144: =BD144*$F144 -> 0 | BG144: =BF144*$F144 -> 0 | BI144: =BH144*$F144 -> 0 | BK144: =BJ144*$F144 -> 0 | BM144: =BL144*$F144 -> 0 | BO144: =BN144*$F144 -> 0 | BQ144: =BP144*$F144 -> 0 | BS144: =BR144*$F144 -> 0 | BU144: =BT144*$F144 -> 0 | BW144: =BV144*$F144 -> 0 | BY144: =BX144*$F144 -> 0 | CA144: =BZ144*$F144 -> 0 | CC144: =CB144*$F144 -> 0 | CE144: =CD144*$F144 -> 0 | CG144: =CF144*$F144 -> 0 | CI144: =CH144*$F144 -> 0 | CK144: =CJ144*$F144 -> 0 | CM144: =CL144*$F144 -> 0 | CO144: =CN144*$F144 -> 0 | CQ144: =CP144*$F144 -> 0 | CS144: =CR144*$F144 -> 0 | CU144: =CT144*$F144 -> 0 | CW144: =CV144*$F144 -> 0 | CY144: =CX144*$F144 -> 0 | DA144: =CZ144*$F144 -> 0 | DC144: =DB144*$F144 -> 0 | DE144: =DD144*$F144 -> 0 | DG144: =DF144*$F144 -> 0 | DI144: =DH144*$F144 -> 0 | DK144: =DJ144*$F144 -> 0 | DM144: =DL144*$F144 -> 0 | DO144: =DN144*$F144 -> 0 | DQ144: =DP144*$F144 -> 0 | DS144: =DR144*$F144 -> 0 | DU144: =DT144*$F144 -> 0 | DW144: =DV144*$F144 -> 0 | DY144: =DX144*$F144 -> 0 | EA144: =DZ144*$F144 -> 0 | EC144: =EB144*$F144 -> 0 | EE144: =ED144*$F144 -> 0
C145: 58 | D145: Elektromechanikai felszerelések | G145: =#VALUE! -> 0 | I145: =H145*$F145 -> 0 | K145: =J145*$F145 -> 0 | M145: =L145*$F145 -> 0 | O145: =N145*$F145 -> 0 | Q145: =P145*$F145 -> 0 | S145: =R145*$F145 -> 0 | U145: =T145*$F145 -> 0 | W145: =V145*$F145 -> 0 | Y145: =X145*$F145 -> 0 | AA145: =Z145*$F145 -> 0 | AC145: =AB145*$F145 -> 0 | AE145: =AD145*$F145 -> 0 | AG145: =AF145*$F145 -> 0 | AI145: =AH145*$F145 -> 0 | AK145: =AJ145*$F145 -> 0 | AM145: =AL145*$F145 -> 0 | AO145: =AN145*$F145 -> 0 | AQ145: =AP145*$F145 -> 0 | AS145: =AR145*$F145 -> 0 | AU145: =AT145*$F145 -> 0 | AW145: =AV145*$F145 -> 0 | AY145: =AX145*$F145 -> 0 | BA145: =AZ145*$F145 -> 0 | BC145: =BB145*$F145 -> 0 | BE145: =BD145*$F145 -> 0 | BG145: =BF145*$F145 -> 0 | BI145: =BH145*$F145 -> 0 | BK145: =BJ145*$F145 -> 0 | BM145: =BL145*$F145 -> 0 | BO145: =BN145*$F145 -> 0 | BQ145: =BP145*$F145 -> 0 | BS145: =BR145*$F145 -> 0 | BU145: =BT145*$F145 -> 0 | BW145: =BV145*$F145 -> 0 | BY145: =BX145*$F145 -> 0 | CA145: =BZ145*$F145 -> 0 | CC145: =CB145*$F145 -> 0 | CE145: =CD145*$F145 -> 0 | CG145: =CF145*$F145 -> 0 | CI145: =CH145*$F145 -> 0 | CK145: =CJ145*$F145 -> 0 | CM145: =CL145*$F145 -> 0 | CO145: =CN145*$F145 -> 0 | CQ145: =CP145*$F145 -> 0 | CS145: =CR145*$F145 -> 0 | CU145: =CT145*$F145 -> 0 | CW145: =CV145*$F145 -> 0 | CY145: =CX145*$F145 -> 0 | DA145: =CZ145*$F145 -> 0 | DC145: =DB145*$F145 -> 0 | DE145: =DD145*$F145 -> 0 | DG145: =DF145*$F145 -> 0 | DI145: =DH145*$F145 -> 0 | DK145: =DJ145*$F145 -> 0 | DM145: =DL145*$F145 -> 0 | DO145: =DN145*$F145 -> 0 | DQ145: =DP145*$F145 -> 0 | DS145: =DR145*$F145 -> 0 | DU145: =DT145*$F145 -> 0 | DW145: =DV145*$F145 -> 0 | DY145: =DX145*$F145 -> 0 | EA145: =DZ145*$F145 -> 0 | EC145: =EB145*$F145 -> 0 | EE145: =ED145*$F145 -> 0
C146: 59 | D146: Egyéb anyagok | G146: =#VALUE! -> 0 | I146: =SUM(I147) -> 0 | K146: =SUM(K147) -> 0 | M146: =SUM(M147) -> 0 | O146: =SUM(O147) -> 0 | Q146: =SUM(Q147) -> 0 | S146: =SUM(S147) -> 0 | U146: =SUM(U147) -> 0 | W146: =SUM(W147) -> 0 | Y146: =SUM(Y147) -> 0 | AA146: =SUM(AA147) -> 0 | AC146: =SUM(AC147) -> 0 | AE146: =SUM(AE147) -> 0 | AG146: =SUM(AG147) -> 0 | AI146: =SUM(AI147) -> 0 | AK146: =SUM(AK147) -> 0 | AM146: =SUM(AM147) -> 0 | AO146: =SUM(AO147) -> 0 | AQ146: =SUM(AQ147) -> 0 | AS146: =SUM(AS147) -> 0 | AU146: =SUM(AU147) -> 0 | AW146: =SUM(AW147) -> 0 | AY146: =SUM(AY147) -> 0 | BA146: =SUM(BA147) -> 0 | BC146: =SUM(BC147) -> 0 | BE146: =SUM(BE147) -> 0 | BG146: =SUM(BG147) -> 0 | BI146: =SUM(BI147) -> 0 | BK146: =SUM(BK147) -> 0 | BM146: =SUM(BM147) -> 0 | BO146: =SUM(BO147) -> 0 | BQ146: =SUM(BQ147) -> 0 | BS146: =SUM(BS147) -> 0 | BU146: =SUM(BU147) -> 0 | BW146: =SUM(BW147) -> 0 | BY146: =SUM(BY147) -> 0 | CA146: =SUM(CA147) -> 0 | CC146: =SUM(CC147) -> 0 | CE146: =SUM(CE147) -> 0 | CG146: =SUM(CG147) -> 0 | CI146: =SUM(CI147) -> 0 | CK146: =SUM(CK147) -> 0 | CM146: =SUM(CM147) -> 0 | CO146: =SUM(CO147) -> 0 | CQ146: =SUM(CQ147) -> 0 | CS146: =SUM(CS147) -> 0 | CU146: =SUM(CU147) -> 0 | CW146: =SUM(CW147) -> 0 | CY146: =SUM(CY147) -> 0 | DA146: =SUM(DA147) -> 0 | DC146: =SUM(DC147) -> 0 | DE146: =SUM(DE147) -> 0 | DG146: =SUM(DG147) -> 0 | DI146: =SUM(DI147) -> 0 | DK146: =SUM(DK147) -> 0 | DM146: =SUM(DM147) -> 0 | DO146: =SUM(DO147) -> 0 | DQ146: =SUM(DQ147) -> 0 | DS146: =SUM(DS147) -> 0 | DU146: =SUM(DU147) -> 0 | DW146: =SUM(DW147) -> 0 | DY146: =SUM(DY147) -> 0 | EA146: =SUM(EA147) -> 0 | EC146: =SUM(EC147) -> 0 | EE146: =SUM(EE147) -> 0
...
