Workbook
Name Bat.: #REF!
Name Batiment.: #REF!
Name Décapage: #REF!
Name Excel_BuiltIn_Print_Area_2: #REF!
Name Rails: #REF!
Name Rampes___Docks: #REF!
Name Voiries_légeres: #REF!
Name Voiries_Lourdes: #REF!

Sheet feuille 1
A1: Année | B1: 2015 | C1: Mois | D1: 6
A3: ouvrier
A5: durée du chantier
B6: =C6/7 -> 1.1428571 | C6: =MAX(D8:D38) -> 8 | D6: étude | H6: chantier
A7: Date | B7: semaine | C7: semaines cumulées | D7: Jours cumulés | E7: Type de travail | F7: Pose journalière | G7: pose cumulée | H7: type de travail | I7: pose journalière | J7: pose cumulée | K7: remarques
A8: =DATE(B1,D1,1) -> 42156 | B8: =WEEKNUM(A8,1) -> 23 | C8: =IF(AND(C7="",D8<>0),1,IF(E8="","",IF(E7<>"",C7+1,2))) | D8: =IF(E8="",0,D7+1) -> 0 | G8: =IF(F8="",0,F8) -> 0 | J8: =IF(I8="",0,I8) -> 0
A9: =A8+1 -> 42157 | C9: =IF(E9="","",IF(AND(E9<>"",C8=""),1,C8)) | D9: =IF(E9="",0,D8+1) -> 0 | G9: =IF(AND(G8="",F9=""),0,G8+F9) -> 0 | J9: =IF(AND(J8="",I9=""),0,J8+I9) -> 0
A10: =A9+1 -> 42158 | C10: =IF(E10="","",IF(AND(E10<>"",C9=""),1,C9)) | D10: =IF(E10="",0,D9+1) -> 0 | G10: =IF(AND(G9="",F10=""),0,G9+F10) -> 0 | J10: =IF(AND(J9="",I10=""),0,J9+I10) -> 0
A11: =A10+1 -> 42159 | C11: =IF(E11="","",IF(AND(E11<>"",C10=""),1,C10)) | D11: =IF(E11="",0,D10+1) -> 0 | G11: =IF(AND(G10="",F11=""),0,G10+F11) -> 0 | J11: =IF(AND(J10="",I11=""),0,J10+I11) -> 0
A12: =A11+1 -> 42160 | C12: =IF(E12="","",IF(AND(E12<>"",C11=""),1,C11)) | D12: =IF(E12="",0,D11+1) -> 0 | G12: =IF(AND(G11="",F12=""),0,G11+F12) -> 0 | I12: 20 | J12: =IF(AND(J11="",I12=""),0,J11+I12) -> 20
A13: =A12+1 -> 42161 | C13: =IF(E13="","",IF(AND(E13<>"",C12=""),1,C12)) | D13: =IF(E13="",0,D12+1) -> 0 | G13: =IF(AND(G12="",F13=""),0,G12+F13) -> 0 | I13: 30 | J13: =IF(AND(J12="",I13=""),0,J12+I13) -> 50
A14: =A13+1 -> 42162 | C14: =IF(E14="","",IF(AND(E14<>"",C13=""),1,C13)) | D14: =IF(E14="",0,D13+1) -> 0 | G14: =IF(AND(G13="",F14=""),0,G13+F14) -> 0 | I14: 20 | J14: =IF(AND(J13="",I14=""),0,J13+I14) -> 70
A15: =A14+1 -> 42163 | B15: =WEEKNUM(A15,1) -> 24 | C15: =IF(AND(C14="",D15<>0),1,IF(E15="","",IF(E14<>"",C14+1,2))) | D15: =IF(E15="",0,D14+1) -> 0 | G15: =IF(AND(G14="",F15=""),0,G14+F15) -> 0 | I15: 15 | J15: =IF(AND(J14="",I15=""),0,J14+I15) -> 85
A16: =A15+1 -> 42164 | C16: =IF(E16="","",IF(AND(E16<>"",C15=""),1,C15)) | D16: =IF(E16="",0,D15+1) -> 0 | G16: =IF(AND(G15="",F16=""),0,G15+F16) -> 0 | I16: 20 | J16: =IF(AND(J15="",I16=""),0,J15+I16) -> 105
A17: =A16+1 -> 42165 | C17: =IF(E17="","",IF(AND(E17<>"",C16=""),1,C16)) | D17: =IF(E17="",0,D16+1) -> 0 | G17: =IF(AND(G16="",F17=""),0,G16+F17) -> 0 | I17: 20 | J17: =IF(AND(J16="",I17=""),0,J16+I17) -> 125
A18: =A17+1 -> 42166 | C18: =IF(E18="","",IF(AND(E18<>"",C17=""),1,C17)) -> 1 | D18: =IF(E18="",0,D17+1) -> 1 | E18: couche de formation | F18: 60 | G18: =IF(AND(G17="",F18=""),0,G17+F18) -> 60 | J18: =IF(AND(J17="",I18=""),0,J17+I18) -> 125
A19: =A18+1 -> 42167 | C19: =IF(E19="","",IF(AND(E19<>"",C18=""),1,C18)) -> 1 | D19: =IF(E19="",0,D18+1) -> 2 | E19: couche de formation | F19: 60 | G19: =IF(AND(G18="",F19=""),0,G18+F19) -> 120 | J19: =IF(AND(J18="",I19=""),0,J18+I19) -> 125
A20: =A19+1 -> 42168 | C20: =IF(E20="","",IF(AND(E20<>"",C19=""),1,C19)) -> 1 | D20: =IF(E20="",0,D19+1) -> 3 | E20: couche de formation | F20: 60 | G20: =IF(AND(G19="",F20=""),0,G19+F20) -> 180 | I20: 20 | J20: =IF(AND(J19="",I20=""),0,J19+I20) -> 145
A21: =A20+1 -> 42169 | C21: =IF(E21="","",IF(AND(E21<>"",C20=""),1,C20)) -> 1 | D21: =IF(E21="",0,D20+1) -> 4 | E21: couche de formation | F21: 60 | G21: =IF(AND(G20="",F21=""),0,G20+F21) -> 240 | I21: 20 | J21: =IF(AND(J20="",I21=""),0,J20+I21) -> 165
A22: =A21+1 -> 42170 | B22: =WEEKNUM(A22,1) -> 25 | C22: =IF(AND(C21="",D22<>0),1,IF(E22="","",IF(E21<>"",C21+1,2))) -> 2 | D22: =IF(E22="",0,D21+1) -> 5 | E22: couche de formation | F22: 60 | G22: =IF(AND(G21="",F22=""),0,G21+F22) -> 300 | I22: 0 | J22: =IF(AND(J21="",I22=""),0,J21+I22) -> 165
A23: =A22+1 -> 42171 | C23: =IF(E23="","",IF(AND(E23<>"",C22=""),1,C22)) -> 2 | D23: =IF(E23="",0,D22+1) -> 6 | E23: couche de formation | F23: 60 | G23: =IF(AND(G22="",F23=""),0,G22+F23) -> 360 | I23: 20 | J23: =IF(AND(J22="",I23=""),0,J22+I23) -> 185
A24: =A23+1 -> 42172 | C24: =IF(E24="","",IF(AND(E24<>"",C23=""),1,C23)) -> 2 | D24: =IF(E24="",0,D23+1) -> 7 | E24: couche de formation | F24: 60 | G24: =IF(AND(G23="",F24=""),0,G23+F24) -> 420 | I24: 25 | J24: =IF(AND(J23="",I24=""),0,J23+I24) -> 210
A25: =A24+1 -> 42173 | C25: =IF(E25="","",IF(AND(E25<>"",C24=""),1,C24)) -> 2 | D25: =IF(E25="",0,D24+1) -> 8 | E25: couche de formation | F25: 60 | G25: =IF(AND(G24="",F25=""),0,G24+F25) -> 480 | I25: 25 | J25: =IF(AND(J24="",I25=""),0,J24+I25) -> 235
A26: =A25+1 -> 42174 | C26: =IF(E26="","",IF(AND(E26<>"",C25=""),1,C25)) | D26: =IF(E26="",0,D25+1) -> 0 | G26: =IF(AND(G25="",F26=""),0,G25+F26) -> 480 | I26: 28 | J26: =IF(AND(J25="",I26=""),0,J25+I26) -> 263
A27: =A26+1 -> 42175 | C27: =IF(E27="","",IF(AND(E27<>"",C26=""),1,C26)) | D27: =IF(E27="",0,D26+1) -> 0 | G27: =IF(AND(G26="",F27=""),"",G26+F27) -> 480 | I27: 28 | J27: =IF(AND(J26="",I27=""),"",J26+I27) -> 291
A28: =A27+1 -> 42176 | C28: =IF(E28="","",IF(AND(E28<>"",C27=""),1,C27)) | D28: =IF(E28="",0,D27+1) -> 0 | G28: =IF(AND(G27="",F28=""),"",G27+F28) -> 480 | I28: 25 | J28: =IF(AND(J27="",I28=""),"",J27+I28) -> 316
A29: =A28+1 -> 42177 | B29: =WEEKNUM(A29,1) -> 26 | C29: =IF(AND(C28="",D29<>0),1,IF(E29="","",IF(E28<>"",C28+1,2))) | D29: =IF(E29="",0,D28+1) -> 0 | G29: =IF(AND(G28="",F29=""),"",G28+F29) -> 480 | I29: 9 | J29: =IF(AND(J28="",I29=""),"",J28+I29) -> 325
A30: =A29+1 -> 42178 | C30: =IF(E30="","",IF(AND(E30<>"",C29=""),1,C29)) | D30: =IF(E30="",0,D29+1) -> 0 | G30: =IF(AND(G29="",F30=""),"",G29+F30) -> 480 | J30: =IF(AND(J29="",I30=""),"",J29+I30) -> 325
A31: =A30+1 -> 42179 | C31: =IF(E31="","",IF(AND(E31<>"",C30=""),1,C30)) | D31: =IF(E31="",0,D30+1) -> 0 | G31: =IF(AND(G30="",F31=""),"",G30+F31) -> 480 | J31: =IF(AND(J30="",I31=""),"",J30+I31) -> 325
A32: =A31+1 -> 42180 | C32: =IF(E32="","",IF(AND(E32<>"",C31=""),1,C31)) | D32: =IF(E32="",0,D31+1) -> 0 | G32: =IF(AND(G31="",F32=""),"",G31+F32) -> 480 | I32: 25 | J32: =IF(AND(J31="",I32=""),"",J31+I32) -> 350
A33: =A32+1 -> 42181 | C33: =IF(E33="","",IF(AND(E33<>"",C32=""),1,C32)) | D33: =IF(E33="",0,D32+1) -> 0 | G33: =IF(AND(G32="",F33=""),"",G32+F33) -> 480 | I33: 25 | J33: =IF(AND(J32="",I33=""),"",J32+I33) -> 375
A34: =A33+1 -> 42182 | C34: =IF(E34="","",IF(AND(E34<>"",C33=""),1,C33)) | D34: =IF(E34="",0,D33+1) -> 0 | G34: =IF(AND(G33="",F34=""),"",G33+F34) -> 480 | I34: 30 | J34: =IF(AND(J33="",I34=""),"",J33+I34) -> 405
A35: =A34+1 -> 42183 | C35: =IF(E35="","",IF(AND(E35<>"",C34=""),1,C34)) | D35: =IF(E35="",0,D34+1) -> 0 | G35: =IF(AND(G34="",F35=""),"",G34+F35) -> 480 | I35: 25 | J35: =IF(AND(J34="",I35=""),"",J34+I35) -> 430
A36: =A35+1 -> 42184 | B36: =WEEKNUM(A36,1) -> 27 | C36: =IF(AND(C35="",D36<>0),1,IF(E36="","",IF(E35<>"",C35+1,2))) | D36: =IF(E36="",0,D35+1) -> 0 | G36: =IF(AND(G35="",F36=""),"",G35+F36) -> 480 | I36: 28 | J36: =IF(AND(J35="",I36=""),"",J35+I36) -> 458
A37: =A36+1 -> 42185 | C37: =IF(E37="","",IF(AND(E37<>"",C36=""),1,C36)) | D37: =IF(E37="",0,D36+1) -> 0 | G37: =IF(AND(G36="",F37=""),"",G36+F37) -> 480 | I37: 7 | J37: =IF(AND(J36="",I37=""),"",J36+I37) -> 465
A38: =A37+1 -> 42186 | C38: =IF(E38="","",IF(AND(E38<>"",C37=""),1,C37)) | D38: =IF(E38="",0,D37+1) -> 0 | G38: =IF(AND(G37="",F38=""),"",G37+F38) -> 480 | J38: =IF(AND(J37="",I38=""),"",J37+I38) -> 465

Sheet feuille 3
G3: Hét | H3: ='feuille 1'!B8 -> 23 | J3: ='feuille 1'!B9 -> 0 | L3: ='feuille 1'!B10 -> 0 | N3: ='feuille 1'!B11 -> 0 | P3: ='feuille 1'!B12 -> 0 | R3: ='feuille 1'!B13 -> 0 | T3: ='feuille 1'!B14 -> 0 | V3: ='feuille 1'!B15 -> 24 | X3: ='feuille 1'!B16 -> 0 | Z3: ='feuille 1'!B17 -> 0 | AB3: ='feuille 1'!B18 -> 0 | AD3: ='feuille 1'!B19 -> 0 | AF3: ='feuille 1'!B20 -> 0 | AH3: ='feuille 1'!B21 -> 0 | AJ3: ='feuille 1'!B22 -> 25 | AL3: ='feuille 1'!B23 -> 0 | AN3: ='feuille 1'!B24 -> 0 | AP3: ='feuille 1'!B25 -> 0 | AR3: ='feuille 1'!B26 -> 0 | AT3: ='feuille 1'!B27 -> 0 | AV3: ='feuille 1'!B28 -> 0 | AX3: ='feuille 1'!B29 -> 26 | AZ3: ='feuille 1'!B30 -> 0 | BB3: ='feuille 1'!B31 -> 0 | BD3: ='feuille 1'!B32 -> 0 | BF3: ='feuille 1'!B33 -> 0 | BH3: ='feuille 1'!B34 -> 0 | BJ3: ='feuille 1'!B35 -> 0 | BL3: ='feuille 1'!B36 -> 27 | BN3: ='feuille 1'!B37 -> 0 | BP3: ='feuille 1'!B38 -> 0 | BR3: ='feuille 1'!#REF! -> #REF! | BT3: ='feuille 1'!#REF! -> #REF! | BV3: ='feuille 1'!#REF! -> #REF! | BX3: ='feuille 1'!#REF! -> #REF! | BZ3: ='feuille 1'!#REF! -> #REF! | CB3: ='feuille 1'!#REF! -> #REF! | CD3: ='feuille 1'!#REF! -> #REF! | CF3: ='feuille 1'!#REF! -> #REF! | CH3: ='feuille 1'!#REF! -> #REF! | CJ3: ='feuille 1'!#REF! -> #REF! | CL3: ='feuille 1'!#REF! -> #REF! | CN3: ='feuille 1'!#REF! -> #REF! | CP3: ='feuille 1'!#REF! -> #REF! | CR3: ='feuille 1'!#REF! -> #REF! | CT3: ='feuille 1'!#REF! -> #REF! | CV3: ='feuille 1'!#REF! -> #REF! | CX3: ='feuille 1'!#REF! -> #REF! | CZ3: ='feuille 1'!#REF! -> #REF! | DB3: ='feuille 1'!B39 -> 0 | DD3: ='feuille 1'!B40 -> 0 | DF3: ='feuille 1'!B41 -> 0 | DH3: ='feuille 1'!B42 -> 0 | DJ3: ='feuille 1'!B43 -> 0 | DL3: ='feuille 1'!B44 -> 0 | DN3: ='feuille 1'!B45 -> 0 | DP3: ='feuille 1'!B46 -> 0 | DR3: ='feuille 1'!B47 -> 0 | DT3: ='feuille 1'!B48 -> 0 | DV3: ='feuille 1'!B49 -> 0 | DX3: ='feuille 1'!B50 -> 0 | DZ3: ='feuille 1'!B51 -> 0 | EB3: ='feuille 1'!B52 -> 0 | ED3: ='feuille 1'!B53 -> 0
G4: kumulatív hétig | H4: ='feuille 1'!C8 | J4: ='feuille 1'!C9 | L4: ='feuille 1'!C10 | N4: ='feuille 1'!C11 | P4: ='feuille 1'!C12 | R4: ='feuille 1'!C13 | T4: ='feuille 1'!C14 | V4: ='feuille 1'!C15 | X4: ='feuille 1'!C16 | Z4: ='feuille 1'!C17 | AB4: ='feuille 1'!C18 -> 1 | AD4: ='feuille 1'!C19 -> 1 | AF4: ='feuille 1'!C20 -> 1 | AH4: ='feuille 1'!C21 -> 1 | AJ4: ='feuille 1'!C22 -> 2 | AL4: ='feuille 1'!C23 -> 2 | AN4: ='feuille 1'!C24 -> 2 | AP4: ='feuille 1'!C25 -> 2 | AR4: ='feuille 1'!C26 | AT4: ='feuille 1'!C27 | AV4: ='feuille 1'!C28 | AX4: ='feuille 1'!C29 | AZ4: ='feuille 1'!C30 | BB4: ='feuille 1'!C31 | BD4: ='feuille 1'!C32 | BF4: ='feuille 1'!C33 | BH4: ='feuille 1'!C34 | BJ4: ='feuille 1'!C35 | BL4: ='feuille 1'!C36 | BN4: ='feuille 1'!C37 | BP4: ='feuille 1'!C38 | BR4: ='feuille 1'!#REF! -> #REF! | BT4: ='feuille 1'!#REF! -> #REF! | BV4: ='feuille 1'!#REF! -> #REF! | BX4: ='feuille 1'!#REF! -> #REF! | BZ4: ='feuille 1'!#REF! -> #REF! | CB4: ='feuille 1'!#REF! -> #REF! | CD4: ='feuille 1'!#REF! -> #REF! | CF4: ='feuille 1'!#REF! -> #REF! | CH4: ='feuille 1'!#REF! -> #REF! | CJ4: ='feuille 1'!#REF! -> #REF! | CL4: ='feuille 1'!#REF! -> #REF! | CN4: ='feuille 1'!#REF! -> #REF! | CP4: ='feuille 1'!#REF! -> #REF! | CR4: ='feuille 1'!#REF! -> #REF! | CT4: ='feuille 1'!#REF! -> #REF! | CV4: ='feuille 1'!#REF! -> #REF! | CX4: ='feuille 1'!#REF! -> #REF! | CZ4: ='feuille 1'!#REF! -> #REF! | DB4: ='feuille 1'!#REF! -> #REF! | DD4: ='feuille 1'!#REF! -> #REF! | DF4: ='feuille 1'!#REF! -> #REF! | DH4: ='feuille 1'!#REF! -> #REF! | DJ4: ='feuille 1'!#REF! -> #REF! | DL4: ='feuille 1'!#REF! -> #REF! | DN4: ='feuille 1'!#REF! -> #REF! | DP4: ='feuille 1'!#REF! -> #REF! | DR4: ='feuille 1'!#REF! -> #REF! | DT4: ='feuille 1'!#REF! -> #REF! | DV4: ='feuille 1'!#REF! -> #REF! | DX4: ='feuille 1'!#REF! -> #REF! | DZ4: ='feuille 1'!#REF! -> #REF! | EB4: ='feuille 1'!#REF! -> #REF! | ED4: ='feuille 1'!C42 -> 0
A5: Tétel | B5: Főcsoport | D5: Alcsoport | E5: Egys. | F5: Egységár | G5: göngyölt össz. | H5: klt. | I5: menny. | J5: klt. | K5: menny. | L5: klt. | M5: menny. | N5: klt. | O5: menny. | P5: klt. | Q5: menny. | R5: klt. | S5: menny. | T5: klt. | U5: menny. | V5: klt. | W5: menny. | X5: klt. | Y5: menny. | Z5: klt. | AA5: menny. | AB5: klt. | AC5: menny. | AD5: klt. | AE5: menny. | AF5: klt. | AG5: menny. | AH5: klt. | AI5: menny. | AJ5: klt. | AK5: menny. | AL5: klt. | AM5: menny. | AN5: klt. | AO5: menny. | AP5: klt. | AQ5: menny. | AR5: klt. | AS5: menny. | AT5: klt. | AU5: menny. | AV5: klt. | AW5: menny. | AX5: klt. | AY5: menny. | AZ5: klt. | BA5: menny. | BB5: klt. | BC5: menny. | BD5: klt. | BE5: menny. | BF5: klt. | BG5: menny. | BH5: klt. | BI5: menny. | BJ5: klt. | BK5: menny. | BL5: klt. | BM5: menny. | BN5: klt. | BO5: menny. | BP5: klt. | BQ5: menny. | BR5: klt. | BS5: menny. | BT5: klt. | BU5: menny. | BV5: klt. | BW5: menny. | BX5: klt. | BY5: menny. | BZ5: klt. | CA5: menny. | CB5: klt. | CC5: menny. | CD5: klt. | CE5: menny. | CF5: klt. | CG5: menny. | CH5: klt. | CI5: menny. | CJ5: klt. | CK5: menny. | CL5: klt. | CM5: menny. | CN5: klt. | CO5: menny. | CP5: klt. | CQ5: menny. | CR5: klt. | CS5: menny. | CT5: klt. | CU5: menny. | CV5: klt. | CW5: menny. | CX5: klt. | CY5: menny. | CZ5: klt. | DA5: menny. | DB5: klt. | DC5: menny. | DD5: klt. | DE5: menny. | DF5: klt. | DG5: menny. | DH5: klt. | DI5: menny. | DJ5: klt. | DK5: menny. | DL5: klt. | DM5: menny. | DN5: klt. | DO5: menny. | DP5: klt. | DQ5: menny. | DR5: klt. | DS5: menny. | DT5: klt. | DU5: menny. | DV5: klt. | DW5: menny. | DX5: klt. | DY5: menny. | DZ5: klt. | EA5: menny. | EB5: klt. | EC5: menny. | ED5: klt. | EE5: menny.
A6: N0 | B6: Költség átterhelés | G6: =#VALUE! -> 0 | I6: =SUM(I7) -> 0 | K6: =SUM(K7) -> 0 | M6: =SUM(M7) -> 0 | O6: =SUM(O7) -> 0 | Q6: =SUM(Q7) -> 0 | S6: =SUM(S7) -> 0 | U6: =SUM(U7) -> 0 | W6: =SUM(W7) -> 0 | Y6: =SUM(Y7) -> 0 | AA6: =SUM(AA7) -> 0 | AC6: =SUM(AC7) -> 0 | AE6: =SUM(AE7) -> 0 | AG6: =SUM(AG7) -> 0 | AI6: =SUM(AI7) -> 0 | AK6: =SUM(AK7) -> 0 | AM6: =SUM(AM7) -> 0 | AO6: =SUM(AO7) -> 0 | AQ6: =SUM(AQ7) -> 0 | AS6: =SUM(AS7) -> 0 | AU6: =SUM(AU7) -> 0 | AW6: =SUM(AW7) -> 0 | AY6: =SUM(AY7) -> 0 | BA6: =SUM(BA7) -> 0 | BC6: =SUM(BC7) -> 0 | BE6: =SUM(BE7) -> 0 | BG6: =SUM(BG7) -> 0 | BI6: =SUM(BI7) -> 0 | BK6: =SUM(BK7) -> 0 | BM6: =SUM(BM7) -> 0 | BO6: =SUM(BO7) -> 0 | BQ6: =SUM(BQ7) -> 0 | BS6: =SUM(BS7) -> 0 | BU6: =SUM(BU7) -> 0 | BW6: =SUM(BW7) -> 0 | BY6: =SUM(BY7) -> 0 | CA6: =SUM(CA7) -> 0 | CC6: =SUM(CC7) -> 0 | CE6: =SUM(CE7) -> 0 | CG6: =SUM(CG7) -> 0 | CI6: =SUM(CI7) -> 0 | CK6: =SUM(CK7) -> 0 | CM6: =SUM(CM7) -> 0 | CO6: =SUM(CO7) -> 0 | CQ6: =SUM(CQ7) -> 0 | CS6: =SUM(CS7) -> 0 | CU6: =SUM(CU7) -> 0 | CW6: =SUM(CW7) -> 0 | CY6: =SUM(CY7) -> 0 | DA6: =SUM(DA7) -> 0 | DC6: =SUM(DC7) -> 0 | DE6: =SUM(DE7) -> 0 | DG6: =SUM(DG7) -> 0 | DI6: =SUM(DI7) -> 0 | DK6: =SUM(DK7) -> 0 | DM6: =SUM(DM7) -> 0 | DO6: =SUM(DO7) -> 0 | DQ6: =SUM(DQ7) -> 0 | DS6: =SUM(DS7) -> 0 | DU6: =SUM(DU7) -> 0 | DW6: =SUM(DW7) -> 0 | DY6: =SUM(DY7) -> 0 | EA6: =SUM(EA7) -> 0 | EC6: =SUM(EC7) -> 0 | EE6: =SUM(EE7) -> 0
G7: =#VALUE! -> 0 | I7: =H7*$F7 -> 0 | K7: =J7*$F7 -> 0 | M7: =L7*$F7 -> 0 | O7: =N7*$F7 -> 0 | Q7: =P7*$F7 -> 0 | S7: =R7*$F7 -> 0 | U7: =T7*$F7 -> 0 | W7: =V7*$F7 -> 0 | Y7: =X7*$F7 -> 0 | AA7: =Z7*$F7 -> 0 | AC7: =AB7*$F7 -> 0 | AE7: =AD7*$F7 -> 0 | AG7: =AF7*$F7 -> 0 | AI7: =AH7*$F7 -> 0 | AK7: =AJ7*$F7 -> 0 | AM7: =AL7*$F7 -> 0 | AO7: =AN7*$F7 -> 0 | AQ7: =AP7*$F7 -> 0 | AS7: =AR7*$F7 -> 0 | AU7: =AT7*$F7 -> 0 | AW7: =AV7*$F7 -> 0 | AY7: =AX7*$F7 -> 0 | BA7: =AZ7*$F7 -> 0 | BC7: =BB7*$F7 -> 0 | BE7: =BD7*$F7 -> 0 | BG7: =BF7*$F7 -> 0 | BI7: =BH7*$F7 -> 0 | BK7: =BJ7*$F7 -> 0 | BM7: =BL7*$F7 -> 0 | BO7: =BN7*$F7 -> 0 | BQ7: =BP7*$F7 -> 0 | BS7: =BR7*$F7 -> 0 | BU7: =BT7*$F7 -> 0 | BW7: =BV7*$F7 -> 0 | BY7: =BX7*$F7 -> 0 | CA7: =BZ7*$F7 -> 0 | CC7: =CB7*$F7 -> 0 | CE7: =CD7*$F7 -> 0 | CG7: =CF7*$F7 -> 0 | CI7: =CH7*$F7 -> 0 | CK7: =CJ7*$F7 -> 0 | CM7: =CL7*$F7 -> 0 | CO7: =CN7*$F7 -> 0 | CQ7: =CP7*$F7 -> 0 | CS7: =CR7*$F7 -> 0 | CU7: =CT7*$F7 -> 0 | CW7: =CV7*$F7 -> 0 | CY7: =CX7*$F7 -> 0 | DA7: =CZ7*$F7 -> 0 | DC7: =DB7*$F7 -> 0 | DE7: =DD7*$F7 -> 0 | DG7: =DF7*$F7 -> 0 | DI7: =DH7*$F7 -> 0 | DK7: =DJ7*$F7 -> 0 | DM7: =DL7*$F7 -> 0 | DO7: =DN7*$F7 -> 0 | DQ7: =DP7*$F7 -> 0 | DS7: =DR7*$F7 -> 0 | DU7: =DT7*$F7 -> 0 | DW7: =DV7*$F7 -> 0 | DY7: =DX7*$F7 -> 0 | EA7: =DZ7*$F7 -> 0 | EC7: =EB7*$F7 -> 0 | EE7: =ED7*$F7 -> 0
A9: N1 | B9: Gépek | G9: =#VALUE! -> 0 | I9: =SUM(I10,I34,I42,I44) -> 0 | K9: =SUM(K10,K34,K42,K44) -> 0 | M9: =SUM(M10,M34,M42,M44) -> 0 | O9: =SUM(O10,O34,O42,O44) -> 0 | Q9: =SUM(Q10,Q34,Q42,Q44) -> 0 | S9: =SUM(S10,S34,S42,S44) -> 0 | U9: =SUM(U10,U34,U42,U44) -> 0 | W9: =SUM(W10,W34,W42,W44) -> 0 | Y9: =SUM(Y10,Y34,Y42,Y44) -> 0 | AA9: =SUM(AA10,AA34,AA42,AA44) -> 0 | AC9: =SUM(AC10,AC34,AC42,AC44) -> 0 | AE9: =SUM(AE10,AE34,AE42,AE44) -> 0 | AG9: =SUM(AG10,AG34,AG42,AG44) -> 0 | AI9: =SUM(AI10,AI34,AI42,AI44) -> 0 | AK9: =SUM(AK10,AK34,AK42,AK44) -> 0 | AM9: =SUM(AM10,AM34,AM42,AM44) -> 0 | AO9: =SUM(AO10,AO34,AO42,AO44) -> 0 | AQ9: =SUM(AQ10,AQ34,AQ42,AQ44) -> 0 | AS9: =SUM(AS10,AS34,AS42,AS44) -> 0 | AU9: =SUM(AU10,AU34,AU42,AU44) -> 0 | AW9: =SUM(AW10,AW34,AW42,AW44) -> 0 | AY9: =SUM(AY10,AY34,AY42,AY44) -> 0 | BA9: =SUM(BA10,BA34,BA42,BA44) -> 0 | BC9: =SUM(BC10,BC34,BC42,BC44) -> 0 | BE9: =SUM(BE10,BE34,BE42,BE44) -> 0 | BG9: =SUM(BG10,BG34,BG42,BG44) -> 0 | BI9: =SUM(BI10,BI34,BI42,BI44) -> 0 | BK9: =SUM(BK10,BK34,BK42,BK44) -> 0 | BM9: =SUM(BM10,BM34,BM42,BM44) -> 0 | BO9: =SUM(BO10,BO34,BO42,BO44) -> 0 | BQ9: =SUM(BQ10,BQ34,BQ42,BQ44) -> 0 | BS9: =SUM(BS10,BS34,BS42,BS44) -> 0 | BU9: =SUM(BU10,BU34,BU42,BU44) -> 0 | BW9: =SUM(BW10,BW34,BW42,BW44) -> 0 | BY9: =SUM(BY10,BY34,BY42,BY44) -> 0 | CA9: =SUM(CA10,CA34,CA42,CA44) -> 0 | CC9: =SUM(CC10,CC34,CC42,CC44) -> 0 | CE9: =SUM(CE10,CE34,CE42,CE44) -> 0 | CG9: =SUM(CG10,CG34,CG42,CG44) -> 0 | CI9: =SUM(CI10,CI34,CI42,CI44) -> 0 | CK9: =SUM(CK10,CK34,CK42,CK44) -> 0 | CM9: =SUM(CM10,CM34,CM42,CM44) -> 0 | CO9: =SUM(CO10,CO34,CO42,CO44) -> 0 | CQ9: =SUM(CQ10,CQ34,CQ42,CQ44) -> 0 | CS9: =SUM(CS10,CS34,CS42,CS44) -> 0 | CU9: =SUM(CU10,CU34,CU42,CU44) -> 0 | CW9: =SUM(CW10,CW34,CW42,CW44) -> 0 | CY9: =SUM(CY10,CY34,CY42,CY44) -> 0 | DA9: =SUM(DA10,DA34,DA42,DA44) -> 0 | DC9: =SUM(DC10,DC34,DC42,DC44) -> 0 | DE9: =SUM(DE10,DE34,DE42,DE44) -> 0 | DG9: =SUM(DG10,DG34,DG42,DG44) -> 0 | DI9: =SUM(DI10,DI34,DI42,DI44) -> 0 | DK9: =SUM(DK10,DK34,DK42,DK44) -> 0 | DM9: =SUM(DM10,DM34,DM42,DM44) -> 0 | DO9: =SUM(DO10,DO34,DO42,DO44) -> 0 | DQ9: =SUM(DQ10,DQ34,DQ42,DQ44) -> 0 | DS9: =SUM(DS10,DS34,DS42,DS44) -> 0 | DU9: =SUM(DU10,DU34,DU42,DU44) -> 0 | DW9: =SUM(DW10,DW34,DW42,DW44) -> 0 | DY9: =SUM(DY10,DY34,DY42,DY44) -> 0 | EA9: =SUM(EA10,EA34,EA42,EA44) -> 0 | EC9: =SUM(EC10,EC34,EC42,EC44) -> 0 | EE9: =SUM(EE10,EE34,EE42,EE44) -> 0
C10: 11 | D10: Belső gépbérlet | G10: =#VALUE! -> 0 | I10: =SUM(I11:I33) -> 0 | K10: =SUM(K11:K33) -> 0 | M10: =SUM(M11:M33) -> 0 | O10: =SUM(O11:O33) -> 0 | Q10: =SUM(Q11:Q33) -> 0 | S10: =SUM(S11:S33) -> 0 | U10: =SUM(U11:U33) -> 0 | W10: =SUM(W11:W33) -> 0 | Y10: =SUM(Y11:Y33) -> 0 | AA10: =SUM(AA11:AA33) -> 0 | AC10: =SUM(AC11:AC33) -> 0 | AE10: =SUM(AE11:AE33) -> 0 | AG10: =SUM(AG11:AG33) -> 0 | AI10: =SUM(AI11:AI33) -> 0 | AK10: =SUM(AK11:AK33) -> 0 | AM10: =SUM(AM11:AM33) -> 0 | AO10: =SUM(AO11:AO33) -> 0 | AQ10: =SUM(AQ11:AQ33) -> 0 | AS10: =SUM(AS11:AS33) -> 0 | AU10: =SUM(AU11:AU33) -> 0 | AW10: =SUM(AW11:AW33) -> 0 | AY10: =SUM(AY11:AY33) -> 0 | BA10: =SUM(BA11:BA33) -> 0 | BC10: =SUM(BC11:BC33) -> 0 | BE10: =SUM(BE11:BE33) -> 0 | BG10: =SUM(BG11:BG33) -> 0 | BI10: =SUM(BI11:BI33) -> 0 | BK10: =SUM(BK11:BK33) -> 0 | BM10: =SUM(BM11:BM33) -> 0 | BO10: =SUM(BO11:BO33) -> 0 | BQ10: =SUM(BQ11:BQ33) -> 0 | BS10: =SUM(BS11:BS33) -> 0 | BU10: =SUM(BU11:BU33) -> 0 | BW10: =SUM(BW11:BW33) -> 0 | BY10: =SUM(BY11:BY33) -> 0 | CA10: =SUM(CA11:CA33) -> 0 | CC10: =SUM(CC11:CC33) -> 0 | CE10: =SUM(CE11:CE33) -> 0 | CG10: =SUM(CG11:CG33) -> 0 | CI10: =SUM(CI11:CI33) -> 0 | CK10: =SUM(CK11:CK33) -> 0 | CM10: =SUM(CM11:CM33) -> 0 | CO10: =SUM(CO11:CO33) -> 0 | CQ10: =SUM(CQ11:CQ33) -> 0 | CS10: =SUM(CS11:CS33) -> 0 | CU10: =SUM(CU11:CU33) -> 0 | CW10: =SUM(CW11:CW33) -> 0 | CY10: =SUM(CY11:CY33) -> 0 | DA10: =SUM(DA11:DA33) -> 0 | DC10: =SUM(DC11:DC33) -> 0 | DE10: =SUM(DE11:DE33) -> 0 | DG10: =SUM(DG11:DG33) -> 0 | DI10: =SUM(DI11:DI33) -> 0 | DK10: =SUM(DK11:DK33) -> 0 | DM10: =SUM(DM11:DM33) -> 0 | DO10: =SUM(DO11:DO33) -> 0 | DQ10: =SUM(DQ11:DQ33) -> 0 | DS10: =SUM(DS11:DS33) -> 0 | DU10: =SUM(DU11:DU33) -> 0 | DW10: =SUM(DW11:DW33) -> 0 | DY10: =SUM(DY11:DY33) -> 0 | EA10: =SUM(EA11:EA33) -> 0 | EC10: =SUM(EC11:EC33) -> 0 | EE10: =SUM(EE11:EE33) -> 0
D11: LIEBHERR 30t Daru de. | E11: h | G11: =#VALUE! -> 0 | I11: =H11*$F11 -> 0 | K11: =J11*$F11 -> 0 | M11: =L11*$F11 -> 0 | O11: =N11*$F11 -> 0 | Q11: =P11*$F11 -> 0 | S11: =R11*$F11 -> 0 | U11: =T11*$F11 -> 0 | W11: =V11*$F11 -> 0 | Y11: =X11*$F11 -> 0 | AA11: =Z11*$F11 -> 0 | AC11: =AB11*$F11 -> 0 | AE11: =AD11*$F11 -> 0 | AG11: =AF11*$F11 -> 0 | AI11: =AH11*$F11 -> 0 | AK11: =AJ11*$F11 -> 0 | AM11: =AL11*$F11 -> 0 | AO11: =AN11*$F11 -> 0 | AQ11: =AP11*$F11 -> 0 | AS11: =AR11*$F11 -> 0 | AU11: =AT11*$F11 -> 0 | AW11: =AV11*$F11 -> 0 | AY11: =AX11*$F11 -> 0 | BA11: =AZ11*$F11 -> 0 | BC11: =BB11*$F11 -> 0 | BE11: =BD11*$F11 -> 0 | BG11: =BF11*$F11 -> 0 | BI11: =BH11*$F11 -> 0 | BK11: =BJ11*$F11 -> 0 | BM11: =BL11*$F11 -> 0 | BO11: =BN11*$F11 -> 0 | BQ11: =BP11*$F11 -> 0 | BS11: =BR11*$F11 -> 0 | BU11: =BT11*$F11 -> 0 | BW11: =BV11*$F11 -> 0 | BY11: =BX11*$F11 -> 0 | CA11: =BZ11*$F11 -> 0 | CC11: =CB11*$F11 -> 0 | CE11: =CD11*$F11 -> 0 | CG11: =CF11*$F11 -> 0 | CI11: =CH11*$F11 -> 0 | CK11: =CJ11*$F11 -> 0 | CM11: =CL11*$F11 -> 0 | CO11: =CN11*$F11 -> 0 | CQ11: =CP11*$F11 -> 0 | CS11: =CR11*$F11 -> 0 | CU11: =CT11*$F11 -> 0 | CW11: =CV11*$F11 -> 0 | CY11: =CX11*$F11 -> 0 | DA11: =CZ11*$F11 -> 0 | DC11: =DB11*$F11 -> 0 | DE11: =DD11*$F11 -> 0 | DG11: =DF11*$F11 -> 0 | DI11: =DH11*$F11 -> 0 | DK11: =DJ11*$F11 -> 0 | DM11: =DL11*$F11 -> 0 | DO11: =DN11*$F11 -> 0 | DQ11: =DP11*$F11 -> 0 | DS11: =DR11*$F11 -> 0 | DU11: =DT11*$F11 -> 0 | DW11: =DV11*$F11 -> 0 | DY11: =DX11*$F11 -> 0 | EA11: =DZ11*$F11 -> 0 | EC11: =EB11*$F11 -> 0 | EE11: =ED11*$F11 -> 0
D12: LIEBHERR 30t Daru du. | E12: h | G12: =#VALUE! -> 0 | I12: =H12*$F12 -> 0 | K12: =J12*$F12 -> 0 | M12: =L12*$F12 -> 0 | O12: =N12*$F12 -> 0 | Q12: =P12*$F12 -> 0 | S12: =R12*$F12 -> 0 | U12: =T12*$F12 -> 0 | W12: =V12*$F12 -> 0 | Y12: =X12*$F12 -> 0 | AA12: =Z12*$F12 -> 0 | AC12: =AB12*$F12 -> 0 | AE12: =AD12*$F12 -> 0 | AG12: =AF12*$F12 -> 0 | AI12: =AH12*$F12 -> 0 | AK12: =AJ12*$F12 -> 0 | AM12: =AL12*$F12 -> 0 | AO12: =AN12*$F12 -> 0 | AQ12: =AP12*$F12 -> 0 | AS12: =AR12*$F12 -> 0 | AU12: =AT12*$F12 -> 0 | AW12: =AV12*$F12 -> 0 | AY12: =AX12*$F12 -> 0 | BA12: =AZ12*$F12 -> 0 | BC12: =BB12*$F12 -> 0 | BE12: =BD12*$F12 -> 0 | BG12: =BF12*$F12 -> 0 | BI12: =BH12*$F12 -> 0 | BK12: =BJ12*$F12 -> 0 | BM12: =BL12*$F12 -> 0 | BO12: =BN12*$F12 -> 0 | BQ12: =BP12*$F12 -> 0 | BS12: =BR12*$F12 -> 0 | BU12: =BT12*$F12 -> 0 | BW12: =BV12*$F12 -> 0 | BY12: =BX12*$F12 -> 0 | CA12: =BZ12*$F12 -> 0 | CC12: =CB12*$F12 -> 0 | CE12: =CD12*$F12 -> 0 | CG12: =CF12*$F12 -> 0 | CI12: =CH12*$F12 -> 0 | CK12: =CJ12*$F12 -> 0 | CM12: =CL12*$F12 -> 0 | CO12: =CN12*$F12 -> 0 | CQ12: =CP12*$F12 -> 0 | CS12: =CR12*$F12 -> 0 | CU12: =CT12*$F12 -> 0 | CW12: =CV12*$F12 -> 0 | CY12: =CX12*$F12 -> 0 | DA12: =CZ12*$F12 -> 0 | DC12: =DB12*$F12 -> 0 | DE12: =DD12*$F12 -> 0 | DG12: =DF12*$F12 -> 0 | DI12: =DH12*$F12 -> 0 | DK12: =DJ12*$F12 -> 0 | DM12: =DL12*$F12 -> 0 | DO12: =DN12*$F12 -> 0 | DQ12: =DP12*$F12 -> 0 | DS12: =DR12*$F12 -> 0 | DU12: =DT12*$F12 -> 0 | DW12: =DV12*$F12 -> 0 | DY12: =DX12*$F12 -> 0 | EA12: =DZ12*$F12 -> 0 | EC12: =EB12*$F12 -> 0 | EE12: =ED12*$F12 -> 0
D13: LIEBHERR 30t Daru éj. | E13: h | G13: =#VALUE! -> 0 | I13: =H13*$F13 -> 0 | K13: =J13*$F13 -> 0 | M13: =L13*$F13 -> 0 | O13: =N13*$F13 -> 0 | Q13: =P13*$F13 -> 0 | S13: =R13*$F13 -> 0 | U13: =T13*$F13 -> 0 | W13: =V13*$F13 -> 0 | Y13: =X13*$F13 -> 0 | AA13: =Z13*$F13 -> 0 | AC13: =AB13*$F13 -> 0 | AE13: =AD13*$F13 -> 0 | AG13: =AF13*$F13 -> 0 | AI13: =AH13*$F13 -> 0 | AK13: =AJ13*$F13 -> 0 | AM13: =AL13*$F13 -> 0 | AO13: =AN13*$F13 -> 0 | AQ13: =AP13*$F13 -> 0 | AS13: =AR13*$F13 -> 0 | AU13: =AT13*$F13 -> 0 | AW13: =AV13*$F13 -> 0 | AY13: =AX13*$F13 -> 0 | BA13: =AZ13*$F13 -> 0 | BC13: =BB13*$F13 -> 0 | BE13: =BD13*$F13 -> 0 | BG13: =BF13*$F13 -> 0 | BI13: =BH13*$F13 -> 0 | BK13: =BJ13*$F13 -> 0 | BM13: =BL13*$F13 -> 0 | BO13: =BN13*$F13 -> 0 | BQ13: =BP13*$F13 -> 0 | BS13: =BR13*$F13 -> 0 | BU13: =BT13*$F13 -> 0 | BW13: =BV13*$F13 -> 0 | BY13: =BX13*$F13 -> 0 | CA13: =BZ13*$F13 -> 0 | CC13: =CB13*$F13 -> 0 | CE13: =CD13*$F13 -> 0 | CG13: =CF13*$F13 -> 0 | CI13: =CH13*$F13 -> 0 | CK13: =CJ13*$F13 -> 0 | CM13: =CL13*$F13 -> 0 | CO13: =CN13*$F13 -> 0 | CQ13: =CP13*$F13 -> 0 | CS13: =CR13*$F13 -> 0 | CU13: =CT13*$F13 -> 0 | CW13: =CV13*$F13 -> 0 | CY13: =CX13*$F13 -> 0 | DA13: =CZ13*$F13 -> 0 | DC13: =DB13*$F13 -> 0 | DE13: =DD13*$F13 -> 0 | DG13: =DF13*$F13 -> 0 | DI13: =DH13*$F13 -> 0 | DK13: =DJ13*$F13 -> 0 | DM13: =DL13*$F13 -> 0 | DO13: =DN13*$F13 -> 0 | DQ13: =DP13*$F13 -> 0 | DS13: =DR13*$F13 -> 0 | DU13: =DT13*$F13 -> 0 | DW13: =DV13*$F13 -> 0 | DY13: =DX13*$F13 -> 0 | EA13: =DZ13*$F13 -> 0 | EC13: =EB13*$F13 -> 0 | EE13: =ED13*$F13 -> 0
D14: Kompresszor | E14: db | G14: =#VALUE! -> 0 | I14: =H14*$F14 -> 0 | K14: =J14*$F14 -> 0 | M14: =L14*$F14 -> 0 | O14: =N14*$F14 -> 0 | Q14: =P14*$F14 -> 0 | S14: =R14*$F14 -> 0 | U14: =T14*$F14 -> 0 | W14: =V14*$F14 -> 0 | Y14: =X14*$F14 -> 0 | AA14: =Z14*$F14 -> 0 | AC14: =AB14*$F14 -> 0 | AE14: =AD14*$F14 -> 0 | AG14: =AF14*$F14 -> 0 | AI14: =AH14*$F14 -> 0 | AK14: =AJ14*$F14 -> 0 | AM14: =AL14*$F14 -> 0 | AO14: =AN14*$F14 -> 0 | AQ14: =AP14*$F14 -> 0 | AS14: =AR14*$F14 -> 0 | AU14: =AT14*$F14 -> 0 | AW14: =AV14*$F14 -> 0 | AY14: =AX14*$F14 -> 0 | BA14: =AZ14*$F14 -> 0 | BC14: =BB14*$F14 -> 0 | BE14: =BD14*$F14 -> 0 | BG14: =BF14*$F14 -> 0 | BI14: =BH14*$F14 -> 0 | BK14: =BJ14*$F14 -> 0 | BM14: =BL14*$F14 -> 0 | BO14: =BN14*$F14 -> 0 | BQ14: =BP14*$F14 -> 0 | BS14: =BR14*$F14 -> 0 | BU14: =BT14*$F14 -> 0 | BW14: =BV14*$F14 -> 0 | BY14: =BX14*$F14 -> 0 | CA14: =BZ14*$F14 -> 0 | CC14: =CB14*$F14 -> 0 | CE14: =CD14*$F14 -> 0 | CG14: =CF14*$F14 -> 0 | CI14: =CH14*$F14 -> 0 | CK14: =CJ14*$F14 -> 0 | CM14: =CL14*$F14 -> 0 | CO14: =CN14*$F14 -> 0 | CQ14: =CP14*$F14 -> 0 | CS14: =CR14*$F14 -> 0 | CU14: =CT14*$F14 -> 0 | CW14: =CV14*$F14 -> 0 | CY14: =CX14*$F14 -> 0 | DA14: =CZ14*$F14 -> 0 | DC14: =DB14*$F14 -> 0 | DE14: =DD14*$F14 -> 0 | DG14: =DF14*$F14 -> 0 | DI14: =DH14*$F14 -> 0 | DK14: =DJ14*$F14 -> 0 | DM14: =DL14*$F14 -> 0 | DO14: =DN14*$F14 -> 0 | DQ14: =DP14*$F14 -> 0 | DS14: =DR14*$F14 -> 0 | DU14: =DT14*$F14 -> 0 | DW14: =DV14*$F14 -> 0 | DY14: =DX14*$F14 -> 0 | EA14: =DZ14*$F14 -> 0 | EC14: =EB14*$F14 -> 0 | EE14: =ED14*$F14 -> 0
D15: szivattyúk... | E15: h | G15: =#VALUE! -> 0 | I15: =H15*$F15 -> 0 | K15: =J15*$F15 -> 0 | M15: =L15*$F15 -> 0 | O15: =N15*$F15 -> 0 | Q15: =P15*$F15 -> 0 | S15: =R15*$F15 -> 0 | U15: =T15*$F15 -> 0 | W15: =V15*$F15 -> 0 | Y15: =X15*$F15 -> 0 | AA15: =Z15*$F15 -> 0 | AC15: =AB15*$F15 -> 0 | AE15: =AD15*$F15 -> 0 | AG15: =AF15*$F15 -> 0 | AI15: =AH15*$F15 -> 0 | AK15: =AJ15*$F15 -> 0 | AM15: =AL15*$F15 -> 0 | AO15: =AN15*$F15 -> 0 | AQ15: =AP15*$F15 -> 0 | AS15: =AR15*$F15 -> 0 | AU15: =AT15*$F15 -> 0 | AW15: =AV15*$F15 -> 0 | AY15: =AX15*$F15 -> 0 | BA15: =AZ15*$F15 -> 0 | BC15: =BB15*$F15 -> 0 | BE15: =BD15*$F15 -> 0 | BG15: =BF15*$F15 -> 0 | BI15: =BH15*$F15 -> 0 | BK15: =BJ15*$F15 -> 0 | BM15: =BL15*$F15 -> 0 | BO15: =BN15*$F15 -> 0 | BQ15: =BP15*$F15 -> 0 | BS15: =BR15*$F15 -> 0 | BU15: =BT15*$F15 -> 0 | BW15: =BV15*$F15 -> 0 | BY15: =BX15*$F15 -> 0 | CA15: =BZ15*$F15 -> 0 | CC15: =CB15*$F15 -> 0 | CE15: =CD15*$F15 -> 0 | CG15: =CF15*$F15 -> 0 | CI15: =CH15*$F15 -> 0 | CK15: =CJ15*$F15 -> 0 | CM15: =CL15*$F15 -> 0 | CO15: =CN15*$F15 -> 0 | CQ15: =CP15*$F15 -> 0 | CS15: =CR15*$F15 -> 0 | CU15: =CT15*$F15 -> 0 | CW15: =CV15*$F15 -> 0 | CY15: =CX15*$F15 -> 0 | DA15: =CZ15*$F15 -> 0 | DC15: =DB15*$F15 -> 0 | DE15: =DD15*$F15 -> 0 | DG15: =DF15*$F15 -> 0 | DI15: =DH15*$F15 -> 0 | DK15: =DJ15*$F15 -> 0 | DM15: =DL15*$F15 -> 0 | DO15: =DN15*$F15 -> 0 | DQ15: =DP15*$F15 -> 0 | DS15: =DR15*$F15 -> 0 | DU15: =DT15*$F15 -> 0 | DW15: =DV15*$F15 -> 0 | DY15: =DX15*$F15 -> 0 | EA15: =DZ15*$F15 -> 0 | EC15: =EB15*$F15 -> 0 | EE15: =ED15*$F15 -> 0
D16: Kotró | E16: h | G16: =#VALUE! -> 0 | I16: =H16*$F16 -> 0 | K16: =J16*$F16 -> 0 | M16: =L16*$F16 -> 0 | O16: =N16*$F16 -> 0 | Q16: =P16*$F16 -> 0 | S16: =R16*$F16 -> 0 | U16: =T16*$F16 -> 0 | W16: =V16*$F16 -> 0 | Y16: =X16*$F16 -> 0 | AA16: =Z16*$F16 -> 0 | AC16: =AB16*$F16 -> 0 | AE16: =AD16*$F16 -> 0 | AG16: =AF16*$F16 -> 0 | AI16: =AH16*$F16 -> 0 | AK16: =AJ16*$F16 -> 0 | AM16: =AL16*$F16 -> 0 | AO16: =AN16*$F16 -> 0 | AQ16: =AP16*$F16 -> 0 | AS16: =AR16*$F16 -> 0 | AU16: =AT16*$F16 -> 0 | AW16: =AV16*$F16 -> 0 | AY16: =AX16*$F16 -> 0 | BA16: =AZ16*$F16 -> 0 | BC16: =BB16*$F16 -> 0 | BE16: =BD16*$F16 -> 0 | BG16: =BF16*$F16 -> 0 | BI16: =BH16*$F16 -> 0 | BK16: =BJ16*$F16 -> 0 | BM16: =BL16*$F16 -> 0 | BO16: =BN16*$F16 -> 0 | BQ16: =BP16*$F16 -> 0 | BS16: =BR16*$F16 -> 0 | BU16: =BT16*$F16 -> 0 | BW16: =BV16*$F16 -> 0 | BY16: =BX16*$F16 -> 0 | CA16: =BZ16*$F16 -> 0 | CC16: =CB16*$F16 -> 0 | CE16: =CD16*$F16 -> 0 | CG16: =CF16*$F16 -> 0 | CI16: =CH16*$F16 -> 0 | CK16: =CJ16*$F16 -> 0 | CM16: =CL16*$F16 -> 0 | CO16: =CN16*$F16 -> 0 | CQ16: =CP16*$F16 -> 0 | CS16: =CR16*$F16 -> 0 | CU16: =CT16*$F16 -> 0 | CW16: =CV16*$F16 -> 0 | CY16: =CX16*$F16 -> 0 | DA16: =CZ16*$F16 -> 0 | DC16: =DB16*$F16 -> 0 | DE16: =DD16*$F16 -> 0 | DG16: =DF16*$F16 -> 0 | DI16: =DH16*$F16 -> 0 | DK16: =DJ16*$F16 -> 0 | DM16: =DL16*$F16 -> 0 | DO16: =DN16*$F16 -> 0 | DQ16: =DP16*$F16 -> 0 | DS16: =DR16*$F16 -> 0 | DU16: =DT16*$F16 -> 0 | DW16: =DV16*$F16 -> 0 | DY16: =DX16*$F16 -> 0 | EA16: =DZ16*$F16 -> 0 | EC16: =EB16*$F16 -> 0 | EE16: =ED16*$F16 -> 0
D17: Építésvezető autó | E17: db | G17: =#VALUE! -> 0 | I17: =H17*$F17 -> 0 | K17: =J17*$F17 -> 0 | M17: =L17*$F17 -> 0 | O17: =N17*$F17 -> 0 | Q17: =P17*$F17 -> 0 | S17: =R17*$F17 -> 0 | U17: =T17*$F17 -> 0 | W17: =V17*$F17 -> 0 | Y17: =X17*$F17 -> 0 | AA17: =Z17*$F17 -> 0 | AC17: =AB17*$F17 -> 0 | AE17: =AD17*$F17 -> 0 | AG17: =AF17*$F17 -> 0 | AI17: =AH17*$F17 -> 0 | AK17: =AJ17*$F17 -> 0 | AM17: =AL17*$F17 -> 0 | AO17: =AN17*$F17 -> 0 | AQ17: =AP17*$F17 -> 0 | AS17: =AR17*$F17 -> 0 | AU17: =AT17*$F17 -> 0 | AW17: =AV17*$F17 -> 0 | AY17: =AX17*$F17 -> 0 | BA17: =AZ17*$F17 -> 0 | BC17: =BB17*$F17 -> 0 | BE17: =BD17*$F17 -> 0 | BG17: =BF17*$F17 -> 0 | BI17: =BH17*$F17 -> 0 | BK17: =BJ17*$F17 -> 0 | BM17: =BL17*$F17 -> 0 | BO17: =BN17*$F17 -> 0 | BQ17: =BP17*$F17 -> 0 | BS17: =BR17*$F17 -> 0 | BU17: =BT17*$F17 -> 0 | BW17: =BV17*$F17 -> 0 | BY17: =BX17*$F17 -> 0 | CA17: =BZ17*$F17 -> 0 | CC17: =CB17*$F17 -> 0 | CE17: =CD17*$F17 -> 0 | CG17: =CF17*$F17 -> 0 | CI17: =CH17*$F17 -> 0 | CK17: =CJ17*$F17 -> 0 | CM17: =CL17*$F17 -> 0 | CO17: =CN17*$F17 -> 0 | CQ17: =CP17*$F17 -> 0 | CS17: =CR17*$F17 -> 0 | CU17: =CT17*$F17 -> 0 | CW17: =CV17*$F17 -> 0 | CY17: =CX17*$F17 -> 0 | DA17: =CZ17*$F17 -> 0 | DC17: =DB17*$F17 -> 0 | DE17: =DD17*$F17 -> 0 | DG17: =DF17*$F17 -> 0 | DI17: =DH17*$F17 -> 0 | DK17: =DJ17*$F17 -> 0 | DM17: =DL17*$F17 -> 0 | DO17: =DN17*$F17 -> 0 | DQ17: =DP17*$F17 -> 0 | DS17: =DR17*$F17 -> 0 | DU17: =DT17*$F17 -> 0 | DW17: =DV17*$F17 -> 0 | DY17: =DX17*$F17 -> 0 | EA17: =DZ17*$F17 -> 0 | EC17: =EB17*$F17 -> 0 | EE17: =ED17*$F17 -> 0
D18: Operátor autó | E18: db | G18: =#VALUE! -> 0 | I18: =H18*$F18 -> 0 | K18: =J18*$F18 -> 0 | M18: =L18*$F18 -> 0 | O18: =N18*$F18 -> 0 | Q18: =P18*$F18 -> 0 | S18: =R18*$F18 -> 0 | U18: =T18*$F18 -> 0 | W18: =V18*$F18 -> 0 | Y18: =X18*$F18 -> 0 | AA18: =Z18*$F18 -> 0 | AC18: =AB18*$F18 -> 0 | AE18: =AD18*$F18 -> 0 | AG18: =AF18*$F18 -> 0 | AI18: =AH18*$F18 -> 0 | AK18: =AJ18*$F18 -> 0 | AM18: =AL18*$F18 -> 0 | AO18: =AN18*$F18 -> 0 | AQ18: =AP18*$F18 -> 0 | AS18: =AR18*$F18 -> 0 | AU18: =AT18*$F18 -> 0 | AW18: =AV18*$F18 -> 0 | AY18: =AX18*$F18 -> 0 | BA18: =AZ18*$F18 -> 0 | BC18: =BB18*$F18 -> 0 | BE18: =BD18*$F18 -> 0 | BG18: =BF18*$F18 -> 0 | BI18: =BH18*$F18 -> 0 | BK18: =BJ18*$F18 -> 0 | BM18: =BL18*$F18 -> 0 | BO18: =BN18*$F18 -> 0 | BQ18: =BP18*$F18 -> 0 | BS18: =BR18*$F18 -> 0 | BU18: =BT18*$F18 -> 0 | BW18: =BV18*$F18 -> 0 | BY18: =BX18*$F18 -> 0 | CA18: =BZ18*$F18 -> 0 | CC18: =CB18*$F18 -> 0 | CE18: =CD18*$F18 -> 0 | CG18: =CF18*$F18 -> 0 | CI18: =CH18*$F18 -> 0 | CK18: =CJ18*$F18 -> 0 | CM18: =CL18*$F18 -> 0 | CO18: =CN18*$F18 -> 0 | CQ18: =CP18*$F18 -> 0 | CS18: =CR18*$F18 -> 0 | CU18: =CT18*$F18 -> 0 | CW18: =CV18*$F18 -> 0 | CY18: =CX18*$F18 -> 0 | DA18: =CZ18*$F18 -> 0 | DC18: =DB18*$F18 -> 0 | DE18: =DD18*$F18 -> 0 | DG18: =DF18*$F18 -> 0 | DI18: =DH18*$F18 -> 0 | DK18: =DJ18*$F18 -> 0 | DM18: =DL18*$F18 -> 0 | DO18: =DN18*$F18 -> 0 | DQ18: =DP18*$F18 -> 0 | DS18: =DR18*$F18 -> 0 | DU18: =DT18*$F18 -> 0 | DW18: =DV18*$F18 -> 0 | DY18: =DX18*$F18 -> 0 | EA18: =DZ18*$F18 -> 0 | EC18: =EB18*$F18 -> 0 | EE18: =ED18*$F18 -> 0
D19: Darukezelő, gépkezelő autó | E19: db | G19: =#VALUE! -> 0 | I19: =H19*$F19 -> 0 | K19: =J19*$F19 -> 0 | M19: =L19*$F19 -> 0 | O19: =N19*$F19 -> 0 | Q19: =P19*$F19 -> 0 | S19: =R19*$F19 -> 0 | U19: =T19*$F19 -> 0 | W19: =V19*$F19 -> 0 | Y19: =X19*$F19 -> 0 | AA19: =Z19*$F19 -> 0 | AC19: =AB19*$F19 -> 0 | AE19: =AD19*$F19 -> 0 | AG19: =AF19*$F19 -> 0 | AI19: =AH19*$F19 -> 0 | AK19: =AJ19*$F19 -> 0 | AM19: =AL19*$F19 -> 0 | AO19: =AN19*$F19 -> 0 | AQ19: =AP19*$F19 -> 0 | AS19: =AR19*$F19 -> 0 | AU19: =AT19*$F19 -> 0 | AW19: =AV19*$F19 -> 0 | AY19: =AX19*$F19 -> 0 | BA19: =AZ19*$F19 -> 0 | BC19: =BB19*$F19 -> 0 | BE19: =BD19*$F19 -> 0 | BG19: =BF19*$F19 -> 0 | BI19: =BH19*$F19 -> 0 | BK19: =BJ19*$F19 -> 0 | BM19: =BL19*$F19 -> 0 | BO19: =BN19*$F19 -> 0 | BQ19: =BP19*$F19 -> 0 | BS19: =BR19*$F19 -> 0 | BU19: =BT19*$F19 -> 0 | BW19: =BV19*$F19 -> 0 | BY19: =BX19*$F19 -> 0 | CA19: =BZ19*$F19 -> 0 | CC19: =CB19*$F19 -> 0 | CE19: =CD19*$F19 -> 0 | CG19: =CF19*$F19 -> 0 | CI19: =CH19*$F19 -> 0 | CK19: =CJ19*$F19 -> 0 | CM19: =CL19*$F19 -> 0 | CO19: =CN19*$F19 -> 0 | CQ19: =CP19*$F19 -> 0 | CS19: =CR19*$F19 -> 0 | CU19: =CT19*$F19 -> 0 | CW19: =CV19*$F19 -> 0 | CY19: =CX19*$F19 -> 0 | DA19: =CZ19*$F19 -> 0 | DC19: =DB19*$F19 -> 0 | DE19: =DD19*$F19 -> 0 | DG19: =DF19*$F19 -> 0 | DI19: =DH19*$F19 -> 0 | DK19: =DJ19*$F19 -> 0 | DM19: =DL19*$F19 -> 0 | DO19: =DN19*$F19 -> 0 | DQ19: =DP19*$F19 -> 0 | DS19: =DR19*$F19 -> 0 | DU19: =DT19*$F19 -> 0 | DW19: =DV19*$F19 -> 0 | DY19: =DX19*$F19 -> 0 | EA19: =DZ19*$F19 -> 0 | EC19: =EB19*$F19 -> 0 | EE19: =ED19*$F19 -> 0
D20: Csapatszállító autó | E20: db | G20: =#VALUE! -> 0 | I20: =H20*$F20 -> 0 | K20: =J20*$F20 -> 0 | M20: =L20*$F20 -> 0 | O20: =N20*$F20 -> 0 | Q20: =P20*$F20 -> 0 | S20: =R20*$F20 -> 0 | U20: =T20*$F20 -> 0 | W20: =V20*$F20 -> 0 | Y20: =X20*$F20 -> 0 | AA20: =Z20*$F20 -> 0 | AC20: =AB20*$F20 -> 0 | AE20: =AD20*$F20 -> 0 | AG20: =AF20*$F20 -> 0 | AI20: =AH20*$F20 -> 0 | AK20: =AJ20*$F20 -> 0 | AM20: =AL20*$F20 -> 0 | AO20: =AN20*$F20 -> 0 | AQ20: =AP20*$F20 -> 0 | AS20: =AR20*$F20 -> 0 | AU20: =AT20*$F20 -> 0 | AW20: =AV20*$F20 -> 0 | AY20: =AX20*$F20 -> 0 | BA20: =AZ20*$F20 -> 0 | BC20: =BB20*$F20 -> 0 | BE20: =BD20*$F20 -> 0 | BG20: =BF20*$F20 -> 0 | BI20: =BH20*$F20 -> 0 | BK20: =BJ20*$F20 -> 0 | BM20: =BL20*$F20 -> 0 | BO20: =BN20*$F20 -> 0 | BQ20: =BP20*$F20 -> 0 | BS20: =BR20*$F20 -> 0 | BU20: =BT20*$F20 -> 0 | BW20: =BV20*$F20 -> 0 | BY20: =BX20*$F20 -> 0 | CA20: =BZ20*$F20 -> 0 | CC20: =CB20*$F20 -> 0 | CE20: =CD20*$F20 -> 0 | CG20: =CF20*$F20 -> 0 | CI20: =CH20*$F20 -> 0 | CK20: =CJ20*$F20 -> 0 | CM20: =CL20*$F20 -> 0 | CO20: =CN20*$F20 -> 0 | CQ20: =CP20*$F20 -> 0 | CS20: =CR20*$F20 -> 0 | CU20: =CT20*$F20 -> 0 | CW20: =CV20*$F20 -> 0 | CY20: =CX20*$F20 -> 0 | DA20: =CZ20*$F20 -> 0 | DC20: =DB20*$F20 -> 0 | DE20: =DD20*$F20 -> 0 | DG20: =DF20*$F20 -> 0 | DI20: =DH20*$F20 -> 0 | DK20: =DJ20*$F20 -> 0 | DM20: =DL20*$F20 -> 0 | DO20: =DN20*$F20 -> 0 | DQ20: =DP20*$F20 -> 0 | DS20: =DR20*$F20 -> 0 | DU20: =DT20*$F20 -> 0 | DW20: =DV20*$F20 -> 0 | DY20: =DX20*$F20 -> 0 | EA20: =DZ20*$F20 -> 0 | EC20: =EB20*$F20 -> 0 | EE20: =ED20*$F20 -> 0
D21: Bontókalapács | E21: db | G21: =#VALUE! -> 0 | I21: =H21*$F21 -> 0 | K21: =J21*$F21 -> 0 | M21: =L21*$F21 -> 0 | O21: =N21*$F21 -> 0 | Q21: =P21*$F21 -> 0 | S21: =R21*$F21 -> 0 | U21: =T21*$F21 -> 0 | W21: =V21*$F21 -> 0 | Y21: =X21*$F21 -> 0 | AA21: =Z21*$F21 -> 0 | AC21: =AB21*$F21 -> 0 | AE21: =AD21*$F21 -> 0 | AG21: =AF21*$F21 -> 0 | AI21: =AH21*$F21 -> 0 | AK21: =AJ21*$F21 -> 0 | AM21: =AL21*$F21 -> 0 | AO21: =AN21*$F21 -> 0 | AQ21: =AP21*$F21 -> 0 | AS21: =AR21*$F21 -> 0 | AU21: =AT21*$F21 -> 0 | AW21: =AV21*$F21 -> 0 | AY21: =AX21*$F21 -> 0 | BA21: =AZ21*$F21 -> 0 | BC21: =BB21*$F21 -> 0 | BE21: =BD21*$F21 -> 0 | BG21: =BF21*$F21 -> 0 | BI21: =BH21*$F21 -> 0 | BK21: =BJ21*$F21 -> 0 | BM21: =BL21*$F21 -> 0 | BO21: =BN21*$F21 -> 0 | BQ21: =BP21*$F21 -> 0 | BS21: =BR21*$F21 -> 0 | BU21: =BT21*$F21 -> 0 | BW21: =BV21*$F21 -> 0 | BY21: =BX21*$F21 -> 0 | CA21: =BZ21*$F21 -> 0 | CC21: =CB21*$F21 -> 0 | CE21: =CD21*$F21 -> 0 | CG21: =CF21*$F21 -> 0 | CI21: =CH21*$F21 -> 0 | CK21: =CJ21*$F21 -> 0 | CM21: =CL21*$F21 -> 0 | CO21: =CN21*$F21 -> 0 | CQ21: =CP21*$F21 -> 0 | CS21: =CR21*$F21 -> 0 | CU21: =CT21*$F21 -> 0 | CW21: =CV21*$F21 -> 0 | CY21: =CX21*$F21 -> 0 | DA21: =CZ21*$F21 -> 0 | DC21: =DB21*$F21 -> 0 | DE21: =DD21*$F21 -> 0 | DG21: =DF21*$F21 -> 0 | DI21: =DH21*$F21 -> 0 | DK21: =DJ21*$F21 -> 0 | DM21: =DL21*$F21 -> 0 | DO21: =DN21*$F21 -> 0 | DQ21: =DP21*$F21 -> 0 | DS21: =DR21*$F21 -> 0 | DU21: =DT21*$F21 -> 0 | DW21: =DV21*$F21 -> 0 | DY21: =DX21*$F21 -> 0 | EA21: =DZ21*$F21 -> 0 | EC21: =EB21*$F21 -> 0 | EE21: =ED21*$F21 -> 0
D22: Kisgépek... | E22: db | G22: =#VALUE! -> 0 | I22: =H22*$F22 -> 0 | K22: =J22*$F22 -> 0 | M22: =L22*$F22 -> 0 | O22: =N22*$F22 -> 0 | Q22: =P22*$F22 -> 0 | S22: =R22*$F22 -> 0 | U22: =T22*$F22 -> 0 | W22: =V22*$F22 -> 0 | Y22: =X22*$F22 -> 0 | AA22: =Z22*$F22 -> 0 | AC22: =AB22*$F22 -> 0 | AE22: =AD22*$F22 -> 0 | AG22: =AF22*$F22 -> 0 | AI22: =AH22*$F22 -> 0 | AK22: =AJ22*$F22 -> 0 | AM22: =AL22*$F22 -> 0 | AO22: =AN22*$F22 -> 0 | AQ22: =AP22*$F22 -> 0 | AS22: =AR22*$F22 -> 0 | AU22: =AT22*$F22 -> 0 | AW22: =AV22*$F22 -> 0 | AY22: =AX22*$F22 -> 0 | BA22: =AZ22*$F22 -> 0 | BC22: =BB22*$F22 -> 0 | BE22: =BD22*$F22 -> 0 | BG22: =BF22*$F22 -> 0 | BI22: =BH22*$F22 -> 0 | BK22: =BJ22*$F22 -> 0 | BM22: =BL22*$F22 -> 0 | BO22: =BN22*$F22 -> 0 | BQ22: =BP22*$F22 -> 0 | BS22: =BR22*$F22 -> 0 | BU22: =BT22*$F22 -> 0 | BW22: =BV22*$F22 -> 0 | BY22: =BX22*$F22 -> 0 | CA22: =BZ22*$F22 -> 0 | CC22: =CB22*$F22 -> 0 | CE22: =CD22*$F22 -> 0 | CG22: =CF22*$F22 -> 0 | CI22: =CH22*$F22 -> 0 | CK22: =CJ22*$F22 -> 0 | CM22: =CL22*$F22 -> 0 | CO22: =CN22*$F22 -> 0 | CQ22: =CP22*$F22 -> 0 | CS22: =CR22*$F22 -> 0 | CU22: =CT22*$F22 -> 0 | CW22: =CV22*$F22 -> 0 | CY22: =CX22*$F22 -> 0 | DA22: =CZ22*$F22 -> 0 | DC22: =DB22*$F22 -> 0 | DE22: =DD22*$F22 -> 0 | DG22: =DF22*$F22 -> 0 | DI22: =DH22*$F22 -> 0 | DK22: =DJ22*$F22 -> 0 | DM22: =DL22*$F22 -> 0 | DO22: =DN22*$F22 -> 0 | DQ22: =DP22*$F22 -> 0 | DS22: =DR22*$F22 -> 0 | DU22: =DT22*$F22 -> 0 | DW22: =DV22*$F22 -> 0 | DY22: =DX22*$F22 -> 0 | EA22: =DZ22*$F22 -> 0 | EC22: =EB22*$F22 -> 0 | EE22: =ED22*$F22 -> 0
... D33: HK bentonitszivattyú | E33: db | G33: =#VALUE! -> 0 | I33: =H33*$F33 -> 0 | K33: =J33*$F33 -> 0 | M33: =L33*$F33 -> 0 | O33: =N33*$F33 -> 0 | Q33: =P33*$F33 -> 0 | S33: =R33*$F33 -> 0 | U33: =T33*$F33 -> 0 | W33: =V33*$F33 -> 0 | Y33: =X33*$F33 -> 0 | AA33: =Z33*$F33 -> 0 | AC33: =AB33*$F33 -> 0 | AE33: =AD33*$F33 -> 0 | AG33: =AF33*$F33 -> 0 | AI33: =AH33*$F33 -> 0 | AK33: =AJ33*$F33 -> 0 | AM33: =AL33*$F33 -> 0 | AO33: =AN33*$F33 -> 0 | AQ33: =AP33*$F33 -> 0 | AS33: =AR33*$F33 -> 0 | AU33: =AT33*$F33 -> 0 | AW33: =AV33*$F33 -> 0 | AY33: =AX33*$F33 -> 0 | BA33: =AZ33*$F33 -> 0 | BC33: =BB33*$F33 -> 0 | BE33: =BD33*$F33 -> 0 | BG33: =BF33*$F33 -> 0 | BI33: =BH33*$F33 -> 0 | BK33: =BJ33*$F33 -> 0 | BM33: =BL33*$F33 -> 0 | BO33: =BN33*$F33 -> 0 | BQ33: =BP33*$F33 -> 0 | BS33: =BR33*$F33 -> 0 | BU33: =BT33*$F33 -> 0 | BW33: =BV33*$F33 -> 0 | BY33: =BX33*$F33 -> 0 | CA33: =BZ33*$F33 -> 0 | CC33: =CB33*$F33 -> 0 | CE33: =CD33*$F33 -> 0 | CG33: =CF33*$F33 -> 0 | CI33: =CH33*$F33 -> 0 | CK33: =CJ33*$F33 -> 0 | CM33: =CL33*$F33 -> 0 | CO33: =CN33*$F33 -> 0 | CQ33: =CP33*$F33 -> 0 | CS33: =CR33*$F33 -> 0 | CU33: =CT33*$F33 -> 0 | CW33: =CV33*$F33 -> 0 | CY33: =CX33*$F33 -> 0 | DA33: =CZ33*$F33 -> 0 | DC33: =DB33*$F33 -> 0 | DE33: =DD33*$F33 -> 0 | DG33: =DF33*$F33 -> 0 | DI33: =DH33*$F33 -> 0 | DK33: =DJ33*$F33 -> 0 | DM33: =DL33*$F33 -> 0 | DO33: =DN33*$F33 -> 0 | DQ33: =DP33*$F33 -> 0 | DS33: =DR33*$F33 -> 0 | DU33: =DT33*$F33 -> 0 | DW33: =DV33*$F33 -> 0 | DY33: =DX33*$F33 -> 0 | EA33: =DZ33*$F33 -> 0 | EC33: =EB33*$F33 -> 0 | EE33: =ED33*$F33 -> 0
C34: 12 | D34: Külső gépbérlet | G34: =#VALUE! -> 0 | I34: =SUM(I36:I41) -> 0 | K34: =SUM(K36:K41) -> 0 | M34: =SUM(M36:M41) -> 0 | O34: =SUM(O36:O41) -> 0 | Q34: =SUM(Q36:Q41) -> 0 | S34: =SUM(S36:S41) -> 0 | U34: =SUM(U36:U41) -> 0 | W34: =SUM(W36:W41) -> 0 | Y34: =SUM(Y36:Y41) -> 0 | AA34: =SUM(AA36:AA41) -> 0 | AC34: =SUM(AC36:AC41) -> 0 | AE34: =SUM(AE36:AE41) -> 0 | AG34: =SUM(AG36:AG41) -> 0 | AI34: =SUM(AI36:AI41) -> 0 | AK34: =SUM(AK36:AK41) -> 0 | AM34: =SUM(AM36:AM41) -> 0 | AO34: =SUM(AO36:AO41) -> 0 | AQ34: =SUM(AQ36:AQ41) -> 0 | AS34: =SUM(AS36:AS41) -> 0 | AU34: =SUM(AU36:AU41) -> 0 | AW34: =SUM(AW36:AW41) -> 0 | AY34: =SUM(AY36:AY41) -> 0 | BA34: =SUM(BA36:BA41) -> 0 | BC34: =SUM(BC36:BC41) -> 0 | BE34: =SUM(BE36:BE41) -> 0 | BG34: =SUM(BG36:BG41) -> 0 | BI34: =SUM(BI36:BI41) -> 0 | BK34: =SUM(BK36:BK41) -> 0 | BM34: =SUM(BM36:BM41) -> 0 | BO34: =SUM(BO36:BO41) -> 0 | BQ34: =SUM(BQ36:BQ41) -> 0 | BS34: =SUM(BS36:BS41) -> 0 | BU34: =SUM(BU36:BU41) -> 0 | BW34: =SUM(BW36:BW41) -> 0 | BY34: =SUM(BY36:BY41) -> 0 | CA34: =SUM(CA36:CA41) -> 0 | CC34: =SUM(CC36:CC41) -> 0 | CE34: =SUM(CE36:CE41) -> 0 | CG34: =SUM(CG36:CG41) -> 0 | CI34: =SUM(CI36:CI41) -> 0 | CK34: =SUM(CK36:CK41) -> 0 | CM34: =SUM(CM36:CM41) -> 0 | CO34: =SUM(CO36:CO41) -> 0 | CQ34: =SUM(CQ36:CQ41) -> 0 | CS34: =SUM(CS36:CS41) -> 0 | CU34: =SUM(CU36:CU41) -> 0 | CW34: =SUM(CW36:CW41) -> 0 | CY34: =SUM(CY36:CY41) -> 0 | DA34: =SUM(DA36:DA41) -> 0 | DC34: =SUM(DC36:DC41) -> 0 | DE34: =SUM(DE36:DE41) -> 0 | DG34: =SUM(DG36:DG41) -> 0 | DI34: =SUM(DI36:DI41) -> 0 | DK34: =SUM(DK36:DK41) -> 0 | DM34: =SUM(DM36:DM41) -> 0 | DO34: =SUM(DO36:DO41) -> 0 | DQ34: =SUM(DQ36:DQ41) -> 0 | DS34: =SUM(DS36:DS41) -> 0 | DU34: =SUM(DU36:DU41) -> 0 | DW34: =SUM(DW36:DW41) -> 0 | DY34: =SUM(DY36:DY41) -> 0 | EA34: =SUM(EA36:EA41) -> 0 | EC34: =SUM(EC36:EC41) -> 0 | EE34: =SUM(EE36:EE41) -> 0
D35: Irodakonténer | E35: db | G35: =#VALUE! -> 0 | I35: =H35*$F35 -> 0 | K35: =J35*$F35 -> 0 | M35: =L35*$F35 -> 0 | O35: =N35*$F35 -> 0 | Q35: =P35*$F35 -> 0 | S35: =R35*$F35 -> 0 | U35: =T35*$F35 -> 0 | W35: =V35*$F35 -> 0 | Y35: =X35*$F35 -> 0 | AA35: =Z35*$F35 -> 0 | AC35: =AB35*$F35 -> 0 | AE35: =AD35*$F35 -> 0 | AG35: =AF35*$F35 -> 0 | AI35: =AH35*$F35 -> 0 | AK35: =AJ35*$F35 -> 0 | AM35: =AL35*$F35 -> 0 | AO35: =AN35*$F35 -> 0 | AQ35: =AP35*$F35 -> 0 | AS35: =AR35*$F35 -> 0 | AU35: =AT35*$F35 -> 0 | AW35: =AV35*$F35 -> 0 | AY35: =AX35*$F35 -> 0 | BA35: =AZ35*$F35 -> 0 | BC35: =BB35*$F35 -> 0 | BE35: =BD35*$F35 -> 0 | BG35: =BF35*$F35 -> 0 | BI35: =BH35*$F35 -> 0 | BK35: =BJ35*$F35 -> 0 | BM35: =BL35*$F35 -> 0 | BO35: =BN35*$F35 -> 0 | BQ35: =BP35*$F35 -> 0 | BS35: =BR35*$F35 -> 0 | BU35: =BT35*$F35 -> 0 | BW35: =BV35*$F35 -> 0 | BY35: =BX35*$F35 -> 0 | CA35: =BZ35*$F35 -> 0 | CC35: =CB35*$F35 -> 0 | CE35: =CD35*$F35 -> 0 | CG35: =CF35*$F35 -> 0 | CI35: =CH35*$F35 -> 0 | CK35: =CJ35*$F35 -> 0 | CM35: =CL35*$F35 -> 0 | CO35: =CN35*$F35 -> 0 | CQ35: =CP35*$F35 -> 0 | CS35: =CR35*$F35 -> 0 | CU35: =CT35*$F35 -> 0 | CW35: =CV35*$F35 -> 0 | CY35: =CX35*$F35 -> 0 | DA35: =CZ35*$F35 -> 0 | DC35: =DB35*$F35 -> 0 | DE35: =DD35*$F35 -> 0 | DG35: =DF35*$F35 -> 0 | DI35: =DH35*$F35 -> 0 | DK35: =DJ35*$F35 -> 0 | DM35: =DL35*$F35 -> 0 | DO35: =DN35*$F35 -> 0 | DQ35: =DP35*$F35 -> 0 | DS35: =DR35*$F35 -> 0 | DU35: =DT35*$F35 -> 0 | DW35: =DV35*$F35 -> 0 | DY35: =DX35*$F35 -> 0 | EA35: =DZ35*$F35 -> 0 | EC35: =EB35*$F35 -> 0 | EE35: =ED35*$F35 -> 0
D36: Teherautó | E36: h | G36: =#VALUE! -> 0 | I36: =H36*$F36 -> 0 | K36: =J36*$F36 -> 0 | M36: =L36*$F36 -> 0 | O36: =N36*$F36 -> 0 | Q36: =P36*$F36 -> 0 | S36: =R36*$F36 -> 0 | U36: =T36*$F36 -> 0 | W36: =V36*$F36 -> 0 | Y36: =X36*$F36 -> 0 | AA36: =Z36*$F36 -> 0 | AC36: =AB36*$F36 -> 0 | AE36: =AD36*$F36 -> 0 | AG36: =AF36*$F36 -> 0 | AI36: =AH36*$F36 -> 0 | AK36: =AJ36*$F36 -> 0 | AM36: =AL36*$F36 -> 0 | AO36: =AN36*$F36 -> 0 | AQ36: =AP36*$F36 -> 0 | AS36: =AR36*$F36 -> 0 | AU36: =AT36*$F36 -> 0 | AW36: =AV36*$F36 -> 0 | AY36: =AX36*$F36 -> 0 | BA36: =AZ36*$F36 -> 0 | BC36: =BB36*$F36 -> 0 | BE36: =BD36*$F36 -> 0 | BG36: =BF36*$F36 -> 0 | BI36: =BH36*$F36 -> 0 | BK36: =BJ36*$F36 -> 0 | BM36: =BL36*$F36 -> 0 | BO36: =BN36*$F36 -> 0 | BQ36: =BP36*$F36 -> 0 | BS36: =BR36*$F36 -> 0 | BU36: =BT36*$F36 -> 0 | BW36: =BV36*$F36 -> 0 | BY36: =BX36*$F36 -> 0 | CA36: =BZ36*$F36 -> 0 | CC36: =CB36*$F36 -> 0 | CE36: =CD36*$F36 -> 0 | CG36: =CF36*$F36 -> 0 | CI36: =CH36*$F36 -> 0 | CK36: =CJ36*$F36 -> 0 | CM36: =CL36*$F36 -> 0 | CO36: =CN36*$F36 -> 0 | CQ36: =CP36*$F36 -> 0 | CS36: =CR36*$F36 -> 0 | CU36: =CT36*$F36 -> 0 | CW36: =CV36*$F36 -> 0 | CY36: =CX36*$F36 -> 0 | DA36: =CZ36*$F36 -> 0 | DC36: =DB36*$F36 -> 0 | DE36: =DD36*$F36 -> 0 | DG36: =DF36*$F36 -> 0 | DI36: =DH36*$F36 -> 0 | DK36: =DJ36*$F36 -> 0 | DM36: =DL36*$F36 -> 0 | DO36: =DN36*$F36 -> 0 | DQ36: =DP36*$F36 -> 0 | DS36: =DR36*$F36 -> 0 | DU36: =DT36*$F36 -> 0 | DW36: =DV36*$F36 -> 0 | DY36: =DX36*$F36 -> 0 | EA36: =DZ36*$F36 -> 0 | EC36: =EB36*$F36 -> 0 | EE36: =ED36*$F36 -> 0
D37: Vágókerék | E37: db | G37: =#VALUE! -> 0 | I37: =H37*$F37 -> 0 | K37: =J37*$F37 -> 0 | M37: =L37*$F37 -> 0 | O37: =N37*$F37 -> 0 | Q37: =P37*$F37 -> 0 | S37: =R37*$F37 -> 0 | U37: =T37*$F37 -> 0 | W37: =V37*$F37 -> 0 | Y37: =X37*$F37 -> 0 | AA37: =Z37*$F37 -> 0 | AC37: =AB37*$F37 -> 0 | AE37: =AD37*$F37 -> 0 | AG37: =AF37*$F37 -> 0 | AI37: =AH37*$F37 -> 0 | AK37: =AJ37*$F37 -> 0 | AM37: =AL37*$F37 -> 0 | AO37: =AN37*$F37 -> 0 | AQ37: =AP37*$F37 -> 0 | AS37: =AR37*$F37 -> 0 | AU37: =AT37*$F37 -> 0 | AW37: =AV37*$F37 -> 0 | AY37: =AX37*$F37 -> 0 | BA37: =AZ37*$F37 -> 0 | BC37: =BB37*$F37 -> 0 | BE37: =BD37*$F37 -> 0 | BG37: =BF37*$F37 -> 0 | BI37: =BH37*$F37 -> 0 | BK37: =BJ37*$F37 -> 0 | BM37: =BL37*$F37 -> 0 | BO37: =BN37*$F37 -> 0 | BQ37: =BP37*$F37 -> 0 | BS37: =BR37*$F37 -> 0 | BU37: =BT37*$F37 -> 0 | BW37: =BV37*$F37 -> 0 | BY37: =BX37*$F37 -> 0 | CA37: =BZ37*$F37 -> 0 | CC37: =CB37*$F37 -> 0 | CE37: =CD37*$F37 -> 0 | CG37: =CF37*$F37 -> 0 | CI37: =CH37*$F37 -> 0 | CK37: =CJ37*$F37 -> 0 | CM37: =CL37*$F37 -> 0 | CO37: =CN37*$F37 -> 0 | CQ37: =CP37*$F37 -> 0 | CS37: =CR37*$F37 -> 0 | CU37: =CT37*$F37 -> 0 | CW37: =CV37*$F37 -> 0 | CY37: =CX37*$F37 -> 0 | DA37: =CZ37*$F37 -> 0 | DC37: =DB37*$F37 -> 0 | DE37: =DD37*$F37 -> 0 | DG37: =DF37*$F37 -> 0 | DI37: =DH37*$F37 -> 0 | DK37: =DJ37*$F37 -> 0 | DM37: =DL37*$F37 -> 0 | DO37: =DN37*$F37 -> 0 | DQ37: =DP37*$F37 -> 0 | DS37: =DR37*$F37 -> 0 | DU37: =DT37*$F37 -> 0 | DW37: =DV37*$F37 -> 0 | DY37: =DX37*$F37 -> 0 | EA37: =DZ37*$F37 -> 0 | EC37: =EB37*$F37 -> 0 | EE37: =ED37*$F37 -> 0
D38: Bauer desilter | E38: db | G38: =#VALUE! -> 0 | I38: =H38*$F38 -> 0 | K38: =J38*$F38 -> 0 | M38: =L38*$F38 -> 0 | O38: =N38*$F38 -> 0 | Q38: =P38*$F38 -> 0 | S38: =R38*$F38 -> 0 | U38: =T38*$F38 -> 0 | W38: =V38*$F38 -> 0 | Y38: =X38*$F38 -> 0 | AA38: =Z38*$F38 -> 0 | AC38: =AB38*$F38 -> 0 | AE38: =AD38*$F38 -> 0 | AG38: =AF38*$F38 -> 0 | AI38: =AH38*$F38 -> 0 | AK38: =AJ38*$F38 -> 0 | AM38: =AL38*$F38 -> 0 | AO38: =AN38*$F38 -> 0 | AQ38: =AP38*$F38 -> 0 | AS38: =AR38*$F38 -> 0 | AU38: =AT38*$F38 -> 0 | AW38: =AV38*$F38 -> 0 | AY38: =AX38*$F38 -> 0 | BA38: =AZ38*$F38 -> 0 | BC38: =BB38*$F38 -> 0 | BE38: =BD38*$F38 -> 0 | BG38: =BF38*$F38 -> 0 | BI38: =BH38*$F38 -> 0 | BK38: =BJ38*$F38 -> 0 | BM38: =BL38*$F38 -> 0 | BO38: =BN38*$F38 -> 0 | BQ38: =BP38*$F38 -> 0 | BS38: =BR38*$F38 -> 0 | BU38: =BT38*$F38 -> 0 | BW38: =BV38*$F38 -> 0 | BY38: =BX38*$F38 -> 0 | CA38: =BZ38*$F38 -> 0 | CC38: =CB38*$F38 -> 0 | CE38: =CD38*$F38 -> 0 | CG38: =CF38*$F38 -> 0 | CI38: =CH38*$F38 -> 0 | CK38: =CJ38*$F38 -> 0 | CM38: =CL38*$F38 -> 0 | CO38: =CN38*$F38 -> 0 | CQ38: =CP38*$F38 -> 0 | CS38: =CR38*$F38 -> 0 | CU38: =CT38*$F38 -> 0 | CW38: =CV38*$F38 -> 0 | CY38: =CX38*$F38 -> 0 | DA38: =CZ38*$F38 -> 0 | DC38: =DB38*$F38 -> 0 | DE38: =DD38*$F38 -> 0 | DG38: =DF38*$F38 -> 0 | DI38: =DH38*$F38 -> 0 | DK38: =DJ38*$F38 -> 0 | DM38: =DL38*$F38 -> 0 | DO38: =DN38*$F38 -> 0 | DQ38: =DP38*$F38 -> 0 | DS38: =DR38*$F38 -> 0 | DU38: =DT38*$F38 -> 0 | DW38: =DV38*$F38 -> 0 | DY38: =DX38*$F38 -> 0 | EA38: =DZ38*$F38 -> 0 | EC38: =EB38*$F38 -> 0 | EE38: =ED38*$F38 -> 0
D39: közbenső hengerek | E39: db | G39: =#VALUE! -> 0 | I39: =H39*$F39 -> 0 | K39: =J39*$F39 -> 0 | M39: =L39*$F39 -> 0 | O39: =N39*$F39 -> 0 | Q39: =P39*$F39 -> 0 | S39: =R39*$F39 -> 0 | U39: =T39*$F39 -> 0 | W39: =V39*$F39 -> 0 | Y39: =X39*$F39 -> 0 | AA39: =Z39*$F39 -> 0 | AC39: =AB39*$F39 -> 0 | AE39: =AD39*$F39 -> 0 | AG39: =AF39*$F39 -> 0 | AI39: =AH39*$F39 -> 0 | AK39: =AJ39*$F39 -> 0 | AM39: =AL39*$F39 -> 0 | AO39: =AN39*$F39 -> 0 | AQ39: =AP39*$F39 -> 0 | AS39: =AR39*$F39 -> 0 | AU39: =AT39*$F39 -> 0 | AW39: =AV39*$F39 -> 0 | AY39: =AX39*$F39 -> 0 | BA39: =AZ39*$F39 -> 0 | BC39: =BB39*$F39 -> 0 | BE39: =BD39*$F39 -> 0 | BG39: =BF39*$F39 -> 0 | BI39: =BH39*$F39 -> 0 | BK39: =BJ39*$F39 -> 0 | BM39: =BL39*$F39 -> 0 | BO39: =BN39*$F39 -> 0 | BQ39: =BP39*$F39 -> 0 | BS39: =BR39*$F39 -> 0 | BU39: =BT39*$F39 -> 0 | BW39: =BV39*$F39 -> 0 | BY39: =BX39*$F39 -> 0 | CA39: =BZ39*$F39 -> 0 | CC39: =CB39*$F39 -> 0 | CE39: =CD39*$F39 -> 0 | CG39: =CF39*$F39 -> 0 | CI39: =CH39*$F39 -> 0 | CK39: =CJ39*$F39 -> 0 | CM39: =CL39*$F39 -> 0 | CO39: =CN39*$F39 -> 0 | CQ39: =CP39*$F39 -> 0 | CS39: =CR39*$F39 -> 0 | CU39: =CT39*$F39 -> 0 | CW39: =CV39*$F39 -> 0 | CY39: =CX39*$F39 -> 0 | DA39: =CZ39*$F39 -> 0 | DC39: =DB39*$F39 -> 0 | DE39: =DD39*$F39 -> 0 | DG39: =DF39*$F39 -> 0 | DI39: =DH39*$F39 -> 0 | DK39: =DJ39*$F39 -> 0 | DM39: =DL39*$F39 -> 0 | DO39: =DN39*$F39 -> 0 | DQ39: =DP39*$F39 -> 0 | DS39: =DR39*$F39 -> 0 | DU39: =DT39*$F39 -> 0 | DW39: =DV39*$F39 -> 0 | DY39: =DX39*$F39 -> 0 | EA39: =DZ39*$F39 -> 0 | EC39: =EB39*$F39 -> 0 | EE39: =ED39*$F39 -> 0
D40: Szivattyúk... | E40: db | G40: =#VALUE! -> 0 | I40: =H40*$F40 -> 0 | K40: =J40*$F40 -> 0 | M40: =L40*$F40 -> 0 | O40: =N40*$F40 -> 0 | Q40: =P40*$F40 -> 0 | S40: =R40*$F40 -> 0 | U40: =T40*$F40 -> 0 | W40: =V40*$F40 -> 0 | Y40: =X40*$F40 -> 0 | AA40: =Z40*$F40 -> 0 | AC40: =AB40*$F40 -> 0 | AE40: =AD40*$F40 -> 0 | AG40: =AF40*$F40 -> 0 | AI40: =AH40*$F40 -> 0 | AK40: =AJ40*$F40 -> 0 | AM40: =AL40*$F40 -> 0 | AO40: =AN40*$F40 -> 0 | AQ40: =AP40*$F40 -> 0 | AS40: =AR40*$F40 -> 0 | AU40: =AT40*$F40 -> 0 | AW40: =AV40*$F40 -> 0 | AY40: =AX40*$F40 -> 0 | BA40: =AZ40*$F40 -> 0 | BC40: =BB40*$F40 -> 0 | BE40: =BD40*$F40 -> 0 | BG40: =BF40*$F40 -> 0 | BI40: =BH40*$F40 -> 0 | BK40: =BJ40*$F40 -> 0 | BM40: =BL40*$F40 -> 0 | BO40: =BN40*$F40 -> 0 | BQ40: =BP40*$F40 -> 0 | BS40: =BR40*$F40 -> 0 | BU40: =BT40*$F40 -> 0 | BW40: =BV40*$F40 -> 0 | BY40: =BX40*$F40 -> 0 | CA40: =BZ40*$F40 -> 0 | CC40: =CB40*$F40 -> 0 | CE40: =CD40*$F40 -> 0 | CG40: =CF40*$F40 -> 0 | CI40: =CH40*$F40 -> 0 | CK40: =CJ40*$F40 -> 0 | CM40: =CL40*$F40 -> 0 | CO40: =CN40*$F40 -> 0 | CQ40: =CP40*$F40 -> 0 | CS40: =CR40*$F40 -> 0 | CU40: =CT40*$F40 -> 0 | CW40: =CV40*$F40 -> 0 | CY40: =CX40*$F40 -> 0 | DA40: =CZ40*$F40 -> 0 | DC40: =DB40*$F40 -> 0 | DE40: =DD40*$F40 -> 0 | DG40: =DF40*$F40 -> 0 | DI40: =DH40*$F40 -> 0 | DK40: =DJ40*$F40 -> 0 | DM40: =DL40*$F40 -> 0 | DO40: =DN40*$F40 -> 0 | DQ40: =DP40*$F40 -> 0 | DS40: =DR40*$F40 -> 0 | DU40: =DT40*$F40 -> 0 | DW40: =DV40*$F40 -> 0 | DY40: =DX40*$F40 -> 0 | EA40: =DZ40*$F40 -> 0 | EC40: =EB40*$F40 -> 0 | EE40: =ED40*$F40 -> 0
D41: Kisgépek... | E41: db | G41: =#VALUE! -> 0 | I41: =H41*$F41 -> 0 | K41: =J41*$F41 -> 0 | M41: =L41*$F41 -> 0 | O41: =N41*$F41 -> 0 | Q41: =P41*$F41 -> 0 | S41: =R41*$F41 -> 0 | U41: =T41*$F41 -> 0 | W41: =V41*$F41 -> 0 | Y41: =X41*$F41 -> 0 | AA41: =Z41*$F41 -> 0 | AC41: =AB41*$F41 -> 0 | AE41: =AD41*$F41 -> 0 | AG41: =AF41*$F41 -> 0 | AI41: =AH41*$F41 -> 0 | AK41: =AJ41*$F41 -> 0 | AM41: =AL41*$F41 -> 0 | AO41: =AN41*$F41 -> 0 | AQ41: =AP41*$F41 -> 0 | AS41: =AR41*$F41 -> 0 | AU41: =AT41*$F41 -> 0 | AW41: =AV41*$F41 -> 0 | AY41: =AX41*$F41 -> 0 | BA41: =AZ41*$F41 -> 0 | BC41: =BB41*$F41 -> 0 | BE41: =BD41*$F41 -> 0 | BG41: =BF41*$F41 -> 0 | BI41: =BH41*$F41 -> 0 | BK41: =BJ41*$F41 -> 0 | BM41: =BL41*$F41 -> 0 | BO41: =BN41*$F41 -> 0 | BQ41: =BP41*$F41 -> 0 | BS41: =BR41*$F41 -> 0 | BU41: =BT41*$F41 -> 0 | BW41: =BV41*$F41 -> 0 | BY41: =BX41*$F41 -> 0 | CA41: =BZ41*$F41 -> 0 | CC41: =CB41*$F41 -> 0 | CE41: =CD41*$F41 -> 0 | CG41: =CF41*$F41 -> 0 | CI41: =CH41*$F41 -> 0 | CK41: =CJ41*$F41 -> 0 | CM41: =CL41*$F41 -> 0 | CO41: =CN41*$F41 -> 0 | CQ41: =CP41*$F41 -> 0 | CS41: =CR41*$F41 -> 0 | CU41: =CT41*$F41 -> 0 | CW41: =CV41*$F41 -> 0 | CY41: =CX41*$F41 -> 0 | DA41: =CZ41*$F41 -> 0 | DC41: =DB41*$F41 -> 0 | DE41: =DD41*$F41 -> 0 | DG41: =DF41*$F41 -> 0 | DI41: =DH41*$F41 -> 0 | DK41: =DJ41*$F41 -> 0 | DM41: =DL41*$F41 -> 0 | DO41: =DN41*$F41 -> 0 | DQ41: =DP41*$F41 -> 0 | DS41: =DR41*$F41 -> 0 | DU41: =DT41*$F41 -> 0 | DW41: =DV41*$F41 -> 0 | DY41: =DX41*$F41 -> 0 | EA41: =DZ41*$F41 -> 0 | EC41: =EB41*$F41 -> 0 | EE41: =ED41*$F41 -> 0
C42: 13 | D42: Üzemanyag, Kenőanyag | G42: =#VALUE! -> 0 | I42: =SUM(I43) -> 0 | K42: =SUM(K43) -> 0 | M42: =SUM(M43) -> 0 | O42: =SUM(O43) -> 0 | Q42: =SUM(Q43) -> 0 | S42: =SUM(S43) -> 0 | U42: =SUM(U43) -> 0 | W42: =SUM(W43) -> 0 | Y42: =SUM(Y43) -> 0 | AA42: =SUM(AA43) -> 0 | AC42: =SUM(AC43) -> 0 | AE42: =SUM(AE43) -> 0 | AG42: =SUM(AG43) -> 0 | AI42: =SUM(AI43) -> 0 | AK42: =SUM(AK43) -> 0 | AM42: =SUM(AM43) -> 0 | AO42: =SUM(AO43) -> 0 | AQ42: =SUM(AQ43) -> 0 | AS42: =SUM(AS43) -> 0 | AU42: =SUM(AU43) -> 0 | AW42: =SUM(AW43) -> 0 | AY42: =SUM(AY43) -> 0 | BA42: =SUM(BA43) -> 0 | BC42: =SUM(BC43) -> 0 | BE42: =SUM(BE43) -> 0 | BG42: =SUM(BG43) -> 0 | BI42: =SUM(BI43) -> 0 | BK42: =SUM(BK43) -> 0 | BM42: =SUM(BM43) -> 0 | BO42: =SUM(BO43) -> 0 | BQ42: =SUM(BQ43) -> 0 | BS42: =SUM(BS43) -> 0 | BU42: =SUM(BU43) -> 0 | BW42: =SUM(BW43) -> 0 | BY42: =SUM(BY43) -> 0 | CA42: =SUM(CA43) -> 0 | CC42: =SUM(CC43) -> 0 | CE42: =SUM(CE43) -> 0 | CG42: =SUM(CG43) -> 0 | CI42: =SUM(CI43) -> 0 | CK42: =SUM(CK43) -> 0 | CM42: =SUM(CM43) -> 0 | CO42: =SUM(CO43) -> 0 | CQ42: =SUM(CQ43) -> 0 | CS42: =SUM(CS43) -> 0 | CU42: =SUM(CU43) -> 0 | CW42: =SUM(CW43) -> 0 | CY42: =SUM(CY43) -> 0 | DA42: =SUM(DA43) -> 0 | DC42: =SUM(DC43) -> 0 | DE42: =SUM(DE43) -> 0 | DG42: =SUM(DG43) -> 0 | DI42: =SUM(DI43) -> 0 | DK42: =SUM(DK43) -> 0 | DM42: =SUM(DM43) -> 0 | DO42: =SUM(DO43) -> 0 | DQ42: =SUM(DQ43) -> 0 | DS42: =SUM(DS43) -> 0 | DU42: =SUM(DU43) -> 0 | DW42: =SUM(DW43) -> 0 | DY42: =SUM(DY43) -> 0 | EA42: =SUM(EA43) -> 0 | EC42: =SUM(EC43) -> 0 | EE42: =SUM(EE43) -> 0
D43: gázolaj | E43: l | G43: =#VALUE! -> 0 | I43: =H43*$F43 -> 0 | K43: =J43*$F43 -> 0 | M43: =L43*$F43 -> 0 | O43: =N43*$F43 -> 0 | Q43: =P43*$F43 -> 0 | S43: =R43*$F43 -> 0 | U43: =T43*$F43 -> 0 | W43: =V43*$F43 -> 0 | Y43: =X43*$F43 -> 0 | AA43: =Z43*$F43 -> 0 | AC43: =AB43*$F43 -> 0 | AE43: =AD43*$F43 -> 0 | AG43: =AF43*$F43 -> 0 | AI43: =AH43*$F43 -> 0 | AK43: =AJ43*$F43 -> 0 | AM43: =AL43*$F43 -> 0 | AO43: =AN43*$F43 -> 0 | AQ43: =AP43*$F43 -> 0 | AS43: =AR43*$F43 -> 0 | AU43: =AT43*$F43 -> 0 | AW43: =AV43*$F43 -> 0 | AY43: =AX43*$F43 -> 0 | BA43: =AZ43*$F43 -> 0 | BC43: =BB43*$F43 -> 0 | BE43: =BD43*$F43 -> 0 | BG43: =BF43*$F43 -> 0 | BI43: =BH43*$F43 -> 0 | BK43: =BJ43*$F43 -> 0 | BM43: =BL43*$F43 -> 0 | BO43: =BN43*$F43 -> 0 | BQ43: =BP43*$F43 -> 0 | BS43: =BR43*$F43 -> 0 | BU43: =BT43*$F43 -> 0 | BW43: =BV43*$F43 -> 0 | BY43: =BX43*$F43 -> 0 | CA43: =BZ43*$F43 -> 0 | CC43: =CB43*$F43 -> 0 | CE43: =CD43*$F43 -> 0 | CG43: =CF43*$F43 -> 0 | CI43: =CH43*$F43 -> 0 | CK43: =CJ43*$F43 -> 0 | CM43: =CL43*$F43 -> 0 | CO43: =CN43*$F43 -> 0 | CQ43: =CP43*$F43 -> 0 | CS43: =CR43*$F43 -> 0 | CU43: =CT43*$F43 -> 0 | CW43: =CV43*$F43 -> 0 | CY43: =CX43*$F43 -> 0 | DA43: =CZ43*$F43 -> 0 | DC43: =DB43*$F43 -> 0 | DE43: =DD43*$F43 -> 0 | DG43: =DF43*$F43 -> 0 | DI43: =DH43*$F43 -> 0 | DK43: =DJ43*$F43 -> 0 | DM43: =DL43*$F43 -> 0 | DO43: =DN43*$F43 -> 0 | DQ43: =DP43*$F43 -> 0 | DS43: =DR43*$F43 -> 0 | DU43: =DT43*$F43 -> 0 | DW43: =DV43*$F43 -> 0 | DY43: =DX43*$F43 -> 0 | EA43: =DZ43*$F43 -> 0 | EC43: =EB43*$F43 -> 0 | EE43: =ED43*$F43 -> 0
C44: 19 | D44: Egyéb, gépekkel kapcsolatos ráf. | G44: =#VALUE! -> 0 | I44: =SUM(I45:I47) -> 0 | K44: =SUM(K45:K47) -> 0 | M44: =SUM(M45:M47) -> 0 | O44: =SUM(O45:O47) -> 0 | Q44: =SUM(Q45:Q47) -> 0 | S44: =SUM(S45:S47) -> 0 | U44: =SUM(U45:U47) -> 0 | W44: =SUM(W45:W47) -> 0 | Y44: =SUM(Y45:Y47) -> 0 | AA44: =SUM(AA45:AA47) -> 0 | AC44: =SUM(AC45:AC47) -> 0 | AE44: =SUM(AE45:AE47) -> 0 | AG44: =SUM(AG45:AG47) -> 0 | AI44: =SUM(AI45:AI47) -> 0 | AK44: =SUM(AK45:AK47) -> 0 | AM44: =SUM(AM45:AM47) -> 0 | AO44: =SUM(AO45:AO47) -> 0 | AQ44: =SUM(AQ45:AQ47) -> 0 | AS44: =SUM(AS45:AS47) -> 0 | AU44: =SUM(AU45:AU47) -> 0 | AW44: =SUM(AW45:AW47) -> 0 | AY44: =SUM(AY45:AY47) -> 0 | BA44: =SUM(BA45:BA47) -> 0 | BC44: =SUM(BC45:BC47) -> 0 | BE44: =SUM(BE45:BE47) -> 0 | BG44: =SUM(BG45:BG47) -> 0 | BI44: =SUM(BI45:BI47) -> 0 | BK44: =SUM(BK45:BK47) -> 0 | BM44: =SUM(BM45:BM47) -> 0 | BO44: =SUM(BO45:BO47) -> 0 | BQ44: =SUM(BQ45:BQ47) -> 0 | BS44: =SUM(BS45:BS47) -> 0 | BU44: =SUM(BU45:BU47) -> 0 | BW44: =SUM(BW45:BW47) -> 0 | BY44: =SUM(BY45:BY47) -> 0 | CA44: =SUM(CA45:CA47) -> 0 | CC44: =SUM(CC45:CC47) -> 0 | CE44: =SUM(CE45:CE47) -> 0 | CG44: =SUM(CG45:CG47) -> 0 | CI44: =SUM(CI45:CI47) -> 0 | CK44: =SUM(CK45:CK47) -> 0 | CM44: =SUM(CM45:CM47) -> 0 | CO44: =SUM(CO45:CO47) -> 0 | CQ44: =SUM(CQ45:CQ47) -> 0 | CS44: =SUM(CS45:CS47) -> 0 | CU44: =SUM(CU45:CU47) -> 0 | CW44: =SUM(CW45:CW47) -> 0 | CY44: =SUM(CY45:CY47) -> 0 | DA44: =SUM(DA45:DA47) -> 0 | DC44: =SUM(DC45:DC47) -> 0 | DE44: =SUM(DE45:DE47) -> 0 | DG44: =SUM(DG45:DG47) -> 0 | DI44: =SUM(DI45:DI47) -> 0 | DK44: =SUM(DK45:DK47) -> 0 | DM44: =SUM(DM45:DM47) -> 0 | DO44: =SUM(DO45:DO47) -> 0 | DQ44: =SUM(DQ45:DQ47) -> 0 | DS44: =SUM(DS45:DS47) -> 0 | DU44: =SUM(DU45:DU47) -> 0 | DW44: =SUM(DW45:DW47) -> 0 | DY44: =SUM(DY45:DY47) -> 0 | EA44: =SUM(EA45:EA47) -> 0 | EC44: =SUM(EC45:EC47) -> 0 | EE44: =SUM(EE45:EE47) -> 0
