Workbook

Sheet Heures
D1: Agent A | E1: Agent B
A2: Week 1 | B2: 42064 | C2: Sun
B3: 42065 | C3: Mon | D3: 0.38680556 | E3: 0.38680556
B4: 42066 | C4: Tue | D4: 0.38680556 | E4: 0.38680556
B5: 42067 | C5: Wed | D5: 0.38680556 | E5: 0.38680556
B6: 42068 | C6: Thu | D6: 0.38680556 | E6: 0.38680556
B7: 42069 | C7: Fri | D7: 0.38680556 | E7: 0.38680556
B8: 42070 | C8: Sat
B9: 42071 | C9: Sun
A10: Week 2 | B10: 42072 | C10: Mon | D10: 0.38680556 | E10: 0.38680556
B11: 42073 | C11: Tue | D11: 0.38680556 | E11: 0.38680556
B12: 42074 | C12: Wed | D12: 0.38680556 | E12: 0.38680556
B13: 42075 | C13: Thu | D13: 0.38680556 | E13: 0.38680556
B14: 42076 | C14: Fri | D14: 0.38680556 | E14: 0.38680556
B15: 42077 | C15: Sat
B16: 42078 | C16: Sun
A17: Week 3 | B17: 42079 | C17: Mon | D17: 0.38680556 | E17: 0.38680556
B18: 42080 | C18: Tue | D18: 0.38680556 | E18: 0.38680556
B19: 42081 | C19: Wed | D19: 0.38680556 | E19: 0.38680556
B20: 42082 | C20: Thu | D20: 0.38680556 | E20: 0.38680556
B21: 42083 | C21: Fri | D21: 0.38680556 | E21: 0.38680556
B22: 42084 | C22: Sat
B23: 42085 | C23: Sun
A24: Week 4 | B24: 42086 | C24: Mon | D24: 0.38680556 | E24: 0.38680556
B25: 42087 | C25: Tue | D25: 0.38680556 | E25: 0.38680556
B26: 42088 | C26: Wed | D26: 0.38680556 | E26: 0.38680556
B27: 42089 | C27: Thu | D27: 0.38680556 | E27: 0.38680556
B28: 42090 | C28: Fri | D28: 0.38680556 | E28: 0.38680556
B29: 42091 | C29: Sat
B30: 42092 | C30: Sun
A31: Week 5 | B31: 42093 | C31: Mon | D31: 0.38680556 | E31: 0.38680556
B32: 42094 | C32: Tues | D32: 0.38680556 | E32: 0.38680556

Sheet décompte
D3: Agent A | E3: Agent B
A4: Week 1 | B4: 42064 | C4: Sun
B5: 42065 | C5: Mon | D5: =IF(Heures!D3="","",Heures!D3) -> 0.38680556 | E5: =IF(Heures!E3="","",Heures!E3) -> 0.38680556
B6: 42066 | C6: Tue | D6: =IF(Heures!D4="","",Heures!D4) -> 0.38680556 | E6: =IF(Heures!E4="","",Heures!E4) -> 0.38680556
B7: 42067 | C7: Wed | D7: =IF(Heures!D5="","",Heures!D5) -> 0.38680556 | E7: =IF(Heures!E5="","",Heures!E5) -> 0.38680556
B8: 42068 | C8: Thu | D8: =IF(Heures!D6="","",Heures!D6) -> 0.38680556 | E8: =IF(Heures!E6="","",Heures!E6) -> 0.38680556
B9: 42069 | C9: Fri | D9: =IF(Heures!D7="","",Heures!D7) -> 0.38680556 | E9: =IF(Heures!E7="","",Heures!E7) -> 0.38680556
B10: 42070 | C10: Sat
B11: 42071 | C11: Sun
A12: Week 2 | B12: 42072 | C12: Mon | D12: =IF(Heures!D10="","",Heures!D10) -> 0.38680556 | E12: =IF(Heures!E10="","",Heures!E10) -> 0.38680556
B13: 42073 | C13: Tue | D13: =IF(Heures!D11="","",Heures!D11) -> 0.38680556 | E13: =IF(Heures!E11="","",Heures!E11) -> 0.38680556
B14: 42074 | C14: Wed | D14: =IF(Heures!D12="","",Heures!D12) -> 0.38680556 | E14: =IF(Heures!E12="","",Heures!E12) -> 0.38680556
B15: 42075 | C15: Thu | D15: =IF(Heures!D13="","",Heures!D13) -> 0.38680556 | E15: =IF(Heures!E13="","",Heures!E13) -> 0.38680556
B16: 42076 | C16: Fri | D16: =IF(Heures!D14="","",Heures!D14) -> 0.38680556 | E16: =IF(Heures!E14="","",Heures!E14) -> 0.38680556
B17: 42077 | C17: Sat
B18: 42078 | C18: Sun
A19: Week 3 | B19: 42079 | C19: Mon | D19: =IF(Heures!D17="","",Heures!D17) -> 0.38680556 | E19: =IF(Heures!E17="","",Heures!E17) -> 0.38680556
B20: 42080 | C20: Tue | D20: =IF(Heures!D18="","",Heures!D18) -> 0.38680556 | E20: =IF(Heures!E18="","",Heures!E18) -> 0.38680556
B21: 42081 | C21: Wed | D21: =IF(Heures!D19="","",Heures!D19) -> 0.38680556 | E21: =IF(Heures!E19="","",Heures!E19) -> 0.38680556
B22: 42082 | C22: Thu | D22: =IF(Heures!D20="","",Heures!D20) -> 0.38680556 | E22: =IF(Heures!E20="","",Heures!E20) -> 0.38680556
B23: 42083 | C23: Fri | D23: =IF(Heures!D21="","",Heures!D21) -> 0.38680556 | E23: =IF(Heures!E21="","",Heures!E21) -> 0.38680556
B24: 42084 | C24: Sat
B25: 42085 | C25: Sun
A26: Week 4 | B26: 42086 | C26: Mon | D26: =IF(Heures!D24="","",Heures!D24) -> 0.38680556 | E26: =IF(Heures!E24="","",Heures!E24) -> 0.38680556
B27: 42087 | C27: Tue | D27: =IF(Heures!D25="","",Heures!D25) -> 0.38680556 | E27: =IF(Heures!E25="","",Heures!E25) -> 0.38680556
B28: 42088 | C28: Wed | D28: =IF(Heures!D26="","",Heures!D26) -> 0.38680556 | E28: =IF(Heures!E26="","",Heures!E26) -> 0.38680556
B29: 42089 | C29: Thu | D29: =IF(Heures!D27="","",Heures!D27) -> 0.38680556 | E29: =IF(Heures!E27="","",Heures!E27) -> 0.38680556
B30: 42090 | C30: Fri | D30: =IF(Heures!D28="","",Heures!D28) -> 0.38680556 | E30: =IF(Heures!E28="","",Heures!E28) -> 0.38680556
B31: 42091 | C31: Sat
B32: 42092 | C32: Sun
A33: Week 5 | B33: 42093 | C33: Mon | D33: =IF(Heures!D31="","",Heures!D31) -> 0.38680556 | E33: =IF(Heures!E31="","",Heures!E31) -> 0.38680556
B34: 42094 | C34: Tues | D34: =IF(Heures!D32="","",Heures!D32) -> 0.38680556 | E34: =IF(Heures!E32="","",Heures!E32) -> 0.38680556
B35: Total /agent | D35: =SUM(D5:D9,D12:D16,D19:D23,D26:D30) -> 7.7361111 | E35: =SUM(E5:E9,E12:E16,E19:E23,E26:E30) -> 7.7361111
