Workbook

Sheet recap
A1: Tiers Client | B1: Nbr_de_Demande | C1: Statut_Client | D1: Date_Derniere_Demande_Fichier1 | E1: Date_Derniere_Demande_Fichier2
A2: A1111 | B2: =COUNTIF('fichier 1'!$C$4:$C$172,recap!A2)+COUNTIF('fichier 2'!$C$4:$C$172,recap!A2) -> 9 | C2: =IF(A2="","",IF(B2=0,"Nouveau","Ancien")) -> Ancien | D2: =IFERROR(VLOOKUP(A2,'fichier 1'!$C$4:$F$8,4,FALSE),"") -> 42130 | E2: =IFERROR(VLOOKUP(A2,'fichier 2'!$C$4:$F$7,4,FALSE),"") -> 41880
B3: =IF(A3="","",COUNTIF('fichier 1'!$C$4:$C$172,recap!A3)+COUNTIF('fichier 2'!$C$4:$C$172,recap!A3)) | C3: =IF(A3="","",IF(B3=0,"Nouveau","Ancien")) | D3: =IFERROR(VLOOKUP(A3,'fichier 1'!$C$4:$F$8,4,FALSE),"") | E3: =IFERROR(VLOOKUP(A3,'fichier 2'!$C$4:$F$7,4,FALSE),"")
B4: =IF(A4="","",COUNTIF('fichier 1'!$C$4:$C$172,recap!A4)+COUNTIF('fichier 2'!$C$4:$C$172,recap!A4)) | C4: =IF(A4="","",IF(B4=0,"Nouveau","Ancien")) | D4: =IFERROR(VLOOKUP(A4,'fichier 1'!$C$4:$F$8,4,FALSE),"") | E4: =IFERROR(VLOOKUP(A4,'fichier 2'!$C$4:$F$7,4,FALSE),"")
B5: =IF(A5="","",COUNTIF('fichier 1'!$C$4:$C$172,recap!A5)+COUNTIF('fichier 2'!$C$4:$C$172,recap!A5)) | C5: =IF(A5="","",IF(B5=0,"Nouveau","Ancien")) | D5: =IFERROR(VLOOKUP(A5,'fichier 1'!$C$4:$F$8,4,FALSE),"") | E5: =IFERROR(VLOOKUP(A5,'fichier 2'!$C$4:$F$7,4,FALSE),"")
B6: =IF(A6="","",COUNTIF('fichier 1'!$C$4:$C$172,recap!A6)+COUNTIF('fichier 2'!$C$4:$C$172,recap!A6)) | C6: =IF(A6="","",IF(B6=0,"Nouveau","Ancien")) | D6: =IFERROR(VLOOKUP(A6,'fichier 1'!$C$4:$F$8,4,FALSE),"") | E6: =IFERROR(VLOOKUP(A6,'fichier 2'!$C$4:$F$7,4,FALSE),"")
B7: =IF(A7="","",COUNTIF('fichier 1'!$C$4:$C$172,recap!A7)+COUNTIF('fichier 2'!$C$4:$C$172,recap!A7)) | C7: =IF(A7="","",IF(B7=0,"Nouveau","Ancien")) | D7: =IFERROR(VLOOKUP(A7,'fichier 1'!$C$4:$F$8,4,FALSE),"") | E7: =IFERROR(VLOOKUP(A7,'fichier 2'!$C$4:$F$7,4,FALSE),"")
B8: =IF(A8="","",COUNTIF('fichier 1'!$C$4:$C$172,recap!A8)+COUNTIF('fichier 2'!$C$4:$C$172,recap!A8)) | C8: =IF(A8="","",IF(B8=0,"Nouveau","Ancien")) | D8: =IFERROR(VLOOKUP(A8,'fichier 1'!$C$4:$F$8,4,FALSE),"") | E8: =IFERROR(VLOOKUP(A8,'fichier 2'!$C$4:$F$7,4,FALSE),"")
B9: =IF(A9="","",COUNTIF('fichier 1'!$C$4:$C$172,recap!A9)+COUNTIF('fichier 2'!$C$4:$C$172,recap!A9)) | C9: =IF(A9="","",IF(B9=0,"Nouveau","Ancien")) | D9: =IFERROR(VLOOKUP(A9,'fichier 1'!$C$4:$F$8,4,FALSE),"") | E9: =IFERROR(VLOOKUP(A9,'fichier 2'!$C$4:$F$7,4,FALSE),"")
B10: =IF(A10="","",COUNTIF('fichier 1'!$C$4:$C$172,recap!A10)+COUNTIF('fichier 2'!$C$4:$C$172,recap!A10)) | C10: =IF(A10="","",IF(B10=0,"Nouveau","Ancien")) | D10: =IFERROR(VLOOKUP(A10,'fichier 1'!$C$4:$F$8,4,FALSE),"") | E10: =IFERROR(VLOOKUP(A10,'fichier 2'!$C$4:$F$7,4,FALSE),"")
B11: =IF(A11="","",COUNTIF('fichier 1'!$C$4:$C$172,recap!A11)+COUNTIF('fichier 2'!$C$4:$C$172,recap!A11)) | C11: =IF(A11="","",IF(B11=0,"Nouveau","Ancien")) | D11: =IFERROR(VLOOKUP(A11,'fichier 1'!$C$4:$F$8,4,FALSE),"") | E11: =IFERROR(VLOOKUP(A11,'fichier 2'!$C$4:$F$7,4,FALSE),"")
B12: =IF(A12="","",COUNTIF('fichier 1'!$C$4:$C$172,recap!A12)+COUNTIF('fichier 2'!$C$4:$C$172,recap!A12)) | C12: =IF(A12="","",IF(B12=0,"Nouveau","Ancien")) | D12: =IFERROR(VLOOKUP(A12,'fichier 1'!$C$4:$F$8,4,FALSE),"") | E12: =IFERROR(VLOOKUP(A12,'fichier 2'!$C$4:$F$7,4,FALSE),"")
B13: =IF(A13="","",COUNTIF('fichier 1'!$C$4:$C$172,recap!A13)+COUNTIF('fichier 2'!$C$4:$C$172,recap!A13)) | C13: =IF(A13="","",IF(B13=0,"Nouveau","Ancien")) | D13: =IFERROR(VLOOKUP(A13,'fichier 1'!$C$4:$F$8,4,FALSE),"") | E13: =IFERROR(VLOOKUP(A13,'fichier 2'!$C$4:$F$7,4,FALSE),"")
B14: =IF(A14="","",COUNTIF('fichier 1'!$C$4:$C$172,recap!A14)+COUNTIF('fichier 2'!$C$4:$C$172,recap!A14)) | C14: =IF(A14="","",IF(B14=0,"Nouveau","Ancien")) | D14: =IFERROR(VLOOKUP(A14,'fichier 1'!$C$4:$F$8,4,FALSE),"") | E14: =IFERROR(VLOOKUP(A14,'fichier 2'!$C$4:$F$7,4,FALSE),"")
... B24: =IF(A24="","",COUNTIF('fichier 1'!$C$4:$C$172,recap!A24)+COUNTIF('fichier 2'!$C$4:$C$172,recap!A24)) | C24: =IF(A24="","",IF(B24=0,"Nouveau","Ancien")) | D24: =IFERROR(VLOOKUP(A24,'fichier 1'!$C$4:$F$8,4,FALSE),"") | E24: =IFERROR(VLOOKUP(A24,'fichier 2'!$C$4:$F$7,4,FALSE),"")

Sheet fichier 1
A1: Fichier 1: Toutes les demandes (acceptées ou pas) effectuées entre Janvier 2011 et Juin 2015
A3: Num_Demande | B3: Date_Demande | C3: Tiers Client | D3: Nombre de demandes antérieures | E3: Flag Ancien/Nouveau
A4: 72548960 | B4: 40729 | C4: A1111 | D4: 0 | E4: =IF(D4=0,"Nouveau","Ancien") -> Nouveau | F4: =MAX(B4:B8) -> 42130
A5: 72584982 | B5: 41122 | C5: A1111 | D5: =IF(C5=C4,D4+1) -> 1 | E5: =IF(D5=0,"Nouveau","Ancien") -> Ancien
A6: 73258960 | B6: 41535 | C6: A1111 | D6: =IF(C6=C5,D5+1) -> 2 | E6: =IF(D6=0,"Nouveau","Ancien") -> Ancien
A7: 74189652 | B7: 41855 | C7: A1111 | D7: =IF(C7=C6,D6+1) -> 3 | E7: =IF(D7=0,"Nouveau","Ancien") -> Ancien
A8: 76985423 | B8: 42130 | C8: A1111 | D8: =IF(C8=C7,D7+1) -> 4 | E8: =IF(D8=0,"Nouveau","Ancien") -> Ancien

Sheet fichier 2
A1: Fichier 2: Toutes les affaires financées (acceptées) avant Juin 2015
A3: Num_Demande | B3: Date_Demande | C3: Tiers Client | D3: Nombre de demandes antérieures | E3: Flag Ancien/Nouveau
A4: 72548960 | B4: 40767 | C4: A1111 | D4: 0 | E4: =IF(D4=0,"Nouveau","Ancien") -> Nouveau | F4: =MAX(B4:B8) -> 41880
A5: 72584999 | B5: 41122 | C5: A1111 | D5: =IF(C5=C4,D4+1) -> 1 | E5: =IF(D5=0,"Nouveau","Ancien") -> Ancien
A6: 73245555 | B6: 41460 | C6: A1111 | D6: =IF(C6=C5,D5+1) -> 2 | E6: =IF(D6=0,"Nouveau","Ancien") -> Ancien
A7: 76785525 | B7: 41880 | C7: A1111 | D7: =IF(C7=C6,D6+1) -> 3 | E7: =IF(D7=0,"Nouveau","Ancien") -> Ancien
