Workbook

Sheet Saisies
A1: 2013 | F1: 2014 | K1: 2015 | P1: 2016
A2: MOIS | B2: JOUR | C2: Nbre | D2: Départ | E2: heure de présence | F2: MOIS | G2: JOUR | H2: Nbre | I2: Départ | J2: heure de présence | K2: MOIS | L2: JOUR | M2: Nbre | N2: Départ | O2: heure de présence | P2: MOIS | Q2: JOUR | R2: Nbre | S2: Départ | T2: heure de présence
A3: JANVIER | B3: Jeudi | C3: 10 | F3: JANVIER | G3: Mercredi | H3: 19 | K3: JANVIER | L3: Lundi | M3: 10 | P3: JANVIER | Q3: Mercredi | R3: 42
B4: Mardi | C4: 15 | G4: Mercredi | H4: 7 | L4: Lundi | M4: 15
B5: Mercredi | C5: 19 | G5: Vendredi | H5: 16 | L5: Mercredi | M5: 25 | Q5: Jeudi | R5: 12
B6: Lundi | C6: 10
A8: FEVRIER | B8: Mardi | C8: 24 | F8: FEVRIER | G8: Mercredi | H8: 20 | K8: FEVRIER | L8: Mardi | M8: 35 | P8: FEVRIER
B9: Jeudi | C9: 27 | G9: Mardi | H9: 21 | L9: Jeudi | M9: 12
B10: Mardi | C10: 11 | G10: Jeudi | H10: 15
A12: MARS | B12: Vendredi | C12: 8 | F12: MARS | G12: Jeudi | H12: 25
B13: Lundi | C13: 12 | G13: Mercredi | H13: 5
G14: Mercredi | H14: 20
A16: AVRIL | B16: Mercredi | C16: 16 | F16: AVRIL | G16: Lundi | H16: 27
B17: Mardi | C17: 16 | G17: Lundi | H17: 13
B18: Samedi | C18: 21 | G18: Mercredi | H18: 14
G19: Mardi | H19: 17
A21: MAI | B21: Lundi | C21: 22 | F21: MAI | G21: Lundi | H21: 14
B22: Vendredi | C22: 13 | G22: Jeudi | H22: 7
B23: Mardi | C23: 22 | G23: Mardi | H23: 22
A25: JUIN | B25: Mardi | C25: 13 | F25: JUIN | G25: Mercredi | H25: 30
B26: Mercredi | C26: 13 | G26: Mercredi | H26: 15
A28: JUILLET | B28: Mardi | C28: 19 | F28: JUILLET | G28: Mercredi | H28: 10
B29: Samedi | C29: 20 | G29: Vendredi | H29: 17
B30: Mercredi | C30: 10 | G30: Mercredi | H30: 19
G31: Mercredi | H31: 12
A33: AOUT | B33: Jeudi | C33: 18 | F33: AOUT | G33: Mercredi | H33: 21
B34: Mardi | C34: 15 | G34: Mardi | H34: 13
B35: Mercredi | C35: 11
A37: SEPTEMBRE | B37: Mercredi | C37: 16 | F37: SEPTEMBRE | G37: Mercredi | H37: 15
B38: Vendredi | C38: 9 | G38: Lundi | H38: 10
B39: Mardi | C39: 17 | G39: Mardi | H39: 30
B40: Mardi | C40: 19
A42: OCTOBRE | B42: Mercredi | C42: 16 | F42: OCTOBRE | G42: Mercredi | H42: 18
B43: Vendredi | C43: 13 | G43: Vendredi | H43: 13
B44: Mercredi | C44: 9 | G44: Mardi | H44: 16
B45: Mercredi | C45: 9
A47: NOVEMBRE | B47: Mercredi | C47: 12 | F47: NOVEMBRE | G47: Mercredi | H47: 24
B48: Mardi | C48: 19 | G48: Lundi | H48: 14
B49: Mardi | C49: 19
A51: DECEMBRE | B51: Lundi | C51: 30 | F51: DECEMBRE | G51: Lundi | H51: 20
B52: Mercredi | C52: 16 | G52: Mardi | H52: 16
B53: Mardi | C53: 12
B54: Lundi | C54: 10
A56: MOYENNE | C56: =IFERROR(AVERAGE(C3:C54),"") -> 15.552632 | F56: MOYENNE | H56: =IFERROR(AVERAGE(H3:H54),"") -> 16.911765 | K56: MOYENNE | M56: =IFERROR(AVERAGE(M3:M54),"") -> 19.4 | P56: MOYENNE | R56: =IFERROR(AVERAGE(R3:R54),"") -> 27

Sheet Statistiques
A1: 2013 | D1: 2014 | G1: 2015 | J1: 2016
A2: Lundi | B2: =COUNTIF(Saisies!$B$3:$B$55,$A2) -> 5 | C2: =IFERROR(B2/$B$9,0) -> 0.13157895 | D2: Lundi | E2: =COUNTIF(Saisies!$H$3:$H$55,B2) -> 1 | F2: =IFERROR(E2/$E$9,0) -> 0.25 | G2: Lundi | H2: =COUNTIF(Saisies!$L$3:$L$55,$A2) -> 2 | I2: =IFERROR(H2/$H$9,0) -> 0.4 | J2: Lundi | K2: =COUNTIF(Saisies!$Q$3:$Q$55,$A2) -> 0 | L2: =IFERROR(K2/$K$9,0) -> 0
A3: Mardi | B3: =COUNTIF(Saisies!$B$3:$B$55,$A3) -> 13 | C3: =IFERROR(B3/$B$9,0) -> 0.34210526 | D3: Mardi | E3: =COUNTIF(Saisies!$H$3:$H$55,B3) -> 3 | F3: =IFERROR(E3/$E$9,0) -> 0.75 | G3: Mardi | H3: =COUNTIF(Saisies!$L$3:$L$55,$A3) -> 1 | I3: =IFERROR(H3/$H$9,0) -> 0.2 | J3: Mardi | K3: =COUNTIF(Saisies!$Q$3:$Q$55,$A3) -> 0 | L3: =IFERROR(K3/$K$9,0) -> 0
A4: Mercredi | B4: =COUNTIF(Saisies!$B$3:$B$55,$A4) -> 11 | C4: =IFERROR(B4/$B$9,0) -> 0.28947368 | D4: Mercredi | E4: =COUNTIF(Saisies!$H$3:$H$55,B4) -> 0 | F4: =IFERROR(E4/$E$9,0) -> 0 | G4: Mercredi | H4: =COUNTIF(Saisies!$L$3:$L$55,$A4) -> 1 | I4: =IFERROR(H4/$H$9,0) -> 0.2 | J4: Mercredi | K4: =COUNTIF(Saisies!$Q$3:$Q$55,$A4) -> 1 | L4: =IFERROR(K4/$K$9,0) -> 0.5
A5: Jeudi | B5: =COUNTIF(Saisies!$B$3:$B$55,$A5) -> 3 | C5: =IFERROR(B5/$B$9,0) -> 0.078947368 | D5: Jeudi | E5: =COUNTIF(Saisies!$H$3:$H$55,B5) -> 0 | F5: =IFERROR(E5/$E$9,0) -> 0 | G5: Jeudi | H5: =COUNTIF(Saisies!$L$3:$L$55,$A5) -> 1 | I5: =IFERROR(H5/$H$9,0) -> 0.2 | J5: Jeudi | K5: =COUNTIF(Saisies!$Q$3:$Q$55,$A5) -> 1 | L5: =IFERROR(K5/$K$9,0) -> 0.5
A6: Vendredi | B6: =COUNTIF(Saisies!$B$3:$B$55,$A6) -> 4 | C6: =IFERROR(B6/$B$9,0) -> 0.10526316 | D6: Vendredi | E6: =COUNTIF(Saisies!$H$3:$H$55,B6) -> 0 | F6: =IFERROR(E6/$E$9,0) -> 0 | G6: Vendredi | H6: =COUNTIF(Saisies!$L$3:$L$55,$A6) -> 0 | I6: =IFERROR(H6/$H$9,0) -> 0 | J6: Vendredi | K6: =COUNTIF(Saisies!$Q$3:$Q$55,$A6) -> 0 | L6: =IFERROR(K6/$K$9,0) -> 0
A7: Samedi | B7: =COUNTIF(Saisies!$B$3:$B$55,$A7) -> 2 | C7: =IFERROR(B7/$B$9,0) -> 0.052631579 | D7: Samedi | E7: =COUNTIF(Saisies!$H$3:$H$55,B7) -> 0 | F7: =IFERROR(E7/$E$9,0) -> 0 | G7: Samedi | H7: =COUNTIF(Saisies!$L$3:$L$55,$A7) -> 0 | I7: =IFERROR(H7/$H$9,0) -> 0 | J7: Samedi | K7: =COUNTIF(Saisies!$Q$3:$Q$55,$A7) -> 0 | L7: =IFERROR(K7/$K$9,0) -> 0
A8: Dimanche | B8: =COUNTIF(Saisies!$B$3:$B$55,$A8) -> 0 | C8: =IFERROR(B8/$B$9,0) -> 0 | D8: Dimanche | E8: =COUNTIF(Saisies!$H$3:$H$55,B8) -> 0 | F8: =IFERROR(E8/$E$9,0) -> 0 | G8: Dimanche | H8: =COUNTIF(Saisies!$L$3:$L$55,$A8) -> 0 | I8: =IFERROR(H8/$H$9,0) -> 0 | J8: Dimanche | K8: =COUNTIF(Saisies!$Q$3:$Q$55,$A8) -> 0 | L8: =IFERROR(K8/$K$9,0) -> 0
A9: totaux | B9: =SUM(B2:B8) -> 38 | C9: =SUM(C2:C8) -> 1 | D9: totaux | E9: =SUM(E2:E8) -> 4 | F9: =SUM(F2:F8) -> 1 | G9: totaux | H9: =SUM(H2:H8) -> 5 | I9: =SUM(I2:I8) -> 1 | J9: totaux | K9: =SUM(K2:K8) -> 2 | L9: =SUM(L2:L8) -> 1
A10: moyenne | B10: =Saisies!C56 -> 15.552632 | D10: moyenne | E10: =Saisies!H56 -> 16.911765 | G10: moyenne | H10: =Saisies!M56 -> 19.4 | J10: moyenne | K10: =Saisies!R56 -> 27

Sheet Graphiques
