Workbook

Sheet bases
A1: DEPENSES DE FONCTIONNEMENT | C1: PREVISIONNEL TTC | D1: REALISE | E1: TVA | F1: total TTC
D2: H.T. | E2: TVA | F2: T.T.C. | K2: ????????MODIFIER LE HT POUR AJOUTE AUSSI LE "EN COURS" SI LE MANDAT N4EST PAS ENCORE FAIT
A3: O11 | B3: CHARGES A CARACTERE GENERAL - TOTAL | C3: =SUM(C4:C31) -> 2264390 | D3: =SUM(D4:D31) -> 1899459.5 | E3: =SUM(E4:E31) -> 330597.16 | F3: =SUM(F4:F31) -> 2230056.6
A4: 604 D | B4: Achats études prestat° service | C4: 1005000 | D4: =SUMPRODUCT((Dépenses!$A$2:$A$1094=bases!A4)*(Dépenses!$C$2:$D$1094)) -> 635744.65 | E4: =SUMIF(Dépenses!$A:$A,$A4,Dépenses!$F:$F) -> 81618.93 | F4: =SUMIF(Dépenses!$A:$A,$A4,Dépenses!$G:$G) -> 717363.58 | G4: A
A5: 6061 D | B5: Fournitures non stockables | C5: 5000 | D5: =SUMPRODUCT((Dépenses!$A$2:$A$1094=bases!A5)*(Dépenses!$C$2:$D$1094)) -> 2447.91 | E5: =SUMIF(Dépenses!$A:$A,$A5,Dépenses!$F:$F) -> 489.582 | F5: =SUMIF(Dépenses!$A:$A,$A5,Dépenses!$G:$G) -> 2937.492 | G5: F
A6: 6064 D | B6: Fournitures administratives | C6: 0 | D6: =SUMPRODUCT((Dépenses!$A$2:$A$1094=bases!A6)*(Dépenses!$C$2:$D$1094)) -> 281 | E6: =SUMIF(Dépenses!$A:$A,$A6,Dépenses!$F:$F) -> 56.2 | F6: =SUMIF(Dépenses!$A:$A,$A6,Dépenses!$G:$G) -> 337.2 | G6: C
A7: 6066 D | B7: Carburant | C7: 1000 | D7: =SUMPRODUCT((Dépenses!$A$2:$A$1094=bases!A7)*(Dépenses!$C$2:$D$1094)) -> 889.9 | E7: =SUMIF(Dépenses!$A:$A,$A7,Dépenses!$F:$F) -> 177.98 | F7: =SUMIF(Dépenses!$A:$A,$A7,Dépenses!$G:$G) -> 1067.88 | G7: B
A8: 6068 D | B8: Autres matières et fournitures | C8: 16000 | D8: =SUMPRODUCT((Dépenses!$A$2:$A$1094=bases!A8)*(Dépenses!$C$2:$D$1094)) -> 8519.32 | E8: =SUMIF(Dépenses!$A:$A,$A8,Dépenses!$F:$F) -> 1703.864 | F8: =SUMIF(Dépenses!$A:$A,$A8,Dépenses!$G:$G) -> 10223.184 | G8: A
C9: 0 | D9: =SUMPRODUCT((Dépenses!$A$2:$A$1094=bases!A9)*(Dépenses!$C$2:$D$1094)) -> 0 | E9: =SUMIF(Dépenses!$A:$A,$A9,Dépenses!$F:$F) -> 0 | F9: =SUMIF(Dépenses!$A:$A,$A9,Dépenses!$G:$G) -> 0 | G9: A
A10: 6132 D | B10: Locations immobilières | C10: 70000 | D10: =SUMPRODUCT((Dépenses!$A$2:$A$1094=bases!A10)*(Dépenses!$C$2:$D$1094)) -> 68923.07 | E10: =SUMIF(Dépenses!$A:$A,$A10,Dépenses!$F:$F) -> 13784.614 | F10: =SUMIF(Dépenses!$A:$A,$A10,Dépenses!$G:$G) -> 82707.684 | G10: F
A11: 6135 D | B11: Locations mobilières | C11: 420000 | D11: =SUMPRODUCT((Dépenses!$A$2:$A$1094=bases!A11)*(Dépenses!$C$2:$D$1094)) -> 432571.28 | E11: =SUMIF(Dépenses!$A:$A,$A11,Dépenses!$F:$F) -> 86514.256 | F11: =SUMIF(Dépenses!$A:$A,$A11,Dépenses!$G:$G) -> 519085.54 | G11: C
C12: 0 | D12: =SUMPRODUCT((Dépenses!$A$2:$A$1094=bases!A12)*(Dépenses!$C$2:$D$1094)) -> 0 | E12: =SUMIF(Dépenses!$A:$A,$A12,Dépenses!$F:$F) -> 0 | F12: =SUMIF(Dépenses!$A:$A,$A12,Dépenses!$G:$G) -> 0 | G12: C
A13: 6156 D | B13: Maintenance | C13: 14000 | D13: =SUMPRODUCT((Dépenses!$A$2:$A$1094=bases!A13)*(Dépenses!$C$2:$D$1094)) -> 16756.58 | E13: =SUMIF(Dépenses!$A:$A,$A13,Dépenses!$F:$F) -> 3351.316 | F13: =SUMIF(Dépenses!$A:$A,$A13,Dépenses!$G:$G) -> 20107.896 | G13: F
A14: 6161 D | B14: Assurances | C14: 35000 | D14: =SUMPRODUCT((Dépenses!$A$2:$A$1094=bases!A14)*(Dépenses!$C$2:$D$1094)) -> 34690 | E14: =SUMIF(Dépenses!$A:$A,$A14,Dépenses!$F:$F) -> 6938 | F14: =SUMIF(Dépenses!$A:$A,$A14,Dépenses!$G:$G) -> 41628 | G14: F
A15: 6226 D | B15: Honoraires & divers | C15: 90000 | D15: =SUMPRODUCT((Dépenses!$A$2:$A$1094=bases!A15)*(Dépenses!$C$2:$D$1094)) -> 81000 | E15: =SUMIF(Dépenses!$A:$A,$A15,Dépenses!$F:$F) -> 16200 | F15: =SUMIF(Dépenses!$A:$A,$A15,Dépenses!$G:$G) -> 97200 | G15: E
A16: 6231 D | B16: Annonces & insertions | C16: 172000 | D16: =SUMPRODUCT((Dépenses!$A$2:$A$1094=bases!A16)*(Dépenses!$C$2:$D$1094)) -> 176221.09 | E16: =SUMIF(Dépenses!$A:$A,$A16,Dépenses!$F:$F) -> 35244.218 | F16: =SUMIF(Dépenses!$A:$A,$A16,Dépenses!$G:$G) -> 211465.31 | G16: G
A17: 6232 D | B17: Echantillons | C17: 9000 | D17: =SUMPRODUCT((Dépenses!$A$2:$A$1094=bases!A17)*(Dépenses!$C$2:$D$1094)) -> 12541 | E17: =SUMIF(Dépenses!$A:$A,$A17,Dépenses!$F:$F) -> 2508.2 | F17: =SUMIF(Dépenses!$A:$A,$A17,Dépenses!$G:$G) -> 15049.2 | G17: G
A18: 6233 D | B18: Foires & expositions | C18: 0 | D18: =SUMPRODUCT((Dépenses!$A$2:$A$1094=bases!A18)*(Dépenses!$C$2:$D$1094)) -> 0 | E18: =SUMIF(Dépenses!$A:$A,$A18,Dépenses!$F:$F) -> 0 | F18: =SUMIF(Dépenses!$A:$A,$A18,Dépenses!$G:$G) -> 0 | G18: G
A19: 6236 D | B19: Catalogues & imprimés | C19: 46190 | D19: =SUMPRODUCT((Dépenses!$A$2:$A$1094=bases!A19)*(Dépenses!$C$2:$D$1094)) -> 47483.6 | E19: =SUMIF(Dépenses!$A:$A,$A19,Dépenses!$F:$F) -> 9496.72 | F19: =SUMIF(Dépenses!$A:$A,$A19,Dépenses!$G:$G) -> 56980.32 | G19: G
A20: 6238 D | B20: Divers pub | C20: 0 | D20: =SUMPRODUCT((Dépenses!$A$2:$A$1094=bases!A20)*(Dépenses!$C$2:$D$1094)) -> 121.6 | E20: =SUMIF(Dépenses!$A:$A,$A20,Dépenses!$F:$F) -> 24.32 | F20: =SUMIF(Dépenses!$A:$A,$A20,Dépenses!$G:$G) -> 145.92 | G20: G
A21: 6248 D | B21: Divers transports | C21: 0 | D21: =SUMPRODUCT((Dépenses!$A$2:$A$1094=bases!A21)*(Dépenses!$C$2:$D$1094)) -> 47.83 | E21: =SUMIF(Dépenses!$A:$A,$A21,Dépenses!$F:$F) -> 9.566 | F21: =SUMIF(Dépenses!$A:$A,$A21,Dépenses!$G:$G) -> 57.396 | G21: G
A22: 6251 D | B22: Voyages & déplacements | C22: 10000 | D22: =SUMPRODUCT((Dépenses!$A$2:$A$1094=bases!A22)*(Dépenses!$C$2:$D$1094)) -> 10308.87 | E22: =SUMIF(Dépenses!$A:$A,$A22,Dépenses!$F:$F) -> 2061.774 | F22: =SUMIF(Dépenses!$A:$A,$A22,Dépenses!$G:$G) -> 12370.644 | G22: B
A23: 6257 D | B23: Réceptions | C23: 160000 | D23: =SUMPRODUCT((Dépenses!$A$2:$A$1094=bases!A23)*(Dépenses!$C$2:$D$1094)) -> 128513.89 | E23: =SUMIF(Dépenses!$A:$A,$A23,Dépenses!$F:$F) -> 25702.778 | F23: =SUMIF(Dépenses!$A:$A,$A23,Dépenses!$G:$G) -> 154216.67 | G23: B
D24: =SUMPRODUCT((Dépenses!$A$2:$A$1094=bases!A24)*(Dépenses!$C$2:$D$1094)) -> 0 | E24: =SUMIF(Dépenses!$A:$A,$A24,Dépenses!$F:$F) -> 0 | F24: =SUMIF(Dépenses!$A:$A,$A24,Dépenses!$G:$G) -> 0 | G24: B
A25: 6262 D | B25: Téléphone | C25: 0 | D25: =SUMPRODUCT((Dépenses!$A$2:$A$1094=bases!A25)*(Dépenses!$C$2:$D$1094)) -> 635.88 | E25: =SUMIF(Dépenses!$A:$A,$A25,Dépenses!$F:$F) -> 127.176 | F25: =SUMIF(Dépenses!$A:$A,$A25,Dépenses!$G:$G) -> 763.056 | G25: F
A26: 627 D | B26: Frais bancaires | C26: 2400 | D26: =SUMPRODUCT((Dépenses!$A$2:$A$1094=bases!A26)*(Dépenses!$C$2:$D$1094)) -> 2406.93 | E26: =SUMIF(Dépenses!$A:$A,$A26,Dépenses!$F:$F) -> 481.386 | F26: =SUMIF(Dépenses!$A:$A,$A26,Dépenses!$G:$G) -> 2888.316 | G26: F
A27: 6281 D | B27: Cotisations | C27: 0 | D27: =SUMPRODUCT((Dépenses!$A$2:$A$1094=bases!A27)*(Dépenses!$C$2:$D$1094)) -> 2800 | E27: =SUMIF(Dépenses!$A:$A,$A27,Dépenses!$F:$F) -> 560 | F27: =SUMIF(Dépenses!$A:$A,$A27,Dépenses!$G:$G) -> 3360 | G27: F
A28: 6282 D | B28: Gardiennage | C28: 80000 | D28: =SUMPRODUCT((Dépenses!$A$2:$A$1094=bases!A28)*(Dépenses!$C$2:$D$1094)) -> 79526.15 | E28: =SUMIF(Dépenses!$A:$A,$A28,Dépenses!$F:$F) -> 15905.23 | F28: =SUMIF(Dépenses!$A:$A,$A28,Dépenses!$G:$G) -> 95431.38 | G28: C
A29: 6283 D | B29: Frais de nettoyages | C29: 4000 | D29: =SUMPRODUCT((Dépenses!$A$2:$A$1094=bases!A29)*(Dépenses!$C$2:$D$1094)) -> 2943 | E29: =SUMIF(Dépenses!$A:$A,$A29,Dépenses!$F:$F) -> 588.6 | F29: =SUMIF(Dépenses!$A:$A,$A29,Dépenses!$G:$G) -> 3531.6 | G29: F
A30: 6288 D | B30: Autres | C30: 14800 | D30: =SUMPRODUCT((Dépenses!$A$2:$A$1094=bases!A30)*(Dépenses!$C$2:$D$1094)) -> 7830 | E30: =SUMIF(Dépenses!$A:$A,$A30,Dépenses!$F:$F) -> 1566 | F30: =SUMIF(Dépenses!$A:$A,$A30,Dépenses!$G:$G) -> 9396 | G30: C
A31: 637 D | B31: Impôts & taxes | C31: 110000 | D31: =SUMPRODUCT((Dépenses!$A$2:$A$1094=bases!A31)*(Dépenses!$C$2:$D$1094)) -> 146255.9 | E31: =SUMIF(Dépenses!$A:$A,$A31,Dépenses!$F:$F) -> 25486.451 | F31: =SUMIF(Dépenses!$A:$A,$A31,Dépenses!$G:$G) -> 171742.35 | G31: H

Sheet TCD
A3: Étiquettes de lignes | B3: Total HT | C3: Somme de Montant TVA | D3: Somme de Montant TTC
A4: Achats études prestat° service | B4: 635744.65 | C4: 81618.93 | D4: 717363.58
A5: Annonces & insertions | B5: 176221.09 | C5: 35244.218 | D5: 211465.31
A6: Assurances | B6: 34690 | C6: 6938 | D6: 41628
A7: Autres | B7: 7830 | C7: 1566 | D7: 9396
A8: Autres matières et fournitures | B8: 8519.32 | C8: 1703.864 | D8: 10223.184
A9: Carburant | B9: 889.9 | C9: 177.98 | D9: 1067.88
A10: Catalogues & imprimés | B10: 47483.6 | C10: 9496.72 | D10: 56980.32
A11: Cotisations | B11: 2800 | C11: 560 | D11: 3360
A12: Divers pub | B12: 121.6 | C12: 24.32 | D12: 145.92
A13: Divers transports | B13: 47.83 | C13: 9.566 | D13: 57.396
A14: Echantillons | B14: 12541 | C14: 2508.2 | D14: 15049.2
A15: Fournitures administratives | B15: 281 | C15: 56.2 | D15: 337.2
... A28: Total général | B28: 2014437 | C28: 330597.16 | D28: 2345034.2

Sheet Dépenses
A1: Compte | B1: CHARGES A CARACTERE GENERAL - TOTAL | C1: Réalisé HT | D1: En Cours HT | E1: Taux TVA | F1: Montant TVA | G1: Montant TTC
A2: 604 D | B2: =VLOOKUP(Tableau3[[#This Row],[Compte]],bases!$A$3:$F$31,2) -> Achats études prestat° service | C2: 0 | D2: 10000 | E2: 0.055 | F2: =IF(D2<=0,#REF!*E2,D2*E2) -> 550 | G2: =IF(Dépenses!$C2>0,(Dépenses!$C2+Dépenses!$F2),IF(Dépenses!$D2>0,(Dépenses!$D2+Dépenses!$F2),"")) -> 10550
A3: 604 D | B3: =VLOOKUP(Tableau3[[#This Row],[Compte]],bases!$A$3:$F$31,2) -> Achats études prestat° service | C3: 0 | D3: 10000 | E3: 0.055 | F3: =IF(D3<=0,#REF!*E3,D3*E3) -> 550 | G3: =IF(Dépenses!$C3>0,(Dépenses!$C3+Dépenses!$F3),IF(Dépenses!$D3>0,(Dépenses!$D3+Dépenses!$F3),"")) -> 10550
A4: 604 D | B4: =VLOOKUP(Tableau3[[#This Row],[Compte]],bases!$A$3:$F$31,2) -> Achats études prestat° service | C4: 0 | D4: 10000 | E4: 0.055 | F4: =IF(D4<=0,#REF!*E4,D4*E4) -> 550 | G4: =IF(Dépenses!$C4>0,(Dépenses!$C4+Dépenses!$F4),IF(Dépenses!$D4>0,(Dépenses!$D4+Dépenses!$F4),"")) -> 10550
A5: 604 D | B5: =VLOOKUP(Tableau3[[#This Row],[Compte]],bases!$A$3:$F$31,2) -> Achats études prestat° service | C5: 0 | D5: 10000 | E5: 0.055 | F5: =IF(D5<=0,#REF!*E5,D5*E5) -> 550 | G5: =IF(Dépenses!$C5>0,(Dépenses!$C5+Dépenses!$F5),IF(Dépenses!$D5>0,(Dépenses!$D5+Dépenses!$F5),"")) -> 10550
A6: 604 D | B6: =VLOOKUP(Tableau3[[#This Row],[Compte]],bases!$A$3:$F$31,2) -> Achats études prestat° service | C6: 0 | D6: 10000 | E6: 0.055 | F6: =IF(D6<=0,#REF!*E6,D6*E6) -> 550 | G6: =IF(Dépenses!$C6>0,(Dépenses!$C6+Dépenses!$F6),IF(Dépenses!$D6>0,(Dépenses!$D6+Dépenses!$F6),"")) -> 10550
A7: 604 D | B7: =VLOOKUP(Tableau3[[#This Row],[Compte]],bases!$A$3:$F$31,2) -> Achats études prestat° service | C7: 0 | D7: 10000 | E7: 0.055 | F7: =IF(D7<=0,#REF!*E7,D7*E7) -> 550 | G7: =IF(Dépenses!$C7>0,(Dépenses!$C7+Dépenses!$F7),IF(Dépenses!$D7>0,(Dépenses!$D7+Dépenses!$F7),"")) -> 10550
A8: 604 D | B8: =VLOOKUP(Tableau3[[#This Row],[Compte]],bases!$A$3:$F$31,2) -> Achats études prestat° service | C8: 0 | D8: 10000 | E8: 0.2 | F8: =IF(D8<=0,#REF!*E8,D8*E8) -> 2000 | G8: =IF(Dépenses!$C8>0,(Dépenses!$C8+Dépenses!$F8),IF(Dépenses!$D8>0,(Dépenses!$D8+Dépenses!$F8),"")) -> 12000
A9: 604 D | B9: =VLOOKUP(Tableau3[[#This Row],[Compte]],bases!$A$3:$F$31,2) -> Achats études prestat° service | C9: 0 | D9: 10000 | E9: 0.055 | F9: =IF(D9<=0,#REF!*E9,D9*E9) -> 550 | G9: =IF(Dépenses!$C9>0,(Dépenses!$C9+Dépenses!$F9),IF(Dépenses!$D9>0,(Dépenses!$D9+Dépenses!$F9),"")) -> 10550
A10: 604 D | B10: =VLOOKUP(Tableau3[[#This Row],[Compte]],bases!$A$3:$F$31,2) -> Achats études prestat° service | C10: 0 | D10: 10000 | E10: 0.055 | F10: =IF(D10<=0,#REF!*E10,D10*E10) -> 550 | G10: =IF(Dépenses!$C10>0,(Dépenses!$C10+Dépenses!$F10),IF(Dépenses!$D10>0,(Dépenses!$D10+Dépenses!$F10),"")) -> 10550
A11: 604 D | B11: =VLOOKUP(Tableau3[[#This Row],[Compte]],bases!$A$3:$F$31,2) -> Achats études prestat° service | C11: 0 | D11: 10000 | E11: 0.055 | F11: =IF(D11<=0,#REF!*E11,D11*E11) -> 550 | G11: =IF(Dépenses!$C11>0,(Dépenses!$C11+Dépenses!$F11),IF(Dépenses!$D11>0,(Dépenses!$D11+Dépenses!$F11),"")) -> 10550
A12: 604 D | B12: =VLOOKUP(Tableau3[[#This Row],[Compte]],bases!$A$3:$F$31,2) -> Achats études prestat° service | C12: 0 | D12: 10000 | E12: 0.055 | F12: =IF(D12<=0,#REF!*E12,D12*E12) -> 550 | G12: =IF(Dépenses!$C12>0,(Dépenses!$C12+Dépenses!$F12),IF(Dépenses!$D12>0,(Dépenses!$D12+Dépenses!$F12),"")) -> 10550
A13: 604 D | B13: =VLOOKUP(Tableau3[[#This Row],[Compte]],bases!$A$3:$F$31,2) -> Achats études prestat° service | C13: 0 | D13: 10000 | E13: 0.055 | F13: =IF(D13<=0,#REF!*E13,D13*E13) -> 550 | G13: =IF(Dépenses!$C13>0,(Dépenses!$C13+Dépenses!$F13),IF(Dépenses!$D13>0,(Dépenses!$D13+Dépenses!$F13),"")) -> 10550
A14: 604 D | B14: =VLOOKUP(Tableau3[[#This Row],[Compte]],bases!$A$3:$F$31,2) -> Achats études prestat° service | C14: 0 | D14: 10000 | E14: 0.055 | F14: =IF(D14<=0,#REF!*E14,D14*E14) -> 550 | G14: =IF(Dépenses!$C14>0,(Dépenses!$C14+Dépenses!$F14),IF(Dépenses!$D14>0,(Dépenses!$D14+Dépenses!$F14),"")) -> 10550
A15: 604 D | B15: =VLOOKUP(Tableau3[[#This Row],[Compte]],bases!$A$3:$F$31,2) -> Achats études prestat° service | C15: 16000 | D15: 0 | E15: 0.055 | F15: =IF(C15<=0,D15*E15,C15*E15) -> 880 | G15: =IF(Dépenses!$C15>0,(Dépenses!$C15+Dépenses!$F15),IF(Dépenses!$D15>0,(Dépenses!$D15+Dépenses!$F15),"")) -> 16880
A16: 604 D | B16: =VLOOKUP(Tableau3[[#This Row],[Compte]],bases!$A$3:$F$31,2) -> Achats études prestat° service | C16: 16000 | D16: 0 | E16: 0.055 | F16: =IF(C16<=0,D16*E16,C16*E16) -> 880 | G16: =IF(Dépenses!$C16>0,(Dépenses!$C16+Dépenses!$F16),IF(Dépenses!$D16>0,(Dépenses!$D16+Dépenses!$F16),"")) -> 16880
A17: 604 D | B17: =VLOOKUP(Tableau3[[#This Row],[Compte]],bases!$A$3:$F$31,2) -> Achats études prestat° service | C17: 40000 | D17: 0 | E17: 0.055 | F17: =IF(C17<=0,D17*E17,C17*E17) -> 2200 | G17: =IF(Dépenses!$C17>0,(Dépenses!$C17+Dépenses!$F17),IF(Dépenses!$D17>0,(Dépenses!$D17+Dépenses!$F17),"")) -> 42200
A18: 604 D | B18: =VLOOKUP(Tableau3[[#This Row],[Compte]],bases!$A$3:$F$31,2) -> Achats études prestat° service | C18: 40000 | D18: 0 | E18: 0.055 | F18: =IF(C18<=0,D18*E18,C18*E18) -> 2200 | G18: =IF(Dépenses!$C18>0,(Dépenses!$C18+Dépenses!$F18),IF(Dépenses!$D18>0,(Dépenses!$D18+Dépenses!$F18),"")) -> 42200
A19: 604 D | B19: =VLOOKUP(Tableau3[[#This Row],[Compte]],bases!$A$3:$F$31,2) -> Achats études prestat° service | C19: 750 | D19: 0 | E19: 0.055 | F19: =IF(C19<=0,D19*E19,C19*E19) -> 41.25 | G19: =IF(Dépenses!$C19>0,(Dépenses!$C19+Dépenses!$F19),IF(Dépenses!$D19>0,(Dépenses!$D19+Dépenses!$F19),"")) -> 791.25
A20: 604 D | B20: =VLOOKUP(Tableau3[[#This Row],[Compte]],bases!$A$3:$F$31,2) -> Achats études prestat° service | C20: 8125 | D20: 0 | E20: 0.055 | F20: =IF(C20<=0,D20*E20,C20*E20) -> 446.875 | G20: =IF(Dépenses!$C20>0,(Dépenses!$C20+Dépenses!$F20),IF(Dépenses!$D20>0,(Dépenses!$D20+Dépenses!$F20),"")) -> 8571.875
A21: 604 D | B21: =VLOOKUP(Tableau3[[#This Row],[Compte]],bases!$A$3:$F$31,2) -> Achats études prestat° service | C21: 8125 | D21: 0 | E21: 0.055 | F21: =IF(C21<=0,D21*E21,C21*E21) -> 446.875 | G21: =IF(Dépenses!$C21>0,(Dépenses!$C21+Dépenses!$F21),IF(Dépenses!$D21>0,(Dépenses!$D21+Dépenses!$F21),"")) -> 8571.875
A22: 604 D | B22: =VLOOKUP(Tableau3[[#This Row],[Compte]],bases!$A$3:$F$31,2) -> Achats études prestat° service | C22: 27500 | D22: 0 | E22: 0.055 | F22: =IF(C22<=0,D22*E22,C22*E22) -> 1512.5 | G22: =IF(Dépenses!$C22>0,(Dépenses!$C22+Dépenses!$F22),IF(Dépenses!$D22>0,(Dépenses!$D22+Dépenses!$F22),"")) -> 29012.5
A23: 604 D | B23: =VLOOKUP(Tableau3[[#This Row],[Compte]],bases!$A$3:$F$31,2) -> Achats études prestat° service | C23: 3750 | D23: 0 | E23: 0.055 | F23: =IF(C23<=0,D23*E23,C23*E23) -> 206.25 | G23: =IF(Dépenses!$C23>0,(Dépenses!$C23+Dépenses!$F23),IF(Dépenses!$D23>0,(Dépenses!$D23+Dépenses!$F23),"")) -> 3956.25
A24: 604 D | B24: =VLOOKUP(Tableau3[[#This Row],[Compte]],bases!$A$3:$F$31,2) -> Achats études prestat° service | C24: 10000 | D24: 0 | E24: 0.055 | F24: =IF(C24<=0,D24*E24,C24*E24) -> 550 | G24: =IF(Dépenses!$C24>0,(Dépenses!$C24+Dépenses!$F24),IF(Dépenses!$D24>0,(Dépenses!$D24+Dépenses!$F24),"")) -> 10550
A25: 604 D | B25: =VLOOKUP(Tableau3[[#This Row],[Compte]],bases!$A$3:$F$31,2) -> Achats études prestat° service | C25: 11875 | D25: 0 | E25: 0.055 | F25: =IF(C25<=0,D25*E25,C25*E25) -> 653.125 | G25: =IF(Dépenses!$C25>0,(Dépenses!$C25+Dépenses!$F25),IF(Dépenses!$D25>0,(Dépenses!$D25+Dépenses!$F25),"")) -> 12528.125
A26: 604 D | B26: =VLOOKUP(Tableau3[[#This Row],[Compte]],bases!$A$3:$F$31,2) -> Achats études prestat° service | C26: 11875 | D26: 0 | E26: 0.055 | F26: =IF(C26<=0,D26*E26,C26*E26) -> 653.125 | G26: =IF(Dépenses!$C26>0,(Dépenses!$C26+Dépenses!$F26),IF(Dépenses!$D26>0,(Dépenses!$D26+Dépenses!$F26),"")) -> 12528.125
... A356: 637 D | B356: =VLOOKUP(Tableau3[[#This Row],[Compte]],bases!$A$3:$F$31,2) -> Impôts & taxes | C356: 37647.29 | D356: 0 | E356: 0.1 | F356: =IF(C356<=0,D356*E356,C356*E356) -> 3764.729 | G356: =IF(Dépenses!$C356>0,(Dépenses!$C356+Dépenses!$F356),IF(Dépenses!$D356>0,(Dépenses!$D356+Dépenses!$F356),"")) -> 41412.019
A357: 6411 D | B357: =VLOOKUP(Tableau3[[#This Row],[Compte]],bases!$A$3:$F$31,2) -> Impôts & taxes | D357: 205 | F357: =IF(C357<=0,D357*E357,C357*E357) -> 0 | G357: =IF(Dépenses!$C357>0,(Dépenses!$C357+Dépenses!$F357),IF(Dépenses!$D357>0,(Dépenses!$D357+Dépenses!$F357),"")) -> 205
A358: 6411 D | B358: =VLOOKUP(Tableau3[[#This Row],[Compte]],bases!$A$3:$F$31,2) -> Impôts & taxes | C358: 49.15 | D358: 0 | F358: =IF(C358<=0,D358*E358,C358*E358) -> 0 | G358: =IF(Dépenses!$C358>0,(Dépenses!$C358+Dépenses!$F358),IF(Dépenses!$D358>0,(Dépenses!$D358+Dépenses!$F358),"")) -> 49.15
A359: 6411 D | B359: =VLOOKUP(Tableau3[[#This Row],[Compte]],bases!$A$3:$F$31,2) -> Impôts & taxes | C359: 980 | D359: 0 | F359: =IF(C359<=0,D359*E359,C359*E359) -> 0 | G359: =IF(Dépenses!$C359>0,(Dépenses!$C359+Dépenses!$F359),IF(Dépenses!$D359>0,(Dépenses!$D359+Dépenses!$F359),"")) -> 980
A360: 6411 D | B360: =VLOOKUP(Tableau3[[#This Row],[Compte]],bases!$A$3:$F$31,2) -> Impôts & taxes | C360: 14300.28 | D360: 0 | F360: =IF(C360<=0,D360*E360,C360*E360) -> 0 | G360: =IF(Dépenses!$C360>0,(Dépenses!$C360+Dépenses!$F360),IF(Dépenses!$D360>0,(Dépenses!$D360+Dépenses!$F360),"")) -> 14300.28
A361: 6411 D | B361: =VLOOKUP(Tableau3[[#This Row],[Compte]],bases!$A$3:$F$31,2) -> Impôts & taxes | C361: 3268.41 | D361: 0 | F361: =IF(C361<=0,D361*E361,C361*E361) -> 0 | G361: =IF(Dépenses!$C361>0,(Dépenses!$C361+Dépenses!$F361),IF(Dépenses!$D361>0,(Dépenses!$D361+Dépenses!$F361),"")) -> 3268.41
A362: 6411 D | B362: =VLOOKUP(Tableau3[[#This Row],[Compte]],bases!$A$3:$F$31,2) -> Impôts & taxes | C362: 601.37 | D362: 0 | F362: =IF(C362<=0,D362*E362,C362*E362) -> 0 | G362: =IF(Dépenses!$C362>0,(Dépenses!$C362+Dépenses!$F362),IF(Dépenses!$D362>0,(Dépenses!$D362+Dépenses!$F362),"")) -> 601.37
A363: 6411 D | B363: =VLOOKUP(Tableau3[[#This Row],[Compte]],bases!$A$3:$F$31,2) -> Impôts & taxes | C363: 5287.3 | D363: 0 | F363: =IF(C363<=0,D363*E363,C363*E363) -> 0 | G363: =IF(Dépenses!$C363>0,(Dépenses!$C363+Dépenses!$F363),IF(Dépenses!$D363>0,(Dépenses!$D363+Dépenses!$F363),"")) -> 5287.3
A364: 6411 D | B364: =VLOOKUP(Tableau3[[#This Row],[Compte]],bases!$A$3:$F$31,2) -> Impôts & taxes | C364: 57461.62 | D364: 0 | F364: =IF(C364<=0,D364*E364,C364*E364) -> 0 | G364: =IF(Dépenses!$C364>0,(Dépenses!$C364+Dépenses!$F364),IF(Dépenses!$D364>0,(Dépenses!$D364+Dépenses!$F364),"")) -> 57461.62
A365: 6411 D | B365: =VLOOKUP(Tableau3[[#This Row],[Compte]],bases!$A$3:$F$31,2) -> Impôts & taxes | C365: 32.52 | D365: 0 | F365: =IF(C365<=0,D365*E365,C365*E365) -> 0 | G365: =IF(Dépenses!$C365>0,(Dépenses!$C365+Dépenses!$F365),IF(Dépenses!$D365>0,(Dépenses!$D365+Dépenses!$F365),"")) -> 32.52
A366: 6411 D | B366: =VLOOKUP(Tableau3[[#This Row],[Compte]],bases!$A$3:$F$31,2) -> Impôts & taxes | C366: 6.77 | D366: 0 | F366: =IF(C366<=0,D366*E366,C366*E366) -> 0 | G366: =IF(Dépenses!$C366>0,(Dépenses!$C366+Dépenses!$F366),IF(Dépenses!$D366>0,(Dépenses!$D366+Dépenses!$F366),"")) -> 6.77
A367: 6411 D | B367: =VLOOKUP(Tableau3[[#This Row],[Compte]],bases!$A$3:$F$31,2) -> Impôts & taxes | C367: 140 | D367: 0 | F367: =IF(C367<=0,D367*E367,C367*E367) -> 0 | G367: =IF(Dépenses!$C367>0,(Dépenses!$C367+Dépenses!$F367),IF(Dépenses!$D367>0,(Dépenses!$D367+Dépenses!$F367),"")) -> 140
A368: 6451 D | B368: =VLOOKUP(Tableau3[[#This Row],[Compte]],bases!$A$3:$F$31,2) -> Impôts & taxes | C368: 390.79 | D368: 0 | F368: =IF(C368<=0,D368*E368,C368*E368) -> 0 | G368: =IF(Dépenses!$C368>0,(Dépenses!$C368+Dépenses!$F368),IF(Dépenses!$D368>0,(Dépenses!$D368+Dépenses!$F368),"")) -> 390.79
A369: 6451 D | B369: =VLOOKUP(Tableau3[[#This Row],[Compte]],bases!$A$3:$F$31,2) -> Impôts & taxes | C369: 20798.77 | D369: 0 | F369: =IF(C369<=0,D369*E369,C369*E369) -> 0 | G369: =IF(Dépenses!$C369>0,(Dépenses!$C369+Dépenses!$F369),IF(Dépenses!$D369>0,(Dépenses!$D369+Dépenses!$F369),"")) -> 20798.77
... A382: 6718 D | B382: =VLOOKUP(Tableau3[[#This Row],[Compte]],bases!$A$3:$F$31,2) -> Impôts & taxes | C382: 68.56 | D382: 0 | F382: =IF(C382<=0,D382*E382,C382*E382) -> 0 | G382: =IF(Dépenses!$C382>0,(Dépenses!$C382+Dépenses!$F382),IF(Dépenses!$D382>0,(Dépenses!$D382+Dépenses!$F382),"")) -> 68.56

Sheet Recettes
A1: Date | B1: Ordi | C1: Jo | D1: Libellé Tiers | E1: Libellé Pièce | F1: Mdt/Titre | G1: Bord | H1: Compte | I1: Réalisé HT | J1: En Cours HT | K1: Taux TVA | L1: Montant TVA | M1: Montant TTC
H2: 706 R | I2: 1520 | K2: 0.021 | L2: =IF(I2<=0,J2*K2,I2*K2) -> 31.92 | M2: =IF(K2="","",IF(I2>0,I2+L2,J2+L2)) -> 1551.92
H3: 7083 R | I3: 1521 | K3: 0.021 | L3: =IF(I3<=0,J3*K3,I3*K3) -> 31.941 | M3: =IF(K3="","",IF(I3>0,I3+L3,J3+L3)) -> 1552.941
H4: 7082 R | I4: 1522 | K4: 0.021 | L4: =IF(I4<=0,J4*K4,I4*K4) -> 31.962 | M4: =IF(K4="","",IF(I4>0,I4+L4,J4+L4)) -> 1553.962
H5: 7718 R | I5: 1523 | K5: 0.021 | L5: =IF(I5<=0,J5*K5,I5*K5) -> 31.983 | M5: =IF(K5="","",IF(I5>0,I5+L5,J5+L5)) -> 1554.983
H6: 774 R | I6: 1524 | K6: 0.021 | L6: =IF(I6<=0,J6*K6,I6*K6) -> 32.004 | M6: =IF(K6="","",IF(I6>0,I6+L6,J6+L6)) -> 1556.004
L7: =IF(I7<=0,J7*K7,I7*K7) -> 0 | M7: =IF(K7="","",IF(I7>0,I7+L7,J7+L7))
L8: =IF(I8<=0,J8*K8,I8*K8) -> 0 | M8: =IF(K8="","",IF(I8>0,I8+L8,J8+L8))
L9: =IF(I9<=0,J9*K9,I9*K9) -> 0 | M9: =IF(K9="","",IF(I9>0,I9+L9,J9+L9))
L10: =IF(I10<=0,J10*K10,I10*K10) -> 0 | M10: =IF(K10="","",IF(I10>0,I10+L10,J10+L10))
L11: =IF(I11<=0,J11*K11,I11*K11) -> 0 | M11: =IF(K11="","",IF(I11>0,I11+L11,J11+L11))
L12: =IF(I12<=0,J12*K12,I12*K12) -> 0 | M12: =IF(K12="","",IF(I12>0,I12+L12,J12+L12))
L13: =IF(I13<=0,J13*K13,I13*K13) -> 0 | M13: =IF(K13="","",IF(I13>0,I13+L13,J13+L13))
L14: =IF(I14<=0,J14*K14,I14*K14) -> 0 | M14: =IF(K14="","",IF(I14>0,I14+L14,J14+L14))
L15: =IF(I15<=0,J15*K15,I15*K15) -> 0 | M15: =IF(K15="","",IF(I15>0,I15+L15,J15+L15))
L16: =IF(I16<=0,J16*K16,I16*K16) -> 0 | M16: =IF(K16="","",IF(I16>0,I16+L16,J16+L16))
L17: =IF(I17<=0,J17*K17,I17*K17) -> 0 | M17: =IF(K17="","",IF(I17>0,I17+L17,J17+L17))
L18: =IF(I18<=0,J18*K18,I18*K18) -> 0 | M18: =IF(K18="","",IF(I18>0,I18+L18,J18+L18))
... L298: =IF(I298<=0,J298*K298,I298*K298) -> 0 | M298: =IF(K298="","",IF(I298>0,I298+L298,J298+L298))
M299: =IF(K299="","",IF(I299>0,I299+L299,J299+L299))

Sheet MDP FEUILLE
A3: IL N'Y A PAS DE MOT DE PASSE: CLIQUER SUR "REVISION" PUIS "OTER LA PROTECTION"
A4: NE RIEN MODIFIER CAR IL Y A DES FORMULES
