Workbook

Sheet Liste_full
A1: Enseigants | B1: Élèves | C1: Date de naissance | D1: Type | E1: Transport | F1: Philo
A2: Prof 1 | B2: Nom Prénom 1 | C2: 31870 | D2: 1 | E2: 7401 | F2: RC
A3: Prof 1 | B3: Nom Prénom 2 | C3: 31871 | D3: 1 | E3: 7401 | F3: RI
A4: Prof 1 | B4: Nom Prénom 3 | C4: 31872 | D4: 2 | E4: 7401 | F4: M
A5: Prof 1 | B5: Nom Prénom 4 | C5: 31873 | D5: 8 | E5: 7402 | F5: EPA
A6: Prof 2 | B6: Nom Prénom 5 | C6: 31874 | D6: 1 | E6: 7403 | F6: RC
A7: Prof 2 | B7: Nom Prénom 6 | C7: 31875 | D7: 8 | E7: 7405 | F7: RI
A8: Prof 2 | B8: Nom Prénom 7 | C8: 31876 | D8: 2 | E8: 7413 | F8: M
A9: Prof 3 | B9: Nom Prénom 8 | C9: 31877 | D9: 2 | E9: 7418 | F9: EPA
A10: Prof 3 | B10: Nom Prénom 9 | C10: 31878 | D10: 1 | E10: 7401 | F10: RC
A11: Prof 3 | B11: Nom Prénom 10 | C11: 31879 | D11: 2 | E11: 7401 | F11: RI
A12: Prof 3 | B12: Nom Prénom 11 | C12: 31880 | D12: 1 | E12: 7401 | F12: M
A13: Prof 3 | B13: Nom Prénom 12 | C13: 31881 | D13: 1 | E13: 7402 | F13: EPA
... A25: Prof 4 | B25: Nom Prénom 24 | C25: 31893 | D25: 8 | E25: 7418 | F25: EPA

Sheet Liste_par_classe
B1: Enseignant : | C1: Prof 2
A2: N° | B2: Élève | C2: Date de naissance | D2: Type | E2: Transport | F2: Cours philosophique
A3: =IF(COUNTIF(Liste_full!A:A,$C$1),1,"") -> 1 | B3: =IF(COUNTIF(Liste_full!A:A,$C$1),VLOOKUP($C$1,Liste_full!$A:$E,2,FALSE),"") -> Nom Prénom 5 | C3: =IF(COUNTIF(Liste_full!A:A,$C$1),VLOOKUP($C$1,Liste_full!$A:$E,3,FALSE),"") -> 31874 | D3: =IF(COUNTIF(Liste_full!A:A,$C$1),VLOOKUP($C$1,Liste_full!$A:$E,4,FALSE),"") -> 1 | E3: =IF(COUNTIF(Liste_full!A:A,$C$1),VLOOKUP($C$1,Liste_full!$A:$E,5,FALSE),"") -> 7403 | F3: =IF(COUNTIF(Liste_full!A:A,$C$1),VLOOKUP($C$1,Liste_full!$A:$F,6,FALSE),"") -> RC
A4: =IF(COUNTIF(Liste_full!A:A,$C$1),A3+1,"") -> 2
A5: =IF(COUNTIF(Liste_full!A:A,$C$1),A4+1,"") -> 3
A6: =IF(COUNTIF(Liste_full!A:A,$C$1),A5+1,"") -> 4
A7: =IF(COUNTIF(Liste_full!A:A,$C$1),A6+1,"") -> 5
A8: =IF(COUNTIF(Liste_full!A:A,$C$1),A7+1,"") -> 6
A9: =IF(COUNTIF(Liste_full!A:A,$C$1),A8+1,"") -> 7 | J9: =C1 -> Prof 2
A10: =IF(COUNTIF(Liste_full!A:A,$C$1),A9+1,"") -> 8 | J10: =MATCH(C1,Liste_full!A:A,0) -> 6 | K10: Ligne de début (premier élève)
A11: =IF(COUNTIF(Liste_full!A:A,$C$1),A10+1,"") -> 9 | J11: =COUNTIF(Liste_full!A:A,C1) -> 3 | K11: Nombre d'élève dans la classe
A12: =IF(COUNTIF(Liste_full!A:A,$C$1),A11+1,"") -> 10 | J12: =J10+J11-1 -> 8 | K12: Ligne de fin (dernier élève)
A13: =IF(COUNTIF(Liste_full!A:A,$C$1),A12+1,"") -> 11
A14: =IF(COUNTIF(Liste_full!A:A,$C$1),A13+1,"") -> 12
A15: =IF(COUNTIF(Liste_full!A:A,$C$1),A14+1,"") -> 13
A16: =IF(COUNTIF(Liste_full!A:A,$C$1),A15+1,"") -> 14
A17: =IF(COUNTIF(Liste_full!A:A,$C$1),A16+1,"") -> 15
A18: =IF(COUNTIF(Liste_full!A:A,$C$1),A17+1,"") -> 16
A19: =IF(COUNTIF(Liste_full!A:A,$C$1),A18+1,"") -> 17
A20: =IF(COUNTIF(Liste_full!A:A,$C$1),A19+1,"") -> 18
A21: =IF(COUNTIF(Liste_full!A:A,$C$1),A20+1,"") -> 19
A22: =IF(COUNTIF(Liste_full!A:A,$C$1),A21+1,"") -> 20
