Workbook
Name CJF: '[1]Année Gestion'!$E$14:$E$28
Name FERIES: '[1]Année Gestion'!$C$14:$C$28

Sheet FS
B6: FICHE DE SITUATION MENSUELLE | I6: MOIS D'ETAT | K6: 42552
B8: Nom et Prénom | D8: AA | J8: Edité Le:
B9: Période d'Etat | D9: =K6 -> 42552 | G9: 42582 | J9: CODE
B10: Réservé au Magasin | G10: Réservé au Sce comptabilité | K10: Réservé au Contrôle
B11: PERIODE | D11: BONS DE SORTIE | G11: N° | H11: Montant | K11: Remarques
C12: DATE | D12: N° BS | E12: CODE PRJ | F12: VALEUR | G12: Reçu | H12: Perçu | I12: Justifié | J12: Restant | K12: & Décisions
C13: =D9 -> 42552 | G13: 312 | H13: 50 | I13: 43.3 | J13: 6.7
C14: =C13+1 -> 42553
C15: =C14+1 -> 42554
C16: =C15+1 -> 42555
C17: =C16+1 -> 42556
C18: =C17+1 -> 42557 | G18: 318 | H18: 50 | I18: 38.74 | J18: 11.26
C19: =C18+1 -> 42558
C20: =C19+1 -> 42559
C21: =C20+1 -> 42560
C22: =C21+1 -> 42561
C23: =C22+1 -> 42562 | G23: 324 | H23: 10 | I23: 8.76 | J23: =H23-I23 -> 1.24
C24: =C23+1 -> 42563
C25: =C24+1 -> 42564
C26: =C25+1 -> 42565
C27: =C26+1 -> 42566
C28: =C27+1 -> 42567
C29: =C28+1 -> 42568
C30: =C29+1 -> 42569 | G30: 329 | H30: 30 | I30: 30 | J30: 0
C31: =C30+1 -> 42570
C32: =C31+1 -> 42571
C33: =C32+1 -> 42572
C34: =C33+1 -> 42573 | G34: 335 | H34: 15 | I34: 15 | J34: 0
C35: =C34+1 -> 42574
C36: =C35+1 -> 42575
C37: =C36+1 -> 42576 | G37: 338 | H37: 30 | I37: 36.17 | J37: -6.17
C38: =C37+1 -> 42577
C39: =C38+1 -> 42578 | G39: 341 | H39: 30 | I39: 27.12 | J39: 2.88
C40: =C39+1 -> 42579
C41: =C40+1 -> 42580 | G41: 347 | H41: 20 | I41: 18.42 | J41: 1.58
C42: =C41+1 -> 42581
C43: =C42+1 -> 42582

Sheet CAISSE
B4: MOUVEMENTS CAISSE
B6: DATE | C6: BENEFICIAIRE | D6: TITRE | E6: N° REÇU | F6: MONTANT | I6: OBSERVATION
B7: MOUV | C7: NOM ET PRENOM | D7: OPERATION | F7: PERÇU | G7: JUSTIFIÉ | H7: RESTANT
B8: 42552 | C8: AA | D8: Achat urgent | E8: 312 | F8: 50 | G8: 43.3 | H8: =F8-G8 -> 6.7
B9: 42552 | C9: BB | D9: Achat urgent | E9: 314 | F9: 100 | G9: 82.12 | H9: =F9-G9 -> 17.88
B10: 42552 | C10: CC | D10: Achat urgent | E10: 315 | F10: 120 | G10: 136.17 | H10: =F10-G10 -> -16.17
B11: 42555 | C11: BB | D11: Achat urgent | E11: 316 | F11: 70 | G11: 62.3 | H11: =F11-G11 -> 7.7
B12: 42555 | C12: DD | D12: Achat urgent | E12: 317 | F12: 30 | G12: 27.1 | H12: =F12-G12 -> 2.9
B13: 42557 | C13: AA | D13: Achat urgent | E13: 318 | F13: 50 | G13: 38.74 | H13: =F13-G13 -> 11.26
B14: 42557 | C14: CC | D14: Achat urgent | E14: 319 | F14: 100 | G14: 88.88 | H14: =F14-G14 -> 11.12
B15: 42557 | C15: FF | D15: Achat urgent | E15: 320 | F15: 20 | G15: 12.3 | H15: =F15-G15 -> 7.7
B16: 42559 | C16: CC | D16: Achat urgent | E16: 321 | F16: 20 | G16: 18.8 | H16: =F16-G16 -> 1.2
B17: 42559 | C17: DD | D17: Achat urgent | E17: 322 | F17: 30 | G17: 23.6 | H17: =F17-G17 -> 6.4
B18: 42562 | C18: AA | D18: Achat urgent | E18: 324 | F18: 10 | G18: 8.76 | H18: =F18-G18 -> 1.24
B19: 42562 | C19: DD | D19: Achat urgent | E19: 323 | F19: 50 | G19: 42.12 | H19: =F19-G19 -> 7.88
... B43: 42580 | C43: HH | D43: Achat urgent | E43: 345 | F43: 20 | G43: 8.82 | H43: =F43-G43 -> 11.18
H44: =F44-G44 -> 0
H45: =F45-G45 -> 0
H46: =F46-G46 -> 0
H47: =F47-G47 -> 0
H48: =F48-G48 -> 0
H49: =F49-G49 -> 0
H50: =F50-G50 -> 0
H51: =F51-G51 -> 0
H52: =F52-G52 -> 0
H53: =F53-G53 -> 0
H54: =F54-G54 -> 0
H55: =F55-G55 -> 0
... H60: =F60-G60 -> 0

Sheet RECAP
B3: RECAP DU MOIS
E5: TOTAL
B6: DATE DEBUT | C6: DATE DE FIN | D6: NOM | E6: PERÇU | F6: JUSTIFIÉ | G6: RESTANT | H6: REGULARISATION | I6: OBSERVATIONS
B7: 42552 | C7: 42582 | D7: AA | E7: {=SUM((CAISSE!$F$8:$F$60)*(CAISSE!$C$8:$C$60=D7)*(CAISSE!$B$8:$B$60>=(B7))*(CAISSE!$B$8:$B$60<=(C7)))} -> 235 | F7: {=SUM((CAISSE!$G$8:$G$60)*(CAISSE!$C$8:$C$60=D7)*(CAISSE!$B$8:$B$60>=(B7))*(CAISSE!$B$8:$B$60<=(C7)))} -> 217.51 | G7: {=SUM((CAISSE!$H$8:$H$60)*(CAISSE!$C$8:$C$60=D7)*(CAISSE!$B$8:$B$60>=(B7))*(CAISSE!$B$8:$B$60<=(C7)))} -> 17.49
B8: 42552 | C8: 42582 | D8: BB | E8: {=SUM((CAISSE!$F$8:$F$60)*(CAISSE!$C$8:$C$60=D8)*(CAISSE!$B$8:$B$60>=(B8))*(CAISSE!$B$8:$B$60<=(C8)))} -> 230 | F8: {=SUM((CAISSE!$G$8:$G$60)*(CAISSE!$C$8:$C$60=D8)*(CAISSE!$B$8:$B$60>=(B8))*(CAISSE!$B$8:$B$60<=(C8)))} -> 207.64 | G8: {=SUM((CAISSE!$H$8:$H$60)*(CAISSE!$C$8:$C$60=D8)*(CAISSE!$B$8:$B$60>=(B8))*(CAISSE!$B$8:$B$60<=(C8)))} -> 22.36
B9: 42552 | C9: 42582 | D9: CC | E9: {=SUM((CAISSE!$F$8:$F$60)*(CAISSE!$C$8:$C$60=D9)*(CAISSE!$B$8:$B$60>=(B9))*(CAISSE!$B$8:$B$60<=(C9)))} -> 335 | F9: {=SUM((CAISSE!$G$8:$G$60)*(CAISSE!$C$8:$C$60=D9)*(CAISSE!$B$8:$B$60>=(B9))*(CAISSE!$B$8:$B$60<=(C9)))} -> 319.05 | G9: {=SUM((CAISSE!$H$8:$H$60)*(CAISSE!$C$8:$C$60=D9)*(CAISSE!$B$8:$B$60>=(B9))*(CAISSE!$B$8:$B$60<=(C9)))} -> 15.95
B10: 42552 | C10: 42582 | D10: DD | E10: {=SUM((CAISSE!$F$8:$F$60)*(CAISSE!$C$8:$C$60=D10)*(CAISSE!$B$8:$B$60>=(B10))*(CAISSE!$B$8:$B$60<=(C10)))} -> 250 | F10: {=SUM((CAISSE!$G$8:$G$60)*(CAISSE!$C$8:$C$60=D10)*(CAISSE!$B$8:$B$60>=(B10))*(CAISSE!$B$8:$B$60<=(C10)))} -> 235.67 | G10: {=SUM((CAISSE!$H$8:$H$60)*(CAISSE!$C$8:$C$60=D10)*(CAISSE!$B$8:$B$60>=(B10))*(CAISSE!$B$8:$B$60<=(C10)))} -> 14.33
B11: 42552 | C11: 42582 | D11: FF | E11: {=SUM((CAISSE!$F$8:$F$60)*(CAISSE!$C$8:$C$60=D11)*(CAISSE!$B$8:$B$60>=(B11))*(CAISSE!$B$8:$B$60<=(C11)))} -> 160 | F11: {=SUM((CAISSE!$G$8:$G$60)*(CAISSE!$C$8:$C$60=D11)*(CAISSE!$B$8:$B$60>=(B11))*(CAISSE!$B$8:$B$60<=(C11)))} -> 140.1 | G11: {=SUM((CAISSE!$H$8:$H$60)*(CAISSE!$C$8:$C$60=D11)*(CAISSE!$B$8:$B$60>=(B11))*(CAISSE!$B$8:$B$60<=(C11)))} -> 19.9
B12: 42552 | C12: 42582 | D12: GG | E12: {=SUM((CAISSE!$F$8:$F$60)*(CAISSE!$C$8:$C$60=D12)*(CAISSE!$B$8:$B$60>=(B12))*(CAISSE!$B$8:$B$60<=(C12)))} -> 25 | F12: {=SUM((CAISSE!$G$8:$G$60)*(CAISSE!$C$8:$C$60=D12)*(CAISSE!$B$8:$B$60>=(B12))*(CAISSE!$B$8:$B$60<=(C12)))} -> 36.83 | G12: {=SUM((CAISSE!$H$8:$H$60)*(CAISSE!$C$8:$C$60=D12)*(CAISSE!$B$8:$B$60>=(B12))*(CAISSE!$B$8:$B$60<=(C12)))} -> -11.83
B13: 42552 | C13: 42582 | D13: HH | E13: {=SUM((CAISSE!$F$8:$F$60)*(CAISSE!$C$8:$C$60=D13)*(CAISSE!$B$8:$B$60>=(B13))*(CAISSE!$B$8:$B$60<=(C13)))} -> 20 | F13: {=SUM((CAISSE!$G$8:$G$60)*(CAISSE!$C$8:$C$60=D13)*(CAISSE!$B$8:$B$60>=(B13))*(CAISSE!$B$8:$B$60<=(C13)))} -> 8.82 | G13: {=SUM((CAISSE!$H$8:$H$60)*(CAISSE!$C$8:$C$60=D13)*(CAISSE!$B$8:$B$60>=(B13))*(CAISSE!$B$8:$B$60<=(C13)))} -> 11.18
B14: 42552 | C14: 42582 | D14: MM | E14: {=SUM((CAISSE!$F$8:$F$60)*(CAISSE!$C$8:$C$60=D14)*(CAISSE!$B$8:$B$60>=(B14))*(CAISSE!$B$8:$B$60<=(C14)))} -> 50 | F14: {=SUM((CAISSE!$G$8:$G$60)*(CAISSE!$C$8:$C$60=D14)*(CAISSE!$B$8:$B$60>=(B14))*(CAISSE!$B$8:$B$60<=(C14)))} -> 36.84 | G14: {=SUM((CAISSE!$H$8:$H$60)*(CAISSE!$C$8:$C$60=D14)*(CAISSE!$B$8:$B$60>=(B14))*(CAISSE!$B$8:$B$60<=(C14)))} -> 13.16 | J14: S
E15: {=SUM((CAISSE!$F$8:$F$60)*(CAISSE!$C$8:$C$60=D15)*(CAISSE!$B$8:$B$60>=(B15))*(CAISSE!$B$8:$B$60<=(C15)))} -> 0 | F15: {=SUM((CAISSE!$G$8:$G$60)*(CAISSE!$C$8:$C$60=D15)*(CAISSE!$B$8:$B$60>=(B15))*(CAISSE!$B$8:$B$60<=(C15)))} -> 0 | G15: {=SUM((CAISSE!$H$8:$H$60)*(CAISSE!$C$8:$C$60=D15)*(CAISSE!$B$8:$B$60>=(B15))*(CAISSE!$B$8:$B$60<=(C15)))} -> 0
E16: {=SUM((CAISSE!$F$8:$F$60)*(CAISSE!$C$8:$C$60=D16)*(CAISSE!$B$8:$B$60>=(B16))*(CAISSE!$B$8:$B$60<=(C16)))} -> 0 | F16: {=SUM((CAISSE!$G$8:$G$60)*(CAISSE!$C$8:$C$60=D16)*(CAISSE!$B$8:$B$60>=(B16))*(CAISSE!$B$8:$B$60<=(C16)))} -> 0 | G16: {=SUM((CAISSE!$H$8:$H$60)*(CAISSE!$C$8:$C$60=D16)*(CAISSE!$B$8:$B$60>=(B16))*(CAISSE!$B$8:$B$60<=(C16)))} -> 0
E17: {=SUM((CAISSE!$F$8:$F$60)*(CAISSE!$C$8:$C$60=D17)*(CAISSE!$B$8:$B$60>=(B17))*(CAISSE!$B$8:$B$60<=(C17)))} -> 0 | F17: {=SUM((CAISSE!$G$8:$G$60)*(CAISSE!$C$8:$C$60=D17)*(CAISSE!$B$8:$B$60>=(B17))*(CAISSE!$B$8:$B$60<=(C17)))} -> 0 | G17: {=SUM((CAISSE!$H$8:$H$60)*(CAISSE!$C$8:$C$60=D17)*(CAISSE!$B$8:$B$60>=(B17))*(CAISSE!$B$8:$B$60<=(C17)))} -> 0
E18: {=SUM((CAISSE!$F$8:$F$60)*(CAISSE!$C$8:$C$60=D18)*(CAISSE!$B$8:$B$60>=(B18))*(CAISSE!$B$8:$B$60<=(C18)))} -> 0 | F18: {=SUM((CAISSE!$G$8:$G$60)*(CAISSE!$C$8:$C$60=D18)*(CAISSE!$B$8:$B$60>=(B18))*(CAISSE!$B$8:$B$60<=(C18)))} -> 0 | G18: {=SUM((CAISSE!$H$8:$H$60)*(CAISSE!$C$8:$C$60=D18)*(CAISSE!$B$8:$B$60>=(B18))*(CAISSE!$B$8:$B$60<=(C18)))} -> 0
E19: {=SUM((CAISSE!$F$8:$F$60)*(CAISSE!$C$8:$C$60=D19)*(CAISSE!$B$8:$B$60>=(B19))*(CAISSE!$B$8:$B$60<=(C19)))} -> 0 | F19: {=SUM((CAISSE!$G$8:$G$60)*(CAISSE!$C$8:$C$60=D19)*(CAISSE!$B$8:$B$60>=(B19))*(CAISSE!$B$8:$B$60<=(C19)))} -> 0 | G19: {=SUM((CAISSE!$H$8:$H$60)*(CAISSE!$C$8:$C$60=D19)*(CAISSE!$B$8:$B$60>=(B19))*(CAISSE!$B$8:$B$60<=(C19)))} -> 0
E20: {=SUM((CAISSE!$F$8:$F$60)*(CAISSE!$C$8:$C$60=D20)*(CAISSE!$B$8:$B$60>=(B20))*(CAISSE!$B$8:$B$60<=(C20)))} -> 0 | F20: {=SUM((CAISSE!$G$8:$G$60)*(CAISSE!$C$8:$C$60=D20)*(CAISSE!$B$8:$B$60>=(B20))*(CAISSE!$B$8:$B$60<=(C20)))} -> 0 | G20: {=SUM((CAISSE!$H$8:$H$60)*(CAISSE!$C$8:$C$60=D20)*(CAISSE!$B$8:$B$60>=(B20))*(CAISSE!$B$8:$B$60<=(C20)))} -> 0
E21: {=SUM((CAISSE!$F$8:$F$60)*(CAISSE!$C$8:$C$60=D21)*(CAISSE!$B$8:$B$60>=(B21))*(CAISSE!$B$8:$B$60<=(C21)))} -> 0 | F21: {=SUM((CAISSE!$G$8:$G$60)*(CAISSE!$C$8:$C$60=D21)*(CAISSE!$B$8:$B$60>=(B21))*(CAISSE!$B$8:$B$60<=(C21)))} -> 0 | G21: {=SUM((CAISSE!$H$8:$H$60)*(CAISSE!$C$8:$C$60=D21)*(CAISSE!$B$8:$B$60>=(B21))*(CAISSE!$B$8:$B$60<=(C21)))} -> 0
E22: {=SUM((CAISSE!$F$8:$F$60)*(CAISSE!$C$8:$C$60=D22)*(CAISSE!$B$8:$B$60>=(B22))*(CAISSE!$B$8:$B$60<=(C22)))} -> 0 | F22: {=SUM((CAISSE!$G$8:$G$60)*(CAISSE!$C$8:$C$60=D22)*(CAISSE!$B$8:$B$60>=(B22))*(CAISSE!$B$8:$B$60<=(C22)))} -> 0 | G22: {=SUM((CAISSE!$H$8:$H$60)*(CAISSE!$C$8:$C$60=D22)*(CAISSE!$B$8:$B$60>=(B22))*(CAISSE!$B$8:$B$60<=(C22)))} -> 0
E23: {=SUM((CAISSE!$F$8:$F$60)*(CAISSE!$C$8:$C$60=D23)*(CAISSE!$B$8:$B$60>=(B23))*(CAISSE!$B$8:$B$60<=(C23)))} -> 0 | F23: {=SUM((CAISSE!$G$8:$G$60)*(CAISSE!$C$8:$C$60=D23)*(CAISSE!$B$8:$B$60>=(B23))*(CAISSE!$B$8:$B$60<=(C23)))} -> 0 | G23: {=SUM((CAISSE!$H$8:$H$60)*(CAISSE!$C$8:$C$60=D23)*(CAISSE!$B$8:$B$60>=(B23))*(CAISSE!$B$8:$B$60<=(C23)))} -> 0
E24: {=SUM((CAISSE!$F$8:$F$60)*(CAISSE!$C$8:$C$60=D24)*(CAISSE!$B$8:$B$60>=(B24))*(CAISSE!$B$8:$B$60<=(C24)))} -> 0 | F24: {=SUM((CAISSE!$G$8:$G$60)*(CAISSE!$C$8:$C$60=D24)*(CAISSE!$B$8:$B$60>=(B24))*(CAISSE!$B$8:$B$60<=(C24)))} -> 0 | G24: {=SUM((CAISSE!$H$8:$H$60)*(CAISSE!$C$8:$C$60=D24)*(CAISSE!$B$8:$B$60>=(B24))*(CAISSE!$B$8:$B$60<=(C24)))} -> 0
E25: {=SUM((CAISSE!$F$8:$F$60)*(CAISSE!$C$8:$C$60=D25)*(CAISSE!$B$8:$B$60>=(B25))*(CAISSE!$B$8:$B$60<=(C25)))} -> 0 | F25: {=SUM((CAISSE!$G$8:$G$60)*(CAISSE!$C$8:$C$60=D25)*(CAISSE!$B$8:$B$60>=(B25))*(CAISSE!$B$8:$B$60<=(C25)))} -> 0 | G25: {=SUM((CAISSE!$H$8:$H$60)*(CAISSE!$C$8:$C$60=D25)*(CAISSE!$B$8:$B$60>=(B25))*(CAISSE!$B$8:$B$60<=(C25)))} -> 0
