Workbook
Name immatriculation: '[1]base camion'!$B$2:$B$31
Name Natures: [1]Variables!$D$2:$D$34

Sheet Feuil1
A1: DATE | B1: Semaine | C1: Mois | D1: Immatriculations véhicules | E1: HEURES 1 chauff. | F1: HEURES 1chauff. +1agent | G1: HEURES HS, nuits, WE,… | H1: Durée
A2: 42009 | B2: =VLOOKUP(A2,Feuil2!A2:B732,2,FALSE) -> 2 | C2: =MONTH(A2) -> 1 | D2: X | E2: 7.5 | H2: =IF(E2>0,E2,IF(F2>0,F2,IF(G2>0,G2,""))) -> 7.5
A3: 42010 | B3: =VLOOKUP(A3,Feuil2!A3:B733,2,FALSE) -> 2 | C3: =MONTH(A3) -> 1 | D3: X | F3: 7.5 | H3: =IF(E3>0,E3,IF(F3>0,F3,IF(G3>0,G3,""))) -> 7.5
A4: 42011 | B4: =VLOOKUP(A4,Feuil2!A4:B734,2,FALSE) -> 2 | C4: =MONTH(A4) -> 1 | D4: X | E4: 7.5 | H4: =IF(E4>0,E4,IF(F4>0,F4,IF(G4>0,G4,""))) -> 7.5
A5: 42012 | B5: =VLOOKUP(A5,Feuil2!A5:B735,2,FALSE) -> 2 | C5: =MONTH(A5) -> 1 | D5: X | E5: 7.5 | H5: =IF(E5>0,E5,IF(F5>0,F5,IF(G5>0,G5,""))) -> 7.5
A6: 42013 | B6: =VLOOKUP(A6,Feuil2!A6:B736,2,FALSE) -> 2 | C6: =MONTH(A6) -> 1 | D6: X | E6: 7.5 | H6: =IF(E6>0,E6,IF(F6>0,F6,IF(G6>0,G6,""))) -> 7.5
A7: 42009 | B7: =VLOOKUP(A7,Feuil2!A7:B737,2,FALSE) -> 2 | C7: =MONTH(A7) -> 1 | D7: Y | E7: 7.5 | H7: =IF(E7>0,E7,IF(F7>0,F7,IF(G7>0,G7,""))) -> 7.5
A8: 42010 | B8: =VLOOKUP(A8,Feuil2!A8:B738,2,FALSE) -> 2 | C8: =MONTH(A8) -> 1 | D8: Y | E8: 7.5 | H8: =IF(E8>0,E8,IF(F8>0,F8,IF(G8>0,G8,""))) -> 7.5
A9: 42011 | B9: =VLOOKUP(A9,Feuil2!A9:B739,2,FALSE) -> 2 | C9: =MONTH(A9) -> 1 | D9: Y | E9: 7.5 | H9: =IF(E9>0,E9,IF(F9>0,F9,IF(G9>0,G9,""))) -> 7.5
A10: 42012 | B10: =VLOOKUP(A10,Feuil2!A10:B740,2,FALSE) -> 2 | C10: =MONTH(A10) -> 1 | D10: Y | E10: 7.5 | H10: =IF(E10>0,E10,IF(F10>0,F10,IF(G10>0,G10,""))) -> 7.5
A11: 42013 | B11: =VLOOKUP(A11,Feuil2!A11:B741,2,FALSE) -> 2 | C11: =MONTH(A11) -> 1 | D11: Y | E11: 7.5 | H11: =IF(E11>0,E11,IF(F11>0,F11,IF(G11>0,G11,""))) -> 7.5

Sheet Feuil2
A1: DATE | B1: N° semaine
A2: 41640 | B2: =INT(MOD(INT((A2-2)/7)+0.6,52+5/28))+1 -> 1
A3: 41641 | B3: =INT(MOD(INT((A3-2)/7)+0.6,52+5/28))+1 -> 1
A4: 41642 | B4: =INT(MOD(INT((A4-2)/7)+0.6,52+5/28))+1 -> 1
A5: 41643 | B5: =INT(MOD(INT((A5-2)/7)+0.6,52+5/28))+1 -> 1
A6: 41644 | B6: =INT(MOD(INT((A6-2)/7)+0.6,52+5/28))+1 -> 1
A7: 41645 | B7: =INT(MOD(INT((A7-2)/7)+0.6,52+5/28))+1 -> 2
A8: 41646 | B8: =INT(MOD(INT((A8-2)/7)+0.6,52+5/28))+1 -> 2
A9: 41647 | B9: =INT(MOD(INT((A9-2)/7)+0.6,52+5/28))+1 -> 2
A10: 41648 | B10: =INT(MOD(INT((A10-2)/7)+0.6,52+5/28))+1 -> 2
A11: 41649 | B11: =INT(MOD(INT((A11-2)/7)+0.6,52+5/28))+1 -> 2
A12: 41650 | B12: =INT(MOD(INT((A12-2)/7)+0.6,52+5/28))+1 -> 2
A13: 41651 | B13: =INT(MOD(INT((A13-2)/7)+0.6,52+5/28))+1 -> 2
... A732: 42370 | B732: =INT(MOD(INT((A732-2)/7)+0.6,52+5/28))+1 -> 53

Sheet Feuil3
