Workbook
Name France: 'mise en forme'!$D$4:$D$25
Name Pays: 'mise en forme'!$D$3:$N$3
Name Tram: 'Données Tram'!$A$1:$W$58
Name Uk: 'mise en forme'!$G$4:$G$25

Sheet Feuille de travail
B2: Pays : | C2: France
B3: Ville : | C3: Bordeaux
B6: INFOS TECHNIQUES
B7: Type Matériel | D7: # rame | E7: Année livraison | F7: Prochaine révision | G7: Type d'huile | H7: Ref étriers freins actif BP | J7: Nombre | K7: Ref étriers freins passif BM | M7: Nombre | N7: Ref Centrale BM | P7: Nombre | Q7: Ref Centrale BP | S7: Nombre | T7: ref centrale secours | V7: Nombre

Sheet Données Tram
A1: Pays | B1: Ville | C1: Exploitant | D1: Type matériel | E1: # rame | F1: Année livraison | G1: Contrat Freins | H1: Contrat centrales | I1: Type huile | J1: Derniere révision | K1: Prochaine révision | L1: Ref étriers freins actif BP | M1: Nbr | N1: Ref étriers freins passif BM | O1: Nbr | P1: Derniere Rev CBM&BP | Q1: Prochaine Rev CBM&BP | R1: Ref centrale BM | S1: Nbr | T1: Ref centrale BP | U1: Nbr | V1: Ref centrale secours | W1: Nombre
A2: France | B2: Angers | C2: Keolis | D2: Citadis 302 | E2: 17 | F2: 2011 | I2: Mobil SHC 524 | J2: 0 | K2: 2016 | L2: 4F-123530 | M2: 68 | N2: 4F-123527 | O2: 68 | R2: HPU 123635 | S2: 34 | T2: HPU 123634 | U2: 17
A3: France | B3: Aubagne | D3: Citadis Compact | E3: 8 | F3: 2016 | J3: 0 | K3: 2021 ?
A4: France | B4: Avignon | C4: Transdev | D4: Citadis Compact | E4: 24 | F4: 2016 | J4: 0 | K4: 2021 ? | L4: 0 | M4: 0 | N4: 0 | O4: 0
A5: France | B5: Besançon | C5: Transdev | D5: CAF Urbos 3 | E5: 19 | F5: 2014 | J5: 0 | K5: 2019 ? | L5: 0 | M5: 0 | N5: 0 | O5: 0
A6: France | B6: Bordeaux | C6: Keolis | D6: Citadis 302 | E6: 6 | F6: 2003 | J6: 2013 ? | K6: 2018 | L6: HF2A15 | M6: 24 | N6: HS2P20N | O6: 24 | R6: HGE 28U/03 | S6: 18 | T6: HGE28 ANL01 | U6: 6 | V6: Dako | W6: 12
A7: France | B7: Bordeaux | C7: Keolis | D7: Citadis 302 | E7: 6 | F7: 2006 | J7: 2011 ? | K7: 2016 | L7: HF2A15 | M7: 24 | N7: HS2P20N | O7: 24 | R7: HGE 28U/03 | S7: 18 | T7: HGE28 ANL01 | U7: 6 | V7: Dako | W7: 12
A8: France | B8: Bordeaux | C8: Keolis | D8: Citadis 402 | E8: 22 | F8: 2003 | J8: 2013 ? | K8: 2018 | L8: HF2A15 | M8: 88 | N8: HS2P20N | O8: 132 | R8: HGE 28U/03 | S8: 66 | T8: HGE28 ANL01 | U8: 22 | V8: Dako | W8: 66
A9: France | B9: Bordeaux | C9: Keolis | D9: Citadis 402 | E9: 16 | F9: 2004 | J9: 2009 ? | K9: 2014 | L9: HF2A15 | M9: 64 | N9: HS2P20N | O9: 96 | R9: HGE 28U/03 | S9: 48 | T9: HGE28 ANL01 | U9: 16 | V9: Dako | W9: 48
A10: France | B10: Bordeaux | C10: Keolis | D10: Citadis 402 | E10: 10 | F10: 2007 | J10: 2012 ? | K10: 2017 | L10: HF2A15 | M10: 40 | N10: HS2P20N | O10: 60 | R10: HGE 28U/03 | S10: 30 | T10: HGE28 ANL01 | U10: 10 | V10: Dako | W10: 30
A11: France | B11: Bordeaux | C11: Keolis | D11: Citadis 402 | E11: 14 | F11: 2008 | J11: 2013 ? | K11: 2018 | L11: HF2A15 | M11: 56 | N11: HS2P20N | O11: 84 | R11: HGE 28U/03 | S11: 42 | T11: HGE28 ANL01 | U11: 14 | V11: Dako | W11: 42
A12: France | B12: Bordeaux | C12: Keolis | D12: Citadis 402 | E12: 26 | F12: 2013 | J12: 0 | K12: 2018 | L12: HF2A15 | M12: 104 | N12: HS2P20N | O12: 156 | R12: HGE 28U/03 | S12: 78 | T12: HGE28 ANL01 | U12: 26 | V12: Dako | W12: 78
A13: France | B13: Brest | C13: Keolis | D13: Citadis 302 | E13: 20 | F13: 2012 | J13: 0 | K13: 2017 | L13: HF2A15 | M13: 80 | N13: HS2P20N | O13: 80 | R13: HGE 28U/03 | S13: 60 | T13: HGE28 ANL10 | U13: 20 | V13: Dako | W13: 40
A14: France | B14: Dijon | C14: Keolis | D14: Citadis 302 | E14: 33 | F14: 2012 | J14: 0 | K14: 2017 ? | L14: HF2A15 | M14: 132 | N14: HS2P20N | O14: 132 | R14: HGE 28U/03 | S14: 99 | T14: HGE28 ANL10 | U14: 33 | V14: Dako | W14: 66
A15: France | B15: Grenoble | C15: Transdev | D15: Citadis 402 | E15: 35 | F15: 2005 | J15: 2010 ? | K15: 2014 | L15: HF2A15 | M15: 140 | N15: HS2P20N | O15: 210 | R15: HGE 28U/03 | S15: 105 | T15: HGE28 ANL04 | U15: 35 | V15: Dako | W15: 105
A16: France | B16: Grenoble | C16: Transdev | D16: Citadis 402 | E16: 15 | F16: 2009 | J16: 2010 ? | K16: 2014 | L16: HF2A15 | M16: 60 | N16: HS2P20N | O16: 90 | R16: HGE 28U/03 | S16: 45 | T16: HGE28 ANL04 | U16: 15 | V16: Dako | W16: 45
A17: France | B17: Le Havre | C17: Transdev | D17: Citadis 302 | E17: 22 | F17: 2012 | J17: 0 | K17: 2017 | L17: 4F-123530 | M17: 88 | N17: 4F-123527 | O17: 88 | R17: HPU 123635 | S17: 66 | T17: HPU 123634 | U17: 22 | W17: 0
A18: France | B18: Le Mans | C18: Keolis | D18: Citadis 302 | E18: 23 | F18: 2007 | J18: 2012 ? | K18: 2016 | L18: HF2A15 | M18: 92 | N18: HS2P20N | O18: 92 | R18: HGE 28U/03 | S18: 69 | T18: HGE28 ANL04 | U18: 23 | V18: Dako | W18: 46
A19: France | B19: Le Mans | C19: Keolis | D19: Citadis 302 | E19: 3 | F19: 2011 | J19: 0 | K19: 2016 ? | L19: HF2A15 | M19: 12 | N19: HS2P20N | O19: 12 | R19: HGE 28U/03 | S19: 9 | T19: HGE28 ANL04 | U19: 3 | V19: Dako | W19: 6
A20: France | B20: Le Mans | C20: Keolis | D20: Citadis 302 | E20: 8 | F20: 2013 | J20: 0 | K20: 2018 ? | L20: HF2A15 | M20: 32 | N20: HS2P20N | O20: 32 | R20: HGE 28U/03 | S20: 24 | T20: HGE28 ANL04 | U20: 8 | V20: Dako | W20: 16
A21: France | B21: Lille | C21: Keolis | D21: Breda | E21: 24 | F21: 1994 | J21: 2009 ? | K21: 2015 ? | L21: HF1 A32 Breda | M21: 96 | N21: HS1 AP28/28ME Breda Bimode | O21: 240 | R21: EH1210 Breda | S21: 48 | T21: EH1211 Breda | U21: 24 | V21: Pompe manuelle ENERPAC | W21: 24
A22: France | B22: Lyon | C22: Keolis | D22: Citadis 302 | E22: 47 | F22: 2000 | J22: 2010 | K22: 2015 | L22: HF2A15 | M22: 188 | N22: HS2P20N | O22: 188 | R22: HGD-14PR/01 | S22: 94 | T22: HGE28 ANL01 | U22: 47 | V22: EDHL/503 | W22: 94
A23: France | B23: Lyon | C23: Keolis | D23: Citadis 302 | E23: 10 | F23: 2006 | J23: 2011 | K23: 2016 | L23: HF2A15 | M23: 40 | N23: HS2P20N | O23: 40 | R23: HGD-14PR/01 | S23: 20 | T23: HGE28 ANL01 | U23: 10 | V23: EDHL/503 | W23: 20
A24: France | B24: Lyon | C24: Keolis | D24: Citadis 302 | E24: 13 | F24: 2009 | J24: 0 | K24: 2014 | L24: HF2A15 | M24: 52 | N24: HS2P20N | O24: 52 | R24: HGD-14PR/01 | S24: 26 | T24: HGE28 ANL01 | U24: 13 | V24: EDHL/503 | W24: 26
A25: France | B25: Lyon | C25: Keolis | D25: Citadis 302 | E25: 3 | F25: 2010 | J25: 0 | K25: 2015 | L25: HF2A15 | M25: 12 | N25: HS2P20N | O25: 12 | R25: HGD-14PR/01 | S25: 6 | T25: HGE28 ANL01 | U25: 3 | V25: EDHL/503 | W25: 6
A26: France | B26: Lyon | C26: Keolis | D26: Citadis 402 | E26: 6 | F26: 2012 | J26: 0 | K26: 2017 | L26: HF2A15 | M26: 24 | N26: HS2P20N | O26: 36 | R26: HGE 28U/03 | S26: 18 | T26: HGE28 ANL01 | U26: 6 | V26: Accumulateur hydraulique | W26: 6
A27: France | B27: Lyon | C27: Keolis | D27: Citadis 402 | E27: 6 | F27: 2013 | J27: 0 | K27: 2018 | L27: HF2A15 | M27: 24 | N27: HS2P20N | O27: 36 | R27: HGE 28U/03 | S27: 18 | T27: HGE28 ANL01 | U27: 6 | V27: Accumulateur hydraulique | W27: 6
A28: France | B28: Marseille | C28: RTM | D28: Flexity Outlook | E28: 26 | F28: 2007 | J28: 2012 ? | K28: 2014 | M28: 0 | N28: 4F-123423 | O28: 208 | R28: HPU ? | S28: 78
A29: France | B29: Montpellier | C29: Transdev | D29: Citadis 401 | E29: 30 | F29: 2000 | J29: 2010 | K29: 2015 | L29: HF2A15 | M29: 120 | N29: HH1P40N | O29: 120 | R29: HGD-14PR/01 | S29: 90 | T29: HGE28 ANL01 | U29: 30 | V29: EDHL/503 + Dako sur nacelle motorisée
A30: France | B30: Montpellier | C30: Transdev | D30: 0 | J30: 2010 | K30: 2015 | N30: HS2P20N | O30: 60
A31: France | B31: Montpellier | C31: Transdev | D31: Citadis 302 | E31: 27 | F31: 2006 | J31: 2015 | K31: 2021 | L31: HF2A15 | M31: 108 | N31: HS2P20N | O31: 108 | R31: HGE 28U/03 | S31: 54 | T31: HGE28 ANL01 | U31: 27 | V31: Dako | W31: 54
A32: France | B32: Montpellier | C32: Transdev | D32: Citadis 402 | E32: 26 | F32: 2012 | J32: 0 | K32: 2017 | L32: HF2A15 | M32: 104 | N32: HS2P20N | O32: 156 | R32: HGE 28U/03 | S32: 78 | T32: HGE28 ANL10 | U32: 26 | V32: intégrée a la centrale BM
A33: France | B33: Mulhouse | C33: Transdev | D33: Citadis 302 | E33: 27 | F33: 2005 | J33: 2011 ? | K33: 2017 ? | L33: HF2A15 | M33: 108 | N33: HS2P20N | O33: 108 | R33: HGE 28U/03 | S33: 81 | T33: HGE28 ANL01 | U33: 27 | V33: Dako | W33: 54
A34: France | B34: Nantes | C34: Keolis | D34: Citadis Dualis | E34: 15 | F34: 2011 | J34: 0 | K34: 2016 | L34: HCE1P32W | M34: 120 | N34: HCE1P32W | O34: 90 | R34: HGE-28PN/01 | S34: 45 | T34: HGE-28PN/02 | U34: 30 | V34: EDHL 605/01 | W34: 75
A35: France | B35: Nantes | C35: Keolis | D35: Citadis Dualis | E35: 8 | F35: 2014 | J35: 2014 | K35: 2019 | L35: HCE1P32W | M35: 64 | N35: HCE1P32W | O35: 48 | R35: HGE-28PN/01 | S35: 24 | T35: HGE-28PN/02 | U35: 16 | V35: EDHL 605/01 | W35: 40
A36: France | B36: Nice | C36: Nice Métropole | D36: Citadis 302 | E36: 20 | F36: 2007 | J36: 2012 | K36: 2019 | L36: HF2A15 | M36: 80 | N36: HS2P20N | O36: 80 | R36: HGE 28U/03 | S36: 60 | T36: HGE28 ANL01 | U36: 20
A37: France | B37: Nice | C37: Nice Métropole | D37: Citadis 302 | E37: 8 | F37: 2010 | J37: 0 | K37: 2015 ? | L37: HF2A15 | M37: 32 | N37: HS2P20N | O37: 32 | R37: HGE 28U/03 | S37: 24 | T37: HGE28 ANL01 | U37: 8
A38: France | B38: Orléans | C38: Keolis | D38: Citadis 301 | E38: 12 | F38: 2001 | J38: 2011 | K38: 2016 | L38: HF2A15 | M38: 48 | N38: HS2P20N | O38: 48 | R38: HGD-14PR/01 | S38: 24 | T38: HGE28 ANL01 | U38: 12 | V38: EDHL/503 | W38: 24
A39: France | B39: Orléans | C39: Keolis | D39: Citadis 302 | E39: 21 | F39: 2011 | J39: 0 | K39: 2016 | L39: 4F-123530 | M39: 84 | N39: 4F-123527 | O39: 84 | R39: HPU 123635 | S39: 42 | T39: HPU 123634 | U39: 21
A40: France | B40: Paris | C40: RATP | D40: Citadis 302 | E40: 13 | F40: 2002 | G40: RATP | H40: RATP | J40: 2012 ? | K40: 2016 ? | L40: HF2A15 | M40: 52 | N40: HS2P20N | O40: 52 | R40: HGE 28U/03 | S40: 39 | T40: HGE28 ANL01 | U40: 13 | W40: 13
A41: France | B41: Paris | C41: RATP | D41: Citadis 302 | E41: 13 | F41: 2003 | G41: RATP | H41: RATP | J41: 2013 ? | K41: 2018 ? | L41: HF2A15 | M41: 52 | N41: HS2P20N | O41: 52 | R41: HGE 28U/03 | S41: 39 | T41: HGE28 ANL01 | U41: 13 | W41: 13
A42: France | B42: Paris | C42: RATP | D42: Citadis 302 | E42: 8 | F42: 2008 | G42: RATP | H42: RATP | J42: 2013 ? | K42: 2018 ? | L42: HF2A15 | M42: 32 | N42: HS2P20N | O42: 32 | R42: HGE 28U/03 | S42: 24 | T42: HGE28 ANL01 | U42: 8 | W42: 8
A43: France | B43: Paris | C43: RATP | D43: Citadis 302 | E43: 8 | F43: 2009 | G43: RATP | H43: RATP | J43: 2014 ? | K43: 2019 ? | L43: HF2A15 | M43: 32 | N43: HS2P20N | O43: 32 | R43: HGE 28U/03 | S43: 24 | T43: HGE28 ANL01 | U43: 8 | W43: 8
A44: France | B44: Paris | C44: RATP | D44: Citadis 302 | E44: 9 | F44: 2011 | G44: RATP | H44: RATP | J44: 0 | K44: 2016 ? | L44: HF2A15 | M44: 36 | N44: HS2P20N | O44: 36 | R44: HGE 28U/03 | S44: 27 | T44: HGE28 ANL01 | U44: 9 | W44: 9
A45: France | B45: Paris | C45: RATP | D45: Citadis 302 | E45: 9 | F45: 2012 | G45: RATP | H45: RATP | J45: 0 | K45: 2016 ? | L45: HF2A15 | M45: 36 | N45: HS2P20N | O45: 36 | R45: HGE 28U/03 | S45: 27 | T45: HGE28 ANL01 | U45: 9 | W45: 9
A46: France | B46: Paris | C46: RATP | D46: Citadis 302 | E46: 19 | F46: 2013 | G46: RATP | H46: RATP | J46: 0 | K46: 2018 ? | L46: HF2A15 | M46: 76 | N46: HS2P20N | O46: 76 | R46: HGE 28U/03 | S46: 57 | T46: HGE28 ANL01 | U46: 19 | W46: 19
A47: France | B47: Paris | C47: RATP | D47: Citadis 302 | E47: 20 | F47: 2014 | G47: RATP | H47: RATP | J47: 0 | K47: 2019 ? | L47: HF2A15 | M47: 80 | N47: HS2P20N | O47: 80 | R47: HGE 28U/03 | S47: 60 | T47: HGE28 ANL01 | U47: 20 | W47: 20
A48: France | B48: Paris | C48: RATP | D48: Citadis 402 | E48: 10 | F48: 2005 | G48: RATP | H48: RATP | J48: 2010 ? | K48: 2015 ? | L48: HF2A15 | M48: 40 | N48: HS2P20N | O48: 60 | R48: HGE 28U/03 | S48: 30 | T48: HGE28 ANL04 | U48: 10 | W48: 10
A49: France | B49: Paris | C49: RATP | D49: Citadis 402 | E49: 11 | F49: 2006 | G49: RATP | H49: RATP | J49: 2011 ? | K49: 2016 ? | L49: HF2A15 | M49: 44 | N49: HS2P20N | O49: 66 | R49: HGE 28U/03 | S49: 33 | T49: HGE28 ANL04 | U49: 11 | W49: 11
A50: France | B50: Paris | C50: RATP | D50: Citadis 402 | E50: 12 | F50: 2012 | G50: RATP | H50: RATP | J50: 0 | K50: 2017 ? | L50: HF2A15 | M50: 48 | N50: HS2P20N | O50: 72 | R50: HGE 28U/03 | S50: 36 | T50: HGE28 ANL04 | U50: 12 | W50: 12
A51: France | B51: Paris | C51: RATP | D51: Citadis 402 | E51: 12 | F51: 2013 | G51: RATP | H51: RATP | J51: 0 | K51: 2018 ? | L51: HF2A15 | M51: 48 | N51: HS2P20N | O51: 72 | R51: HGE 28U/03 | S51: 36 | T51: HGE28 ANL04 | U51: 12 | W51: 12
A52: France | B52: Reims | C52: Transdev | D52: Citadis 302 | E52: 18 | F52: 2010 | I52: MOBIL SHC524 | J52: 0 | K52: 2015 | L52: 4F-123530 | M52: 72 | N52: 4F-123527 | O52: 72 | R52: HPU 123635 | S52: 36 | T52: HPU 123634 | U52: 18 | W52: 0
A53: France | B53: Rouen | C53: Transdev | D53: Citadis 402 | E53: 27 | F53: 2013 | J53: 0 | K53: 2018 ? | L53: HF2A15 | M53: 108 | N53: HS2P20N | O53: 162 | R53: HGE 28U/03 | S53: 81 | T53: HGE28 ANL04 | U53: 27 | V53: Dako | W53: 81
A54: France | B54: Strasbourg | C54: Keolis | D54: Citadis 403 | E54: 41 | F54: 2006 | I54: Esso Univis J26 | J54: 2011 | K54: 2019 | L54: HF2A15 | M54: 164 | N54: HS2P20N | O54: 246 | R54: HGE 28U/03 | S54: 123 | T54: HGE28 ANL04 | U54: 41 | V54: Dako | W54: 123
A55: France | B55: Toulouse | C55: Tisséo | D55: Citadis 302 | E55: 24 | F55: 2009 | I55: Mobil SHC 525 | J55: 0 | K55: 2019 | L55: 4F-123530 | M55: 96 | N55: 4F-123527 | O55: 96 | R55: 0 | S55: 48 | T55: HPU 123634 | U55: 24
A56: France | B56: Tours | C56: Keolis | D56: Citadis 402 | E56: 21 | F56: 2012 | J56: 0 | K56: 2017 ? | M56: 0
A57: France | B57: Valenciennes | C57: Transdev | D57: Citadis 302 | E57: 21 | F57: 2006 | J57: 2011 ? | K57: 2016 ? | L57: HF2A15 | M57: 84 | N57: HS2P20N | O57: 84 | R57: HGE 28U/03 | S57: 63 | T57: HGE28 ANL01 | U57: 21
A58: France | B58: Valenciennes | C58: Transdev | D58: Citadis 302 | E58: 9 | F58: 2013 | J58: 0 | K58: 2019 | L58: HF2A15 | M58: 36 | N58: HS2P20N | O58: 36 | R58: HGE 28U/03 | S58: 27 | T58: HGE28 ANL01 | U58: 9

Sheet mise en forme
A1: faire une liste de ville sans doublon de feuille "données Tram"
A2: Liste Pays | B2: France w doubl | E2: UK w Doubl | L2: =IF(ROWS($L$1:$L1)<=COUNTIF('Données Tram'!$B$2:$W$58,'Feuille de travail'!$C$3),INDEX('Données Tram'!$D$2:$D$58,SMALL(IF('Données Tram'!$D$2:$D$58='Feuille de travail'!$C$3,ROW(INDIRECT("1:"&ROWS('Données Tram'!$D$2:$D$58)))),ROWS($L$1:$L1))),"") -> Citadis 302
D3: France | E3: Toto | F3: titi | G3: Uk | J3: France | L3: =IF(ROWS($L$1:$L2)<=COUNTIF('Données Tram'!$B$2:$W$58,'Feuille de travail'!$C$3),INDEX('Données Tram'!$D$2:$D$58,SMALL(IF('Données Tram'!$D$2:$D$58='Feuille de travail'!$C$3,ROW(INDIRECT("1:"&ROWS('Données Tram'!$D$2:$D$58)))),ROWS($L$1:$L2))),"") -> #NUM!
A4: France | B4: =IF('Données Tram'!A2="France",IF('Données Tram'!$B2=0,"",'Données Tram'!$B2),"") -> Angers | C4: =IF(B4="","",IF(COUNTIF(B$4:B4,B4)>1,"",MAX($C$1:$C1)+1)) -> 1 | D4: =IF(ROWS($C$4:$C4)>MAX($C$4:$C$82),"",OFFSET($B$4,MATCH(ROWS($C$4:$C4),$C$4:$C$82,0)-1,0)) -> Angers | E4: =IF('Données Tram'!A2="Uk",IF('Données Tram'!$B2=0,"",'Données Tram'!$B2),"") | F4: =IF(E4="","",IF(COUNTIF(E$4:E4,E4)>1,"",MAX($F$1:$F1)+1)) | G4: =IF(ROWS($F$4:$F4)>MAX($F$4:$F$82),"",OFFSET($E$4,MATCH(ROWS($F$4:$F4),$F$4:$F$82,0)-1,0)) | J4: Uk | L4: =IF(ROWS($L$1:$L3)<=COUNTIF('Données Tram'!$B$2:$W$58,'Feuille de travail'!$C$3),INDEX('Données Tram'!$D$2:$D$58,SMALL(IF('Données Tram'!$D$2:$D$58='Feuille de travail'!$C$3,ROW(INDIRECT("1:"&ROWS('Données Tram'!$D$2:$D$58)))),ROWS($L$1:$L3))),"") -> #NUM!
A5: Algérie | B5: =IF('Données Tram'!A3="France",IF('Données Tram'!$B3=0,"",'Données Tram'!$B3),"") -> Aubagne | C5: =IF(B5="","",IF(COUNTIF(B$4:B5,B5)>1,"",MAX($C$4:$C4)+1)) -> 2 | D5: =IF(ROWS($C$4:$C5)>MAX($C$4:$C$82),"",OFFSET($B$4,MATCH(ROWS($C$4:$C5),$C$4:$C$82,0)-1,0)) -> Aubagne | E5: =IF('Données Tram'!A3="Uk",IF('Données Tram'!$B3=0,"",'Données Tram'!$B3),"") | F5: =IF(E5="","",IF(COUNTIF(E$4:E5,E5)>1,"",MAX($F$1:$F4)+1)) | G5: =IF(ROWS($F$4:$F5)>MAX($F$4:$F$82),"",OFFSET($E$4,MATCH(ROWS($F$4:$F5),$F$4:$F$82,0)-1,0)) | J5: Toto | L5: =IF(ROWS($L$1:$L4)<=COUNTIF('Données Tram'!$B$2:$W$58,'Feuille de travail'!$C$3),INDEX('Données Tram'!$D$2:$D$58,SMALL(IF('Données Tram'!$D$2:$D$58='Feuille de travail'!$C$3,ROW(INDIRECT("1:"&ROWS('Données Tram'!$D$2:$D$58)))),ROWS($L$1:$L4))),"") -> #NUM!
A6: Allemagne | B6: =IF('Données Tram'!A4="France",IF('Données Tram'!$B4=0,"",'Données Tram'!$B4),"") -> Avignon | C6: =IF(B6="","",IF(COUNTIF(B$4:B6,B6)>1,"",MAX($C$1:$C5)+1)) -> 3 | D6: =IF(ROWS($C$4:$C6)>MAX($C$4:$C$82),"",OFFSET($B$4,MATCH(ROWS($C$4:$C6),$C$4:$C$82,0)-1,0)) -> Avignon | E6: =IF('Données Tram'!A4="Uk",IF('Données Tram'!$B4=0,"",'Données Tram'!$B4),"") | F6: =IF(E6="","",IF(COUNTIF(E$4:E6,E6)>1,"",MAX($F$1:$F5)+1)) | G6: =IF(ROWS($F$4:$F6)>MAX($F$4:$F$82),"",OFFSET($E$4,MATCH(ROWS($F$4:$F6),$F$4:$F$82,0)-1,0)) | J6: Titi | L6: =IF(ROWS($L$1:$L5)<=COUNTIF('Données Tram'!$B$2:$W$58,'Feuille de travail'!$C$3),INDEX('Données Tram'!$D$2:$D$58,SMALL(IF('Données Tram'!$D$2:$D$58='Feuille de travail'!$C$3,ROW(INDIRECT("1:"&ROWS('Données Tram'!$D$2:$D$58)))),ROWS($L$1:$L5))),"") -> #NUM!
A7: Belgique | B7: =IF('Données Tram'!A5="France",IF('Données Tram'!$B5=0,"",'Données Tram'!$B5),"") -> Besançon | C7: =IF(B7="","",IF(COUNTIF(B$4:B7,B7)>1,"",MAX($C$1:$C6)+1)) -> 4 | D7: =IF(ROWS($C$4:$C7)>MAX($C$4:$C$82),"",OFFSET($B$4,MATCH(ROWS($C$4:$C7),$C$4:$C$82,0)-1,0)) -> Besançon | E7: =IF('Données Tram'!A5="Uk",IF('Données Tram'!$B5=0,"",'Données Tram'!$B5),"") | F7: =IF(E7="","",IF(COUNTIF(E$4:E7,E7)>1,"",MAX($F$1:$F6)+1)) | G7: =IF(ROWS($F$4:$F7)>MAX($F$4:$F$82),"",OFFSET($E$4,MATCH(ROWS($F$4:$F7),$F$4:$F$82,0)-1,0)) | L7: =IF(ROWS($L$1:$L6)<=COUNTIF('Données Tram'!$B$2:$W$58,'Feuille de travail'!$C$3),INDEX('Données Tram'!$D$2:$D$58,SMALL(IF('Données Tram'!$D$2:$D$58='Feuille de travail'!$C$3,ROW(INDIRECT("1:"&ROWS('Données Tram'!$D$2:$D$58)))),ROWS($L$1:$L6))),"") -> #NUM!
A8: Bulgarie | B8: =IF('Données Tram'!A6="France",IF('Données Tram'!$B6=0,"",'Données Tram'!$B6),"") -> Bordeaux | C8: =IF(B8="","",IF(COUNTIF(B$4:B8,B8)>1,"",MAX($C$1:$C7)+1)) -> 5 | D8: =IF(ROWS($C$4:$C8)>MAX($C$4:$C$82),"",OFFSET($B$4,MATCH(ROWS($C$4:$C8),$C$4:$C$82,0)-1,0)) -> Bordeaux | E8: =IF('Données Tram'!A6="Uk",IF('Données Tram'!$B6=0,"",'Données Tram'!$B6),"") | F8: =IF(E8="","",IF(COUNTIF(E$4:E8,E8)>1,"",MAX($F$1:$F7)+1)) | G8: =IF(ROWS($F$4:$F8)>MAX($F$4:$F$82),"",OFFSET($E$4,MATCH(ROWS($F$4:$F8),$F$4:$F$82,0)-1,0)) | L8: =IF(ROWS($L$1:$L7)<=COUNTIF('Données Tram'!$B$2:$W$58,'Feuille de travail'!$C$3),INDEX('Données Tram'!$D$2:$D$58,SMALL(IF('Données Tram'!$D$2:$D$58='Feuille de travail'!$C$3,ROW(INDIRECT("1:"&ROWS('Données Tram'!$D$2:$D$58)))),ROWS($L$1:$L7))),"") -> #NUM!
A9: Danemark | B9: =IF('Données Tram'!A7="France",IF('Données Tram'!$B7=0,"",'Données Tram'!$B7),"") -> Bordeaux | C9: =IF(B9="","",IF(COUNTIF(B$4:B9,B9)>1,"",MAX($C$1:$C8)+1)) | D9: =IF(ROWS($C$4:$C9)>MAX($C$4:$C$82),"",OFFSET($B$4,MATCH(ROWS($C$4:$C9),$C$4:$C$82,0)-1,0)) -> Brest | E9: =IF('Données Tram'!A7="Uk",IF('Données Tram'!$B7=0,"",'Données Tram'!$B7),"") | F9: =IF(E9="","",IF(COUNTIF(E$4:E9,E9)>1,"",MAX($F$1:$F8)+1)) | G9: =IF(ROWS($F$4:$F9)>MAX($F$4:$F$82),"",OFFSET($E$4,MATCH(ROWS($F$4:$F9),$F$4:$F$82,0)-1,0)) | L9: =IF(ROWS($L$1:$L8)<=COUNTIF('Données Tram'!$B$2:$W$58,'Feuille de travail'!$C$3),INDEX('Données Tram'!$D$2:$D$58,SMALL(IF('Données Tram'!$D$2:$D$58='Feuille de travail'!$C$3,ROW(INDIRECT("1:"&ROWS('Données Tram'!$D$2:$D$58)))),ROWS($L$1:$L8))),"")
A10: Espagne | B10: =IF('Données Tram'!A8="France",IF('Données Tram'!$B8=0,"",'Données Tram'!$B8),"") -> Bordeaux | C10: =IF(B10="","",IF(COUNTIF(B$4:B10,B10)>1,"",MAX($C$1:$C9)+1)) | D10: =IF(ROWS($C$4:$C10)>MAX($C$4:$C$82),"",OFFSET($B$4,MATCH(ROWS($C$4:$C10),$C$4:$C$82,0)-1,0)) -> Dijon | E10: =IF('Données Tram'!A8="Uk",IF('Données Tram'!$B8=0,"",'Données Tram'!$B8),"") | F10: =IF(E10="","",IF(COUNTIF(E$4:E10,E10)>1,"",MAX($F$1:$F9)+1)) | G10: =IF(ROWS($F$4:$F10)>MAX($F$4:$F$82),"",OFFSET($E$4,MATCH(ROWS($F$4:$F10),$F$4:$F$82,0)-1,0)) | L10: =IF(ROWS($L$1:$L9)<=COUNTIF('Données Tram'!$B$2:$W$58,'Feuille de travail'!$C$3),INDEX('Données Tram'!$D$2:$D$58,SMALL(IF('Données Tram'!$D$2:$D$58='Feuille de travail'!$C$3,ROW(INDIRECT("1:"&ROWS('Données Tram'!$D$2:$D$58)))),ROWS($L$1:$L9))),"")
A11: Finlande | B11: =IF('Données Tram'!A9="France",IF('Données Tram'!$B9=0,"",'Données Tram'!$B9),"") -> Bordeaux | C11: =IF(B11="","",IF(COUNTIF(B$4:B11,B11)>1,"",MAX($C$1:$C10)+1)) | D11: =IF(ROWS($C$4:$C11)>MAX($C$4:$C$82),"",OFFSET($B$4,MATCH(ROWS($C$4:$C11),$C$4:$C$82,0)-1,0)) -> Grenoble | E11: =IF('Données Tram'!A9="Uk",IF('Données Tram'!$B9=0,"",'Données Tram'!$B9),"") | F11: =IF(E11="","",IF(COUNTIF(E$4:E11,E11)>1,"",MAX($F$1:$F10)+1)) | G11: =IF(ROWS($F$4:$F11)>MAX($F$4:$F$82),"",OFFSET($E$4,MATCH(ROWS($F$4:$F11),$F$4:$F$82,0)-1,0)) | L11: =IF(ROWS($L$1:$L10)<=COUNTIF('Données Tram'!$B$2:$W$58,'Feuille de travail'!$C$3),INDEX('Données Tram'!$D$2:$D$58,SMALL(IF('Données Tram'!$D$2:$D$58='Feuille de travail'!$C$3,ROW(INDIRECT("1:"&ROWS('Données Tram'!$D$2:$D$58)))),ROWS($L$1:$L10))),"")
A12: France | B12: =IF('Données Tram'!A10="France",IF('Données Tram'!$B10=0,"",'Données Tram'!$B10),"") -> Bordeaux | C12: =IF(B12="","",IF(COUNTIF(B$4:B12,B12)>1,"",MAX($C$1:$C11)+1)) | D12: =IF(ROWS($C$4:$C12)>MAX($C$4:$C$82),"",OFFSET($B$4,MATCH(ROWS($C$4:$C12),$C$4:$C$82,0)-1,0)) -> Le Havre | E12: =IF('Données Tram'!A10="Uk",IF('Données Tram'!$B10=0,"",'Données Tram'!$B10),"") | F12: =IF(E12="","",IF(COUNTIF(E$4:E12,E12)>1,"",MAX($F$1:$F11)+1)) | G12: =IF(ROWS($F$4:$F12)>MAX($F$4:$F$82),"",OFFSET($E$4,MATCH(ROWS($F$4:$F12),$F$4:$F$82,0)-1,0)) | L12: =IF(ROWS($L$1:$L11)<=COUNTIF('Données Tram'!$B$2:$W$58,'Feuille de travail'!$C$3),INDEX('Données Tram'!$D$2:$D$58,SMALL(IF('Données Tram'!$D$2:$D$58='Feuille de travail'!$C$3,ROW(INDIRECT("1:"&ROWS('Données Tram'!$D$2:$D$58)))),ROWS($L$1:$L11))),"")
A13: Grèce | B13: =IF('Données Tram'!A11="France",IF('Données Tram'!$B11=0,"",'Données Tram'!$B11),"") -> Bordeaux | C13: =IF(B13="","",IF(COUNTIF(B$4:B13,B13)>1,"",MAX($C$1:$C12)+1)) | D13: =IF(ROWS($C$4:$C13)>MAX($C$4:$C$82),"",OFFSET($B$4,MATCH(ROWS($C$4:$C13),$C$4:$C$82,0)-1,0)) -> Le Mans | E13: =IF('Données Tram'!A11="Uk",IF('Données Tram'!$B11=0,"",'Données Tram'!$B11),"") | F13: =IF(E13="","",IF(COUNTIF(E$4:E13,E13)>1,"",MAX($F$1:$F12)+1)) | G13: =IF(ROWS($F$4:$F13)>MAX($F$4:$F$82),"",OFFSET($E$4,MATCH(ROWS($F$4:$F13),$F$4:$F$82,0)-1,0)) | L13: =IF(ROWS($L$1:$L12)<=COUNTIF('Données Tram'!$B$2:$W$58,'Feuille de travail'!$C$3),INDEX('Données Tram'!$D$2:$D$58,SMALL(IF('Données Tram'!$D$2:$D$58='Feuille de travail'!$C$3,ROW(INDIRECT("1:"&ROWS('Données Tram'!$D$2:$D$58)))),ROWS($L$1:$L12))),"")
A14: Irelande | B14: =IF('Données Tram'!A12="France",IF('Données Tram'!$B12=0,"",'Données Tram'!$B12),"") -> Bordeaux | C14: =IF(B14="","",IF(COUNTIF(B$4:B14,B14)>1,"",MAX($C$1:$C13)+1)) | D14: =IF(ROWS($C$4:$C14)>MAX($C$4:$C$82),"",OFFSET($B$4,MATCH(ROWS($C$4:$C14),$C$4:$C$82,0)-1,0)) -> Lille | E14: =IF('Données Tram'!A12="Uk",IF('Données Tram'!$B12=0,"",'Données Tram'!$B12),"") | F14: =IF(E14="","",IF(COUNTIF(E$4:E14,E14)>1,"",MAX($F$1:$F13)+1)) | G14: =IF(ROWS($F$4:$F14)>MAX($F$4:$F$82),"",OFFSET($E$4,MATCH(ROWS($F$4:$F14),$F$4:$F$82,0)-1,0)) | L14: =IF(ROWS($L$1:$L13)<=COUNTIF('Données Tram'!$B$2:$W$58,'Feuille de travail'!$C$3),INDEX('Données Tram'!$D$2:$D$58,SMALL(IF('Données Tram'!$D$2:$D$58='Feuille de travail'!$C$3,ROW(INDIRECT("1:"&ROWS('Données Tram'!$D$2:$D$58)))),ROWS($L$1:$L13))),"")
A15: Italie | B15: =IF('Données Tram'!A13="France",IF('Données Tram'!$B13=0,"",'Données Tram'!$B13),"") -> Brest | C15: =IF(B15="","",IF(COUNTIF(B$4:B15,B15)>1,"",MAX($C$1:$C14)+1)) -> 6 | D15: =IF(ROWS($C$4:$C15)>MAX($C$4:$C$82),"",OFFSET($B$4,MATCH(ROWS($C$4:$C15),$C$4:$C$82,0)-1,0)) -> Lyon | E15: =IF('Données Tram'!A13="Uk",IF('Données Tram'!$B13=0,"",'Données Tram'!$B13),"") | F15: =IF(E15="","",IF(COUNTIF(E$4:E15,E15)>1,"",MAX($F$1:$F14)+1)) | G15: =IF(ROWS($F$4:$F15)>MAX($F$4:$F$82),"",OFFSET($E$4,MATCH(ROWS($F$4:$F15),$F$4:$F$82,0)-1,0)) | L15: =IF(ROWS($L$1:$L14)<=COUNTIF('Données Tram'!$B$2:$W$58,'Feuille de travail'!$C$3),INDEX('Données Tram'!$D$2:$D$58,SMALL(IF('Données Tram'!$D$2:$D$58='Feuille de travail'!$C$3,ROW(INDIRECT("1:"&ROWS('Données Tram'!$D$2:$D$58)))),ROWS($L$1:$L14))),"")
A16: Luxembourg | B16: =IF('Données Tram'!A14="France",IF('Données Tram'!$B14=0,"",'Données Tram'!$B14),"") -> Dijon | C16: =IF(B16="","",IF(COUNTIF(B$4:B16,B16)>1,"",MAX($C$1:$C15)+1)) -> 7 | D16: =IF(ROWS($C$4:$C16)>MAX($C$4:$C$82),"",OFFSET($B$4,MATCH(ROWS($C$4:$C16),$C$4:$C$82,0)-1,0)) -> Marseille | E16: =IF('Données Tram'!A14="Uk",IF('Données Tram'!$B14=0,"",'Données Tram'!$B14),"") | F16: =IF(E16="","",IF(COUNTIF(E$4:E16,E16)>1,"",MAX($F$1:$F15)+1)) | G16: =IF(ROWS($F$4:$F16)>MAX($F$4:$F$82),"",OFFSET($E$4,MATCH(ROWS($F$4:$F16),$F$4:$F$82,0)-1,0)) | L16: =IF(ROWS($L$1:$L15)<=COUNTIF('Données Tram'!$B$2:$W$58,'Feuille de travail'!$C$3),INDEX('Données Tram'!$D$2:$D$58,SMALL(IF('Données Tram'!$D$2:$D$58='Feuille de travail'!$C$3,ROW(INDIRECT("1:"&ROWS('Données Tram'!$D$2:$D$58)))),ROWS($L$1:$L15))),"")
A17: Norvège | B17: =IF('Données Tram'!A15="France",IF('Données Tram'!$B15=0,"",'Données Tram'!$B15),"") -> Grenoble | C17: =IF(B17="","",IF(COUNTIF(B$4:B17,B17)>1,"",MAX($C$1:$C16)+1)) -> 8 | D17: =IF(ROWS($C$4:$C17)>MAX($C$4:$C$82),"",OFFSET($B$4,MATCH(ROWS($C$4:$C17),$C$4:$C$82,0)-1,0)) -> Montpellier | E17: =IF('Données Tram'!A15="Uk",IF('Données Tram'!$B15=0,"",'Données Tram'!$B15),"") | F17: =IF(E17="","",IF(COUNTIF(E$4:E17,E17)>1,"",MAX($F$1:$F16)+1)) | G17: =IF(ROWS($F$4:$F17)>MAX($F$4:$F$82),"",OFFSET($E$4,MATCH(ROWS($F$4:$F17),$F$4:$F$82,0)-1,0))
A18: Pays-Bas | B18: =IF('Données Tram'!A16="France",IF('Données Tram'!$B16=0,"",'Données Tram'!$B16),"") -> Grenoble | C18: =IF(B18="","",IF(COUNTIF(B$4:B18,B18)>1,"",MAX($C$1:$C17)+1)) | D18: =IF(ROWS($C$4:$C18)>MAX($C$4:$C$82),"",OFFSET($B$4,MATCH(ROWS($C$4:$C18),$C$4:$C$82,0)-1,0)) -> Mulhouse | E18: =IF('Données Tram'!A16="Uk",IF('Données Tram'!$B16=0,"",'Données Tram'!$B16),"") | F18: =IF(E18="","",IF(COUNTIF(E$4:E18,E18)>1,"",MAX($F$1:$F17)+1)) | G18: =IF(ROWS($F$4:$F18)>MAX($F$4:$F$82),"",OFFSET($E$4,MATCH(ROWS($F$4:$F18),$F$4:$F$82,0)-1,0))
A19: Pologne | B19: =IF('Données Tram'!A17="France",IF('Données Tram'!$B17=0,"",'Données Tram'!$B17),"") -> Le Havre | C19: =IF(B19="","",IF(COUNTIF(B$4:B19,B19)>1,"",MAX($C$1:$C18)+1)) -> 9 | D19: =IF(ROWS($C$4:$C19)>MAX($C$4:$C$82),"",OFFSET($B$4,MATCH(ROWS($C$4:$C19),$C$4:$C$82,0)-1,0)) -> Nantes | E19: =IF('Données Tram'!A17="Uk",IF('Données Tram'!$B17=0,"",'Données Tram'!$B17),"") | F19: =IF(E19="","",IF(COUNTIF(E$4:E19,E19)>1,"",MAX($F$1:$F18)+1)) | G19: =IF(ROWS($F$4:$F19)>MAX($F$4:$F$82),"",OFFSET($E$4,MATCH(ROWS($F$4:$F19),$F$4:$F$82,0)-1,0))
A20: Portugal | B20: =IF('Données Tram'!A18="France",IF('Données Tram'!$B18=0,"",'Données Tram'!$B18),"") -> Le Mans | C20: =IF(B20="","",IF(COUNTIF(B$4:B20,B20)>1,"",MAX($C$1:$C19)+1)) -> 10 | D20: =IF(ROWS($C$4:$C20)>MAX($C$4:$C$82),"",OFFSET($B$4,MATCH(ROWS($C$4:$C20),$C$4:$C$82,0)-1,0)) -> Nice | E20: =IF('Données Tram'!A18="Uk",IF('Données Tram'!$B18=0,"",'Données Tram'!$B18),"") | F20: =IF(E20="","",IF(COUNTIF(E$4:E20,E20)>1,"",MAX($F$1:$F19)+1)) | G20: =IF(ROWS($F$4:$F20)>MAX($F$4:$F$82),"",OFFSET($E$4,MATCH(ROWS($F$4:$F20),$F$4:$F$82,0)-1,0))
A21: république Tcheque | B21: =IF('Données Tram'!A19="France",IF('Données Tram'!$B19=0,"",'Données Tram'!$B19),"") -> Le Mans | C21: =IF(B21="","",IF(COUNTIF(B$4:B21,B21)>1,"",MAX($C$1:$C20)+1)) | D21: =IF(ROWS($C$4:$C21)>MAX($C$4:$C$82),"",OFFSET($B$4,MATCH(ROWS($C$4:$C21),$C$4:$C$82,0)-1,0)) -> Orléans | E21: =IF('Données Tram'!A19="Uk",IF('Données Tram'!$B19=0,"",'Données Tram'!$B19),"") | F21: =IF(E21="","",IF(COUNTIF(E$4:E21,E21)>1,"",MAX($F$1:$F20)+1)) | G21: =IF(ROWS($F$4:$F21)>MAX($F$4:$F$82),"",OFFSET($E$4,MATCH(ROWS($F$4:$F21),$F$4:$F$82,0)-1,0))
A22: Roumanie | B22: =IF('Données Tram'!A20="France",IF('Données Tram'!$B20=0,"",'Données Tram'!$B20),"") -> Le Mans | C22: =IF(B22="","",IF(COUNTIF(B$4:B22,B22)>1,"",MAX($C$1:$C21)+1)) | D22: =IF(ROWS($C$4:$C22)>MAX($C$4:$C$82),"",OFFSET($B$4,MATCH(ROWS($C$4:$C22),$C$4:$C$82,0)-1,0)) -> Paris | E22: =IF('Données Tram'!A20="Uk",IF('Données Tram'!$B20=0,"",'Données Tram'!$B20),"") | F22: =IF(E22="","",IF(COUNTIF(E$4:E22,E22)>1,"",MAX($F$1:$F21)+1)) | G22: =IF(ROWS($F$4:$F22)>MAX($F$4:$F$82),"",OFFSET($E$4,MATCH(ROWS($F$4:$F22),$F$4:$F$82,0)-1,0))
A23: Royaume-unis | B23: =IF('Données Tram'!A21="France",IF('Données Tram'!$B21=0,"",'Données Tram'!$B21),"") -> Lille | C23: =IF(B23="","",IF(COUNTIF(B$4:B23,B23)>1,"",MAX($C$1:$C22)+1)) -> 11 | D23: =IF(ROWS($C$4:$C23)>MAX($C$4:$C$82),"",OFFSET($B$4,MATCH(ROWS($C$4:$C23),$C$4:$C$82,0)-1,0)) -> Reims | E23: =IF('Données Tram'!A21="Uk",IF('Données Tram'!$B21=0,"",'Données Tram'!$B21),"") | F23: =IF(E23="","",IF(COUNTIF(E$4:E23,E23)>1,"",MAX($F$1:$F22)+1)) | G23: =IF(ROWS($F$4:$F23)>MAX($F$4:$F$82),"",OFFSET($E$4,MATCH(ROWS($F$4:$F23),$F$4:$F$82,0)-1,0))
A24: Suède | B24: =IF('Données Tram'!A22="France",IF('Données Tram'!$B22=0,"",'Données Tram'!$B22),"") -> Lyon | C24: =IF(B24="","",IF(COUNTIF(B$4:B24,B24)>1,"",MAX($C$1:$C23)+1)) -> 12 | D24: =IF(ROWS($C$4:$C24)>MAX($C$4:$C$82),"",OFFSET($B$4,MATCH(ROWS($C$4:$C24),$C$4:$C$82,0)-1,0)) -> Rouen | E24: =IF('Données Tram'!A22="Uk",IF('Données Tram'!$B22=0,"",'Données Tram'!$B22),"") | F24: =IF(E24="","",IF(COUNTIF(E$4:E24,E24)>1,"",MAX($F$1:$F23)+1)) | G24: =IF(ROWS($F$4:$F24)>MAX($F$4:$F$82),"",OFFSET($E$4,MATCH(ROWS($F$4:$F24),$F$4:$F$82,0)-1,0))
A25: Suisse | B25: =IF('Données Tram'!A23="France",IF('Données Tram'!$B23=0,"",'Données Tram'!$B23),"") -> Lyon | C25: =IF(B25="","",IF(COUNTIF(B$4:B25,B25)>1,"",MAX($C$1:$C24)+1)) | D25: =IF(ROWS($C$4:$C25)>MAX($C$4:$C$82),"",OFFSET($B$4,MATCH(ROWS($C$4:$C25),$C$4:$C$82,0)-1,0)) -> Strasbourg | E25: =IF('Données Tram'!A23="Uk",IF('Données Tram'!$B23=0,"",'Données Tram'!$B23),"") | F25: =IF(E25="","",IF(COUNTIF(E$4:E25,E25)>1,"",MAX($F$1:$F24)+1)) | G25: =IF(ROWS($F$4:$F25)>MAX($F$4:$F$82),"",OFFSET($E$4,MATCH(ROWS($F$4:$F25),$F$4:$F$82,0)-1,0))
B26: =IF('Données Tram'!A24="France",IF('Données Tram'!$B24=0,"",'Données Tram'!$B24),"") -> Lyon | C26: =IF(B26="","",IF(COUNTIF(B$4:B26,B26)>1,"",MAX($C$1:$C25)+1)) | D26: =IF(ROWS($C$4:$C26)>MAX($C$4:$C$82),"",OFFSET($B$4,MATCH(ROWS($C$4:$C26),$C$4:$C$82,0)-1,0)) -> Toulouse | E26: =IF('Données Tram'!A24="Uk",IF('Données Tram'!$B24=0,"",'Données Tram'!$B24),"") | F26: =IF(E26="","",IF(COUNTIF(E$4:E26,E26)>1,"",MAX($F$1:$F25)+1)) | G26: =IF(ROWS($F$4:$F26)>MAX($F$4:$F$82),"",OFFSET($E$4,MATCH(ROWS($F$4:$F26),$F$4:$F$82,0)-1,0))
B27: =IF('Données Tram'!A25="France",IF('Données Tram'!$B25=0,"",'Données Tram'!$B25),"") -> Lyon | C27: =IF(B27="","",IF(COUNTIF(B$4:B27,B27)>1,"",MAX($C$1:$C26)+1)) | D27: =IF(ROWS($C$4:$C27)>MAX($C$4:$C$82),"",OFFSET($B$4,MATCH(ROWS($C$4:$C27),$C$4:$C$82,0)-1,0)) -> Tours | E27: =IF('Données Tram'!A25="Uk",IF('Données Tram'!$B25=0,"",'Données Tram'!$B25),"") | F27: =IF(E27="","",IF(COUNTIF(E$4:E27,E27)>1,"",MAX($F$1:$F26)+1)) | G27: =IF(ROWS($F$4:$F27)>MAX($F$4:$F$82),"",OFFSET($E$4,MATCH(ROWS($F$4:$F27),$F$4:$F$82,0)-1,0))
B28: =IF('Données Tram'!A26="France",IF('Données Tram'!$B26=0,"",'Données Tram'!$B26),"") -> Lyon | C28: =IF(B28="","",IF(COUNTIF(B$4:B28,B28)>1,"",MAX($C$1:$C27)+1)) | D28: =IF(ROWS($C$4:$C28)>MAX($C$4:$C$82),"",OFFSET($B$4,MATCH(ROWS($C$4:$C28),$C$4:$C$82,0)-1,0)) -> Valenciennes | E28: =IF('Données Tram'!A26="Uk",IF('Données Tram'!$B26=0,"",'Données Tram'!$B26),"") | F28: =IF(E28="","",IF(COUNTIF(E$4:E28,E28)>1,"",MAX($F$1:$F27)+1)) | G28: =IF(ROWS($F$4:$F28)>MAX($F$4:$F$82),"",OFFSET($E$4,MATCH(ROWS($F$4:$F28),$F$4:$F$82,0)-1,0))
B29: =IF('Données Tram'!A27="France",IF('Données Tram'!$B27=0,"",'Données Tram'!$B27),"") -> Lyon | C29: =IF(B29="","",IF(COUNTIF(B$4:B29,B29)>1,"",MAX($C$1:$C28)+1)) | D29: =IF(ROWS($C$4:$C29)>MAX($C$4:$C$82),"",OFFSET($B$4,MATCH(ROWS($C$4:$C29),$C$4:$C$82,0)-1,0)) | E29: =IF('Données Tram'!A27="Uk",IF('Données Tram'!$B27=0,"",'Données Tram'!$B27),"") | F29: =IF(E29="","",IF(COUNTIF(E$4:E29,E29)>1,"",MAX($F$1:$F28)+1)) | G29: =IF(ROWS($F$4:$F29)>MAX($F$4:$F$82),"",OFFSET($E$4,MATCH(ROWS($F$4:$F29),$F$4:$F$82,0)-1,0))
B30: =IF('Données Tram'!A28="France",IF('Données Tram'!$B28=0,"",'Données Tram'!$B28),"") -> Marseille | C30: =IF(B30="","",IF(COUNTIF(B$4:B30,B30)>1,"",MAX($C$1:$C29)+1)) -> 13 | D30: =IF(ROWS($C$4:$C30)>MAX($C$4:$C$82),"",OFFSET($B$4,MATCH(ROWS($C$4:$C30),$C$4:$C$82,0)-1,0)) | E30: =IF('Données Tram'!A28="Uk",IF('Données Tram'!$B28=0,"",'Données Tram'!$B28),"") | F30: =IF(E30="","",IF(COUNTIF(E$4:E30,E30)>1,"",MAX($F$1:$F29)+1)) | G30: =IF(ROWS($F$4:$F30)>MAX($F$4:$F$82),"",OFFSET($E$4,MATCH(ROWS($F$4:$F30),$F$4:$F$82,0)-1,0))
B31: =IF('Données Tram'!A29="France",IF('Données Tram'!$B29=0,"",'Données Tram'!$B29),"") -> Montpellier | C31: =IF(B31="","",IF(COUNTIF(B$4:B31,B31)>1,"",MAX($C$1:$C30)+1)) -> 14 | D31: =IF(ROWS($C$4:$C31)>MAX($C$4:$C$82),"",OFFSET($B$4,MATCH(ROWS($C$4:$C31),$C$4:$C$82,0)-1,0)) | E31: =IF('Données Tram'!A29="Uk",IF('Données Tram'!$B29=0,"",'Données Tram'!$B29),"") | F31: =IF(E31="","",IF(COUNTIF(E$4:E31,E31)>1,"",MAX($F$1:$F30)+1)) | G31: =IF(ROWS($F$4:$F31)>MAX($F$4:$F$82),"",OFFSET($E$4,MATCH(ROWS($F$4:$F31),$F$4:$F$82,0)-1,0))
B32: =IF('Données Tram'!A30="France",IF('Données Tram'!$B30=0,"",'Données Tram'!$B30),"") -> Montpellier | C32: =IF(B32="","",IF(COUNTIF(B$4:B32,B32)>1,"",MAX($C$1:$C31)+1)) | D32: =IF(ROWS($C$4:$C32)>MAX($C$4:$C$82),"",OFFSET($B$4,MATCH(ROWS($C$4:$C32),$C$4:$C$82,0)-1,0)) | E32: =IF('Données Tram'!A30="Uk",IF('Données Tram'!$B30=0,"",'Données Tram'!$B30),"") | F32: =IF(E32="","",IF(COUNTIF(E$4:E32,E32)>1,"",MAX($F$1:$F31)+1)) | G32: =IF(ROWS($F$4:$F32)>MAX($F$4:$F$82),"",OFFSET($E$4,MATCH(ROWS($F$4:$F32),$F$4:$F$82,0)-1,0))
B33: =IF('Données Tram'!A31="France",IF('Données Tram'!$B31=0,"",'Données Tram'!$B31),"") -> Montpellier | C33: =IF(B33="","",IF(COUNTIF(B$4:B33,B33)>1,"",MAX($C$1:$C32)+1)) | D33: =IF(ROWS($C$4:$C33)>MAX($C$4:$C$82),"",OFFSET($B$4,MATCH(ROWS($C$4:$C33),$C$4:$C$82,0)-1,0)) | E33: =IF('Données Tram'!A31="Uk",IF('Données Tram'!$B31=0,"",'Données Tram'!$B31),"") | F33: =IF(E33="","",IF(COUNTIF(E$4:E33,E33)>1,"",MAX($F$1:$F32)+1)) | G33: =IF(ROWS($F$4:$F33)>MAX($F$4:$F$82),"",OFFSET($E$4,MATCH(ROWS($F$4:$F33),$F$4:$F$82,0)-1,0))
B34: =IF('Données Tram'!A32="France",IF('Données Tram'!$B32=0,"",'Données Tram'!$B32),"") -> Montpellier | C34: =IF(B34="","",IF(COUNTIF(B$4:B34,B34)>1,"",MAX($C$1:$C33)+1)) | D34: =IF(ROWS($C$4:$C34)>MAX($C$4:$C$82),"",OFFSET($B$4,MATCH(ROWS($C$4:$C34),$C$4:$C$82,0)-1,0)) | E34: =IF('Données Tram'!A32="Uk",IF('Données Tram'!$B32=0,"",'Données Tram'!$B32),"") | F34: =IF(E34="","",IF(COUNTIF(E$4:E34,E34)>1,"",MAX($F$1:$F33)+1)) | G34: =IF(ROWS($F$4:$F34)>MAX($F$4:$F$82),"",OFFSET($E$4,MATCH(ROWS($F$4:$F34),$F$4:$F$82,0)-1,0))
B35: =IF('Données Tram'!A33="France",IF('Données Tram'!$B33=0,"",'Données Tram'!$B33),"") -> Mulhouse | C35: =IF(B35="","",IF(COUNTIF(B$4:B35,B35)>1,"",MAX($C$1:$C34)+1)) -> 15 | D35: =IF(ROWS($C$4:$C35)>MAX($C$4:$C$82),"",OFFSET($B$4,MATCH(ROWS($C$4:$C35),$C$4:$C$82,0)-1,0)) | E35: =IF('Données Tram'!A33="Uk",IF('Données Tram'!$B33=0,"",'Données Tram'!$B33),"") | F35: =IF(E35="","",IF(COUNTIF(E$4:E35,E35)>1,"",MAX($F$1:$F34)+1)) | G35: =IF(ROWS($F$4:$F35)>MAX($F$4:$F$82),"",OFFSET($E$4,MATCH(ROWS($F$4:$F35),$F$4:$F$82,0)-1,0))
B36: =IF('Données Tram'!A34="France",IF('Données Tram'!$B34=0,"",'Données Tram'!$B34),"") -> Nantes | C36: =IF(B36="","",IF(COUNTIF(B$4:B36,B36)>1,"",MAX($C$1:$C35)+1)) -> 16 | D36: =IF(ROWS($C$4:$C36)>MAX($C$4:$C$82),"",OFFSET($B$4,MATCH(ROWS($C$4:$C36),$C$4:$C$82,0)-1,0)) | E36: =IF('Données Tram'!A34="Uk",IF('Données Tram'!$B34=0,"",'Données Tram'!$B34),"") | F36: =IF(E36="","",IF(COUNTIF(E$4:E36,E36)>1,"",MAX($F$1:$F35)+1)) | G36: =IF(ROWS($F$4:$F36)>MAX($F$4:$F$82),"",OFFSET($E$4,MATCH(ROWS($F$4:$F36),$F$4:$F$82,0)-1,0))
B37: =IF('Données Tram'!A35="France",IF('Données Tram'!$B35=0,"",'Données Tram'!$B35),"") -> Nantes | C37: =IF(B37="","",IF(COUNTIF(B$4:B37,B37)>1,"",MAX($C$1:$C36)+1)) | D37: =IF(ROWS($C$4:$C37)>MAX($C$4:$C$82),"",OFFSET($B$4,MATCH(ROWS($C$4:$C37),$C$4:$C$82,0)-1,0)) | E37: =IF('Données Tram'!A35="Uk",IF('Données Tram'!$B35=0,"",'Données Tram'!$B35),"") | F37: =IF(E37="","",IF(COUNTIF(E$4:E37,E37)>1,"",MAX($F$1:$F36)+1)) | G37: =IF(ROWS($F$4:$F37)>MAX($F$4:$F$82),"",OFFSET($E$4,MATCH(ROWS($F$4:$F37),$F$4:$F$82,0)-1,0))
... B86: =IF('Données Tram'!A84="France",IF('Données Tram'!$B84=0,"",'Données Tram'!$B84),"") | C86: =IF(B86="","",IF(COUNTIF(B$4:B86,B86)>1,"",MAX($C$1:$C85)+1)) | D86: =IF(ROWS($C$4:$C86)>MAX($C$4:$C$82),"",OFFSET($B$4,MATCH(ROWS($C$4:$C86),$C$4:$C$82,0)-1,0)) | E86: =IF('Données Tram'!A84="Uk",IF('Données Tram'!$B84=0,"",'Données Tram'!$B84),"") | F86: =IF(E86="","",IF(COUNTIF(E$4:E86,E86)>1,"",MAX($F$1:$F85)+1)) | G86: =IF(ROWS($F$4:$F86)>MAX($F$4:$F$82),"",OFFSET($E$4,MATCH(ROWS($F$4:$F86),$F$4:$F$82,0)-1,0))
B87: =IF('Données Tram'!A85="France",IF('Données Tram'!$B85=0,"",'Données Tram'!$B85),"") | C87: =IF(B87="","",IF(COUNTIF(B$4:B87,B87)>1,"",MAX($C$1:$C86)+1)) | D87: =IF(ROWS($C$4:$C87)>MAX($C$4:$C$42),"",OFFSET($B$4,MATCH(ROWS($C$4:$C87),$C$4:$C$42,0)-1,0)) | E87: =IF('Données Tram'!A85="Uk",IF('Données Tram'!$B85=0,"",'Données Tram'!$B85),"") | F87: =IF(E87="","",IF(COUNTIF(E$4:E87,E87)>1,"",MAX($F$1:$F86)+1)) | G87: =IF(ROWS($F$4:$F87)>MAX($F$4:$F$82),"",OFFSET($E$4,MATCH(ROWS($F$4:$F87),$F$4:$F$82,0)-1,0))
B88: =IF('Données Tram'!A86="France",IF('Données Tram'!$B86=0,"",'Données Tram'!$B86),"") | C88: =IF(B88="","",IF(COUNTIF(B$4:B88,B88)>1,"",MAX($C$1:$C87)+1)) | D88: =IF(ROWS($C$4:$C88)>MAX($C$4:$C$42),"",OFFSET($B$4,MATCH(ROWS($C$4:$C88),$C$4:$C$42,0)-1,0)) | E88: =IF('Données Tram'!A86="Uk",IF('Données Tram'!$B86=0,"",'Données Tram'!$B86),"") | F88: =IF(E88="","",IF(COUNTIF(E$4:E88,E88)>1,"",MAX($F$1:$F87)+1)) | G88: =IF(ROWS($F$4:$F88)>MAX($F$4:$F$82),"",OFFSET($E$4,MATCH(ROWS($F$4:$F88),$F$4:$F$82,0)-1,0))
B89: =IF('Données Tram'!A87="France",IF('Données Tram'!$B87=0,"",'Données Tram'!$B87),"") | C89: =IF(B89="","",IF(COUNTIF(B$4:B89,B89)>1,"",MAX($C$1:$C88)+1)) | E89: =IF('Données Tram'!A87="Uk",IF('Données Tram'!$B87=0,"",'Données Tram'!$B87),"") | F89: =IF(E89="","",IF(COUNTIF(E$4:E89,E89)>1,"",MAX($F$1:$F88)+1)) | G89: =IF(ROWS($F$4:$F89)>MAX($F$4:$F$82),"",OFFSET($E$4,MATCH(ROWS($F$4:$F89),$F$4:$F$82,0)-1,0))
B90: =IF('Données Tram'!A88="France",IF('Données Tram'!$B88=0,"",'Données Tram'!$B88),"") | C90: =IF(B90="","",IF(COUNTIF(B$4:B90,B90)>1,"",MAX($C$1:$C89)+1)) | E90: =IF('Données Tram'!A88="Uk",IF('Données Tram'!$B88=0,"",'Données Tram'!$B88),"") | F90: =IF(E90="","",IF(COUNTIF(E$4:E90,E90)>1,"",MAX($F$1:$F89)+1)) | G90: =IF(ROWS($F$4:$F90)>MAX($F$4:$F$82),"",OFFSET($E$4,MATCH(ROWS($F$4:$F90),$F$4:$F$82,0)-1,0))
B91: =IF('Données Tram'!A89="France",IF('Données Tram'!$B89=0,"",'Données Tram'!$B89),"") | C91: =IF(B91="","",IF(COUNTIF(B$4:B91,B91)>1,"",MAX($C$1:$C90)+1)) | E91: =IF('Données Tram'!A89="Uk",IF('Données Tram'!$B89=0,"",'Données Tram'!$B89),"") | F91: =IF(E91="","",IF(COUNTIF(E$4:E91,E91)>1,"",MAX($F$1:$F90)+1)) | G91: =IF(ROWS($F$4:$F91)>MAX($F$4:$F$82),"",OFFSET($E$4,MATCH(ROWS($F$4:$F91),$F$4:$F$82,0)-1,0))
B92: =IF('Données Tram'!A90="France",IF('Données Tram'!$B90=0,"",'Données Tram'!$B90),"") | C92: =IF(B92="","",IF(COUNTIF(B$4:B92,B92)>1,"",MAX($C$1:$C91)+1)) | E92: =IF('Données Tram'!A90="Uk",IF('Données Tram'!$B90=0,"",'Données Tram'!$B90),"") | F92: =IF(E92="","",IF(COUNTIF(E$4:E92,E92)>1,"",MAX($F$1:$F91)+1)) | G92: =IF(ROWS($F$4:$F92)>MAX($F$4:$F$82),"",OFFSET($E$4,MATCH(ROWS($F$4:$F92),$F$4:$F$82,0)-1,0))
B93: =IF('Données Tram'!A91="France",IF('Données Tram'!$B91=0,"",'Données Tram'!$B91),"") | E93: =IF('Données Tram'!A91="Uk",IF('Données Tram'!$B91=0,"",'Données Tram'!$B91),"") | F93: =IF(E93="","",IF(COUNTIF(E$4:E93,E93)>1,"",MAX($F$1:$F92)+1)) | G93: =IF(ROWS($F$4:$F93)>MAX($F$4:$F$82),"",OFFSET($E$4,MATCH(ROWS($F$4:$F93),$F$4:$F$82,0)-1,0))
B94: =IF('Données Tram'!A92="France",IF('Données Tram'!$B92=0,"",'Données Tram'!$B92),"") | E94: =IF('Données Tram'!A92="Uk",IF('Données Tram'!$B92=0,"",'Données Tram'!$B92),"") | F94: =IF(E94="","",IF(COUNTIF(E$4:E94,E94)>1,"",MAX($F$1:$F93)+1)) | G94: =IF(ROWS($F$4:$F94)>MAX($F$4:$F$82),"",OFFSET($E$4,MATCH(ROWS($F$4:$F94),$F$4:$F$82,0)-1,0))
B95: =IF('Données Tram'!A93="France",IF('Données Tram'!$B93=0,"",'Données Tram'!$B93),"") | E95: =IF('Données Tram'!A93="Uk",IF('Données Tram'!$B93=0,"",'Données Tram'!$B93),"") | F95: =IF(E95="","",IF(COUNTIF(E$4:E95,E95)>1,"",MAX($F$1:$F94)+1)) | G95: =IF(ROWS($F$4:$F95)>MAX($F$4:$F$82),"",OFFSET($E$4,MATCH(ROWS($F$4:$F95),$F$4:$F$82,0)-1,0))
B96: =IF('Données Tram'!A94="France",IF('Données Tram'!$B94=0,"",'Données Tram'!$B94),"") | E96: =IF('Données Tram'!A94="Uk",IF('Données Tram'!$B94=0,"",'Données Tram'!$B94),"") | F96: =IF(E96="","",IF(COUNTIF(E$4:E96,E96)>1,"",MAX($F$1:$F95)+1)) | G96: =IF(ROWS($F$4:$F96)>MAX($F$4:$F$82),"",OFFSET($E$4,MATCH(ROWS($F$4:$F96),$F$4:$F$82,0)-1,0))
B97: =IF('Données Tram'!A95="France",IF('Données Tram'!$B95=0,"",'Données Tram'!$B95),"") | E97: =IF('Données Tram'!A95="Uk",IF('Données Tram'!$B95=0,"",'Données Tram'!$B95),"") | F97: =IF(E97="","",IF(COUNTIF(E$4:E97,E97)>1,"",MAX($F$1:$F96)+1)) | G97: =IF(ROWS($F$4:$F97)>MAX($F$4:$F$82),"",OFFSET($E$4,MATCH(ROWS($F$4:$F97),$F$4:$F$82,0)-1,0))
B98: =IF('Données Tram'!A96="France",IF('Données Tram'!$B96=0,"",'Données Tram'!$B96),"") | E98: =IF('Données Tram'!A96="Uk",IF('Données Tram'!$B96=0,"",'Données Tram'!$B96),"") | F98: =IF(E98="","",IF(COUNTIF(E$4:E98,E98)>1,"",MAX($F$1:$F97)+1)) | G98: =IF(ROWS($F$4:$F98)>MAX($F$4:$F$82),"",OFFSET($E$4,MATCH(ROWS($F$4:$F98),$F$4:$F$82,0)-1,0))
B99: =IF('Données Tram'!A97="France",IF('Données Tram'!$B97=0,"",'Données Tram'!$B97),"") | E99: =IF('Données Tram'!A97="Uk",IF('Données Tram'!$B97=0,"",'Données Tram'!$B97),"") | F99: =IF(E99="","",IF(COUNTIF(E$4:E99,E99)>1,"",MAX($F$1:$F98)+1)) | G99: =IF(ROWS($F$4:$F99)>MAX($F$4:$F$82),"",OFFSET($E$4,MATCH(ROWS($F$4:$F99),$F$4:$F$82,0)-1,0))
B100: =IF('Données Tram'!A98="France",IF('Données Tram'!$B98=0,"",'Données Tram'!$B98),"") | E100: =IF('Données Tram'!A98="Uk",IF('Données Tram'!$B98=0,"",'Données Tram'!$B98),"") | F100: =IF(E100="","",IF(COUNTIF(E$4:E100,E100)>1,"",MAX($F$1:$F99)+1)) | G100: =IF(ROWS($F$4:$F100)>MAX($F$4:$F$82),"",OFFSET($E$4,MATCH(ROWS($F$4:$F100),$F$4:$F$82,0)-1,0))
B101: =IF('Données Tram'!A99="France",IF('Données Tram'!$B99=0,"",'Données Tram'!$B99),"") | E101: =IF('Données Tram'!A99="Uk",IF('Données Tram'!$B99=0,"",'Données Tram'!$B99),"") | F101: =IF(E101="","",IF(COUNTIF(E$4:E101,E101)>1,"",MAX($F$1:$F100)+1)) | G101: =IF(ROWS($F$4:$F101)>MAX($F$4:$F$82),"",OFFSET($E$4,MATCH(ROWS($F$4:$F101),$F$4:$F$82,0)-1,0))
B102: =IF('Données Tram'!A100="France",IF('Données Tram'!$B100=0,"",'Données Tram'!$B100),"") | E102: =IF('Données Tram'!A100="Uk",IF('Données Tram'!$B100=0,"",'Données Tram'!$B100),"") | F102: =IF(E102="","",IF(COUNTIF(E$4:E102,E102)>1,"",MAX($F$1:$F101)+1)) | G102: =IF(ROWS($F$4:$F102)>MAX($F$4:$F$82),"",OFFSET($E$4,MATCH(ROWS($F$4:$F102),$F$4:$F$82,0)-1,0))
B103: =IF('Données Tram'!A101="France",IF('Données Tram'!$B101=0,"",'Données Tram'!$B101),"") | E103: =IF('Données Tram'!A101="Uk",IF('Données Tram'!$B101=0,"",'Données Tram'!$B101),"") | F103: =IF(E103="","",IF(COUNTIF(E$4:E103,E103)>1,"",MAX($F$1:$F102)+1)) | G103: =IF(ROWS($F$4:$F103)>MAX($F$4:$F$82),"",OFFSET($E$4,MATCH(ROWS($F$4:$F103),$F$4:$F$82,0)-1,0))
B104: =IF('Données Tram'!A102="France",IF('Données Tram'!$B102=0,"",'Données Tram'!$B102),"") | E104: =IF('Données Tram'!A102="Uk",IF('Données Tram'!$B102=0,"",'Données Tram'!$B102),"") | F104: =IF(E104="","",IF(COUNTIF(E$4:E104,E104)>1,"",MAX($F$1:$F103)+1)) | G104: =IF(ROWS($F$4:$F104)>MAX($F$4:$F$82),"",OFFSET($E$4,MATCH(ROWS($F$4:$F104),$F$4:$F$82,0)-1,0))
... B150: =IF('Données Tram'!A148="France",IF('Données Tram'!$B148=0,"",'Données Tram'!$B148),"") | E150: =IF('Données Tram'!A148="Uk",IF('Données Tram'!$B148=0,"",'Données Tram'!$B148),"") | F150: =IF(E150="","",IF(COUNTIF(E$4:E150,E150)>1,"",MAX($F$1:$F149)+1)) | G150: =IF(ROWS($F$4:$F150)>MAX($F$4:$F$82),"",OFFSET($E$4,MATCH(ROWS($F$4:$F150),$F$4:$F$82,0)-1,0))
B151: =IF('Données Tram'!A149="France",IF('Données Tram'!$B149=0,"",'Données Tram'!$B149),"") | F151: =IF(E151="","",IF(COUNTIF(E$4:E151,E151)>1,"",MAX($F$1:$F150)+1)) | G151: =IF(ROWS($F$4:$F151)>MAX($F$4:$F$82),"",OFFSET($E$4,MATCH(ROWS($F$4:$F151),$F$4:$F$82,0)-1,0))
B152: =IF('Données Tram'!A150="France",IF('Données Tram'!$B150=0,"",'Données Tram'!$B150),"") | F152: =IF(E152="","",IF(COUNTIF(E$4:E152,E152)>1,"",MAX($F$1:$F151)+1)) | G152: =IF(ROWS($F$4:$F152)>MAX($F$4:$F$82),"",OFFSET($E$4,MATCH(ROWS($F$4:$F152),$F$4:$F$82,0)-1,0))
B153: =IF('Données Tram'!A151="France",IF('Données Tram'!$B151=0,"",'Données Tram'!$B151),"") | F153: =IF(E153="","",IF(COUNTIF(E$4:E153,E153)>1,"",MAX($F$1:$F152)+1)) | G153: =IF(ROWS($F$4:$F153)>MAX($F$4:$F$82),"",OFFSET($E$4,MATCH(ROWS($F$4:$F153),$F$4:$F$82,0)-1,0))
B154: =IF('Données Tram'!A152="France",IF('Données Tram'!$B152=0,"",'Données Tram'!$B152),"") | F154: =IF(E154="","",IF(COUNTIF(E$4:E154,E154)>1,"",MAX($F$1:$F153)+1)) | G154: =IF(ROWS($F$4:$F154)>MAX($F$4:$F$82),"",OFFSET($E$4,MATCH(ROWS($F$4:$F154),$F$4:$F$82,0)-1,0))
B155: =IF('Données Tram'!A153="France",IF('Données Tram'!$B153=0,"",'Données Tram'!$B153),"") | F155: =IF(E155="","",IF(COUNTIF(E$4:E155,E155)>1,"",MAX($F$1:$F154)+1)) | G155: =IF(ROWS($F$4:$F155)>MAX($F$4:$F$82),"",OFFSET($E$4,MATCH(ROWS($F$4:$F155),$F$4:$F$82,0)-1,0))
B156: =IF('Données Tram'!A154="France",IF('Données Tram'!$B154=0,"",'Données Tram'!$B154),"") | F156: =IF(E156="","",IF(COUNTIF(E$4:E156,E156)>1,"",MAX($F$1:$F155)+1)) | G156: =IF(ROWS($F$4:$F156)>MAX($F$4:$F$82),"",OFFSET($E$4,MATCH(ROWS($F$4:$F156),$F$4:$F$82,0)-1,0))
B157: =IF('Données Tram'!A155="France",IF('Données Tram'!$B155=0,"",'Données Tram'!$B155),"") | F157: =IF(E157="","",IF(COUNTIF(E$4:E157,E157)>1,"",MAX($F$1:$F156)+1)) | G157: =IF(ROWS($F$4:$F157)>MAX($F$4:$F$82),"",OFFSET($E$4,MATCH(ROWS($F$4:$F157),$F$4:$F$82,0)-1,0))
B158: =IF('Données Tram'!A156="France",IF('Données Tram'!$B156=0,"",'Données Tram'!$B156),"") | F158: =IF(E158="","",IF(COUNTIF(E$4:E158,E158)>1,"",MAX($F$1:$F157)+1)) | G158: =IF(ROWS($F$4:$F158)>MAX($F$4:$F$82),"",OFFSET($E$4,MATCH(ROWS($F$4:$F158),$F$4:$F$82,0)-1,0))
B159: =IF('Données Tram'!A157="France",IF('Données Tram'!$B157=0,"",'Données Tram'!$B157),"") | F159: =IF(E159="","",IF(COUNTIF(E$4:E159,E159)>1,"",MAX($F$1:$F158)+1))
B160: =IF('Données Tram'!A158="France",IF('Données Tram'!$B158=0,"",'Données Tram'!$B158),"") | F160: =IF(E160="","",IF(COUNTIF(E$4:E160,E160)>1,"",MAX($F$1:$F159)+1))
B161: =IF('Données Tram'!A159="France",IF('Données Tram'!$B159=0,"",'Données Tram'!$B159),"")
B162: =IF('Données Tram'!A160="France",IF('Données Tram'!$B160=0,"",'Données Tram'!$B160),"")
B163: =IF('Données Tram'!A161="France",IF('Données Tram'!$B161=0,"",'Données Tram'!$B161),"")
B164: =IF('Données Tram'!A162="France",IF('Données Tram'!$B162=0,"",'Données Tram'!$B162),"")
