Workbook

Sheet 38
A3: AGE | B3: NCP | C3: DCO | D3: DEV | E3: LIBCHA | F3: DEBIT | G3: CREDIT
A4: 01100 | B4: 381xxxxx | C4: 39596 | D4: 001 | E4: xxxx | G4: 1930
A5: 01100 | B5: 381xxxxx | C5: 39596 | D5: 001 | E5: xxxx | G5: 216000
A6: 01100 | B6: 381xxxxx | C6: 39596 | D6: 001 | E6: xxxx | G6: 270308
A7: 01100 | B7: 381xxxxx | C7: 39596 | D7: 001 | E7: xxxx | G7: 410042
A8: 01100 | B8: 381xxxxx | C8: 39596 | D8: 001 | E8: xxxx | G8: 500000
A9: 01100 | B9: 381xxxxx | C9: 39596 | D9: 001 | E9: xxxx | G9: 983935
A10: 01100 | B10: 381xxxxx | C10: 39596 | D10: 001 | E10: xxxx | G10: 20000000
A11: 01100 | B11: 381xxxxx | C11: 39610 | D11: 001 | E11: xxxx | G11: 100000
A12: 01100 | B12: 381xxxxx | C12: 39610 | D12: 001 | E12: xxxx | G12: 3000000
A13: 02000 | B13: 381xxxxx | C13: 39595 | D13: 001 | E13: xxxx | G13: 11640
A14: 02000 | B14: 381xxxxx | C14: 39595 | D14: 001 | E14: xxxx | G14: 100000
A15: 02000 | B15: 381xxxxx | C15: 39595 | D15: 001 | E15: xxxx | G15: 100000
... A17: 02000 | B17: 381xxxxx | C17: 39596 | D17: 001 | E17: xxxx | G17: 7134000
A18: 01100 | B18: 381xxxxx | C18: 41683 | D18: 1 | E18: xxxx | F18: 125
A19: 01100 | B19: 381xxxxx | C19: 41683 | D19: 001 | E19: xxxx | F19: 125
A20: 01100 | B20: 381xxxxx | C20: 41683 | D20: 001 | E20: xxxx | F20: 125
A21: 01100 | B21: 381xxxxx | C21: 41813 | D21: 001 | E21: xxxx | F21: 125
A22: 01100 | B22: 381xxxxx | C22: 41813 | D22: 001 | E22: xxxx | F22: 125
A23: 01020 | B23: 382xxxxx | C23: 41451 | D23: 001 | E23: xxxx | F23: 220000
A24: 01020 | B24: 382xxxxx | C24: 41451 | D24: 001 | E24: xxxx | F24: 220000
A25: 01020 | B25: 382xxxxx | C25: 41451 | D25: 001 | E25: xxxx | F25: 225000
A26: 01020 | B26: 382xxxxx | C26: 41451 | D26: 001 | E26: xxxx | F26: 230000
A27: 01020 | B27: 382xxxxx | C27: 41451 | D27: 001 | E27: xxxx | F27: 248208
F29: =SUM(F4:F27) -> 1143833 | G29: =SUM(G4:G27) -> 33164175
E31: solde | G31: =+G29-F29 -> 32020342
G34: 6926478690
G36: =+G31-G34 -> -6894458348

Sheet 40
A7: Date valeur | B7: ncp | C7: Libelle | D7: Debit | E7: Credit
A10: 40898 | B10: 40xxxxxx | C10: y | D10: 0 | E10: 8000000
A11: 40898 | B11: 40xxxxxx | C11: y | D11: 0 | E11: 3138662
A12: 40898 | B12: 40xxxxxx | C12: y | D12: 0 | E12: 10000000
A13: 41796 | B13: 40xxxxxx | C13: y | D13: 0 | E13: 87416
A14: 41380 | B14: 40xxxxxx | C14: y | D14: 2140200 | E14: 0
A15: 41585 | B15: 40xxxxxx | C15: y | D15: 5707200 | E15: 0
A16: 41585 | B16: 40xxxxxx | C16: y | D16: 13554600 | E16: 0
A17: 41522 | B17: 40xxxxxx | C17: y | D17: 1284120 | E17: 0
A18: 41631 | B18: 40xxxxxx | C18: y | D18: 5707200 | E18: 0
A19: 41540 | B19: 40xxxxxx | C19: y | D19: 1284120 | E19: 0
A20: 41724 | B20: 40xxxxxx | C20: y | D20: 2895080 | E20: 0
A21: 41765 | B21: 40xxxxxx | C21: y | D21: 2450000 | E21: 0
... A28: 41502 | B28: 40xxxxxx | C28: y | D28: 468704 | E28: 0
A29: 40890 | B29: 40xxxxxx | C29: y | D29: 25860750
A30: 41095 | B30: 40xxxxxx | C30: y | D30: 0 | E30: 2942775
A31: 41095 | B31: 40xxxxxx | C31: y | D31: 0 | E31: 2942775
A32: 41095 | B32: 40xxxxxx | C32: y | D32: 0 | E32: 2407725
A33: 41095 | B33: 40xxxxxx | C33: y | D33: 0 | E33: 2675250
A34: 41095 | B34: 40xxxxxx | C34: y | E34: 3121125
A35: 41095 | B35: 40xxxxxx | C35: y | D35: 0 | E35: 2496900
A36: 40927 | B36: 40xxxxxx | C36: y | D36: 0 | E36: 3477825
A37: 40928 | B37: 40xxxxxx | C37: y | D37: 0 | E37: 2942775
A38: 40955 | B38: 40xxxxxx | C38: y | D38: 3519288 | E38: 0
A39: 40955 | B39: 40xxxxxx | C39: y | D39: 934148 | E39: 0
A40: 40701 | B40: 40xxxxxx | C40: y | D40: 567976 | E40: 0
A41: 40939 | B41: 40xxxxxx | C41: y | D41: 832000 | E41: 0
A42: 41394 | B42: 40xxxxxx | C42: y | D42: 32400 | E42: 0
A43: 41394 | B43: 40xxxxxx | C43: y | D43: 105821 | E43: 0
A44: 41394 | B44: 40xxxxxx | C44: y | D44: 11890 | E44: 0
A45: 41396 | B45: 40xxxxxx | C45: y | D45: 74907 | E45: 0
A46: 41396 | B46: 40xxxxxx | C46: y | D46: 106416 | E46: 0
... A55: 41820 | B55: 40xxxxxx | C55: y | D55: 360000 | E55: 0
D57: =SUM(D8:D55) -> 290006563 | E57: =SUM(E8:E55) -> 44233228
E59: =+E57-D57 -> -245773335

Sheet 45
A3: AGE | B3: NCP | C3: DCO | D3: DEV | E3: LIBCHA | F3: DEBIT | G3: CRDIT
A4: 01700 | B4: 4521xxxxxx | C4: 41820 | D4: 001 | E4: q | F4: 40750000
A5: 01700 | B5: 4521xxxxxx | C5: 41820 | D5: 001 | E5: q | F5: 55000000
A6: 01100 | B6: 4521xxxxxx | C6: 41820 | D6: 001 | E6: q | G6: 24300
A7: 01100 | B7: 4521xxxxxx | C7: 41820 | D7: 001 | E7: q | G7: 45000
A8: 01100 | B8: 4521xxxxxx | C8: 41820 | D8: 001 | E8: q | G8: 60000
A9: 01100 | B9: 4521xxxxxx | C9: 41820 | D9: 001 | E9: q | F9: 65000
A10: 02000 | B10: 4521xxxxxx | C10: 41820 | D10: 001 | E10: q | F10: 80000
A11: 02000 | B11: 4521xxxxxx | C11: 41801 | D11: 001 | E11: q | G11: 100000
A12: 01100 | B12: 4521xxxxxx | C12: 41820 | D12: 001 | E12: q | F12: 100000
A13: 02000 | B13: 4521xxxxxx | C13: 41820 | D13: 001 | E13: q | F13: 150000
A14: 01020 | B14: 4521xxxxxx | C14: 41471 | D14: 001 | E14: q | G14: 156145
A15: 02000 | B15: 4521xxxxxx | C15: 41816 | D15: 001 | E15: q | G15: 180000
A16: 01100 | B16: 4521xxxxxx | C16: 41820 | D16: 001 | E16: q | G16: 196216
A17: 01100 | B17: 4521xxxxxx | C17: 41820 | D17: 001 | E17: q | G17: 219588
A18: 01100 | B18: 4521xxxxxx | C18: 41820 | D18: 001 | E18: q | G18: 219614
A19: 01020 | B19: 4521xxxxxx | C19: 41484 | D19: 001 | E19: q | F19: 264943
A20: 01100 | B20: 4521xxxxxx | C20: 41820 | D20: 001 | E20: q | G20: 291153
A21: 02000 | B21: 4521xxxxxx | C21: 41809 | D21: 001 | E21: q | F21: 300000
A22: 02000 | B22: 4521xxxxxx | C22: 41820 | D22: 001 | E22: q | F22: 371600
A23: 01100 | B23: 4521xxxxxx | C23: 41787 | D23: 001 | E23: q | F23: 420000
A24: 01100 | B24: 4521xxxxxx | C24: 41820 | D24: 001 | E24: q | F24: 432000
A25: 02000 | B25: 4521xxxxxx | C25: 41766 | D25: 001 | E25: q | G25: 450000
A26: 01300 | B26: 4521xxxxxx | C26: 41813 | D26: 001 | E26: q | G26: 500000
A27: 02000 | B27: 4521xxxxxx | C27: 41820 | D27: 001 | E27: q | G27: 500000
A28: 01100 | B28: 4521xxxxxx | C28: 41820 | D28: 001 | E28: q | F28: 500000
A29: 02000 | B29: 4521xxxxxx | C29: 41666 | D29: 001 | E29: q | G29: 544500
A30: 01020 | B30: 4521xxxxxx | C30: 41471 | D30: 001 | E30: q | F30: 575373
A31: 02000 | B31: 4521xxxxxx | C31: 41803 | D31: 001 | E31: q | G31: 600000
A32: 01100 | B32: 4521xxxxxx | C32: 41820 | D32: 001 | E32: q | G32: 603225
A33: 01100 | B33: 4521xxxxxx | C33: 41820 | D33: 001 | E33: q | F33: 620000
A34: 01100 | B34: 4521xxxxxx | C34: 41820 | D34: 001 | E34: q | F34: 873900
A35: 02000 | B35: 4521xxxxxx | C35: 41820 | D35: 001 | E35: q | F35: 1000000
A36: 01300 | B36: 4521xxxxxx | C36: 41820 | D36: 001 | E36: q | G36: 1277390
A37: 01100 | B37: 4521xxxxxx | C37: 41820 | D37: 001 | E37: q | F37: 1300970
A38: 01100 | B38: 4521xxxxxx | C38: 41820 | D38: 001 | E38: q | F38: 1656000
A39: 01100 | B39: 4521xxxxxx | C39: 41820 | D39: 001 | E39: q | F39: 1664868
A40: 01100 | B40: 4521xxxxxx | C40: 41820 | D40: 001 | E40: q | G40: 1740600
A41: 02000 | B41: 4521xxxxxx | C41: 41820 | D41: 001 | E41: q | F41: 1774350
A42: 01100 | B42: 4521xxxxxx | C42: 41820 | D42: 001 | E42: q | G42: 1984729
A43: 02000 | B43: 4521xxxxxx | C43: 41820 | D43: 001 | E43: q | F43: 2000000
A44: 01100 | B44: 4521xxxxxx | C44: 41820 | D44: 001 | E44: q | F44: 2092640
A45: 02000 | B45: 4521xxxxxx | C45: 41820 | D45: 001 | E45: q | F45: 2340000
A46: 01100 | B46: 4521xxxxxx | C46: 41820 | D46: 001 | E46: q | F46: 2383232
A47: 01020 | B47: 4521xxxxxx | C47: 41752 | D47: 001 | E47: q | F47: 2500000
A48: 01100 | B48: 4521xxxxxx | C48: 41820 | D48: 001 | E48: q | G48: 3000000
A49: 01100 | B49: 4521xxxxxx | C49: 41820 | D49: 001 | E49: q | F49: 3015019
A50: 02000 | B50: 4521xxxxxx | C50: 41809 | D50: 001 | E50: q | G50: 3500000
A51: 02000 | B51: 4521xxxxxx | C51: 41680 | D51: 001 | E51: q | G51: 4805000
A52: 01020 | B52: 4521xxxxxx | C52: 41689 | D52: 001 | E52: q | F52: 13720329
A53: 01100 | B53: 4521xxxxxx | C53: 41793 | D53: 001 | E53: q | F53: 15000000
A54: 03000 | B54: 4521xxxxxx | C54: 41767 | D54: 001 | E54: q | G54: 37560400
A55: 02000 | B55: 4521xxxxxx | C55: 41820 | D55: 001 | E55: q | F55: 83402500
A56: 01020 | B56: 4521xxxxxx | C56: 41732 | D56: 001 | E56: q | G56: 4000000
A57: 01100 | B57: 4521xxxxxx | C57: 41061 | D57: 001 | E57: q | F57: 11300
A58: 01100 | B58: 4521xxxxxx | C58: 41061 | D58: 001 | E58: q | F58: 50000
A59: 01100 | B59: 4521xxxxxx | C59: 41061 | D59: 001 | E59: q | F59: 88130
A60: 01100 | B60: 4521xxxxxx | C60: 41061 | D60: 001 | E60: q | F60: 1762052
A61: 01100 | B61: 4521xxxxxx | C61: 41061 | D61: 001 | E61: q | G61: 3632000
A62: 01100 | B62: 4521xxxxxx | C62: 41219 | D62: 001 | E62: q | F62: 3046390
A63: 01100 | B63: 4521xxxxxx | C63: 41319 | D63: 001 | E63: q | G63: 2710116
A64: 01100 | B64: 4521xxxxxx | C64: 41319 | D64: 001 | E64: q | F64: 2860116
A65: 01100 | B65: 4521xxxxxx | C65: 41509 | D65: 001 | E65: q | F65: 7134000
A66: 01100 | B66: 4521xxxxxx | C66: 41626 | D66: 001 | E66: q | F66: 100000
A67: 01100 | B67: 4521xxxxxx | C67: 41666 | D67: 001 | E67: q | G67: 5000000
A68: 01100 | B68: 4521xxxxxx | C68: 41710 | D68: 001 | E68: q | F68: 216200
A69: 01100 | B69: 4521xxxxxx | C69: 41738 | D69: 001 | E69: q | G69: 234600
A70: 01100 | B70: 4521xxxxxx | C70: 41738 | D70: 001 | E70: q | F70: 414600
A71: 01100 | B71: 4521xxxxxx | C71: 41753 | D71: 001 | E71: q | G71: 150000
A72: 01100 | B72: 4521xxxxxx | C72: 41765 | D72: 001 | E72: q | G72: 120000
A73: 01100 | B73: 4521xxxxxx | C73: 41765 | D73: 001 | E73: q | F73: 252500
A74: 01100 | B74: 4521xxxxxx | C74: 41766 | D74: 001 | E74: q | F74: 450000
A75: 01100 | B75: 4521xxxxxx | C75: 41767 | D75: 001 | E75: q | F75: 37560400
A76: 01100 | B76: 4521xxxxxx | C76: 41768 | D76: 001 | E76: q | F76: 44000000
A77: 01100 | B77: 4521xxxxxx | C77: 41814 | D77: 001 | E77: q | G77: 89500
A78: 01100 | B78: 4521xxxxxx | C78: 41814 | D78: 001 | E78: q | G78: 200000
A79: 01100 | B79: 4521xxxxxx | C79: 41814 | D79: 001 | E79: q | G79: 1750000
A80: 01100 | B80: 4521xxxxxx | C80: 41814 | D80: 001 | E80: q | G80: 30000000
A81: 01100 | B81: 4521xxxxxx | C81: 41814 | D81: 001 | E81: q | F81: 32039500
A82: 01100 | B82: 4521xxxxxx | C82: 41815 | D82: 001 | E82: q | G82: 460000000
A83: 01100 | B83: 4521xxxxxx | C83: 41820 | D83: 001 | E83: q | F83: 26414049
A84: 01100 | B84: 4521xxxxxx | C84: 41820 | D84: 001 | E84: q | G84: 165000000
A85: 01200 | B85: 4521xxxxxx | C85: 41768 | D85: 001 | E85: q | G85: 44000000
A86: 01300 | B86: 4521xxxxxx | C86: 41765 | D86: 001 | E86: q | G86: 132500
A87: 02000 | B87: 4521xxxxxx | C87: 41817 | D87: 001 | E87: q | F87: 4655000
A88: 02000 | B88: 4521xxxxxx | C88: 41817 | D88: 001 | E88: q | F88: 11600000
A89: 02000 | B89: 4521xxxxxx | C89: 41817 | D89: 001 | E89: q | F89: 91058344
A90: 01100 | B90: 4521xxxxxx | C90: 41421 | D90: 001 | E90: q | F90: 3000000
A91: 01100 | B91: 4521xxxxxx | C91: 41422 | D91: 001 | E91: q | F91: 160380
A92: 01100 | B92: 4521xxxxxx | C92: 41422 | D92: 001 | E92: q | F92: 240570
A93: 01100 | B93: 4521xxxxxx | C93: 41429 | D93: 001 | E93: q | F93: 125000
A94: 01100 | B94: 4521xxxxxx | C94: 41442 | D94: 001 | E94: q | F94: 550000
A95: 01100 | B95: 4521xxxxxx | C95: 41471 | D95: 001 | E95: q | F95: 1822536
A96: 01100 | B96: 4521xxxxxx | C96: 41471 | D96: 001 | E96: q | F96: 5000000
A97: 01100 | B97: 4521xxxxxx | C97: 41516 | D97: 001 | E97: q | F97: 54136000
A98: 01100 | B98: 4521xxxxxx | C98: 41578 | D98: 001 | E98: q | F98: 6500000
... A114: 01100 | B114: 4521xxxxxx | C114: 41729 | D114: 001 | E114: q | F114: 90000
A115: 01100 | B115: 4521xxxxxx | C115: 41729 | D115: 001 | E115: q | G115: 165000
A116: 01100 | B116: 4521xxxxxx | C116: 41729 | D116: 001 | E116: q | G116: 7630450
A117: 01100 | B117: 4521xxxxxx | C117: 41730 | D117: 001 | E117: q | G117: 1500000
...

Sheet 41
A5: AGE | B5: NCP | C5: DCO | D5: DEV | E5: LIBCHA | F5: DEBIT | G5: CREDIT
A6: 02000 | B6: 415xxxxxx | C6: 37629 | D6: 009 | E6: d | G6: 11216865
A7: 02000 | B7: 415xxxxxx | C7: 37629 | D7: 009 | E7: d | G7: 7310916
A8: 02000 | B8: 415xxxxxx | C8: 37629 | D8: 009 | E8: d | F8: 11216865
A9: 02000 | B9: 415xxxxxx | C9: 37629 | D9: 009 | E9: d | F9: 7310916
A10: 02000 | B10: 415xxxxxx | C10: 37635 | D10: 009 | E10: d | G10: 9670420
A11: 02000 | B11: 415xxxxxx | C11: 37635 | D11: 009 | E11: d | F11: 9670420
A12: 02000 | B12: 415xxxxxx | C12: 37636 | D12: 009 | E12: d | G12: 32660722
A13: 02000 | B13: 415xxxxxx | C13: 37636 | D13: 009 | E13: d | G13: 5535490
A14: 02000 | B14: 415xxxxxx | C14: 37636 | D14: 009 | E14: d | F14: 32660722
A15: 02000 | B15: 415xxxxxx | C15: 37636 | D15: 009 | E15: d | F15: 5535490
A16: 02000 | B16: 415xxxxxx | C16: 37648 | D16: 009 | E16: d | G16: 44673951
A17: 02000 | B17: 415xxxxxx | C17: 37648 | D17: 009 | E17: d | G17: 41924803
A18: 02000 | B18: 415xxxxxx | C18: 37648 | D18: 009 | E18: d | F18: 44673951
A19: 02000 | B19: 415xxxxxx | C19: 37648 | D19: 009 | E19: d | F19: 41924803
A20: 02000 | B20: 415xxxxxx | C20: 37658 | D20: 009 | E20: d | G20: 5612480
A21: 02000 | B21: 415xxxxxx | C21: 37658 | D21: 009 | E21: d | G21: 86258346
A22: 02000 | B22: 415xxxxxx | C22: 37658 | D22: 009 | E22: d | G22: 4804885
A23: 02000 | B23: 415xxxxxx | C23: 37658 | D23: 009 | E23: d | F23: 4804885
A24: 02000 | B24: 415xxxxxx | C24: 37658 | D24: 009 | E24: d | F24: 5612480
A25: 02000 | B25: 415xxxxxx | C25: 37658 | D25: 009 | E25: d | F25: 86258346
A26: 02000 | B26: 415xxxxxx | C26: 37666 | D26: 009 | E26: d | G26: 6186606
A27: 02000 | B27: 415xxxxxx | C27: 37666 | D27: 009 | E27: d | F27: 6186606
A28: 02000 | B28: 415xxxxxx | C28: 37698 | D28: 009 | E28: d | G28: 28160234
A29: 02000 | B29: 415xxxxxx | C29: 37698 | D29: 009 | E29: d | G29: 17201180
A30: 02000 | B30: 415xxxxxx | C30: 37698 | D30: 009 | E30: d | F30: 28160234
A31: 02000 | B31: 415xxxxxx | C31: 37698 | D31: 009 | E31: d | F31: 17201180
A32: 02000 | B32: 415xxxxxx | C32: 37711 | D32: 009 | E32: d | G32: 62342153
A33: 02000 | B33: 415xxxxxx | C33: 37711 | D33: 009 | E33: d | F33: 62342153
A34: 02000 | B34: 415xxxxxx | C34: 37729 | D34: 009 | E34: d | G34: 19428134
A35: 02000 | B35: 415xxxxxx | C35: 37729 | D35: 009 | E35: d | F35: 19428134
A36: 02000 | B36: 415xxxxxx | C36: 37788 | D36: 009 | E36: d | G36: 22302538
A37: 02000 | B37: 415xxxxxx | C37: 37788 | D37: 009 | E37: d | F37: 22302538
A38: 02000 | B38: 415xxxxxx | C38: 37796 | D38: 009 | E38: d | G38: 17659018
A39: 02000 | B39: 415xxxxxx | C39: 37796 | D39: 009 | E39: d | F39: 17659018
A40: 02000 | B40: 415xxxxxx | C40: 37802 | D40: 009 | E40: d | G40: 31617127
A41: 02000 | B41: 415xxxxxx | C41: 37802 | D41: 009 | E41: d | G41: 28160234
A42: 02000 | B42: 415xxxxxx | C42: 37802 | D42: 009 | E42: d | F42: 538743125
A43: 02000 | B43: 415xxxxxx | C43: 37802 | D43: 340 | E43: d | G43: 68983
A44: 02000 | B44: 415xxxxxx | C44: 37802 | D44: 009 | E44: d | G44: 538743125
A45: 02000 | B45: 415xxxxxx | C45: 37802 | D45: 009 | E45: d | F45: 31617127
A46: 02000 | B46: 415xxxxxx | C46: 37802 | D46: 009 | E46: d | F46: 28160234
A47: 01100 | B47: 415xxxxxx | C47: 37802 | D47: 009 | E47: d | F47: 0
A48: 02000 | B48: 415xxxxxx | C48: 37802 | D48: 340 | E48: d | F48: 68983
A49: 02000 | B49: 415xxxxxx | C49: 37830 | D49: 009 | E49: d | G49: 56017022
A50: 02000 | B50: 415xxxxxx | C50: 37830 | D50: 009 | E50: d | F50: 56017022
A51: 02000 | B51: 415xxxxxx | C51: 38800 | D51: 009 | E51: d | G51: 30837011
A52: 02000 | B52: 415xxxxxx | C52: 38828 | D52: 009 | E52: d | F52: 15418505
A53: 02000 | B53: 415xxxxxx | C53: 38919 | D53: 009 | E53: d | F53: 15418505
A54: 02000 | B54: 415xxxxxx | C54: 39100 | D54: 340 | E54: d | F54: 61146
A55: 02000 | B55: 415xxxxxx | C55: 39100 | D55: 340 | E55: d | G55: 61146
A56: 01100 | B56: 415xxxxxx | C56: 39356 | D56: 001 | E56: d | G56: 653950
A57: 01100 | B57: 415xxxxxx | C57: 39384 | D57: 001 | E57: d | G57: 51605
A58: 02000 | B58: 415xxxxxx | C58: 39384 | D58: 001 | E58: d | G58: 500000
A59: 02000 | B59: 415xxxxxx | C59: 39547 | D59: 001 | E59: d | G59: 285694
A60: 02000 | B60: 415xxxxxx | C60: 39756 | D60: 001 | E60: d | G60: 46600
A61: 02000 | B61: 415xxxxxx | C61: 39834 | D61: 001 | E61: d | F61: 285694
A62: 01100 | B62: 415xxxxxx | C62: 40155 | D62: 009 | E62: d | F62: 3902944
A63: 01100 | B63: 415xxxxxx | C63: 40155 | D63: 009 | E63: d | G63: 3902944
A64: 01100 | B64: 415xxxxxx | C64: 40170 | D64: 009 | E64: d | G64: 3246981
A65: 01100 | B65: 415xxxxxx | C65: 40170 | D65: 009 | E65: d | F65: 3246981
A66: 01100 | B66: 415xxxxxx | C66: 40171 | D66: 009 | E66: d | G66: 655957
A67: 01100 | B67: 415xxxxxx | C67: 40171 | D67: 009 | E67: d | F67: 655957
A68: 02000 | B68: 415xxxxxx | C68: 40371 | D68: 009 | E68: d | G68: 23104380
A69: 02000 | B69: 415xxxxxx | C69: 40375 | D69: 009 | E69: d | F69: 17514052
A70: 02000 | B70: 415xxxxxx | C70: 40407 | D70: 009 | E70: d | F70: 5590328
A71: 01100 | B71: 415xxxxxx | C71: 40536 | D71: 001 | E71: d | G71: 56839
A72: 01100 | B72: 415xxxxxx | C72: 40543 | D72: 001 | E72: d | F72: 56389
A73: 01100 | B73: 415xxxxxx | C73: 40686 | D73: 001 | E73: d | G73: 1360200
A74: 02000 | B74: 415xxxxxx | C74: 40801 | D74: 001 | E74: d | G74: 282500
A75: 01100 | B75: 415xxxxxx | C75: 40906 | D75: 001 | E75: d | F75: 653952
A76: 02000 | B76: 415xxxxxx | C76: 41423 | D76: 009 | E76: d | G76: 3572112
A77: 02000 | B77: 415xxxxxx | C77: 41423 | D77: 009 | E77: d | G77: 5098058
A78: 02000 | B78: 415xxxxxx | C78: 41467 | D78: 009 | E78: d | F78: 5098058
A79: 02000 | B79: 415xxxxxx | C79: 41467 | D79: 009 | E79: d | F79: 3572112
A80: 02000 | B80: 415xxxxxx | C80: 41607 | D80: 009 | E80: d | F80: 64283786
A81: 02000 | B81: 415xxxxxx | C81: 41607 | D81: 009 | E81: d | G81: 64283786
A82: 02000 | B82: 415xxxxxx | C82: 41722 | D82: 009 | E82: d | F82: 6030213
A83: 02000 | B83: 415xxxxxx | C83: 41722 | D83: 009 | E83: d | G83: 6030213
A84: 02000 | B84: 415xxxxxx | C84: 41729 | D84: 009 | E84: d | F84: 13119140
A85: 02000 | B85: 415xxxxxx | C85: 41729 | D85: 009 | E85: d | G85: 13119140
A86: 02000 | B86: 415xxxxxx | C86: 41768 | D86: 001 | E86: d | F86: 5029387
A87: 02000 | B87: 415xxxxxx | C87: 41768 | D87: 001 | E87: d | G87: 5029387
A88: 02000 | B88: 415xxxxxx | C88: 41793 | D88: 340 | E88: d | F88: 32603423
A89: 02000 | B89: 415xxxxxx | C89: 41793 | D89: 340 | E89: d | G89: 32603423
A90: 02000 | B90: 415xxxxxx | C90: 41808 | D90: 340 | E90: d | F90: 29987995
A91: 02000 | B91: 415xxxxxx | C91: 41808 | D91: 340 | E91: d | G91: 29987995
A92: 03000 | B92: 415xxxxxx | C92: 41816 | D92: 001 | E92: d | G92: 250000
A93: 02000 | B93: 415xxxxxx | C93: 41817 | D93: 340 | E93: d | G93: 32374343
A94: 02000 | B94: 415xxxxxx | C94: 41817 | D94: 340 | E94: d | F94: 32374343
A95: 01100 | B95: 415xxxxxx | C95: 41817 | D95: 001 | E95: d | G95: 4357103
A96: 01100 | B96: 415xxxxxx | C96: 41817 | D96: 001 | E96: d | G96: 411200
A97: 01100 | B97: 415xxxxxx | C97: 41817 | D97: 001 | E97: d | G97: 542900
A98: 01100 | B98: 415xxxxxx | C98: 41817 | D98: 001 | E98: d | G98: 548220
A99: 01100 | B99: 415xxxxxx | C99: 41817 | D99: 001 | E99: d | G99: 752900
A100: 01100 | B100: 415xxxxxx | C100: 41817 | D100: 001 | E100: d | G100: 1044600
A101: 01100 | B101: 415xxxxxx | C101: 41817 | D101: 001 | E101: d | G101: 1073100
A102: 01100 | B102: 415xxxxxx | C102: 41817 | D102: 001 | E102: d | G102: 1212300
A103: 01100 | B103: 415xxxxxx | C103: 41817 | D103: 001 | E103: d | G103: 1488700
A104: 01100 | B104: 415xxxxxx | C104: 41817 | D104: 001 | E104: d | G104: 1668700
...

Sheet exemple du travail manuel 40
A5: AGE | B5: NCP | C5: DCO | D5: DEV | E5: LIBCHA | F5: DEBIT | G5: CREDIT
A6: 02000 | B6: 415xxxxxx | C6: 37629 | D6: 009 | E6: d | G6: 11216865
A7: 02000 | B7: 415xxxxxx | C7: 37629 | D7: 009 | E7: d | G7: 7310916
A8: 02000 | B8: 415xxxxxx | C8: 37629 | D8: 009 | E8: d | F8: 11216865
A9: 02000 | B9: 415xxxxxx | C9: 37629 | D9: 009 | E9: d | F9: 7310916
A10: 02000 | B10: 415xxxxxx | C10: 37635 | D10: 009 | E10: d | G10: 9670420
A11: 02000 | B11: 415xxxxxx | C11: 37635 | D11: 009 | E11: d | F11: 9670420
A12: 02000 | B12: 415xxxxxx | C12: 37636 | D12: 009 | E12: d | G12: 32660722
A13: 02000 | B13: 415xxxxxx | C13: 37636 | D13: 009 | E13: d | G13: 5535490
A14: 02000 | B14: 415xxxxxx | C14: 37636 | D14: 009 | E14: d | F14: 32660722
A15: 02000 | B15: 415xxxxxx | C15: 37636 | D15: 009 | E15: d | F15: 5535490
A16: 02000 | B16: 415xxxxxx | C16: 37648 | D16: 009 | E16: d | G16: 44673951
A17: 02000 | B17: 415xxxxxx | C17: 37648 | D17: 009 | E17: d | G17: 41924803
A18: 02000 | B18: 415xxxxxx | C18: 37648 | D18: 009 | E18: d | F18: 44673951
A19: 02000 | B19: 415xxxxxx | C19: 37648 | D19: 009 | E19: d | F19: 41924803
A20: 02000 | B20: 415xxxxxx | C20: 37658 | D20: 009 | E20: d | G20: 5612480
A21: 02000 | B21: 415xxxxxx | C21: 37658 | D21: 009 | E21: d | G21: 86258346
A22: 02000 | B22: 415xxxxxx | C22: 37658 | D22: 009 | E22: d | G22: 4804885
A23: 02000 | B23: 415xxxxxx | C23: 37658 | D23: 009 | E23: d | F23: 4804885
A24: 02000 | B24: 415xxxxxx | C24: 37658 | D24: 009 | E24: d | F24: 5612480
A25: 02000 | B25: 415xxxxxx | C25: 37658 | D25: 009 | E25: d | F25: 86258346
A26: 02000 | B26: 415xxxxxx | C26: 37666 | D26: 009 | E26: d | G26: 6186606
A27: 02000 | B27: 415xxxxxx | C27: 37666 | D27: 009 | E27: d | F27: 6186606
A28: 02000 | B28: 415xxxxxx | C28: 37698 | D28: 009 | E28: d | G28: 28160234
A29: 02000 | B29: 415xxxxxx | C29: 37698 | D29: 009 | E29: d | G29: 17201180
A30: 02000 | B30: 415xxxxxx | C30: 37698 | D30: 009 | E30: d | F30: 28160234
A31: 02000 | B31: 415xxxxxx | C31: 37698 | D31: 009 | E31: d | F31: 17201180
A32: 02000 | B32: 415xxxxxx | C32: 37711 | D32: 009 | E32: d | G32: 62342153
A33: 02000 | B33: 415xxxxxx | C33: 37711 | D33: 009 | E33: d | F33: 62342153
A34: 02000 | B34: 415xxxxxx | C34: 37729 | D34: 009 | E34: d | G34: 19428134
A35: 02000 | B35: 415xxxxxx | C35: 37729 | D35: 009 | E35: d | F35: 19428134
A36: 02000 | B36: 415xxxxxx | C36: 37788 | D36: 009 | E36: d | G36: 22302538
A37: 02000 | B37: 415xxxxxx | C37: 37788 | D37: 009 | E37: d | F37: 22302538
A38: 02000 | B38: 415xxxxxx | C38: 37796 | D38: 009 | E38: d | G38: 17659018
A39: 02000 | B39: 415xxxxxx | C39: 37796 | D39: 009 | E39: d | F39: 17659018
A40: 02000 | B40: 415xxxxxx | C40: 37802 | D40: 009 | E40: d | G40: 31617127
A41: 02000 | B41: 415xxxxxx | C41: 37802 | D41: 009 | E41: d | G41: 28160234
A42: 02000 | B42: 415xxxxxx | C42: 37802 | D42: 009 | E42: d | F42: 538743125
A43: 02000 | B43: 415xxxxxx | C43: 37802 | D43: 340 | E43: d | G43: 68983
A44: 02000 | B44: 415xxxxxx | C44: 37802 | D44: 009 | E44: d | G44: 538743125
A45: 02000 | B45: 415xxxxxx | C45: 37802 | D45: 009 | E45: d | F45: 31617127
A46: 02000 | B46: 415xxxxxx | C46: 37802 | D46: 009 | E46: d | F46: 28160234
A47: 01100 | B47: 415xxxxxx | C47: 37802 | D47: 009 | E47: d | F47: 0
A48: 02000 | B48: 415xxxxxx | C48: 37802 | D48: 340 | E48: d | F48: 68983
A49: 02000 | B49: 415xxxxxx | C49: 37830 | D49: 009 | E49: d | G49: 56017022
A50: 02000 | B50: 415xxxxxx | C50: 37830 | D50: 009 | E50: d | F50: 56017022
A51: 02000 | B51: 415xxxxxx | C51: 38800 | D51: 009 | E51: d | G51: 30837011
A52: 02000 | B52: 415xxxxxx | C52: 38828 | D52: 009 | E52: d | F52: 15418505
A53: 02000 | B53: 415xxxxxx | C53: 38919 | D53: 009 | E53: d | F53: 15418505
A54: 02000 | B54: 415xxxxxx | C54: 39100 | D54: 340 | E54: d | F54: 61146
A55: 02000 | B55: 415xxxxxx | C55: 39100 | D55: 340 | E55: d | G55: 61146
A56: 01100 | B56: 415xxxxxx | C56: 39356 | D56: 001 | E56: d | G56: 653950
A57: 01100 | B57: 415xxxxxx | C57: 39384 | D57: 001 | E57: d | G57: 51605
A58: 02000 | B58: 415xxxxxx | C58: 39384 | D58: 001 | E58: d | G58: 500000
A59: 02000 | B59: 415xxxxxx | C59: 39547 | D59: 001 | E59: d | G59: 285694
A60: 02000 | B60: 415xxxxxx | C60: 39756 | D60: 001 | E60: d | G60: 46600
A61: 02000 | B61: 415xxxxxx | C61: 39834 | D61: 001 | E61: d | F61: 285694
A62: 01100 | B62: 415xxxxxx | C62: 40155 | D62: 009 | E62: d | F62: 3902944
A63: 01100 | B63: 415xxxxxx | C63: 40155 | D63: 009 | E63: d | G63: 3902944
A64: 01100 | B64: 415xxxxxx | C64: 40170 | D64: 009 | E64: d | G64: 3246981
A65: 01100 | B65: 415xxxxxx | C65: 40170 | D65: 009 | E65: d | F65: 3246981
A66: 01100 | B66: 415xxxxxx | C66: 40171 | D66: 009 | E66: d | G66: 655957
A67: 01100 | B67: 415xxxxxx | C67: 40171 | D67: 009 | E67: d | F67: 655957
A68: 02000 | B68: 415xxxxxx | C68: 40371 | D68: 009 | E68: d | G68: 23104380
A69: 02000 | B69: 415xxxxxx | C69: 40375 | D69: 009 | E69: d | F69: 17514052
A70: 02000 | B70: 415xxxxxx | C70: 40407 | D70: 009 | E70: d | F70: 5590328
A71: 01100 | B71: 415xxxxxx | C71: 40536 | D71: 001 | E71: d | G71: 56839
A72: 01100 | B72: 415xxxxxx | C72: 40543 | D72: 001 | E72: d | F72: 56389
A73: 01100 | B73: 415xxxxxx | C73: 40686 | D73: 001 | E73: d | G73: 1360200
A74: 02000 | B74: 415xxxxxx | C74: 40801 | D74: 001 | E74: d | G74: 282500
A75: 01100 | B75: 415xxxxxx | C75: 40906 | D75: 001 | E75: d | F75: 653952
F77: =SUM(F6:F75) -> 1140359685 | G77: =SUM(G6:G75) -> 1142601039
H78: > 1 ANS
F79: =+G77-F77 -> 2241354
F81: =COUNT(F6:F75)+COUNT(G6:G75) -> 70
A82: 02000 | B82: 415xxxxxx | C82: 41423 | D82: 009 | E82: d | G82: 3572112
A83: 02000 | B83: 415xxxxxx | C83: 41423 | D83: 009 | E83: d | G83: 5098058
A84: 02000 | B84: 415xxxxxx | C84: 41467 | D84: 009 | E84: d | F84: 5098058
A85: 02000 | B85: 415xxxxxx | C85: 41467 | D85: 009 | E85: d | F85: 35470
A86: 02000 | B86: 415xxxxxx | C86: 41607 | D86: 009 | E86: d | F86: 64283755
A87: 02000 | B87: 415xxxxxx | C87: 41607 | D87: 009 | E87: d | G87: 64283786
F89: =SUM(F82:F88) -> 69417283 | G89: =SUM(G82:G88) -> 72953956
H90: 3 MOIS => 1 ANS
F91: =+G89-F89 -> 3536673
F92: =COUNT(F82:F87)+COUNT(G82:G87) -> 6
A94: 02000 | B94: 415xxxxxx | C94: 41722 | D94: 009 | E94: d | F94: 6030213
A95: 02000 | B95: 415xxxxxx | C95: 41722 | D95: 009 | E95: d | G95: 6030213
A96: 02000 | B96: 415xxxxxx | C96: 41729 | D96: 009 | E96: d | F96: 13119140
A97: 02000 | B97: 415xxxxxx | C97: 41729 | D97: 009 | E97: d | G97: 13119140
A98: 02000 | B98: 415xxxxxx | C98: 41768 | D98: 001 | E98: d | F98: 5029387
A99: 02000 | B99: 415xxxxxx | C99: 41768 | D99: 001 | E99: d | G99: 5029387
A100: 02000 | B100: 415xxxxxx | C100: 41793 | D100: 340 | E100: d | F100: 32603423
A101: 02000 | B101: 415xxxxxx | C101: 41793 | D101: 340 | E101: d | G101: 32603423
A102: 02000 | B102: 415xxxxxx | C102: 41808 | D102: 340 | E102: d | F102: 2958440
A103: 02000 | B103: 415xxxxxx | C103: 41808 | D103: 340 | E103: d | G103: 29987995
F105: =SUM(F94:F104) -> 59740603 | G105: =SUM(G94:G104) -> 86770158
E107: SOLDE | G107: =+G105-F105 -> 27029555 | H107: 8 JOURS => 3 MOIS
F108: =COUNT(F94:F103)+COUNT(G94:G103) -> 10
A110: 03000 | B110: 415xxxxxx | C110: 41816 | D110: 001 | E110: d | G110: 250000
A111: 02000 | B111: 415xxxxxx | C111: 41817 | D111: 340 | E111: d | G111: 32374343
...

Sheet carto
A1: Cartographie des suspens au 30/06/2014
A2: Chapitre | B2: Libellé | C2: Solde balance générale au 30/06/2014 | D2: Antériorité
D3: < 8 jours | F3: 8 jours => 3 mois | H3: 3 mois => 1 an | J3: > 1 an
D4: En valeur | E4: En nb | F4: En valeur | G4: En nb | H4: En valeur | I4: En nb | J4: En valeur | K4: En nb
A5: 38 | B5: DISPOSITIONS A PAYER | C5: 7.1650747e+09 | D5: 1619173850 | E5: 588 | F5: 3410016488 | G5: 3916 | H5: 364498031 | I5: 1523 | J5: 1.7713864e+09 | K5: 14868
A6: 40 | B6: FOURNISSEURS | C6: -245773335 | D6: ='exemple du travail manuel 40'!F293 -> 598732905 | E6: ='exemple du travail manuel 40'!F294 -> 181 | F6: ='exemple du travail manuel 40'!G107 -> 27029555 | G6: ='exemple du travail manuel 40'!F108 -> 10 | H6: ='exemple du travail manuel 40'!F91 -> 3536673 | I6: ='exemple du travail manuel 40'!F92 -> 6 | J6: ='exemple du travail manuel 40'!F79 -> 2241354 | K6: ='exemple du travail manuel 40'!F81 -> 70 | L6: remplissage manuelle
A7: 41 | B7: CHEQUES A EFFETS A L'ENCAISSEMENT | C7: 6.0014015e+08 | D7: 6.0014015e+08 | E7: 195 | F7: 0 | G7: 0 | H7: 0 | I7: 0 | J7: 0
A8: 43 | B8: ETAT ET ORGANISMES INTERNATIONAUX | C8: 428036869 | D8: 0 | E8: 0 | F8: 428036869 | G8: 134 | H8: 0 | I8: 0 | J8: 0 | K8: 0
A9: 45 | B9: COMPTES DE LIAISON | C9: -1.1814303e+09 | D9: -67539562 | E9: 213 | F9: -210453495 | G9: 51 | H9: -284143476 | I9: 98 | J9: -6.1929377e+08 | K9: 40
A11: TOTAL GENERAL | C11: =SUM(C5:C10) -> 6.7660481e+09 | D11: =SUM(D5:D10) -> 2.7505073e+09 | E11: =SUM(E5:E10) -> 1177 | F11: =SUM(F5:F10) -> 3654629417 | G11: =SUM(G5:G10) -> 4111 | H11: =SUM(H5:H10) -> 83891228 | I11: =SUM(I5:I10) -> 1627 | J11: =SUM(J5:J10) -> 1.154334e+09 | K11: =SUM(K5:K10) -> 14978
