Workbook
Name ferie: Données!$Q$3:$Q$15

Sheet Planning
A1: 2026
A2: =DATE(A1,1,1) -> 46023 | D2: =EDATE(A2,1) -> 46054 | G2: =EDATE(D2,1) -> 46082 | J2: =EDATE(G2,1) -> 46113 | M2: =EDATE(J2,1) -> 46143 | P2: =EDATE(M2,1) -> 46174 | S2: =EDATE(P2,1) -> 46204 | V2: =EDATE(S2,1) -> 46235 | Y2: =EDATE(V2,1) -> 46266 | AB2: =EDATE(Y2,1) -> 46296 | AE2: =EDATE(AB2,1) -> 46327 | AH2: =EDATE(AE2,1) -> 46357
A3: =A2 -> 46023 | B3: =A2 -> 46023 | C3: =IFERROR(OFFSET(Données!$A$1,1,MOD(B3+5,14)),"") -> T | D3: =D2 -> 46054 | E3: =D2 -> 46054 | F3: =IFERROR(OFFSET(Données!$A$1,1,MOD(E3+5,14)),"") -> R | G3: =G2 -> 46082 | H3: =G2 -> 46082 | I3: =IFERROR(OFFSET(Données!$A$1,1,MOD(H3+5,14)),"") -> R | J3: =J2 -> 46113 | K3: =J2 -> 46113 | L3: =IFERROR(OFFSET(Données!$A$1,1,MOD(K3+5,14)),"") -> R | M3: =M2 -> 46143 | N3: =M2 -> 46143 | O3: =IFERROR(OFFSET(Données!$A$1,1,MOD(N3+5,14)),"") -> T | P3: =P2 -> 46174 | Q3: =P2 -> 46174 | R3: =IFERROR(OFFSET(Données!$A$1,1,MOD(Q3+5,14)),"") -> R | S3: =S2 -> 46204 | T3: =S2 -> 46204 | U3: =IFERROR(OFFSET(Données!$A$1,1,MOD(T3+5,14)),"") -> T | V3: =V2 -> 46235 | W3: =V2 -> 46235 | X3: =IFERROR(OFFSET(Données!$A$1,1,MOD(W3+5,14)),"") -> R | Y3: =Y2 -> 46266 | Z3: =Y2 -> 46266 | AA3: =IFERROR(OFFSET(Données!$A$1,1,MOD(Z3+5,14)),"") -> T | AB3: =AB2 -> 46296 | AC3: =AB2 -> 46296 | AD3: =IFERROR(OFFSET(Données!$A$1,1,MOD(AC3+5,14)),"") -> R | AE3: =AE2 -> 46327 | AF3: =AE2 -> 46327 | AG3: =IFERROR(OFFSET(Données!$A$1,1,MOD(AF3+5,14)),"") -> T | AH3: =AH2 -> 46357 | AI3: =AH2 -> 46357 | AJ3: =IFERROR(OFFSET(Données!$A$1,1,MOD(AI3+5,14)),"") -> R
A4: =B4 -> 46024 | B4: =B3+1 -> 46024 | C4: =IFERROR(OFFSET(Données!$A$1,1,MOD(B4+5,14)),"") -> R | D4: =E4 -> 46055 | E4: =E3+1 -> 46055 | F4: =IFERROR(OFFSET(Données!$A$1,1,MOD(E4+5,14)),"") -> T | G4: =H4 -> 46083 | H4: =H3+1 -> 46083 | I4: =IFERROR(OFFSET(Données!$A$1,1,MOD(H4+5,14)),"") -> T | J4: =K4 -> 46114 | K4: =K3+1 -> 46114 | L4: =IFERROR(OFFSET(Données!$A$1,1,MOD(K4+5,14)),"") -> R | M4: =N4 -> 46144 | N4: =N3+1 -> 46144 | O4: =IFERROR(OFFSET(Données!$A$1,1,MOD(N4+5,14)),"") -> T | P4: =Q4 -> 46175 | Q4: =Q3+1 -> 46175 | R4: =IFERROR(OFFSET(Données!$A$1,1,MOD(Q4+5,14)),"") -> R | S4: =T4 -> 46205 | T4: =T3+1 -> 46205 | U4: =IFERROR(OFFSET(Données!$A$1,1,MOD(T4+5,14)),"") -> T | V4: =W4 -> 46236 | W4: =W3+1 -> 46236 | X4: =IFERROR(OFFSET(Données!$A$1,1,MOD(W4+5,14)),"") -> R | Y4: =Z4 -> 46267 | Z4: =Z3+1 -> 46267 | AA4: =IFERROR(OFFSET(Données!$A$1,1,MOD(Z4+5,14)),"") -> R | AB4: =AC4 -> 46297 | AC4: =AC3+1 -> 46297 | AD4: =IFERROR(OFFSET(Données!$A$1,1,MOD(AC4+5,14)),"") -> T | AE4: =AF4 -> 46328 | AF4: =AF3+1 -> 46328 | AG4: =IFERROR(OFFSET(Données!$A$1,1,MOD(AF4+5,14)),"") -> R | AH4: =AI4 -> 46358 | AI4: =AI3+1 -> 46358 | AJ4: =IFERROR(OFFSET(Données!$A$1,1,MOD(AI4+5,14)),"") -> T
A5: =B5 -> 46025 | B5: =B4+1 -> 46025 | C5: =IFERROR(OFFSET(Données!$A$1,1,MOD(B5+5,14)),"") -> R | D5: =E5 -> 46056 | E5: =E4+1 -> 46056 | F5: =IFERROR(OFFSET(Données!$A$1,1,MOD(E5+5,14)),"") -> T | G5: =H5 -> 46084 | H5: =H4+1 -> 46084 | I5: =IFERROR(OFFSET(Données!$A$1,1,MOD(H5+5,14)),"") -> T | J5: =K5 -> 46115 | K5: =K4+1 -> 46115 | L5: =IFERROR(OFFSET(Données!$A$1,1,MOD(K5+5,14)),"") -> T | M5: =N5 -> 46145 | N5: =N4+1 -> 46145 | O5: =IFERROR(OFFSET(Données!$A$1,1,MOD(N5+5,14)),"") -> T | P5: =Q5 -> 46176 | Q5: =Q4+1 -> 46176 | R5: =IFERROR(OFFSET(Données!$A$1,1,MOD(Q5+5,14)),"") -> T | S5: =T5 -> 46206 | T5: =T4+1 -> 46206 | U5: =IFERROR(OFFSET(Données!$A$1,1,MOD(T5+5,14)),"") -> R | V5: =W5 -> 46237 | W5: =W4+1 -> 46237 | X5: =IFERROR(OFFSET(Données!$A$1,1,MOD(W5+5,14)),"") -> T | Y5: =Z5 -> 46268 | Z5: =Z4+1 -> 46268 | AA5: =IFERROR(OFFSET(Données!$A$1,1,MOD(Z5+5,14)),"") -> R | AB5: =AC5 -> 46298 | AC5: =AC4+1 -> 46298 | AD5: =IFERROR(OFFSET(Données!$A$1,1,MOD(AC5+5,14)),"") -> T | AE5: =AF5 -> 46329 | AF5: =AF4+1 -> 46329 | AG5: =IFERROR(OFFSET(Données!$A$1,1,MOD(AF5+5,14)),"") -> R | AH5: =AI5 -> 46359 | AI5: =AI4+1 -> 46359 | AJ5: =IFERROR(OFFSET(Données!$A$1,1,MOD(AI5+5,14)),"") -> T
A6: =B6 -> 46026 | B6: =B5+1 -> 46026 | C6: =IFERROR(OFFSET(Données!$A$1,1,MOD(B6+5,14)),"") -> R | D6: =E6 -> 46057 | E6: =E5+1 -> 46057 | F6: =IFERROR(OFFSET(Données!$A$1,1,MOD(E6+5,14)),"") -> R | G6: =H6 -> 46085 | H6: =H5+1 -> 46085 | I6: =IFERROR(OFFSET(Données!$A$1,1,MOD(H6+5,14)),"") -> R | J6: =K6 -> 46116 | K6: =K5+1 -> 46116 | L6: =IFERROR(OFFSET(Données!$A$1,1,MOD(K6+5,14)),"") -> T | M6: =N6 -> 46146 | N6: =N5+1 -> 46146 | O6: =IFERROR(OFFSET(Données!$A$1,1,MOD(N6+5,14)),"") -> R | P6: =Q6 -> 46177 | Q6: =Q5+1 -> 46177 | R6: =IFERROR(OFFSET(Données!$A$1,1,MOD(Q6+5,14)),"") -> T | S6: =T6 -> 46207 | T6: =T5+1 -> 46207 | U6: =IFERROR(OFFSET(Données!$A$1,1,MOD(T6+5,14)),"") -> R | V6: =W6 -> 46238 | W6: =W5+1 -> 46238 | X6: =IFERROR(OFFSET(Données!$A$1,1,MOD(W6+5,14)),"") -> T | Y6: =Z6 -> 46269 | Z6: =Z5+1 -> 46269 | AA6: =IFERROR(OFFSET(Données!$A$1,1,MOD(Z6+5,14)),"") -> T | AB6: =AC6 -> 46299 | AC6: =AC5+1 -> 46299 | AD6: =IFERROR(OFFSET(Données!$A$1,1,MOD(AC6+5,14)),"") -> T | AE6: =AF6 -> 46330 | AF6: =AF5+1 -> 46330 | AG6: =IFERROR(OFFSET(Données!$A$1,1,MOD(AF6+5,14)),"") -> T | AH6: =AI6 -> 46360 | AI6: =AI5+1 -> 46360 | AJ6: =IFERROR(OFFSET(Données!$A$1,1,MOD(AI6+5,14)),"") -> R
A7: =B7 -> 46027 | B7: =B6+1 -> 46027 | C7: =IFERROR(OFFSET(Données!$A$1,1,MOD(B7+5,14)),"") -> T | D7: =E7 -> 46058 | E7: =E6+1 -> 46058 | F7: =IFERROR(OFFSET(Données!$A$1,1,MOD(E7+5,14)),"") -> R | G7: =H7 -> 46086 | H7: =H6+1 -> 46086 | I7: =IFERROR(OFFSET(Données!$A$1,1,MOD(H7+5,14)),"") -> R | J7: =K7 -> 46117 | K7: =K6+1 -> 46117 | L7: =IFERROR(OFFSET(Données!$A$1,1,MOD(K7+5,14)),"") -> T | M7: =N7 -> 46147 | N7: =N6+1 -> 46147 | O7: =IFERROR(OFFSET(Données!$A$1,1,MOD(N7+5,14)),"") -> R | P7: =Q7 -> 46178 | Q7: =Q6+1 -> 46178 | R7: =IFERROR(OFFSET(Données!$A$1,1,MOD(Q7+5,14)),"") -> R | S7: =T7 -> 46208 | T7: =T6+1 -> 46208 | U7: =IFERROR(OFFSET(Données!$A$1,1,MOD(T7+5,14)),"") -> R | V7: =W7 -> 46239 | W7: =W6+1 -> 46239 | X7: =IFERROR(OFFSET(Données!$A$1,1,MOD(W7+5,14)),"") -> R | Y7: =Z7 -> 46270 | Z7: =Z6+1 -> 46270 | AA7: =IFERROR(OFFSET(Données!$A$1,1,MOD(Z7+5,14)),"") -> T | AB7: =AC7 -> 46300 | AC7: =AC6+1 -> 46300 | AD7: =IFERROR(OFFSET(Données!$A$1,1,MOD(AC7+5,14)),"") -> R | AE7: =AF7 -> 46331 | AF7: =AF6+1 -> 46331 | AG7: =IFERROR(OFFSET(Données!$A$1,1,MOD(AF7+5,14)),"") -> T | AH7: =AI7 -> 46361 | AI7: =AI6+1 -> 46361 | AJ7: =IFERROR(OFFSET(Données!$A$1,1,MOD(AI7+5,14)),"") -> R
A8: =B8 -> 46028 | B8: =B7+1 -> 46028 | C8: =IFERROR(OFFSET(Données!$A$1,1,MOD(B8+5,14)),"") -> T | D8: =E8 -> 46059 | E8: =E7+1 -> 46059 | F8: =IFERROR(OFFSET(Données!$A$1,1,MOD(E8+5,14)),"") -> T | G8: =H8 -> 46087 | H8: =H7+1 -> 46087 | I8: =IFERROR(OFFSET(Données!$A$1,1,MOD(H8+5,14)),"") -> T | J8: =K8 -> 46118 | K8: =K7+1 -> 46118 | L8: =IFERROR(OFFSET(Données!$A$1,1,MOD(K8+5,14)),"") -> R | M8: =N8 -> 46148 | N8: =N7+1 -> 46148 | O8: =IFERROR(OFFSET(Données!$A$1,1,MOD(N8+5,14)),"") -> T | P8: =Q8 -> 46179 | Q8: =Q7+1 -> 46179 | R8: =IFERROR(OFFSET(Données!$A$1,1,MOD(Q8+5,14)),"") -> R | S8: =T8 -> 46209 | T8: =T7+1 -> 46209 | U8: =IFERROR(OFFSET(Données!$A$1,1,MOD(T8+5,14)),"") -> T | V8: =W8 -> 46240 | W8: =W7+1 -> 46240 | X8: =IFERROR(OFFSET(Données!$A$1,1,MOD(W8+5,14)),"") -> R | Y8: =Z8 -> 46271 | Z8: =Z7+1 -> 46271 | AA8: =IFERROR(OFFSET(Données!$A$1,1,MOD(Z8+5,14)),"") -> T | AB8: =AC8 -> 46301 | AC8: =AC7+1 -> 46301 | AD8: =IFERROR(OFFSET(Données!$A$1,1,MOD(AC8+5,14)),"") -> R | AE8: =AF8 -> 46332 | AF8: =AF7+1 -> 46332 | AG8: =IFERROR(OFFSET(Données!$A$1,1,MOD(AF8+5,14)),"") -> R | AH8: =AI8 -> 46362 | AI8: =AI7+1 -> 46362 | AJ8: =IFERROR(OFFSET(Données!$A$1,1,MOD(AI8+5,14)),"") -> R
A9: =B9 -> 46029 | B9: =B8+1 -> 46029 | C9: =IFERROR(OFFSET(Données!$A$1,1,MOD(B9+5,14)),"") -> R | D9: =E9 -> 46060 | E9: =E8+1 -> 46060 | F9: =IFERROR(OFFSET(Données!$A$1,1,MOD(E9+5,14)),"") -> T | G9: =H9 -> 46088 | H9: =H8+1 -> 46088 | I9: =IFERROR(OFFSET(Données!$A$1,1,MOD(H9+5,14)),"") -> T | J9: =K9 -> 46119 | K9: =K8+1 -> 46119 | L9: =IFERROR(OFFSET(Données!$A$1,1,MOD(K9+5,14)),"") -> R | M9: =N9 -> 46149 | N9: =N8+1 -> 46149 | O9: =IFERROR(OFFSET(Données!$A$1,1,MOD(N9+5,14)),"") -> T | P9: =Q9 -> 46180 | Q9: =Q8+1 -> 46180 | R9: =IFERROR(OFFSET(Données!$A$1,1,MOD(Q9+5,14)),"") -> R | S9: =T9 -> 46210 | T9: =T8+1 -> 46210 | U9: =IFERROR(OFFSET(Données!$A$1,1,MOD(T9+5,14)),"") -> T | V9: =W9 -> 46241 | W9: =W8+1 -> 46241 | X9: =IFERROR(OFFSET(Données!$A$1,1,MOD(W9+5,14)),"") -> T | Y9: =Z9 -> 46272 | Z9: =Z8+1 -> 46272 | AA9: =IFERROR(OFFSET(Données!$A$1,1,MOD(Z9+5,14)),"") -> R | AB9: =AC9 -> 46302 | AC9: =AC8+1 -> 46302 | AD9: =IFERROR(OFFSET(Données!$A$1,1,MOD(AC9+5,14)),"") -> T | AE9: =AF9 -> 46333 | AF9: =AF8+1 -> 46333 | AG9: =IFERROR(OFFSET(Données!$A$1,1,MOD(AF9+5,14)),"") -> R | AH9: =AI9 -> 46363 | AI9: =AI8+1 -> 46363 | AJ9: =IFERROR(OFFSET(Données!$A$1,1,MOD(AI9+5,14)),"") -> T
A10: =B10 -> 46030 | B10: =B9+1 -> 46030 | C10: =IFERROR(OFFSET(Données!$A$1,1,MOD(B10+5,14)),"") -> R | D10: =E10 -> 46061 | E10: =E9+1 -> 46061 | F10: =IFERROR(OFFSET(Données!$A$1,1,MOD(E10+5,14)),"") -> T | G10: =H10 -> 46089 | H10: =H9+1 -> 46089 | I10: =IFERROR(OFFSET(Données!$A$1,1,MOD(H10+5,14)),"") -> T | J10: =K10 -> 46120 | K10: =K9+1 -> 46120 | L10: =IFERROR(OFFSET(Données!$A$1,1,MOD(K10+5,14)),"") -> T | M10: =N10 -> 46150 | N10: =N9+1 -> 46150 | O10: =IFERROR(OFFSET(Données!$A$1,1,MOD(N10+5,14)),"") -> R | P10: =Q10 -> 46181 | Q10: =Q9+1 -> 46181 | R10: =IFERROR(OFFSET(Données!$A$1,1,MOD(Q10+5,14)),"") -> T | S10: =T10 -> 46211 | T10: =T9+1 -> 46211 | U10: =IFERROR(OFFSET(Données!$A$1,1,MOD(T10+5,14)),"") -> R | V10: =W10 -> 46242 | W10: =W9+1 -> 46242 | X10: =IFERROR(OFFSET(Données!$A$1,1,MOD(W10+5,14)),"") -> T | Y10: =Z10 -> 46273 | Z10: =Z9+1 -> 46273 | AA10: =IFERROR(OFFSET(Données!$A$1,1,MOD(Z10+5,14)),"") -> R | AB10: =AC10 -> 46303 | AC10: =AC9+1 -> 46303 | AD10: =IFERROR(OFFSET(Données!$A$1,1,MOD(AC10+5,14)),"") -> T | AE10: =AF10 -> 46334 | AF10: =AF9+1 -> 46334 | AG10: =IFERROR(OFFSET(Données!$A$1,1,MOD(AF10+5,14)),"") -> R | AH10: =AI10 -> 46364 | AI10: =AI9+1 -> 46364 | AJ10: =IFERROR(OFFSET(Données!$A$1,1,MOD(AI10+5,14)),"") -> T
A11: =B11 -> 46031 | B11: =B10+1 -> 46031 | C11: =IFERROR(OFFSET(Données!$A$1,1,MOD(B11+5,14)),"") -> T | D11: =E11 -> 46062 | E11: =E10+1 -> 46062 | F11: =IFERROR(OFFSET(Données!$A$1,1,MOD(E11+5,14)),"") -> R | G11: =H11 -> 46090 | H11: =H10+1 -> 46090 | I11: =IFERROR(OFFSET(Données!$A$1,1,MOD(H11+5,14)),"") -> R | J11: =K11 -> 46121 | K11: =K10+1 -> 46121 | L11: =IFERROR(OFFSET(Données!$A$1,1,MOD(K11+5,14)),"") -> T | M11: =N11 -> 46151 | N11: =N10+1 -> 46151 | O11: =IFERROR(OFFSET(Données!$A$1,1,MOD(N11+5,14)),"") -> R | P11: =Q11 -> 46182 | Q11: =Q10+1 -> 46182 | R11: =IFERROR(OFFSET(Données!$A$1,1,MOD(Q11+5,14)),"") -> T | S11: =T11 -> 46212 | T11: =T10+1 -> 46212 | U11: =IFERROR(OFFSET(Données!$A$1,1,MOD(T11+5,14)),"") -> R | V11: =W11 -> 46243 | W11: =W10+1 -> 46243 | X11: =IFERROR(OFFSET(Données!$A$1,1,MOD(W11+5,14)),"") -> T | Y11: =Z11 -> 46274 | Z11: =Z10+1 -> 46274 | AA11: =IFERROR(OFFSET(Données!$A$1,1,MOD(Z11+5,14)),"") -> T | AB11: =AC11 -> 46304 | AC11: =AC10+1 -> 46304 | AD11: =IFERROR(OFFSET(Données!$A$1,1,MOD(AC11+5,14)),"") -> R | AE11: =AF11 -> 46335 | AF11: =AF10+1 -> 46335 | AG11: =IFERROR(OFFSET(Données!$A$1,1,MOD(AF11+5,14)),"") -> T | AH11: =AI11 -> 46365 | AI11: =AI10+1 -> 46365 | AJ11: =IFERROR(OFFSET(Données!$A$1,1,MOD(AI11+5,14)),"") -> R
A12: =B12 -> 46032 | B12: =B11+1 -> 46032 | C12: =IFERROR(OFFSET(Données!$A$1,1,MOD(B12+5,14)),"") -> T | D12: =E12 -> 46063 | E12: =E11+1 -> 46063 | F12: =IFERROR(OFFSET(Données!$A$1,1,MOD(E12+5,14)),"") -> R | G12: =H12 -> 46091 | H12: =H11+1 -> 46091 | I12: =IFERROR(OFFSET(Données!$A$1,1,MOD(H12+5,14)),"") -> R | J12: =K12 -> 46122 | K12: =K11+1 -> 46122 | L12: =IFERROR(OFFSET(Données!$A$1,1,MOD(K12+5,14)),"") -> R | M12: =N12 -> 46152 | N12: =N11+1 -> 46152 | O12: =IFERROR(OFFSET(Données!$A$1,1,MOD(N12+5,14)),"") -> R | P12: =Q12 -> 46183 | Q12: =Q11+1 -> 46183 | R12: =IFERROR(OFFSET(Données!$A$1,1,MOD(Q12+5,14)),"") -> R | S12: =T12 -> 46213 | T12: =T11+1 -> 46213 | U12: =IFERROR(OFFSET(Données!$A$1,1,MOD(T12+5,14)),"") -> T | V12: =W12 -> 46244 | W12: =W11+1 -> 46244 | X12: =IFERROR(OFFSET(Données!$A$1,1,MOD(W12+5,14)),"") -> R | Y12: =Z12 -> 46275 | Z12: =Z11+1 -> 46275 | AA12: =IFERROR(OFFSET(Données!$A$1,1,MOD(Z12+5,14)),"") -> T | AB12: =AC12 -> 46305 | AC12: =AC11+1 -> 46305 | AD12: =IFERROR(OFFSET(Données!$A$1,1,MOD(AC12+5,14)),"") -> R | AE12: =AF12 -> 46336 | AF12: =AF11+1 -> 46336 | AG12: =IFERROR(OFFSET(Données!$A$1,1,MOD(AF12+5,14)),"") -> T | AH12: =AI12 -> 46366 | AI12: =AI11+1 -> 46366 | AJ12: =IFERROR(OFFSET(Données!$A$1,1,MOD(AI12+5,14)),"") -> R
A13: =B13 -> 46033 | B13: =B12+1 -> 46033 | C13: =IFERROR(OFFSET(Données!$A$1,1,MOD(B13+5,14)),"") -> T | D13: =E13 -> 46064 | E13: =E12+1 -> 46064 | F13: =IFERROR(OFFSET(Données!$A$1,1,MOD(E13+5,14)),"") -> T | G13: =H13 -> 46092 | H13: =H12+1 -> 46092 | I13: =IFERROR(OFFSET(Données!$A$1,1,MOD(H13+5,14)),"") -> T | J13: =K13 -> 46123 | K13: =K12+1 -> 46123 | L13: =IFERROR(OFFSET(Données!$A$1,1,MOD(K13+5,14)),"") -> R | M13: =N13 -> 46153 | N13: =N12+1 -> 46153 | O13: =IFERROR(OFFSET(Données!$A$1,1,MOD(N13+5,14)),"") -> T | P13: =Q13 -> 46184 | Q13: =Q12+1 -> 46184 | R13: =IFERROR(OFFSET(Données!$A$1,1,MOD(Q13+5,14)),"") -> R | S13: =T13 -> 46214 | T13: =T12+1 -> 46214 | U13: =IFERROR(OFFSET(Données!$A$1,1,MOD(T13+5,14)),"") -> T | V13: =W13 -> 46245 | W13: =W12+1 -> 46245 | X13: =IFERROR(OFFSET(Données!$A$1,1,MOD(W13+5,14)),"") -> R | Y13: =Z13 -> 46276 | Z13: =Z12+1 -> 46276 | AA13: =IFERROR(OFFSET(Données!$A$1,1,MOD(Z13+5,14)),"") -> R | AB13: =AC13 -> 46306 | AC13: =AC12+1 -> 46306 | AD13: =IFERROR(OFFSET(Données!$A$1,1,MOD(AC13+5,14)),"") -> R | AE13: =AF13 -> 46337 | AF13: =AF12+1 -> 46337 | AG13: =IFERROR(OFFSET(Données!$A$1,1,MOD(AF13+5,14)),"") -> R | AH13: =AI13 -> 46367 | AI13: =AI12+1 -> 46367 | AJ13: =IFERROR(OFFSET(Données!$A$1,1,MOD(AI13+5,14)),"") -> T
A14: =B14 -> 46034 | B14: =B13+1 -> 46034 | C14: =IFERROR(OFFSET(Données!$A$1,1,MOD(B14+5,14)),"") -> R | D14: =E14 -> 46065 | E14: =E13+1 -> 46065 | F14: =IFERROR(OFFSET(Données!$A$1,1,MOD(E14+5,14)),"") -> T | G14: =H14 -> 46093 | H14: =H13+1 -> 46093 | I14: =IFERROR(OFFSET(Données!$A$1,1,MOD(H14+5,14)),"") -> T | J14: =K14 -> 46124 | K14: =K13+1 -> 46124 | L14: =IFERROR(OFFSET(Données!$A$1,1,MOD(K14+5,14)),"") -> R | M14: =N14 -> 46154 | N14: =N13+1 -> 46154 | O14: =IFERROR(OFFSET(Données!$A$1,1,MOD(N14+5,14)),"") -> T | P14: =Q14 -> 46185 | Q14: =Q13+1 -> 46185 | R14: =IFERROR(OFFSET(Données!$A$1,1,MOD(Q14+5,14)),"") -> T | S14: =T14 -> 46215 | T14: =T13+1 -> 46215 | U14: =IFERROR(OFFSET(Données!$A$1,1,MOD(T14+5,14)),"") -> T | V14: =W14 -> 46246 | W14: =W13+1 -> 46246 | X14: =IFERROR(OFFSET(Données!$A$1,1,MOD(W14+5,14)),"") -> T | Y14: =Z14 -> 46277 | Z14: =Z13+1 -> 46277 | AA14: =IFERROR(OFFSET(Données!$A$1,1,MOD(Z14+5,14)),"") -> R | AB14: =AC14 -> 46307 | AC14: =AC13+1 -> 46307 | AD14: =IFERROR(OFFSET(Données!$A$1,1,MOD(AC14+5,14)),"") -> T | AE14: =AF14 -> 46338 | AF14: =AF13+1 -> 46338 | AG14: =IFERROR(OFFSET(Données!$A$1,1,MOD(AF14+5,14)),"") -> R | AH14: =AI14 -> 46368 | AI14: =AI13+1 -> 46368 | AJ14: =IFERROR(OFFSET(Données!$A$1,1,MOD(AI14+5,14)),"") -> T
A15: =B15 -> 46035 | B15: =B14+1 -> 46035 | C15: =IFERROR(OFFSET(Données!$A$1,1,MOD(B15+5,14)),"") -> R | D15: =E15 -> 46066 | E15: =E14+1 -> 46066 | F15: =IFERROR(OFFSET(Données!$A$1,1,MOD(E15+5,14)),"") -> R | G15: =H15 -> 46094 | H15: =H14+1 -> 46094 | I15: =IFERROR(OFFSET(Données!$A$1,1,MOD(H15+5,14)),"") -> R | J15: =K15 -> 46125 | K15: =K14+1 -> 46125 | L15: =IFERROR(OFFSET(Données!$A$1,1,MOD(K15+5,14)),"") -> T | M15: =N15 -> 46155 | N15: =N14+1 -> 46155 | O15: =IFERROR(OFFSET(Données!$A$1,1,MOD(N15+5,14)),"") -> R | P15: =Q15 -> 46186 | Q15: =Q14+1 -> 46186 | R15: =IFERROR(OFFSET(Données!$A$1,1,MOD(Q15+5,14)),"") -> T | S15: =T15 -> 46216 | T15: =T14+1 -> 46216 | U15: =IFERROR(OFFSET(Données!$A$1,1,MOD(T15+5,14)),"") -> R | V15: =W15 -> 46247 | W15: =W14+1 -> 46247 | X15: =IFERROR(OFFSET(Données!$A$1,1,MOD(W15+5,14)),"") -> T | Y15: =Z15 -> 46278 | Z15: =Z14+1 -> 46278 | AA15: =IFERROR(OFFSET(Données!$A$1,1,MOD(Z15+5,14)),"") -> R | AB15: =AC15 -> 46308 | AC15: =AC14+1 -> 46308 | AD15: =IFERROR(OFFSET(Données!$A$1,1,MOD(AC15+5,14)),"") -> T | AE15: =AF15 -> 46339 | AF15: =AF14+1 -> 46339 | AG15: =IFERROR(OFFSET(Données!$A$1,1,MOD(AF15+5,14)),"") -> T | AH15: =AI15 -> 46369 | AI15: =AI14+1 -> 46369 | AJ15: =IFERROR(OFFSET(Données!$A$1,1,MOD(AI15+5,14)),"") -> T
... A30: =B30 -> 46050 | B30: =B29+1 -> 46050 | C30: =IFERROR(OFFSET(Données!$A$1,1,MOD(B30+5,14)),"") -> T | D30: =E30 -> 46081 | E30: =E29+1 -> 46081 | F30: =IFERROR(OFFSET(Données!$A$1,1,MOD(E30+5,14)),"") -> R | G30: =H30 -> 46109 | H30: =H29+1 -> 46109 | I30: =IFERROR(OFFSET(Données!$A$1,1,MOD(H30+5,14)),"") -> R | J30: =K30 -> 46140 | K30: =K29+1 -> 46140 | L30: =IFERROR(OFFSET(Données!$A$1,1,MOD(K30+5,14)),"") -> T | M30: =N30 -> 46170 | N30: =N29+1 -> 46170 | O30: =IFERROR(OFFSET(Données!$A$1,1,MOD(N30+5,14)),"") -> R | P30: =Q30 -> 46201 | Q30: =Q29+1 -> 46201 | R30: =IFERROR(OFFSET(Données!$A$1,1,MOD(Q30+5,14)),"") -> T | S30: =T30 -> 46231 | T30: =T29+1 -> 46231 | U30: =IFERROR(OFFSET(Données!$A$1,1,MOD(T30+5,14)),"") -> R | V30: =W30 -> 46262 | W30: =W29+1 -> 46262 | X30: =IFERROR(OFFSET(Données!$A$1,1,MOD(W30+5,14)),"") -> R | Y30: =Z30 -> 46293 | Z30: =Z29+1 -> 46293 | AA30: =IFERROR(OFFSET(Données!$A$1,1,MOD(Z30+5,14)),"") -> T | AB30: =AC30 -> 46323 | AC30: =AC29+1 -> 46323 | AD30: =IFERROR(OFFSET(Données!$A$1,1,MOD(AC30+5,14)),"") -> R | AE30: =AF30 -> 46354 | AF30: =AF29+1 -> 46354 | AG30: =IFERROR(OFFSET(Données!$A$1,1,MOD(AF30+5,14)),"") -> T | AH30: =AI30 -> 46384 | AI30: =AI29+1 -> 46384 | AJ30: =IFERROR(OFFSET(Données!$A$1,1,MOD(AI30+5,14)),"") -> R
A31: =B31 -> 46051 | B31: =B30+1 -> 46051 | C31: =IFERROR(OFFSET(Données!$A$1,1,MOD(B31+5,14)),"") -> T | D31: =E31 | E31: =IF(MONTH(E$30+1)=MONTH(D$2),E$30+1,"") | F31: =IFERROR(OFFSET(Données!$A$1,1,MOD(E31+5,14)),"") | G31: =H31 -> 46110 | H31: =H30+1 -> 46110 | I31: =IFERROR(OFFSET(Données!$A$1,1,MOD(H31+5,14)),"") -> R | J31: =K31 -> 46141 | K31: =K30+1 -> 46141 | L31: =IFERROR(OFFSET(Données!$A$1,1,MOD(K31+5,14)),"") -> R | M31: =N31 -> 46171 | N31: =N30+1 -> 46171 | O31: =IFERROR(OFFSET(Données!$A$1,1,MOD(N31+5,14)),"") -> T | P31: =Q31 -> 46202 | Q31: =Q30+1 -> 46202 | R31: =IFERROR(OFFSET(Données!$A$1,1,MOD(Q31+5,14)),"") -> R | S31: =T31 -> 46232 | T31: =T30+1 -> 46232 | U31: =IFERROR(OFFSET(Données!$A$1,1,MOD(T31+5,14)),"") -> T | V31: =W31 -> 46263 | W31: =W30+1 -> 46263 | X31: =IFERROR(OFFSET(Données!$A$1,1,MOD(W31+5,14)),"") -> R | Y31: =Z31 -> 46294 | Z31: =Z30+1 -> 46294 | AA31: =IFERROR(OFFSET(Données!$A$1,1,MOD(Z31+5,14)),"") -> T | AB31: =AC31 -> 46324 | AC31: =AC30+1 -> 46324 | AD31: =IFERROR(OFFSET(Données!$A$1,1,MOD(AC31+5,14)),"") -> R | AE31: =AF31 -> 46355 | AF31: =AF30+1 -> 46355 | AG31: =IFERROR(OFFSET(Données!$A$1,1,MOD(AF31+5,14)),"") -> T | AH31: =AI31 -> 46385 | AI31: =AI30+1 -> 46385 | AJ31: =IFERROR(OFFSET(Données!$A$1,1,MOD(AI31+5,14)),"") -> R
A32: =B32 -> 46052 | B32: =B31+1 -> 46052 | C32: =IFERROR(OFFSET(Données!$A$1,1,MOD(B32+5,14)),"") -> R | D32: =E32 | E32: =IF(MONTH(E$30+2)=MONTH(D$2),E$30+2,"") | F32: =IFERROR(OFFSET(Données!$A$1,1,MOD(E32,14)),"") | G32: =H32 -> 46111 | H32: =H31+1 -> 46111 | I32: =IFERROR(OFFSET(Données!$A$1,1,MOD(H32+5,14)),"") -> T | J32: =K32 -> 46142 | K32: =K31+1 -> 46142 | L32: =IFERROR(OFFSET(Données!$A$1,1,MOD(K32+5,14)),"") -> R | M32: =N32 -> 46172 | N32: =N31+1 -> 46172 | O32: =IFERROR(OFFSET(Données!$A$1,1,MOD(N32+5,14)),"") -> T | P32: =Q32 -> 46203 | Q32: =Q31+1 -> 46203 | R32: =IFERROR(OFFSET(Données!$A$1,1,MOD(Q32+5,14)),"") -> R | S32: =T32 -> 46233 | T32: =T31+1 -> 46233 | U32: =IFERROR(OFFSET(Données!$A$1,1,MOD(T32+5,14)),"") -> T | V32: =W32 -> 46264 | W32: =W31+1 -> 46264 | X32: =IFERROR(OFFSET(Données!$A$1,1,MOD(W32+5,14)),"") -> R | Y32: =Z32 -> 46295 | Z32: =Z31+1 -> 46295 | AA32: =IFERROR(OFFSET(Données!$A$1,1,MOD(Z32+5,14)),"") -> R | AB32: =AC32 -> 46325 | AC32: =AC31+1 -> 46325 | AD32: =IFERROR(OFFSET(Données!$A$1,1,MOD(AC32+5,14)),"") -> T | AE32: =AF32 -> 46356 | AF32: =AF31+1 -> 46356 | AG32: =IFERROR(OFFSET(Données!$A$1,1,MOD(AF32+5,14)),"") -> R | AH32: =AI32 -> 46386 | AI32: =AI31+1 -> 46386 | AJ32: =IFERROR(OFFSET(Données!$A$1,1,MOD(AI32+5,14)),"") -> T
A33: =B33 -> 46053 | B33: =B32+1 -> 46053 | C33: =IFERROR(OFFSET(Données!$A$1,1,MOD(B33+5,14)),"") -> R | D33: =E33 | E33: =IF(MONTH(E$30+3)=MONTH(D$2),E$30+3,"") | F33: =IFERROR(OFFSET(Données!$A$1,1,MOD(E33,14)),"") | G33: =H33 -> 46112 | H33: =H32+1 -> 46112 | I33: =IFERROR(OFFSET(Données!$A$1,1,MOD(H33+5,14)),"") -> T | M33: =N33 -> 46173 | N33: =N32+1 -> 46173 | O33: =IFERROR(OFFSET(Données!$A$1,1,MOD(N33+5,14)),"") -> T | S33: =T33 -> 46234 | T33: =T32+1 -> 46234 | U33: =IFERROR(OFFSET(Données!$A$1,1,MOD(T33+5,14)),"") -> R | V33: =W33 -> 46265 | W33: =W32+1 -> 46265 | X33: =IFERROR(OFFSET(Données!$A$1,1,MOD(W33+5,14)),"") -> T | AB33: =AC33 -> 46326 | AC33: =AC32+1 -> 46326 | AD33: =IFERROR(OFFSET(Données!$A$1,1,MOD(AC33+5,14)),"") -> T | AH33: =AI33 -> 46387 | AI33: =AI32+1 -> 46387 | AJ33: =IFERROR(OFFSET(Données!$A$1,1,MOD(AI33+5,14)),"") -> T

Sheet Données
A2: T | B2: T | C2: R | D2: R | E2: T | F2: T | G2: T | H2: R | I2: R | J2: T | K2: T | L2: R | M2: R | N2: R | P2: feries | Q2: =Planning!A1 -> 2026
P3: Nouvel An | Q3: =DATE(Q2,1,1) -> 46023
P4: Pâques | Q4: =FLOOR(DAY(MINUTE(Q2/38)/2+56)&"/5/"&Q2,7)-34 -> 46117
P5: Lundi de Pâques | Q5: =Q4+1 -> 46118
P6: Fête Du Travail | Q6: =DATE(Q2,5,1) -> 46143
P7: Comm. Victoire 1945 | Q7: =DATE(Q2,5,8) -> 46150
P8: Ascension | Q8: =Q4+39 -> 46156
P9: Pentecôte | Q9: =Q4+49 -> 46166
P10: Lundi de Pentecôte | Q10: =Q9+1 -> 46167
P11: Fête Nationale | Q11: =DATE(Q2,7,14) -> 46217
P12: Assomption | Q12: =DATE(Q2,8,15) -> 46249
P13: Toussaint | Q13: =DATE(Q2,11,1) -> 46327
P14: Comm. Armistice 1918 | Q14: =DATE(Q2,11,11) -> 46337
P15: Noël | Q15: =DATE(Q2,12,25) -> 46381
