Workbook

Sheet Avril-2025
A1: Date | B1: Arrivée | C1: Départ | D1: Pause | E1: Temps travail | F1: Delta (h) | H1: Semaine
A2: 45748 | B2: 0.375 | C2: 0.70833333 | D2: 0.041666667 | E2: =(C2 - B2) - D2 -> 0.29166667 | F2: =IF( COUNT(B2, C2)<2, "", IF( E2 - TIME(7,0,0) < 0, "-" & TEXT(ABS(E2 - TIME(7,0,0)), "h:mm"), TEXT(E2 - TIME(7,0,0), "h:mm") ) ) -> 0:00 | G2: =IF( COUNT(B2,C2)<2, , (E2*24) - 7 ) -> 0 | H2: =WEEKNUM(A2,2) -> 14 | J2: Semaine | K2: Delta total (h)
A3: 45749 | B3: 0.375 | C3: 0.70833333 | D3: 0.041666667 | E3: =(C3 - B3) - D3 -> 0.29166667 | F3: =IF( COUNT(B3, C3)<2, "", IF( E3 - TIME(7,0,0) < 0, "-" & TEXT(ABS(E3 - TIME(7,0,0)), "h:mm"), TEXT(E3 - TIME(7,0,0), "h:mm") ) ) -> 0:00 | G3: =IF( COUNT(B3,C3)<2, , (E3*24) - 7 ) -> 0 | H3: =WEEKNUM(A3,2) -> 14 | J3: 14 | K3: =IF(ISBLANK(L3), "", IF(L3<0, "-" & TEXT(ABS(L3)/24, "h:mm"), TEXT(L3/24, "h:mm"))) -> 0:03 | L3: =SUMIF(H:H, J3, G:G) -> 0.05
A4: 45750 | B4: 0.375 | C4: 0.70833333 | D4: 0.041666667 | E4: =(C4 - B4) - D4 -> 0.29166667 | F4: =IF( COUNT(B4, C4)<2, "", IF( E4 - TIME(7,0,0) < 0, "-" & TEXT(ABS(E4 - TIME(7,0,0)), "h:mm"), TEXT(E4 - TIME(7,0,0), "h:mm") ) ) -> 0:00 | G4: =IF( COUNT(B4,C4)<2, , (E4*24) - 7 ) -> 0 | H4: =WEEKNUM(A4,2) -> 14 | J4: 15 | K4: =IF(ISBLANK(L4), "", IF(L4<0, "-" & TEXT(ABS(L4)/24, "h:mm"), TEXT(L4/24, "h:mm"))) -> 1:23 | L4: =SUMIF(H:H, J4, G:G) -> 1.3833333
A5: 45751 | B5: 0.37916667 | C5: 0.71458333 | D5: 0.041666667 | E5: =(C5 - B5) - D5 -> 0.29375 | F5: =IF( COUNT(B5, C5)<2, "", IF( E5 - TIME(7,0,0) < 0, "-" & TEXT(ABS(E5 - TIME(7,0,0)), "h:mm"), TEXT(E5 - TIME(7,0,0), "h:mm") ) ) -> 0:03 | G5: =IF( COUNT(B5,C5)<2, , (E5*24) - 7 ) -> 0.05 | H5: =WEEKNUM(A5,2) -> 14 | J5: 16 | K5: =IF(ISBLANK(L5), "", IF(L5<0, "-" & TEXT(ABS(L5)/24, "h:mm"), TEXT(L5/24, "h:mm"))) -> 1:20 | L5: =SUMIF(H:H, J5, G:G) -> 1.3333333
A6: 45752 | D6: 0.041666667 | E6: =(C6 - B6) - D6 -> -0.041666667 | F6: =IF( COUNT(B6, C6)<2, "", IF( E6 - TIME(7,0,0) < 0, "-" & TEXT(ABS(E6 - TIME(7,0,0)), "h:mm"), TEXT(E6 - TIME(7,0,0), "h:mm") ) ) | G6: =IF( COUNT(B6,C6)<2, , (E6*24) - 7 ) -> 0 | H6: =WEEKNUM(A6,2) -> 14 | J6: 17 | K6: =IF(ISBLANK(L6), "", IF(L6<0, "-" & TEXT(ABS(L6)/24, "h:mm"), TEXT(L6/24, "h:mm"))) -> 1:37 | L6: =SUMIF(H:H, J6, G:G) -> 1.6166667
A7: 45753 | D7: 0.041666667 | E7: =(C7 - B7) - D7 -> -0.041666667 | F7: =IF( COUNT(B7, C7)<2, "", IF( E7 - TIME(7,0,0) < 0, "-" & TEXT(ABS(E7 - TIME(7,0,0)), "h:mm"), TEXT(E7 - TIME(7,0,0), "h:mm") ) ) | G7: =IF( COUNT(B7,C7)<2, , (E7*24) - 7 ) -> 0 | H7: =WEEKNUM(A7,2) -> 14 | J7: 18 | K7: =IF(ISBLANK(L7), "", IF(L7<0, "-" & TEXT(ABS(L7)/24, "h:mm"), TEXT(L7/24, "h:mm"))) -> 0:35 | L7: =SUMIF(H:H, J7, G:G) -> 0.58333333
A8: 45754 | B8: 0.33888889 | C8: 0.67638889 | D8: 0.041666667 | E8: =(C8 - B8) - D8 -> 0.29583333 | F8: =IF( COUNT(B8, C8)<2, "", IF( E8 - TIME(7,0,0) < 0, "-" & TEXT(ABS(E8 - TIME(7,0,0)), "h:mm"), TEXT(E8 - TIME(7,0,0), "h:mm") ) ) -> 0:06 | G8: =IF( COUNT(B8,C8)<2, , (E8*24) - 7 ) -> 0.1 | H8: =WEEKNUM(A8,2) -> 15 | K8: =IF(ISBLANK(L8), "", IF(L8<0, "-" & TEXT(ABS(L8)/24, "h:mm"), TEXT(L8/24, "h:mm")))
A9: 45755 | B9: 0.33541667 | C9: 0.67847222 | D9: 0.041666667 | E9: =(C9 - B9) - D9 -> 0.30138889 | F9: =IF( COUNT(B9, C9)<2, "", IF( E9 - TIME(7,0,0) < 0, "-" & TEXT(ABS(E9 - TIME(7,0,0)), "h:mm"), TEXT(E9 - TIME(7,0,0), "h:mm") ) ) -> 0:14 | G9: =IF( COUNT(B9,C9)<2, , (E9*24) - 7 ) -> 0.23333333 | H9: =WEEKNUM(A9,2) -> 15 | J9: Total mois | K9: =IF(ISBLANK(L9), "", IF(L9<0, "-" & TEXT(ABS(L9)/24, "h:mm"), TEXT(L9/24, "h:mm"))) -> 4:58 | L9: =SUM(L3:L7) -> 4.9666667
A10: 45756 | B10: 0.33402778 | C10: 0.67361111 | D10: 0.041666667 | E10: =(C10 - B10) - D10 -> 0.29791667 | F10: =IF( COUNT(B10, C10)<2, "", IF( E10 - TIME(7,0,0) < 0, "-" & TEXT(ABS(E10 - TIME(7,0,0)), "h:mm"), TEXT(E10 - TIME(7,0,0), "h:mm") ) ) -> 0:09 | G10: =IF( COUNT(B10,C10)<2, , (E10*24) - 7 ) -> 0.15 | H10: =WEEKNUM(A10,2) -> 15 | J10: Total année | K10: =IF(ISBLANK(L10), "", IF(L10<0, "-" & TEXT(ABS(L10)/24, "h:mm"), TEXT(L10/24, "h:mm"))) -> 21:46 | L10: =SUM(L14:L22) -> 45.766667
A11: 45757 | B11: 0.33888889 | C11: 0.68819444 | D11: 0.041666667 | E11: =(C11 - B11) - D11 -> 0.30763889 | F11: =IF( COUNT(B11, C11)<2, "", IF( E11 - TIME(7,0,0) < 0, "-" & TEXT(ABS(E11 - TIME(7,0,0)), "h:mm"), TEXT(E11 - TIME(7,0,0), "h:mm") ) ) -> 0:23 | G11: =IF( COUNT(B11,C11)<2, , (E11*24) - 7 ) -> 0.38333333 | H11: =WEEKNUM(A11,2) -> 15
A12: 45758 | B12: 0.34513889 | C12: 0.7 | D12: 0.041666667 | E12: =(C12 - B12) - D12 -> 0.31319444 | F12: =IF( COUNT(B12, C12)<2, "", IF( E12 - TIME(7,0,0) < 0, "-" & TEXT(ABS(E12 - TIME(7,0,0)), "h:mm"), TEXT(E12 - TIME(7,0,0), "h:mm") ) ) -> 0:31 | G12: =IF( COUNT(B12,C12)<2, , (E12*24) - 7 ) -> 0.51666667 | H12: =WEEKNUM(A12,2) -> 15
A13: 45759 | D13: 0.041666667 | E13: =(C13 - B13) - D13 -> -0.041666667 | F13: =IF( COUNT(B13, C13)<2, "", IF( E13 - TIME(7,0,0) < 0, "-" & TEXT(ABS(E13 - TIME(7,0,0)), "h:mm"), TEXT(E13 - TIME(7,0,0), "h:mm") ) ) | G13: =IF( COUNT(B13,C13)<2, , (E13*24) - 7 ) -> 0 | H13: =WEEKNUM(A13,2) -> 15
A14: 45760 | D14: 0.041666667 | E14: =(C14 - B14) - D14 -> -0.041666667 | F14: =IF( COUNT(B14, C14)<2, "", IF( E14 - TIME(7,0,0) < 0, "-" & TEXT(ABS(E14 - TIME(7,0,0)), "h:mm"), TEXT(E14 - TIME(7,0,0), "h:mm") ) ) | G14: =IF( COUNT(B14,C14)<2, , (E14*24) - 7 ) -> 0 | H14: =WEEKNUM(A14,2) -> 15 | J14: Avril | K14: =IF(ISBLANK(L14), "", IF(L14<0, "-" & TEXT(ABS(L14)/24, "h:mm"), TEXT(L14/24, "h:mm"))) -> 4:58 | L14: ='Avril-2025'!L9 -> 4.9666667
A15: 45761 | B15: 0.33958333 | C15: 0.67638889 | D15: 0.041666667 | E15: =(C15 - B15) - D15 -> 0.29513889 | F15: =IF( COUNT(B15, C15)<2, "", IF( E15 - TIME(7,0,0) < 0, "-" & TEXT(ABS(E15 - TIME(7,0,0)), "h:mm"), TEXT(E15 - TIME(7,0,0), "h:mm") ) ) -> 0:05 | G15: =IF( COUNT(B15,C15)<2, , (E15*24) - 7 ) -> 0.083333333 | H15: =WEEKNUM(A15,2) -> 16 | J15: Mai | K15: =IF(ISBLANK(L15), "", IF(L15<0, "-" & TEXT(ABS(L15)/24, "h:mm"), TEXT(L15/24, "h:mm"))) -> 5:27 | L15: ='Mai-2025'!L9 -> 5.45
A16: 45762 | B16: 0.33680556 | C16: 0.70902778 | D16: 0.041666667 | E16: =(C16 - B16) - D16 -> 0.33055556 | F16: =IF( COUNT(B16, C16)<2, "", IF( E16 - TIME(7,0,0) < 0, "-" & TEXT(ABS(E16 - TIME(7,0,0)), "h:mm"), TEXT(E16 - TIME(7,0,0), "h:mm") ) ) -> 0:56 | G16: =IF( COUNT(B16,C16)<2, , (E16*24) - 7 ) -> 0.93333333 | H16: =WEEKNUM(A16,2) -> 16 | J16: Juin | K16: =IF(ISBLANK(L16), "", IF(L16<0, "-" & TEXT(ABS(L16)/24, "h:mm"), TEXT(L16/24, "h:mm"))) -> -6:37 | L16: ='Juin-2025'!L9 -> -6.6166667
A17: 45763 | B17: 0.34166667 | C17: 0.68541667 | D17: 0.041666667 | E17: =(C17 - B17) - D17 -> 0.30208333 | F17: =IF( COUNT(B17, C17)<2, "", IF( E17 - TIME(7,0,0) < 0, "-" & TEXT(ABS(E17 - TIME(7,0,0)), "h:mm"), TEXT(E17 - TIME(7,0,0), "h:mm") ) ) -> 0:15 | G17: =IF( COUNT(B17,C17)<2, , (E17*24) - 7 ) -> 0.25 | H17: =WEEKNUM(A17,2) -> 16 | J17: Juillet | K17: =IF(ISBLANK(L17), "", IF(L17<0, "-" & TEXT(ABS(L17)/24, "h:mm"), TEXT(L17/24, "h:mm"))) -> 11:41 | L17: ='Juillet-2025'!L8 -> 11.683333
A18: 45764 | B18: 0.34097222 | C18: 0.67847222 | D18: 0.041666667 | E18: =(C18 - B18) - D18 -> 0.29583333 | F18: =IF( COUNT(B18, C18)<2, "", IF( E18 - TIME(7,0,0) < 0, "-" & TEXT(ABS(E18 - TIME(7,0,0)), "h:mm"), TEXT(E18 - TIME(7,0,0), "h:mm") ) ) -> 0:06 | G18: =IF( COUNT(B18,C18)<2, , (E18*24) - 7 ) -> 0.1 | H18: =WEEKNUM(A18,2) -> 16 | J18: Aout | K18: =IF(ISBLANK(L18), "", IF(L18<0, "-" & TEXT(ABS(L18)/24, "h:mm"), TEXT(L18/24, "h:mm"))) -> 7:26 | L18: ='Aout-2025'!L9 -> 7.4333333
A19: 45765 | B19: 0.33263889 | C19: 0.66458333 | D19: 0.041666667 | E19: =(C19 - B19) - D19 -> 0.29027778 | F19: =IF( COUNT(B19, C19)<2, "", IF( E19 - TIME(7,0,0) < 0, "-" & TEXT(ABS(E19 - TIME(7,0,0)), "h:mm"), TEXT(E19 - TIME(7,0,0), "h:mm") ) ) -> -0:02 | G19: =IF( COUNT(B19,C19)<2, , (E19*24) - 7 ) -> -0.033333333 | H19: =WEEKNUM(A19,2) -> 16 | J19: Septembre | K19: =IF(ISBLANK(L19), "", IF(L19<0, "-" & TEXT(ABS(L19)/24, "h:mm"), TEXT(L19/24, "h:mm"))) -> 6:32 | L19: ='Septembre-2025'!L9 -> 6.5333333
A20: 45766 | D20: 0.041666667 | E20: =(C20 - B20) - D20 -> -0.041666667 | F20: =IF( COUNT(B20, C20)<2, "", IF( E20 - TIME(7,0,0) < 0, "-" & TEXT(ABS(E20 - TIME(7,0,0)), "h:mm"), TEXT(E20 - TIME(7,0,0), "h:mm") ) ) | G20: =IF( COUNT(B20,C20)<2, , (E20*24) - 7 ) -> 0 | H20: =WEEKNUM(A20,2) -> 16 | J20: Octobre | K20: =IF(ISBLANK(L20), "", IF(L20<0, "-" & TEXT(ABS(L20)/24, "h:mm"), TEXT(L20/24, "h:mm"))) -> 9:41 | L20: ='Octobre-2025'!L9 -> 9.6833333
A21: 45767 | D21: 0.041666667 | E21: =(C21 - B21) - D21 -> -0.041666667 | F21: =IF( COUNT(B21, C21)<2, "", IF( E21 - TIME(7,0,0) < 0, "-" & TEXT(ABS(E21 - TIME(7,0,0)), "h:mm"), TEXT(E21 - TIME(7,0,0), "h:mm") ) ) | G21: =IF( COUNT(B21,C21)<2, , (E21*24) - 7 ) -> 0 | H21: =WEEKNUM(A21,2) -> 16 | J21: Novembre | K21: =IF(ISBLANK(L21), "", IF(L21<0, "-" & TEXT(ABS(L21)/24, "h:mm"), TEXT(L21/24, "h:mm"))) -> 2:23 | L21: ='Novembre-2025'!L9 -> 2.3833333
A22: 45768 | D22: 0.041666667 | E22: =(C22 - B22) - D22 -> -0.041666667 | F22: =IF( COUNT(B22, C22)<2, "", IF( E22 - TIME(7,0,0) < 0, "-" & TEXT(ABS(E22 - TIME(7,0,0)), "h:mm"), TEXT(E22 - TIME(7,0,0), "h:mm") ) ) | G22: =IF( COUNT(B22,C22)<2, , (E22*24) - 7 ) -> 0 | H22: =WEEKNUM(A22,2) -> 17 | J22: Decembre | K22: =IF(ISBLANK(L22), "", IF(L22<0, "-" & TEXT(ABS(L22)/24, "h:mm"), TEXT(L22/24, "h:mm"))) -> 4:15 | L22: ='Decembre-2025'!L9 -> 4.25
A23: 45769 | B23: 0.34375 | C23: 0.69236111 | D23: 0.041666667 | E23: =(C23 - B23) - D23 -> 0.30694444 | F23: =IF( COUNT(B23, C23)<2, "", IF( E23 - TIME(7,0,0) < 0, "-" & TEXT(ABS(E23 - TIME(7,0,0)), "h:mm"), TEXT(E23 - TIME(7,0,0), "h:mm") ) ) -> 0:22 | G23: =IF( COUNT(B23,C23)<2, , (E23*24) - 7 ) -> 0.36666667 | H23: =WEEKNUM(A23,2) -> 17
A24: 45770 | B24: 0.34027778 | C24: 0.7 | D24: 0.041666667 | E24: =(C24 - B24) - D24 -> 0.31805556 | F24: =IF( COUNT(B24, C24)<2, "", IF( E24 - TIME(7,0,0) < 0, "-" & TEXT(ABS(E24 - TIME(7,0,0)), "h:mm"), TEXT(E24 - TIME(7,0,0), "h:mm") ) ) -> 0:38 | G24: =IF( COUNT(B24,C24)<2, , (E24*24) - 7 ) -> 0.63333333 | H24: =WEEKNUM(A24,2) -> 17
A25: 45771 | B25: 0.34305556 | C25: 0.69305556 | D25: 0.041666667 | E25: =(C25 - B25) - D25 -> 0.30833333 | F25: =IF( COUNT(B25, C25)<2, "", IF( E25 - TIME(7,0,0) < 0, "-" & TEXT(ABS(E25 - TIME(7,0,0)), "h:mm"), TEXT(E25 - TIME(7,0,0), "h:mm") ) ) -> 0:24 | G25: =IF( COUNT(B25,C25)<2, , (E25*24) - 7 ) -> 0.4 | H25: =WEEKNUM(A25,2) -> 17
A26: 45772 | B26: 0.33819444 | C26: 0.68055556 | D26: 0.041666667 | E26: =(C26 - B26) - D26 -> 0.30069444 | F26: =IF( COUNT(B26, C26)<2, "", IF( E26 - TIME(7,0,0) < 0, "-" & TEXT(ABS(E26 - TIME(7,0,0)), "h:mm"), TEXT(E26 - TIME(7,0,0), "h:mm") ) ) -> 0:13 | G26: =IF( COUNT(B26,C26)<2, , (E26*24) - 7 ) -> 0.21666667 | H26: =WEEKNUM(A26,2) -> 17
A27: 45773 | D27: 0.041666667 | E27: =(C27 - B27) - D27 -> -0.041666667 | F27: =IF( COUNT(B27, C27)<2, "", IF( E27 - TIME(7,0,0) < 0, "-" & TEXT(ABS(E27 - TIME(7,0,0)), "h:mm"), TEXT(E27 - TIME(7,0,0), "h:mm") ) ) | G27: =IF( COUNT(B27,C27)<2, , (E27*24) - 7 ) -> 0 | H27: =WEEKNUM(A27,2) -> 17
A28: 45774 | D28: 0.041666667 | E28: =(C28 - B28) - D28 -> -0.041666667 | F28: =IF( COUNT(B28, C28)<2, "", IF( E28 - TIME(7,0,0) < 0, "-" & TEXT(ABS(E28 - TIME(7,0,0)), "h:mm"), TEXT(E28 - TIME(7,0,0), "h:mm") ) ) | G28: =IF( COUNT(B28,C28)<2, , (E28*24) - 7 ) -> 0 | H28: =WEEKNUM(A28,2) -> 17
A29: 45775 | B29: 0.33611111 | C29: 0.66666667 | D29: 0.041666667 | E29: =(C29 - B29) - D29 -> 0.28888889 | F29: =IF( COUNT(B29, C29)<2, "", IF( E29 - TIME(7,0,0) < 0, "-" & TEXT(ABS(E29 - TIME(7,0,0)), "h:mm"), TEXT(E29 - TIME(7,0,0), "h:mm") ) ) -> -0:04 | G29: =IF( COUNT(B29,C29)<2, , (E29*24) - 7 ) -> -0.066666667 | H29: =WEEKNUM(A29,2) -> 18
A30: 45776 | B30: 0.3375 | C30: 0.67708333 | D30: 0.041666667 | E30: =(C30 - B30) - D30 -> 0.29791667 | F30: =IF( COUNT(B30, C30)<2, "", IF( E30 - TIME(7,0,0) < 0, "-" & TEXT(ABS(E30 - TIME(7,0,0)), "h:mm"), TEXT(E30 - TIME(7,0,0), "h:mm") ) ) -> 0:09 | G30: =IF( COUNT(B30,C30)<2, , (E30*24) - 7 ) -> 0.15 | H30: =WEEKNUM(A30,2) -> 18
A31: 45777 | B31: 0.33472222 | C31: 0.68888889 | D31: 0.041666667 | E31: =(C31 - B31) - D31 -> 0.3125 | F31: =IF( COUNT(B31, C31)<2, "", IF( E31 - TIME(7,0,0) < 0, "-" & TEXT(ABS(E31 - TIME(7,0,0)), "h:mm"), TEXT(E31 - TIME(7,0,0), "h:mm") ) ) -> 0:30 | G31: =IF( COUNT(B31,C31)<2, , (E31*24) - 7 ) -> 0.5 | H31: =WEEKNUM(A31,2) -> 18

Sheet Mai-2025
A1: Date | B1: Arrivée | C1: Départ | D1: Pause | E1: Temps travail | F1: Delta (h) | H1: Semaine
A2: 45778 | D2: 0.041666667 | E2: =(C2 - B2) - D2 -> -0.041666667 | F2: =IF( COUNT(B2, C2)<2, "", IF( E2 - TIME(7,0,0) < 0, "-" & TEXT(ABS(E2 - TIME(7,0,0)), "h:mm"), TEXT(E2 - TIME(7,0,0), "h:mm") ) ) | G2: =IF( COUNT(B2,C2)<2, , (E2*24) - 7 ) -> 0 | H2: =WEEKNUM(A2,2) -> 18 | J2: Semaine | K2: Delta total (h)
A3: 45779 | B3: 0.34305556 | C3: 0.69375 | D3: 0.041666667 | E3: =(C3 -#REF!) - D3 -> #REF! | F3: =IF( COUNT(#REF!, C3)<2, "", IF( E3 - TIME(7,0,0) < 0, "-" & TEXT(ABS(E3 - TIME(7,0,0)), "h:mm"), TEXT(E3 - TIME(7,0,0), "h:mm") ) ) | G3: =IF( COUNT(#REF!,C3)<2, , (E3*24) - 7 ) -> 0 | H3: =WEEKNUM(A3,2) -> 18 | J3: 18 | K3: =IF(ISBLANK(L3), "", IF(L3<0, "-" & TEXT(ABS(L3)/24, "h:mm"), TEXT(L3/24, "h:mm"))) -> 0:00 | L3: =SUMIF(H:H, J3, G:G) -> 0
A4: 45780 | D4: 0.041666667 | E4: =(C4 - B3) - D4 -> -0.38472222 | F4: =IF( COUNT(B3, C4)<2, "", IF( E4 - TIME(7,0,0) < 0, "-" & TEXT(ABS(E4 - TIME(7,0,0)), "h:mm"), TEXT(E4 - TIME(7,0,0), "h:mm") ) ) | G4: =IF( COUNT(B3,C4)<2, , (E4*24) - 7 ) -> 0 | H4: =WEEKNUM(A4,2) -> 18 | J4: 19 | K4: =IF(ISBLANK(L4), "", IF(L4<0, "-" & TEXT(ABS(L4)/24, "h:mm"), TEXT(L4/24, "h:mm"))) -> 2:06 | L4: =SUMIF(H:H, J4, G:G) -> 2.1
A5: 45781 | D5: 0.041666667 | E5: =(C5 - B5) - D5 -> -0.041666667 | F5: =IF( COUNT(B5, C5)<2, "", IF( E5 - TIME(7,0,0) < 0, "-" & TEXT(ABS(E5 - TIME(7,0,0)), "h:mm"), TEXT(E5 - TIME(7,0,0), "h:mm") ) ) | G5: =IF( COUNT(B5,C5)<2, , (E5*24) - 7 ) -> 0 | H5: =WEEKNUM(A5,2) -> 18 | J5: 20 | K5: =IF(ISBLANK(L5), "", IF(L5<0, "-" & TEXT(ABS(L5)/24, "h:mm"), TEXT(L5/24, "h:mm"))) -> 0:56 | L5: =SUMIF(H:H, J5, G:G) -> 0.93333333
A6: 45782 | D6: 0.041666667 | E6: =(C6 - B6) - D6 -> -0.041666667 | F6: =IF( COUNT(B6, C6)<2, "", IF( E6 - TIME(7,0,0) < 0, "-" & TEXT(ABS(E6 - TIME(7,0,0)), "h:mm"), TEXT(E6 - TIME(7,0,0), "h:mm") ) ) | G6: =IF( COUNT(B6,C6)<2, , (E6*24) - 7 ) -> 0 | H6: =WEEKNUM(A6,2) -> 19 | J6: 21 | K6: =IF(ISBLANK(L6), "", IF(L6<0, "-" & TEXT(ABS(L6)/24, "h:mm"), TEXT(L6/24, "h:mm"))) -> 2:05 | L6: =SUMIF(H:H, J6, G:G) -> 2.0833333
A7: 45783 | B7: 0.34027778 | C7: 0.70972222 | D7: 0.041666667 | E7: =(C7 - B7) - D7 -> 0.32777778 | F7: =IF( COUNT(B7, C7)<2, "", IF( E7 - TIME(7,0,0) < 0, "-" & TEXT(ABS(E7 - TIME(7,0,0)), "h:mm"), TEXT(E7 - TIME(7,0,0), "h:mm") ) ) -> 0:52 | G7: =IF( COUNT(B7,C7)<2, , (E7*24) - 7 ) -> 0.86666667 | H7: =WEEKNUM(A7,2) -> 19 | J7: 22 | K7: =IF(ISBLANK(L7), "", IF(L7<0, "-" & TEXT(ABS(L7)/24, "h:mm"), TEXT(L7/24, "h:mm"))) -> 0:20 | L7: =SUMIF(H:H, J7, G:G) -> 0.33333333
A8: 45784 | B8: 0.34027778 | C8: 0.68819444 | D8: 0.041666667 | E8: =(C8 - B8) - D8 -> 0.30625 | F8: =IF( COUNT(B8, C8)<2, "", IF( E8 - TIME(7,0,0) < 0, "-" & TEXT(ABS(E8 - TIME(7,0,0)), "h:mm"), TEXT(E8 - TIME(7,0,0), "h:mm") ) ) -> 0:21 | G8: =IF( COUNT(B8,C8)<2, , (E8*24) - 7 ) -> 0.35 | H8: =WEEKNUM(A8,2) -> 19 | K8: =IF(ISBLANK(L8), "", IF(L8<0, "-" & TEXT(ABS(L8)/24, "h:mm"), TEXT(L8/24, "h:mm")))
A9: 45785 | B9: 0.33680556 | C9: 0.67152778 | D9: 0.041666667 | E9: =(C9 - B9) - D9 -> 0.29305556 | F9: =IF( COUNT(B9, C9)<2, "", IF( E9 - TIME(7,0,0) < 0, "-" & TEXT(ABS(E9 - TIME(7,0,0)), "h:mm"), TEXT(E9 - TIME(7,0,0), "h:mm") ) ) -> 0:02 | G9: =IF( COUNT(B9,C9)<2, , (E9*24) - 7 ) -> 0.033333333 | H9: =WEEKNUM(A9,2) -> 19 | J9: Total mois | K9: =IF(ISBLANK(L9), "", IF(L9<0, "-" & TEXT(ABS(L9)/24, "h:mm"), TEXT(L9/24, "h:mm"))) -> 5:27 | L9: =SUM(L3:L7) -> 5.45
A10: 45786 | D10: 0.041666667 | E10: =(C10 - B10) - D10 -> -0.041666667 | F10: =IF( COUNT(B10, C10)<2, "", IF( E10 - TIME(7,0,0) < 0, "-" & TEXT(ABS(E10 - TIME(7,0,0)), "h:mm"), TEXT(E10 - TIME(7,0,0), "h:mm") ) ) | G10: =IF( COUNT(B10,C10)<2, , (E10*24) - 7 ) -> 0 | H10: =WEEKNUM(A10,2) -> 19 | J10: Total année | K10: =IF(ISBLANK(L10), "", IF(L10<0, "-" & TEXT(ABS(L10)/24, "h:mm"), TEXT(L10/24, "h:mm"))) -> 21:46 | L10: =SUM(L14:L22) -> 45.766667
A11: 45787 | B11: 0.33888889 | C11: 0.70763889 | D11: 0.041666667 | E11: =(C11 - B11) - D11 -> 0.32708333 | F11: =IF( COUNT(B11, C11)<2, "", IF( E11 - TIME(7,0,0) < 0, "-" & TEXT(ABS(E11 - TIME(7,0,0)), "h:mm"), TEXT(E11 - TIME(7,0,0), "h:mm") ) ) -> 0:51 | G11: =IF( COUNT(B11,C11)<2, , (E11*24) - 7 ) -> 0.85 | H11: =WEEKNUM(A11,2) -> 19
A12: 45788 | D12: 0.041666667 | E12: =(C12 - B12) - D12 -> -0.041666667 | F12: =IF( COUNT(B12, C12)<2, "", IF( E12 - TIME(7,0,0) < 0, "-" & TEXT(ABS(E12 - TIME(7,0,0)), "h:mm"), TEXT(E12 - TIME(7,0,0), "h:mm") ) ) | G12: =IF( COUNT(B12,C12)<2, , (E12*24) - 7 ) -> 0 | H12: =WEEKNUM(A12,2) -> 19
A13: 45789 | D13: 0.041666667 | E13: =(C13 - B13) - D13 -> -0.041666667 | F13: =IF( COUNT(B13, C13)<2, "", IF( E13 - TIME(7,0,0) < 0, "-" & TEXT(ABS(E13 - TIME(7,0,0)), "h:mm"), TEXT(E13 - TIME(7,0,0), "h:mm") ) ) | G13: =IF( COUNT(B13,C13)<2, , (E13*24) - 7 ) -> 0 | H13: =WEEKNUM(A13,2) -> 20
A14: 45790 | B14: 0.33402778 | C14: 0.67222222 | D14: 0.041666667 | E14: =(C14 - B14) - D14 -> 0.29652778 | F14: =IF( COUNT(B14, C14)<2, "", IF( E14 - TIME(7,0,0) < 0, "-" & TEXT(ABS(E14 - TIME(7,0,0)), "h:mm"), TEXT(E14 - TIME(7,0,0), "h:mm") ) ) -> 0:07 | G14: =IF( COUNT(B14,C14)<2, , (E14*24) - 7 ) -> 0.11666667 | H14: =WEEKNUM(A14,2) -> 20 | J14: Avril | K14: =IF(ISBLANK(L14), "", IF(L14<0, "-" & TEXT(ABS(L14)/24, "h:mm"), TEXT(L14/24, "h:mm"))) -> 4:58 | L14: ='Avril-2025'!L9 -> 4.9666667
A15: 45791 | B15: 0.34652778 | C15: 0.69166667 | D15: 0.041666667 | E15: =(C15 - B15) - D15 -> 0.30347222 | F15: =IF( COUNT(B15, C15)<2, "", IF( E15 - TIME(7,0,0) < 0, "-" & TEXT(ABS(E15 - TIME(7,0,0)), "h:mm"), TEXT(E15 - TIME(7,0,0), "h:mm") ) ) -> 0:17 | G15: =IF( COUNT(B15,C15)<2, , (E15*24) - 7 ) -> 0.28333333 | H15: =WEEKNUM(A15,2) -> 20 | J15: Mai | K15: =IF(ISBLANK(L15), "", IF(L15<0, "-" & TEXT(ABS(L15)/24, "h:mm"), TEXT(L15/24, "h:mm"))) -> 5:27 | L15: ='Mai-2025'!L9 -> 5.45
A16: 45792 | B16: 0.34652778 | C16: 0.70555556 | D16: 0.041666667 | E16: =(C16 - B16) - D16 -> 0.31736111 | F16: =IF( COUNT(B16, C16)<2, "", IF( E16 - TIME(7,0,0) < 0, "-" & TEXT(ABS(E16 - TIME(7,0,0)), "h:mm"), TEXT(E16 - TIME(7,0,0), "h:mm") ) ) -> 0:37 | G16: =IF( COUNT(B16,C16)<2, , (E16*24) - 7 ) -> 0.61666667 | H16: =WEEKNUM(A16,2) -> 20 | J16: Juin | K16: =IF(ISBLANK(L16), "", IF(L16<0, "-" & TEXT(ABS(L16)/24, "h:mm"), TEXT(L16/24, "h:mm"))) -> -6:37 | L16: ='Juin-2025'!L9 -> -6.6166667
A17: 45793 | B17: 0.34861111 | C17: 0.67013889 | D17: 0.041666667 | E17: =(C17 - B17) - D17 -> 0.27986111 | F17: =IF( COUNT(B17, C17)<2, "", IF( E17 - TIME(7,0,0) < 0, "-" & TEXT(ABS(E17 - TIME(7,0,0)), "h:mm"), TEXT(E17 - TIME(7,0,0), "h:mm") ) ) -> -0:17 | G17: =IF( COUNT(B17,C17)<2, , (E17*24) - 7 ) -> -0.28333333 | H17: =WEEKNUM(A17,2) -> 20 | J17: Juillet | K17: =IF(ISBLANK(L17), "", IF(L17<0, "-" & TEXT(ABS(L17)/24, "h:mm"), TEXT(L17/24, "h:mm"))) -> 11:41 | L17: ='Juillet-2025'!L8 -> 11.683333
A18: 45794 | B18: 0.33958333 | C18: 0.68125 | D18: 0.041666667 | E18: =(C18 - B18) - D18 -> 0.3 | F18: =IF( COUNT(B18, C18)<2, "", IF( E18 - TIME(7,0,0) < 0, "-" & TEXT(ABS(E18 - TIME(7,0,0)), "h:mm"), TEXT(E18 - TIME(7,0,0), "h:mm") ) ) -> 0:12 | G18: =IF( COUNT(B18,C18)<2, , (E18*24) - 7 ) -> 0.2 | H18: =WEEKNUM(A18,2) -> 20 | J18: Aout | K18: =IF(ISBLANK(L18), "", IF(L18<0, "-" & TEXT(ABS(L18)/24, "h:mm"), TEXT(L18/24, "h:mm"))) -> 7:26 | L18: ='Aout-2025'!L9 -> 7.4333333
A19: 45795 | D19: 0.041666667 | E19: =(C19 - B19) - D19 -> -0.041666667 | F19: =IF( COUNT(B19, C19)<2, "", IF( E19 - TIME(7,0,0) < 0, "-" & TEXT(ABS(E19 - TIME(7,0,0)), "h:mm"), TEXT(E19 - TIME(7,0,0), "h:mm") ) ) | G19: =IF( COUNT(B19,C19)<2, , (E19*24) - 7 ) -> 0 | H19: =WEEKNUM(A19,2) -> 20 | J19: Septembre | K19: =IF(ISBLANK(L19), "", IF(L19<0, "-" & TEXT(ABS(L19)/24, "h:mm"), TEXT(L19/24, "h:mm"))) -> 6:32 | L19: ='Septembre-2025'!L9 -> 6.5333333
A20: 45796 | B20: 0.33333333 | C20: 0.72013889 | D20: 0.041666667 | E20: =(C20 - B20) - D20 -> 0.34513889 | F20: =IF( COUNT(B20, C20)<2, "", IF( E20 - TIME(7,0,0) < 0, "-" & TEXT(ABS(E20 - TIME(7,0,0)), "h:mm"), TEXT(E20 - TIME(7,0,0), "h:mm") ) ) -> 1:17 | G20: =IF( COUNT(B20,C20)<2, , (E20*24) - 7 ) -> 1.2833333 | H20: =WEEKNUM(A20,2) -> 21 | J20: Octobre | K20: =IF(ISBLANK(L20), "", IF(L20<0, "-" & TEXT(ABS(L20)/24, "h:mm"), TEXT(L20/24, "h:mm"))) -> 9:41 | L20: ='Octobre-2025'!L9 -> 9.6833333
A21: 45797 | B21: 0.33680556 | C21: 0.69513889 | D21: 0.041666667 | E21: =(C21 - B21) - D21 -> 0.31666667 | F21: =IF( COUNT(B21, C21)<2, "", IF( E21 - TIME(7,0,0) < 0, "-" & TEXT(ABS(E21 - TIME(7,0,0)), "h:mm"), TEXT(E21 - TIME(7,0,0), "h:mm") ) ) -> 0:36 | G21: =IF( COUNT(B21,C21)<2, , (E21*24) - 7 ) -> 0.6 | H21: =WEEKNUM(A21,2) -> 21 | J21: Novembre | K21: =IF(ISBLANK(L21), "", IF(L21<0, "-" & TEXT(ABS(L21)/24, "h:mm"), TEXT(L21/24, "h:mm"))) -> 2:23 | L21: ='Novembre-2025'!L9 -> 2.3833333
A22: 45798 | B22: 0.34513889 | C22: 0.67847222 | D22: 0.041666667 | E22: =(C22 - B22) - D22 -> 0.29166667 | F22: =IF( COUNT(B22, C22)<2, "", IF( E22 - TIME(7,0,0) < 0, "-" & TEXT(ABS(E22 - TIME(7,0,0)), "h:mm"), TEXT(E22 - TIME(7,0,0), "h:mm") ) ) -> 0:00 | G22: =IF( COUNT(B22,C22)<2, , (E22*24) - 7 ) -> 0 | H22: =WEEKNUM(A22,2) -> 21 | J22: Decembre | K22: =IF(ISBLANK(L22), "", IF(L22<0, "-" & TEXT(ABS(L22)/24, "h:mm"), TEXT(L22/24, "h:mm"))) -> 4:15 | L22: ='Decembre-2025'!L9 -> 4.25
A23: 45799 | B23: 0.33263889 | C23: 0.66944444 | D23: 0.041666667 | E23: =(C23 - B23) - D23 -> 0.29513889 | F23: =IF( COUNT(B23, C23)<2, "", IF( E23 - TIME(7,0,0) < 0, "-" & TEXT(ABS(E23 - TIME(7,0,0)), "h:mm"), TEXT(E23 - TIME(7,0,0), "h:mm") ) ) -> 0:05 | G23: =IF( COUNT(B23,C23)<2, , (E23*24) - 7 ) -> 0.083333333 | H23: =WEEKNUM(A23,2) -> 21
A24: 45800 | B24: 0.33611111 | C24: 0.67430556 | D24: 0.041666667 | E24: =(C24 - B24) - D24 -> 0.29652778 | F24: =IF( COUNT(B24, C24)<2, "", IF( E24 - TIME(7,0,0) < 0, "-" & TEXT(ABS(E24 - TIME(7,0,0)), "h:mm"), TEXT(E24 - TIME(7,0,0), "h:mm") ) ) -> 0:07 | G24: =IF( COUNT(B24,C24)<2, , (E24*24) - 7 ) -> 0.11666667 | H24: =WEEKNUM(A24,2) -> 21
A25: 45801 | D25: 0.041666667 | E25: =(C25 - B25) - D25 -> -0.041666667 | F25: =IF( COUNT(B25, C25)<2, "", IF( E25 - TIME(7,0,0) < 0, "-" & TEXT(ABS(E25 - TIME(7,0,0)), "h:mm"), TEXT(E25 - TIME(7,0,0), "h:mm") ) ) | G25: =IF( COUNT(B25,C25)<2, , (E25*24) - 7 ) -> 0 | H25: =WEEKNUM(A25,2) -> 21
A26: 45802 | D26: 0.041666667 | E26: =(C26 - B26) - D26 -> -0.041666667 | F26: =IF( COUNT(B26, C26)<2, "", IF( E26 - TIME(7,0,0) < 0, "-" & TEXT(ABS(E26 - TIME(7,0,0)), "h:mm"), TEXT(E26 - TIME(7,0,0), "h:mm") ) ) | G26: =IF( COUNT(B26,C26)<2, , (E26*24) - 7 ) -> 0 | H26: =WEEKNUM(A26,2) -> 21
A27: 45803 | B27: 0.33541667 | C27: 0.67569444 | D27: 0.041666667 | E27: =(C27 - B27) - D27 -> 0.29861111 | F27: =IF( COUNT(B27, C27)<2, "", IF( E27 - TIME(7,0,0) < 0, "-" & TEXT(ABS(E27 - TIME(7,0,0)), "h:mm"), TEXT(E27 - TIME(7,0,0), "h:mm") ) ) -> 0:10 | G27: =IF( COUNT(B27,C27)<2, , (E27*24) - 7 ) -> 0.16666667 | H27: =WEEKNUM(A27,2) -> 22
A28: 45804 | B28: 0.33958333 | C28: 0.65208333 | D28: 0.041666667 | E28: =(C28 - B28) - D28 -> 0.27083333 | F28: =IF( COUNT(B28, C28)<2, "", IF( E28 - TIME(7,0,0) < 0, "-" & TEXT(ABS(E28 - TIME(7,0,0)), "h:mm"), TEXT(E28 - TIME(7,0,0), "h:mm") ) ) -> -0:30 | G28: =IF( COUNT(B28,C28)<2, , (E28*24) - 7 ) -> -0.5 | H28: =WEEKNUM(A28,2) -> 22
A29: 45805 | B29: 0.33680556 | C29: 0.67638889 | D29: 0.041666667 | E29: =(C29 - B29) - D29 -> 0.29791667 | F29: =IF( COUNT(B29, C29)<2, "", IF( E29 - TIME(7,0,0) < 0, "-" & TEXT(ABS(E29 - TIME(7,0,0)), "h:mm"), TEXT(E29 - TIME(7,0,0), "h:mm") ) ) -> 0:09 | G29: =IF( COUNT(B29,C29)<2, , (E29*24) - 7 ) -> 0.15 | H29: =WEEKNUM(A29,2) -> 22
A30: 45806 | D30: 0.041666667 | E30: =(C30 - B30) - D30 -> -0.041666667 | F30: =IF( COUNT(B30, C30)<2, "", IF( E30 - TIME(7,0,0) < 0, "-" & TEXT(ABS(E30 - TIME(7,0,0)), "h:mm"), TEXT(E30 - TIME(7,0,0), "h:mm") ) ) | G30: =IF( COUNT(B30,C30)<2, , (E30*24) - 7 ) -> 0 | H30: =WEEKNUM(A30,2) -> 22
A31: 45807 | B31: 0.31805556 | C31: 0.67291667 | D31: 0.041666667 | E31: =(C31 - B31) - D31 -> 0.31319444 | F31: =IF( COUNT(B31, C31)<2, "", IF( E31 - TIME(7,0,0) < 0, "-" & TEXT(ABS(E31 - TIME(7,0,0)), "h:mm"), TEXT(E31 - TIME(7,0,0), "h:mm") ) ) -> 0:31 | G31: =IF( COUNT(B31,C31)<2, , (E31*24) - 7 ) -> 0.51666667 | H31: =WEEKNUM(A31,2) -> 22
A32: 45808 | D32: 0.041666667 | E32: =(C32 - B32) - D32 -> -0.041666667 | F32: =IF( COUNT(B32, C32)<2, "", IF( E32 - TIME(7,0,0) < 0, "-" & TEXT(ABS(E32 - TIME(7,0,0)), "h:mm"), TEXT(E32 - TIME(7,0,0), "h:mm") ) ) | G32: =IF( COUNT(B32,C32)<2, , (E32*24) - 7 ) -> 0 | H32: =WEEKNUM(A32,2) -> 22

Sheet Juin-2025
A1: Date | B1: Arrivée | C1: Départ | D1: Pause | E1: Temps travail | F1: Delta (h) | H1: Semaine
A2: 45809 | D2: 0.041666667 | E2: =(C2 - B2) - D2 -> -0.041666667 | F2: =IF( COUNT(B2, C2)<2, "", IF( E2 - TIME(7,0,0) < 0, "-" & TEXT(ABS(E2 - TIME(7,0,0)), "h:mm"), TEXT(E2 - TIME(7,0,0), "h:mm") ) ) | G2: =IF( COUNT(B2,C2)<2, , (E2*24) - 7 ) -> 0 | H2: =WEEKNUM(A2,2) -> 22 | J2: Semaine | K2: Delta total (h)
A3: 45810 | B3: 0.34583333 | C3: 0.71319444 | D3: 0.041666667 | E3: =(C3 - B3) - D3 -> 0.32569444 | F3: =IF( COUNT(B3, C3)<2, "", IF( E3 - TIME(7,0,0) < 0, "-" & TEXT(ABS(E3 - TIME(7,0,0)), "h:mm"), TEXT(E3 - TIME(7,0,0), "h:mm") ) ) -> 0:49 | G3: =IF( COUNT(B3,C3)<2, , (E3*24) - 7 ) -> 0.81666667 | H3: =WEEKNUM(A3,2) -> 23 | J3: 22 | K3: =IF(ISBLANK(L3), "", IF(L3<0, "-" & TEXT(ABS(L3)/24, "h:mm"), TEXT(L3/24, "h:mm"))) -> 0:00 | L3: =SUMIF(H:H, J3, G:G) -> 0
A4: 45811 | B4: 0.34236111 | C4: 0.75833333 | D4: 0.041666667 | E4: =(C4 - B4) - D4 -> 0.37430556 | F4: =IF( COUNT(B4, C4)<2, "", IF( E4 - TIME(7,0,0) < 0, "-" & TEXT(ABS(E4 - TIME(7,0,0)), "h:mm"), TEXT(E4 - TIME(7,0,0), "h:mm") ) ) -> 1:59 | G4: =IF( COUNT(B4,C4)<2, , (E4*24) - 7 ) -> 1.9833333 | H4: =WEEKNUM(A4,2) -> 23 | J4: 23 | K4: =IF(ISBLANK(L4), "", IF(L4<0, "-" & TEXT(ABS(L4)/24, "h:mm"), TEXT(L4/24, "h:mm"))) -> 2:59 | L4: =SUMIF(H:H, J4, G:G) -> 2.9833333
A5: 45812 | B5: 0.34027778 | C5: 0.68125 | D5: 0.041666667 | E5: =(C5 - B5) - D5 -> 0.29930556 | F5: =IF( COUNT(B5, C5)<2, "", IF( E5 - TIME(7,0,0) < 0, "-" & TEXT(ABS(E5 - TIME(7,0,0)), "h:mm"), TEXT(E5 - TIME(7,0,0), "h:mm") ) ) -> 0:11 | G5: =IF( COUNT(B5,C5)<2, , (E5*24) - 7 ) -> 0.18333333 | H5: =WEEKNUM(A5,2) -> 23 | J5: 24 | K5: =IF(ISBLANK(L5), "", IF(L5<0, "-" & TEXT(ABS(L5)/24, "h:mm"), TEXT(L5/24, "h:mm"))) -> 1:21 | L5: =SUMIF(H:H, J5, G:G) -> 1.35
A6: 45813 | B6: 0.34236111 | C6: 0.67986111 | D6: 0.041666667 | E6: =(C6 - B6) - D6 -> 0.29583333 | F6: =IF( COUNT(B6, C6)<2, "", IF( E6 - TIME(7,0,0) < 0, "-" & TEXT(ABS(E6 - TIME(7,0,0)), "h:mm"), TEXT(E6 - TIME(7,0,0), "h:mm") ) ) -> 0:06 | G6: =IF( COUNT(B6,C6)<2, , (E6*24) - 7 ) -> 0.1 | H6: =WEEKNUM(A6,2) -> 23 | J6: 25 | K6: =IF(ISBLANK(L6), "", IF(L6<0, "-" & TEXT(ABS(L6)/24, "h:mm"), TEXT(L6/24, "h:mm"))) -> -5:17 | L6: =SUMIF(H:H, J6, G:G) -> -5.2833333
A7: 45814 | B7: 0.34861111 | C7: 0.67777778 | D7: 0.041666667 | E7: =(C7 - B7) - D7 -> 0.2875 | F7: =IF( COUNT(B7, C7)<2, "", IF( E7 - TIME(7,0,0) < 0, "-" & TEXT(ABS(E7 - TIME(7,0,0)), "h:mm"), TEXT(E7 - TIME(7,0,0), "h:mm") ) ) -> -0:06 | G7: =IF( COUNT(B7,C7)<2, , (E7*24) - 7 ) -> -0.1 | H7: =WEEKNUM(A7,2) -> 23 | J7: 26 | K7: =IF(ISBLANK(L7), "", IF(L7<0, "-" & TEXT(ABS(L7)/24, "h:mm"), TEXT(L7/24, "h:mm"))) -> -5:40 | L7: =SUMIF(H:H, J7, G:G) -> -5.6666667
A8: 45815 | D8: 0.041666667 | E8: =(C8 - B8) - D8 -> -0.041666667 | F8: =IF( COUNT(B8, C8)<2, "", IF( E8 - TIME(7,0,0) < 0, "-" & TEXT(ABS(E8 - TIME(7,0,0)), "h:mm"), TEXT(E8 - TIME(7,0,0), "h:mm") ) ) | G8: =IF( COUNT(B8,C8)<2, , (E8*24) - 7 ) -> 0 | H8: =WEEKNUM(A8,2) -> 23 | J8: 27 | K8: =IF(ISBLANK(L8), "", IF(L8<0, "-" & TEXT(ABS(L8)/24, "h:mm"), TEXT(L8/24, "h:mm"))) -> 0:32 | L8: =SUMIF(H:H, J8, G:G) -> 0.53333333
A9: 45816 | D9: 0.041666667 | E9: =(C9 - B9) - D9 -> -0.041666667 | F9: =IF( COUNT(B9, C9)<2, "", IF( E9 - TIME(7,0,0) < 0, "-" & TEXT(ABS(E9 - TIME(7,0,0)), "h:mm"), TEXT(E9 - TIME(7,0,0), "h:mm") ) ) | G9: =IF( COUNT(B9,C9)<2, , (E9*24) - 7 ) -> 0 | H9: =WEEKNUM(A9,2) -> 23 | J9: Total mois | K9: =IF(ISBLANK(L9), "", IF(L9<0, "-" & TEXT(ABS(L9)/24, "h:mm"), TEXT(L9/24, "h:mm"))) -> -6:37 | L9: =SUM(L3:L7) -> -6.6166667
A10: 45817 | B10: 0.35416667 | C10: 0.69236111 | D10: 0.041666667 | E10: =(C10 - B10) - D10 -> 0.29652778 | F10: =IF( COUNT(B10, C10)<2, "", IF( E10 - TIME(7,0,0) < 0, "-" & TEXT(ABS(E10 - TIME(7,0,0)), "h:mm"), TEXT(E10 - TIME(7,0,0), "h:mm") ) ) -> 0:07 | G10: =IF( COUNT(B10,C10)<2, , (E10*24) - 7 ) -> 0.11666667 | H10: =WEEKNUM(A10,2) -> 24 | J10: Total année | K10: =IF(ISBLANK(L10), "", IF(L10<0, "-" & TEXT(ABS(L10)/24, "h:mm"), TEXT(L10/24, "h:mm"))) -> 21:46 | L10: =SUM(L14:L22) -> 45.766667
A11: 45818 | B11: 0.35347222 | C11: 0.69305556 | D11: 0.041666667 | E11: =(C11 - B11) - D11 -> 0.29791667 | F11: =IF( COUNT(B11, C11)<2, "", IF( E11 - TIME(7,0,0) < 0, "-" & TEXT(ABS(E11 - TIME(7,0,0)), "h:mm"), TEXT(E11 - TIME(7,0,0), "h:mm") ) ) -> 0:09 | G11: =IF( COUNT(B11,C11)<2, , (E11*24) - 7 ) -> 0.15 | H11: =WEEKNUM(A11,2) -> 24
A12: 45819 | B12: 0.34791667 | C12: 0.71319444 | D12: 0.041666667 | E12: =(C12 - B12) - D12 -> 0.32361111 | F12: =IF( COUNT(B12, C12)<2, "", IF( E12 - TIME(7,0,0) < 0, "-" & TEXT(ABS(E12 - TIME(7,0,0)), "h:mm"), TEXT(E12 - TIME(7,0,0), "h:mm") ) ) -> 0:46 | G12: =IF( COUNT(B12,C12)<2, , (E12*24) - 7 ) -> 0.76666667 | H12: =WEEKNUM(A12,2) -> 24
A13: 45820 | B13: 0.34513889 | C13: 0.68958333 | D13: 0.041666667 | E13: =(C13 - B13) - D13 -> 0.30277778 | F13: =IF( COUNT(B13, C13)<2, "", IF( E13 - TIME(7,0,0) < 0, "-" & TEXT(ABS(E13 - TIME(7,0,0)), "h:mm"), TEXT(E13 - TIME(7,0,0), "h:mm") ) ) -> 0:16 | G13: =IF( COUNT(B13,C13)<2, , (E13*24) - 7 ) -> 0.26666667 | H13: =WEEKNUM(A13,2) -> 24
A14: 45821 | B14: 0.34722222 | C14: 0.68263889 | D14: 0.041666667 | E14: =(C14 - B14) - D14 -> 0.29375 | F14: =IF( COUNT(B14, C14)<2, "", IF( E14 - TIME(7,0,0) < 0, "-" & TEXT(ABS(E14 - TIME(7,0,0)), "h:mm"), TEXT(E14 - TIME(7,0,0), "h:mm") ) ) -> 0:03 | G14: =IF( COUNT(B14,C14)<2, , (E14*24) - 7 ) -> 0.05 | H14: =WEEKNUM(A14,2) -> 24 | J14: Avril | K14: =IF(ISBLANK(L14), "", IF(L14<0, "-" & TEXT(ABS(L14)/24, "h:mm"), TEXT(L14/24, "h:mm"))) -> 4:58 | L14: ='Avril-2025'!L9 -> 4.9666667
A15: 45822 | D15: 0.041666667 | E15: =(C15 - B15) - D15 -> -0.041666667 | F15: =IF( COUNT(B15, C15)<2, "", IF( E15 - TIME(7,0,0) < 0, "-" & TEXT(ABS(E15 - TIME(7,0,0)), "h:mm"), TEXT(E15 - TIME(7,0,0), "h:mm") ) ) | G15: =IF( COUNT(B15,C15)<2, , (E15*24) - 7 ) -> 0 | H15: =WEEKNUM(A15,2) -> 24 | J15: Mai | K15: =IF(ISBLANK(L15), "", IF(L15<0, "-" & TEXT(ABS(L15)/24, "h:mm"), TEXT(L15/24, "h:mm"))) -> 5:27 | L15: ='Mai-2025'!L9 -> 5.45
A16: 45823 | D16: 0.041666667 | E16: =(C16 - B16) - D16 -> -0.041666667 | F16: =IF( COUNT(B16, C16)<2, "", IF( E16 - TIME(7,0,0) < 0, "-" & TEXT(ABS(E16 - TIME(7,0,0)), "h:mm"), TEXT(E16 - TIME(7,0,0), "h:mm") ) ) | G16: =IF( COUNT(B16,C16)<2, , (E16*24) - 7 ) -> 0 | H16: =WEEKNUM(A16,2) -> 24 | J16: Juin | K16: =IF(ISBLANK(L16), "", IF(L16<0, "-" & TEXT(ABS(L16)/24, "h:mm"), TEXT(L16/24, "h:mm"))) -> -6:37 | L16: ='Juin-2025'!L9 -> -6.6166667
A17: 45824 | B17: 0 | C17: 0.041666667 | D17: 0.041666667 | E17: =(C17 - B17) - D17 -> 0 | F17: =IF( COUNT(B17, C17)<2, "", IF( E17 - TIME(7,0,0) < 0, "-" & TEXT(ABS(E17 - TIME(7,0,0)), "h:mm"), TEXT(E17 - TIME(7,0,0), "h:mm") ) ) -> -7:00 | G17: =IF( COUNT(B17,C17)<2, , (E17*24) - 7 ) -> -7 | H17: =WEEKNUM(A17,2) -> 25 | J17: Juillet | K17: =IF(ISBLANK(L17), "", IF(L17<0, "-" & TEXT(ABS(L17)/24, "h:mm"), TEXT(L17/24, "h:mm"))) -> 11:41 | L17: ='Juillet-2025'!L8 -> 11.683333
A18: 45825 | B18: 0.34513889 | C18: 0.69513889 | D18: 0.041666667 | E18: =(C18 - B18) - D18 -> 0.30833333 | F18: =IF( COUNT(B18, C18)<2, "", IF( E18 - TIME(7,0,0) < 0, "-" & TEXT(ABS(E18 - TIME(7,0,0)), "h:mm"), TEXT(E18 - TIME(7,0,0), "h:mm") ) ) -> 0:24 | G18: =IF( COUNT(B18,C18)<2, , (E18*24) - 7 ) -> 0.4 | H18: =WEEKNUM(A18,2) -> 25 | J18: Aout | K18: =IF(ISBLANK(L18), "", IF(L18<0, "-" & TEXT(ABS(L18)/24, "h:mm"), TEXT(L18/24, "h:mm"))) -> 7:26 | L18: ='Aout-2025'!L9 -> 7.4333333
A19: 45826 | B19: 0.33819444 | C19: 0.71041667 | D19: 0.041666667 | E19: =(C19 - B19) - D19 -> 0.33055556 | F19: =IF( COUNT(B19, C19)<2, "", IF( E19 - TIME(7,0,0) < 0, "-" & TEXT(ABS(E19 - TIME(7,0,0)), "h:mm"), TEXT(E19 - TIME(7,0,0), "h:mm") ) ) -> 0:56 | G19: =IF( COUNT(B19,C19)<2, , (E19*24) - 7 ) -> 0.93333333 | H19: =WEEKNUM(A19,2) -> 25 | J19: Septembre | K19: =IF(ISBLANK(L19), "", IF(L19<0, "-" & TEXT(ABS(L19)/24, "h:mm"), TEXT(L19/24, "h:mm"))) -> 6:32 | L19: ='Septembre-2025'!L9 -> 6.5333333
A20: 45827 | B20: 0.37291667 | C20: 0.71041667 | D20: 0.041666667 | E20: =(C20 - B20) - D20 -> 0.29583333 | F20: =IF( COUNT(B20, C20)<2, "", IF( E20 - TIME(7,0,0) < 0, "-" & TEXT(ABS(E20 - TIME(7,0,0)), "h:mm"), TEXT(E20 - TIME(7,0,0), "h:mm") ) ) -> 0:06 | G20: =IF( COUNT(B20,C20)<2, , (E20*24) - 7 ) -> 0.1 | H20: =WEEKNUM(A20,2) -> 25 | J20: Octobre | K20: =IF(ISBLANK(L20), "", IF(L20<0, "-" & TEXT(ABS(L20)/24, "h:mm"), TEXT(L20/24, "h:mm"))) -> 9:41 | L20: ='Octobre-2025'!L9 -> 9.6833333
A21: 45828 | B21: 0.34166667 | C21: 0.68680556 | D21: 0.041666667 | E21: =(C21 - B21) - D21 -> 0.30347222 | F21: =IF( COUNT(B21, C21)<2, "", IF( E21 - TIME(7,0,0) < 0, "-" & TEXT(ABS(E21 - TIME(7,0,0)), "h:mm"), TEXT(E21 - TIME(7,0,0), "h:mm") ) ) -> 0:17 | G21: =IF( COUNT(B21,C21)<2, , (E21*24) - 7 ) -> 0.28333333 | H21: =WEEKNUM(A21,2) -> 25 | J21: Novembre | K21: =IF(ISBLANK(L21), "", IF(L21<0, "-" & TEXT(ABS(L21)/24, "h:mm"), TEXT(L21/24, "h:mm"))) -> 2:23 | L21: ='Novembre-2025'!L9 -> 2.3833333
A22: 45829 | D22: 0.041666667 | E22: =(C22 - B22) - D22 -> -0.041666667 | F22: =IF( COUNT(B22, C22)<2, "", IF( E22 - TIME(7,0,0) < 0, "-" & TEXT(ABS(E22 - TIME(7,0,0)), "h:mm"), TEXT(E22 - TIME(7,0,0), "h:mm") ) ) | G22: =IF( COUNT(B22,C22)<2, , (E22*24) - 7 ) -> 0 | H22: =WEEKNUM(A22,2) -> 25 | J22: Decembre | K22: =IF(ISBLANK(L22), "", IF(L22<0, "-" & TEXT(ABS(L22)/24, "h:mm"), TEXT(L22/24, "h:mm"))) -> 4:15 | L22: ='Decembre-2025'!L9 -> 4.25
A23: 45830 | D23: 0.041666667 | E23: =(C23 - B23) - D23 -> -0.041666667 | F23: =IF( COUNT(B23, C23)<2, "", IF( E23 - TIME(7,0,0) < 0, "-" & TEXT(ABS(E23 - TIME(7,0,0)), "h:mm"), TEXT(E23 - TIME(7,0,0), "h:mm") ) ) | G23: =IF( COUNT(B23,C23)<2, , (E23*24) - 7 ) -> 0 | H23: =WEEKNUM(A23,2) -> 25
A24: 45831 | B24: 0 | C24: 0.041666667 | D24: 0.041666667 | E24: =(C24 - B24) - D24 -> 0 | F24: =IF( COUNT(B24, C24)<2, "", IF( E24 - TIME(7,0,0) < 0, "-" & TEXT(ABS(E24 - TIME(7,0,0)), "h:mm"), TEXT(E24 - TIME(7,0,0), "h:mm") ) ) -> -7:00 | G24: =IF( COUNT(B24,C24)<2, , (E24*24) - 7 ) -> -7 | H24: =WEEKNUM(A24,2) -> 26
A25: 45832 | B25: 0.34513889 | C25: 0.69305556 | D25: 0.041666667 | E25: =(C25 - B25) - D25 -> 0.30625 | F25: =IF( COUNT(B25, C25)<2, "", IF( E25 - TIME(7,0,0) < 0, "-" & TEXT(ABS(E25 - TIME(7,0,0)), "h:mm"), TEXT(E25 - TIME(7,0,0), "h:mm") ) ) -> 0:21 | G25: =IF( COUNT(B25,C25)<2, , (E25*24) - 7 ) -> 0.35 | H25: =WEEKNUM(A25,2) -> 26
A26: 45833 | B26: 0.34930556 | C26: 0.69652778 | D26: 0.041666667 | E26: =(C26 - B26) - D26 -> 0.30555556 | F26: =IF( COUNT(B26, C26)<2, "", IF( E26 - TIME(7,0,0) < 0, "-" & TEXT(ABS(E26 - TIME(7,0,0)), "h:mm"), TEXT(E26 - TIME(7,0,0), "h:mm") ) ) -> 0:20 | G26: =IF( COUNT(B26,C26)<2, , (E26*24) - 7 ) -> 0.33333333 | H26: =WEEKNUM(A26,2) -> 26
A27: 45834 | B27: 0.34513889 | C27: 0.69652778 | D27: 0.041666667 | E27: =(C27 - B27) - D27 -> 0.30972222 | F27: =IF( COUNT(B27, C27)<2, "", IF( E27 - TIME(7,0,0) < 0, "-" & TEXT(ABS(E27 - TIME(7,0,0)), "h:mm"), TEXT(E27 - TIME(7,0,0), "h:mm") ) ) -> 0:26 | G27: =IF( COUNT(B27,C27)<2, , (E27*24) - 7 ) -> 0.43333333 | H27: =WEEKNUM(A27,2) -> 26
A28: 45835 | B28: 0.35763889 | C28: 0.7 | D28: 0.041666667 | E28: =(C28 - B28) - D28 -> 0.30069444 | F28: =IF( COUNT(B28, C28)<2, "", IF( E28 - TIME(7,0,0) < 0, "-" & TEXT(ABS(E28 - TIME(7,0,0)), "h:mm"), TEXT(E28 - TIME(7,0,0), "h:mm") ) ) -> 0:13 | G28: =IF( COUNT(B28,C28)<2, , (E28*24) - 7 ) -> 0.21666667 | H28: =WEEKNUM(A28,2) -> 26
A29: 45836 | D29: 0.041666667 | E29: =(C29 - B29) - D29 -> -0.041666667 | F29: =IF( COUNT(B29, C29)<2, "", IF( E29 - TIME(7,0,0) < 0, "-" & TEXT(ABS(E29 - TIME(7,0,0)), "h:mm"), TEXT(E29 - TIME(7,0,0), "h:mm") ) ) | G29: =IF( COUNT(B29,C29)<2, , (E29*24) - 7 ) -> 0 | H29: =WEEKNUM(A29,2) -> 26
A30: 45837 | D30: 0.041666667 | E30: =(C30 - B30) - D30 -> -0.041666667 | F30: =IF( COUNT(B30, C30)<2, "", IF( E30 - TIME(7,0,0) < 0, "-" & TEXT(ABS(E30 - TIME(7,0,0)), "h:mm"), TEXT(E30 - TIME(7,0,0), "h:mm") ) ) | G30: =IF( COUNT(B30,C30)<2, , (E30*24) - 7 ) -> 0 | H30: =WEEKNUM(A30,2) -> 26
A31: 45838 | B31: 0.34583333 | C31: 0.70138889 | D31: 0.041666667 | E31: =(C31 - B31) - D31 -> 0.31388889 | F31: =IF( COUNT(B31, C31)<2, "", IF( E31 - TIME(7,0,0) < 0, "-" & TEXT(ABS(E31 - TIME(7,0,0)), "h:mm"), TEXT(E31 - TIME(7,0,0), "h:mm") ) ) -> 0:32 | G31: =IF( COUNT(B31,C31)<2, , (E31*24) - 7 ) -> 0.53333333 | H31: =WEEKNUM(A31,2) -> 27
B35: Recup

Sheet Juillet-2025
A1: Date | B1: Arrivée | C1: Départ | D1: Pause | E1: Temps travail | F1: Delta (h) | H1: Semaine
A2: 45839 | B2: 0.34305556 | C2: 0.69305556 | D2: 0.041666667 | E2: =(C2 - B2) - D2 -> 0.30833333 | F2: =IF( COUNT(B2, C2)<2, "", IF( E2 - TIME(7,0,0) < 0, "-" & TEXT(ABS(E2 - TIME(7,0,0)), "h:mm"), TEXT(E2 - TIME(7,0,0), "h:mm") ) ) -> 0:24 | G2: =IF( COUNT(B2,C2)<2, , (E2*24) - 7 ) -> 0.4 | H2: =WEEKNUM(A2,2) -> 27 | J2: Semaine | K2: Delta total (h)
A3: 45840 | B3: 0.33333333 | C3: 0.69583333 | D3: 0.041666667 | E3: =(C3 - B3) - D3 -> 0.32083333 | F3: =IF( COUNT(B3, C3)<2, "", IF( E3 - TIME(7,0,0) < 0, "-" & TEXT(ABS(E3 - TIME(7,0,0)), "h:mm"), TEXT(E3 - TIME(7,0,0), "h:mm") ) ) -> 0:42 | G3: =IF( COUNT(B3,C3)<2, , (E3*24) - 7 ) -> 0.7 | H3: =WEEKNUM(A3,2) -> 27 | J3: 27 | K3: =IF(ISBLANK(L3), "", IF(L3<0, "-" & TEXT(ABS(L3)/24, "h:mm"), TEXT(L3/24, "h:mm"))) -> 1:34 | L3: =SUMIF(H:H, J3, G:G) -> 1.5666667
A4: 45841 | B4: 0.34444444 | C4: 0.68888889 | D4: 0.041666667 | E4: =(C4 - B4) - D4 -> 0.30277778 | F4: =IF( COUNT(B4, C4)<2, "", IF( E4 - TIME(7,0,0) < 0, "-" & TEXT(ABS(E4 - TIME(7,0,0)), "h:mm"), TEXT(E4 - TIME(7,0,0), "h:mm") ) ) -> 0:16 | G4: =IF( COUNT(B4,C4)<2, , (E4*24) - 7 ) -> 0.26666667 | H4: =WEEKNUM(A4,2) -> 27 | J4: 28 | K4: =IF(ISBLANK(L4), "", IF(L4<0, "-" & TEXT(ABS(L4)/24, "h:mm"), TEXT(L4/24, "h:mm"))) -> 2:04 | L4: =SUMIF(H:H, J4, G:G) -> 2.0666667
A5: 45842 | B5: 0.33541667 | C5: 0.67708333 | D5: 0.041666667 | E5: =(C5 - B5) - D5 -> 0.3 | F5: =IF( COUNT(B5, C5)<2, "", IF( E5 - TIME(7,0,0) < 0, "-" & TEXT(ABS(E5 - TIME(7,0,0)), "h:mm"), TEXT(E5 - TIME(7,0,0), "h:mm") ) ) -> 0:12 | G5: =IF( COUNT(B5,C5)<2, , (E5*24) - 7 ) -> 0.2 | H5: =WEEKNUM(A5,2) -> 27 | J5: 29 | K5: =IF(ISBLANK(L5), "", IF(L5<0, "-" & TEXT(ABS(L5)/24, "h:mm"), TEXT(L5/24, "h:mm"))) -> 2:27 | L5: =SUMIF(H:H, J5, G:G) -> 2.45
A6: 45843 | D6: 0.041666667 | E6: =(C6 - B6) - D6 -> -0.041666667 | F6: =IF( COUNT(B6, C6)<2, "", IF( E6 - TIME(7,0,0) < 0, "-" & TEXT(ABS(E6 - TIME(7,0,0)), "h:mm"), TEXT(E6 - TIME(7,0,0), "h:mm") ) ) | G6: =IF( COUNT(B6,C6)<2, , (E6*24) - 7 ) -> 0 | H6: =WEEKNUM(A6,2) -> 27 | J6: 30 | K6: =IF(ISBLANK(L6), "", IF(L6<0, "-" & TEXT(ABS(L6)/24, "h:mm"), TEXT(L6/24, "h:mm"))) -> 1:15 | L6: =SUMIF(H:H, J6, G:G) -> 1.25
A7: 45844 | D7: 0.041666667 | E7: =(C7 - B7) - D7 -> -0.041666667 | F7: =IF( COUNT(B7, C7)<2, "", IF( E7 - TIME(7,0,0) < 0, "-" & TEXT(ABS(E7 - TIME(7,0,0)), "h:mm"), TEXT(E7 - TIME(7,0,0), "h:mm") ) ) | G7: =IF( COUNT(B7,C7)<2, , (E7*24) - 7 ) -> 0 | H7: =WEEKNUM(A7,2) -> 27 | J7: 31 | K7: =IF(ISBLANK(L7), "", IF(L7<0, "-" & TEXT(ABS(L7)/24, "h:mm"), TEXT(L7/24, "h:mm"))) -> 4:21 | L7: =SUMIF(H:H, J7, G:G) -> 4.35
A8: 45845 | B8: 0.34375 | C8: 0.69305556 | D8: 0.041666667 | E8: =(C8 - B8) - D8 -> 0.30763889 | F8: =IF( COUNT(B8, C8)<2, "", IF( E8 - TIME(7,0,0) < 0, "-" & TEXT(ABS(E8 - TIME(7,0,0)), "h:mm"), TEXT(E8 - TIME(7,0,0), "h:mm") ) ) -> 0:23 | G8: =IF( COUNT(B8,C8)<2, , (E8*24) - 7 ) -> 0.38333333 | H8: =WEEKNUM(A8,2) -> 28 | L8: =SUM(L3:L7) -> 11.683333
A9: 45846 | B9: 0.34236111 | C9: 0.68611111 | D9: 0.041666667 | E9: =(C9 - B9) - D9 -> 0.30208333 | F9: =IF( COUNT(B9, C9)<2, "", IF( E9 - TIME(7,0,0) < 0, "-" & TEXT(ABS(E9 - TIME(7,0,0)), "h:mm"), TEXT(E9 - TIME(7,0,0), "h:mm") ) ) -> 0:15 | G9: =IF( COUNT(B9,C9)<2, , (E9*24) - 7 ) -> 0.25 | H9: =WEEKNUM(A9,2) -> 28 | J9: Total mois | K9: =IF(ISBLANK(L8), "", IF(L8<0, "-" & TEXT(ABS(L8)/24, "h:mm"), TEXT(L8/24, "h:mm"))) -> 11:41
A10: 45847 | B10: 0.34166667 | C10: 0.70277778 | D10: 0.041666667 | E10: =(C10 - B10) - D10 -> 0.31944444 | F10: =IF( COUNT(B10, C10)<2, "", IF( E10 - TIME(7,0,0) < 0, "-" & TEXT(ABS(E10 - TIME(7,0,0)), "h:mm"), TEXT(E10 - TIME(7,0,0), "h:mm") ) ) -> 0:40 | G10: =IF( COUNT(B10,C10)<2, , (E10*24) - 7 ) -> 0.66666667 | H10: =WEEKNUM(A10,2) -> 28 | J10: Total année | K10: =IF(ISBLANK(L10), "", IF(L10<0, "-" & TEXT(ABS(L10)/24, "h:mm"), TEXT(L10/24, "h:mm"))) -> 21:46 | L10: =SUM(L14:L22) -> 45.766667
A11: 45848 | B11: 0.34236111 | C11: 0.69722222 | D11: 0.041666667 | E11: =(C11 - B11) - D11 -> 0.31319444 | F11: =IF( COUNT(B11, C11)<2, "", IF( E11 - TIME(7,0,0) < 0, "-" & TEXT(ABS(E11 - TIME(7,0,0)), "h:mm"), TEXT(E11 - TIME(7,0,0), "h:mm") ) ) -> 0:31 | G11: =IF( COUNT(B11,C11)<2, , (E11*24) - 7 ) -> 0.51666667 | H11: =WEEKNUM(A11,2) -> 28
A12: 45849 | B12: 0.33680556 | C12: 0.68055556 | D12: 0.041666667 | E12: =(C12 - B12) - D12 -> 0.30208333 | F12: =IF( COUNT(B12, C12)<2, "", IF( E12 - TIME(7,0,0) < 0, "-" & TEXT(ABS(E12 - TIME(7,0,0)), "h:mm"), TEXT(E12 - TIME(7,0,0), "h:mm") ) ) -> 0:15 | G12: =IF( COUNT(B12,C12)<2, , (E12*24) - 7 ) -> 0.25 | H12: =WEEKNUM(A12,2) -> 28
A13: 45850 | D13: 0.041666667 | E13: =(C13 - B13) - D13 -> -0.041666667 | F13: =IF( COUNT(B13, C13)<2, "", IF( E13 - TIME(7,0,0) < 0, "-" & TEXT(ABS(E13 - TIME(7,0,0)), "h:mm"), TEXT(E13 - TIME(7,0,0), "h:mm") ) ) | G13: =IF( COUNT(B13,C13)<2, , (E13*24) - 7 ) -> 0 | H13: =WEEKNUM(A13,2) -> 28
A14: 45851 | D14: 0.041666667 | E14: =(C14 - B14) - D14 -> -0.041666667 | G14: =IF( COUNT(B14,C14)<2, , (E14*24) - 7 ) -> 0 | H14: =WEEKNUM(A14,2) -> 28 | J14: Avril | K14: =IF(ISBLANK(L14), "", IF(L14<0, "-" & TEXT(ABS(L14)/24, "h:mm"), TEXT(L14/24, "h:mm"))) -> 4:58 | L14: ='Avril-2025'!L9 -> 4.9666667
A15: 45852 | B15: 0.33333333 | C15: 0.6875 | D15: 0.041666667 | E15: =(C15 - B15) - D15 -> 0.3125 | F15: =IF( COUNT(B15, C15)<2, "", IF( E15 - TIME(7,0,0) < 0, "-" & TEXT(ABS(E15 - TIME(7,0,0)), "h:mm"), TEXT(E15 - TIME(7,0,0), "h:mm") ) ) -> 0:30 | G15: =IF( COUNT(B15,C15)<2, , (E15*24) - 7 ) -> 0.5 | H15: =WEEKNUM(A15,2) -> 29 | J15: Mai | K15: =IF(ISBLANK(L15), "", IF(L15<0, "-" & TEXT(ABS(L15)/24, "h:mm"), TEXT(L15/24, "h:mm"))) -> 5:27 | L15: ='Mai-2025'!L9 -> 5.45
A16: 45853 | B16: 0.34305556 | C16: 0.72708333 | D16: 0.041666667 | E16: =(C16 - B16) - D16 -> 0.34236111 | F16: =IF( COUNT(B16, C16)<2, "", IF( E16 - TIME(7,0,0) < 0, "-" & TEXT(ABS(E16 - TIME(7,0,0)), "h:mm"), TEXT(E16 - TIME(7,0,0), "h:mm") ) ) -> 1:13 | G16: =IF( COUNT(B16,C16)<2, , (E16*24) - 7 ) -> 1.2166667 | H16: =WEEKNUM(A16,2) -> 29 | J16: Juin | K16: =IF(ISBLANK(L16), "", IF(L16<0, "-" & TEXT(ABS(L16)/24, "h:mm"), TEXT(L16/24, "h:mm"))) -> -6:37 | L16: ='Juin-2025'!L9 -> -6.6166667
A17: 45854 | B17: 0.33263889 | C17: 0.75763889 | D17: 0.041666667 | E17: =(C17 - B17) - D17 -> 0.38333333 | F17: =IF( COUNT(B17, C17)<2, "", IF( E17 - TIME(7,0,0) < 0, "-" & TEXT(ABS(E17 - TIME(7,0,0)), "h:mm"), TEXT(E17 - TIME(7,0,0), "h:mm") ) ) -> 2:12 | G17: =IF( COUNT(B17,C17)<2, , (E17*24) - 7 ) -> 2.2 | H17: =WEEKNUM(A17,2) -> 29 | J17: Juillet | K17: =IF(ISBLANK(L17), "", IF(L17<0, "-" & TEXT(ABS(L17)/24, "h:mm"), TEXT(L17/24, "h:mm"))) -> 11:41 | L17: ='Juillet-2025'!L8 -> 11.683333
A18: 45855 | B18: 0.33541667 | C18: 0.70555556 | D18: 0.041666667 | E18: =(C18 - B18) - D18 -> 0.32847222 | F18: =IF( COUNT(B18, C18)<2, "", IF( E18 - TIME(7,0,0) < 0, "-" & TEXT(ABS(E18 - TIME(7,0,0)), "h:mm"), TEXT(E18 - TIME(7,0,0), "h:mm") ) ) -> 0:53 | G18: =IF( COUNT(B18,C18)<2, , (E18*24) - 7 ) -> 0.88333333 | H18: =WEEKNUM(A18,2) -> 29 | J18: Aout | K18: =IF(ISBLANK(L18), "", IF(L18<0, "-" & TEXT(ABS(L18)/24, "h:mm"), TEXT(L18/24, "h:mm"))) -> 7:26 | L18: ='Aout-2025'!L9 -> 7.4333333
A19: 45856 | B19: 0.33611111 | C19: 0.57152778 | D19: 0.041666667 | E19: =(C19 - B19) - D19 -> 0.19375 | F19: =IF( COUNT(B19, C19)<2, "", IF( E19 - TIME(7,0,0) < 0, "-" & TEXT(ABS(E19 - TIME(7,0,0)), "h:mm"), TEXT(E19 - TIME(7,0,0), "h:mm") ) ) -> -2:21 | G19: =IF( COUNT(B19,C19)<2, , (E19*24) - 7 ) -> -2.35 | H19: =WEEKNUM(A19,2) -> 29 | J19: Septembre | K19: =IF(ISBLANK(L19), "", IF(L19<0, "-" & TEXT(ABS(L19)/24, "h:mm"), TEXT(L19/24, "h:mm"))) -> 6:32 | L19: ='Septembre-2025'!L9 -> 6.5333333
A20: 45857 | D20: 0.041666667 | E20: =(C20 - B20) - D20 -> -0.041666667 | F20: =IF( COUNT(B20, C20)<2, "", IF( E20 - TIME(7,0,0) < 0, "-" & TEXT(ABS(E20 - TIME(7,0,0)), "h:mm"), TEXT(E20 - TIME(7,0,0), "h:mm") ) ) | G20: =IF( COUNT(B20,C20)<2, , (E20*24) - 7 ) -> 0 | H20: =WEEKNUM(A20,2) -> 29 | J20: Octobre | K20: =IF(ISBLANK(L20), "", IF(L20<0, "-" & TEXT(ABS(L20)/24, "h:mm"), TEXT(L20/24, "h:mm"))) -> 9:41 | L20: ='Octobre-2025'!L9 -> 9.6833333
A21: 45858 | D21: 0.041666667 | E21: =(C21 - B21) - D21 -> -0.041666667 | F21: =IF( COUNT(B21, C21)<2, "", IF( E21 - TIME(7,0,0) < 0, "-" & TEXT(ABS(E21 - TIME(7,0,0)), "h:mm"), TEXT(E21 - TIME(7,0,0), "h:mm") ) ) | G21: =IF( COUNT(B21,C21)<2, , (E21*24) - 7 ) -> 0 | H21: =WEEKNUM(A21,2) -> 29 | J21: Novembre | K21: =IF(ISBLANK(L21), "", IF(L21<0, "-" & TEXT(ABS(L21)/24, "h:mm"), TEXT(L21/24, "h:mm"))) -> 2:23 | L21: ='Novembre-2025'!L9 -> 2.3833333
A22: 45859 | B22: 0.33888889 | C22: 0.70277778 | D22: 0.041666667 | E22: =(C22 - B22) - D22 -> 0.32222222 | F22: =IF( COUNT(B22, C22)<2, "", IF( E22 - TIME(7,0,0) < 0, "-" & TEXT(ABS(E22 - TIME(7,0,0)), "h:mm"), TEXT(E22 - TIME(7,0,0), "h:mm") ) ) -> 0:44 | G22: =IF( COUNT(B22,C22)<2, , (E22*24) - 7 ) -> 0.73333333 | H22: =WEEKNUM(A22,2) -> 30 | J22: Decembre | K22: =IF(ISBLANK(L22), "", IF(L22<0, "-" & TEXT(ABS(L22)/24, "h:mm"), TEXT(L22/24, "h:mm"))) -> 4:15 | L22: ='Decembre-2025'!L9 -> 4.25
A23: 45860 | B23: 0.33888889 | C23: 0.70902778 | D23: 0.041666667 | E23: =(C23 - B23) - D23 -> 0.32847222 | F23: =IF( COUNT(B23, C23)<2, "", IF( E23 - TIME(7,0,0) < 0, "-" & TEXT(ABS(E23 - TIME(7,0,0)), "h:mm"), TEXT(E23 - TIME(7,0,0), "h:mm") ) ) -> 0:53 | G23: =IF( COUNT(B23,C23)<2, , (E23*24) - 7 ) -> 0.88333333 | H23: =WEEKNUM(A23,2) -> 30
A24: 45861 | B24: 0.33611111 | C24: 0.71666667 | D24: 0.041666667 | E24: =(C24 - B24) - D24 -> 0.33888889 | F24: =IF( COUNT(B24, C24)<2, "", IF( E24 - TIME(7,0,0) < 0, "-" & TEXT(ABS(E24 - TIME(7,0,0)), "h:mm"), TEXT(E24 - TIME(7,0,0), "h:mm") ) ) -> 1:08 | G24: =IF( COUNT(B24,C24)<2, , (E24*24) - 7 ) -> 1.1333333 | H24: =WEEKNUM(A24,2) -> 30
A25: 45862 | B25: 0.34444444 | C25: 0.71319444 | D25: 0.041666667 | E25: =(C25 - B25) - D25 -> 0.32708333 | F25: =IF( COUNT(B25, C25)<2, "", IF( E25 - TIME(7,0,0) < 0, "-" & TEXT(ABS(E25 - TIME(7,0,0)), "h:mm"), TEXT(E25 - TIME(7,0,0), "h:mm") ) ) -> 0:51 | G25: =IF( COUNT(B25,C25)<2, , (E25*24) - 7 ) -> 0.85 | H25: =WEEKNUM(A25,2) -> 30
A26: 45863 | B26: 0.33472222 | C26: 0.57013889 | D26: 0.041666667 | E26: =(C26 - B26) - D26 -> 0.19375 | F26: =IF( COUNT(B26, C26)<2, "", IF( E26 - TIME(7,0,0) < 0, "-" & TEXT(ABS(E26 - TIME(7,0,0)), "h:mm"), TEXT(E26 - TIME(7,0,0), "h:mm") ) ) -> -2:21 | G26: =IF( COUNT(B26,C26)<2, , (E26*24) - 7 ) -> -2.35 | H26: =WEEKNUM(A26,2) -> 30
A27: 45864 | D27: 0.041666667 | E27: =(C27 - B27) - D27 -> -0.041666667 | F27: =IF( COUNT(B27, C27)<2, "", IF( E27 - TIME(7,0,0) < 0, "-" & TEXT(ABS(E27 - TIME(7,0,0)), "h:mm"), TEXT(E27 - TIME(7,0,0), "h:mm") ) ) | G27: =IF( COUNT(B27,C27)<2, , (E27*24) - 7 ) -> 0 | H27: =WEEKNUM(A27,2) -> 30
A28: 45865 | D28: 0.041666667 | E28: =(C28 - B28) - D28 -> -0.041666667 | F28: =IF( COUNT(B28, C28)<2, "", IF( E28 - TIME(7,0,0) < 0, "-" & TEXT(ABS(E28 - TIME(7,0,0)), "h:mm"), TEXT(E28 - TIME(7,0,0), "h:mm") ) ) | G28: =IF( COUNT(B28,C28)<2, , (E28*24) - 7 ) -> 0 | H28: =WEEKNUM(A28,2) -> 30
A29: 45866 | B29: 0.34097222 | C29: 0.69930556 | D29: 0.041666667 | E29: =(C29 - B29) - D29 -> 0.31666667 | F29: =IF( COUNT(B29, C29)<2, "", IF( E29 - TIME(7,0,0) < 0, "-" & TEXT(ABS(E29 - TIME(7,0,0)), "h:mm"), TEXT(E29 - TIME(7,0,0), "h:mm") ) ) -> 0:36 | G29: =IF( COUNT(B29,C29)<2, , (E29*24) - 7 ) -> 0.6 | H29: =WEEKNUM(A29,2) -> 31
A30: 45867 | B30: 0.34097222 | C30: 0.71458333 | D30: 0.041666667 | E30: =(C30 - B30) - D30 -> 0.33194444 | F30: =IF( COUNT(B30, C30)<2, "", IF( E30 - TIME(7,0,0) < 0, "-" & TEXT(ABS(E30 - TIME(7,0,0)), "h:mm"), TEXT(E30 - TIME(7,0,0), "h:mm") ) ) -> 0:58 | G30: =IF( COUNT(B30,C30)<2, , (E30*24) - 7 ) -> 0.96666667 | H30: =WEEKNUM(A30,2) -> 31
A31: 45868 | B31: 0.34305556 | C31: 0.73125 | D31: 0.041666667 | E31: =(C31 - B31) - D31 -> 0.34652778 | F31: =IF( COUNT(B31, C31)<2, "", IF( E31 - TIME(7,0,0) < 0, "-" & TEXT(ABS(E31 - TIME(7,0,0)), "h:mm"), TEXT(E31 - TIME(7,0,0), "h:mm") ) ) -> 1:19 | G31: =IF( COUNT(B31,C31)<2, , (E31*24) - 7 ) -> 1.3166667 | H31: =WEEKNUM(A31,2) -> 31
A32: 45869 | B32: 0.34513889 | C32: 0.73958333 | D32: 0.041666667 | E32: =(C32 - B32) - D32 -> 0.35277778 | F32: =IF( COUNT(B32, C32)<2, "", IF( E32 - TIME(7,0,0) < 0, "-" & TEXT(ABS(E32 - TIME(7,0,0)), "h:mm"), TEXT(E32 - TIME(7,0,0), "h:mm") ) ) -> 1:28 | G32: =IF( COUNT(B32,C32)<2, , (E32*24) - 7 ) -> 1.4666667 | H32: =WEEKNUM(A32,2) -> 31

Sheet Aout-2025
A1: Date | B1: Arrivée | C1: Départ | D1: Pause | E1: Temps travail | F1: Delta (h) | H1: Semaine
A2: 45870 | B2: 0.33888889 | C2: 0.59513889 | D2: 0.041666667 | E2: =(C2 - B2) - D2 -> 0.21458333 | F2: =IF( COUNT(B2, C2)<2, "", IF( E2 - TIME(7,0,0) < 0, "-" & TEXT(ABS(E2 - TIME(7,0,0)), "h:mm"), TEXT(E2 - TIME(7,0,0), "h:mm") ) ) -> -1:51 | G2: =IF( COUNT(B2,C2)<2, , (E2*24) - 7 ) -> -1.85 | H2: =WEEKNUM(A2,2) -> 31 | J2: Semaine | K2: Delta total (h)
A3: 45871 | D3: 0.041666667 | E3: =(C3 - B3) - D3 -> -0.041666667 | F3: =IF( COUNT(B3, C3)<2, "", IF( E3 - TIME(7,0,0) < 0, "-" & TEXT(ABS(E3 - TIME(7,0,0)), "h:mm"), TEXT(E3 - TIME(7,0,0), "h:mm") ) ) | G3: =IF( COUNT(B3,C3)<2, , (E3*24) - 7 ) -> 0 | H3: =WEEKNUM(A3,2) -> 31 | J3: 31 | K3: =IF(ISBLANK(L3), "", IF(L3<0, "-" & TEXT(ABS(L3)/24, "h:mm"), TEXT(L3/24, "h:mm"))) -> -1:51 | L3: =SUMIF(H:H, J3, G:G) -> -1.85
A4: 45872 | D4: 0.041666667 | E4: =(C4 - B4) - D4 -> -0.041666667 | F4: =IF( COUNT(B4, C4)<2, "", IF( E4 - TIME(7,0,0) < 0, "-" & TEXT(ABS(E4 - TIME(7,0,0)), "h:mm"), TEXT(E4 - TIME(7,0,0), "h:mm") ) ) | G4: =IF( COUNT(B4,C4)<2, , (E4*24) - 7 ) -> 0 | H4: =WEEKNUM(A4,2) -> 31 | J4: 32 | K4: =IF(ISBLANK(L4), "", IF(L4<0, "-" & TEXT(ABS(L4)/24, "h:mm"), TEXT(L4/24, "h:mm"))) -> 2:03 | L4: =SUMIF(H:H, J4, G:G) -> 2.05
A5: 45873 | B5: 0.3375 | C5: 0.69652778 | D5: 0.041666667 | E5: =(C5 - B5) - D5 -> 0.31736111 | F5: =IF( COUNT(B5, C5)<2, "", IF( E5 - TIME(7,0,0) < 0, "-" & TEXT(ABS(E5 - TIME(7,0,0)), "h:mm"), TEXT(E5 - TIME(7,0,0), "h:mm") ) ) -> 0:37 | G5: =IF( COUNT(B5,C5)<2, , (E5*24) - 7 ) -> 0.61666667 | H5: =WEEKNUM(A5,2) -> 32 | J5: 33 | K5: =IF(ISBLANK(L5), "", IF(L5<0, "-" & TEXT(ABS(L5)/24, "h:mm"), TEXT(L5/24, "h:mm"))) -> 2:34 | L5: =SUMIF(H:H, J5, G:G) -> 2.5666667
A6: 45874 | B6: 0.33472222 | C6: 0.72291667 | D6: 0.041666667 | E6: =(C6 - B6) - D6 -> 0.34652778 | F6: =IF( COUNT(B6, C6)<2, "", IF( E6 - TIME(7,0,0) < 0, "-" & TEXT(ABS(E6 - TIME(7,0,0)), "h:mm"), TEXT(E6 - TIME(7,0,0), "h:mm") ) ) -> 1:19 | G6: =IF( COUNT(B6,C6)<2, , (E6*24) - 7 ) -> 1.3166667 | H6: =WEEKNUM(A6,2) -> 32 | J6: 34 | K6: =IF(ISBLANK(L6), "", IF(L6<0, "-" & TEXT(ABS(L6)/24, "h:mm"), TEXT(L6/24, "h:mm"))) -> 2:07 | L6: =SUMIF(H:H, J6, G:G) -> 2.1166667
A7: 45875 | B7: 0.33819444 | C7: 0.72083333 | D7: 0.041666667 | E7: =(C7 - B7) - D7 -> 0.34097222 | F7: =IF( COUNT(B7, C7)<2, "", IF( E7 - TIME(7,0,0) < 0, "-" & TEXT(ABS(E7 - TIME(7,0,0)), "h:mm"), TEXT(E7 - TIME(7,0,0), "h:mm") ) ) -> 1:11 | G7: =IF( COUNT(B7,C7)<2, , (E7*24) - 7 ) -> 1.1833333 | H7: =WEEKNUM(A7,2) -> 32 | J7: 35 | K7: =IF(ISBLANK(L7), "", IF(L7<0, "-" & TEXT(ABS(L7)/24, "h:mm"), TEXT(L7/24, "h:mm"))) -> 2:33 | L7: =SUMIF(H:H, J7, G:G) -> 2.55
A8: 45876 | B8: 0.33680556 | C8: 0.70833333 | D8: 0.041666667 | E8: =(C8 - B8) - D8 -> 0.32986111 | F8: =IF( COUNT(B8, C8)<2, "", IF( E8 - TIME(7,0,0) < 0, "-" & TEXT(ABS(E8 - TIME(7,0,0)), "h:mm"), TEXT(E8 - TIME(7,0,0), "h:mm") ) ) -> 0:55 | G8: =IF( COUNT(B8,C8)<2, , (E8*24) - 7 ) -> 0.91666667 | H8: =WEEKNUM(A8,2) -> 32 | J8: 36 | K8: =IF(ISBLANK(L8), "", IF(L8<0, "-" & TEXT(ABS(L8)/24, "h:mm"), TEXT(L8/24, "h:mm"))) -> 0:00 | L8: =SUMIF(H:H, J8, G:G) -> 0
A9: 45877 | B9: 0.33541667 | C9: 0.58611111 | D9: 0.041666667 | E9: =(C9 - B9) - D9 -> 0.20902778 | F9: =IF( COUNT(B9, C9)<2, "", IF( E9 - TIME(7,0,0) < 0, "-" & TEXT(ABS(E9 - TIME(7,0,0)), "h:mm"), TEXT(E9 - TIME(7,0,0), "h:mm") ) ) -> -1:59 | G9: =IF( COUNT(B9,C9)<2, , (E9*24) - 7 ) -> -1.9833333 | H9: =WEEKNUM(A9,2) -> 32 | J9: Total mois | K9: =IF(ISBLANK(L9), "", IF(L9<0, "-" & TEXT(ABS(L9)/24, "h:mm"), TEXT(L9/24, "h:mm"))) -> 7:26 | L9: =SUM(L3:L7) -> 7.4333333
A10: 45878 | D10: 0.041666667 | E10: =(C10 - B10) - D10 -> -0.041666667 | F10: =IF( COUNT(B10, C10)<2, "", IF( E10 - TIME(7,0,0) < 0, "-" & TEXT(ABS(E10 - TIME(7,0,0)), "h:mm"), TEXT(E10 - TIME(7,0,0), "h:mm") ) ) | G10: =IF( COUNT(B10,C10)<2, , (E10*24) - 7 ) -> 0 | H10: =WEEKNUM(A10,2) -> 32 | J10: Total année | K10: =IF(ISBLANK(L10), "", IF(L10<0, "-" & TEXT(ABS(L10)/24, "h:mm"), TEXT(L10/24, "h:mm"))) -> 21:46 | L10: =SUM(L14:L22) -> 45.766667
A11: 45879 | D11: 0.041666667 | E11: =(C11 - B11) - D11 -> -0.041666667 | F11: =IF( COUNT(B11, C11)<2, "", IF( E11 - TIME(7,0,0) < 0, "-" & TEXT(ABS(E11 - TIME(7,0,0)), "h:mm"), TEXT(E11 - TIME(7,0,0), "h:mm") ) ) | G11: =IF( COUNT(B11,C11)<2, , (E11*24) - 7 ) -> 0 | H11: =WEEKNUM(A11,2) -> 32
A12: 45880 | B12: 0.33958333 | C12: 0.70138889 | D12: 0.041666667 | E12: =(C12 - B12) - D12 -> 0.32013889 | F12: =IF( COUNT(B12, C12)<2, "", IF( E12 - TIME(7,0,0) < 0, "-" & TEXT(ABS(E12 - TIME(7,0,0)), "h:mm"), TEXT(E12 - TIME(7,0,0), "h:mm") ) ) -> 0:41 | G12: =IF( COUNT(B12,C12)<2, , (E12*24) - 7 ) -> 0.68333333 | H12: =WEEKNUM(A12,2) -> 33
A13: 45881 | B13: 0.34236111 | C13: 0.71180556 | D13: 0.041666667 | E13: =(C13 - B13) - D13 -> 0.32777778 | F13: =IF( COUNT(B13, C13)<2, "", IF( E13 - TIME(7,0,0) < 0, "-" & TEXT(ABS(E13 - TIME(7,0,0)), "h:mm"), TEXT(E13 - TIME(7,0,0), "h:mm") ) ) -> 0:52 | G13: =IF( COUNT(B13,C13)<2, , (E13*24) - 7 ) -> 0.86666667 | H13: =WEEKNUM(A13,2) -> 33
A14: 45882 | B14: 0.33958333 | C14: 0.71805556 | D14: 0.041666667 | E14: =(C14 - B14) - D14 -> 0.33680556 | F14: =IF( COUNT(B14, C14)<2, "", IF( E14 - TIME(7,0,0) < 0, "-" & TEXT(ABS(E14 - TIME(7,0,0)), "h:mm"), TEXT(E14 - TIME(7,0,0), "h:mm") ) ) -> 1:05 | G14: =IF( COUNT(B14,C14)<2, , (E14*24) - 7 ) -> 1.0833333 | H14: =WEEKNUM(A14,2) -> 33 | J14: Avril | K14: =IF(ISBLANK(L14), "", IF(L14<0, "-" & TEXT(ABS(L14)/24, "h:mm"), TEXT(L14/24, "h:mm"))) -> 4:58 | L14: ='Avril-2025'!L9 -> 4.9666667
A15: 45883 | B15: 0.35694444 | C15: 0.77083333 | D15: 0.041666667 | E15: =(C15 - B15) - D15 -> 0.37222222 | F15: =IF( COUNT(B15, C15)<2, "", IF( E15 - TIME(7,0,0) < 0, "-" & TEXT(ABS(E15 - TIME(7,0,0)), "h:mm"), TEXT(E15 - TIME(7,0,0), "h:mm") ) ) -> 1:56 | G15: =IF( COUNT(B15,C15)<2, , (E15*24) - 7 ) -> 1.9333333 | H15: =WEEKNUM(A15,2) -> 33 | J15: Mai | K15: =IF(ISBLANK(L15), "", IF(L15<0, "-" & TEXT(ABS(L15)/24, "h:mm"), TEXT(L15/24, "h:mm"))) -> 5:27 | L15: ='Mai-2025'!L9 -> 5.45
A16: 45884 | B16: 0.33333333 | C16: 0.58333333 | D16: 0.041666667 | E16: =(C16 - B16) - D16 -> 0.20833333 | F16: =IF( COUNT(B16, C16)<2, "", IF( E16 - TIME(7,0,0) < 0, "-" & TEXT(ABS(E16 - TIME(7,0,0)), "h:mm"), TEXT(E16 - TIME(7,0,0), "h:mm") ) ) -> -2:00 | G16: =IF( COUNT(B16,C16)<2, , (E16*24) - 7 ) -> -2 | H16: =WEEKNUM(A16,2) -> 33 | J16: Juin | K16: =IF(ISBLANK(L16), "", IF(L16<0, "-" & TEXT(ABS(L16)/24, "h:mm"), TEXT(L16/24, "h:mm"))) -> -6:37 | L16: ='Juin-2025'!L9 -> -6.6166667
A17: 45885 | D17: 0.041666667 | E17: =(C17 - B17) - D17 -> -0.041666667 | F17: =IF( COUNT(B17, C17)<2, "", IF( E17 - TIME(7,0,0) < 0, "-" & TEXT(ABS(E17 - TIME(7,0,0)), "h:mm"), TEXT(E17 - TIME(7,0,0), "h:mm") ) ) | G17: =IF( COUNT(B17,C17)<2, , (E17*24) - 7 ) -> 0 | H17: =WEEKNUM(A17,2) -> 33 | J17: Juillet | K17: =IF(ISBLANK(L17), "", IF(L17<0, "-" & TEXT(ABS(L17)/24, "h:mm"), TEXT(L17/24, "h:mm"))) -> 11:41 | L17: ='Juillet-2025'!L8 -> 11.683333
A18: 45886 | D18: 0.041666667 | E18: =(C18 - B18) - D18 -> -0.041666667 | F18: =IF( COUNT(B18, C18)<2, "", IF( E18 - TIME(7,0,0) < 0, "-" & TEXT(ABS(E18 - TIME(7,0,0)), "h:mm"), TEXT(E18 - TIME(7,0,0), "h:mm") ) ) | G18: =IF( COUNT(B18,C18)<2, , (E18*24) - 7 ) -> 0 | H18: =WEEKNUM(A18,2) -> 33 | J18: Aout | K18: =IF(ISBLANK(L18), "", IF(L18<0, "-" & TEXT(ABS(L18)/24, "h:mm"), TEXT(L18/24, "h:mm"))) -> 7:26 | L18: ='Aout-2025'!L9 -> 7.4333333
A19: 45887 | B19: 0.34027778 | C19: 0.72222222 | D19: 0.041666667 | E19: =(C19 - B19) - D19 -> 0.34027778 | F19: =IF( COUNT(B19, C19)<2, "", IF( E19 - TIME(7,0,0) < 0, "-" & TEXT(ABS(E19 - TIME(7,0,0)), "h:mm"), TEXT(E19 - TIME(7,0,0), "h:mm") ) ) -> 1:10 | G19: =IF( COUNT(B19,C19)<2, , (E19*24) - 7 ) -> 1.1666667 | H19: =WEEKNUM(A19,2) -> 34 | J19: Septembre | K19: =IF(ISBLANK(L19), "", IF(L19<0, "-" & TEXT(ABS(L19)/24, "h:mm"), TEXT(L19/24, "h:mm"))) -> 6:32 | L19: ='Septembre-2025'!L9 -> 6.5333333
A20: 45888 | B20: 0.33541667 | C20: 0.71180556 | D20: 0.041666667 | E20: =(C20 - B20) - D20 -> 0.33472222 | F20: =IF( COUNT(B20, C20)<2, "", IF( E20 - TIME(7,0,0) < 0, "-" & TEXT(ABS(E20 - TIME(7,0,0)), "h:mm"), TEXT(E20 - TIME(7,0,0), "h:mm") ) ) -> 1:02 | G20: =IF( COUNT(B20,C20)<2, , (E20*24) - 7 ) -> 1.0333333 | H20: =WEEKNUM(A20,2) -> 34 | J20: Octobre | K20: =IF(ISBLANK(L20), "", IF(L20<0, "-" & TEXT(ABS(L20)/24, "h:mm"), TEXT(L20/24, "h:mm"))) -> 9:41 | L20: ='Octobre-2025'!L9 -> 9.6833333
A21: 45889 | B21: 0.33263889 | C21: 0.71597222 | D21: 0.041666667 | E21: =(C21 - B21) - D21 -> 0.34166667 | F21: =IF( COUNT(B21, C21)<2, "", IF( E21 - TIME(7,0,0) < 0, "-" & TEXT(ABS(E21 - TIME(7,0,0)), "h:mm"), TEXT(E21 - TIME(7,0,0), "h:mm") ) ) -> 1:12 | G21: =IF( COUNT(B21,C21)<2, , (E21*24) - 7 ) -> 1.2 | H21: =WEEKNUM(A21,2) -> 34 | J21: Novembre | K21: =IF(ISBLANK(L21), "", IF(L21<0, "-" & TEXT(ABS(L21)/24, "h:mm"), TEXT(L21/24, "h:mm"))) -> 2:23 | L21: ='Novembre-2025'!L9 -> 2.3833333
A22: 45890 | B22: 0.33819444 | C22: 0.69583333 | D22: 0.041666667 | E22: =(C22 - B22) - D22 -> 0.31597222 | F22: =IF( COUNT(B22, C22)<2, "", IF( E22 - TIME(7,0,0) < 0, "-" & TEXT(ABS(E22 - TIME(7,0,0)), "h:mm"), TEXT(E22 - TIME(7,0,0), "h:mm") ) ) -> 0:35 | G22: =IF( COUNT(B22,C22)<2, , (E22*24) - 7 ) -> 0.58333333 | H22: =WEEKNUM(A22,2) -> 34 | J22: Decembre | K22: =IF(ISBLANK(L22), "", IF(L22<0, "-" & TEXT(ABS(L22)/24, "h:mm"), TEXT(L22/24, "h:mm"))) -> 4:15 | L22: ='Decembre-2025'!L9 -> 4.25
A23: 45891 | B23: 0.33194444 | C23: 0.5875 | D23: 0.041666667 | E23: =(C23 - B23) - D23 -> 0.21388889 | F23: =IF( COUNT(B23, C23)<2, "", IF( E23 - TIME(7,0,0) < 0, "-" & TEXT(ABS(E23 - TIME(7,0,0)), "h:mm"), TEXT(E23 - TIME(7,0,0), "h:mm") ) ) -> -1:52 | G23: =IF( COUNT(B23,C23)<2, , (E23*24) - 7 ) -> -1.8666667 | H23: =WEEKNUM(A23,2) -> 34
A24: 45892 | D24: 0.041666667 | E24: =(C24 - B24) - D24 -> -0.041666667 | F24: =IF( COUNT(B24, C24)<2, "", IF( E24 - TIME(7,0,0) < 0, "-" & TEXT(ABS(E24 - TIME(7,0,0)), "h:mm"), TEXT(E24 - TIME(7,0,0), "h:mm") ) ) | G24: =IF( COUNT(B24,C24)<2, , (E24*24) - 7 ) -> 0 | H24: =WEEKNUM(A24,2) -> 34
A25: 45893 | D25: 0.041666667 | E25: =(C25 - B25) - D25 -> -0.041666667 | F25: =IF( COUNT(B25, C25)<2, "", IF( E25 - TIME(7,0,0) < 0, "-" & TEXT(ABS(E25 - TIME(7,0,0)), "h:mm"), TEXT(E25 - TIME(7,0,0), "h:mm") ) ) | G25: =IF( COUNT(B25,C25)<2, , (E25*24) - 7 ) -> 0 | H25: =WEEKNUM(A25,2) -> 34
A26: 45894 | B26: 0.34027778 | C26: 0.70138889 | D26: 0.041666667 | E26: =(C26 - B26) - D26 -> 0.31944444 | F26: =IF( COUNT(B26, C26)<2, "", IF( E26 - TIME(7,0,0) < 0, "-" & TEXT(ABS(E26 - TIME(7,0,0)), "h:mm"), TEXT(E26 - TIME(7,0,0), "h:mm") ) ) -> 0:40 | G26: =IF( COUNT(B26,C26)<2, , (E26*24) - 7 ) -> 0.66666667 | H26: =WEEKNUM(A26,2) -> 35
A27: 45895 | B27: 0.3375 | C27: 0.69236111 | D27: 0.041666667 | E27: =(C27 - B27) - D27 -> 0.31319444 | F27: =IF( COUNT(B27, C27)<2, "", IF( E27 - TIME(7,0,0) < 0, "-" & TEXT(ABS(E27 - TIME(7,0,0)), "h:mm"), TEXT(E27 - TIME(7,0,0), "h:mm") ) ) -> 0:31 | G27: =IF( COUNT(B27,C27)<2, , (E27*24) - 7 ) -> 0.51666667 | H27: =WEEKNUM(A27,2) -> 35
A28: 45896 | B28: 0.33819444 | C28: 0.70694444 | D28: 0.041666667 | E28: =(C28 - B28) - D28 -> 0.32708333 | F28: =IF( COUNT(B28, C28)<2, "", IF( E28 - TIME(7,0,0) < 0, "-" & TEXT(ABS(E28 - TIME(7,0,0)), "h:mm"), TEXT(E28 - TIME(7,0,0), "h:mm") ) ) -> 0:51 | G28: =IF( COUNT(B28,C28)<2, , (E28*24) - 7 ) -> 0.85 | H28: =WEEKNUM(A28,2) -> 35
A29: 45897 | B29: 0.33680556 | C29: 0.68819444 | D29: 0.041666667 | E29: =(C29 - B29) - D29 -> 0.30972222 | F29: =IF( COUNT(B29, C29)<2, "", IF( E29 - TIME(7,0,0) < 0, "-" & TEXT(ABS(E29 - TIME(7,0,0)), "h:mm"), TEXT(E29 - TIME(7,0,0), "h:mm") ) ) -> 0:26 | G29: =IF( COUNT(B29,C29)<2, , (E29*24) - 7 ) -> 0.43333333 | H29: =WEEKNUM(A29,2) -> 35
A30: 45898 | B30: 0.35347222 | C30: 0.69027778 | D30: 0.041666667 | E30: =(C30 - B30) - D30 -> 0.29513889 | F30: =IF( COUNT(B30, C30)<2, "", IF( E30 - TIME(7,0,0) < 0, "-" & TEXT(ABS(E30 - TIME(7,0,0)), "h:mm"), TEXT(E30 - TIME(7,0,0), "h:mm") ) ) -> 0:05 | G30: =IF( COUNT(B30,C30)<2, , (E30*24) - 7 ) -> 0.083333333 | H30: =WEEKNUM(A30,2) -> 35
A31: 45899 | D31: 0.041666667 | E31: =(C31 - B31) - D31 -> -0.041666667 | F31: =IF( COUNT(B31, C31)<2, "", IF( E31 - TIME(7,0,0) < 0, "-" & TEXT(ABS(E31 - TIME(7,0,0)), "h:mm"), TEXT(E31 - TIME(7,0,0), "h:mm") ) ) | G31: =IF( COUNT(B31,C31)<2, , (E31*24) - 7 ) -> 0 | H31: =WEEKNUM(A31,2) -> 35
A32: 45900 | D32: 0.041666667 | E32: =(C32 - B32) - D32 -> -0.041666667 | F32: =IF( COUNT(B32, C32)<2, "", IF( E32 - TIME(7,0,0) < 0, "-" & TEXT(ABS(E32 - TIME(7,0,0)), "h:mm"), TEXT(E32 - TIME(7,0,0), "h:mm") ) ) | H32: =WEEKNUM(A32,2) -> 35

Sheet Septembre-2025
A1: Date | B1: Arrivée | C1: Départ | D1: Pause | E1: Temps travail | F1: Delta (h) | H1: Semaine
A2: 45901 | B2: 0.34444444 | C2: 0.71597222 | D2: 0.041666667 | E2: =(C2 - B2) - D2 -> 0.32986111 | F2: =IF( COUNT(B2, C2)<2, "", IF( E2 - TIME(7,0,0) < 0, "-" & TEXT(ABS(E2 - TIME(7,0,0)), "h:mm"), TEXT(E2 - TIME(7,0,0), "h:mm") ) ) -> 0:55 | G2: =IF( COUNT(B2,C2)<2, , (E2*24) - 7 ) -> 0.91666667 | H2: =WEEKNUM(A2,2) -> 36 | J2: Semaine | K2: Delta total (h)
A3: 45902 | B3: 0.34444444 | C3: 0.68611111 | D3: 0.041666667 | E3: =(C3 - B3) - D3 -> 0.3 | F3: =IF( COUNT(B3, C3)<2, "", IF( E3 - TIME(7,0,0) < 0, "-" & TEXT(ABS(E3 - TIME(7,0,0)), "h:mm"), TEXT(E3 - TIME(7,0,0), "h:mm") ) ) -> 0:12 | G3: =IF( COUNT(B3,C3)<2, , (E3*24) - 7 ) -> 0.2 | H3: =WEEKNUM(A3,2) -> 36 | J3: 36 | K3: =IF(ISBLANK(L3), "", IF(L3<0, "-" & TEXT(ABS(L3)/24, "h:mm"), TEXT(L3/24, "h:mm"))) -> 1:39 | L3: =SUMIF(H:H, J3, G:G) -> 1.65
A4: 45903 | B4: 0.33472222 | C4: 0.71319444 | D4: 0.041666667 | E4: =(C4 - B4) - D4 -> 0.33680556 | F4: =IF( COUNT(B4, C4)<2, "", IF( E4 - TIME(7,0,0) < 0, "-" & TEXT(ABS(E4 - TIME(7,0,0)), "h:mm"), TEXT(E4 - TIME(7,0,0), "h:mm") ) ) -> 1:05 | G4: =IF( COUNT(B4,C4)<2, , (E4*24) - 7 ) -> 1.0833333 | H4: =WEEKNUM(A4,2) -> 36 | J4: 37 | K4: =IF(ISBLANK(L4), "", IF(L4<0, "-" & TEXT(ABS(L4)/24, "h:mm"), TEXT(L4/24, "h:mm"))) -> 1:19 | L4: =SUMIF(H:H, J4, G:G) -> 1.3166667
A5: 45904 | B5: 0.34375 | C5: 0.70208333 | D5: 0.041666667 | E5: =(C5 - B5) - D5 -> 0.31666667 | F5: =IF( COUNT(B5, C5)<2, "", IF( E5 - TIME(7,0,0) < 0, "-" & TEXT(ABS(E5 - TIME(7,0,0)), "h:mm"), TEXT(E5 - TIME(7,0,0), "h:mm") ) ) -> 0:36 | G5: =IF( COUNT(B5,C5)<2, , (E5*24) - 7 ) -> 0.6 | H5: =WEEKNUM(A5,2) -> 36 | J5: 38 | K5: =IF(ISBLANK(L5), "", IF(L5<0, "-" & TEXT(ABS(L5)/24, "h:mm"), TEXT(L5/24, "h:mm"))) -> 2:03 | L5: =SUMIF(H:H, J5, G:G) -> 2.05
A6: 45905 | B6: 0.34305556 | C6: 0.62847222 | D6: 0.041666667 | E6: =(C6 - B6) - D6 -> 0.24375 | F6: =IF( COUNT(B6, C6)<2, "", IF( E6 - TIME(7,0,0) < 0, "-" & TEXT(ABS(E6 - TIME(7,0,0)), "h:mm"), TEXT(E6 - TIME(7,0,0), "h:mm") ) ) -> -1:09 | G6: =IF( COUNT(B6,C6)<2, , (E6*24) - 7 ) -> -1.15 | H6: =WEEKNUM(A6,2) -> 36 | J6: 39 | K6: =IF(ISBLANK(L6), "", IF(L6<0, "-" & TEXT(ABS(L6)/24, "h:mm"), TEXT(L6/24, "h:mm"))) -> 0:51 | L6: =SUMIF(H:H, J6, G:G) -> 0.85
A7: 45906 | D7: 0.041666667 | E7: =(C7 - B7) - D7 -> -0.041666667 | F7: =IF( COUNT(B7, C7)<2, "", IF( E7 - TIME(7,0,0) < 0, "-" & TEXT(ABS(E7 - TIME(7,0,0)), "h:mm"), TEXT(E7 - TIME(7,0,0), "h:mm") ) ) | G7: =IF( COUNT(B7,C7)<2, , (E7*24) - 7 ) -> 0 | H7: =WEEKNUM(A7,2) -> 36 | J7: 40 | K7: =IF(ISBLANK(L7), "", IF(L7<0, "-" & TEXT(ABS(L7)/24, "h:mm"), TEXT(L7/24, "h:mm"))) -> 0:40 | L7: =SUMIF(H:H, J7, G:G) -> 0.66666667
A8: 45907 | D8: 0.041666667 | E8: =(C8 - B8) - D8 -> -0.041666667 | F8: =IF( COUNT(B8, C8)<2, "", IF( E8 - TIME(7,0,0) < 0, "-" & TEXT(ABS(E8 - TIME(7,0,0)), "h:mm"), TEXT(E8 - TIME(7,0,0), "h:mm") ) ) | G8: =IF( COUNT(B8,C8)<2, , (E8*24) - 7 ) -> 0 | H8: =WEEKNUM(A8,2) -> 36 | K8: =IF(ISBLANK(L8), "", IF(L8<0, "-" & TEXT(ABS(L8)/24, "h:mm"), TEXT(L8/24, "h:mm")))
A9: 45908 | B9: 0.33541667 | C9: 0.69305556 | D9: 0.041666667 | E9: =(C9 - B9) - D9 -> 0.31597222 | F9: =IF( COUNT(B9, C9)<2, "", IF( E9 - TIME(7,0,0) < 0, "-" & TEXT(ABS(E9 - TIME(7,0,0)), "h:mm"), TEXT(E9 - TIME(7,0,0), "h:mm") ) ) -> 0:35 | G9: =IF( COUNT(B9,C9)<2, , (E9*24) - 7 ) -> 0.58333333 | H9: =WEEKNUM(A9,2) -> 37 | J9: Total mois | K9: =IF(ISBLANK(L9), "", IF(L9<0, "-" & TEXT(ABS(L9)/24, "h:mm"), TEXT(L9/24, "h:mm"))) -> 6:32 | L9: =SUM(L3:L7) -> 6.5333333
A10: 45909 | B10: 0.33333333 | C10: 0.69444444 | D10: 0.041666667 | E10: =(C10 - B10) - D10 -> 0.31944444 | F10: =IF( COUNT(B10, C10)<2, "", IF( E10 - TIME(7,0,0) < 0, "-" & TEXT(ABS(E10 - TIME(7,0,0)), "h:mm"), TEXT(E10 - TIME(7,0,0), "h:mm") ) ) -> 0:40 | G10: =IF( COUNT(B10,C10)<2, , (E10*24) - 7 ) -> 0.66666667 | H10: =WEEKNUM(A10,2) -> 37 | J10: Total année | K10: =IF(ISBLANK(L10), "", IF(L10<0, "-" & TEXT(ABS(L10)/24, "[h]:mm"), TEXT(L10/24, "[h]:mm"))) -> 45:46 | L10: =SUM(L14:L22) -> 45.766667
A11: 45910 | B11: 0.32361111 | C11: 0.69305556 | D11: 0.041666667 | E11: =(C11 - B11) - D11 -> 0.32777778 | F11: =IF( COUNT(B11, C11)<2, "", IF( E11 - TIME(7,0,0) < 0, "-" & TEXT(ABS(E11 - TIME(7,0,0)), "h:mm"), TEXT(E11 - TIME(7,0,0), "h:mm") ) ) -> 0:52 | G11: =IF( COUNT(B11,C11)<2, , (E11*24) - 7 ) -> 0.86666667 | H11: =WEEKNUM(A11,2) -> 37
A12: 45911 | B12: 0.33263889 | C12: 0.71319444 | D12: 0.041666667 | E12: =(C12 - B12) - D12 -> 0.33888889 | F12: =IF( COUNT(B12, C12)<2, "", IF( E12 - TIME(7,0,0) < 0, "-" & TEXT(ABS(E12 - TIME(7,0,0)), "h:mm"), TEXT(E12 - TIME(7,0,0), "h:mm") ) ) -> 1:08 | G12: =IF( COUNT(B12,C12)<2, , (E12*24) - 7 ) -> 1.1333333 | H12: =WEEKNUM(A12,2) -> 37
A13: 45912 | B13: 0.33055556 | C13: 0.58333333 | D13: 0.041666667 | E13: =(C13 - B13) - D13 -> 0.21111111 | F13: =IF( COUNT(B13, C13)<2, "", IF( E13 - TIME(7,0,0) < 0, "-" & TEXT(ABS(E13 - TIME(7,0,0)), "h:mm"), TEXT(E13 - TIME(7,0,0), "h:mm") ) ) -> -1:56 | G13: =IF( COUNT(B13,C13)<2, , (E13*24) - 7 ) -> -1.9333333 | H13: =WEEKNUM(A13,2) -> 37
A14: 45913 | D14: 0.041666667 | E14: =(C14 - B14) - D14 -> -0.041666667 | F14: =IF( COUNT(B14, C14)<2, "", IF( E14 - TIME(7,0,0) < 0, "-" & TEXT(ABS(E14 - TIME(7,0,0)), "h:mm"), TEXT(E14 - TIME(7,0,0), "h:mm") ) ) | G14: =IF( COUNT(B14,C14)<2, , (E14*24) - 7 ) -> 0 | H14: =WEEKNUM(A14,2) -> 37 | J14: Avril | K14: =IF(ISBLANK(L14), "", IF(L14<0, "-" & TEXT(ABS(L14)/24, "h:mm"), TEXT(L14/24, "h:mm"))) -> 4:58 | L14: ='Avril-2025'!L9 -> 4.9666667
A15: 45914 | D15: 0.041666667 | E15: =(C15 - B15) - D15 -> -0.041666667 | F15: =IF( COUNT(B15, C15)<2, "", IF( E15 - TIME(7,0,0) < 0, "-" & TEXT(ABS(E15 - TIME(7,0,0)), "h:mm"), TEXT(E15 - TIME(7,0,0), "h:mm") ) ) | G15: =IF( COUNT(B15,C15)<2, , (E15*24) - 7 ) -> 0 | H15: =WEEKNUM(A15,2) -> 37 | J15: Mai | K15: =IF(ISBLANK(L15), "", IF(L15<0, "-" & TEXT(ABS(L15)/24, "h:mm"), TEXT(L15/24, "h:mm"))) -> 5:27 | L15: ='Mai-2025'!L9 -> 5.45
A16: 45915 | B16: 0.3375 | C16: 0.70486111 | D16: 0.041666667 | E16: =(C16 - B16) - D16 -> 0.32569444 | F16: =IF( COUNT(B16, C16)<2, "", IF( E16 - TIME(7,0,0) < 0, "-" & TEXT(ABS(E16 - TIME(7,0,0)), "h:mm"), TEXT(E16 - TIME(7,0,0), "h:mm") ) ) -> 0:49 | G16: =IF( COUNT(B16,C16)<2, , (E16*24) - 7 ) -> 0.81666667 | H16: =WEEKNUM(A16,2) -> 38 | J16: Juin | K16: =IF(ISBLANK(L16), "", IF(L16<0, "-" & TEXT(ABS(L16)/24, "h:mm"), TEXT(L16/24, "h:mm"))) -> -6:37 | L16: ='Juin-2025'!L9 -> -6.6166667
A17: 45916 | B17: 0.33680556 | C17: 0.70972222 | D17: 0.041666667 | E17: =(C17 - B17) - D17 -> 0.33125 | F17: =IF( COUNT(B17, C17)<2, "", IF( E17 - TIME(7,0,0) < 0, "-" & TEXT(ABS(E17 - TIME(7,0,0)), "h:mm"), TEXT(E17 - TIME(7,0,0), "h:mm") ) ) -> 0:57 | G17: =IF( COUNT(B17,C17)<2, , (E17*24) - 7 ) -> 0.95 | H17: =WEEKNUM(A17,2) -> 38 | J17: Juillet | K17: =IF(ISBLANK(L17), "", IF(L17<0, "-" & TEXT(ABS(L17)/24, "h:mm"), TEXT(L17/24, "h:mm"))) -> 11:41 | L17: ='Juillet-2025'!L8 -> 11.683333
A18: 45917 | B18: 0.33958333 | C18: 0.68611111 | D18: 0.041666667 | E18: =(C18 - B18) - D18 -> 0.30486111 | F18: =IF( COUNT(B18, C18)<2, "", IF( E18 - TIME(7,0,0) < 0, "-" & TEXT(ABS(E18 - TIME(7,0,0)), "h:mm"), TEXT(E18 - TIME(7,0,0), "h:mm") ) ) -> 0:19 | G18: =IF( COUNT(B18,C18)<2, , (E18*24) - 7 ) -> 0.31666667 | H18: =WEEKNUM(A18,2) -> 38 | J18: Aout | K18: =IF(ISBLANK(L18), "", IF(L18<0, "-" & TEXT(ABS(L18)/24, "h:mm"), TEXT(L18/24, "h:mm"))) -> 7:26 | L18: ='Aout-2025'!L9 -> 7.4333333
A19: 45918 | B19: 0.33541667 | C19: 0.74652778 | D19: 0.041666667 | E19: =(C19 - B19) - D19 -> 0.36944444 | F19: =IF( COUNT(B19, C19)<2, "", IF( E19 - TIME(7,0,0) < 0, "-" & TEXT(ABS(E19 - TIME(7,0,0)), "h:mm"), TEXT(E19 - TIME(7,0,0), "h:mm") ) ) -> 1:52 | G19: =IF( COUNT(B19,C19)<2, , (E19*24) - 7 ) -> 1.8666667 | H19: =WEEKNUM(A19,2) -> 38 | J19: Septembre | K19: =IF(ISBLANK(L19), "", IF(L19<0, "-" & TEXT(ABS(L19)/24, "h:mm"), TEXT(L19/24, "h:mm"))) -> 6:32 | L19: ='Septembre-2025'!L9 -> 6.5333333
A20: 45919 | B20: 0.32083333 | C20: 0.575 | D20: 0.041666667 | E20: =(C20 - B20) - D20 -> 0.2125 | F20: =IF( COUNT(B20, C20)<2, "", IF( E20 - TIME(7,0,0) < 0, "-" & TEXT(ABS(E20 - TIME(7,0,0)), "h:mm"), TEXT(E20 - TIME(7,0,0), "h:mm") ) ) -> -1:54 | G20: =IF( COUNT(B20,C20)<2, , (E20*24) - 7 ) -> -1.9 | H20: =WEEKNUM(A20,2) -> 38 | J20: Octobre | K20: =IF(ISBLANK(L20), "", IF(L20<0, "-" & TEXT(ABS(L20)/24, "h:mm"), TEXT(L20/24, "h:mm"))) -> 9:41 | L20: ='Octobre-2025'!L9 -> 9.6833333
A21: 45920 | D21: 0.041666667 | E21: =(C21 - B21) - D21 -> -0.041666667 | F21: =IF( COUNT(B21, C21)<2, "", IF( E21 - TIME(7,0,0) < 0, "-" & TEXT(ABS(E21 - TIME(7,0,0)), "h:mm"), TEXT(E21 - TIME(7,0,0), "h:mm") ) ) | G21: =IF( COUNT(B21,C21)<2, , (E21*24) - 7 ) -> 0 | H21: =WEEKNUM(A21,2) -> 38 | J21: Novembre | K21: =IF(ISBLANK(L21), "", IF(L21<0, "-" & TEXT(ABS(L21)/24, "h:mm"), TEXT(L21/24, "h:mm"))) -> 2:23 | L21: ='Novembre-2025'!L9 -> 2.3833333
A22: 45921 | D22: 0.041666667 | E22: =(C22 - B22) - D22 -> -0.041666667 | F22: =IF( COUNT(B22, C22)<2, "", IF( E22 - TIME(7,0,0) < 0, "-" & TEXT(ABS(E22 - TIME(7,0,0)), "h:mm"), TEXT(E22 - TIME(7,0,0), "h:mm") ) ) | G22: =IF( COUNT(B22,C22)<2, , (E22*24) - 7 ) -> 0 | H22: =WEEKNUM(A22,2) -> 38 | J22: Decembre | K22: =IF(ISBLANK(L22), "", IF(L22<0, "-" & TEXT(ABS(L22)/24, "h:mm"), TEXT(L22/24, "h:mm"))) -> 4:15 | L22: ='Decembre-2025'!L9 -> 4.25
A23: 45922 | B23: 0.33611111 | C23: 0.69930556 | D23: 0.041666667 | E23: =(C23 - B23) - D23 -> 0.32152778 | F23: =IF( COUNT(B23, C23)<2, "", IF( E23 - TIME(7,0,0) < 0, "-" & TEXT(ABS(E23 - TIME(7,0,0)), "h:mm"), TEXT(E23 - TIME(7,0,0), "h:mm") ) ) -> 0:43 | G23: =IF( COUNT(B23,C23)<2, , (E23*24) - 7 ) -> 0.71666667 | H23: =WEEKNUM(A23,2) -> 39
A24: 45923 | B24: 0.33263889 | C24: 0.69097222 | D24: 0.041666667 | E24: =(C24 - B24) - D24 -> 0.31666667 | F24: =IF( COUNT(B24, C24)<2, "", IF( E24 - TIME(7,0,0) < 0, "-" & TEXT(ABS(E24 - TIME(7,0,0)), "h:mm"), TEXT(E24 - TIME(7,0,0), "h:mm") ) ) -> 0:36 | G24: =IF( COUNT(B24,C24)<2, , (E24*24) - 7 ) -> 0.6 | H24: =WEEKNUM(A24,2) -> 39
A25: 45924 | B25: 0.33888889 | C25: 0.70208333 | D25: 0.041666667 | E25: =(C25 - B25) - D25 -> 0.32152778 | F25: =IF( COUNT(B25, C25)<2, "", IF( E25 - TIME(7,0,0) < 0, "-" & TEXT(ABS(E25 - TIME(7,0,0)), "h:mm"), TEXT(E25 - TIME(7,0,0), "h:mm") ) ) -> 0:43 | G25: =IF( COUNT(B25,C25)<2, , (E25*24) - 7 ) -> 0.71666667 | H25: =WEEKNUM(A25,2) -> 39
A26: 45925 | B26: 0.33819444 | C26: 0.69861111 | D26: 0.041666667 | E26: =(C26 - B26) - D26 -> 0.31875 | F26: =IF( COUNT(B26, C26)<2, "", IF( E26 - TIME(7,0,0) < 0, "-" & TEXT(ABS(E26 - TIME(7,0,0)), "h:mm"), TEXT(E26 - TIME(7,0,0), "h:mm") ) ) -> 0:39 | G26: =IF( COUNT(B26,C26)<2, , (E26*24) - 7 ) -> 0.65 | H26: =WEEKNUM(A26,2) -> 39
A27: 45926 | B27: 0.32222222 | C27: 0.57916667 | D27: 0.041666667 | E27: =(C27 - B27) - D27 -> 0.21527778 | F27: =IF( COUNT(B27, C27)<2, "", IF( E27 - TIME(7,0,0) < 0, "-" & TEXT(ABS(E27 - TIME(7,0,0)), "h:mm"), TEXT(E27 - TIME(7,0,0), "h:mm") ) ) -> -1:50 | G27: =IF( COUNT(B27,C27)<2, , (E27*24) - 7 ) -> -1.8333333 | H27: =WEEKNUM(A27,2) -> 39
A28: 45927 | D28: 0.041666667 | E28: =(C28 - B28) - D28 -> -0.041666667 | F28: =IF( COUNT(B28, C28)<2, "", IF( E28 - TIME(7,0,0) < 0, "-" & TEXT(ABS(E28 - TIME(7,0,0)), "h:mm"), TEXT(E28 - TIME(7,0,0), "h:mm") ) ) | G28: =IF( COUNT(B28,C28)<2, , (E28*24) - 7 ) -> 0 | H28: =WEEKNUM(A28,2) -> 39
A29: 45928 | D29: 0.041666667 | E29: =(C29 - B29) - D29 -> -0.041666667 | F29: =IF( COUNT(B29, C29)<2, "", IF( E29 - TIME(7,0,0) < 0, "-" & TEXT(ABS(E29 - TIME(7,0,0)), "h:mm"), TEXT(E29 - TIME(7,0,0), "h:mm") ) ) | G29: =IF( COUNT(B29,C29)<2, , (E29*24) - 7 ) -> 0 | H29: =WEEKNUM(A29,2) -> 39
A30: 45929 | B30: 0.34166667 | C30: 0.70277778 | D30: 0.041666667 | E30: =(C30 - B30) - D30 -> 0.31944444 | F30: =IF( COUNT(B30, C30)<2, "", IF( E30 - TIME(7,0,0) < 0, "-" & TEXT(ABS(E30 - TIME(7,0,0)), "h:mm"), TEXT(E30 - TIME(7,0,0), "h:mm") ) ) -> 0:40 | G30: =IF( COUNT(B30,C30)<2, , (E30*24) - 7 ) -> 0.66666667 | H30: =WEEKNUM(A30,2) -> 40
A31: 45930 | B31: 0.33333333 | C31: 0.66666667 | D31: 0.041666667 | E31: =(C31 - B31) - D31 -> 0.29166667 | F31: =IF( COUNT(B31, C31)<2, "", IF( E31 - TIME(7,0,0) < 0, "-" & TEXT(ABS(E31 - TIME(7,0,0)), "h:mm"), TEXT(E31 - TIME(7,0,0), "h:mm") ) ) -> -0:00 | G31: =IF( COUNT(B31,C31)<2, , (E31*24) - 7 ) -> -8.8817842e-16 | H31: =WEEKNUM(A31,2) -> 40

Sheet Octobre-2025
A1: Date | B1: Arrivée | C1: Départ | D1: Pause | E1: Temps travail | F1: Delta (h) | H1: Semaine
A2: 45931 | B2: 0.33263889 | C2: 0.70277778 | D2: 0.041666667 | E2: =(C2 - B2) - D2 -> 0.32847222 | F2: =IF( COUNT(B2, C2)<2, "", IF( E2 - TIME(7,0,0) < 0, "-" & TEXT(ABS(E2 - TIME(7,0,0)), "h:mm"), TEXT(E2 - TIME(7,0,0), "h:mm") ) ) -> 0:53 | G2: =IF( COUNT(B2,C2)<2, , (E2*24) - 7 ) -> 0.88333333 | H2: =WEEKNUM(A2,2) -> 40 | J2: Semaine | K2: Delta total (h)
A3: 45932 | B3: 0.32916667 | C3: 0.69583333 | D3: 0.041666667 | E3: =(C3 - B3) - D3 -> 0.325 | F3: =IF( COUNT(B3, C3)<2, "", IF( E3 - TIME(7,0,0) < 0, "-" & TEXT(ABS(E3 - TIME(7,0,0)), "h:mm"), TEXT(E3 - TIME(7,0,0), "h:mm") ) ) -> 0:48 | G3: =IF( COUNT(B3,C3)<2, , (E3*24) - 7 ) -> 0.8 | H3: =WEEKNUM(A3,2) -> 40 | J3: 40 | K3: =IF(ISBLANK(L3), "", IF(L3<0, "-" & TEXT(ABS(L3)/24, "h:mm"), TEXT(L3/24, "h:mm"))) -> 1:41 | L3: =SUMIF(H:H, J3, G:G) -> 1.6833333
A4: 45933 | B4: 0.33333333 | C4: 0.66666667 | D4: 0.041666667 | E4: =(C4 - B4) - D4 -> 0.29166667 | F4: =IF( COUNT(B4, C4)<2, "", IF( E4 - TIME(7,0,0) < 0, "-" & TEXT(ABS(E4 - TIME(7,0,0)), "h:mm"), TEXT(E4 - TIME(7,0,0), "h:mm") ) ) -> -0:00 | G4: =IF( COUNT(B4,C4)<2, , (E4*24) - 7 ) -> -8.8817842e-16 | H4: =WEEKNUM(A4,2) -> 40 | J4: 41 | K4: =IF(ISBLANK(L4), "", IF(L4<0, "-" & TEXT(ABS(L4)/24, "h:mm"), TEXT(L4/24, "h:mm"))) -> -3:24 | L4: =SUMIF(H:H, J4, G:G) -> -3.4
A5: 45934 | D5: 0.041666667 | E5: =(C5 - B5) - D5 -> -0.041666667 | F5: =IF( COUNT(B5, C5)<2, "", IF( E5 - TIME(7,0,0) < 0, "-" & TEXT(ABS(E5 - TIME(7,0,0)), "h:mm"), TEXT(E5 - TIME(7,0,0), "h:mm") ) ) | G5: =IF( COUNT(B5,C5)<2, , (E5*24) - 7 ) -> 0 | H5: =WEEKNUM(A5,2) -> 40 | J5: 42 | K5: =IF(ISBLANK(L5), "", IF(L5<0, "-" & TEXT(ABS(L5)/24, "h:mm"), TEXT(L5/24, "h:mm"))) -> 2:18 | L5: =SUMIF(H:H, J5, G:G) -> 2.3
A6: 45935 | D6: 0.041666667 | E6: =(C6 - B6) - D6 -> -0.041666667 | F6: =IF( COUNT(B6, C6)<2, "", IF( E6 - TIME(7,0,0) < 0, "-" & TEXT(ABS(E6 - TIME(7,0,0)), "h:mm"), TEXT(E6 - TIME(7,0,0), "h:mm") ) ) | G6: =IF( COUNT(B6,C6)<2, , (E6*24) - 7 ) -> 0 | H6: =WEEKNUM(A6,2) -> 40 | J6: 43 | K6: =IF(ISBLANK(L6), "", IF(L6<0, "-" & TEXT(ABS(L6)/24, "h:mm"), TEXT(L6/24, "h:mm"))) -> 5:24 | L6: =SUMIF(H:H, J6, G:G) -> 5.4
A7: 45936 | B7: 0.3375 | C7: 0.70902778 | D7: 0.041666667 | E7: =(C7 - B7) - D7 -> 0.32986111 | F7: =IF( COUNT(B7, C7)<2, "", IF( E7 - TIME(7,0,0) < 0, "-" & TEXT(ABS(E7 - TIME(7,0,0)), "h:mm"), TEXT(E7 - TIME(7,0,0), "h:mm") ) ) -> 0:55 | G7: =IF( COUNT(B7,C7)<2, , (E7*24) - 7 ) -> 0.91666667 | H7: =WEEKNUM(A7,2) -> 41 | J7: 44 | K7: =IF(ISBLANK(L7), "", IF(L7<0, "-" & TEXT(ABS(L7)/24, "h:mm"), TEXT(L7/24, "h:mm"))) -> 3:42 | L7: =SUMIF(H:H, J7, G:G) -> 3.7
A8: 45937 | B8: 0.33333333 | C8: 0.66666667 | D8: 0.041666667 | E8: =(C8 - B8) - D8 -> 0.29166667 | F8: =IF( COUNT(B8, C8)<2, "", IF( E8 - TIME(7,0,0) < 0, "-" & TEXT(ABS(E8 - TIME(7,0,0)), "h:mm"), TEXT(E8 - TIME(7,0,0), "h:mm") ) ) -> -0:00 | G8: =IF( COUNT(B8,C8)<2, , (E8*24) - 7 ) -> -8.8817842e-16 | H8: =WEEKNUM(A8,2) -> 41 | K8: =IF(ISBLANK(L8), "", IF(L8<0, "-" & TEXT(ABS(L8)/24, "h:mm"), TEXT(L8/24, "h:mm")))
A9: 45938 | B9: 0.52083333 | C9: 0.75347222 | D9: 0.041666667 | E9: =(C9 - B9) - D9 -> 0.19097222 | F9: =IF( COUNT(B9, C9)<2, "", IF( E9 - TIME(7,0,0) < 0, "-" & TEXT(ABS(E9 - TIME(7,0,0)), "h:mm"), TEXT(E9 - TIME(7,0,0), "h:mm") ) ) -> -2:25 | G9: =IF( COUNT(B9,C9)<2, , (E9*24) - 7 ) -> -2.4166667 | H9: =WEEKNUM(A9,2) -> 41 | J9: Total mois | K9: =IF(ISBLANK(L9), "", IF(L9<0, "-" & TEXT(ABS(L9)/24, "h:mm"), TEXT(L9/24, "h:mm"))) -> 9:41 | L9: =SUM(L3:L7) -> 9.6833333
A10: 45939 | B10: 0.33333333 | C10: 0.68263889 | D10: 0.041666667 | E10: =(C10 - B10) - D10 -> 0.30763889 | F10: =IF( COUNT(B10, C10)<2, "", IF( E10 - TIME(7,0,0) < 0, "-" & TEXT(ABS(E10 - TIME(7,0,0)), "h:mm"), TEXT(E10 - TIME(7,0,0), "h:mm") ) ) -> 0:23 | G10: =IF( COUNT(B10,C10)<2, , (E10*24) - 7 ) -> 0.38333333 | H10: =WEEKNUM(A10,2) -> 41 | J10: Total année | K10: =IF(ISBLANK(L10), "", IF(L10<0, "-" & TEXT(ABS(L10)/24, "[h]:mm"), TEXT(L10/24, "[h]:mm"))) -> 45:46 | L10: =SUM(L14:L22) -> 45.766667
A11: 45940 | B11: 0.35069444 | C11: 0.58888889 | D11: 0.041666667 | E11: =(C11 - B11) - D11 -> 0.19652778 | F11: =IF( COUNT(B11, C11)<2, "", IF( E11 - TIME(7,0,0) < 0, "-" & TEXT(ABS(E11 - TIME(7,0,0)), "h:mm"), TEXT(E11 - TIME(7,0,0), "h:mm") ) ) -> -2:17 | G11: =IF( COUNT(B11,C11)<2, , (E11*24) - 7 ) -> -2.2833333 | H11: =WEEKNUM(A11,2) -> 41
A12: 45941 | D12: 0.041666667 | E12: =(C12 - B12) - D12 -> -0.041666667 | F12: =IF( COUNT(B12, C12)<2, "", IF( E12 - TIME(7,0,0) < 0, "-" & TEXT(ABS(E12 - TIME(7,0,0)), "h:mm"), TEXT(E12 - TIME(7,0,0), "h:mm") ) ) | G12: =IF( COUNT(B12,C12)<2, , (E12*24) - 7 ) -> 0 | H12: =WEEKNUM(A12,2) -> 41
A13: 45942 | D13: 0.041666667 | E13: =(C13 - B13) - D13 -> -0.041666667 | F13: =IF( COUNT(B13, C13)<2, "", IF( E13 - TIME(7,0,0) < 0, "-" & TEXT(ABS(E13 - TIME(7,0,0)), "h:mm"), TEXT(E13 - TIME(7,0,0), "h:mm") ) ) | G13: =IF( COUNT(B13,C13)<2, , (E13*24) - 7 ) -> 0 | H13: =WEEKNUM(A13,2) -> 41
A14: 45943 | B14: 0.32986111 | C14: 0.71319444 | D14: 0.041666667 | E14: =(C14 - B14) - D14 -> 0.34166667 | F14: =IF( COUNT(B14, C14)<2, "", IF( E14 - TIME(7,0,0) < 0, "-" & TEXT(ABS(E14 - TIME(7,0,0)), "h:mm"), TEXT(E14 - TIME(7,0,0), "h:mm") ) ) -> 1:12 | G14: =IF( COUNT(B14,C14)<2, , (E14*24) - 7 ) -> 1.2 | H14: =WEEKNUM(A14,2) -> 42 | J14: Avril | K14: =IF(ISBLANK(L14), "", IF(L14<0, "-" & TEXT(ABS(L14)/24, "h:mm"), TEXT(L14/24, "h:mm"))) -> 4:58 | L14: ='Avril-2025'!L9 -> 4.9666667
A15: 45944 | B15: 0.32638889 | C15: 0.71180556 | D15: 0.041666667 | E15: =(C15 - B15) - D15 -> 0.34375 | F15: =IF( COUNT(B15, C15)<2, "", IF( E15 - TIME(7,0,0) < 0, "-" & TEXT(ABS(E15 - TIME(7,0,0)), "h:mm"), TEXT(E15 - TIME(7,0,0), "h:mm") ) ) -> 1:15 | G15: =IF( COUNT(B15,C15)<2, , (E15*24) - 7 ) -> 1.25 | H15: =WEEKNUM(A15,2) -> 42 | J15: Mai | K15: =IF(ISBLANK(L15), "", IF(L15<0, "-" & TEXT(ABS(L15)/24, "h:mm"), TEXT(L15/24, "h:mm"))) -> 5:27 | L15: ='Mai-2025'!L9 -> 5.45
A16: 45945 | B16: 0.33263889 | C16: 0.70069444 | D16: 0.041666667 | E16: =(C16 - B16) - D16 -> 0.32638889 | F16: =IF( COUNT(B16, C16)<2, "", IF( E16 - TIME(7,0,0) < 0, "-" & TEXT(ABS(E16 - TIME(7,0,0)), "h:mm"), TEXT(E16 - TIME(7,0,0), "h:mm") ) ) -> 0:50 | G16: =IF( COUNT(B16,C16)<2, , (E16*24) - 7 ) -> 0.83333333 | H16: =WEEKNUM(A16,2) -> 42 | J16: Juin | K16: =IF(ISBLANK(L16), "", IF(L16<0, "-" & TEXT(ABS(L16)/24, "h:mm"), TEXT(L16/24, "h:mm"))) -> -6:37 | L16: ='Juin-2025'!L9 -> -6.6166667
A17: 45946 | B17: 0.33333333 | C17: 0.69652778 | D17: 0.041666667 | E17: =(C17 - B17) - D17 -> 0.32152778 | F17: =IF( COUNT(B17, C17)<2, "", IF( E17 - TIME(7,0,0) < 0, "-" & TEXT(ABS(E17 - TIME(7,0,0)), "h:mm"), TEXT(E17 - TIME(7,0,0), "h:mm") ) ) -> 0:43 | G17: =IF( COUNT(B17,C17)<2, , (E17*24) - 7 ) -> 0.71666667 | H17: =WEEKNUM(A17,2) -> 42 | J17: Juillet | K17: =IF(ISBLANK(L17), "", IF(L17<0, "-" & TEXT(ABS(L17)/24, "h:mm"), TEXT(L17/24, "h:mm"))) -> 11:41 | L17: ='Juillet-2025'!L8 -> 11.683333
A18: 45947 | B18: 0.33263889 | C18: 0.59513889 | D18: 0.041666667 | E18: =(C18 - B18) - D18 -> 0.22083333 | F18: =IF( COUNT(B18, C18)<2, "", IF( E18 - TIME(7,0,0) < 0, "-" & TEXT(ABS(E18 - TIME(7,0,0)), "h:mm"), TEXT(E18 - TIME(7,0,0), "h:mm") ) ) -> -1:42 | G18: =IF( COUNT(B18,C18)<2, , (E18*24) - 7 ) -> -1.7 | H18: =WEEKNUM(A18,2) -> 42 | J18: Aout | K18: =IF(ISBLANK(L18), "", IF(L18<0, "-" & TEXT(ABS(L18)/24, "h:mm"), TEXT(L18/24, "h:mm"))) -> 7:26 | L18: ='Aout-2025'!L9 -> 7.4333333
A19: 45948 | D19: 0.041666667 | E19: =(C19 - B19) - D19 -> -0.041666667 | F19: =IF( COUNT(B19, C19)<2, "", IF( E19 - TIME(7,0,0) < 0, "-" & TEXT(ABS(E19 - TIME(7,0,0)), "h:mm"), TEXT(E19 - TIME(7,0,0), "h:mm") ) ) | G19: =IF( COUNT(B19,C19)<2, , (E19*24) - 7 ) -> 0 | H19: =WEEKNUM(A19,2) -> 42 | J19: Septembre | K19: =IF(ISBLANK(L19), "", IF(L19<0, "-" & TEXT(ABS(L19)/24, "h:mm"), TEXT(L19/24, "h:mm"))) -> 6:32 | L19: ='Septembre-2025'!L9 -> 6.5333333
A20: 45949 | D20: 0.041666667 | E20: =(C20 - B20) - D20 -> -0.041666667 | F20: =IF( COUNT(B20, C20)<2, "", IF( E20 - TIME(7,0,0) < 0, "-" & TEXT(ABS(E20 - TIME(7,0,0)), "h:mm"), TEXT(E20 - TIME(7,0,0), "h:mm") ) ) | G20: =IF( COUNT(B20,C20)<2, , (E20*24) - 7 ) -> 0 | H20: =WEEKNUM(A20,2) -> 42 | J20: Octobre | K20: =IF(ISBLANK(L20), "", IF(L20<0, "-" & TEXT(ABS(L20)/24, "h:mm"), TEXT(L20/24, "h:mm"))) -> 9:41 | L20: ='Octobre-2025'!L9 -> 9.6833333
A21: 45950 | B21: 0.33402778 | C21: 0.71458333 | D21: 0.041666667 | E21: =(C21 - B21) - D21 -> 0.33888889 | F21: =IF( COUNT(B21, C21)<2, "", IF( E21 - TIME(7,0,0) < 0, "-" & TEXT(ABS(E21 - TIME(7,0,0)), "h:mm"), TEXT(E21 - TIME(7,0,0), "h:mm") ) ) -> 1:08 | G21: =IF( COUNT(B21,C21)<2, , (E21*24) - 7 ) -> 1.1333333 | H21: =WEEKNUM(A21,2) -> 43 | J21: Novembre | K21: =IF(ISBLANK(L21), "", IF(L21<0, "-" & TEXT(ABS(L21)/24, "h:mm"), TEXT(L21/24, "h:mm"))) -> 2:23 | L21: ='Novembre-2025'!L9 -> 2.3833333
A22: 45951 | B22: 0.32777778 | C22: 0.73680556 | D22: 0.041666667 | E22: =(C22 - B22) - D22 -> 0.36736111 | F22: =IF( COUNT(B22, C22)<2, "", IF( E22 - TIME(7,0,0) < 0, "-" & TEXT(ABS(E22 - TIME(7,0,0)), "h:mm"), TEXT(E22 - TIME(7,0,0), "h:mm") ) ) -> 1:49 | G22: =IF( COUNT(B22,C22)<2, , (E22*24) - 7 ) -> 1.8166667 | H22: =WEEKNUM(A22,2) -> 43 | J22: Decembre | K22: =IF(ISBLANK(L22), "", IF(L22<0, "-" & TEXT(ABS(L22)/24, "h:mm"), TEXT(L22/24, "h:mm"))) -> 4:15 | L22: ='Decembre-2025'!L9 -> 4.25
A23: 45952 | B23: 0.3375 | C23: 0.74027778 | D23: 0.041666667 | E23: =(C23 - B23) - D23 -> 0.36111111 | F23: =IF( COUNT(B23, C23)<2, "", IF( E23 - TIME(7,0,0) < 0, "-" & TEXT(ABS(E23 - TIME(7,0,0)), "h:mm"), TEXT(E23 - TIME(7,0,0), "h:mm") ) ) -> 1:40 | G23: =IF( COUNT(B23,C23)<2, , (E23*24) - 7 ) -> 1.6666667 | H23: =WEEKNUM(A23,2) -> 43
A24: 45953 | B24: 0.33402778 | C24: 0.74305556 | D24: 0.041666667 | E24: =(C24 - B24) - D24 -> 0.36736111 | F24: =IF( COUNT(B24, C24)<2, "", IF( E24 - TIME(7,0,0) < 0, "-" & TEXT(ABS(E24 - TIME(7,0,0)), "h:mm"), TEXT(E24 - TIME(7,0,0), "h:mm") ) ) -> 1:49 | G24: =IF( COUNT(B24,C24)<2, , (E24*24) - 7 ) -> 1.8166667 | H24: =WEEKNUM(A24,2) -> 43
A25: 45954 | B25: 0.30069444 | C25: 0.59097222 | D25: 0.041666667 | E25: =(C25 - B25) - D25 -> 0.24861111 | F25: =IF( COUNT(B25, C25)<2, "", IF( E25 - TIME(7,0,0) < 0, "-" & TEXT(ABS(E25 - TIME(7,0,0)), "h:mm"), TEXT(E25 - TIME(7,0,0), "h:mm") ) ) -> -1:02 | G25: =IF( COUNT(B25,C25)<2, , (E25*24) - 7 ) -> -1.0333333 | H25: =WEEKNUM(A25,2) -> 43
A26: 45955 | D26: 0.041666667 | E26: =(C26 - B26) - D26 -> -0.041666667 | F26: =IF( COUNT(B26, C26)<2, "", IF( E26 - TIME(7,0,0) < 0, "-" & TEXT(ABS(E26 - TIME(7,0,0)), "h:mm"), TEXT(E26 - TIME(7,0,0), "h:mm") ) ) | G26: =IF( COUNT(B26,C26)<2, , (E26*24) - 7 ) -> 0 | H26: =WEEKNUM(A26,2) -> 43
A27: 45956 | D27: 0.041666667 | E27: =(C27 - B27) - D27 -> -0.041666667 | F27: =IF( COUNT(B27, C27)<2, "", IF( E27 - TIME(7,0,0) < 0, "-" & TEXT(ABS(E27 - TIME(7,0,0)), "h:mm"), TEXT(E27 - TIME(7,0,0), "h:mm") ) ) | G27: =IF( COUNT(B27,C27)<2, , (E27*24) - 7 ) -> 0 | H27: =WEEKNUM(A27,2) -> 43
A28: 45957 | B28: 0.33125 | C28: 0.71111111 | D28: 0.041666667 | E28: =(C28 - B28) - D28 -> 0.33819444 | F28: =IF( COUNT(B28, C28)<2, "", IF( E28 - TIME(7,0,0) < 0, "-" & TEXT(ABS(E28 - TIME(7,0,0)), "h:mm"), TEXT(E28 - TIME(7,0,0), "h:mm") ) ) -> 1:07 | G28: =IF( COUNT(B28,C28)<2, , (E28*24) - 7 ) -> 1.1166667 | H28: =WEEKNUM(A28,2) -> 44
A29: 45958 | B29: 0.34652778 | C29: 0.72222222 | D29: 0.041666667 | E29: =(C29 - B29) - D29 -> 0.33402778 | F29: =IF( COUNT(B29, C29)<2, "", IF( E29 - TIME(7,0,0) < 0, "-" & TEXT(ABS(E29 - TIME(7,0,0)), "h:mm"), TEXT(E29 - TIME(7,0,0), "h:mm") ) ) -> 1:01 | G29: =IF( COUNT(B29,C29)<2, , (E29*24) - 7 ) -> 1.0166667 | H29: =WEEKNUM(A29,2) -> 44
A30: 45959 | B30: 0.33402778 | C30: 0.71736111 | D30: 0.041666667 | E30: =(C30 - B30) - D30 -> 0.34166667 | F30: =IF( COUNT(B30, C30)<2, "", IF( E30 - TIME(7,0,0) < 0, "-" & TEXT(ABS(E30 - TIME(7,0,0)), "h:mm"), TEXT(E30 - TIME(7,0,0), "h:mm") ) ) -> 1:12 | G30: =IF( COUNT(B30,C30)<2, , (E30*24) - 7 ) -> 1.2 | H30: =WEEKNUM(A30,2) -> 44
A31: 45960 | B31: 0.33472222 | C31: 0.79930556 | D31: 0.041666667 | E31: =(C31 - B31) - D31 -> 0.42291667 | F31: =IF( COUNT(B31, C31)<2, "", IF( E31 - TIME(7,0,0) < 0, "-" & TEXT(ABS(E31 - TIME(7,0,0)), "h:mm"), TEXT(E31 - TIME(7,0,0), "h:mm") ) ) -> 3:09 | G31: =IF( COUNT(B31,C31)<2, , (E31*24) - 7 ) -> 3.15 | H31: =WEEKNUM(A31,2) -> 44
A32: 45961 | B32: 0.325 | C32: 0.54236111 | D32: 0.041666667 | E32: =(C32 - B32) - D32 -> 0.17569444 | F32: =IF( COUNT(B32, C32)<2, "", IF( E32 - TIME(7,0,0) < 0, "-" & TEXT(ABS(E32 - TIME(7,0,0)), "h:mm"), TEXT(E32 - TIME(7,0,0), "h:mm") ) ) -> -2:47 | G32: =IF( COUNT(B32,C32)<2, , (E32*24) - 7 ) -> -2.7833333 | H32: =WEEKNUM(A32,2) -> 44

Sheet Novembre-2025
A1: Date | B1: Arrivée | C1: Départ | D1: Pause | E1: Temps travail | F1: Delta (h) | H1: Semaine
A2: 45962 | D2: 0.041666667 | E2: =IF(C2<>"",C2 - B2 - D2,"") | F2: =IF(COUNT(B2, C2)<2, "", IF( E2 - TIME(7,0,0) < 0, "-" & TEXT(ABS(E2 - TIME(7,0,0)), "h:mm"), TEXT(E2 - TIME(7,0,0), "h:mm") )) | G2: =IF(COUNT(B2,C2)<2, , (E2*24) - 7) -> 0 | H2: =WEEKNUM(A2,2) -> 44 | J2: Semaine | K2: Delta total (h)
A3: 45963 | D3: 0.041666667 | E3: =IF(C3<>"",C3 - B3 - D3,"") | F3: =IF(COUNT(B3, C3)<2, "", IF( E3 - TIME(7,0,0) < 0, "-" & TEXT(ABS(E3 - TIME(7,0,0)), "h:mm"), TEXT(E3 - TIME(7,0,0), "h:mm") )) | G3: =IF(COUNT(B3,C3)<2, , (E3*24) - 7) -> 0 | H3: =WEEKNUM(A3,2) -> 44 | J3: 44 | K3: =IF(ISBLANK(L3), "", IF(L3<0, "-" & TEXT(ABS(L3)/24, "h:mm"), TEXT(L3/24, "h:mm"))) -> 0:00 | L3: =SUMIF(H:H, J3, G:G) -> 0
A4: 45964 | B4: 0.33958333 | C4: 0.69444444 | D4: 0.041666667 | E4: =IF(C4<>"",C4 - B4 - D4,"") -> 0.31319444 | F4: =IF(COUNT(B4, C4)<2, "", IF( E4 - TIME(7,0,0) < 0, "-" & TEXT(ABS(E4 - TIME(7,0,0)), "h:mm"), TEXT(E4 - TIME(7,0,0), "h:mm") )) -> 0:31 | G4: =IF(COUNT(B4,C4)<2, , (E4*24) - 7) -> 0.51666667 | H4: =WEEKNUM(A4,2) -> 45 | J4: 45 | K4: =IF(ISBLANK(L4), "", IF(L4<0, "-" & TEXT(ABS(L4)/24, "h:mm"), TEXT(L4/24, "h:mm"))) -> 0:36 | L4: =SUMIF(H:H, J4, G:G) -> 0.6
A5: 45965 | B5: 0.34513889 | C5: 0.69791667 | D5: 0.041666667 | E5: =IF(C5<>"",C5 - B5 - D5,"") -> 0.31111111 | F5: =IF(COUNT(B5, C5)<2, "", IF( E5 - TIME(7,0,0) < 0, "-" & TEXT(ABS(E5 - TIME(7,0,0)), "h:mm"), TEXT(E5 - TIME(7,0,0), "h:mm") )) -> 0:28 | G5: =IF(COUNT(B5,C5)<2, , (E5*24) - 7) -> 0.46666667 | H5: =WEEKNUM(A5,2) -> 45 | J5: 46 | K5: =IF(ISBLANK(L5), "", IF(L5<0, "-" & TEXT(ABS(L5)/24, "h:mm"), TEXT(L5/24, "h:mm"))) -> -0:31 | L5: =SUMIF(H:H, J5, G:G) -> -0.51666667
A6: 45966 | B6: 0.33611111 | C6: 0.70833333 | D6: 0.041666667 | E6: =IF(C6<>"",C6 - B6 - D6,"") -> 0.33055556 | F6: =IF(COUNT(B6, C6)<2, "", IF( E6 - TIME(7,0,0) < 0, "-" & TEXT(ABS(E6 - TIME(7,0,0)), "h:mm"), TEXT(E6 - TIME(7,0,0), "h:mm") )) -> 0:56 | G6: =IF(COUNT(B6,C6)<2, , (E6*24) - 7) -> 0.93333333 | H6: =WEEKNUM(A6,2) -> 45 | J6: 47 | K6: =IF(ISBLANK(L6), "", IF(L6<0, "-" & TEXT(ABS(L6)/24, "h:mm"), TEXT(L6/24, "h:mm"))) -> 1:58 | L6: =SUMIF(H:H, J6, G:G) -> 1.9666667
A7: 45967 | B7: 0.34166667 | C7: 0.71458333 | D7: 0.041666667 | E7: =IF(C7<>"",C7 - B7 - D7,"") -> 0.33125 | F7: =IF(COUNT(B7, C7)<2, "", IF( E7 - TIME(7,0,0) < 0, "-" & TEXT(ABS(E7 - TIME(7,0,0)), "h:mm"), TEXT(E7 - TIME(7,0,0), "h:mm") )) -> 0:57 | G7: =IF(COUNT(B7,C7)<2, , (E7*24) - 7) -> 0.95 | H7: =WEEKNUM(A7,2) -> 45 | J7: 48 | K7: =IF(ISBLANK(L7), "", IF(L7<0, "-" & TEXT(ABS(L7)/24, "h:mm"), TEXT(L7/24, "h:mm"))) -> 0:20 | L7: =SUMIF(H:H, J7, G:G) -> 0.33333333
A8: 45968 | B8: 0.34027778 | C8: 0.57916667 | D8: 0.041666667 | E8: =IF(C8<>"",C8 - B8 - D8,"") -> 0.19722222 | F8: =IF(COUNT(B8, C8)<2, "", IF( E8 - TIME(7,0,0) < 0, "-" & TEXT(ABS(E8 - TIME(7,0,0)), "h:mm"), TEXT(E8 - TIME(7,0,0), "h:mm") )) -> -2:16 | G8: =IF(COUNT(B8,C8)<2, , (E8*24) - 7) -> -2.2666667 | H8: =WEEKNUM(A8,2) -> 45 | K8: =IF(ISBLANK(L8), "", IF(L8<0, "-" & TEXT(ABS(L8)/24, "h:mm"), TEXT(L8/24, "h:mm")))
A9: 45969 | D9: 0.041666667 | E9: =IF(C9<>"",C9 - B9 - D9,"") | F9: =IF(COUNT(B9, C9)<2, "", IF( E9 - TIME(7,0,0) < 0, "-" & TEXT(ABS(E9 - TIME(7,0,0)), "h:mm"), TEXT(E9 - TIME(7,0,0), "h:mm") )) | G9: =IF(COUNT(B9,C9)<2, , (E9*24) - 7) -> 0 | H9: =WEEKNUM(A9,2) -> 45 | J9: Total mois | K9: =IF(ISBLANK(L9), "", IF(L9<0, "-" & TEXT(ABS(L9)/24, "h:mm"), TEXT(L9/24, "h:mm"))) -> 2:23 | L9: =SUM(L3:L7) -> 2.3833333
A10: 45970 | D10: 0.041666667 | E10: =IF(C10<>"",C10 - B10 - D10,"") | F10: =IF(COUNT(B10, C10)<2, "", IF( E10 - TIME(7,0,0) < 0, "-" & TEXT(ABS(E10 - TIME(7,0,0)), "h:mm"), TEXT(E10 - TIME(7,0,0), "h:mm") )) | G10: =IF(COUNT(B10,C10)<2, , (E10*24) - 7) -> 0 | H10: =WEEKNUM(A10,2) -> 45 | J10: Total année | K10: =IF(ISBLANK(L10), "", IF(L10<0, "-" & TEXT(ABS(L10)/24, "[h]:mm"), TEXT(L10/24, "[h]:mm"))) -> 34:05 | L10: =SUM(L14:L25) -> 34.083333
A11: 45971 | B11: 0.33333333 | C11: 0.6875 | D11: 0.041666667 | E11: =IF(C11<>"",C11 - B11 - D11,"") -> 0.3125 | F11: =IF(COUNT(B11, C11)<2, "", IF( E11 - TIME(7,0,0) < 0, "-" & TEXT(ABS(E11 - TIME(7,0,0)), "h:mm"), TEXT(E11 - TIME(7,0,0), "h:mm") )) -> 0:30 | G11: =IF(COUNT(B11,C11)<2, , (E11*24) - 7) -> 0.5 | H11: =WEEKNUM(A11,2) -> 46
A12: 45972 | B12: 0.33333333 | C12: 0.6875 | D12: 0.041666667 | E12: =IF(C12<>"",C12 - B12 - D12,"") -> 0.3125 | F12: =IF(COUNT(B12, C12)<2, "", IF( E12 - TIME(7,0,0) < 0, "-" & TEXT(ABS(E12 - TIME(7,0,0)), "h:mm"), TEXT(E12 - TIME(7,0,0), "h:mm") )) -> 0:30 | G12: =IF(COUNT(B12,C12)<2, , (E12*24) - 7) -> 0.5 | H12: =WEEKNUM(A12,2) -> 46
A13: 45973 | B13: 0.34166667 | C13: 0.68541667 | D13: 0.041666667 | E13: =IF(C13<>"",C13 - B13 - D13,"") -> 0.30208333 | F13: =IF(COUNT(B13, C13)<2, "", IF( E13 - TIME(7,0,0) < 0, "-" & TEXT(ABS(E13 - TIME(7,0,0)), "h:mm"), TEXT(E13 - TIME(7,0,0), "h:mm") )) -> 0:15 | G13: =IF(COUNT(B13,C13)<2, , (E13*24) - 7) -> 0.25 | H13: =WEEKNUM(A13,2) -> 46
A14: 45974 | B14: 0.35347222 | C14: 0.69722222 | D14: 0.041666667 | E14: =IF(C14<>"",C14 - B14 - D14,"") -> 0.30208333 | F14: =IF(COUNT(B14, C14)<2, "", IF( E14 - TIME(7,0,0) < 0, "-" & TEXT(ABS(E14 - TIME(7,0,0)), "h:mm"), TEXT(E14 - TIME(7,0,0), "h:mm") )) -> 0:15 | G14: =IF(COUNT(B14,C14)<2, , (E14*24) - 7) -> 0.25 | H14: =WEEKNUM(A14,2) -> 46 | J14: Janvier-2025 | K14: =IFERROR(IF(ISBLANK(L14), "", IF(L14<0, "-" & TEXT(ABS(L14)/24, "h:mm"), TEXT(L14/24, "h:mm"))),"") | L14: {=IFERROR(INDIRECT("'"&J14&"'!L9"),"")}
A15: 45975 | B15: 0.34027778 | C15: 0.58958333 | D15: 0.041666667 | E15: =IF(C15<>"",C15 - B15 - D15,"") -> 0.20763889 | F15: =IF(COUNT(B15, C15)<2, "", IF( E15 - TIME(7,0,0) < 0, "-" & TEXT(ABS(E15 - TIME(7,0,0)), "h:mm"), TEXT(E15 - TIME(7,0,0), "h:mm") )) -> -2:01 | G15: =IF(COUNT(B15,C15)<2, , (E15*24) - 7) -> -2.0166667 | H15: =WEEKNUM(A15,2) -> 46 | J15: Fevrier-2025 | K15: =IFERROR(IF(ISBLANK(L15), "", IF(L15<0, "-" & TEXT(ABS(L15)/24, "h:mm"), TEXT(L15/24, "h:mm"))),"") | L15: {=IFERROR(INDIRECT("'"&J15&"'!L9"),"")}
A16: 45976 | D16: 0.041666667 | E16: =IF(C16<>"",C16 - B16 - D16,"") | F16: =IF(COUNT(B16, C16)<2, "", IF( E16 - TIME(7,0,0) < 0, "-" & TEXT(ABS(E16 - TIME(7,0,0)), "h:mm"), TEXT(E16 - TIME(7,0,0), "h:mm") )) | G16: =IF(COUNT(B16,C16)<2, , (E16*24) - 7) -> 0 | H16: =WEEKNUM(A16,2) -> 46 | J16: Mars-2025 | K16: =IFERROR(IF(ISBLANK(L16), "", IF(L16<0, "-" & TEXT(ABS(L16)/24, "h:mm"), TEXT(L16/24, "h:mm"))),"") | L16: {=IFERROR(INDIRECT("'"&J16&"'!L9"),"")}
A17: 45977 | D17: 0.041666667 | E17: =IF(C17<>"",C17 - B17 - D17,"") | F17: =IF(COUNT(B17, C17)<2, "", IF( E17 - TIME(7,0,0) < 0, "-" & TEXT(ABS(E17 - TIME(7,0,0)), "h:mm"), TEXT(E17 - TIME(7,0,0), "h:mm") )) | G17: =IF(COUNT(B17,C17)<2, , (E17*24) - 7) -> 0 | H17: =WEEKNUM(A17,2) -> 46 | J17: Avril-2025 | K17: =IFERROR(IF(ISBLANK(L17), "", IF(L17<0, "-" & TEXT(ABS(L17)/24, "h:mm"), TEXT(L17/24, "h:mm"))),"") -> 4:58 | L17: {=IFERROR(INDIRECT("'"&J17&"'!L9"),"")} -> 4.9666667
A18: 45978 | B18: 0.34027778 | C18: 0.69930556 | D18: 0.041666667 | E18: =IF(C18<>"",C18 - B18 - D18,"") -> 0.31736111 | F18: =IF(COUNT(B18, C18)<2, "", IF( E18 - TIME(7,0,0) < 0, "-" & TEXT(ABS(E18 - TIME(7,0,0)), "h:mm"), TEXT(E18 - TIME(7,0,0), "h:mm") )) -> 0:37 | G18: =IF(COUNT(B18,C18)<2, , (E18*24) - 7) -> 0.61666667 | H18: =WEEKNUM(A18,2) -> 47 | J18: Mai-2025 | K18: =IFERROR(IF(ISBLANK(L18), "", IF(L18<0, "-" & TEXT(ABS(L18)/24, "h:mm"), TEXT(L18/24, "h:mm"))),"") -> 5:27 | L18: {=IFERROR(INDIRECT("'"&J18&"'!L9"),"")} -> 5.45
A19: 45979 | B19: 0.34305556 | C19: 0.72569444 | D19: 0.041666667 | E19: =IF(C19<>"",C19 - B19 - D19,"") -> 0.34097222 | F19: =IF(COUNT(B19, C19)<2, "", IF( E19 - TIME(7,0,0) < 0, "-" & TEXT(ABS(E19 - TIME(7,0,0)), "h:mm"), TEXT(E19 - TIME(7,0,0), "h:mm") )) -> 1:11 | G19: =IF(COUNT(B19,C19)<2, , (E19*24) - 7) -> 1.1833333 | H19: =WEEKNUM(A19,2) -> 47 | J19: Juin-2025 | K19: =IFERROR(IF(ISBLANK(L19), "", IF(L19<0, "-" & TEXT(ABS(L19)/24, "h:mm"), TEXT(L19/24, "h:mm"))),"") -> -6:37 | L19: {=IFERROR(INDIRECT("'"&J19&"'!L9"),"")} -> -6.6166667
A20: 45980 | B20: 0.34166667 | C20: 0.71041667 | D20: 0.041666667 | E20: =IF(C20<>"",C20 - B20 - D20,"") -> 0.32708333 | F20: =IF(COUNT(B20, C20)<2, "", IF( E20 - TIME(7,0,0) < 0, "-" & TEXT(ABS(E20 - TIME(7,0,0)), "h:mm"), TEXT(E20 - TIME(7,0,0), "h:mm") )) -> 0:51 | G20: =IF(COUNT(B20,C20)<2, , (E20*24) - 7) -> 0.85 | H20: =WEEKNUM(A20,2) -> 47 | J20: Juillet-2025 | K20: =IFERROR(IF(ISBLANK(L20), "", IF(L20<0, "-" & TEXT(ABS(L20)/24, "h:mm"), TEXT(L20/24, "h:mm"))),"") -> 0:00 | L20: {=IFERROR(INDIRECT("'"&J20&"'!L9"),"")} -> 0
A21: 45981 | B21: 0.33402778 | C21: 0.71736111 | D21: 0.041666667 | E21: =IF(C21<>"",C21 - B21 - D21,"") -> 0.34166667 | F21: =IF(COUNT(B21, C21)<2, "", IF( E21 - TIME(7,0,0) < 0, "-" & TEXT(ABS(E21 - TIME(7,0,0)), "h:mm"), TEXT(E21 - TIME(7,0,0), "h:mm") )) -> 1:12 | G21: =IF(COUNT(B21,C21)<2, , (E21*24) - 7) -> 1.2 | H21: =WEEKNUM(A21,2) -> 47 | J21: Aout-2025 | K21: =IFERROR(IF(ISBLANK(L21), "", IF(L21<0, "-" & TEXT(ABS(L21)/24, "h:mm"), TEXT(L21/24, "h:mm"))),"") -> 7:26 | L21: {=IFERROR(INDIRECT("'"&J21&"'!L9"),"")} -> 7.4333333
A22: 45982 | B22: 0.33888889 | C22: 0.59375 | D22: 0.041666667 | E22: =IF(C22<>"",C22 - B22 - D22,"") -> 0.21319444 | F22: =IF(COUNT(B22, C22)<2, "", IF( E22 - TIME(7,0,0) < 0, "-" & TEXT(ABS(E22 - TIME(7,0,0)), "h:mm"), TEXT(E22 - TIME(7,0,0), "h:mm") )) -> -1:53 | G22: =IF(COUNT(B22,C22)<2, , (E22*24) - 7) -> -1.8833333 | H22: =WEEKNUM(A22,2) -> 47 | J22: Septembre-2025 | K22: =IFERROR(IF(ISBLANK(L22), "", IF(L22<0, "-" & TEXT(ABS(L22)/24, "h:mm"), TEXT(L22/24, "h:mm"))),"") -> 6:32 | L22: {=IFERROR(INDIRECT("'"&J22&"'!L9"),"")} -> 6.5333333
A23: 45983 | D23: 0.041666667 | E23: =IF(C23<>"",C23 - B23 - D23,"") | F23: =IF(COUNT(B23, C23)<2, "", IF( E23 - TIME(7,0,0) < 0, "-" & TEXT(ABS(E23 - TIME(7,0,0)), "h:mm"), TEXT(E23 - TIME(7,0,0), "h:mm") )) | G23: =IF(COUNT(B23,C23)<2, , (E23*24) - 7) -> 0 | H23: =WEEKNUM(A23,2) -> 47 | J23: Octobre-2025 | K23: =IFERROR(IF(ISBLANK(L23), "", IF(L23<0, "-" & TEXT(ABS(L23)/24, "h:mm"), TEXT(L23/24, "h:mm"))),"") -> 9:41 | L23: {=IFERROR(INDIRECT("'"&J23&"'!L9"),"")} -> 9.6833333
A24: 45984 | D24: 0.041666667 | E24: =IF(C24<>"",C24 - B24 - D24,"") | F24: =IF(COUNT(B24, C24)<2, "", IF( E24 - TIME(7,0,0) < 0, "-" & TEXT(ABS(E24 - TIME(7,0,0)), "h:mm"), TEXT(E24 - TIME(7,0,0), "h:mm") )) | G24: =IF(COUNT(B24,C24)<2, , (E24*24) - 7) -> 0 | H24: =WEEKNUM(A24,2) -> 47 | J24: Novembre-2025 | K24: =IFERROR(IF(ISBLANK(L24), "", IF(L24<0, "-" & TEXT(ABS(L24)/24, "h:mm"), TEXT(L24/24, "h:mm"))),"") -> 2:23 | L24: {=IFERROR(INDIRECT("'"&J24&"'!L9"),"")} -> 2.3833333
A25: 45985 | B25: 0.34444444 | C25: 0.72152778 | D25: 0.041666667 | E25: =IF(C25<>"",C25 - B25 - D25,"") -> 0.33541667 | F25: =IF(COUNT(B25, C25)<2, "", IF( E25 - TIME(7,0,0) < 0, "-" & TEXT(ABS(E25 - TIME(7,0,0)), "h:mm"), TEXT(E25 - TIME(7,0,0), "h:mm") )) -> 1:03 | G25: =IF(COUNT(B25,C25)<2, , (E25*24) - 7) -> 1.05 | H25: =WEEKNUM(A25,2) -> 48 | J25: Decembre-2025 | K25: =IFERROR(IF(ISBLANK(L25), "", IF(L25<0, "-" & TEXT(ABS(L25)/24, "h:mm"), TEXT(L25/24, "h:mm"))),"") -> 4:15 | L25: {=IFERROR(INDIRECT("'"&J25&"'!L9"),"")} -> 4.25
A26: 45986 | B26: 0.33333333 | C26: 0.66666667 | D26: 0.041666667 | E26: =IF(C26<>"",C26 - B26 - D26,"") -> 0.29166667 | F26: =IF(COUNT(B26, C26)<2, "", IF( E26 - TIME(7,0,0) < 0, "-" & TEXT(ABS(E26 - TIME(7,0,0)), "h:mm"), TEXT(E26 - TIME(7,0,0), "h:mm") )) -> -0:00 | G26: =IF(COUNT(B26,C26)<2, , (E26*24) - 7) -> -8.8817842e-16 | H26: =WEEKNUM(A26,2) -> 48
A27: 45987 | B27: 0.33680556 | C27: 0.69375 | D27: 0.041666667 | E27: =IF(C27<>"",C27 - B27 - D27,"") -> 0.31527778 | F27: =IF(COUNT(B27, C27)<2, "", IF( E27 - TIME(7,0,0) < 0, "-" & TEXT(ABS(E27 - TIME(7,0,0)), "h:mm"), TEXT(E27 - TIME(7,0,0), "h:mm") )) -> 0:34 | G27: =IF(COUNT(B27,C27)<2, , (E27*24) - 7) -> 0.56666667 | H27: =WEEKNUM(A27,2) -> 48
A28: 45988 | B28: 0.34027778 | C28: 0.70277778 | D28: 0.041666667 | E28: =IF(C28<>"",C28 - B28 - D28,"") -> 0.32083333 | F28: =IF(COUNT(B28, C28)<2, "", IF( E28 - TIME(7,0,0) < 0, "-" & TEXT(ABS(E28 - TIME(7,0,0)), "h:mm"), TEXT(E28 - TIME(7,0,0), "h:mm") )) -> 0:42 | G28: =IF(COUNT(B28,C28)<2, , (E28*24) - 7) -> 0.7 | H28: =WEEKNUM(A28,2) -> 48
A29: 45989 | B29: 0.33958333 | C29: 0.59027778 | D29: 0.041666667 | E29: =IF(C29<>"",C29 - B29 - D29,"") -> 0.20902778 | F29: =IF(COUNT(B29, C29)<2, "", IF( E29 - TIME(7,0,0) < 0, "-" & TEXT(ABS(E29 - TIME(7,0,0)), "h:mm"), TEXT(E29 - TIME(7,0,0), "h:mm") )) -> -1:59 | G29: =IF(COUNT(B29,C29)<2, , (E29*24) - 7) -> -1.9833333 | H29: =WEEKNUM(A29,2) -> 48
A30: 45990 | D30: 0.041666667 | E30: =IF(C30<>"",C30 - B30 - D30,"") | F30: =IF(COUNT(B30, C30)<2, "", IF( E30 - TIME(7,0,0) < 0, "-" & TEXT(ABS(E30 - TIME(7,0,0)), "h:mm"), TEXT(E30 - TIME(7,0,0), "h:mm") )) | G30: =IF(COUNT(B30,C30)<2, , (E30*24) - 7) -> 0 | H30: =WEEKNUM(A30,2) -> 48
A31: 45991 | D31: 0.041666667 | E31: =IF(C31<>"",C31 - B31 - D31,"") | F31: =IF(COUNT(B31, C31)<2, "", IF( E31 - TIME(7,0,0) < 0, "-" & TEXT(ABS(E31 - TIME(7,0,0)), "h:mm"), TEXT(E31 - TIME(7,0,0), "h:mm") )) | G31: =IF(COUNT(B31,C31)<2, , (E31*24) - 7) -> 0 | H31: =WEEKNUM(A31,2) -> 48

Sheet Decembre-2025
A1: Date | B1: Arrivée | C1: Départ | D1: Pause | E1: Temps travail | F1: Delta (h) | H1: Semaine
A2: 45992 | B2: 0.34375 | C2: 0.70416667 | D2: 0.041666667 | E2: =IF(C2<>"",C2 - B2 - D2,"") -> 0.31875 | F2: =IF(COUNT(B2, C2)<2, "", IF( E2 - TIME(7,0,0) < 0, "-" & TEXT(ABS(E2 - TIME(7,0,0)), "h:mm"), TEXT(E2 - TIME(7,0,0), "h:mm") )) -> 0:39 | G2: =IF(COUNT(B2,C2)<2, , (E2*24) - 7) -> 0.65 | H2: =_xlfn.ISOWEEKNUM(A2) -> 49 | J2: Semaine | K2: Delta total (h)
A3: 45993 | B3: 0.33333333 | C3: 0.66666667 | D3: 0.041666667 | E3: =IF(C3<>"",C3 - B3 - D3,"") -> 0.29166667 | F3: =IF(COUNT(B3, C3)<2, "", IF( E3 - TIME(7,0,0) < 0, "-" & TEXT(ABS(E3 - TIME(7,0,0)), "h:mm"), TEXT(E3 - TIME(7,0,0), "h:mm") )) -> -0:00 | G3: =IF(COUNT(B3,C3)<2, , (E3*24) - 7) -> -8.8817842e-16 | H3: =_xlfn.ISOWEEKNUM(A3) -> 49 | J3: 49 | K3: =IF(ISBLANK(L3), "", IF(L3<0, "-" & TEXT(ABS(L3)/24, "h:mm"), TEXT(L3/24, "h:mm"))) -> 0:39 | L3: =SUMIF(H:H, J3, G:G) -> 0.65
A4: 45994 | B4: 0.33333333 | C4: 0.66666667 | D4: 0.041666667 | E4: =IF(C4<>"",C4 - B4 - D4,"") -> 0.29166667 | F4: =IF(COUNT(B4, C4)<2, "", IF( E4 - TIME(7,0,0) < 0, "-" & TEXT(ABS(E4 - TIME(7,0,0)), "h:mm"), TEXT(E4 - TIME(7,0,0), "h:mm") )) -> -0:00 | G4: =IF(COUNT(B4,C4)<2, , (E4*24) - 7) -> -8.8817842e-16 | H4: =_xlfn.ISOWEEKNUM(A4) -> 49 | J4: 50 | K4: =IF(ISBLANK(L4), "", IF(L4<0, "-" & TEXT(ABS(L4)/24, "h:mm"), TEXT(L4/24, "h:mm"))) -> 0:02 | L4: =SUMIF(H:H, J4, G:G) -> 0.033333333
A5: 45995 | B5: 0.33333333 | C5: 0.66666667 | D5: 0.041666667 | E5: =IF(C5<>"",C5 - B5 - D5,"") -> 0.29166667 | F5: =IF(COUNT(B5, C5)<2, "", IF( E5 - TIME(7,0,0) < 0, "-" & TEXT(ABS(E5 - TIME(7,0,0)), "h:mm"), TEXT(E5 - TIME(7,0,0), "h:mm") )) -> -0:00 | G5: =IF(COUNT(B5,C5)<2, , (E5*24) - 7) -> -8.8817842e-16 | H5: =_xlfn.ISOWEEKNUM(A5) -> 49 | J5: 51 | K5: =IF(ISBLANK(L5), "", IF(L5<0, "-" & TEXT(ABS(L5)/24, "h:mm"), TEXT(L5/24, "h:mm"))) -> 0:34 | L5: =SUMIF(H:H, J5, G:G) -> 0.56666667
A6: 45996 | B6: 0.33333333 | C6: 0.66666667 | D6: 0.041666667 | E6: =IF(C6<>"",C6 - B6 - D6,"") -> 0.29166667 | F6: =IF(COUNT(B6, C6)<2, "", IF( E6 - TIME(7,0,0) < 0, "-" & TEXT(ABS(E6 - TIME(7,0,0)), "h:mm"), TEXT(E6 - TIME(7,0,0), "h:mm") )) -> -0:00 | G6: =IF(COUNT(B6,C6)<2, , (E6*24) - 7) -> -8.8817842e-16 | H6: =_xlfn.ISOWEEKNUM(A6) -> 49 | J6: 52 | K6: =IF(ISBLANK(L6), "", IF(L6<0, "-" & TEXT(ABS(L6)/24, "h:mm"), TEXT(L6/24, "h:mm"))) -> 3:00 | L6: =SUMIF(H:H, J6, G:G) -> 3
A7: 45997 | D7: 0.041666667 | E7: =IF(C7<>"",C7 - B7 - D7,"") | F7: =IF(COUNT(B7, C7)<2, "", IF( E7 - TIME(7,0,0) < 0, "-" & TEXT(ABS(E7 - TIME(7,0,0)), "h:mm"), TEXT(E7 - TIME(7,0,0), "h:mm") )) | G7: =IF(COUNT(B7,C7)<2, , (E7*24) - 7) -> 0 | H7: =_xlfn.ISOWEEKNUM(A7) -> 49 | J7: 1 | K7: =IF(ISBLANK(L7), "", IF(L7<0, "-" & TEXT(ABS(L7)/24, "h:mm"), TEXT(L7/24, "h:mm"))) -> 0:00 | L7: =SUMIF(H:H, J7, G:G) -> 0
A8: 45998 | D8: 0.041666667 | E8: =IF(C8<>"",C8 - B8 - D8,"") | F8: =IF(COUNT(B8, C8)<2, "", IF( E8 - TIME(7,0,0) < 0, "-" & TEXT(ABS(E8 - TIME(7,0,0)), "h:mm"), TEXT(E8 - TIME(7,0,0), "h:mm") )) | G8: =IF(COUNT(B8,C8)<2, , (E8*24) - 7) -> 0 | H8: =_xlfn.ISOWEEKNUM(A8) -> 49 | K8: =IF(ISBLANK(L8), "", IF(L8<0, "-" & TEXT(ABS(L8)/24, "h:mm"), TEXT(L8/24, "h:mm")))
A9: 45999 | B9: 0.33819444 | C9: 0.69583333 | D9: 0.041666667 | E9: =IF(C9<>"",C9 - B9 - D9,"") -> 0.31597222 | F9: =IF(COUNT(B9, C9)<2, "", IF( E9 - TIME(7,0,0) < 0, "-" & TEXT(ABS(E9 - TIME(7,0,0)), "h:mm"), TEXT(E9 - TIME(7,0,0), "h:mm") )) -> 0:35 | G9: =IF(COUNT(B9,C9)<2, , (E9*24) - 7) -> 0.58333333 | H9: =_xlfn.ISOWEEKNUM(A9) -> 50 | J9: Total mois | K9: =IF(ISBLANK(L9), "", IF(L9<0, "-" & TEXT(ABS(L9)/24, "h:mm"), TEXT(L9/24, "h:mm"))) -> 4:15 | L9: =SUM(L3:L7) -> 4.25
A10: 46000 | B10: 0.33263889 | C10: 0.69513889 | D10: 0.041666667 | E10: =IF(C10<>"",C10 - B10 - D10,"") -> 0.32083333 | F10: =IF(COUNT(B10, C10)<2, "", IF( E10 - TIME(7,0,0) < 0, "-" & TEXT(ABS(E10 - TIME(7,0,0)), "h:mm"), TEXT(E10 - TIME(7,0,0), "h:mm") )) -> 0:42 | G10: =IF(COUNT(B10,C10)<2, , (E10*24) - 7) -> 0.7 | H10: =_xlfn.ISOWEEKNUM(A10) -> 50 | J10: Total année | K10: =IF(ISBLANK(L10), "", IF(L10<0, "-" & TEXT(ABS(L10)/24, "[h]:mm"), TEXT(L10/24, "[h]:mm"))) -> 34:05 | L10: =SUM(L14:L25) -> 34.083333
A11: 46001 | B11: 0.32986111 | C11: 0.70763889 | D11: 0.041666667 | E11: =IF(C11<>"",C11 - B11 - D11,"") -> 0.33611111 | F11: =IF(COUNT(B11, C11)<2, "", IF( E11 - TIME(7,0,0) < 0, "-" & TEXT(ABS(E11 - TIME(7,0,0)), "h:mm"), TEXT(E11 - TIME(7,0,0), "h:mm") )) -> 1:04 | G11: =IF(COUNT(B11,C11)<2, , (E11*24) - 7) -> 1.0666667 | H11: =_xlfn.ISOWEEKNUM(A11) -> 50
A12: 46002 | B12: 0.33888889 | C12: 0.69861111 | D12: 0.041666667 | E12: =IF(C12<>"",C12 - B12 - D12,"") -> 0.31805556 | F12: =IF(COUNT(B12, C12)<2, "", IF( E12 - TIME(7,0,0) < 0, "-" & TEXT(ABS(E12 - TIME(7,0,0)), "h:mm"), TEXT(E12 - TIME(7,0,0), "h:mm") )) -> 0:38 | G12: =IF(COUNT(B12,C12)<2, , (E12*24) - 7) -> 0.63333333 | H12: =_xlfn.ISOWEEKNUM(A12) -> 50
A13: 46003 | B13: 0.33819444 | C13: 0.54861111 | D13: 0.041666667 | E13: =IF(C13<>"",C13 - B13 - D13,"") -> 0.16875 | F13: =IF(COUNT(B13, C13)<2, "", IF( E13 - TIME(7,0,0) < 0, "-" & TEXT(ABS(E13 - TIME(7,0,0)), "h:mm"), TEXT(E13 - TIME(7,0,0), "h:mm") )) -> -2:57 | G13: =IF(COUNT(B13,C13)<2, , (E13*24) - 7) -> -2.95 | H13: =_xlfn.ISOWEEKNUM(A13) -> 50
A14: 46004 | D14: 0.041666667 | E14: =IF(C14<>"",C14 - B14 - D14,"") | F14: =IF(COUNT(B14, C14)<2, "", IF( E14 - TIME(7,0,0) < 0, "-" & TEXT(ABS(E14 - TIME(7,0,0)), "h:mm"), TEXT(E14 - TIME(7,0,0), "h:mm") )) | G14: =IF(COUNT(B14,C14)<2, , (E14*24) - 7) -> 0 | H14: =_xlfn.ISOWEEKNUM(A14) -> 50 | J14: Janvier-2025 | K14: =IFERROR(IF(ISBLANK(L14), "", IF(L14<0, "-" & TEXT(ABS(L14)/24, "h:mm"), TEXT(L14/24, "h:mm"))),"") | L14: {=IFERROR(INDIRECT("'"&J14&"'!L9"),"")}
A15: 46005 | D15: 0.041666667 | E15: =IF(C15<>"",C15 - B15 - D15,"") | F15: =IF(COUNT(B15, C15)<2, "", IF( E15 - TIME(7,0,0) < 0, "-" & TEXT(ABS(E15 - TIME(7,0,0)), "h:mm"), TEXT(E15 - TIME(7,0,0), "h:mm") )) | G15: =IF(COUNT(B15,C15)<2, , (E15*24) - 7) -> 0 | H15: =_xlfn.ISOWEEKNUM(A15) -> 50 | J15: Fevrier-2025 | K15: =IFERROR(IF(ISBLANK(L15), "", IF(L15<0, "-" & TEXT(ABS(L15)/24, "h:mm"), TEXT(L15/24, "h:mm"))),"") | L15: {=IFERROR(INDIRECT("'"&J15&"'!L9"),"")}
A16: 46006 | B16: 0.34236111 | C16: 0.69513889 | D16: 0.041666667 | E16: =IF(C16<>"",C16 - B16 - D16,"") -> 0.31111111 | F16: =IF(COUNT(B16, C16)<2, "", IF( E16 - TIME(7,0,0) < 0, "-" & TEXT(ABS(E16 - TIME(7,0,0)), "h:mm"), TEXT(E16 - TIME(7,0,0), "h:mm") )) -> 0:28 | G16: =IF(COUNT(B16,C16)<2, , (E16*24) - 7) -> 0.46666667 | H16: =_xlfn.ISOWEEKNUM(A16) -> 51 | J16: Mars-2025 | K16: =IFERROR(IF(ISBLANK(L16), "", IF(L16<0, "-" & TEXT(ABS(L16)/24, "h:mm"), TEXT(L16/24, "h:mm"))),"") | L16: {=IFERROR(INDIRECT("'"&J16&"'!L9"),"")}
A17: 46007 | B17: 0.34097222 | C17: 0.69861111 | D17: 0.041666667 | E17: =IF(C17<>"",C17 - B17 - D17,"") -> 0.31597222 | F17: =IF(COUNT(B17, C17)<2, "", IF( E17 - TIME(7,0,0) < 0, "-" & TEXT(ABS(E17 - TIME(7,0,0)), "h:mm"), TEXT(E17 - TIME(7,0,0), "h:mm") )) -> 0:35 | G17: =IF(COUNT(B17,C17)<2, , (E17*24) - 7) -> 0.58333333 | H17: =_xlfn.ISOWEEKNUM(A17) -> 51 | J17: Avril-2025 | K17: =IFERROR(IF(ISBLANK(L17), "", IF(L17<0, "-" & TEXT(ABS(L17)/24, "h:mm"), TEXT(L17/24, "h:mm"))),"") -> 4:58 | L17: {=IFERROR(INDIRECT("'"&J17&"'!L9"),"")} -> 4.9666667
A18: 46008 | B18: 0.33611111 | C18: 0.69722222 | D18: 0.041666667 | E18: =IF(C18<>"",C18 - B18 - D18,"") -> 0.31944444 | F18: =IF(COUNT(B18, C18)<2, "", IF( E18 - TIME(7,0,0) < 0, "-" & TEXT(ABS(E18 - TIME(7,0,0)), "h:mm"), TEXT(E18 - TIME(7,0,0), "h:mm") )) -> 0:40 | G18: =IF(COUNT(B18,C18)<2, , (E18*24) - 7) -> 0.66666667 | H18: =_xlfn.ISOWEEKNUM(A18) -> 51 | J18: Mai-2025 | K18: =IFERROR(IF(ISBLANK(L18), "", IF(L18<0, "-" & TEXT(ABS(L18)/24, "h:mm"), TEXT(L18/24, "h:mm"))),"") -> 5:27 | L18: {=IFERROR(INDIRECT("'"&J18&"'!L9"),"")} -> 5.45
A19: 46009 | B19: 0.33958333 | C19: 0.69930556 | D19: 0.041666667 | E19: =IF(C19<>"",C19 - B19 - D19,"") -> 0.31805556 | F19: =IF(COUNT(B19, C19)<2, "", IF( E19 - TIME(7,0,0) < 0, "-" & TEXT(ABS(E19 - TIME(7,0,0)), "h:mm"), TEXT(E19 - TIME(7,0,0), "h:mm") )) -> 0:38 | G19: =IF(COUNT(B19,C19)<2, , (E19*24) - 7) -> 0.63333333 | H19: =_xlfn.ISOWEEKNUM(A19) -> 51 | J19: Juin-2025 | K19: =IFERROR(IF(ISBLANK(L19), "", IF(L19<0, "-" & TEXT(ABS(L19)/24, "h:mm"), TEXT(L19/24, "h:mm"))),"") -> -6:37 | L19: {=IFERROR(INDIRECT("'"&J19&"'!L9"),"")} -> -6.6166667
A20: 46010 | B20: 0.33958333 | C20: 0.59861111 | D20: 0.041666667 | E20: =IF(C20<>"",C20 - B20 - D20,"") -> 0.21736111 | F20: =IF(COUNT(B20, C20)<2, "", IF( E20 - TIME(7,0,0) < 0, "-" & TEXT(ABS(E20 - TIME(7,0,0)), "h:mm"), TEXT(E20 - TIME(7,0,0), "h:mm") )) -> -1:47 | G20: =IF(COUNT(B20,C20)<2, , (E20*24) - 7) -> -1.7833333 | H20: =_xlfn.ISOWEEKNUM(A20) -> 51 | J20: Juillet-2025 | K20: =IFERROR(IF(ISBLANK(L20), "", IF(L20<0, "-" & TEXT(ABS(L20)/24, "h:mm"), TEXT(L20/24, "h:mm"))),"") -> 0:00 | L20: {=IFERROR(INDIRECT("'"&J20&"'!L9"),"")} -> 0
A21: 46011 | D21: 0.041666667 | E21: =IF(C21<>"",C21 - B21 - D21,"") | F21: =IF(COUNT(B21, C21)<2, "", IF( E21 - TIME(7,0,0) < 0, "-" & TEXT(ABS(E21 - TIME(7,0,0)), "h:mm"), TEXT(E21 - TIME(7,0,0), "h:mm") )) | G21: =IF(COUNT(B21,C21)<2, , (E21*24) - 7) -> 0 | H21: =_xlfn.ISOWEEKNUM(A21) -> 51 | J21: Aout-2025 | K21: =IFERROR(IF(ISBLANK(L21), "", IF(L21<0, "-" & TEXT(ABS(L21)/24, "h:mm"), TEXT(L21/24, "h:mm"))),"") -> 7:26 | L21: {=IFERROR(INDIRECT("'"&J21&"'!L9"),"")} -> 7.4333333
A22: 46012 | D22: 0.041666667 | E22: =IF(C22<>"",C22 - B22 - D22,"") | F22: =IF(COUNT(B22, C22)<2, "", IF( E22 - TIME(7,0,0) < 0, "-" & TEXT(ABS(E22 - TIME(7,0,0)), "h:mm"), TEXT(E22 - TIME(7,0,0), "h:mm") )) | G22: =IF(COUNT(B22,C22)<2, , (E22*24) - 7) -> 0 | H22: =_xlfn.ISOWEEKNUM(A22) -> 51 | J22: Septembre-2025 | K22: =IFERROR(IF(ISBLANK(L22), "", IF(L22<0, "-" & TEXT(ABS(L22)/24, "h:mm"), TEXT(L22/24, "h:mm"))),"") -> 6:32 | L22: {=IFERROR(INDIRECT("'"&J22&"'!L9"),"")} -> 6.5333333
A23: 46013 | B23: 0.33611111 | C23: 0.70625 | D23: 0.041666667 | E23: =IF(C23<>"",C23 - B23 - D23,"") -> 0.32847222 | F23: =IF(COUNT(B23, C23)<2, "", IF( E23 - TIME(7,0,0) < 0, "-" & TEXT(ABS(E23 - TIME(7,0,0)), "h:mm"), TEXT(E23 - TIME(7,0,0), "h:mm") )) -> 0:53 | G23: =IF(COUNT(B23,C23)<2, , (E23*24) - 7) -> 0.88333333 | H23: =_xlfn.ISOWEEKNUM(A23) -> 52 | J23: Octobre-2025 | K23: =IFERROR(IF(ISBLANK(L23), "", IF(L23<0, "-" & TEXT(ABS(L23)/24, "h:mm"), TEXT(L23/24, "h:mm"))),"") -> 9:41 | L23: {=IFERROR(INDIRECT("'"&J23&"'!L9"),"")} -> 9.6833333
A24: 46014 | B24: 0.33333333 | C24: 0.69097222 | D24: 0.041666667 | E24: =IF(C24<>"",C24 - B24 - D24,"") -> 0.31597222 | F24: =IF(COUNT(B24, C24)<2, "", IF( E24 - TIME(7,0,0) < 0, "-" & TEXT(ABS(E24 - TIME(7,0,0)), "h:mm"), TEXT(E24 - TIME(7,0,0), "h:mm") )) -> 0:35 | G24: =IF(COUNT(B24,C24)<2, , (E24*24) - 7) -> 0.58333333 | H24: =_xlfn.ISOWEEKNUM(A24) -> 52 | J24: Novembre-2025 | K24: =IFERROR(IF(ISBLANK(L24), "", IF(L24<0, "-" & TEXT(ABS(L24)/24, "h:mm"), TEXT(L24/24, "h:mm"))),"") -> 2:23 | L24: {=IFERROR(INDIRECT("'"&J24&"'!L9"),"")} -> 2.3833333
A25: 46015 | B25: 0.32152778 | C25: 0.69791667 | D25: 0.041666667 | E25: =IF(C25<>"",C25 - B25 - D25,"") -> 0.33472222 | F25: =IF(COUNT(B25, C25)<2, "", IF( E25 - TIME(7,0,0) < 0, "-" & TEXT(ABS(E25 - TIME(7,0,0)), "h:mm"), TEXT(E25 - TIME(7,0,0), "h:mm") )) -> 1:02 | G25: =IF(COUNT(B25,C25)<2, , (E25*24) - 7) -> 1.0333333 | H25: =_xlfn.ISOWEEKNUM(A25) -> 52 | J25: Decembre-2025 | K25: =IFERROR(IF(ISBLANK(L25), "", IF(L25<0, "-" & TEXT(ABS(L25)/24, "h:mm"), TEXT(L25/24, "h:mm"))),"") -> 4:15 | L25: {=IFERROR(INDIRECT("'"&J25&"'!L9"),"")} -> 4.25
A26: 46016 | B26: 0.33333333 | C26: 0.6875 | D26: 0.041666667 | E26: =IF(C26<>"",C26 - B26 - D26,"") -> 0.3125 | F26: =IF(COUNT(B26, C26)<2, "", IF( E26 - TIME(7,0,0) < 0, "-" & TEXT(ABS(E26 - TIME(7,0,0)), "h:mm"), TEXT(E26 - TIME(7,0,0), "h:mm") )) -> 0:30 | G26: =IF(COUNT(B26,C26)<2, , (E26*24) - 7) -> 0.5 | H26: =_xlfn.ISOWEEKNUM(A26) -> 52
A27: 46017 | D27: 0.041666667 | E27: =IF(C27<>"",C27 - B27 - D27,"") | F27: =IF(COUNT(B27, C27)<2, "", IF( E27 - TIME(7,0,0) < 0, "-" & TEXT(ABS(E27 - TIME(7,0,0)), "h:mm"), TEXT(E27 - TIME(7,0,0), "h:mm") )) | G27: =IF(COUNT(B27,C27)<2, , (E27*24) - 7) -> 0 | H27: =_xlfn.ISOWEEKNUM(A27) -> 52
A28: 46018 | D28: 0.041666667 | E28: =IF(C28<>"",C28 - B28 - D28,"") | F28: =IF(COUNT(B28, C28)<2, "", IF( E28 - TIME(7,0,0) < 0, "-" & TEXT(ABS(E28 - TIME(7,0,0)), "h:mm"), TEXT(E28 - TIME(7,0,0), "h:mm") )) | G28: =IF(COUNT(B28,C28)<2, , (E28*24) - 7) -> 0 | H28: =_xlfn.ISOWEEKNUM(A28) -> 52
A29: 46019 | D29: 0.041666667 | E29: =IF(C29<>"",C29 - B29 - D29,"") | F29: =IF(COUNT(B29, C29)<2, "", IF( E29 - TIME(7,0,0) < 0, "-" & TEXT(ABS(E29 - TIME(7,0,0)), "h:mm"), TEXT(E29 - TIME(7,0,0), "h:mm") )) | G29: =IF(COUNT(B29,C29)<2, , (E29*24) - 7) -> 0 | H29: =_xlfn.ISOWEEKNUM(A29) -> 52
A30: 46020 | D30: 0.041666667 | E30: =IF(C30<>"",C30 - B30 - D30,"") | F30: =IF(COUNT(B30, C30)<2, "", IF( E30 - TIME(7,0,0) < 0, "-" & TEXT(ABS(E30 - TIME(7,0,0)), "h:mm"), TEXT(E30 - TIME(7,0,0), "h:mm") )) | G30: =IF(COUNT(B30,C30)<2, , (E30*24) - 7) -> 0 | H30: =_xlfn.ISOWEEKNUM(A30) -> 1
A31: 46021 | D31: 0.041666667 | E31: =IF(C31<>"",C31 - B31 - D31,"") | F31: =IF(COUNT(B31, C31)<2, "", IF( E31 - TIME(7,0,0) < 0, "-" & TEXT(ABS(E31 - TIME(7,0,0)), "h:mm"), TEXT(E31 - TIME(7,0,0), "h:mm") )) | G31: =IF(COUNT(B31,C31)<2, , (E31*24) - 7) -> 0 | H31: =_xlfn.ISOWEEKNUM(A31) -> 1
A32: 46022 | D32: 0.041666667 | E32: =IF(C32<>"",C32 - B32 - D32,"") | F32: =IF(COUNT(B32, C32)<2, "", IF( E32 - TIME(7,0,0) < 0, "-" & TEXT(ABS(E32 - TIME(7,0,0)), "h:mm"), TEXT(E32 - TIME(7,0,0), "h:mm") )) | G32: =IF(COUNT(B32,C32)<2, , (E32*24) - 7) -> 0 | H32: =_xlfn.ISOWEEKNUM(A32) -> 1

Sheet Janvier-2026
A1: Date | B1: Arrivée | C1: Départ | D1: Pause | E1: Temps travail | F1: Delta (h) | H1: Semaine
A2: 46023 | D2: 0.041666667 | E2: =IF(C2<>"",C2 - B2 - D2,"") | F2: =IF(COUNT(B2, C2)<2, "", IF( E2 - TIME(7,0,0) < 0, "-" & TEXT(ABS(E2 - TIME(7,0,0)), "h:mm"), TEXT(E2 - TIME(7,0,0), "h:mm") )) | G2: =IF(COUNT(B2,C2)<2, , (E2*24) - 7) -> 0 | H2: =WEEKNUM(A2,2) -> 1 | J2: Semaine | K2: Delta total (h)
A3: 46024 | D3: 0.041666667 | E3: =IF(C3<>"",C3 - B3 - D3,"") | F3: =IF(COUNT(B3, C3)<2, "", IF( E3 - TIME(7,0,0) < 0, "-" & TEXT(ABS(E3 - TIME(7,0,0)), "h:mm"), TEXT(E3 - TIME(7,0,0), "h:mm") )) | G3: =IF( COUNT(B3,C3)<2, , (E3*24) - 7 ) -> 0 | H3: =WEEKNUM(A3,2) -> 1 | J3: 1 | K3: =IF(ISBLANK(L3), "", IF(L3<0, "-" & TEXT(ABS(L3)/24, "h:mm"), TEXT(L3/24, "h:mm"))) -> 0:00 | L3: =SUMIF(H:H, J3, G:G) -> 0
A4: 46025 | D4: 0.041666667 | E4: =IF(C4<>"",C4 - B4 - D4,"") | F4: =IF(COUNT(B4, C4)<2, "", IF( E4 - TIME(7,0,0) < 0, "-" & TEXT(ABS(E4 - TIME(7,0,0)), "h:mm"), TEXT(E4 - TIME(7,0,0), "h:mm") )) | G4: =IF( COUNT(B4,C4)<2, , (E4*24) - 7 ) -> 0 | H4: =WEEKNUM(A4,2) -> 1 | J4: 2 | K4: =IF(ISBLANK(L4), "", IF(L4<0, "-" & TEXT(ABS(L4)/24, "h:mm"), TEXT(L4/24, "h:mm"))) -> 0:00 | L4: =SUMIF(H:H, J4, G:G) -> 0
A5: 46026 | D5: 0.041666667 | E5: =IF(C5<>"",C5 - B5 - D5,"") | F5: =IF(COUNT(B5, C5)<2, "", IF( E5 - TIME(7,0,0) < 0, "-" & TEXT(ABS(E5 - TIME(7,0,0)), "h:mm"), TEXT(E5 - TIME(7,0,0), "h:mm") )) | G5: =IF( COUNT(B5,C5)<2, , (E5*24) - 7 ) -> 0 | H5: =WEEKNUM(A5,2) -> 1 | J5: 3 | K5: =IF(ISBLANK(L5), "", IF(L5<0, "-" & TEXT(ABS(L5)/24, "h:mm"), TEXT(L5/24, "h:mm"))) -> 0:00 | L5: =SUMIF(H:H, J5, G:G) -> 0
A6: 46027 | D6: 0.041666667 | E6: =IF(C6<>"",C6 - B6 - D6,"") | F6: =IF(COUNT(B6, C6)<2, "", IF( E6 - TIME(7,0,0) < 0, "-" & TEXT(ABS(E6 - TIME(7,0,0)), "h:mm"), TEXT(E6 - TIME(7,0,0), "h:mm") )) | G6: =IF( COUNT(B6,C6)<2, , (E6*24) - 7 ) -> 0 | H6: =WEEKNUM(A6,2) -> 2 | J6: 4 | K6: =IF(ISBLANK(L6), "", IF(L6<0, "-" & TEXT(ABS(L6)/24, "h:mm"), TEXT(L6/24, "h:mm"))) -> 0:00 | L6: =SUMIF(H:H, J6, G:G) -> 0
A7: 46028 | D7: 0.041666667 | E7: =IF(C7<>"",C7 - B7 - D7,"") | F7: =IF(COUNT(B7, C7)<2, "", IF( E7 - TIME(7,0,0) < 0, "-" & TEXT(ABS(E7 - TIME(7,0,0)), "h:mm"), TEXT(E7 - TIME(7,0,0), "h:mm") )) | G7: =IF( COUNT(B7,C7)<2, , (E7*24) - 7 ) -> 0 | H7: =WEEKNUM(A7,2) -> 2 | J7: 5 | K7: =IF(ISBLANK(L7), "", IF(L7<0, "-" & TEXT(ABS(L7)/24, "h:mm"), TEXT(L7/24, "h:mm"))) -> 0:00 | L7: =SUMIF(H:H, J7, G:G) -> 0
A8: 46029 | D8: 0.041666667 | E8: =IF(C8<>"",C8 - B8 - D8,"") | F8: =IF(COUNT(B8, C8)<2, "", IF( E8 - TIME(7,0,0) < 0, "-" & TEXT(ABS(E8 - TIME(7,0,0)), "h:mm"), TEXT(E8 - TIME(7,0,0), "h:mm") )) | G8: =IF( COUNT(B8,C8)<2, , (E8*24) - 7 ) -> 0 | H8: =WEEKNUM(A8,2) -> 2 | K8: =IF(ISBLANK(L8), "", IF(L8<0, "-" & TEXT(ABS(L8)/24, "h:mm"), TEXT(L8/24, "h:mm")))
A9: 46030 | D9: 0.041666667 | E9: =IF(C9<>"",C9 - B9 - D9,"") | F9: =IF(COUNT(B9, C9)<2, "", IF( E9 - TIME(7,0,0) < 0, "-" & TEXT(ABS(E9 - TIME(7,0,0)), "h:mm"), TEXT(E9 - TIME(7,0,0), "h:mm") )) | G9: =IF( COUNT(B9,C9)<2, , (E9*24) - 7 ) -> 0 | H9: =WEEKNUM(A9,2) -> 2 | J9: Total mois | K9: =IF(ISBLANK(L9), "", IF(L9<0, "-" & TEXT(ABS(L9)/24, "h:mm"), TEXT(L9/24, "h:mm"))) -> 0:00 | L9: =SUM(L3:L7) -> 0
A10: 46031 | D10: 0.041666667 | E10: =IF(C10<>"",C10 - B10 - D10,"") | F10: =IF(COUNT(B10, C10)<2, "", IF( E10 - TIME(7,0,0) < 0, "-" & TEXT(ABS(E10 - TIME(7,0,0)), "h:mm"), TEXT(E10 - TIME(7,0,0), "h:mm") )) | G10: =IF( COUNT(B10,C10)<2, , (E10*24) - 7 ) -> 0 | H10: =WEEKNUM(A10,2) -> 2 | J10: ="Total année "&M10 -> Total année 2025 | K10: =IF(ISBLANK(L10), "", IF(L10<0, "-" & TEXT(ABS(L10)/24, "[h]:mm"), TEXT(L10/24, "[h]:mm"))) -> 34:05 | L10: =SUMIF(M14:M37,M10,L14:L37) -> 34.083333 | M10: 2025
A11: 46032 | D11: 0.041666667 | E11: =IF(C11<>"",C11 - B11 - D11,"") | F11: =IF(COUNT(B11, C11)<2, "", IF( E11 - TIME(7,0,0) < 0, "-" & TEXT(ABS(E11 - TIME(7,0,0)), "h:mm"), TEXT(E11 - TIME(7,0,0), "h:mm") )) | G11: =IF( COUNT(B11,C11)<2, , (E11*24) - 7 ) -> 0 | H11: =WEEKNUM(A11,2) -> 2 | J11: ="Total année "&M11 -> Total année 2026 | M11: 2026
A12: 46033 | D12: 0.041666667 | E12: =IF(C12<>"",C12 - B12 - D12,"") | F12: =IF(COUNT(B12, C12)<2, "", IF( E12 - TIME(7,0,0) < 0, "-" & TEXT(ABS(E12 - TIME(7,0,0)), "h:mm"), TEXT(E12 - TIME(7,0,0), "h:mm") )) | G12: =IF( COUNT(B12,C12)<2, , (E12*24) - 7 ) -> 0 | H12: =WEEKNUM(A12,2) -> 2
A13: 46034 | D13: 0.041666667 | E13: =IF(C13<>"",C13 - B13 - D13,"") | F13: =IF(COUNT(B13, C13)<2, "", IF( E13 - TIME(7,0,0) < 0, "-" & TEXT(ABS(E13 - TIME(7,0,0)), "h:mm"), TEXT(E13 - TIME(7,0,0), "h:mm") )) | G13: =IF( COUNT(B13,C13)<2, , (E13*24) - 7 ) -> 0 | H13: =WEEKNUM(A13,2) -> 3
A14: 46035 | D14: 0.041666667 | E14: =IF(C14<>"",C14 - B14 - D14,"") | F14: =IF(COUNT(B14, C14)<2, "", IF( E14 - TIME(7,0,0) < 0, "-" & TEXT(ABS(E14 - TIME(7,0,0)), "h:mm"), TEXT(E14 - TIME(7,0,0), "h:mm") )) | G14: =IF( COUNT(B14,C14)<2, , (E14*24) - 7 ) -> 0 | H14: =WEEKNUM(A14,2) -> 3 | J14: Janvier-2025 | K14: =IFERROR(IF(ISBLANK(L14), "", IF(L14<0, "-" & TEXT(ABS(L14)/24, "h:mm"), TEXT(L14/24, "h:mm"))),"") | L14: {=IFERROR(IF(INDIRECT("'"&J14&"'!L9")=0,"",INDIRECT("'"&J14&"'!L9")),"")} | M14: =RIGHT(J14,4) -> 2025
A15: 46036 | D15: 0.041666667 | E15: =IF(C15<>"",C15 - B15 - D15,"") | F15: =IF(COUNT(B15, C15)<2, "", IF( E15 - TIME(7,0,0) < 0, "-" & TEXT(ABS(E15 - TIME(7,0,0)), "h:mm"), TEXT(E15 - TIME(7,0,0), "h:mm") )) | G15: =IF( COUNT(B15,C15)<2, , (E15*24) - 7 ) -> 0 | H15: =WEEKNUM(A15,2) -> 3 | J15: Fevrier-2025 | K15: =IFERROR(IF(ISBLANK(L15), "", IF(L15<0, "-" & TEXT(ABS(L15)/24, "h:mm"), TEXT(L15/24, "h:mm"))),"") | L15: {=IFERROR(IF(INDIRECT("'"&J15&"'!L9")=0,"",INDIRECT("'"&J15&"'!L9")),"")} | M15: =RIGHT(J15,4) -> 2025
A16: 46037 | D16: 0.041666667 | E16: =IF(C16<>"",C16 - B16 - D16,"") | F16: =IF(COUNT(B16, C16)<2, "", IF( E16 - TIME(7,0,0) < 0, "-" & TEXT(ABS(E16 - TIME(7,0,0)), "h:mm"), TEXT(E16 - TIME(7,0,0), "h:mm") )) | G16: =IF( COUNT(B16,C16)<2, , (E16*24) - 7 ) -> 0 | H16: =WEEKNUM(A16,2) -> 3 | J16: Mars-2025 | K16: =IFERROR(IF(ISBLANK(L16), "", IF(L16<0, "-" & TEXT(ABS(L16)/24, "h:mm"), TEXT(L16/24, "h:mm"))),"") | L16: {=IFERROR(IF(INDIRECT("'"&J16&"'!L9")=0,"",INDIRECT("'"&J16&"'!L9")),"")} | M16: =RIGHT(J16,4) -> 2025
A17: 46038 | D17: 0.041666667 | E17: =IF(C17<>"",C17 - B17 - D17,"") | F17: =IF(COUNT(B17, C17)<2, "", IF( E17 - TIME(7,0,0) < 0, "-" & TEXT(ABS(E17 - TIME(7,0,0)), "h:mm"), TEXT(E17 - TIME(7,0,0), "h:mm") )) | G17: =IF( COUNT(B17,C17)<2, , (E17*24) - 7 ) -> 0 | H17: =WEEKNUM(A17,2) -> 3 | J17: Avril-2025 | K17: =IFERROR(IF(ISBLANK(L17), "", IF(L17<0, "-" & TEXT(ABS(L17)/24, "h:mm"), TEXT(L17/24, "h:mm"))),"") -> 4:58 | L17: {=IFERROR(IF(INDIRECT("'"&J17&"'!L9")=0,"",INDIRECT("'"&J17&"'!L9")),"")} -> 4.9666667 | M17: =RIGHT(J17,4) -> 2025
A18: 46039 | D18: 0.041666667 | E18: =IF(C18<>"",C18 - B18 - D18,"") | F18: =IF(COUNT(B18, C18)<2, "", IF( E18 - TIME(7,0,0) < 0, "-" & TEXT(ABS(E18 - TIME(7,0,0)), "h:mm"), TEXT(E18 - TIME(7,0,0), "h:mm") )) | G18: =IF( COUNT(B18,C18)<2, , (E18*24) - 7 ) -> 0 | H18: =WEEKNUM(A18,2) -> 3 | J18: Mai-2025 | K18: =IFERROR(IF(ISBLANK(L18), "", IF(L18<0, "-" & TEXT(ABS(L18)/24, "h:mm"), TEXT(L18/24, "h:mm"))),"") -> 5:27 | L18: {=IFERROR(IF(INDIRECT("'"&J18&"'!L9")=0,"",INDIRECT("'"&J18&"'!L9")),"")} -> 5.45 | M18: =RIGHT(J18,4) -> 2025
A19: 46040 | D19: 0.041666667 | E19: =IF(C19<>"",C19 - B19 - D19,"") | F19: =IF(COUNT(B19, C19)<2, "", IF( E19 - TIME(7,0,0) < 0, "-" & TEXT(ABS(E19 - TIME(7,0,0)), "h:mm"), TEXT(E19 - TIME(7,0,0), "h:mm") )) | G19: =IF( COUNT(B19,C19)<2, , (E19*24) - 7 ) -> 0 | H19: =WEEKNUM(A19,2) -> 3 | J19: Juin-2025 | K19: =IFERROR(IF(ISBLANK(L19), "", IF(L19<0, "-" & TEXT(ABS(L19)/24, "h:mm"), TEXT(L19/24, "h:mm"))),"") -> -6:37 | L19: {=IFERROR(IF(INDIRECT("'"&J19&"'!L9")=0,"",INDIRECT("'"&J19&"'!L9")),"")} -> -6.6166667 | M19: =RIGHT(J19,4) -> 2025
A20: 46041 | D20: 0.041666667 | E20: =IF(C20<>"",C20 - B20 - D20,"") | F20: =IF(COUNT(B20, C20)<2, "", IF( E20 - TIME(7,0,0) < 0, "-" & TEXT(ABS(E20 - TIME(7,0,0)), "h:mm"), TEXT(E20 - TIME(7,0,0), "h:mm") )) | G20: =IF( COUNT(B20,C20)<2, , (E20*24) - 7 ) -> 0 | H20: =WEEKNUM(A20,2) -> 4 | J20: Juillet-2025 | K20: =IFERROR(IF(ISBLANK(L20), "", IF(L20<0, "-" & TEXT(ABS(L20)/24, "h:mm"), TEXT(L20/24, "h:mm"))),"") | L20: {=IFERROR(IF(INDIRECT("'"&J20&"'!L9")=0,"",INDIRECT("'"&J20&"'!L9")),"")} | M20: =RIGHT(J20,4) -> 2025
A21: 46042 | D21: 0.041666667 | E21: =IF(C21<>"",C21 - B21 - D21,"") | F21: =IF(COUNT(B21, C21)<2, "", IF( E21 - TIME(7,0,0) < 0, "-" & TEXT(ABS(E21 - TIME(7,0,0)), "h:mm"), TEXT(E21 - TIME(7,0,0), "h:mm") )) | G21: =IF( COUNT(B21,C21)<2, , (E21*24) - 7 ) -> 0 | H21: =WEEKNUM(A21,2) -> 4 | J21: Aout-2025 | K21: =IFERROR(IF(ISBLANK(L21), "", IF(L21<0, "-" & TEXT(ABS(L21)/24, "h:mm"), TEXT(L21/24, "h:mm"))),"") -> 7:26 | L21: {=IFERROR(IF(INDIRECT("'"&J21&"'!L9")=0,"",INDIRECT("'"&J21&"'!L9")),"")} -> 7.4333333 | M21: =RIGHT(J21,4) -> 2025
A22: 46043 | D22: 0.041666667 | E22: =IF(C22<>"",C22 - B22 - D22,"") | F22: =IF(COUNT(B22, C22)<2, "", IF( E22 - TIME(7,0,0) < 0, "-" & TEXT(ABS(E22 - TIME(7,0,0)), "h:mm"), TEXT(E22 - TIME(7,0,0), "h:mm") )) | G22: =IF( COUNT(B22,C22)<2, , (E22*24) - 7 ) -> 0 | H22: =WEEKNUM(A22,2) -> 4 | J22: Septembre-2025 | K22: =IFERROR(IF(ISBLANK(L22), "", IF(L22<0, "-" & TEXT(ABS(L22)/24, "h:mm"), TEXT(L22/24, "h:mm"))),"") -> 6:32 | L22: {=IFERROR(IF(INDIRECT("'"&J22&"'!L9")=0,"",INDIRECT("'"&J22&"'!L9")),"")} -> 6.5333333 | M22: =RIGHT(J22,4) -> 2025
A23: 46044 | D23: 0.041666667 | E23: =IF(C23<>"",C23 - B23 - D23,"") | F23: =IF(COUNT(B23, C23)<2, "", IF( E23 - TIME(7,0,0) < 0, "-" & TEXT(ABS(E23 - TIME(7,0,0)), "h:mm"), TEXT(E23 - TIME(7,0,0), "h:mm") )) | G23: =IF( COUNT(B23,C23)<2, , (E23*24) - 7 ) -> 0 | H23: =WEEKNUM(A23,2) -> 4 | J23: Octobre-2025 | K23: =IFERROR(IF(ISBLANK(L23), "", IF(L23<0, "-" & TEXT(ABS(L23)/24, "h:mm"), TEXT(L23/24, "h:mm"))),"") -> 9:41 | L23: {=IFERROR(IF(INDIRECT("'"&J23&"'!L9")=0,"",INDIRECT("'"&J23&"'!L9")),"")} -> 9.6833333 | M23: =RIGHT(J23,4) -> 2025
A24: 46045 | D24: 0.041666667 | E24: =IF(C24<>"",C24 - B24 - D24,"") | F24: =IF(COUNT(B24, C24)<2, "", IF( E24 - TIME(7,0,0) < 0, "-" & TEXT(ABS(E24 - TIME(7,0,0)), "h:mm"), TEXT(E24 - TIME(7,0,0), "h:mm") )) | G24: =IF( COUNT(B24,C24)<2, , (E24*24) - 7 ) -> 0 | H24: =WEEKNUM(A24,2) -> 4 | J24: Novembre-2025 | K24: =IFERROR(IF(ISBLANK(L24), "", IF(L24<0, "-" & TEXT(ABS(L24)/24, "h:mm"), TEXT(L24/24, "h:mm"))),"") -> 2:23 | L24: {=IFERROR(IF(INDIRECT("'"&J24&"'!L9")=0,"",INDIRECT("'"&J24&"'!L9")),"")} -> 2.3833333 | M24: =RIGHT(J24,4) -> 2025
A25: 46046 | D25: 0.041666667 | E25: =IF(C25<>"",C25 - B25 - D25,"") | F25: =IF(COUNT(B25, C25)<2, "", IF( E25 - TIME(7,0,0) < 0, "-" & TEXT(ABS(E25 - TIME(7,0,0)), "h:mm"), TEXT(E25 - TIME(7,0,0), "h:mm") )) | G25: =IF( COUNT(B25,C25)<2, , (E25*24) - 7 ) -> 0 | H25: =WEEKNUM(A25,2) -> 4 | J25: Decembre-2025 | K25: =IFERROR(IF(ISBLANK(L25), "", IF(L25<0, "-" & TEXT(ABS(L25)/24, "h:mm"), TEXT(L25/24, "h:mm"))),"") -> 4:15 | L25: {=IFERROR(IF(INDIRECT("'"&J25&"'!L9")=0,"",INDIRECT("'"&J25&"'!L9")),"")} -> 4.25 | M25: =RIGHT(J25,4) -> 2025
... A31: 46052 | D31: 0.041666667 | E31: =IF(C31<>"",C31 - B31 - D31,"") | F31: =IF(COUNT(B31, C31)<2, "", IF( E31 - TIME(7,0,0) < 0, "-" & TEXT(ABS(E31 - TIME(7,0,0)), "h:mm"), TEXT(E31 - TIME(7,0,0), "h:mm") )) | G31: =IF( COUNT(B31,C31)<2, , (E31*24) - 7 ) -> 0 | H31: =WEEKNUM(A31,2) -> 5 | J31: Juin-2026 | K31: =IFERROR(IF(ISBLANK(L31), "", IF(L31<0, "-" & TEXT(ABS(L31)/24, "h:mm"), TEXT(L31/24, "h:mm"))),"") | L31: {=IFERROR(IF(INDIRECT("'"&J31&"'!L9")=0,"",INDIRECT("'"&J31&"'!L9")),"")} | M31: =RIGHT(J31,4) -> 2026
A32: 46053 | D32: 0.041666667 | E32: =IF(C32<>"",C32 - B32 - D32,"") | F32: =IF(COUNT(B32, C32)<2, "", IF( E32 - TIME(7,0,0) < 0, "-" & TEXT(ABS(E32 - TIME(7,0,0)), "h:mm"), TEXT(E32 - TIME(7,0,0), "h:mm") )) | H32: =WEEKNUM(A32,2) -> 5 | J32: Juillet-2026 | K32: =IFERROR(IF(ISBLANK(L32), "", IF(L32<0, "-" & TEXT(ABS(L32)/24, "h:mm"), TEXT(L32/24, "h:mm"))),"") | L32: {=IFERROR(IF(INDIRECT("'"&J32&"'!L9")=0,"",INDIRECT("'"&J32&"'!L9")),"")} | M32: =RIGHT(J32,4) -> 2026
J33: Aout-2026 | K33: =IFERROR(IF(ISBLANK(L33), "", IF(L33<0, "-" & TEXT(ABS(L33)/24, "h:mm"), TEXT(L33/24, "h:mm"))),"") | L33: {=IFERROR(IF(INDIRECT("'"&J33&"'!L9")=0,"",INDIRECT("'"&J33&"'!L9")),"")} | M33: =RIGHT(J33,4) -> 2026
J34: Septembre-2026 | K34: =IFERROR(IF(ISBLANK(L34), "", IF(L34<0, "-" & TEXT(ABS(L34)/24, "h:mm"), TEXT(L34/24, "h:mm"))),"") | L34: {=IFERROR(IF(INDIRECT("'"&J34&"'!L9")=0,"",INDIRECT("'"&J34&"'!L9")),"")} | M34: =RIGHT(J34,4) -> 2026
J35: Octobre-2026 | K35: =IFERROR(IF(ISBLANK(L35), "", IF(L35<0, "-" & TEXT(ABS(L35)/24, "h:mm"), TEXT(L35/24, "h:mm"))),"") | L35: {=IFERROR(IF(INDIRECT("'"&J35&"'!L9")=0,"",INDIRECT("'"&J35&"'!L9")),"")} | M35: =RIGHT(J35,4) -> 2026
J36: Novembre-2026 | K36: =IFERROR(IF(ISBLANK(L36), "", IF(L36<0, "-" & TEXT(ABS(L36)/24, "h:mm"), TEXT(L36/24, "h:mm"))),"") | L36: {=IFERROR(IF(INDIRECT("'"&J36&"'!L9")=0,"",INDIRECT("'"&J36&"'!L9")),"")} | M36: =RIGHT(J36,4) -> 2026
J37: Decembre-2026 | K37: =IFERROR(IF(ISBLANK(L37), "", IF(L37<0, "-" & TEXT(ABS(L37)/24, "h:mm"), TEXT(L37/24, "h:mm"))),"") | L37: {=IFERROR(IF(INDIRECT("'"&J37&"'!L9")=0,"",INDIRECT("'"&J37&"'!L9")),"")} | M37: =RIGHT(J37,4) -> 2026

Sheet Fevrier-2026
A1: Date | B1: Arrivée | C1: Départ | D1: Pause | E1: Temps travail | F1: Delta (h) | H1: Semaine
A2: 46054 | D2: 0.041666667 | E2: =IF(C2<>"",C2 - B2 - D2,"") | F2: =IF(COUNT(B2, C2)<2, "", IF( E2 - TIME(7,0,0) < 0, "-" & TEXT(ABS(E2 - TIME(7,0,0)), "h:mm"), TEXT(E2 - TIME(7,0,0), "h:mm") )) | G2: =IF(COUNT(B2,C2)<2, , (E2*24) - 7) -> 0 | H2: =WEEKNUM(A2,2) -> 5 | J2: Semaine | K2: Delta total (h)
A3: 46055 | D3: 0.041666667 | E3: =IF(C3<>"",C3 - B3 - D3,"") | F3: =IF(COUNT(B3, C3)<2, "", IF( E3 - TIME(7,0,0) < 0, "-" & TEXT(ABS(E3 - TIME(7,0,0)), "h:mm"), TEXT(E3 - TIME(7,0,0), "h:mm") )) | G3: =IF(COUNT(B3,C3)<2, , (E3*24) - 7) -> 0 | H3: =WEEKNUM(A3,2) -> 6 | J3: 5 | K3: =IF(ISBLANK(L3), "", IF(L3<0, "-" & TEXT(ABS(L3)/24, "h:mm"), TEXT(L3/24, "h:mm"))) -> 0:00 | L3: =SUMIF(H:H, J3, G:G) -> 0
A4: 46056 | D4: 0.041666667 | E4: =IF(C4<>"",C4 - B4 - D4,"") | F4: =IF(COUNT(B4, C4)<2, "", IF( E4 - TIME(7,0,0) < 0, "-" & TEXT(ABS(E4 - TIME(7,0,0)), "h:mm"), TEXT(E4 - TIME(7,0,0), "h:mm") )) | G4: =IF(COUNT(B4,C4)<2, , (E4*24) - 7) -> 0 | H4: =WEEKNUM(A4,2) -> 6 | J4: 6 | K4: =IF(ISBLANK(L4), "", IF(L4<0, "-" & TEXT(ABS(L4)/24, "h:mm"), TEXT(L4/24, "h:mm"))) -> 0:00 | L4: =SUMIF(H:H, J4, G:G) -> 0
A5: 46057 | D5: 0.041666667 | E5: =IF(C5<>"",C5 - B5 - D5,"") | F5: =IF(COUNT(B5, C5)<2, "", IF( E5 - TIME(7,0,0) < 0, "-" & TEXT(ABS(E5 - TIME(7,0,0)), "h:mm"), TEXT(E5 - TIME(7,0,0), "h:mm") )) | G5: =IF(COUNT(B5,C5)<2, , (E5*24) - 7) -> 0 | H5: =WEEKNUM(A5,2) -> 6 | J5: 7 | K5: =IF(ISBLANK(L5), "", IF(L5<0, "-" & TEXT(ABS(L5)/24, "h:mm"), TEXT(L5/24, "h:mm"))) -> 0:00 | L5: =SUMIF(H:H, J5, G:G) -> 0
A6: 46058 | D6: 0.041666667 | E6: =IF(C6<>"",C6 - B6 - D6,"") | F6: =IF(COUNT(B6, C6)<2, "", IF( E6 - TIME(7,0,0) < 0, "-" & TEXT(ABS(E6 - TIME(7,0,0)), "h:mm"), TEXT(E6 - TIME(7,0,0), "h:mm") )) | G6: =IF(COUNT(B6,C6)<2, , (E6*24) - 7) -> 0 | H6: =WEEKNUM(A6,2) -> 6 | J6: 8 | K6: =IF(ISBLANK(L6), "", IF(L6<0, "-" & TEXT(ABS(L6)/24, "h:mm"), TEXT(L6/24, "h:mm"))) -> 0:00 | L6: =SUMIF(H:H, J6, G:G) -> 0
A7: 46059 | D7: 0.041666667 | E7: =IF(C7<>"",C7 - B7 - D7,"") | F7: =IF(COUNT(B7, C7)<2, "", IF( E7 - TIME(7,0,0) < 0, "-" & TEXT(ABS(E7 - TIME(7,0,0)), "h:mm"), TEXT(E7 - TIME(7,0,0), "h:mm") )) | G7: =IF(COUNT(B7,C7)<2, , (E7*24) - 7) -> 0 | H7: =WEEKNUM(A7,2) -> 6 | J7: 9 | K7: =IF(ISBLANK(L7), "", IF(L7<0, "-" & TEXT(ABS(L7)/24, "h:mm"), TEXT(L7/24, "h:mm"))) -> 0:00 | L7: =SUMIF(H:H, J7, G:G) -> 0
A8: 46060 | D8: 0.041666667 | E8: =IF(C8<>"",C8 - B8 - D8,"") | F8: =IF(COUNT(B8, C8)<2, "", IF( E8 - TIME(7,0,0) < 0, "-" & TEXT(ABS(E8 - TIME(7,0,0)), "h:mm"), TEXT(E8 - TIME(7,0,0), "h:mm") )) | G8: =IF(COUNT(B8,C8)<2, , (E8*24) - 7) -> 0 | H8: =WEEKNUM(A8,2) -> 6 | K8: =IF(ISBLANK(L8), "", IF(L8<0, "-" & TEXT(ABS(L8)/24, "h:mm"), TEXT(L8/24, "h:mm")))
A9: 46061 | D9: 0.041666667 | E9: =IF(C9<>"",C9 - B9 - D9,"") | F9: =IF(COUNT(B9, C9)<2, "", IF( E9 - TIME(7,0,0) < 0, "-" & TEXT(ABS(E9 - TIME(7,0,0)), "h:mm"), TEXT(E9 - TIME(7,0,0), "h:mm") )) | G9: =IF(COUNT(B9,C9)<2, , (E9*24) - 7) -> 0 | H9: =WEEKNUM(A9,2) -> 6 | J9: Total mois | K9: =IF(ISBLANK(L9), "", IF(L9<0, "-" & TEXT(ABS(L9)/24, "h:mm"), TEXT(L9/24, "h:mm"))) -> 0:00 | L9: =SUM(L3:L7) -> 0
A10: 46062 | D10: 0.041666667 | E10: =IF(C10<>"",C10 - B10 - D10,"") | F10: =IF(COUNT(B10, C10)<2, "", IF( E10 - TIME(7,0,0) < 0, "-" & TEXT(ABS(E10 - TIME(7,0,0)), "h:mm"), TEXT(E10 - TIME(7,0,0), "h:mm") )) | G10: =IF(COUNT(B10,C10)<2, , (E10*24) - 7) -> 0 | H10: =WEEKNUM(A10,2) -> 7 | J10: ="Total année "&M10 -> Total année 2026 | K10: =IF(ISBLANK(L10), "", IF(L10<0, "-" & TEXT(ABS(L10)/24, "[h]:mm"), TEXT(L10/24, "[h]:mm"))) -> 0:00 | L10: =SUM(L14:L25) -> 0 | M10: 2026
A11: 46063 | D11: 0.041666667 | E11: =IF(C11<>"",C11 - B11 - D11,"") | F11: =IF(COUNT(B11, C11)<2, "", IF( E11 - TIME(7,0,0) < 0, "-" & TEXT(ABS(E11 - TIME(7,0,0)), "h:mm"), TEXT(E11 - TIME(7,0,0), "h:mm") )) | G11: =IF(COUNT(B11,C11)<2, , (E11*24) - 7) -> 0 | H11: =WEEKNUM(A11,2) -> 7
A12: 46064 | D12: 0.041666667 | E12: =IF(C12<>"",C12 - B12 - D12,"") | F12: =IF(COUNT(B12, C12)<2, "", IF( E12 - TIME(7,0,0) < 0, "-" & TEXT(ABS(E12 - TIME(7,0,0)), "h:mm"), TEXT(E12 - TIME(7,0,0), "h:mm") )) | G12: =IF(COUNT(B12,C12)<2, , (E12*24) - 7) -> 0 | H12: =WEEKNUM(A12,2) -> 7
A13: 46065 | D13: 0.041666667 | E13: =IF(C13<>"",C13 - B13 - D13,"") | F13: =IF(COUNT(B13, C13)<2, "", IF( E13 - TIME(7,0,0) < 0, "-" & TEXT(ABS(E13 - TIME(7,0,0)), "h:mm"), TEXT(E13 - TIME(7,0,0), "h:mm") )) | G13: =IF(COUNT(B13,C13)<2, , (E13*24) - 7) -> 0 | H13: =WEEKNUM(A13,2) -> 7
A14: 46066 | D14: 0.041666667 | E14: =IF(C14<>"",C14 - B14 - D14,"") | F14: =IF(COUNT(B14, C14)<2, "", IF( E14 - TIME(7,0,0) < 0, "-" & TEXT(ABS(E14 - TIME(7,0,0)), "h:mm"), TEXT(E14 - TIME(7,0,0), "h:mm") )) | G14: =IF(COUNT(B14,C14)<2, , (E14*24) - 7) -> 0 | H14: =WEEKNUM(A14,2) -> 7 | J14: Janvier-2026 | K14: =IFERROR(IF(ISBLANK(L14), "", IF(L14<0, "-" & TEXT(ABS(L14)/24, "h:mm"), TEXT(L14/24, "h:mm"))),"") | L14: {=IFERROR(IF(INDIRECT("'"&J14&"'!L9")=0,"",INDIRECT("'"&J14&"'!L9")),"")} | M14: =RIGHT(J14,4) -> 2026
A15: 46067 | D15: 0.041666667 | E15: =IF(C15<>"",C15 - B15 - D15,"") | F15: =IF(COUNT(B15, C15)<2, "", IF( E15 - TIME(7,0,0) < 0, "-" & TEXT(ABS(E15 - TIME(7,0,0)), "h:mm"), TEXT(E15 - TIME(7,0,0), "h:mm") )) | G15: =IF(COUNT(B15,C15)<2, , (E15*24) - 7) -> 0 | H15: =WEEKNUM(A15,2) -> 7 | J15: Fevrier-2026 | K15: =IFERROR(IF(ISBLANK(L15), "", IF(L15<0, "-" & TEXT(ABS(L15)/24, "h:mm"), TEXT(L15/24, "h:mm"))),"") | L15: {=IFERROR(IF(INDIRECT("'"&J15&"'!L9")=0,"",INDIRECT("'"&J15&"'!L9")),"")} | M15: =RIGHT(J15,4) -> 2026
A16: 46068 | D16: 0.041666667 | E16: =IF(C16<>"",C16 - B16 - D16,"") | F16: =IF(COUNT(B16, C16)<2, "", IF( E16 - TIME(7,0,0) < 0, "-" & TEXT(ABS(E16 - TIME(7,0,0)), "h:mm"), TEXT(E16 - TIME(7,0,0), "h:mm") )) | G16: =IF(COUNT(B16,C16)<2, , (E16*24) - 7) -> 0 | H16: =WEEKNUM(A16,2) -> 7 | J16: Mars-2026 | K16: =IFERROR(IF(ISBLANK(L16), "", IF(L16<0, "-" & TEXT(ABS(L16)/24, "h:mm"), TEXT(L16/24, "h:mm"))),"") | L16: {=IFERROR(IF(INDIRECT("'"&J16&"'!L9")=0,"",INDIRECT("'"&J16&"'!L9")),"")} | M16: =RIGHT(J16,4) -> 2026
A17: 46069 | D17: 0.041666667 | E17: =IF(C17<>"",C17 - B17 - D17,"") | F17: =IF(COUNT(B17, C17)<2, "", IF( E17 - TIME(7,0,0) < 0, "-" & TEXT(ABS(E17 - TIME(7,0,0)), "h:mm"), TEXT(E17 - TIME(7,0,0), "h:mm") )) | G17: =IF(COUNT(B17,C17)<2, , (E17*24) - 7) -> 0 | H17: =WEEKNUM(A17,2) -> 8 | J17: Avril-2026 | K17: =IFERROR(IF(ISBLANK(L17), "", IF(L17<0, "-" & TEXT(ABS(L17)/24, "h:mm"), TEXT(L17/24, "h:mm"))),"") | L17: {=IFERROR(IF(INDIRECT("'"&J17&"'!L9")=0,"",INDIRECT("'"&J17&"'!L9")),"")} | M17: =RIGHT(J17,4) -> 2026
A18: 46070 | D18: 0.041666667 | E18: =IF(C18<>"",C18 - B18 - D18,"") | F18: =IF(COUNT(B18, C18)<2, "", IF( E18 - TIME(7,0,0) < 0, "-" & TEXT(ABS(E18 - TIME(7,0,0)), "h:mm"), TEXT(E18 - TIME(7,0,0), "h:mm") )) | G18: =IF(COUNT(B18,C18)<2, , (E18*24) - 7) -> 0 | H18: =WEEKNUM(A18,2) -> 8 | J18: Mai-2026 | K18: =IFERROR(IF(ISBLANK(L18), "", IF(L18<0, "-" & TEXT(ABS(L18)/24, "h:mm"), TEXT(L18/24, "h:mm"))),"") | L18: {=IFERROR(IF(INDIRECT("'"&J18&"'!L9")=0,"",INDIRECT("'"&J18&"'!L9")),"")} | M18: =RIGHT(J18,4) -> 2026
A19: 46071 | D19: 0.041666667 | E19: =IF(C19<>"",C19 - B19 - D19,"") | F19: =IF(COUNT(B19, C19)<2, "", IF( E19 - TIME(7,0,0) < 0, "-" & TEXT(ABS(E19 - TIME(7,0,0)), "h:mm"), TEXT(E19 - TIME(7,0,0), "h:mm") )) | G19: =IF(COUNT(B19,C19)<2, , (E19*24) - 7) -> 0 | H19: =WEEKNUM(A19,2) -> 8 | J19: Juin-2026 | K19: =IFERROR(IF(ISBLANK(L19), "", IF(L19<0, "-" & TEXT(ABS(L19)/24, "h:mm"), TEXT(L19/24, "h:mm"))),"") | L19: {=IFERROR(IF(INDIRECT("'"&J19&"'!L9")=0,"",INDIRECT("'"&J19&"'!L9")),"")} | M19: =RIGHT(J19,4) -> 2026
A20: 46072 | D20: 0.041666667 | E20: =IF(C20<>"",C20 - B20 - D20,"") | F20: =IF(COUNT(B20, C20)<2, "", IF( E20 - TIME(7,0,0) < 0, "-" & TEXT(ABS(E20 - TIME(7,0,0)), "h:mm"), TEXT(E20 - TIME(7,0,0), "h:mm") )) | G20: =IF(COUNT(B20,C20)<2, , (E20*24) - 7) -> 0 | H20: =WEEKNUM(A20,2) -> 8 | J20: Juillet-2026 | K20: =IFERROR(IF(ISBLANK(L20), "", IF(L20<0, "-" & TEXT(ABS(L20)/24, "h:mm"), TEXT(L20/24, "h:mm"))),"") | L20: {=IFERROR(IF(INDIRECT("'"&J20&"'!L9")=0,"",INDIRECT("'"&J20&"'!L9")),"")} | M20: =RIGHT(J20,4) -> 2026
A21: 46073 | D21: 0.041666667 | E21: =IF(C21<>"",C21 - B21 - D21,"") | F21: =IF(COUNT(B21, C21)<2, "", IF( E21 - TIME(7,0,0) < 0, "-" & TEXT(ABS(E21 - TIME(7,0,0)), "h:mm"), TEXT(E21 - TIME(7,0,0), "h:mm") )) | G21: =IF(COUNT(B21,C21)<2, , (E21*24) - 7) -> 0 | H21: =WEEKNUM(A21,2) -> 8 | J21: Aout-2026 | K21: =IFERROR(IF(ISBLANK(L21), "", IF(L21<0, "-" & TEXT(ABS(L21)/24, "h:mm"), TEXT(L21/24, "h:mm"))),"") | L21: {=IFERROR(IF(INDIRECT("'"&J21&"'!L9")=0,"",INDIRECT("'"&J21&"'!L9")),"")} | M21: =RIGHT(J21,4) -> 2026
A22: 46074 | D22: 0.041666667 | E22: =IF(C22<>"",C22 - B22 - D22,"") | F22: =IF(COUNT(B22, C22)<2, "", IF( E22 - TIME(7,0,0) < 0, "-" & TEXT(ABS(E22 - TIME(7,0,0)), "h:mm"), TEXT(E22 - TIME(7,0,0), "h:mm") )) | G22: =IF(COUNT(B22,C22)<2, , (E22*24) - 7) -> 0 | H22: =WEEKNUM(A22,2) -> 8 | J22: Septembre-2026 | K22: =IFERROR(IF(ISBLANK(L22), "", IF(L22<0, "-" & TEXT(ABS(L22)/24, "h:mm"), TEXT(L22/24, "h:mm"))),"") | L22: {=IFERROR(IF(INDIRECT("'"&J22&"'!L9")=0,"",INDIRECT("'"&J22&"'!L9")),"")} | M22: =RIGHT(J22,4) -> 2026
A23: 46075 | D23: 0.041666667 | E23: =IF(C23<>"",C23 - B23 - D23,"") | F23: =IF(COUNT(B23, C23)<2, "", IF( E23 - TIME(7,0,0) < 0, "-" & TEXT(ABS(E23 - TIME(7,0,0)), "h:mm"), TEXT(E23 - TIME(7,0,0), "h:mm") )) | G23: =IF(COUNT(B23,C23)<2, , (E23*24) - 7) -> 0 | H23: =WEEKNUM(A23,2) -> 8 | J23: Octobre-2026 | K23: =IFERROR(IF(ISBLANK(L23), "", IF(L23<0, "-" & TEXT(ABS(L23)/24, "h:mm"), TEXT(L23/24, "h:mm"))),"") | L23: {=IFERROR(IF(INDIRECT("'"&J23&"'!L9")=0,"",INDIRECT("'"&J23&"'!L9")),"")} | M23: =RIGHT(J23,4) -> 2026
A24: 46076 | D24: 0.041666667 | E24: =IF(C24<>"",C24 - B24 - D24,"") | F24: =IF(COUNT(B24, C24)<2, "", IF( E24 - TIME(7,0,0) < 0, "-" & TEXT(ABS(E24 - TIME(7,0,0)), "h:mm"), TEXT(E24 - TIME(7,0,0), "h:mm") )) | G24: =IF(COUNT(B24,C24)<2, , (E24*24) - 7) -> 0 | H24: =WEEKNUM(A24,2) -> 9 | J24: Novembre-2026 | K24: =IFERROR(IF(ISBLANK(L24), "", IF(L24<0, "-" & TEXT(ABS(L24)/24, "h:mm"), TEXT(L24/24, "h:mm"))),"") | L24: {=IFERROR(IF(INDIRECT("'"&J24&"'!L9")=0,"",INDIRECT("'"&J24&"'!L9")),"")} | M24: =RIGHT(J24,4) -> 2026
A25: 46077 | D25: 0.041666667 | E25: =IF(C25<>"",C25 - B25 - D25,"") | F25: =IF(COUNT(B25, C25)<2, "", IF( E25 - TIME(7,0,0) < 0, "-" & TEXT(ABS(E25 - TIME(7,0,0)), "h:mm"), TEXT(E25 - TIME(7,0,0), "h:mm") )) | G25: =IF(COUNT(B25,C25)<2, , (E25*24) - 7) -> 0 | H25: =WEEKNUM(A25,2) -> 9 | J25: Decembre-2026 | K25: =IFERROR(IF(ISBLANK(L25), "", IF(L25<0, "-" & TEXT(ABS(L25)/24, "h:mm"), TEXT(L25/24, "h:mm"))),"") | L25: {=IFERROR(IF(INDIRECT("'"&J25&"'!L9")=0,"",INDIRECT("'"&J25&"'!L9")),"")} | M25: =RIGHT(J25,4) -> 2026
A26: 46078 | D26: 0.041666667 | E26: =IF(C26<>"",C26 - B26 - D26,"") | F26: =IF(COUNT(B26, C26)<2, "", IF( E26 - TIME(7,0,0) < 0, "-" & TEXT(ABS(E26 - TIME(7,0,0)), "h:mm"), TEXT(E26 - TIME(7,0,0), "h:mm") )) | G26: =IF(COUNT(B26,C26)<2, , (E26*24) - 7) -> 0 | H26: =WEEKNUM(A26,2) -> 9 | M26: =RIGHT(J26,4)
A27: 46079 | D27: 0.041666667 | E27: =IF(C27<>"",C27 - B27 - D27,"") | F27: =IF(COUNT(B27, C27)<2, "", IF( E27 - TIME(7,0,0) < 0, "-" & TEXT(ABS(E27 - TIME(7,0,0)), "h:mm"), TEXT(E27 - TIME(7,0,0), "h:mm") )) | G27: =IFERROR(IF(COUNT(B27,C27)<2, , (E27*24) - 7),"") -> 0 | H27: =WEEKNUM(A27,2) -> 9 | M27: =RIGHT(J27,4)
A28: 46080 | D28: 0.041666667 | E28: =IF(C28<>"",C28 - B28 - D28,"") | F28: =IF(COUNT(B28, C28)<2, "", IF( E28 - TIME(7,0,0) < 0, "-" & TEXT(ABS(E28 - TIME(7,0,0)), "h:mm"), TEXT(E28 - TIME(7,0,0), "h:mm") )) | G28: =IF(COUNT(B28,C28)<2, , (E28*24) - 7) -> 0 | H28: =WEEKNUM(A28,2) -> 9 | M28: =RIGHT(J28,4)
A29: 46081 | D29: 0.041666667 | E29: =IF(C29<>"",C29 - B29 - D29,"") | F29: =IF(COUNT(B29, C29)<2, "", IF( E29 - TIME(7,0,0) < 0, "-" & TEXT(ABS(E29 - TIME(7,0,0)), "h:mm"), TEXT(E29 - TIME(7,0,0), "h:mm") )) | G29: =IF(COUNT(B29,C29)<2, , (E29*24) - 7) -> 0 | H29: =WEEKNUM(A29,2) -> 9 | M29: =RIGHT(J29,4)
M30: =RIGHT(J30,4)
M31: =RIGHT(J31,4)
M32: =RIGHT(J32,4)
M33: =RIGHT(J33,4)
M34: =RIGHT(J34,4)
M35: =RIGHT(J35,4)
M36: =RIGHT(J36,4)
M37: =RIGHT(J37,4)
