Workbook
Name BUREAU_CELLULE: Paramètre!$H$1:$H$9
Name SITUATION: Paramètre!$M$3:$M$22
Name SITUATION_ABG: Paramètre!$O$3:$O$22

Sheet Paramètre
A1: Année | B1: 2025 | H1: NOM | I1: PRENOM
H2: Mme TANGUY | I2: Sarah
A3: Jour férié (France) | B3: Date | C3: Explication | H3: Mr VANDEWEGUE | I3: Georges | M3: PRESENT
A4: Jour de l'an | B4: =DATE(B1,1,1) -> 45658 | C4: 1er janvier | H4: Mme PENET | I4: Anaïs | K4: {=[1]!NO_COULEUR_RGB_CELL(L4)} -> 255, 0, 0 | M4: ABSENCE IRREGULIERE | N4: A I | O4: SERV
A5: Pâques | B5: =FLOOR(DAY(MINUTE($B$1/38)/2+56)&"/5/"&$B$1,7)-34 -> 45767 | C5: Le Dimanche qui suit le jour de la première lune après l'équinoxe de printemps | H5: Mme CHANON | I5: Brigitte | K5: {=[1]!NO_COULEUR_RGB_CELL(L5)} -> 255, 242, 204 | M5: ASA | N5: ASA | O5: P P
A6: Lundi de Pâques | B6: =B5+1 -> 45768 | C6: Lendemain de paques | H6: Mr TAUFU | I6: Jean-François | K6: {=[1]!NO_COULEUR_RGB_CELL(L6)} -> 102, 255, 51 | M6: CLM-CLDM | N6: CLM-CLDM | O6: PERM
A7: Fête du travail | B7: =DATE(B1,5,1) -> 45778 | C7: 1er mai | H7: Mr AMOROS | I7: Tanguy | K7: {=[1]!NO_COULEUR_RGB_CELL(L7)} -> 84, 130, 53 | M7: GARDE ENFANT COVID 19 | N7: GARDE E | O7: M EXT
A8: Armistice 1945 | B8: =DATE(B1,5,8) -> 45785 | C8: le 8 mai | H8: Mr DUPONT | I8: Stan | K8: {=[1]!NO_COULEUR_RGB_CELL(L8)} -> 0, 0, 0 | M8: GREVE | N8: GREVE | O8: M INT
A9: Jeudi de l'Ascension | B9: =B5+39 -> 45806 | C9: 39 jours après paques | H9: Mr MIKE | I9: Clément | K9: {=[1]!NO_COULEUR_RGB_CELL(L9)} -> 244, 176, 132 | M9: MISSIONS INTERIEUR | N9: M EXT | O9: S INT
A10: Pentecôte | B10: =B5+49 -> 45816 | C10: 49 jours après paques | K10: {=[1]!NO_COULEUR_RGB_CELL(L10)} -> 255, 102, 0 | M10: MISSIONS EXTERIEUR | N10: M INT | O10: S EXT
A11: Lundi de Pentecôte | B11: =B5+50 -> 45817 | C11: 50 jours après paques | K11: {=[1]!NO_COULEUR_RGB_CELL(L11)} -> 255, 204, 255 | M11: MATERNITE | N11: MATER | O11: OPEX
A12: Fête nationale | B12: =DATE(B1,7,14) -> 45852 | C12: le 14 juillet | K12: {=[1]!NO_COULEUR_RGB_CELL(L12)} -> 112, 48, 160 | M12: MALADIE | N12: MLD | O12: A I
A13: Assomption | B13: =DATE(B1,8,15) -> 45884 | C13: le 15 août | K13: {=[1]!NO_COULEUR_RGB_CELL(L13)} -> 255, 255, 0 | M13: OPEX | N13: OPEX | O13: RP CH
A14: La Toussaint | B14: =DATE(B1,11,1) -> 45962 | C14: le 1er novembre | K14: {=[1]!NO_COULEUR_RGB_CELL(L14)} -> 0, 176, 240 | M14: PERMISSIONS | N14: PERM | O14: MLD
A15: Armistice 1918 | B15: =DATE(B1,11,11) -> 45972 | C15: le 11 novembre | K15: {=[1]!NO_COULEUR_RGB_CELL(L15)} -> 0, 255, 255 | M15: PREVISION PERMISSIONS | N15: PP | O15: CLM-CLDM
A16: Noël | B16: =DATE(B1,12,25) -> 46016 | C16: le 25 décembre | K16: {=[1]!NO_COULEUR_RGB_CELL(L16)} -> 189, 215, 238 | M16: RECONVERSION | N16: RCVS | O16: RCVS
K17: {=[1]!NO_COULEUR_RGB_CELL(L17)} -> 255, 102, 255 | M17: REPOS EN CHAMBRE | N17: RP CH | O17: MATER
K18: {=[1]!NO_COULEUR_RGB_CELL(L18)} -> 128, 128, 128 | M18: STAGE EXTERIEUR | N18: S EXT | O18: TPS P
K19: {=[1]!NO_COULEUR_RGB_CELL(L19)} -> 217, 217, 217 | M19: STAGE INTERIEUR | N19: S INT | O19: GREVE
K20: {=[1]!NO_COULEUR_RGB_CELL(L20)} -> 192, 0, 0 | M20: SERVICE | N20: SERV | O20: ASA
K21: {=[1]!NO_COULEUR_RGB_CELL(L21)} -> 68, 114, 196 | M21: TEMPS PARTIEL | N21: TPS P | O21: GARDE E
K22: {=[1]!NO_COULEUR_RGB_CELL(L22)} -> 102, 204, 255 | M22: TELETRAVAIL | N22: TT | O22: TT

Sheet Janvier
A1: =+Paramètre!B1 -> 2025 | B1: 1 | D1: janvier
B2: date
D3: 1 | E3: =IF(D4="","",IF(MONTH(D4+1)<>MONTH(D4),"",D3+1)) -> 2 | F3: =IF(E4="","",IF(MONTH(E4+1)<>MONTH(E4),"",E3+1)) -> 3 | G3: =IF(F4="","",IF(MONTH(F4+1)<>MONTH(F4),"",F3+1)) -> 4 | H3: =IF(G4="","",IF(MONTH(G4+1)<>MONTH(G4),"",G3+1)) -> 5 | I3: =IF(H4="","",IF(MONTH(H4+1)<>MONTH(H4),"",H3+1)) -> 6 | J3: =IF(I4="","",IF(MONTH(I4+1)<>MONTH(I4),"",I3+1)) -> 7 | K3: =IF(J4="","",IF(MONTH(J4+1)<>MONTH(J4),"",J3+1)) -> 8 | L3: =IF(K4="","",IF(MONTH(K4+1)<>MONTH(K4),"",K3+1)) -> 9 | ... AH3: =IF(AG4="","",IF(MONTH(AG4+1)<>MONTH(AG4),"",AG3+1)) -> 31
D4: =IF(D3="","",DATE($A$1,$B$1,D$3)) -> 45658 | E4: =IF(E3="","",DATE($A$1,$B$1,E$3)) -> 45659 | F4: =IF(F3="","",DATE($A$1,$B$1,F$3)) -> 45660 | G4: =IF(G3="","",DATE($A$1,$B$1,G$3)) -> 45661 | H4: =IF(H3="","",DATE($A$1,$B$1,H$3)) -> 45662 | I4: =IF(I3="","",DATE($A$1,$B$1,I$3)) -> 45663 | J4: =IF(J3="","",DATE($A$1,$B$1,J$3)) -> 45664 | K4: =IF(K3="","",DATE($A$1,$B$1,K$3)) -> 45665 | ... AH4: =IF(AH3="","",DATE($A$1,$B$1,AH$3)) -> 45688
D5: =IF(COUNTIF(Paramètre!$B$4:$B$16,Janvier!D$4),8,WEEKDAY(D4,2)) -> 8 | E5: =IF(COUNTIF(Paramètre!$B$4:$B$16,Janvier!E$4),8,WEEKDAY(E4,2)) -> 4 | F5: =IF(COUNTIF(Paramètre!$B$4:$B$16,Janvier!F$4),8,WEEKDAY(F4,2)) -> 5 | G5: =IF(COUNTIF(Paramètre!$B$4:$B$16,Janvier!G$4),8,WEEKDAY(G4,2)) -> 6 | H5: =IF(COUNTIF(Paramètre!$B$4:$B$16,Janvier!H$4),8,WEEKDAY(H4,2)) -> 7 | I5: =IF(COUNTIF(Paramètre!$B$4:$B$16,Janvier!I$4),8,WEEKDAY(I4,2)) -> 1 | J5: =IF(COUNTIF(Paramètre!$B$4:$B$16,Janvier!J$4),8,WEEKDAY(J4,2)) -> 2 | K5: =IF(COUNTIF(Paramètre!$B$4:$B$16,Janvier!K$4),8,WEEKDAY(K4,2)) -> 3 | ... AF5: =IF(COUNTIF(Paramètre!$B$4:$B$16,Janvier!AF$4),8,WEEKDAY(AF4,2)) -> 3 | AG5: =IF(AG4="","",IF(COUNTIF(Paramètre!$B$4:$B$16,Janvier!AG$4),8,WEEKDAY(AG4,2))) -> 4 | AH5: =IF(AH4="","",IF(COUNTIF(Paramètre!$B$4:$B$16,Janvier!AH$4),8,WEEKDAY(AH4,2))) -> 5
B6: NOM | C6: PRENOM | D6: =WEEKNUM(D4,2) -> 1 | E6: =WEEKNUM(E4,2) -> 1 | F6: =WEEKNUM(F4,2) -> 1 | G6: =WEEKNUM(G4,2) -> 1 | H6: =WEEKNUM(H4,2) -> 1 | I6: =WEEKNUM(I4,2) -> 2 | J6: =WEEKNUM(J4,2) -> 2 | K6: =WEEKNUM(K4,2) -> 2 | ... AH6: =WEEKNUM(AH4,2) -> 5
B7: Mme TANGUY | C7: Sarah | I7: SERV | N7: SERV | P7: S INT | R7: MATER
B8: Mr VANDEWEGUE | C8: Georges | J8: GARDE E | N8: P P | P8: S EXT | R8: TPS P
B9: Mme PENET | C9: Anaïs | N9: PERM | P9: OPEX | R9: GREVE
B10: Mme CHANON | C10: Brigitte | N10: M EXT | P10: A I | R10: ASA
B11: Mr TAUFU | C11: Jean-François | N11: A I | P11: RP CH | R11: GARDE E
B12: Mr AMOROS | C12: Tanguy | N12: ASA | P12: MLD | R12: TT
B13: Mr DUPONT | C13: Stan | N13: M EXT | P13: CLM-CLDM
B14: Mr MIKE | C14: Clément | N14: OPEX | P14: RCVS
C20: x
C27: x
C28: x
C33: x
