Workbook

Sheet Facturation
C5: mois | D5: année | E5: date
B6: Facture: | C6: 3 | D6: 2025 | E6: =EOMONTH(DATE(D6,C6,1),0) -> 45747 | H6: Tarif
H7: {=SUMPRODUCT(((Facturation!$E$6>=Tarifs!$D$6:$Q$6)*(Facturation!$E$6<=Tarifs!$D$7:$Q$7)*(Tarifs!$D$5:$Q$5)))} -> 4 | J7: <= valeur numérique au format "indice"00
C13: Désignation | D13: Qté | E13: PU | F13: Total | K13: =COUNTIFS(Tarifs!$D$6:$Q$6,">="&Facturation!E6,Tarifs!$D$7:$Q$7,"<="&Facturation!E6) -> 0
C14: {=Tarifs!B9:B20} -> A | D14: 1 | E14: {=SUMPRODUCT(((Tarifs!$B$9:$B$20=Facturation!C14)*(Facturation!$E$6>=Tarifs!$D$6:$Q$6)*(Facturation!$E$6<=Tarifs!$D$7:$Q$7)*(Tarifs!$D$9:$Q$20)))} -> 1.5 | F14: =E14*D14 -> 1.5
C15: B | D15: 2 | E15: {=SUMPRODUCT(((Tarifs!$B$9:$B$20=Facturation!C15)*(Facturation!$E$6>=Tarifs!$D$6:$Q$6)*(Facturation!$E$6<=Tarifs!$D$7:$Q$7)*(Tarifs!$D$9:$Q$20)))} -> 2.5 | F15: =E15*D15 -> 5
C16: C | D16: 5 | E16: {=SUMPRODUCT(((Tarifs!$B$9:$B$20=Facturation!C16)*(Facturation!$E$6>=Tarifs!$D$6:$Q$6)*(Facturation!$E$6<=Tarifs!$D$7:$Q$7)*(Tarifs!$D$9:$Q$20)))} -> 3.5 | F16: =E16*D16 -> 17.5
C17: D | D17: 10 | E17: {=SUMPRODUCT(((Tarifs!$B$9:$B$20=Facturation!C17)*(Facturation!$E$6>=Tarifs!$D$6:$Q$6)*(Facturation!$E$6<=Tarifs!$D$7:$Q$7)*(Tarifs!$D$9:$Q$20)))} -> 4.5 | F17: =E17*D17 -> 45
C18: 0 | E18: {=SUMPRODUCT(((Tarifs!$B$9:$B$20=Facturation!C18)*(Facturation!$E$6>=Tarifs!$D$6:$Q$6)*(Facturation!$E$6<=Tarifs!$D$7:$Q$7)*(Tarifs!$D$9:$Q$20)))} -> 0 | F18: =E18*D18 -> 0
C19: 0 | E19: {=SUMPRODUCT(((Tarifs!$B$9:$B$20=Facturation!C19)*(Facturation!$E$6>=Tarifs!$D$6:$Q$6)*(Facturation!$E$6<=Tarifs!$D$7:$Q$7)*(Tarifs!$D$9:$Q$20)))} -> 0 | F19: =E19*D19 -> 0
C20: 0 | E20: {=SUMPRODUCT(((Tarifs!$B$9:$B$20=Facturation!C20)*(Facturation!$E$6>=Tarifs!$D$6:$Q$6)*(Facturation!$E$6<=Tarifs!$D$7:$Q$7)*(Tarifs!$D$9:$Q$20)))} -> 0 | F20: =E20*D20 -> 0
C21: 0 | E21: {=SUMPRODUCT(((Tarifs!$B$9:$B$20=Facturation!C21)*(Facturation!$E$6>=Tarifs!$D$6:$Q$6)*(Facturation!$E$6<=Tarifs!$D$7:$Q$7)*(Tarifs!$D$9:$Q$20)))} -> 0 | F21: =E21*D21 -> 0
C22: 0 | E22: {=SUMPRODUCT(((Tarifs!$B$9:$B$20=Facturation!C22)*(Facturation!$E$6>=Tarifs!$D$6:$Q$6)*(Facturation!$E$6<=Tarifs!$D$7:$Q$7)*(Tarifs!$D$9:$Q$20)))} -> 0 | F22: =E22*D22 -> 0
C23: 0 | E23: {=SUMPRODUCT(((Tarifs!$B$9:$B$20=Facturation!C23)*(Facturation!$E$6>=Tarifs!$D$6:$Q$6)*(Facturation!$E$6<=Tarifs!$D$7:$Q$7)*(Tarifs!$D$9:$Q$20)))} -> 0 | F23: =E23*D23 -> 0
C24: 0 | E24: {=SUMPRODUCT(((Tarifs!$B$9:$B$20=Facturation!C24)*(Facturation!$E$6>=Tarifs!$D$6:$Q$6)*(Facturation!$E$6<=Tarifs!$D$7:$Q$7)*(Tarifs!$D$9:$Q$20)))} -> 0 | F24: =E24*D24 -> 0
C25: 0 | E25: {=SUMPRODUCT(((Tarifs!$B$9:$B$20=Facturation!C25)*(Facturation!$E$6>=Tarifs!$D$6:$Q$6)*(Facturation!$E$6<=Tarifs!$D$7:$Q$7)*(Tarifs!$D$9:$Q$20)))} -> 0 | F25: =E25*D25 -> 0

Sheet Tarifs
C5: Avenant N° : | D5: 4 | E5: 5
C6: DU: | D6: 45658 | E6: 46023
C7: AU: | D7: 46022 | E7: 46387
B8: Désignation | C8: UNITE | D8: PU | E8: PU | F8: PU | G8: PU | H8: PU | I8: PU | J8: PU | K8: PU | L8: PU | M8: PU | N8: PU | O8: PU | P8: PU | Q8: PU
B9: A | D9: 1.5 | E9: 2
B10: B | D10: 2.5 | E10: 3
B11: C | D11: 3.5 | E11: 4
B12: D | D12: 4.5 | E12: 5
