Workbook

Sheet Feuil1
C4: mois | D4: année | E4: date | G4: Tarif
B5: Facture: | C5: 12 | D5: 2025 | E5: =EOMONTH(DATE(D5,C5,1),0) -> 46022 | G5: {=SUMPRODUCT(((Feuil1!$E$5>=Feuil2!$C$5:$P$5)*(Feuil1!$E$5<=Feuil2!$C$6:$P$6)*(Feuil2!$C$4:$P$4)))} -> 2569
B8: Désignation | C8: Qté | D8: PU | E8: Total
B9: {=Feuil2!B8:B19} -> A | C9: 1 | D9: {=SUMPRODUCT(((Feuil2!$B$8:$B$19=Feuil1!B9)*(Feuil1!$E$5>=Feuil2!$C$5:$P$5)*(Feuil1!$E$5<=Feuil2!$C$6:$P$6)*(Feuil2!$C$8:$P$19)))*C9} -> 1.5 | E9: =D9*C9 -> 1.5
B10: B | C10: 2 | D10: {=SUMPRODUCT(((Feuil2!$B$8:$B$19=Feuil1!B10)*(Feuil1!$E$5>=Feuil2!$C$5:$P$5)*(Feuil1!$E$5<=Feuil2!$C$6:$P$6)*(Feuil2!$C$8:$P$19)))*C10} -> 5 | E10: =D10*C10 -> 10
B11: C | C11: 5 | D11: {=SUMPRODUCT(((Feuil2!$B$8:$B$19=Feuil1!B11)*(Feuil1!$E$5>=Feuil2!$C$5:$P$5)*(Feuil1!$E$5<=Feuil2!$C$6:$P$6)*(Feuil2!$C$8:$P$19)))*C11} -> 17.5 | E11: =D11*C11 -> 87.5
B12: D | C12: 10 | D12: {=SUMPRODUCT(((Feuil2!$B$8:$B$19=Feuil1!B12)*(Feuil1!$E$5>=Feuil2!$C$5:$P$5)*(Feuil1!$E$5<=Feuil2!$C$6:$P$6)*(Feuil2!$C$8:$P$19)))*C12} -> 45 | E12: =D12*C12 -> 450
B13: 0 | D13: {=SUMPRODUCT(((Feuil2!$B$8:$B$19=Feuil1!B13)*(Feuil1!$E$5>=Feuil2!$C$5:$P$5)*(Feuil1!$E$5<=Feuil2!$C$6:$P$6)*(Feuil2!$C$8:$P$19)))*C13} -> 0 | E13: =D13*C13 -> 0
B14: 0 | D14: {=SUMPRODUCT(((Feuil2!$B$8:$B$19=Feuil1!B14)*(Feuil1!$E$5>=Feuil2!$C$5:$P$5)*(Feuil1!$E$5<=Feuil2!$C$6:$P$6)*(Feuil2!$C$8:$P$19)))*C14} -> 0 | E14: =D14*C14 -> 0
B15: 0 | D15: {=SUMPRODUCT(((Feuil2!$B$8:$B$19=Feuil1!B15)*(Feuil1!$E$5>=Feuil2!$C$5:$P$5)*(Feuil1!$E$5<=Feuil2!$C$6:$P$6)*(Feuil2!$C$8:$P$19)))*C15} -> 0 | E15: =D15*C15 -> 0
B16: 0 | D16: {=SUMPRODUCT(((Feuil2!$B$8:$B$19=Feuil1!B16)*(Feuil1!$E$5>=Feuil2!$C$5:$P$5)*(Feuil1!$E$5<=Feuil2!$C$6:$P$6)*(Feuil2!$C$8:$P$19)))*C16} -> 0 | E16: =D16*C16 -> 0
B17: 0 | D17: {=SUMPRODUCT(((Feuil2!$B$8:$B$19=Feuil1!B17)*(Feuil1!$E$5>=Feuil2!$C$5:$P$5)*(Feuil1!$E$5<=Feuil2!$C$6:$P$6)*(Feuil2!$C$8:$P$19)))*C17} -> 0 | E17: =D17*C17 -> 0
B18: 0 | D18: {=SUMPRODUCT(((Feuil2!$B$8:$B$19=Feuil1!B18)*(Feuil1!$E$5>=Feuil2!$C$5:$P$5)*(Feuil1!$E$5<=Feuil2!$C$6:$P$6)*(Feuil2!$C$8:$P$19)))*C18} -> 0 | E18: =D18*C18 -> 0
B19: 0 | D19: {=SUMPRODUCT(((Feuil2!$B$8:$B$19=Feuil1!B19)*(Feuil1!$E$5>=Feuil2!$C$5:$P$5)*(Feuil1!$E$5<=Feuil2!$C$6:$P$6)*(Feuil2!$C$8:$P$19)))*C19} -> 0 | E19: =D19*C19 -> 0
B20: 0 | D20: {=SUMPRODUCT(((Feuil2!$B$8:$B$19=Feuil1!B20)*(Feuil1!$E$5>=Feuil2!$C$5:$P$5)*(Feuil1!$E$5<=Feuil2!$C$6:$P$6)*(Feuil2!$C$8:$P$19)))*C20} -> 0 | E20: =D20*C20 -> 0

Sheet Feuil2
B4: N° Tarif: | C4: 02569 | D4: 02587
B5: DU: | C5: 45992 | D5: 46023
B6: AU: | C6: 46022 | D6: 46387
B7: Désignation | C7: PU | D7: PU | E7: PU | F7: PU | G7: PU | H7: PU | I7: PU | J7: PU | K7: PU | L7: PU | M7: PU | N7: PU | O7: PU | P7: PU
B8: A | C8: 1.5 | D8: 2
B9: B | C9: 2.5 | D9: 3
B10: C | C10: 3.5 | D10: 4
B11: D | C11: 4.5 | D11: 5
