Workbook
Name an: Roulement!$B$1
Name fériés: Paramètres!$B$2:$B$23

Sheet Paramètres
A1: Fériés/Pont | H1: l | I1: m | J1: me | K1: j | L1: v | M1: s | N1: d | O1: l | P1: m | Q1: me | R1: j | S1: v | T1: s | U1: d | V1: l | W1: m | X1: me | Y1: j | Z1: v | AA1: s | AB1: d | AC1: l | AD1: m | AE1: me | AF1: j | AG1: v | AH1: s | AI1: d | AJ1: l | AK1: m | AL1: me | AM1: j | AN1: v | AO1: s | AP1: d
A2: Nouvel an | B2: =DATE(an,1,1) -> 45658 | G2: Personne1 | H2: J | I2: J | J2: J | K2: J | L2: J | O2: J | P2: J | Q2: J | R2: J | S2: J | V2: J | W2: J | X2: J | Y2: J | Z2: J | AC2: J | AD2: J | AE2: J | AF2: J | AG2: J | AJ2: J | AK2: J | AL2: J | AM2: J | AN2: J
A3: Pont | B3: =IF(WEEKDAY(B2,2)=2,B2-1,IF(WEEKDAY(B2,2)=4,B2+1,"")) | G3: Personne2 | H3: A | I3: A | J3: A | K3: A | L3: A | O3: M | P3: M | Q3: M | R3: M | S3: M | V3: A | W3: A | X3: A | Y3: A | Z3: A | AC3: M | AD3: M | AE3: M | AF3: M | AG3: M | AJ3: A | AK3: A | AL3: A | AM3: A | AN3: A
A4: Pâques (Lundi) | B4: =ROUND((DAY(MINUTE(an/38)/2 + 55) & "/4/" & an) / 7,0) * 7-5 -> 45768 | G4: Personne3 | H4: M | I4: M | J4: M | K4: M | L4: M | O4: A | P4: A | Q4: A | R4: A | S4: A | V4: M | W4: M | X4: M | Y4: M | Z4: M | AC4: A | AD4: A | AE4: A | AF4: A | AG4: A | AJ4: M | AK4: M | AL4: M | AM4: M | AN4: M
A5: Pont | B5: =IF(WEEKDAY(B4,2)=2,B4-1,IF(WEEKDAY(B4,2)=4,B4+1,"")) | G5: Personne4
A6: Fête du travail | B6: =DATE(an,5,1) -> 45778 | G6: Personne5 | M6: M | N6: M | T6: M | U6: M | AA6: M | AB6: M | AH6: M | AI6: M | AO6: M | AP6: M
A7: Pont | B7: =IF(WEEKDAY(B6,2)=2,B6-1,IF(WEEKDAY(B6,2)=4,B6+1,"")) -> 45779 | H7: 1 | I7: 2 | J7: 3 | K7: 4 | L7: 5 | M7: 6 | N7: 7 | O7: 8 | P7: 9 | Q7: 10 | R7: 11 | S7: 12 | T7: 13 | U7: 14 | V7: 15 | W7: 16 | X7: 17 | Y7: 18 | Z7: 19 | AA7: 20 | AB7: 21 | AC7: 22 | AD7: 23 | AE7: 24 | AF7: 25 | AG7: 26 | AH7: 27 | AI7: 28 | AJ7: 29 | AK7: 30 | AL7: 31 | AM7: 32 | AN7: 33 | AO7: 34 | AP7: 35
A8: Armistice 1945 | B8: =DATE(an,5,8) -> 45785
A9: Pont | B9: =IF(WEEKDAY(B8,2)=2,B8-1,IF(WEEKDAY(B8,2)=4,B8+1,"")) -> 45786
A10: Ascension | B10: =B4+38 -> 45806
A11: Pont | B11: =IF(WEEKDAY(B10,2)=2,B10-1,IF(WEEKDAY(B10,2)=4,B10+1,"")) -> 45807
A12: Fête nationale | B12: =DATE(an,7,21) -> 45859
A13: Pont | B13: =IF(WEEKDAY(B12,2)=2,B12-1,IF(WEEKDAY(B12,2)=4,B12+1,""))
A14: Pentecôte (Lundi) | B14: =B4+49 -> 45817
A15: Pont | B15: =IF(WEEKDAY(B14,2)=2,B14-1,IF(WEEKDAY(B14,2)=4,B14+1,""))
A16: Assomption | B16: =DATE(an,8,15) -> 45884
A17: Pont | B17: =IF(WEEKDAY(B16,2)=2,B16-1,IF(WEEKDAY(B16,2)=4,B16+1,""))
A18: Toussaint | B18: =DATE(an,11,1) -> 45962
A19: Pont | B19: =IF(WEEKDAY(B18,2)=2,B18-1,IF(WEEKDAY(B18,2)=4,B18+1,""))
A20: Armistice 1918 | B20: =DATE(an,11,11) -> 45972
A21: Pont | B21: =IF(WEEKDAY(B20,2)=2,B20-1,IF(WEEKDAY(B20,2)=4,B20+1,"")) -> 45971
A22: Noël | B22: =DATE(an,12,25) -> 46016
A23: Pont | B23: =IF(WEEKDAY(B22,2)=2,B22-1,IF(WEEKDAY(B22,2)=4,B22+1,"")) -> 46017

Sheet Roulement
B1: 2025 | C1: 1 | D1: 2 | E1: 3 | F1: 4 | G1: 5 | H1: 6 | I1: 7 | J1: 8 | K1: 9 | L1: 10 | M1: 11 | N1: 12 | O1: 13 | P1: 14 | Q1: 15 | R1: 16 | S1: 17 | T1: 18 | U1: 19 | V1: 20 | W1: 21 | X1: 22 | Y1: 23 | Z1: 24 | AA1: 25 | AB1: 26 | AC1: 27 | AD1: 28 | AE1: 29 | AF1: 30 | AG1: 31
B2: =DATE(an,1,1) -> 45658 | C2: =B2 -> 45658 | D2: =C2+1 -> 45659 | E2: =D2+1 -> 45660 | F2: =E2+1 -> 45661 | G2: =F2+1 -> 45662 | H2: =G2+1 -> 45663 | I2: =H2+1 -> 45664 | J2: =I2+1 -> 45665 | K2: =J2+1 -> 45666 | ... AG2: =AF2+1 -> 45688
B3: =Paramètres!$G$2 -> Personne1 | C3: =IF(COUNTIF(fériés,C2)=0,OFFSET(Paramètres!$H$2,MATCH($B3,Paramètres!$G$2:$G$6,0)-1,MOD(C2+5,28)),"") | D3: =IF(COUNTIF(fériés,D$2)=0,OFFSET(Paramètres!$H$2,MATCH($B3,Paramètres!$G$2:$G$6,0)-1,MOD(D$2+5,28)),"") -> J | E3: =IF(COUNTIF(fériés,E$2)=0,OFFSET(Paramètres!$H$2,MATCH($B3,Paramètres!$G$2:$G$6,0)-1,MOD(E$2+5,28)),"") -> J | F3: =IF(COUNTIF(fériés,F$2)=0,OFFSET(Paramètres!$H$2,MATCH($B3,Paramètres!$G$2:$G$6,0)-1,MOD(F$2+5,28)),"") -> 0 | G3: =IF(COUNTIF(fériés,G$2)=0,OFFSET(Paramètres!$H$2,MATCH($B3,Paramètres!$G$2:$G$6,0)-1,MOD(G$2+5,28)),"") -> 0 | H3: =IF(COUNTIF(fériés,H$2)=0,OFFSET(Paramètres!$H$2,MATCH($B3,Paramètres!$G$2:$G$6,0)-1,MOD(H$2+5,28)),"") -> J | I3: =IF(COUNTIF(fériés,I$2)=0,OFFSET(Paramètres!$H$2,MATCH($B3,Paramètres!$G$2:$G$6,0)-1,MOD(I$2+5,28)),"") -> J | J3: =IF(COUNTIF(fériés,J$2)=0,OFFSET(Paramètres!$H$2,MATCH($B3,Paramètres!$G$2:$G$6,0)-1,MOD(J$2+5,28)),"") -> J | K3: =IF(COUNTIF(fériés,K$2)=0,OFFSET(Paramètres!$H$2,MATCH($B3,Paramètres!$G$2:$G$6,0)-1,MOD(K$2+5,28)),"") -> J | ... AG3: =IF(COUNTIF(fériés,AG$2)=0,OFFSET(Paramètres!$H$2,MATCH($B3,Paramètres!$G$2:$G$6,0)-1,MOD(AG$2+5,28)),"") -> J
B4: =Paramètres!$G$3 -> Personne2 | C4: =IF(COUNTIF(fériés,C$2)=0,OFFSET(Paramètres!$H$2,MATCH($B4,Paramètres!$G$2:$G$6,0)-1,MOD(C$2+5,28)),"") | D4: =IF(COUNTIF(fériés,D$2)=0,OFFSET(Paramètres!$H$2,MATCH($B4,Paramètres!$G$2:$G$6,0)-1,MOD(D$2+5,28)),"") -> M | E4: =IF(COUNTIF(fériés,E$2)=0,OFFSET(Paramètres!$H$2,MATCH($B4,Paramètres!$G$2:$G$6,0)-1,MOD(E$2+5,28)),"") -> M | F4: =IF(COUNTIF(fériés,F$2)=0,OFFSET(Paramètres!$H$2,MATCH($B4,Paramètres!$G$2:$G$6,0)-1,MOD(F$2+5,28)),"") -> 0 | G4: =IF(COUNTIF(fériés,G$2)=0,OFFSET(Paramètres!$H$2,MATCH($B4,Paramètres!$G$2:$G$6,0)-1,MOD(G$2+5,28)),"") -> 0 | H4: =IF(COUNTIF(fériés,H$2)=0,OFFSET(Paramètres!$H$2,MATCH($B4,Paramètres!$G$2:$G$6,0)-1,MOD(H$2+5,28)),"") -> A | I4: =IF(COUNTIF(fériés,I$2)=0,OFFSET(Paramètres!$H$2,MATCH($B4,Paramètres!$G$2:$G$6,0)-1,MOD(I$2+5,28)),"") -> A | J4: =IF(COUNTIF(fériés,J$2)=0,OFFSET(Paramètres!$H$2,MATCH($B4,Paramètres!$G$2:$G$6,0)-1,MOD(J$2+5,28)),"") -> A | ... AG4: =IF(COUNTIF(fériés,AG$2)=0,OFFSET(Paramètres!$H$2,MATCH($B4,Paramètres!$G$2:$G$6,0)-1,MOD(AG$2+5,28)),"") -> M
B5: =Paramètres!$G$4 -> Personne3 | C5: =IF(COUNTIF(fériés,C$2)=0,OFFSET(Paramètres!$H$2,MATCH($B5,Paramètres!$G$2:$G$6,0)-1,MOD(C$2+5,28)),"") | D5: =IF(COUNTIF(fériés,D$2)=0,OFFSET(Paramètres!$H$2,MATCH($B5,Paramètres!$G$2:$G$6,0)-1,MOD(D$2+5,28)),"") -> A | E5: =IF(COUNTIF(fériés,E$2)=0,OFFSET(Paramètres!$H$2,MATCH($B5,Paramètres!$G$2:$G$6,0)-1,MOD(E$2+5,28)),"") -> A | F5: =IF(COUNTIF(fériés,F$2)=0,OFFSET(Paramètres!$H$2,MATCH($B5,Paramètres!$G$2:$G$6,0)-1,MOD(F$2+5,28)),"") -> 0 | G5: =IF(COUNTIF(fériés,G$2)=0,OFFSET(Paramètres!$H$2,MATCH($B5,Paramètres!$G$2:$G$6,0)-1,MOD(G$2+5,28)),"") -> 0 | H5: =IF(COUNTIF(fériés,H$2)=0,OFFSET(Paramètres!$H$2,MATCH($B5,Paramètres!$G$2:$G$6,0)-1,MOD(H$2+5,28)),"") -> M | I5: =IF(COUNTIF(fériés,I$2)=0,OFFSET(Paramètres!$H$2,MATCH($B5,Paramètres!$G$2:$G$6,0)-1,MOD(I$2+5,28)),"") -> M | J5: =IF(COUNTIF(fériés,J$2)=0,OFFSET(Paramètres!$H$2,MATCH($B5,Paramètres!$G$2:$G$6,0)-1,MOD(J$2+5,28)),"") -> M | ... AG5: =IF(COUNTIF(fériés,AG$2)=0,OFFSET(Paramètres!$H$2,MATCH($B5,Paramètres!$G$2:$G$6,0)-1,MOD(AG$2+5,28)),"") -> A
B6: =Paramètres!$G$5 -> Personne4 | C6: =IF(COUNTIF(fériés,C$2)=0,OFFSET(Paramètres!$H$2,MATCH($B6,Paramètres!$G$2:$G$6,0)-1,MOD(C$2+5,28)),"") | D6: =IF(COUNTIF(fériés,D$2)=0,OFFSET(Paramètres!$H$2,MATCH($B6,Paramètres!$G$2:$G$6,0)-1,MOD(D$2+5,28)),"") -> 0 | E6: =IF(COUNTIF(fériés,E$2)=0,OFFSET(Paramètres!$H$2,MATCH($B6,Paramètres!$G$2:$G$6,0)-1,MOD(E$2+5,28)),"") -> 0 | F6: =IF(COUNTIF(fériés,F$2)=0,OFFSET(Paramètres!$H$2,MATCH($B6,Paramètres!$G$2:$G$6,0)-1,MOD(F$2+5,28)),"") -> 0 | G6: =IF(COUNTIF(fériés,G$2)=0,OFFSET(Paramètres!$H$2,MATCH($B6,Paramètres!$G$2:$G$6,0)-1,MOD(G$2+5,28)),"") -> 0 | H6: =IF(COUNTIF(fériés,H$2)=0,OFFSET(Paramètres!$H$2,MATCH($B6,Paramètres!$G$2:$G$6,0)-1,MOD(H$2+5,28)),"") -> 0 | I6: =IF(COUNTIF(fériés,I$2)=0,OFFSET(Paramètres!$H$2,MATCH($B6,Paramètres!$G$2:$G$6,0)-1,MOD(I$2+5,28)),"") -> 0 | J6: =IF(COUNTIF(fériés,J$2)=0,OFFSET(Paramètres!$H$2,MATCH($B6,Paramètres!$G$2:$G$6,0)-1,MOD(J$2+5,28)),"") -> 0 | ... AG6: =IF(COUNTIF(fériés,AG$2)=0,OFFSET(Paramètres!$H$2,MATCH($B6,Paramètres!$G$2:$G$6,0)-1,MOD(AG$2+5,28)),"") -> 0
B7: =Paramètres!$G$6 -> Personne5 | C7: =IF(COUNTIF(fériés,C$2)=1,"M",OFFSET(Paramètres!$H$2,MATCH($B7,Paramètres!$G$2:$G$6,0)-1,MOD(C$2+5,28))) -> M | D7: =IF(COUNTIF(fériés,D$2)=1,"M",OFFSET(Paramètres!$H$2,MATCH($B7,Paramètres!$G$2:$G$6,0)-1,MOD(D$2+5,28))) -> 0 | E7: =IF(COUNTIF(fériés,E$2)=1,"M",OFFSET(Paramètres!$H$2,MATCH($B7,Paramètres!$G$2:$G$6,0)-1,MOD(E$2+5,28))) -> 0 | F7: =IF(COUNTIF(fériés,F$2)=1,"M",OFFSET(Paramètres!$H$2,MATCH($B7,Paramètres!$G$2:$G$6,0)-1,MOD(F$2+5,28))) -> M | G7: =IF(COUNTIF(fériés,G$2)=1,"M",OFFSET(Paramètres!$H$2,MATCH($B7,Paramètres!$G$2:$G$6,0)-1,MOD(G$2+5,28))) -> M | H7: =IF(COUNTIF(fériés,H$2)=1,"M",OFFSET(Paramètres!$H$2,MATCH($B7,Paramètres!$G$2:$G$6,0)-1,MOD(H$2+5,28))) -> 0 | I7: =IF(COUNTIF(fériés,I$2)=1,"M",OFFSET(Paramètres!$H$2,MATCH($B7,Paramètres!$G$2:$G$6,0)-1,MOD(I$2+5,28))) -> 0 | J7: =IF(COUNTIF(fériés,J$2)=1,"M",OFFSET(Paramètres!$H$2,MATCH($B7,Paramètres!$G$2:$G$6,0)-1,MOD(J$2+5,28))) -> 0 | ... AG7: =IF(COUNTIF(fériés,AG$2)=1,"M",OFFSET(Paramètres!$H$2,MATCH($B7,Paramètres!$G$2:$G$6,0)-1,MOD(AG$2+5,28))) -> 0
B9: =DATE(an,2,1) -> 45689 | C9: =B9 -> 45689 | D9: =C9+1 -> 45690 | E9: =D9+1 -> 45691 | F9: =E9+1 -> 45692 | G9: =F9+1 -> 45693 | H9: =G9+1 -> 45694 | I9: =H9+1 -> 45695 | J9: =I9+1 -> 45696 | K9: =J9+1 -> 45697 | ... AD9: =AC9+1 -> 45716
B10: =Paramètres!$G$2 -> Personne1 | C10: =IF(COUNTIF(fériés,C$9)=0,OFFSET(Paramètres!$H$2,MATCH($B3,Paramètres!$G$2:$G$6,0)-1,MOD(C$9+5,28)),"") -> 0 | D10: =IF(COUNTIF(fériés,D$9)=0,OFFSET(Paramètres!$H$2,MATCH($B3,Paramètres!$G$2:$G$6,0)-1,MOD(D$9+5,28)),"") -> 0 | E10: =IF(COUNTIF(fériés,E$9)=0,OFFSET(Paramètres!$H$2,MATCH($B3,Paramètres!$G$2:$G$6,0)-1,MOD(E$9+5,28)),"") -> J | F10: =IF(COUNTIF(fériés,F$9)=0,OFFSET(Paramètres!$H$2,MATCH($B3,Paramètres!$G$2:$G$6,0)-1,MOD(F$9+5,28)),"") -> J | G10: =IF(COUNTIF(fériés,G$9)=0,OFFSET(Paramètres!$H$2,MATCH($B3,Paramètres!$G$2:$G$6,0)-1,MOD(G$9+5,28)),"") -> J | H10: =IF(COUNTIF(fériés,H$9)=0,OFFSET(Paramètres!$H$2,MATCH($B3,Paramètres!$G$2:$G$6,0)-1,MOD(H$9+5,28)),"") -> J | I10: =IF(COUNTIF(fériés,I$9)=0,OFFSET(Paramètres!$H$2,MATCH($B3,Paramètres!$G$2:$G$6,0)-1,MOD(I$9+5,28)),"") -> J | J10: =IF(COUNTIF(fériés,J$9)=0,OFFSET(Paramètres!$H$2,MATCH($B3,Paramètres!$G$2:$G$6,0)-1,MOD(J$9+5,28)),"") -> 0 | ... AD10: =IF(COUNTIF(fériés,AD$9)=0,OFFSET(Paramètres!$H$2,MATCH($B3,Paramètres!$G$2:$G$6,0)-1,MOD(AD$9+5,28)),"") -> J
B11: =Paramètres!$G$3 -> Personne2 | C11: =IF(COUNTIF(fériés,C$9)=0,OFFSET(Paramètres!$H$2,MATCH($B4,Paramètres!$G$2:$G$6,0)-1,MOD(C$9+5,28)),"") -> 0 | D11: =IF(COUNTIF(fériés,D$9)=0,OFFSET(Paramètres!$H$2,MATCH($B4,Paramètres!$G$2:$G$6,0)-1,MOD(D$9+5,28)),"") -> 0 | E11: =IF(COUNTIF(fériés,E$9)=0,OFFSET(Paramètres!$H$2,MATCH($B4,Paramètres!$G$2:$G$6,0)-1,MOD(E$9+5,28)),"") -> A | F11: =IF(COUNTIF(fériés,F$9)=0,OFFSET(Paramètres!$H$2,MATCH($B4,Paramètres!$G$2:$G$6,0)-1,MOD(F$9+5,28)),"") -> A | G11: =IF(COUNTIF(fériés,G$9)=0,OFFSET(Paramètres!$H$2,MATCH($B4,Paramètres!$G$2:$G$6,0)-1,MOD(G$9+5,28)),"") -> A | H11: =IF(COUNTIF(fériés,H$9)=0,OFFSET(Paramètres!$H$2,MATCH($B4,Paramètres!$G$2:$G$6,0)-1,MOD(H$9+5,28)),"") -> A | I11: =IF(COUNTIF(fériés,I$9)=0,OFFSET(Paramètres!$H$2,MATCH($B4,Paramètres!$G$2:$G$6,0)-1,MOD(I$9+5,28)),"") -> A | J11: =IF(COUNTIF(fériés,J$9)=0,OFFSET(Paramètres!$H$2,MATCH($B4,Paramètres!$G$2:$G$6,0)-1,MOD(J$9+5,28)),"") -> 0 | ... AD11: =IF(COUNTIF(fériés,AD$9)=0,OFFSET(Paramètres!$H$2,MATCH($B4,Paramètres!$G$2:$G$6,0)-1,MOD(AD$9+5,28)),"") -> M
B12: =Paramètres!$G$4 -> Personne3 | C12: =IF(COUNTIF(fériés,C$9)=0,OFFSET(Paramètres!$H$2,MATCH($B5,Paramètres!$G$2:$G$6,0)-1,MOD(C$9+5,28)),"") -> 0 | D12: =IF(COUNTIF(fériés,D$9)=0,OFFSET(Paramètres!$H$2,MATCH($B5,Paramètres!$G$2:$G$6,0)-1,MOD(D$9+5,28)),"") -> 0 | E12: =IF(COUNTIF(fériés,E$9)=0,OFFSET(Paramètres!$H$2,MATCH($B5,Paramètres!$G$2:$G$6,0)-1,MOD(E$9+5,28)),"") -> M | F12: =IF(COUNTIF(fériés,F$9)=0,OFFSET(Paramètres!$H$2,MATCH($B5,Paramètres!$G$2:$G$6,0)-1,MOD(F$9+5,28)),"") -> M | G12: =IF(COUNTIF(fériés,G$9)=0,OFFSET(Paramètres!$H$2,MATCH($B5,Paramètres!$G$2:$G$6,0)-1,MOD(G$9+5,28)),"") -> M | H12: =IF(COUNTIF(fériés,H$9)=0,OFFSET(Paramètres!$H$2,MATCH($B5,Paramètres!$G$2:$G$6,0)-1,MOD(H$9+5,28)),"") -> M | I12: =IF(COUNTIF(fériés,I$9)=0,OFFSET(Paramètres!$H$2,MATCH($B5,Paramètres!$G$2:$G$6,0)-1,MOD(I$9+5,28)),"") -> M | J12: =IF(COUNTIF(fériés,J$9)=0,OFFSET(Paramètres!$H$2,MATCH($B5,Paramètres!$G$2:$G$6,0)-1,MOD(J$9+5,28)),"") -> 0 | ... AD12: =IF(COUNTIF(fériés,AD$9)=0,OFFSET(Paramètres!$H$2,MATCH($B5,Paramètres!$G$2:$G$6,0)-1,MOD(AD$9+5,28)),"") -> A
B13: =Paramètres!$G$5 -> Personne4 | C13: =IF(COUNTIF(fériés,C$9)=0,OFFSET(Paramètres!$H$2,MATCH($B6,Paramètres!$G$2:$G$6,0)-1,MOD(C$9+5,28)),"") -> 0 | D13: =IF(COUNTIF(fériés,D$9)=0,OFFSET(Paramètres!$H$2,MATCH($B6,Paramètres!$G$2:$G$6,0)-1,MOD(D$9+5,28)),"") -> 0 | E13: =IF(COUNTIF(fériés,E$9)=0,OFFSET(Paramètres!$H$2,MATCH($B6,Paramètres!$G$2:$G$6,0)-1,MOD(E$9+5,28)),"") -> 0 | F13: =IF(COUNTIF(fériés,F$9)=0,OFFSET(Paramètres!$H$2,MATCH($B6,Paramètres!$G$2:$G$6,0)-1,MOD(F$9+5,28)),"") -> 0 | G13: =IF(COUNTIF(fériés,G$9)=0,OFFSET(Paramètres!$H$2,MATCH($B6,Paramètres!$G$2:$G$6,0)-1,MOD(G$9+5,28)),"") -> 0 | H13: =IF(COUNTIF(fériés,H$9)=0,OFFSET(Paramètres!$H$2,MATCH($B6,Paramètres!$G$2:$G$6,0)-1,MOD(H$9+5,28)),"") -> 0 | I13: =IF(COUNTIF(fériés,I$9)=0,OFFSET(Paramètres!$H$2,MATCH($B6,Paramètres!$G$2:$G$6,0)-1,MOD(I$9+5,28)),"") -> 0 | J13: =IF(COUNTIF(fériés,J$9)=0,OFFSET(Paramètres!$H$2,MATCH($B6,Paramètres!$G$2:$G$6,0)-1,MOD(J$9+5,28)),"") -> 0 | ... AD13: =IF(COUNTIF(fériés,AD$9)=0,OFFSET(Paramètres!$H$2,MATCH($B6,Paramètres!$G$2:$G$6,0)-1,MOD(AD$9+5,28)),"") -> 0
B14: =Paramètres!$G$6 -> Personne5 | C14: =IF(COUNTIF(fériés,C$9)=1,"M",OFFSET(Paramètres!$H$2,MATCH($B14,Paramètres!$G$2:$G$6,0)-1,MOD(C$9+5,28))) -> M | D14: =IF(COUNTIF(fériés,D$9)=1,"M",OFFSET(Paramètres!$H$2,MATCH($B14,Paramètres!$G$2:$G$6,0)-1,MOD(D$9+5,28))) -> M | E14: =IF(COUNTIF(fériés,E$9)=1,"M",OFFSET(Paramètres!$H$2,MATCH($B14,Paramètres!$G$2:$G$6,0)-1,MOD(E$9+5,28))) -> 0 | F14: =IF(COUNTIF(fériés,F$9)=1,"M",OFFSET(Paramètres!$H$2,MATCH($B14,Paramètres!$G$2:$G$6,0)-1,MOD(F$9+5,28))) -> 0 | G14: =IF(COUNTIF(fériés,G$9)=1,"M",OFFSET(Paramètres!$H$2,MATCH($B14,Paramètres!$G$2:$G$6,0)-1,MOD(G$9+5,28))) -> 0 | H14: =IF(COUNTIF(fériés,H$9)=1,"M",OFFSET(Paramètres!$H$2,MATCH($B14,Paramètres!$G$2:$G$6,0)-1,MOD(H$9+5,28))) -> 0 | I14: =IF(COUNTIF(fériés,I$9)=1,"M",OFFSET(Paramètres!$H$2,MATCH($B14,Paramètres!$G$2:$G$6,0)-1,MOD(I$9+5,28))) -> 0 | J14: =IF(COUNTIF(fériés,J$9)=1,"M",OFFSET(Paramètres!$H$2,MATCH($B14,Paramètres!$G$2:$G$6,0)-1,MOD(J$9+5,28))) -> M | ... AD14: =IF(COUNTIF(fériés,AD$9)=1,"M",OFFSET(Paramètres!$H$2,MATCH($B14,Paramètres!$G$2:$G$6,0)-1,MOD(AD$9+5,28))) -> 0
B16: =DATE(an,3,1) -> 45717 | C16: =B16 -> 45717 | D16: =C16+1 -> 45718 | E16: =D16+1 -> 45719 | F16: =E16+1 -> 45720 | G16: =F16+1 -> 45721 | H16: =G16+1 -> 45722 | I16: =H16+1 -> 45723 | J16: =I16+1 -> 45724 | K16: =J16+1 -> 45725 | ... AG16: =AF16+1 -> 45747
B17: =Paramètres!$G$2 -> Personne1 | C17: =IF(COUNTIF(fériés,C$16)=0,OFFSET(Paramètres!$H$2,MATCH($B17,Paramètres!$G$2:$G$6,0)-1,MOD(C$16+5,28)),"") -> 0 | D17: =IF(COUNTIF(fériés,D$16)=0,OFFSET(Paramètres!$H$2,MATCH($B17,Paramètres!$G$2:$G$6,0)-1,MOD(D$16+5,28)),"") -> 0 | E17: =IF(COUNTIF(fériés,E$16)=0,OFFSET(Paramètres!$H$2,MATCH($B17,Paramètres!$G$2:$G$6,0)-1,MOD(E$16+5,28)),"") -> J | F17: =IF(COUNTIF(fériés,F$16)=0,OFFSET(Paramètres!$H$2,MATCH($B17,Paramètres!$G$2:$G$6,0)-1,MOD(F$16+5,28)),"") -> J | G17: =IF(COUNTIF(fériés,G$16)=0,OFFSET(Paramètres!$H$2,MATCH($B17,Paramètres!$G$2:$G$6,0)-1,MOD(G$16+5,28)),"") -> J | H17: =IF(COUNTIF(fériés,H$16)=0,OFFSET(Paramètres!$H$2,MATCH($B17,Paramètres!$G$2:$G$6,0)-1,MOD(H$16+5,28)),"") -> J | I17: =IF(COUNTIF(fériés,I$16)=0,OFFSET(Paramètres!$H$2,MATCH($B17,Paramètres!$G$2:$G$6,0)-1,MOD(I$16+5,28)),"") -> J | J17: =IF(COUNTIF(fériés,J$16)=0,OFFSET(Paramètres!$H$2,MATCH($B17,Paramètres!$G$2:$G$6,0)-1,MOD(J$16+5,28)),"") -> 0 | ... AG17: =IF(COUNTIF(fériés,AG$16)=0,OFFSET(Paramètres!$H$2,MATCH($B17,Paramètres!$G$2:$G$6,0)-1,MOD(AG$16+5,28)),"") -> J
B18: =Paramètres!$G$3 -> Personne2 | C18: =IF(COUNTIF(fériés,C$16)=0,OFFSET(Paramètres!$H$2,MATCH($B18,Paramètres!$G$2:$G$6,0)-1,MOD(C$16+5,28)),"") -> 0 | D18: =IF(COUNTIF(fériés,D$16)=0,OFFSET(Paramètres!$H$2,MATCH($B18,Paramètres!$G$2:$G$6,0)-1,MOD(D$16+5,28)),"") -> 0 | E18: =IF(COUNTIF(fériés,E$16)=0,OFFSET(Paramètres!$H$2,MATCH($B18,Paramètres!$G$2:$G$6,0)-1,MOD(E$16+5,28)),"") -> A | F18: =IF(COUNTIF(fériés,F$16)=0,OFFSET(Paramètres!$H$2,MATCH($B18,Paramètres!$G$2:$G$6,0)-1,MOD(F$16+5,28)),"") -> A | G18: =IF(COUNTIF(fériés,G$16)=0,OFFSET(Paramètres!$H$2,MATCH($B18,Paramètres!$G$2:$G$6,0)-1,MOD(G$16+5,28)),"") -> A | H18: =IF(COUNTIF(fériés,H$16)=0,OFFSET(Paramètres!$H$2,MATCH($B18,Paramètres!$G$2:$G$6,0)-1,MOD(H$16+5,28)),"") -> A | I18: =IF(COUNTIF(fériés,I$16)=0,OFFSET(Paramètres!$H$2,MATCH($B18,Paramètres!$G$2:$G$6,0)-1,MOD(I$16+5,28)),"") -> A | J18: =IF(COUNTIF(fériés,J$16)=0,OFFSET(Paramètres!$H$2,MATCH($B18,Paramètres!$G$2:$G$6,0)-1,MOD(J$16+5,28)),"") -> 0 | ... AG18: =IF(COUNTIF(fériés,AG$16)=0,OFFSET(Paramètres!$H$2,MATCH($B18,Paramètres!$G$2:$G$6,0)-1,MOD(AG$16+5,28)),"") -> A
B19: =Paramètres!$G$4 -> Personne3 | C19: =IF(COUNTIF(fériés,C$16)=0,OFFSET(Paramètres!$H$2,MATCH($B19,Paramètres!$G$2:$G$6,0)-1,MOD(C$16+5,28)),"") -> 0 | D19: =IF(COUNTIF(fériés,D$16)=0,OFFSET(Paramètres!$H$2,MATCH($B19,Paramètres!$G$2:$G$6,0)-1,MOD(D$16+5,28)),"") -> 0 | E19: =IF(COUNTIF(fériés,E$16)=0,OFFSET(Paramètres!$H$2,MATCH($B19,Paramètres!$G$2:$G$6,0)-1,MOD(E$16+5,28)),"") -> M | F19: =IF(COUNTIF(fériés,F$16)=0,OFFSET(Paramètres!$H$2,MATCH($B19,Paramètres!$G$2:$G$6,0)-1,MOD(F$16+5,28)),"") -> M | G19: =IF(COUNTIF(fériés,G$16)=0,OFFSET(Paramètres!$H$2,MATCH($B19,Paramètres!$G$2:$G$6,0)-1,MOD(G$16+5,28)),"") -> M | H19: =IF(COUNTIF(fériés,H$16)=0,OFFSET(Paramètres!$H$2,MATCH($B19,Paramètres!$G$2:$G$6,0)-1,MOD(H$16+5,28)),"") -> M | I19: =IF(COUNTIF(fériés,I$16)=0,OFFSET(Paramètres!$H$2,MATCH($B19,Paramètres!$G$2:$G$6,0)-1,MOD(I$16+5,28)),"") -> M | J19: =IF(COUNTIF(fériés,J$16)=0,OFFSET(Paramètres!$H$2,MATCH($B19,Paramètres!$G$2:$G$6,0)-1,MOD(J$16+5,28)),"") -> 0 | ... AG19: =IF(COUNTIF(fériés,AG$16)=0,OFFSET(Paramètres!$H$2,MATCH($B19,Paramètres!$G$2:$G$6,0)-1,MOD(AG$16+5,28)),"") -> M
B20: =Paramètres!$G$5 -> Personne4 | C20: =IF(COUNTIF(fériés,C$16)=0,OFFSET(Paramètres!$H$2,MATCH($B20,Paramètres!$G$2:$G$6,0)-1,MOD(C$16+5,28)),"") -> 0 | D20: =IF(COUNTIF(fériés,D$16)=0,OFFSET(Paramètres!$H$2,MATCH($B20,Paramètres!$G$2:$G$6,0)-1,MOD(D$16+5,28)),"") -> 0 | E20: =IF(COUNTIF(fériés,E$16)=0,OFFSET(Paramètres!$H$2,MATCH($B20,Paramètres!$G$2:$G$6,0)-1,MOD(E$16+5,28)),"") -> 0 | F20: =IF(COUNTIF(fériés,F$16)=0,OFFSET(Paramètres!$H$2,MATCH($B20,Paramètres!$G$2:$G$6,0)-1,MOD(F$16+5,28)),"") -> 0 | G20: =IF(COUNTIF(fériés,G$16)=0,OFFSET(Paramètres!$H$2,MATCH($B20,Paramètres!$G$2:$G$6,0)-1,MOD(G$16+5,28)),"") -> 0 | H20: =IF(COUNTIF(fériés,H$16)=0,OFFSET(Paramètres!$H$2,MATCH($B20,Paramètres!$G$2:$G$6,0)-1,MOD(H$16+5,28)),"") -> 0 | I20: =IF(COUNTIF(fériés,I$16)=0,OFFSET(Paramètres!$H$2,MATCH($B20,Paramètres!$G$2:$G$6,0)-1,MOD(I$16+5,28)),"") -> 0 | J20: =IF(COUNTIF(fériés,J$16)=0,OFFSET(Paramètres!$H$2,MATCH($B20,Paramètres!$G$2:$G$6,0)-1,MOD(J$16+5,28)),"") -> 0 | ... AG20: =IF(COUNTIF(fériés,AG$16)=0,OFFSET(Paramètres!$H$2,MATCH($B20,Paramètres!$G$2:$G$6,0)-1,MOD(AG$16+5,28)),"") -> 0
B21: =Paramètres!$G$6 -> Personne5 | C21: =IF(COUNTIF(fériés,C$16)=1,"M",OFFSET(Paramètres!$H$2,MATCH($B21,Paramètres!$G$2:$G$6,0)-1,MOD(C$16+5,28))) -> M | D21: =IF(COUNTIF(fériés,D$16)=1,"M",OFFSET(Paramètres!$H$2,MATCH($B21,Paramètres!$G$2:$G$6,0)-1,MOD(D$16+5,28))) -> M | E21: =IF(COUNTIF(fériés,E$16)=1,"M",OFFSET(Paramètres!$H$2,MATCH($B21,Paramètres!$G$2:$G$6,0)-1,MOD(E$16+5,28))) -> 0 | F21: =IF(COUNTIF(fériés,F$16)=1,"M",OFFSET(Paramètres!$H$2,MATCH($B21,Paramètres!$G$2:$G$6,0)-1,MOD(F$16+5,28))) -> 0 | G21: =IF(COUNTIF(fériés,G$16)=1,"M",OFFSET(Paramètres!$H$2,MATCH($B21,Paramètres!$G$2:$G$6,0)-1,MOD(G$16+5,28))) -> 0 | H21: =IF(COUNTIF(fériés,H$16)=1,"M",OFFSET(Paramètres!$H$2,MATCH($B21,Paramètres!$G$2:$G$6,0)-1,MOD(H$16+5,28))) -> 0 | I21: =IF(COUNTIF(fériés,I$16)=1,"M",OFFSET(Paramètres!$H$2,MATCH($B21,Paramètres!$G$2:$G$6,0)-1,MOD(I$16+5,28))) -> 0 | J21: =IF(COUNTIF(fériés,J$16)=1,"M",OFFSET(Paramètres!$H$2,MATCH($B21,Paramètres!$G$2:$G$6,0)-1,MOD(J$16+5,28))) -> M | ... AG21: =IF(COUNTIF(fériés,AG$16)=1,"M",OFFSET(Paramètres!$H$2,MATCH($B21,Paramètres!$G$2:$G$6,0)-1,MOD(AG$16+5,28))) -> 0
B23: =DATE(an,4,1) -> 45748 | C23: =B23 -> 45748 | D23: =C23+1 -> 45749 | E23: =D23+1 -> 45750 | F23: =E23+1 -> 45751 | G23: =F23+1 -> 45752 | H23: =G23+1 -> 45753 | I23: =H23+1 -> 45754 | J23: =I23+1 -> 45755 | K23: =J23+1 -> 45756 | ... AF23: =AE23+1 -> 45777
B24: =Paramètres!$G$2 -> Personne1 | C24: =IF(COUNTIF(fériés,C$23)=0,OFFSET(Paramètres!$H$2,MATCH($B24,Paramètres!$G$2:$G$6,0)-1,MOD(C$23+5,28)),"") -> J | D24: =IF(COUNTIF(fériés,D$23)=0,OFFSET(Paramètres!$H$2,MATCH($B24,Paramètres!$G$2:$G$6,0)-1,MOD(D$23+5,28)),"") -> J | E24: =IF(COUNTIF(fériés,E$23)=0,OFFSET(Paramètres!$H$2,MATCH($B24,Paramètres!$G$2:$G$6,0)-1,MOD(E$23+5,28)),"") -> J | F24: =IF(COUNTIF(fériés,F$23)=0,OFFSET(Paramètres!$H$2,MATCH($B24,Paramètres!$G$2:$G$6,0)-1,MOD(F$23+5,28)),"") -> J | G24: =IF(COUNTIF(fériés,G$23)=0,OFFSET(Paramètres!$H$2,MATCH($B24,Paramètres!$G$2:$G$6,0)-1,MOD(G$23+5,28)),"") -> 0 | H24: =IF(COUNTIF(fériés,H$23)=0,OFFSET(Paramètres!$H$2,MATCH($B24,Paramètres!$G$2:$G$6,0)-1,MOD(H$23+5,28)),"") -> 0 | I24: =IF(COUNTIF(fériés,I$23)=0,OFFSET(Paramètres!$H$2,MATCH($B24,Paramètres!$G$2:$G$6,0)-1,MOD(I$23+5,28)),"") -> J | J24: =IF(COUNTIF(fériés,J$23)=0,OFFSET(Paramètres!$H$2,MATCH($B24,Paramètres!$G$2:$G$6,0)-1,MOD(J$23+5,28)),"") -> J | ... AF24: =IF(COUNTIF(fériés,AF$23)=0,OFFSET(Paramètres!$H$2,MATCH($B24,Paramètres!$G$2:$G$6,0)-1,MOD(AF$23+5,28)),"") -> J
B25: =Paramètres!$G$3 -> Personne2 | C25: =IF(COUNTIF(fériés,C$23)=0,OFFSET(Paramètres!$H$2,MATCH($B25,Paramètres!$G$2:$G$6,0)-1,MOD(C$23+5,28)),"") -> A | D25: =IF(COUNTIF(fériés,D$23)=0,OFFSET(Paramètres!$H$2,MATCH($B25,Paramètres!$G$2:$G$6,0)-1,MOD(D$23+5,28)),"") -> A | E25: =IF(COUNTIF(fériés,E$23)=0,OFFSET(Paramètres!$H$2,MATCH($B25,Paramètres!$G$2:$G$6,0)-1,MOD(E$23+5,28)),"") -> A | F25: =IF(COUNTIF(fériés,F$23)=0,OFFSET(Paramètres!$H$2,MATCH($B25,Paramètres!$G$2:$G$6,0)-1,MOD(F$23+5,28)),"") -> A | G25: =IF(COUNTIF(fériés,G$23)=0,OFFSET(Paramètres!$H$2,MATCH($B25,Paramètres!$G$2:$G$6,0)-1,MOD(G$23+5,28)),"") -> 0 | H25: =IF(COUNTIF(fériés,H$23)=0,OFFSET(Paramètres!$H$2,MATCH($B25,Paramètres!$G$2:$G$6,0)-1,MOD(H$23+5,28)),"") -> 0 | I25: =IF(COUNTIF(fériés,I$23)=0,OFFSET(Paramètres!$H$2,MATCH($B25,Paramètres!$G$2:$G$6,0)-1,MOD(I$23+5,28)),"") -> M | J25: =IF(COUNTIF(fériés,J$23)=0,OFFSET(Paramètres!$H$2,MATCH($B25,Paramètres!$G$2:$G$6,0)-1,MOD(J$23+5,28)),"") -> M | ... AF25: =IF(COUNTIF(fériés,AF$23)=0,OFFSET(Paramètres!$H$2,MATCH($B25,Paramètres!$G$2:$G$6,0)-1,MOD(AF$23+5,28)),"") -> A
B26: =Paramètres!$G$4 -> Personne3 | C26: =IF(COUNTIF(fériés,C$23)=0,OFFSET(Paramètres!$H$2,MATCH($B26,Paramètres!$G$2:$G$6,0)-1,MOD(C$23+5,28)),"") -> M | D26: =IF(COUNTIF(fériés,D$23)=0,OFFSET(Paramètres!$H$2,MATCH($B26,Paramètres!$G$2:$G$6,0)-1,MOD(D$23+5,28)),"") -> M | E26: =IF(COUNTIF(fériés,E$23)=0,OFFSET(Paramètres!$H$2,MATCH($B26,Paramètres!$G$2:$G$6,0)-1,MOD(E$23+5,28)),"") -> M | F26: =IF(COUNTIF(fériés,F$23)=0,OFFSET(Paramètres!$H$2,MATCH($B26,Paramètres!$G$2:$G$6,0)-1,MOD(F$23+5,28)),"") -> M | G26: =IF(COUNTIF(fériés,G$23)=0,OFFSET(Paramètres!$H$2,MATCH($B26,Paramètres!$G$2:$G$6,0)-1,MOD(G$23+5,28)),"") -> 0 | H26: =IF(COUNTIF(fériés,H$23)=0,OFFSET(Paramètres!$H$2,MATCH($B26,Paramètres!$G$2:$G$6,0)-1,MOD(H$23+5,28)),"") -> 0 | I26: =IF(COUNTIF(fériés,I$23)=0,OFFSET(Paramètres!$H$2,MATCH($B26,Paramètres!$G$2:$G$6,0)-1,MOD(I$23+5,28)),"") -> A | J26: =IF(COUNTIF(fériés,J$23)=0,OFFSET(Paramètres!$H$2,MATCH($B26,Paramètres!$G$2:$G$6,0)-1,MOD(J$23+5,28)),"") -> A | ... AF26: =IF(COUNTIF(fériés,AF$23)=0,OFFSET(Paramètres!$H$2,MATCH($B26,Paramètres!$G$2:$G$6,0)-1,MOD(AF$23+5,28)),"") -> M
B27: =Paramètres!$G$5 -> Personne4 | C27: =IF(COUNTIF(fériés,C$23)=0,OFFSET(Paramètres!$H$2,MATCH($B27,Paramètres!$G$2:$G$6,0)-1,MOD(C$23+5,28)),"") -> 0 | D27: =IF(COUNTIF(fériés,D$23)=0,OFFSET(Paramètres!$H$2,MATCH($B27,Paramètres!$G$2:$G$6,0)-1,MOD(D$23+5,28)),"") -> 0 | E27: =IF(COUNTIF(fériés,E$23)=0,OFFSET(Paramètres!$H$2,MATCH($B27,Paramètres!$G$2:$G$6,0)-1,MOD(E$23+5,28)),"") -> 0 | F27: =IF(COUNTIF(fériés,F$23)=0,OFFSET(Paramètres!$H$2,MATCH($B27,Paramètres!$G$2:$G$6,0)-1,MOD(F$23+5,28)),"") -> 0 | G27: =IF(COUNTIF(fériés,G$23)=0,OFFSET(Paramètres!$H$2,MATCH($B27,Paramètres!$G$2:$G$6,0)-1,MOD(G$23+5,28)),"") -> 0 | H27: =IF(COUNTIF(fériés,H$23)=0,OFFSET(Paramètres!$H$2,MATCH($B27,Paramètres!$G$2:$G$6,0)-1,MOD(H$23+5,28)),"") -> 0 | I27: =IF(COUNTIF(fériés,I$23)=0,OFFSET(Paramètres!$H$2,MATCH($B27,Paramètres!$G$2:$G$6,0)-1,MOD(I$23+5,28)),"") -> 0 | J27: =IF(COUNTIF(fériés,J$23)=0,OFFSET(Paramètres!$H$2,MATCH($B27,Paramètres!$G$2:$G$6,0)-1,MOD(J$23+5,28)),"") -> 0 | ... AF27: =IF(COUNTIF(fériés,AF$23)=0,OFFSET(Paramètres!$H$2,MATCH($B27,Paramètres!$G$2:$G$6,0)-1,MOD(AF$23+5,28)),"") -> 0
B28: =Paramètres!$G$6 -> Personne5 | C28: =IF(COUNTIF(fériés,C$23)=0,OFFSET(Paramètres!$H$2,MATCH($B28,Paramètres!$G$2:$G$6,0)-1,MOD(C$23+5,28)),"") -> 0 | D28: =IF(COUNTIF(fériés,D$23)=0,OFFSET(Paramètres!$H$2,MATCH($B28,Paramètres!$G$2:$G$6,0)-1,MOD(D$23+5,28)),"") -> 0 | E28: =IF(COUNTIF(fériés,E$23)=0,OFFSET(Paramètres!$H$2,MATCH($B28,Paramètres!$G$2:$G$6,0)-1,MOD(E$23+5,28)),"") -> 0 | F28: =IF(COUNTIF(fériés,F$23)=0,OFFSET(Paramètres!$H$2,MATCH($B28,Paramètres!$G$2:$G$6,0)-1,MOD(F$23+5,28)),"") -> 0 | G28: =IF(COUNTIF(fériés,G$23)=0,OFFSET(Paramètres!$H$2,MATCH($B28,Paramètres!$G$2:$G$6,0)-1,MOD(G$23+5,28)),"") -> M | H28: =IF(COUNTIF(fériés,H$23)=0,OFFSET(Paramètres!$H$2,MATCH($B28,Paramètres!$G$2:$G$6,0)-1,MOD(H$23+5,28)),"") -> M | I28: =IF(COUNTIF(fériés,I$23)=0,OFFSET(Paramètres!$H$2,MATCH($B28,Paramètres!$G$2:$G$6,0)-1,MOD(I$23+5,28)),"") -> 0 | J28: =IF(COUNTIF(fériés,J$23)=0,OFFSET(Paramètres!$H$2,MATCH($B28,Paramètres!$G$2:$G$6,0)-1,MOD(J$23+5,28)),"") -> 0 | ... AF28: =IF(COUNTIF(fériés,AF$23)=0,OFFSET(Paramètres!$H$2,MATCH($B28,Paramètres!$G$2:$G$6,0)-1,MOD(AF$23+5,28)),"") -> 0
B30: =DATE(an,5,1) -> 45778 | C30: =B30 -> 45778 | D30: =C30+1 -> 45779 | E30: =D30+1 -> 45780 | F30: =E30+1 -> 45781 | G30: =F30+1 -> 45782 | H30: =G30+1 -> 45783 | I30: =H30+1 -> 45784 | J30: =I30+1 -> 45785 | K30: =J30+1 -> 45786 | ... AG30: =AF30+1 -> 45808
B31: =Paramètres!$G$2 -> Personne1 | C31: =IF(COUNTIF(fériés,C$30)=0,OFFSET(Paramètres!$H$2,MATCH($B31,Paramètres!$G$2:$G$6,0)-1,MOD(C$30+5,28)),"") | D31: =IF(COUNTIF(fériés,D$30)=0,OFFSET(Paramètres!$H$2,MATCH($B31,Paramètres!$G$2:$G$6,0)-1,MOD(D$30+5,28)),"") | E31: =IF(COUNTIF(fériés,E$30)=0,OFFSET(Paramètres!$H$2,MATCH($B31,Paramètres!$G$2:$G$6,0)-1,MOD(E$30+5,28)),"") -> 0 | F31: =IF(COUNTIF(fériés,F$30)=0,OFFSET(Paramètres!$H$2,MATCH($B31,Paramètres!$G$2:$G$6,0)-1,MOD(F$30+5,28)),"") -> 0 | G31: =IF(COUNTIF(fériés,G$30)=0,OFFSET(Paramètres!$H$2,MATCH($B31,Paramètres!$G$2:$G$6,0)-1,MOD(G$30+5,28)),"") -> J | H31: =IF(COUNTIF(fériés,H$30)=0,OFFSET(Paramètres!$H$2,MATCH($B31,Paramètres!$G$2:$G$6,0)-1,MOD(H$30+5,28)),"") -> J | I31: =IF(COUNTIF(fériés,I$30)=0,OFFSET(Paramètres!$H$2,MATCH($B31,Paramètres!$G$2:$G$6,0)-1,MOD(I$30+5,28)),"") -> J | J31: =IF(COUNTIF(fériés,J$30)=0,OFFSET(Paramètres!$H$2,MATCH($B31,Paramètres!$G$2:$G$6,0)-1,MOD(J$30+5,28)),"") | ... AG31: =IF(COUNTIF(fériés,AG$30)=0,OFFSET(Paramètres!$H$2,MATCH($B31,Paramètres!$G$2:$G$6,0)-1,MOD(AG$30+5,28)),"") -> 0
B32: =Paramètres!$G$3 -> Personne2 | C32: =IF(COUNTIF(fériés,C$30)=0,OFFSET(Paramètres!$H$2,MATCH($B32,Paramètres!$G$2:$G$6,0)-1,MOD(C$30+5,28)),"") | D32: =IF(COUNTIF(fériés,D$30)=0,OFFSET(Paramètres!$H$2,MATCH($B32,Paramètres!$G$2:$G$6,0)-1,MOD(D$30+5,28)),"") | E32: =IF(COUNTIF(fériés,E$30)=0,OFFSET(Paramètres!$H$2,MATCH($B32,Paramètres!$G$2:$G$6,0)-1,MOD(E$30+5,28)),"") -> 0 | F32: =IF(COUNTIF(fériés,F$30)=0,OFFSET(Paramètres!$H$2,MATCH($B32,Paramètres!$G$2:$G$6,0)-1,MOD(F$30+5,28)),"") -> 0 | G32: =IF(COUNTIF(fériés,G$30)=0,OFFSET(Paramètres!$H$2,MATCH($B32,Paramètres!$G$2:$G$6,0)-1,MOD(G$30+5,28)),"") -> M | H32: =IF(COUNTIF(fériés,H$30)=0,OFFSET(Paramètres!$H$2,MATCH($B32,Paramètres!$G$2:$G$6,0)-1,MOD(H$30+5,28)),"") -> M | I32: =IF(COUNTIF(fériés,I$30)=0,OFFSET(Paramètres!$H$2,MATCH($B32,Paramètres!$G$2:$G$6,0)-1,MOD(I$30+5,28)),"") -> M | J32: =IF(COUNTIF(fériés,J$30)=0,OFFSET(Paramètres!$H$2,MATCH($B32,Paramètres!$G$2:$G$6,0)-1,MOD(J$30+5,28)),"") | ... AG32: =IF(COUNTIF(fériés,AG$30)=0,OFFSET(Paramètres!$H$2,MATCH($B32,Paramètres!$G$2:$G$6,0)-1,MOD(AG$30+5,28)),"") -> 0
B33: =Paramètres!$G$4 -> Personne3 | C33: =IF(COUNTIF(fériés,C$30)=0,OFFSET(Paramètres!$H$2,MATCH($B33,Paramètres!$G$2:$G$6,0)-1,MOD(C$30+5,28)),"") | D33: =IF(COUNTIF(fériés,D$30)=0,OFFSET(Paramètres!$H$2,MATCH($B33,Paramètres!$G$2:$G$6,0)-1,MOD(D$30+5,28)),"") | E33: =IF(COUNTIF(fériés,E$30)=0,OFFSET(Paramètres!$H$2,MATCH($B33,Paramètres!$G$2:$G$6,0)-1,MOD(E$30+5,28)),"") -> 0 | F33: =IF(COUNTIF(fériés,F$30)=0,OFFSET(Paramètres!$H$2,MATCH($B33,Paramètres!$G$2:$G$6,0)-1,MOD(F$30+5,28)),"") -> 0 | G33: =IF(COUNTIF(fériés,G$30)=0,OFFSET(Paramètres!$H$2,MATCH($B33,Paramètres!$G$2:$G$6,0)-1,MOD(G$30+5,28)),"") -> A | H33: =IF(COUNTIF(fériés,H$30)=0,OFFSET(Paramètres!$H$2,MATCH($B33,Paramètres!$G$2:$G$6,0)-1,MOD(H$30+5,28)),"") -> A | I33: =IF(COUNTIF(fériés,I$30)=0,OFFSET(Paramètres!$H$2,MATCH($B33,Paramètres!$G$2:$G$6,0)-1,MOD(I$30+5,28)),"") -> A | J33: =IF(COUNTIF(fériés,J$30)=0,OFFSET(Paramètres!$H$2,MATCH($B33,Paramètres!$G$2:$G$6,0)-1,MOD(J$30+5,28)),"") | ... AG33: =IF(COUNTIF(fériés,AG$30)=0,OFFSET(Paramètres!$H$2,MATCH($B33,Paramètres!$G$2:$G$6,0)-1,MOD(AG$30+5,28)),"") -> 0
B34: =Paramètres!$G$5 -> Personne4 | C34: =IF(COUNTIF(fériés,C$30)=0,OFFSET(Paramètres!$H$2,MATCH($B34,Paramètres!$G$2:$G$6,0)-1,MOD(C$30+5,28)),"") | D34: =IF(COUNTIF(fériés,D$30)=0,OFFSET(Paramètres!$H$2,MATCH($B34,Paramètres!$G$2:$G$6,0)-1,MOD(D$30+5,28)),"") | E34: =IF(COUNTIF(fériés,E$30)=0,OFFSET(Paramètres!$H$2,MATCH($B34,Paramètres!$G$2:$G$6,0)-1,MOD(E$30+5,28)),"") -> 0 | F34: =IF(COUNTIF(fériés,F$30)=0,OFFSET(Paramètres!$H$2,MATCH($B34,Paramètres!$G$2:$G$6,0)-1,MOD(F$30+5,28)),"") -> 0 | G34: =IF(COUNTIF(fériés,G$30)=0,OFFSET(Paramètres!$H$2,MATCH($B34,Paramètres!$G$2:$G$6,0)-1,MOD(G$30+5,28)),"") -> 0 | H34: =IF(COUNTIF(fériés,H$30)=0,OFFSET(Paramètres!$H$2,MATCH($B34,Paramètres!$G$2:$G$6,0)-1,MOD(H$30+5,28)),"") -> 0 | I34: =IF(COUNTIF(fériés,I$30)=0,OFFSET(Paramètres!$H$2,MATCH($B34,Paramètres!$G$2:$G$6,0)-1,MOD(I$30+5,28)),"") -> 0 | J34: =IF(COUNTIF(fériés,J$30)=0,OFFSET(Paramètres!$H$2,MATCH($B34,Paramètres!$G$2:$G$6,0)-1,MOD(J$30+5,28)),"") | ... AG34: =IF(COUNTIF(fériés,AG$30)=0,OFFSET(Paramètres!$H$2,MATCH($B34,Paramètres!$G$2:$G$6,0)-1,MOD(AG$30+5,28)),"") -> 0
B35: =Paramètres!$G$6 -> Personne5 | C35: =IF(COUNTIF(fériés,C$30)=1,"M",OFFSET(Paramètres!$H$2,MATCH($B35,Paramètres!$G$2:$G$6,0)-1,MOD(C$30+5,28))) -> M | D35: =IF(COUNTIF(fériés,D$30)=1,"M",OFFSET(Paramètres!$H$2,MATCH($B35,Paramètres!$G$2:$G$6,0)-1,MOD(D$30+5,28))) -> M | E35: =IF(COUNTIF(fériés,E$30)=1,"M",OFFSET(Paramètres!$H$2,MATCH($B35,Paramètres!$G$2:$G$6,0)-1,MOD(E$30+5,28))) -> M | F35: =IF(COUNTIF(fériés,F$30)=1,"M",OFFSET(Paramètres!$H$2,MATCH($B35,Paramètres!$G$2:$G$6,0)-1,MOD(F$30+5,28))) -> M | G35: =IF(COUNTIF(fériés,G$30)=1,"M",OFFSET(Paramètres!$H$2,MATCH($B35,Paramètres!$G$2:$G$6,0)-1,MOD(G$30+5,28))) -> 0 | H35: =IF(COUNTIF(fériés,H$30)=1,"M",OFFSET(Paramètres!$H$2,MATCH($B35,Paramètres!$G$2:$G$6,0)-1,MOD(H$30+5,28))) -> 0 | I35: =IF(COUNTIF(fériés,I$30)=1,"M",OFFSET(Paramètres!$H$2,MATCH($B35,Paramètres!$G$2:$G$6,0)-1,MOD(I$30+5,28))) -> 0 | J35: =IF(COUNTIF(fériés,J$30)=1,"M",OFFSET(Paramètres!$H$2,MATCH($B35,Paramètres!$G$2:$G$6,0)-1,MOD(J$30+5,28))) -> M | ... AG35: =IF(COUNTIF(fériés,AG$30)=1,"M",OFFSET(Paramètres!$H$2,MATCH($B35,Paramètres!$G$2:$G$6,0)-1,MOD(AG$30+5,28))) -> M
B37: =DATE(an,6,1) -> 45809 | C37: =B37 -> 45809 | D37: =C37+1 -> 45810 | E37: =D37+1 -> 45811 | F37: =E37+1 -> 45812 | G37: =F37+1 -> 45813 | H37: =G37+1 -> 45814 | I37: =H37+1 -> 45815 | J37: =I37+1 -> 45816 | K37: =J37+1 -> 45817 | ... AF37: =AE37+1 -> 45838
B38: =Paramètres!$G$2 -> Personne1 | C38: =IF(COUNTIF(fériés,C$37)=0,OFFSET(Paramètres!$H$2,MATCH($B38,Paramètres!$G$2:$G$6,0)-1,MOD(C$37+5,28)),"") -> 0 | D38: =IF(COUNTIF(fériés,D$37)=0,OFFSET(Paramètres!$H$2,MATCH($B38,Paramètres!$G$2:$G$6,0)-1,MOD(D$37+5,28)),"") -> J | E38: =IF(COUNTIF(fériés,E$37)=0,OFFSET(Paramètres!$H$2,MATCH($B38,Paramètres!$G$2:$G$6,0)-1,MOD(E$37+5,28)),"") -> J | F38: =IF(COUNTIF(fériés,F$37)=0,OFFSET(Paramètres!$H$2,MATCH($B38,Paramètres!$G$2:$G$6,0)-1,MOD(F$37+5,28)),"") -> J | G38: =IF(COUNTIF(fériés,G$37)=0,OFFSET(Paramètres!$H$2,MATCH($B38,Paramètres!$G$2:$G$6,0)-1,MOD(G$37+5,28)),"") -> J | H38: =IF(COUNTIF(fériés,H$37)=0,OFFSET(Paramètres!$H$2,MATCH($B38,Paramètres!$G$2:$G$6,0)-1,MOD(H$37+5,28)),"") -> J | I38: =IF(COUNTIF(fériés,I$37)=0,OFFSET(Paramètres!$H$2,MATCH($B38,Paramètres!$G$2:$G$6,0)-1,MOD(I$37+5,28)),"") -> 0 | J38: =IF(COUNTIF(fériés,J$37)=0,OFFSET(Paramètres!$H$2,MATCH($B38,Paramètres!$G$2:$G$6,0)-1,MOD(J$37+5,28)),"") -> 0 | ... AF38: =IF(COUNTIF(fériés,AF$37)=0,OFFSET(Paramètres!$H$2,MATCH($B38,Paramètres!$G$2:$G$6,0)-1,MOD(AF$37+5,28)),"") -> J
B39: =Paramètres!$G$3 -> Personne2 | C39: =IF(COUNTIF(fériés,C$37)=0,OFFSET(Paramètres!$H$2,MATCH($B39,Paramètres!$G$2:$G$6,0)-1,MOD(C$37+5,28)),"") -> 0 | D39: =IF(COUNTIF(fériés,D$37)=0,OFFSET(Paramètres!$H$2,MATCH($B39,Paramètres!$G$2:$G$6,0)-1,MOD(D$37+5,28)),"") -> M | E39: =IF(COUNTIF(fériés,E$37)=0,OFFSET(Paramètres!$H$2,MATCH($B39,Paramètres!$G$2:$G$6,0)-1,MOD(E$37+5,28)),"") -> M | F39: =IF(COUNTIF(fériés,F$37)=0,OFFSET(Paramètres!$H$2,MATCH($B39,Paramètres!$G$2:$G$6,0)-1,MOD(F$37+5,28)),"") -> M | G39: =IF(COUNTIF(fériés,G$37)=0,OFFSET(Paramètres!$H$2,MATCH($B39,Paramètres!$G$2:$G$6,0)-1,MOD(G$37+5,28)),"") -> M | H39: =IF(COUNTIF(fériés,H$37)=0,OFFSET(Paramètres!$H$2,MATCH($B39,Paramètres!$G$2:$G$6,0)-1,MOD(H$37+5,28)),"") -> M | I39: =IF(COUNTIF(fériés,I$37)=0,OFFSET(Paramètres!$H$2,MATCH($B39,Paramètres!$G$2:$G$6,0)-1,MOD(I$37+5,28)),"") -> 0 | J39: =IF(COUNTIF(fériés,J$37)=0,OFFSET(Paramètres!$H$2,MATCH($B39,Paramètres!$G$2:$G$6,0)-1,MOD(J$37+5,28)),"") -> 0 | ... AF39: =IF(COUNTIF(fériés,AF$37)=0,OFFSET(Paramètres!$H$2,MATCH($B39,Paramètres!$G$2:$G$6,0)-1,MOD(AF$37+5,28)),"") -> M
B40: =Paramètres!$G$4 -> Personne3 | C40: =IF(COUNTIF(fériés,C$37)=0,OFFSET(Paramètres!$H$2,MATCH($B40,Paramètres!$G$2:$G$6,0)-1,MOD(C$37+5,28)),"") -> 0 | D40: =IF(COUNTIF(fériés,D$37)=0,OFFSET(Paramètres!$H$2,MATCH($B40,Paramètres!$G$2:$G$6,0)-1,MOD(D$37+5,28)),"") -> A | E40: =IF(COUNTIF(fériés,E$37)=0,OFFSET(Paramètres!$H$2,MATCH($B40,Paramètres!$G$2:$G$6,0)-1,MOD(E$37+5,28)),"") -> A | F40: =IF(COUNTIF(fériés,F$37)=0,OFFSET(Paramètres!$H$2,MATCH($B40,Paramètres!$G$2:$G$6,0)-1,MOD(F$37+5,28)),"") -> A | G40: =IF(COUNTIF(fériés,G$37)=0,OFFSET(Paramètres!$H$2,MATCH($B40,Paramètres!$G$2:$G$6,0)-1,MOD(G$37+5,28)),"") -> A | H40: =IF(COUNTIF(fériés,H$37)=0,OFFSET(Paramètres!$H$2,MATCH($B40,Paramètres!$G$2:$G$6,0)-1,MOD(H$37+5,28)),"") -> A | I40: =IF(COUNTIF(fériés,I$37)=0,OFFSET(Paramètres!$H$2,MATCH($B40,Paramètres!$G$2:$G$6,0)-1,MOD(I$37+5,28)),"") -> 0 | J40: =IF(COUNTIF(fériés,J$37)=0,OFFSET(Paramètres!$H$2,MATCH($B40,Paramètres!$G$2:$G$6,0)-1,MOD(J$37+5,28)),"") -> 0 | ... AF40: =IF(COUNTIF(fériés,AF$37)=0,OFFSET(Paramètres!$H$2,MATCH($B40,Paramètres!$G$2:$G$6,0)-1,MOD(AF$37+5,28)),"") -> A
B41: =Paramètres!$G$5 -> Personne4 | C41: =IF(COUNTIF(fériés,C$37)=0,OFFSET(Paramètres!$H$2,MATCH($B41,Paramètres!$G$2:$G$6,0)-1,MOD(C$37+5,28)),"") -> 0 | D41: =IF(COUNTIF(fériés,D$37)=0,OFFSET(Paramètres!$H$2,MATCH($B41,Paramètres!$G$2:$G$6,0)-1,MOD(D$37+5,28)),"") -> 0 | E41: =IF(COUNTIF(fériés,E$37)=0,OFFSET(Paramètres!$H$2,MATCH($B41,Paramètres!$G$2:$G$6,0)-1,MOD(E$37+5,28)),"") -> 0 | F41: =IF(COUNTIF(fériés,F$37)=0,OFFSET(Paramètres!$H$2,MATCH($B41,Paramètres!$G$2:$G$6,0)-1,MOD(F$37+5,28)),"") -> 0 | G41: =IF(COUNTIF(fériés,G$37)=0,OFFSET(Paramètres!$H$2,MATCH($B41,Paramètres!$G$2:$G$6,0)-1,MOD(G$37+5,28)),"") -> 0 | H41: =IF(COUNTIF(fériés,H$37)=0,OFFSET(Paramètres!$H$2,MATCH($B41,Paramètres!$G$2:$G$6,0)-1,MOD(H$37+5,28)),"") -> 0 | I41: =IF(COUNTIF(fériés,I$37)=0,OFFSET(Paramètres!$H$2,MATCH($B41,Paramètres!$G$2:$G$6,0)-1,MOD(I$37+5,28)),"") -> 0 | J41: =IF(COUNTIF(fériés,J$37)=0,OFFSET(Paramètres!$H$2,MATCH($B41,Paramètres!$G$2:$G$6,0)-1,MOD(J$37+5,28)),"") -> 0 | ... AF41: =IF(COUNTIF(fériés,AF$37)=0,OFFSET(Paramètres!$H$2,MATCH($B41,Paramètres!$G$2:$G$6,0)-1,MOD(AF$37+5,28)),"") -> 0
B42: =Paramètres!$G$6 -> Personne5 | C42: =IF(COUNTIF(fériés,C$37)=1,"M",OFFSET(Paramètres!$H$2,MATCH($B42,Paramètres!$G$2:$G$6,0)-1,MOD(C$37+5,28))) -> M | D42: =IF(COUNTIF(fériés,D$37)=1,"M",OFFSET(Paramètres!$H$2,MATCH($B42,Paramètres!$G$2:$G$6,0)-1,MOD(D$37+5,28))) -> 0 | E42: =IF(COUNTIF(fériés,E$37)=1,"M",OFFSET(Paramètres!$H$2,MATCH($B42,Paramètres!$G$2:$G$6,0)-1,MOD(E$37+5,28))) -> 0 | F42: =IF(COUNTIF(fériés,F$37)=1,"M",OFFSET(Paramètres!$H$2,MATCH($B42,Paramètres!$G$2:$G$6,0)-1,MOD(F$37+5,28))) -> 0 | G42: =IF(COUNTIF(fériés,G$37)=1,"M",OFFSET(Paramètres!$H$2,MATCH($B42,Paramètres!$G$2:$G$6,0)-1,MOD(G$37+5,28))) -> 0 | H42: =IF(COUNTIF(fériés,H$37)=1,"M",OFFSET(Paramètres!$H$2,MATCH($B42,Paramètres!$G$2:$G$6,0)-1,MOD(H$37+5,28))) -> 0 | I42: =IF(COUNTIF(fériés,I$37)=1,"M",OFFSET(Paramètres!$H$2,MATCH($B42,Paramètres!$G$2:$G$6,0)-1,MOD(I$37+5,28))) -> M | J42: =IF(COUNTIF(fériés,J$37)=1,"M",OFFSET(Paramètres!$H$2,MATCH($B42,Paramètres!$G$2:$G$6,0)-1,MOD(J$37+5,28))) -> M | ... AF42: =IF(COUNTIF(fériés,AF$37)=1,"M",OFFSET(Paramètres!$H$2,MATCH($B42,Paramètres!$G$2:$G$6,0)-1,MOD(AF$37+5,28))) -> 0
B44: =DATE(an,7,1) -> 45839 | C44: =B44 -> 45839 | D44: =C44+1 -> 45840 | E44: =D44+1 -> 45841 | F44: =E44+1 -> 45842 | G44: =F44+1 -> 45843 | H44: =G44+1 -> 45844 | I44: =H44+1 -> 45845 | J44: =I44+1 -> 45846 | K44: =J44+1 -> 45847 | ... AG44: =AF44+1 -> 45869
B45: =Paramètres!$G$2 -> Personne1 | C45: =IF(COUNTIF(fériés,C$44)=0,OFFSET(Paramètres!$H$2,MATCH($B45,Paramètres!$G$2:$G$6,0)-1,MOD(C$44+5,28)),"") -> J | D45: =IF(COUNTIF(fériés,D$44)=0,OFFSET(Paramètres!$H$2,MATCH($B45,Paramètres!$G$2:$G$6,0)-1,MOD(D$44+5,28)),"") -> J | E45: =IF(COUNTIF(fériés,E$44)=0,OFFSET(Paramètres!$H$2,MATCH($B45,Paramètres!$G$2:$G$6,0)-1,MOD(E$44+5,28)),"") -> J | F45: =IF(COUNTIF(fériés,F$44)=0,OFFSET(Paramètres!$H$2,MATCH($B45,Paramètres!$G$2:$G$6,0)-1,MOD(F$44+5,28)),"") -> J | G45: =IF(COUNTIF(fériés,G$44)=0,OFFSET(Paramètres!$H$2,MATCH($B45,Paramètres!$G$2:$G$6,0)-1,MOD(G$44+5,28)),"") -> 0 | H45: =IF(COUNTIF(fériés,H$44)=0,OFFSET(Paramètres!$H$2,MATCH($B45,Paramètres!$G$2:$G$6,0)-1,MOD(H$44+5,28)),"") -> 0 | I45: =IF(COUNTIF(fériés,I$44)=0,OFFSET(Paramètres!$H$2,MATCH($B45,Paramètres!$G$2:$G$6,0)-1,MOD(I$44+5,28)),"") -> J | J45: =IF(COUNTIF(fériés,J$44)=0,OFFSET(Paramètres!$H$2,MATCH($B45,Paramètres!$G$2:$G$6,0)-1,MOD(J$44+5,28)),"") -> J | ... AG45: =IF(COUNTIF(fériés,AG$44)=0,OFFSET(Paramètres!$H$2,MATCH($B45,Paramètres!$G$2:$G$6,0)-1,MOD(AG$44+5,28)),"") -> J
B46: =Paramètres!$G$3 -> Personne2 | C46: =IF(COUNTIF(fériés,C$44)=0,OFFSET(Paramètres!$H$2,MATCH($B46,Paramètres!$G$2:$G$6,0)-1,MOD(C$44+5,28)),"") -> M | D46: =IF(COUNTIF(fériés,D$44)=0,OFFSET(Paramètres!$H$2,MATCH($B46,Paramètres!$G$2:$G$6,0)-1,MOD(D$44+5,28)),"") -> M | E46: =IF(COUNTIF(fériés,E$44)=0,OFFSET(Paramètres!$H$2,MATCH($B46,Paramètres!$G$2:$G$6,0)-1,MOD(E$44+5,28)),"") -> M | F46: =IF(COUNTIF(fériés,F$44)=0,OFFSET(Paramètres!$H$2,MATCH($B46,Paramètres!$G$2:$G$6,0)-1,MOD(F$44+5,28)),"") -> M | G46: =IF(COUNTIF(fériés,G$44)=0,OFFSET(Paramètres!$H$2,MATCH($B46,Paramètres!$G$2:$G$6,0)-1,MOD(G$44+5,28)),"") -> 0 | H46: =IF(COUNTIF(fériés,H$44)=0,OFFSET(Paramètres!$H$2,MATCH($B46,Paramètres!$G$2:$G$6,0)-1,MOD(H$44+5,28)),"") -> 0 | I46: =IF(COUNTIF(fériés,I$44)=0,OFFSET(Paramètres!$H$2,MATCH($B46,Paramètres!$G$2:$G$6,0)-1,MOD(I$44+5,28)),"") -> A | J46: =IF(COUNTIF(fériés,J$44)=0,OFFSET(Paramètres!$H$2,MATCH($B46,Paramètres!$G$2:$G$6,0)-1,MOD(J$44+5,28)),"") -> A | ... AG46: =IF(COUNTIF(fériés,AG$44)=0,OFFSET(Paramètres!$H$2,MATCH($B46,Paramètres!$G$2:$G$6,0)-1,MOD(AG$44+5,28)),"") -> M
...
