Workbook

Sheet 07-25
B2: J U L Y 2 0 2 5 | AI2: J U L Y 2 0 2 5
AI3: OPLEIDING | AS3: WEDSTRIJD
AI4: P | AJ4: B | AK4: I | AL4: C | AM4: A | AN4: M | AO4: S | AP4: Totale | AQ4: % | AS4: T | AT4: R | AU4: Buts | AV4: Temps de jeu | AW4: Carte jaune | AX4: Carte Rouge
AI5: Présent | AJ5: Blessé | AK5: Individuel | AL5: Congé | AM5: Annulé | AN5: Malade | AO5: Sans raison | AS5: Titulaire | AT5: Réserve
A7: Nom + prénom | B7: ma | C7: di | D7: wo | E7: do | F7: vr | G7: za | H7: zo | I7: ma | J7: di | K7: wo | L7: do | M7: vr | N7: za | O7: zo | P7: ma | Q7: di | R7: wo | S7: do | T7: vr | U7: za | V7: zo | W7: ma | X7: di | Y7: wo | Z7: do | AA7: vr | AB7: za | AC7: zo | AD7: ma | AE7: di | AF7: wo | AH7: Nom + prénom
B8: 1 | C8: 2 | D8: 3 | E8: 4 | F8: 5 | G8: 6 | H8: 7 | I8: 8 | J8: 9 | K8: 10 | L8: 11 | M8: 12 | N8: 13 | O8: 14 | P8: 15 | Q8: 16 | R8: 17 | S8: 18 | T8: 19 | U8: 20 | V8: 21 | W8: 22 | X8: 23 | Y8: 24 | Z8: 25 | AA8: 26 | AB8: 27 | AC8: 28 | AD8: 29 | AE8: 30 | AF8: 31
A9: Nom 1 Prenom 1 | AH9: =A9 -> Nom 1 Prenom 1 | AI9: =COUNTIF($B9:$AF9,AI$4) -> 0 | AJ9: =COUNTIF($B9:$AF9,AJ$4) -> 0 | AK9: =COUNTIF($B9:$AF9,AK$4) -> 0 | AL9: =COUNTIF($B9:$AF9,AL$4) -> 0 | AM9: =COUNTIF($B9:$AF9,AM$4) -> 0 | AN9: =COUNTIF($B9:$AF9,AN$4) -> 0 | AO9: =COUNTIF($B9:$AF9,AO$4) -> 0 | AP9: =SUM(AI9,AJ9,AK9,AL9,AN9,AO9) -> 0 | AQ9: =IFERROR((AI9+AK9)/AP9,"") | AS9: =COUNTIF($B9:$AF9,#REF!) -> 0 | AT9: =COUNTIF($B9:$AF9,#REF!) -> 0 | AU9: 0 | AV9: =SUM(S9:AH9) -> 0 | AW9: 0 | AX9: 0
A10: Nom 1 Prenom 2 | AH10: =A10 -> Nom 1 Prenom 2 | AI10: =COUNTIF($B10:$AF10,AI$4) -> 0 | AJ10: =COUNTIF($B10:$AF10,AJ$4) -> 0 | AK10: =COUNTIF($B10:$AF10,AK$4) -> 0 | AL10: =COUNTIF($B10:$AF10,AL$4) -> 0 | AM10: =COUNTIF($B10:$AF10,AM$4) -> 0 | AN10: =COUNTIF($B10:$AF10,AN$4) -> 0 | AO10: =COUNTIF($B10:$AF10,AO$4) -> 0 | AP10: =SUM(AI10,AJ10,AK10,AL10,AN10,AO10) -> 0 | AQ10: =IFERROR((AI10+AK10)/AP10,"") | AS10: =COUNTIF($B10:$AF10,#REF!) -> 0 | AT10: =COUNTIF($B10:$AF10,#REF!) -> 0 | AU10: 0 | AV10: =SUM(S10:AH10) -> 0 | AW10: 0 | AX10: 0
A11: Nom 1 Prenom 3 | AH11: =A11 -> Nom 1 Prenom 3 | AI11: =COUNTIF($B11:$AF11,AI$4) -> 0 | AJ11: =COUNTIF($B11:$AF11,AJ$4) -> 0 | AK11: =COUNTIF($B11:$AF11,AK$4) -> 0 | AL11: =COUNTIF($B11:$AF11,AL$4) -> 0 | AM11: =COUNTIF($B11:$AF11,AM$4) -> 0 | AN11: =COUNTIF($B11:$AF11,AN$4) -> 0 | AO11: =COUNTIF($B11:$AF11,AO$4) -> 0 | AP11: =SUM(AI11,AJ11,AK11,AL11,AN11,AO11) -> 0 | AQ11: =IFERROR((AI11+AK11)/AP11,"") | AS11: =COUNTIF($B11:$AF11,#REF!) -> 0 | AT11: =COUNTIF($B11:$AF11,#REF!) -> 0 | AU11: 0 | AV11: =SUM(S11:AH11) -> 0 | AW11: 0 | AX11: 0
A12: Nom 1 Prenom 4 | AH12: =A12 -> Nom 1 Prenom 4 | AI12: =COUNTIF($B12:$AF12,AI$4) -> 0 | AJ12: =COUNTIF($B12:$AF12,AJ$4) -> 0 | AK12: =COUNTIF($B12:$AF12,AK$4) -> 0 | AL12: =COUNTIF($B12:$AF12,AL$4) -> 0 | AM12: =COUNTIF($B12:$AF12,AM$4) -> 0 | AN12: =COUNTIF($B12:$AF12,AN$4) -> 0 | AO12: =COUNTIF($B12:$AF12,AO$4) -> 0 | AP12: =SUM(AI12,AJ12,AK12,AL12,AN12,AO12) -> 0 | AQ12: =IFERROR((AI12+AK12)/AP12,"") | AS12: =COUNTIF($B12:$AF12,#REF!) -> 0 | AT12: =COUNTIF($B12:$AF12,#REF!) -> 0 | AU12: 0 | AV12: =SUM(S12:AH12) -> 0 | AW12: 0 | AX12: 0
A13: Nom 1 Prenom 5 | AH13: =A13 -> Nom 1 Prenom 5 | AI13: =COUNTIF($B13:$AF13,AI$4) -> 0 | AJ13: =COUNTIF($B13:$AF13,AJ$4) -> 0 | AK13: =COUNTIF($B13:$AF13,AK$4) -> 0 | AL13: =COUNTIF($B13:$AF13,AL$4) -> 0 | AM13: =COUNTIF($B13:$AF13,AM$4) -> 0 | AN13: =COUNTIF($B13:$AF13,AN$4) -> 0 | AO13: =COUNTIF($B13:$AF13,AO$4) -> 0 | AP13: =SUM(AI13,AJ13,AK13,AL13,AN13,AO13) -> 0 | AQ13: =IFERROR((AI13+AK13)/AP13,"") | AS13: =COUNTIF($B13:$AF13,#REF!) -> 0 | AT13: =COUNTIF($B13:$AF13,#REF!) -> 0 | AU13: 0 | AV13: =SUM(S13:AH13) -> 0 | AW13: 0 | AX13: 0
A14: Nom 1 Prenom 6 | AH14: =A14 -> Nom 1 Prenom 6 | AI14: =COUNTIF($B14:$AF14,AI$4) -> 0 | AJ14: =COUNTIF($B14:$AF14,AJ$4) -> 0 | AK14: =COUNTIF($B14:$AF14,AK$4) -> 0 | AL14: =COUNTIF($B14:$AF14,AL$4) -> 0 | AM14: =COUNTIF($B14:$AF14,AM$4) -> 0 | AN14: =COUNTIF($B14:$AF14,AN$4) -> 0 | AO14: =COUNTIF($B14:$AF14,AO$4) -> 0 | AP14: =SUM(AI14,AJ14,AK14,AL14,AN14,AO14) -> 0 | AQ14: =IFERROR((AI14+AK14)/AP14,"") | AS14: =COUNTIF($B14:$AF14,#REF!) -> 0 | AT14: =COUNTIF($B14:$AF14,#REF!) -> 0 | AU14: 0 | AV14: =SUM(S14:AH14) -> 0 | AW14: 0 | AX14: 0
A15: Nom 1 Prenom 7 | AH15: =A15 -> Nom 1 Prenom 7 | AI15: =COUNTIF($B15:$AF15,AI$4) -> 0 | AJ15: =COUNTIF($B15:$AF15,AJ$4) -> 0 | AK15: =COUNTIF($B15:$AF15,AK$4) -> 0 | AL15: =COUNTIF($B15:$AF15,AL$4) -> 0 | AM15: =COUNTIF($B15:$AF15,AM$4) -> 0 | AN15: =COUNTIF($B15:$AF15,AN$4) -> 0 | AO15: =COUNTIF($B15:$AF15,AO$4) -> 0 | AP15: =SUM(AI15,AJ15,AK15,AL15,AN15,AO15) -> 0 | AQ15: =IFERROR((AI15+AK15)/AP15,"") | AS15: =COUNTIF($B15:$AF15,#REF!) -> 0 | AT15: =COUNTIF($B15:$AF15,#REF!) -> 0 | AU15: 0 | AV15: =SUM(S15:AH15) -> 0 | AW15: 0 | AX15: 0
A16: Nom 1 Prenom 8 | AH16: =A16 -> Nom 1 Prenom 8 | AI16: =COUNTIF($B16:$AF16,AI$4) -> 0 | AJ16: =COUNTIF($B16:$AF16,AJ$4) -> 0 | AK16: =COUNTIF($B16:$AF16,AK$4) -> 0 | AL16: =COUNTIF($B16:$AF16,AL$4) -> 0 | AM16: =COUNTIF($B16:$AF16,AM$4) -> 0 | AN16: =COUNTIF($B16:$AF16,AN$4) -> 0 | AO16: =COUNTIF($B16:$AF16,AO$4) -> 0 | AP16: =SUM(AI16,AJ16,AK16,AL16,AN16,AO16) -> 0 | AQ16: =IFERROR((AI16+AK16)/AP16,"") | AS16: =COUNTIF($B16:$AF16,#REF!) -> 0 | AT16: =COUNTIF($B16:$AF16,#REF!) -> 0 | AU16: 0 | AV16: =SUM(S16:AH16) -> 0 | AW16: 0 | AX16: 0
A17: Nom 1 Prenom 9 | AH17: =A17 -> Nom 1 Prenom 9 | AI17: =COUNTIF($B17:$AF17,AI$4) -> 0 | AJ17: =COUNTIF($B17:$AF17,AJ$4) -> 0 | AK17: =COUNTIF($B17:$AF17,AK$4) -> 0 | AL17: =COUNTIF($B17:$AF17,AL$4) -> 0 | AM17: =COUNTIF($B17:$AF17,AM$4) -> 0 | AN17: =COUNTIF($B17:$AF17,AN$4) -> 0 | AO17: =COUNTIF($B17:$AF17,AO$4) -> 0 | AP17: =SUM(AI17,AJ17,AK17,AL17,AN17,AO17) -> 0 | AQ17: =IFERROR((AI17+AK17)/AP17,"") | AS17: =COUNTIF($B17:$AF17,#REF!) -> 0 | AT17: =COUNTIF($B17:$AF17,#REF!) -> 0 | AU17: 0 | AV17: =SUM(S17:AH17) -> 0 | AW17: 0 | AX17: 0
A18: Nom 1 Prenom 10 | AH18: =A18 -> Nom 1 Prenom 10 | AI18: =COUNTIF($B18:$AF18,AI$4) -> 0 | AJ18: =COUNTIF($B18:$AF18,AJ$4) -> 0 | AK18: =COUNTIF($B18:$AF18,AK$4) -> 0 | AL18: =COUNTIF($B18:$AF18,AL$4) -> 0 | AM18: =COUNTIF($B18:$AF18,AM$4) -> 0 | AN18: =COUNTIF($B18:$AF18,AN$4) -> 0 | AO18: =COUNTIF($B18:$AF18,AO$4) -> 0 | AP18: =SUM(AI18,AJ18,AK18,AL18,AN18,AO18) -> 0 | AQ18: =IFERROR((AI18+AK18)/AP18,"") | AS18: =COUNTIF($B18:$AF18,#REF!) -> 0 | AT18: =COUNTIF($B18:$AF18,#REF!) -> 0 | AU18: 0 | AV18: =SUM(S18:AH18) -> 0 | AW18: 0 | AX18: 0
A19: Nom 1 Prenom 11 | AH19: =A19 -> Nom 1 Prenom 11 | AI19: =COUNTIF($B19:$AF19,AI$4) -> 0 | AJ19: =COUNTIF($B19:$AF19,AJ$4) -> 0 | AK19: =COUNTIF($B19:$AF19,AK$4) -> 0 | AL19: =COUNTIF($B19:$AF19,AL$4) -> 0 | AM19: =COUNTIF($B19:$AF19,AM$4) -> 0 | AN19: =COUNTIF($B19:$AF19,AN$4) -> 0 | AO19: =COUNTIF($B19:$AF19,AO$4) -> 0 | AP19: =SUM(AI19,AJ19,AK19,AL19,AN19,AO19) -> 0 | AQ19: =IFERROR((AI19+AK19)/AP19,"") | AS19: =COUNTIF($B19:$AF19,#REF!) -> 0 | AT19: =COUNTIF($B19:$AF19,#REF!) -> 0 | AU19: 0 | AV19: =SUM(S19:AH19) -> 0 | AW19: 0 | AX19: 0
A20: Nom 1 Prenom 12 | AH20: =A20 -> Nom 1 Prenom 12 | AI20: =COUNTIF($B20:$AF20,AI$4) -> 0 | AJ20: =COUNTIF($B20:$AF20,AJ$4) -> 0 | AK20: =COUNTIF($B20:$AF20,AK$4) -> 0 | AL20: =COUNTIF($B20:$AF20,AL$4) -> 0 | AM20: =COUNTIF($B20:$AF20,AM$4) -> 0 | AN20: =COUNTIF($B20:$AF20,AN$4) -> 0 | AO20: =COUNTIF($B20:$AF20,AO$4) -> 0 | AP20: =SUM(AI20,AJ20,AK20,AL20,AN20,AO20) -> 0 | AQ20: =IFERROR((AI20+AK20)/AP20,"") | AS20: =COUNTIF($B20:$AF20,#REF!) -> 0 | AT20: =COUNTIF($B20:$AF20,#REF!) -> 0 | AU20: 0 | AV20: =SUM(S20:AH20) -> 0 | AW20: 0 | AX20: 0
... A28: Nom 1 Prenom 20 | AH28: =A28 -> Nom 1 Prenom 20 | AI28: =COUNTIF($B28:$AF28,AI$4) -> 0 | AJ28: =COUNTIF($B28:$AF28,AJ$4) -> 0 | AK28: =COUNTIF($B28:$AF28,AK$4) -> 0 | AL28: =COUNTIF($B28:$AF28,AL$4) -> 0 | AM28: =COUNTIF($B28:$AF28,AM$4) -> 0 | AN28: =COUNTIF($B28:$AF28,AN$4) -> 0 | AO28: =COUNTIF($B28:$AF28,AO$4) -> 0 | AP28: =SUM(AI28,AJ28,AK28,AL28,AN28,AO28) -> 0 | AQ28: =IFERROR((AI28+AK28)/AP28,"") | AS28: =COUNTIF($B28:$AF28,#REF!) -> 0 | AT28: =COUNTIF($B28:$AF28,#REF!) -> 0 | AU28: 0 | AV28: =SUM(S28:AH28) -> 0 | AW28: 0 | AX28: 0
AH29: =A29 -> 0 | AI29: =COUNTIF($B29:$AF29,AI$4) -> 0 | AJ29: =COUNTIF($B29:$AF29,AJ$4) -> 0 | AK29: =COUNTIF($B29:$AF29,AK$4) -> 0 | AL29: =COUNTIF($B29:$AF29,AL$4) -> 0 | AM29: =COUNTIF($B29:$AF29,AM$4) -> 0 | AN29: =COUNTIF($B29:$AF29,AN$4) -> 0 | AO29: =COUNTIF($B29:$AF29,AO$4) -> 0 | AP29: =SUM(AI29,AJ29,AK29,AL29,AN29,AO29) -> 0 | AQ29: =IFERROR((AI29+AK29)/AP29,"") | AS29: =COUNTIF($B29:$AF29,#REF!) -> 0 | AT29: =COUNTIF($B29:$AF29,#REF!) -> 0 | AU29: 0 | AV29: =SUM(S29:AH29) -> 0 | AW29: 0 | AX29: 0
AH30: =A30 -> 0 | AI30: =COUNTIF($B30:$AF30,AI$4) -> 0 | AJ30: =COUNTIF($B30:$AF30,AJ$4) -> 0 | AK30: =COUNTIF($B30:$AF30,AK$4) -> 0 | AL30: =COUNTIF($B30:$AF30,AL$4) -> 0 | AM30: =COUNTIF($B30:$AF30,AM$4) -> 0 | AN30: =COUNTIF($B30:$AF30,AN$4) -> 0 | AO30: =COUNTIF($B30:$AF30,AO$4) -> 0 | AP30: =SUM(AI30,AJ30,AK30,AL30,AN30,AO30) -> 0 | AQ30: =IFERROR((AI30+AK30)/AP30,"") | AS30: =COUNTIF($B30:$AF30,#REF!) -> 0 | AT30: =COUNTIF($B30:$AF30,#REF!) -> 0 | AU30: 0 | AV30: =SUM(S30:AH30) -> 0 | AW30: 0 | AX30: 0
AH31: =A31 -> 0 | AI31: =COUNTIF($B31:$AF31,AI$4) -> 0 | AJ31: =COUNTIF($B31:$AF31,AJ$4) -> 0 | AK31: =COUNTIF($B31:$AF31,AK$4) -> 0 | AL31: =COUNTIF($B31:$AF31,AL$4) -> 0 | AM31: =COUNTIF($B31:$AF31,AM$4) -> 0 | AN31: =COUNTIF($B31:$AF31,AN$4) -> 0 | AO31: =COUNTIF($B31:$AF31,AO$4) -> 0 | AP31: =SUM(AI31,AJ31,AK31,AL31,AN31,AO31) -> 0 | AQ31: =IFERROR((AI31+AK31)/AP31,"") | AS31: =COUNTIF($B31:$AF31,#REF!) -> 0 | AT31: =COUNTIF($B31:$AF31,#REF!) -> 0 | AU31: 0 | AV31: =SUM(S31:AH31) -> 0 | AW31: 0 | AX31: 0
AH32: =A32 -> 0 | AI32: =COUNTIF($B32:$AF32,AI$4) -> 0 | AJ32: =COUNTIF($B32:$AF32,AJ$4) -> 0 | AK32: =COUNTIF($B32:$AF32,AK$4) -> 0 | AL32: =COUNTIF($B32:$AF32,AL$4) -> 0 | AM32: =COUNTIF($B32:$AF32,AM$4) -> 0 | AN32: =COUNTIF($B32:$AF32,AN$4) -> 0 | AO32: =COUNTIF($B32:$AF32,AO$4) -> 0 | AP32: =SUM(AI32,AJ32,AK32,AL32,AN32,AO32) -> 0 | AQ32: =IFERROR((AI32+AK32)/AP32,"") | AS32: =COUNTIF($B32:$AF32,#REF!) -> 0 | AT32: =COUNTIF($B32:$AF32,#REF!) -> 0 | AU32: 0 | AV32: =SUM(S32:AH32) -> 0 | AW32: 0 | AX32: 0
AH33: =A33 -> 0 | AI33: =COUNTIF($B33:$AF33,AI$4) -> 0 | AJ33: =COUNTIF($B33:$AF33,AJ$4) -> 0 | AK33: =COUNTIF($B33:$AF33,AK$4) -> 0 | AL33: =COUNTIF($B33:$AF33,AL$4) -> 0 | AM33: =COUNTIF($B33:$AF33,AM$4) -> 0 | AN33: =COUNTIF($B33:$AF33,AN$4) -> 0 | AO33: =COUNTIF($B33:$AF33,AO$4) -> 0 | AP33: =SUM(AI33,AJ33,AK33,AL33,AN33,AO33) -> 0 | AQ33: =IFERROR((AI33+AK33)/AP33,"") | AS33: =COUNTIF($B33:$AF33,#REF!) -> 0 | AT33: =COUNTIF($B33:$AF33,#REF!) -> 0 | AU33: 0 | AV33: =SUM(S33:AH33) -> 0 | AW33: 0 | AX33: 0
AH34: =A34 -> 0 | AI34: =COUNTIF($B34:$AF34,AI$4) -> 0 | AJ34: =COUNTIF($B34:$AF34,AJ$4) -> 0 | AK34: =COUNTIF($B34:$AF34,AK$4) -> 0 | AL34: =COUNTIF($B34:$AF34,AL$4) -> 0 | AM34: =COUNTIF($B34:$AF34,AM$4) -> 0 | AN34: =COUNTIF($B34:$AF34,AN$4) -> 0 | AO34: =COUNTIF($B34:$AF34,AO$4) -> 0 | AP34: =SUM(AI34,AJ34,AK34,AL34,AN34,AO34) -> 0 | AQ34: =IFERROR((AI34+AK34)/AP34,"") | AS34: =COUNTIF($B34:$AF34,#REF!) -> 0 | AT34: =COUNTIF($B34:$AF34,#REF!) -> 0 | AU34: 0 | AV34: =SUM(S34:AH34) -> 0 | AW34: 0 | AX34: 0
AH35: =A35 -> 0 | AI35: =COUNTIF($B35:$AF35,AI$4) -> 0 | AJ35: =COUNTIF($B35:$AF35,AJ$4) -> 0 | AK35: =COUNTIF($B35:$AF35,AK$4) -> 0 | AL35: =COUNTIF($B35:$AF35,AL$4) -> 0 | AM35: =COUNTIF($B35:$AF35,AM$4) -> 0 | AN35: =COUNTIF($B35:$AF35,AN$4) -> 0 | AO35: =COUNTIF($B35:$AF35,AO$4) -> 0 | AP35: =SUM(AI35,AJ35,AK35,AL35,AN35,AO35) -> 0 | AQ35: =IFERROR((AI35+AK35)/AP35,"") | AS35: =COUNTIF($B35:$AF35,#REF!) -> 0 | AT35: =COUNTIF($B35:$AF35,#REF!) -> 0 | AU35: 0 | AV35: =SUM(S35:AH35) -> 0 | AW35: 0 | AX35: 0
AH36: =A36 -> 0 | AI36: =COUNTIF($B36:$AF36,AI$4) -> 0 | AJ36: =COUNTIF($B36:$AF36,AJ$4) -> 0 | AK36: =COUNTIF($B36:$AF36,AK$4) -> 0 | AL36: =COUNTIF($B36:$AF36,AL$4) -> 0 | AM36: =COUNTIF($B36:$AF36,AM$4) -> 0 | AN36: =COUNTIF($B36:$AF36,AN$4) -> 0 | AO36: =COUNTIF($B36:$AF36,AO$4) -> 0 | AP36: =SUM(AI36,AJ36,AK36,AL36,AN36,AO36) -> 0 | AQ36: =IFERROR((AI36+AK36)/AP36,"") | AS36: =COUNTIF($B36:$AF36,#REF!) -> 0 | AT36: =COUNTIF($B36:$AF36,#REF!) -> 0 | AU36: 0 | AV36: =SUM(S36:AH36) -> 0 | AW36: 0 | AX36: 0
AH37: =A37 -> 0 | AI37: =COUNTIF($B37:$AF37,AI$4) -> 0 | AJ37: =COUNTIF($B37:$AF37,AJ$4) -> 0 | AK37: =COUNTIF($B37:$AF37,AK$4) -> 0 | AL37: =COUNTIF($B37:$AF37,AL$4) -> 0 | AM37: =COUNTIF($B37:$AF37,AM$4) -> 0 | AN37: =COUNTIF($B37:$AF37,AN$4) -> 0 | AO37: =COUNTIF($B37:$AF37,AO$4) -> 0 | AP37: =SUM(AI37,AJ37,AK37,AL37,AN37,AO37) -> 0 | AQ37: =IFERROR((AI37+AK37)/AP37,"") | AS37: =COUNTIF($B37:$AF37,#REF!) -> 0 | AT37: =COUNTIF($B37:$AF37,#REF!) -> 0 | AU37: 0 | AV37: =SUM(S37:AH37) -> 0 | AW37: 0 | AX37: 0
AH38: =A38 -> 0 | AI38: =COUNTIF($B38:$AF38,AI$4) -> 0 | AJ38: =COUNTIF($B38:$AF38,AJ$4) -> 0 | AK38: =COUNTIF($B38:$AF38,AK$4) -> 0 | AL38: =COUNTIF($B38:$AF38,AL$4) -> 0 | AM38: =COUNTIF($B38:$AF38,AM$4) -> 0 | AN38: =COUNTIF($B38:$AF38,AN$4) -> 0 | AO38: =COUNTIF($B38:$AF38,AO$4) -> 0 | AP38: =SUM(AI38,AJ38,AK38,AL38,AN38,AO38) -> 0 | AQ38: =IFERROR((AI38+AK38)/AP38,"") | AS38: =COUNTIF($B38:$AF38,#REF!) -> 0 | AT38: =COUNTIF($B38:$AF38,#REF!) -> 0 | AU38: 0 | AV38: =SUM(S38:AH38) -> 0 | AW38: 0 | AX38: 0
AH39: =A39 -> 0 | AI39: =COUNTIF($B39:$AF39,AI$4) -> 0 | AJ39: =COUNTIF($B39:$AF39,AJ$4) -> 0 | AK39: =COUNTIF($B39:$AF39,AK$4) -> 0 | AL39: =COUNTIF($B39:$AF39,AL$4) -> 0 | AM39: =COUNTIF($B39:$AF39,AM$4) -> 0 | AN39: =COUNTIF($B39:$AF39,AN$4) -> 0 | AO39: =COUNTIF($B39:$AF39,AO$4) -> 0 | AP39: =SUM(AI39,AJ39,AK39,AL39,AN39,AO39) -> 0 | AQ39: =IFERROR((AI39+AK39)/AP39,"") | AS39: =COUNTIF($B39:$AF39,#REF!) -> 0 | AT39: =COUNTIF($B39:$AF39,#REF!) -> 0 | AU39: 0 | AV39: =SUM(S39:AH39) -> 0 | AW39: 0 | AX39: 0

Sheet 08-25
B2: A U G U S T U S 2 0 2 5 | AI2: A U G U S T U S 2 0 2 5
AI3: OPLEIDING | AS3: WEDSTRIJD
AI4: P | AJ4: B | AK4: I | AL4: C | AM4: A | AN4: M | AO4: S | AP4: Total | AQ4: % | AS4: T | AT4: R | AU4: Buts | AV4: Temps de jeu | AW4: Carte jaune | AX4: Carte Rouge
AI5: Présent | AJ5: Blessé | AK5: Individuel | AL5: Congé | AM5: Annulé | AN5: Malade | AO5: Sans raison | AS5: Titulaire | AT5: Réserve
A7: Nom + prénom | B7: vr | C7: za | D7: zo | E7: ma | F7: di | G7: wo | H7: do | I7: vr | J7: za | K7: zo | L7: ma | M7: di | N7: wo | O7: do | P7: vr | Q7: za | R7: zo | S7: ma | T7: di | U7: wo | V7: do | W7: vr | X7: za | Y7: zo | Z7: ma | AA7: di | AB7: wo | AC7: do | AD7: vr | AE7: za | AF7: zo | AH7: Nom + prénom
B8: 1 | C8: 2 | D8: 3 | E8: 4 | F8: 5 | G8: 6 | H8: 7 | I8: 8 | J8: 9 | K8: 10 | L8: 11 | M8: 12 | N8: 13 | O8: 14 | P8: 15 | Q8: 16 | R8: 17 | S8: 18 | T8: 19 | U8: 20 | V8: 21 | W8: 22 | X8: 23 | Y8: 24 | Z8: 25 | AA8: 26 | AB8: 27 | AC8: 28 | AD8: 29 | AE8: 30 | AF8: 31
A9: =('07-25'!A9) -> Nom 1 Prenom 1 | AH9: =A9 -> Nom 1 Prenom 1 | AI9: =COUNTIF($C9:$AG9,AI$4) -> 0 | AJ9: =COUNTIF($C9:$AG9,AJ$4) -> 0 | AK9: =COUNTIF($C9:$AG9,AK$4) -> 0 | AL9: =COUNTIF($C9:$AG9,AL$4) -> 0 | AM9: =COUNTIF($C9:$AG9,AM$4) -> 0 | AN9: =COUNTIF($C9:$AG9,AN$4) -> 0 | AO9: =COUNTIF($C9:$AG9,AO$4) -> 0 | AP9: =SUM(AI9,AJ9,AK9,AL9,AN9,AO9) -> 0 | AQ9: =IFERROR((AI9+AK9)/AP9,"") | AS9: =COUNTIF($C9:$AG9,#REF!) -> 0 | AT9: =COUNTIF($C9:$AG9,#REF!) -> 0 | AU9: 0 | AV9: =SUM(S9:AH9) -> 0 | AW9: 0 | AX9: 0
A10: =('07-25'!A10) -> Nom 1 Prenom 2 | AH10: =A10 -> Nom 1 Prenom 2 | AI10: =COUNTIF($C10:$AG10,AI$4) -> 0 | AJ10: =COUNTIF($C10:$AG10,AJ$4) -> 0 | AK10: =COUNTIF($C10:$AG10,AK$4) -> 0 | AL10: =COUNTIF($C10:$AG10,AL$4) -> 0 | AM10: =COUNTIF($C10:$AG10,AM$4) -> 0 | AN10: =COUNTIF($C10:$AG10,AN$4) -> 0 | AO10: =COUNTIF($C10:$AG10,AO$4) -> 0 | AP10: =SUM(AI10,AJ10,AK10,AL10,AN10,AO10) -> 0 | AQ10: =IFERROR((AI10+AK10)/AP10,"") | AS10: =COUNTIF($C10:$AG10,#REF!) -> 0 | AT10: =COUNTIF($C10:$AG10,#REF!) -> 0 | AU10: 0 | AV10: =SUM(S10:AH10) -> 0 | AW10: 0 | AX10: 0
A11: =('07-25'!A11) -> Nom 1 Prenom 3 | AH11: =A11 -> Nom 1 Prenom 3 | AI11: =COUNTIF($C11:$AG11,AI$4) -> 0 | AJ11: =COUNTIF($C11:$AG11,AJ$4) -> 0 | AK11: =COUNTIF($C11:$AG11,AK$4) -> 0 | AL11: =COUNTIF($C11:$AG11,AL$4) -> 0 | AM11: =COUNTIF($C11:$AG11,AM$4) -> 0 | AN11: =COUNTIF($C11:$AG11,AN$4) -> 0 | AO11: =COUNTIF($C11:$AG11,AO$4) -> 0 | AP11: =SUM(AI11,AJ11,AK11,AL11,AN11,AO11) -> 0 | AQ11: =IFERROR((AI11+AK11)/AP11,"") | AS11: =COUNTIF($C11:$AG11,#REF!) -> 0 | AT11: =COUNTIF($C11:$AG11,#REF!) -> 0 | AU11: 0 | AV11: =SUM(S11:AH11) -> 0 | AW11: 0 | AX11: 0
A12: =('07-25'!A12) -> Nom 1 Prenom 4 | AH12: =A12 -> Nom 1 Prenom 4 | AI12: =COUNTIF($C12:$AG12,AI$4) -> 0 | AJ12: =COUNTIF($C12:$AG12,AJ$4) -> 0 | AK12: =COUNTIF($C12:$AG12,AK$4) -> 0 | AL12: =COUNTIF($C12:$AG12,AL$4) -> 0 | AM12: =COUNTIF($C12:$AG12,AM$4) -> 0 | AN12: =COUNTIF($C12:$AG12,AN$4) -> 0 | AO12: =COUNTIF($C12:$AG12,AO$4) -> 0 | AP12: =SUM(AI12,AJ12,AK12,AL12,AN12,AO12) -> 0 | AQ12: =IFERROR((AI12+AK12)/AP12,"") | AS12: =COUNTIF($C12:$AG12,#REF!) -> 0 | AT12: =COUNTIF($C12:$AG12,#REF!) -> 0 | AU12: 0 | AV12: =SUM(S12:AH12) -> 0 | AW12: 0 | AX12: 0
A13: =('07-25'!A13) -> Nom 1 Prenom 5 | AH13: =A13 -> Nom 1 Prenom 5 | AI13: =COUNTIF($C13:$AG13,AI$4) -> 0 | AJ13: =COUNTIF($C13:$AG13,AJ$4) -> 0 | AK13: =COUNTIF($C13:$AG13,AK$4) -> 0 | AL13: =COUNTIF($C13:$AG13,AL$4) -> 0 | AM13: =COUNTIF($C13:$AG13,AM$4) -> 0 | AN13: =COUNTIF($C13:$AG13,AN$4) -> 0 | AO13: =COUNTIF($C13:$AG13,AO$4) -> 0 | AP13: =SUM(AI13,AJ13,AK13,AL13,AN13,AO13) -> 0 | AQ13: =IFERROR((AI13+AK13)/AP13,"") | AS13: =COUNTIF($C13:$AG13,#REF!) -> 0 | AT13: =COUNTIF($C13:$AG13,#REF!) -> 0 | AU13: 0 | AV13: =SUM(S13:AH13) -> 0 | AW13: 0 | AX13: 0
A14: =('07-25'!A14) -> Nom 1 Prenom 6 | AH14: =A14 -> Nom 1 Prenom 6 | AI14: =COUNTIF($C14:$AG14,AI$4) -> 0 | AJ14: =COUNTIF($C14:$AG14,AJ$4) -> 0 | AK14: =COUNTIF($C14:$AG14,AK$4) -> 0 | AL14: =COUNTIF($C14:$AG14,AL$4) -> 0 | AM14: =COUNTIF($C14:$AG14,AM$4) -> 0 | AN14: =COUNTIF($C14:$AG14,AN$4) -> 0 | AO14: =COUNTIF($C14:$AG14,AO$4) -> 0 | AP14: =SUM(AI14,AJ14,AK14,AL14,AN14,AO14) -> 0 | AQ14: =IFERROR((AI14+AK14)/AP14,"") | AS14: =COUNTIF($C14:$AG14,#REF!) -> 0 | AT14: =COUNTIF($C14:$AG14,#REF!) -> 0 | AU14: 0 | AV14: =SUM(S14:AH14) -> 0 | AW14: 0 | AX14: 0
A15: =('07-25'!A15) -> Nom 1 Prenom 7 | AH15: =A15 -> Nom 1 Prenom 7 | AI15: =COUNTIF($C15:$AG15,AI$4) -> 0 | AJ15: =COUNTIF($C15:$AG15,AJ$4) -> 0 | AK15: =COUNTIF($C15:$AG15,AK$4) -> 0 | AL15: =COUNTIF($C15:$AG15,AL$4) -> 0 | AM15: =COUNTIF($C15:$AG15,AM$4) -> 0 | AN15: =COUNTIF($C15:$AG15,AN$4) -> 0 | AO15: =COUNTIF($C15:$AG15,AO$4) -> 0 | AP15: =SUM(AI15,AJ15,AK15,AL15,AN15,AO15) -> 0 | AQ15: =IFERROR((AI15+AK15)/AP15,"") | AS15: =COUNTIF($C15:$AG15,#REF!) -> 0 | AT15: =COUNTIF($C15:$AG15,#REF!) -> 0 | AU15: 0 | AV15: =SUM(S15:AH15) -> 0 | AW15: 0 | AX15: 0
A16: =('07-25'!A16) -> Nom 1 Prenom 8 | AH16: =A16 -> Nom 1 Prenom 8 | AI16: =COUNTIF($C16:$AG16,AI$4) -> 0 | AJ16: =COUNTIF($C16:$AG16,AJ$4) -> 0 | AK16: =COUNTIF($C16:$AG16,AK$4) -> 0 | AL16: =COUNTIF($C16:$AG16,AL$4) -> 0 | AM16: =COUNTIF($C16:$AG16,AM$4) -> 0 | AN16: =COUNTIF($C16:$AG16,AN$4) -> 0 | AO16: =COUNTIF($C16:$AG16,AO$4) -> 0 | AP16: =SUM(AI16,AJ16,AK16,AL16,AN16,AO16) -> 0 | AQ16: =IFERROR((AI16+AK16)/AP16,"") | AS16: =COUNTIF($C16:$AG16,#REF!) -> 0 | AT16: =COUNTIF($C16:$AG16,#REF!) -> 0 | AU16: 0 | AV16: =SUM(S16:AH16) -> 0 | AW16: 0 | AX16: 0
A17: =('07-25'!A17) -> Nom 1 Prenom 9 | AH17: =A17 -> Nom 1 Prenom 9 | AI17: =COUNTIF($C17:$AG17,AI$4) -> 0 | AJ17: =COUNTIF($C17:$AG17,AJ$4) -> 0 | AK17: =COUNTIF($C17:$AG17,AK$4) -> 0 | AL17: =COUNTIF($C17:$AG17,AL$4) -> 0 | AM17: =COUNTIF($C17:$AG17,AM$4) -> 0 | AN17: =COUNTIF($C17:$AG17,AN$4) -> 0 | AO17: =COUNTIF($C17:$AG17,AO$4) -> 0 | AP17: =SUM(AI17,AJ17,AK17,AL17,AN17,AO17) -> 0 | AQ17: =IFERROR((AI17+AK17)/AP17,"") | AS17: =COUNTIF($C17:$AG17,#REF!) -> 0 | AT17: =COUNTIF($C17:$AG17,#REF!) -> 0 | AU17: 0 | AV17: =SUM(S17:AH17) -> 0 | AW17: 0 | AX17: 0
A18: =('07-25'!A18) -> Nom 1 Prenom 10 | AH18: =A18 -> Nom 1 Prenom 10 | AI18: =COUNTIF($C18:$AG18,AI$4) -> 0 | AJ18: =COUNTIF($C18:$AG18,AJ$4) -> 0 | AK18: =COUNTIF($C18:$AG18,AK$4) -> 0 | AL18: =COUNTIF($C18:$AG18,AL$4) -> 0 | AM18: =COUNTIF($C18:$AG18,AM$4) -> 0 | AN18: =COUNTIF($C18:$AG18,AN$4) -> 0 | AO18: =COUNTIF($C18:$AG18,AO$4) -> 0 | AP18: =SUM(AI18,AJ18,AK18,AL18,AN18,AO18) -> 0 | AQ18: =IFERROR((AI18+AK18)/AP18,"") | AS18: =COUNTIF($C18:$AG18,#REF!) -> 0 | AT18: =COUNTIF($C18:$AG18,#REF!) -> 0 | AU18: 0 | AV18: =SUM(S18:AH18) -> 0 | AW18: 0 | AX18: 0
A19: =('07-25'!A19) -> Nom 1 Prenom 11 | AH19: =A19 -> Nom 1 Prenom 11 | AI19: =COUNTIF($C19:$AG19,AI$4) -> 0 | AJ19: =COUNTIF($C19:$AG19,AJ$4) -> 0 | AK19: =COUNTIF($C19:$AG19,AK$4) -> 0 | AL19: =COUNTIF($C19:$AG19,AL$4) -> 0 | AM19: =COUNTIF($C19:$AG19,AM$4) -> 0 | AN19: =COUNTIF($C19:$AG19,AN$4) -> 0 | AO19: =COUNTIF($C19:$AG19,AO$4) -> 0 | AP19: =SUM(AI19,AJ19,AK19,AL19,AN19,AO19) -> 0 | AQ19: =IFERROR((AI19+AK19)/AP19,"") | AS19: =COUNTIF($C19:$AG19,#REF!) -> 0 | AT19: =COUNTIF($C19:$AG19,#REF!) -> 0 | AU19: 0 | AV19: =SUM(S19:AH19) -> 0 | AW19: 0 | AX19: 0
A20: =('07-25'!A20) -> Nom 1 Prenom 12 | AH20: =A20 -> Nom 1 Prenom 12 | AI20: =COUNTIF($C20:$AG20,AI$4) -> 0 | AJ20: =COUNTIF($C20:$AG20,AJ$4) -> 0 | AK20: =COUNTIF($C20:$AG20,AK$4) -> 0 | AL20: =COUNTIF($C20:$AG20,AL$4) -> 0 | AM20: =COUNTIF($C20:$AG20,AM$4) -> 0 | AN20: =COUNTIF($C20:$AG20,AN$4) -> 0 | AO20: =COUNTIF($C20:$AG20,AO$4) -> 0 | AP20: =SUM(AI20,AJ20,AK20,AL20,AN20,AO20) -> 0 | AQ20: =IFERROR((AI20+AK20)/AP20,"") | AS20: =COUNTIF($C20:$AG20,#REF!) -> 0 | AT20: =COUNTIF($C20:$AG20,#REF!) -> 0 | AU20: 0 | AV20: =SUM(S20:AH20) -> 0 | AW20: 0 | AX20: 0
... A39: =('07-25'!A39) -> 0 | AH39: =A39 -> 0 | AI39: =COUNTIF($C39:$AG39,AI$4) -> 0 | AJ39: =COUNTIF($C39:$AG39,AJ$4) -> 0 | AK39: =COUNTIF($C39:$AG39,AK$4) -> 0 | AL39: =COUNTIF($C39:$AG39,AL$4) -> 0 | AM39: =COUNTIF($C39:$AG39,AM$4) -> 0 | AN39: =COUNTIF($C39:$AG39,AN$4) -> 0 | AO39: =COUNTIF($C39:$AG39,AO$4) -> 0 | AP39: =SUM(AI39,AJ39,AK39,AL39,AN39,AO39) -> 0 | AQ39: =IFERROR((AI39+AK39)/AP39,"") | AS39: =COUNTIF($C39:$AG39,#REF!) -> 0 | AT39: =COUNTIF($C39:$AG39,#REF!) -> 0 | AU39: 0 | AV39: =SUM(S39:AH39) -> 0 | AW39: 0 | AX39: 0

Sheet 09-25
B2: S E P T E M B E R 2 0 2 5 | AI2: S E P T E M B E R 2 0 2 5
AI3: OPLEIDING | AS3: WEDSTRIJD
AI4: P | AJ4: B | AK4: I | AL4: C | AM4: A | AN4: M | AO4: S | AP4: Totale | AQ4: % | AS4: T | AT4: R | AU4: Buts | AV4: Temps de jeu | AW4: Carte jaune
AI5: Présent | AJ5: Blessé | AK5: Individuel | AL5: Congé | AM5: Annulé | AN5: Malade | AO5: Sans raison | AS5: Titulaire | AT5: Réserve | AX5: Carte Rouge
A7: Nom + prénom | B7: ma | C7: di | D7: wo | E7: do | F7: vr | G7: za | H7: zo | I7: ma | J7: di | K7: wo | L7: do | M7: vr | N7: za | O7: zo | P7: ma | Q7: di | R7: wo | S7: do | T7: vr | U7: za | V7: zo | W7: ma | X7: di | Y7: wo | Z7: do | AA7: vr | AB7: za | AC7: zo | AD7: ma | AE7: di | AF7: wo | AH7: Nom + prénom
B8: 1 | C8: 2 | D8: 3 | E8: 4 | F8: 5 | G8: 6 | H8: 7 | I8: 8 | J8: 9 | K8: 10 | L8: 11 | M8: 12 | N8: 13 | O8: 14 | P8: 15 | Q8: 16 | R8: 17 | S8: 18 | T8: 19 | U8: 20 | V8: 21 | W8: 22 | X8: 23 | Y8: 24 | Z8: 25 | AA8: 26 | AB8: 27 | AC8: 28 | AD8: 29 | AE8: 30 | AF8: 31
A9: =('07-25'!A9) -> Nom 1 Prenom 1 | AH9: =A9 -> Nom 1 Prenom 1 | AI9: =COUNTIF($C9:$AG9,AI$4) -> 0 | AJ9: =COUNTIF($C9:$AG9,AJ$4) -> 0 | AK9: =COUNTIF($C9:$AG9,AK$4) -> 0 | AL9: =COUNTIF($C9:$AG9,AL$4) -> 0 | AM9: =COUNTIF($C9:$AG9,AM$4) -> 0 | AN9: =COUNTIF($C9:$AG9,AN$4) -> 0 | AO9: =COUNTIF($C9:$AG9,AO$4) -> 0 | AP9: =SUM(AI9,AJ9,AK9,AL9,AN9,AO9) -> 0 | AQ9: =IFERROR((AI9+AK9)/AP9,"") | AS9: =COUNTIF($C9:$AG9,#REF!) -> 0 | AT9: =COUNTIF($C9:$AG9,#REF!) -> 0 | AU9: 0 | AV9: =SUM(B9:AF9) -> 0 | AW9: 0 | AX9: 0
A10: =('07-25'!A10) -> Nom 1 Prenom 2 | AH10: =A10 -> Nom 1 Prenom 2 | AI10: =COUNTIF($C10:$AG10,AI$4) -> 0 | AJ10: =COUNTIF($C10:$AG10,AJ$4) -> 0 | AK10: =COUNTIF($C10:$AG10,AK$4) -> 0 | AL10: =COUNTIF($C10:$AG10,AL$4) -> 0 | AM10: =COUNTIF($C10:$AG10,AM$4) -> 0 | AN10: =COUNTIF($C10:$AG10,AN$4) -> 0 | AO10: =COUNTIF($C10:$AG10,AO$4) -> 0 | AP10: =SUM(AI10,AJ10,AK10,AL10,AN10,AO10) -> 0 | AQ10: =IFERROR((AI10+AK10)/AP10,"") | AS10: =COUNTIF($C10:$AG10,#REF!) -> 0 | AT10: =COUNTIF($C10:$AG10,#REF!) -> 0 | AU10: 0 | AV10: =SUM(B10:AF10) -> 0 | AW10: 0 | AX10: 0
A11: =('07-25'!A11) -> Nom 1 Prenom 3 | AH11: =A11 -> Nom 1 Prenom 3 | AI11: =COUNTIF($C11:$AG11,AI$4) -> 0 | AJ11: =COUNTIF($C11:$AG11,AJ$4) -> 0 | AK11: =COUNTIF($C11:$AG11,AK$4) -> 0 | AL11: =COUNTIF($C11:$AG11,AL$4) -> 0 | AM11: =COUNTIF($C11:$AG11,AM$4) -> 0 | AN11: =COUNTIF($C11:$AG11,AN$4) -> 0 | AO11: =COUNTIF($C11:$AG11,AO$4) -> 0 | AP11: =SUM(AI11,AJ11,AK11,AL11,AN11,AO11) -> 0 | AQ11: =IFERROR((AI11+AK11)/AP11,"") | AS11: =COUNTIF($C11:$AG11,#REF!) -> 0 | AT11: =COUNTIF($C11:$AG11,#REF!) -> 0 | AU11: 0 | AV11: =SUM(B11:AF11) -> 0 | AW11: 0 | AX11: 0
A12: =('07-25'!A12) -> Nom 1 Prenom 4 | AH12: =A12 -> Nom 1 Prenom 4 | AI12: =COUNTIF($C12:$AG12,AI$4) -> 0 | AJ12: =COUNTIF($C12:$AG12,AJ$4) -> 0 | AK12: =COUNTIF($C12:$AG12,AK$4) -> 0 | AL12: =COUNTIF($C12:$AG12,AL$4) -> 0 | AM12: =COUNTIF($C12:$AG12,AM$4) -> 0 | AN12: =COUNTIF($C12:$AG12,AN$4) -> 0 | AO12: =COUNTIF($C12:$AG12,AO$4) -> 0 | AP12: =SUM(AI12,AJ12,AK12,AL12,AN12,AO12) -> 0 | AQ12: =IFERROR((AI12+AK12)/AP12,"") | AS12: =COUNTIF($C12:$AG12,#REF!) -> 0 | AT12: =COUNTIF($C12:$AG12,#REF!) -> 0 | AU12: 0 | AV12: =SUM(B12:AF12) -> 0 | AW12: 0 | AX12: 0
A13: =('07-25'!A13) -> Nom 1 Prenom 5 | AH13: =A13 -> Nom 1 Prenom 5 | AI13: =COUNTIF($C13:$AG13,AI$4) -> 0 | AJ13: =COUNTIF($C13:$AG13,AJ$4) -> 0 | AK13: =COUNTIF($C13:$AG13,AK$4) -> 0 | AL13: =COUNTIF($C13:$AG13,AL$4) -> 0 | AM13: =COUNTIF($C13:$AG13,AM$4) -> 0 | AN13: =COUNTIF($C13:$AG13,AN$4) -> 0 | AO13: =COUNTIF($C13:$AG13,AO$4) -> 0 | AP13: =SUM(AI13,AJ13,AK13,AL13,AN13,AO13) -> 0 | AQ13: =IFERROR((AI13+AK13)/AP13,"") | AS13: =COUNTIF($C13:$AG13,#REF!) -> 0 | AT13: =COUNTIF($C13:$AG13,#REF!) -> 0 | AU13: 0 | AV13: =SUM(B13:AF13) -> 0 | AW13: 0 | AX13: 0
A14: =('07-25'!A14) -> Nom 1 Prenom 6 | AH14: =A14 -> Nom 1 Prenom 6 | AI14: =COUNTIF($C14:$AG14,AI$4) -> 0 | AJ14: =COUNTIF($C14:$AG14,AJ$4) -> 0 | AK14: =COUNTIF($C14:$AG14,AK$4) -> 0 | AL14: =COUNTIF($C14:$AG14,AL$4) -> 0 | AM14: =COUNTIF($C14:$AG14,AM$4) -> 0 | AN14: =COUNTIF($C14:$AG14,AN$4) -> 0 | AO14: =COUNTIF($C14:$AG14,AO$4) -> 0 | AP14: =SUM(AI14,AJ14,AK14,AL14,AN14,AO14) -> 0 | AQ14: =IFERROR((AI14+AK14)/AP14,"") | AS14: =COUNTIF($C14:$AG14,#REF!) -> 0 | AT14: =COUNTIF($C14:$AG14,#REF!) -> 0 | AU14: 0 | AV14: =SUM(B14:AF14) -> 0 | AW14: 0 | AX14: 0
A15: =('07-25'!A15) -> Nom 1 Prenom 7 | AH15: =A15 -> Nom 1 Prenom 7 | AI15: =COUNTIF($C15:$AG15,AI$4) -> 0 | AJ15: =COUNTIF($C15:$AG15,AJ$4) -> 0 | AK15: =COUNTIF($C15:$AG15,AK$4) -> 0 | AL15: =COUNTIF($C15:$AG15,AL$4) -> 0 | AM15: =COUNTIF($C15:$AG15,AM$4) -> 0 | AN15: =COUNTIF($C15:$AG15,AN$4) -> 0 | AO15: =COUNTIF($C15:$AG15,AO$4) -> 0 | AP15: =SUM(AI15,AJ15,AK15,AL15,AN15,AO15) -> 0 | AQ15: =IFERROR((AI15+AK15)/AP15,"") | AS15: =COUNTIF($C15:$AG15,#REF!) -> 0 | AT15: =COUNTIF($C15:$AG15,#REF!) -> 0 | AU15: 0 | AV15: =SUM(B15:AF15) -> 0 | AW15: 0 | AX15: 0
A16: =('07-25'!A16) -> Nom 1 Prenom 8 | AH16: =A16 -> Nom 1 Prenom 8 | AI16: =COUNTIF($C16:$AG16,AI$4) -> 0 | AJ16: =COUNTIF($C16:$AG16,AJ$4) -> 0 | AK16: =COUNTIF($C16:$AG16,AK$4) -> 0 | AL16: =COUNTIF($C16:$AG16,AL$4) -> 0 | AM16: =COUNTIF($C16:$AG16,AM$4) -> 0 | AN16: =COUNTIF($C16:$AG16,AN$4) -> 0 | AO16: =COUNTIF($C16:$AG16,AO$4) -> 0 | AP16: =SUM(AI16,AJ16,AK16,AL16,AN16,AO16) -> 0 | AQ16: =IFERROR((AI16+AK16)/AP16,"") | AS16: =COUNTIF($C16:$AG16,#REF!) -> 0 | AT16: =COUNTIF($C16:$AG16,#REF!) -> 0 | AU16: 0 | AV16: =SUM(B16:AF16) -> 0 | AW16: 0 | AX16: 0
A17: =('07-25'!A17) -> Nom 1 Prenom 9 | AH17: =A17 -> Nom 1 Prenom 9 | AI17: =COUNTIF($C17:$AG17,AI$4) -> 0 | AJ17: =COUNTIF($C17:$AG17,AJ$4) -> 0 | AK17: =COUNTIF($C17:$AG17,AK$4) -> 0 | AL17: =COUNTIF($C17:$AG17,AL$4) -> 0 | AM17: =COUNTIF($C17:$AG17,AM$4) -> 0 | AN17: =COUNTIF($C17:$AG17,AN$4) -> 0 | AO17: =COUNTIF($C17:$AG17,AO$4) -> 0 | AP17: =SUM(AI17,AJ17,AK17,AL17,AN17,AO17) -> 0 | AQ17: =IFERROR((AI17+AK17)/AP17,"") | AS17: =COUNTIF($C17:$AG17,#REF!) -> 0 | AT17: =COUNTIF($C17:$AG17,#REF!) -> 0 | AU17: 0 | AV17: =SUM(B17:AF17) -> 0 | AW17: 0 | AX17: 0
A18: =('07-25'!A18) -> Nom 1 Prenom 10 | AH18: =A18 -> Nom 1 Prenom 10 | AI18: =COUNTIF($C18:$AG18,AI$4) -> 0 | AJ18: =COUNTIF($C18:$AG18,AJ$4) -> 0 | AK18: =COUNTIF($C18:$AG18,AK$4) -> 0 | AL18: =COUNTIF($C18:$AG18,AL$4) -> 0 | AM18: =COUNTIF($C18:$AG18,AM$4) -> 0 | AN18: =COUNTIF($C18:$AG18,AN$4) -> 0 | AO18: =COUNTIF($C18:$AG18,AO$4) -> 0 | AP18: =SUM(AI18,AJ18,AK18,AL18,AN18,AO18) -> 0 | AQ18: =IFERROR((AI18+AK18)/AP18,"") | AS18: =COUNTIF($C18:$AG18,#REF!) -> 0 | AT18: =COUNTIF($C18:$AG18,#REF!) -> 0 | AU18: 0 | AV18: =SUM(B18:AF18) -> 0 | AW18: 0 | AX18: 0
A19: =('07-25'!A19) -> Nom 1 Prenom 11 | AH19: =A19 -> Nom 1 Prenom 11 | AI19: =COUNTIF($C19:$AG19,AI$4) -> 0 | AJ19: =COUNTIF($C19:$AG19,AJ$4) -> 0 | AK19: =COUNTIF($C19:$AG19,AK$4) -> 0 | AL19: =COUNTIF($C19:$AG19,AL$4) -> 0 | AM19: =COUNTIF($C19:$AG19,AM$4) -> 0 | AN19: =COUNTIF($C19:$AG19,AN$4) -> 0 | AO19: =COUNTIF($C19:$AG19,AO$4) -> 0 | AP19: =SUM(AI19,AJ19,AK19,AL19,AN19,AO19) -> 0 | AQ19: =IFERROR((AI19+AK19)/AP19,"") | AS19: =COUNTIF($C19:$AG19,#REF!) -> 0 | AT19: =COUNTIF($C19:$AG19,#REF!) -> 0 | AU19: 0 | AV19: =SUM(B19:AF19) -> 0 | AW19: 0 | AX19: 0
A20: =('07-25'!A20) -> Nom 1 Prenom 12 | AH20: =A20 -> Nom 1 Prenom 12 | AI20: =COUNTIF($C20:$AG20,AI$4) -> 0 | AJ20: =COUNTIF($C20:$AG20,AJ$4) -> 0 | AK20: =COUNTIF($C20:$AG20,AK$4) -> 0 | AL20: =COUNTIF($C20:$AG20,AL$4) -> 0 | AM20: =COUNTIF($C20:$AG20,AM$4) -> 0 | AN20: =COUNTIF($C20:$AG20,AN$4) -> 0 | AO20: =COUNTIF($C20:$AG20,AO$4) -> 0 | AP20: =SUM(AI20,AJ20,AK20,AL20,AN20,AO20) -> 0 | AQ20: =IFERROR((AI20+AK20)/AP20,"") | AS20: =COUNTIF($C20:$AG20,#REF!) -> 0 | AT20: =COUNTIF($C20:$AG20,#REF!) -> 0 | AU20: 0 | AV20: =SUM(B20:AF20) -> 0 | AW20: 0 | AX20: 0
... A39: =('07-25'!A39) -> 0 | AH39: =A39 -> 0 | AI39: =COUNTIF($C39:$AG39,AI$4) -> 0 | AJ39: =COUNTIF($C39:$AG39,AJ$4) -> 0 | AK39: =COUNTIF($C39:$AG39,AK$4) -> 0 | AL39: =COUNTIF($C39:$AG39,AL$4) -> 0 | AM39: =COUNTIF($C39:$AG39,AM$4) -> 0 | AN39: =COUNTIF($C39:$AG39,AN$4) -> 0 | AO39: =COUNTIF($C39:$AG39,AO$4) -> 0 | AP39: =SUM(AI39,AJ39,AK39,AL39,AN39,AO39) -> 0 | AQ39: =IFERROR((AI39+AK39)/AP39,"") | AS39: =COUNTIF($C39:$AG39,#REF!) -> 0 | AT39: =COUNTIF($C39:$AG39,#REF!) -> 0 | AU39: 0 | AV39: =SUM(B39:AF39) -> 0 | AW39: 0 | AX39: 0

Sheet 10-25
B2: O K T O B E R 2 0 2 5 | AI2: O K T O B E R 2 0 2 5
AI3: OPLEIDING | AS3: WEDSTRIJD
AI4: P | AJ4: B | AK4: I | AL4: C | AM4: A | AN4: M | AO4: S | AP4: Totale | AQ4: % | AS4: T | AT4: R | AU4: Buts | AV4: Temps de jeu | AW4: Carte jaune
AI5: Présent | AJ5: Blessé | AK5: Individuel | AL5: Congé | AM5: Annulé | AN5: Malade | AO5: Sans raison | AS5: Titulaire | AT5: Réserve | AX5: Carte Rouge
A7: Nom + prénom | B7: ma | C7: di | D7: wo | E7: do | F7: vr | G7: za | H7: zo | I7: ma | J7: di | K7: wo | L7: do | M7: vr | N7: za | O7: zo | P7: ma | Q7: di | R7: wo | S7: do | T7: vr | U7: za | V7: zo | W7: ma | X7: di | Y7: wo | Z7: do | AA7: vr | AB7: za | AC7: zo | AD7: ma | AE7: di | AF7: wo | AH7: Nom + prénom
B8: 1 | C8: 2 | D8: 3 | E8: 4 | F8: 5 | G8: 6 | H8: 7 | I8: 8 | J8: 9 | K8: 10 | L8: 11 | M8: 12 | N8: 13 | O8: 14 | P8: 15 | Q8: 16 | R8: 17 | S8: 18 | T8: 19 | U8: 20 | V8: 21 | W8: 22 | X8: 23 | Y8: 24 | Z8: 25 | AA8: 26 | AB8: 27 | AC8: 28 | AD8: 29 | AE8: 30 | AF8: 31
A9: =('07-25'!A9) -> Nom 1 Prenom 1 | AH9: =A9 -> Nom 1 Prenom 1 | AI9: =COUNTIF($C9:$AG9,AI$4) -> 0 | AJ9: =COUNTIF($C9:$AG9,AJ$4) -> 0 | AK9: =COUNTIF($C9:$AG9,AK$4) -> 0 | AL9: =COUNTIF($C9:$AG9,AL$4) -> 0 | AM9: =COUNTIF($C9:$AG9,AM$4) -> 0 | AN9: =COUNTIF($C9:$AG9,AN$4) -> 0 | AO9: =COUNTIF($C9:$AG9,AO$4) -> 0 | AP9: =SUM(AI9,AJ9,AK9,AL9,AN9,AO9) -> 0 | AQ9: =IFERROR((AI9+AK9)/AP9,"") | AS9: =COUNTIF($C9:$AG9,#REF!) -> 0 | AT9: =COUNTIF($C9:$AG9,#REF!) -> 0 | AU9: 0 | AV9: =SUM(S9:AH9) -> 0 | AW9: 0 | AX9: 0
A10: =('07-25'!A10) -> Nom 1 Prenom 2 | AH10: =A10 -> Nom 1 Prenom 2 | AI10: =COUNTIF($C10:$AG10,AI$4) -> 0 | AJ10: =COUNTIF($C10:$AG10,AJ$4) -> 0 | AK10: =COUNTIF($C10:$AG10,AK$4) -> 0 | AL10: =COUNTIF($C10:$AG10,AL$4) -> 0 | AM10: =COUNTIF($C10:$AG10,AM$4) -> 0 | AN10: =COUNTIF($C10:$AG10,AN$4) -> 0 | AO10: =COUNTIF($C10:$AG10,AO$4) -> 0 | AP10: =SUM(AI10,AJ10,AK10,AL10,AN10,AO10) -> 0 | AQ10: =IFERROR((AI10+AK10)/AP10,"") | AS10: =COUNTIF($C10:$AG10,#REF!) -> 0 | AT10: =COUNTIF($C10:$AG10,#REF!) -> 0 | AU10: 0 | AV10: =SUM(S10:AH10) -> 0 | AW10: 0 | AX10: 0
A11: =('07-25'!A11) -> Nom 1 Prenom 3 | AH11: =A11 -> Nom 1 Prenom 3 | AI11: =COUNTIF($C11:$AG11,AI$4) -> 0 | AJ11: =COUNTIF($C11:$AG11,AJ$4) -> 0 | AK11: =COUNTIF($C11:$AG11,AK$4) -> 0 | AL11: =COUNTIF($C11:$AG11,AL$4) -> 0 | AM11: =COUNTIF($C11:$AG11,AM$4) -> 0 | AN11: =COUNTIF($C11:$AG11,AN$4) -> 0 | AO11: =COUNTIF($C11:$AG11,AO$4) -> 0 | AP11: =SUM(AI11,AJ11,AK11,AL11,AN11,AO11) -> 0 | AQ11: =IFERROR((AI11+AK11)/AP11,"") | AS11: =COUNTIF($C11:$AG11,#REF!) -> 0 | AT11: =COUNTIF($C11:$AG11,#REF!) -> 0 | AU11: 0 | AV11: =SUM(S11:AH11) -> 0 | AW11: 0 | AX11: 0
A12: =('07-25'!A12) -> Nom 1 Prenom 4 | AH12: =A12 -> Nom 1 Prenom 4 | AI12: =COUNTIF($C12:$AG12,AI$4) -> 0 | AJ12: =COUNTIF($C12:$AG12,AJ$4) -> 0 | AK12: =COUNTIF($C12:$AG12,AK$4) -> 0 | AL12: =COUNTIF($C12:$AG12,AL$4) -> 0 | AM12: =COUNTIF($C12:$AG12,AM$4) -> 0 | AN12: =COUNTIF($C12:$AG12,AN$4) -> 0 | AO12: =COUNTIF($C12:$AG12,AO$4) -> 0 | AP12: =SUM(AI12,AJ12,AK12,AL12,AN12,AO12) -> 0 | AQ12: =IFERROR((AI12+AK12)/AP12,"") | AS12: =COUNTIF($C12:$AG12,#REF!) -> 0 | AT12: =COUNTIF($C12:$AG12,#REF!) -> 0 | AU12: 0 | AV12: =SUM(S12:AH12) -> 0 | AW12: 0 | AX12: 0
A13: =('07-25'!A13) -> Nom 1 Prenom 5 | AH13: =A13 -> Nom 1 Prenom 5 | AI13: =COUNTIF($C13:$AG13,AI$4) -> 0 | AJ13: =COUNTIF($C13:$AG13,AJ$4) -> 0 | AK13: =COUNTIF($C13:$AG13,AK$4) -> 0 | AL13: =COUNTIF($C13:$AG13,AL$4) -> 0 | AM13: =COUNTIF($C13:$AG13,AM$4) -> 0 | AN13: =COUNTIF($C13:$AG13,AN$4) -> 0 | AO13: =COUNTIF($C13:$AG13,AO$4) -> 0 | AP13: =SUM(AI13,AJ13,AK13,AL13,AN13,AO13) -> 0 | AQ13: =IFERROR((AI13+AK13)/AP13,"") | AS13: =COUNTIF($C13:$AG13,#REF!) -> 0 | AT13: =COUNTIF($C13:$AG13,#REF!) -> 0 | AU13: 0 | AV13: =SUM(S13:AH13) -> 0 | AW13: 0 | AX13: 0
A14: =('07-25'!A14) -> Nom 1 Prenom 6 | AH14: =A14 -> Nom 1 Prenom 6 | AI14: =COUNTIF($C14:$AG14,AI$4) -> 0 | AJ14: =COUNTIF($C14:$AG14,AJ$4) -> 0 | AK14: =COUNTIF($C14:$AG14,AK$4) -> 0 | AL14: =COUNTIF($C14:$AG14,AL$4) -> 0 | AM14: =COUNTIF($C14:$AG14,AM$4) -> 0 | AN14: =COUNTIF($C14:$AG14,AN$4) -> 0 | AO14: =COUNTIF($C14:$AG14,AO$4) -> 0 | AP14: =SUM(AI14,AJ14,AK14,AL14,AN14,AO14) -> 0 | AQ14: =IFERROR((AI14+AK14)/AP14,"") | AS14: =COUNTIF($C14:$AG14,#REF!) -> 0 | AT14: =COUNTIF($C14:$AG14,#REF!) -> 0 | AU14: 0 | AV14: =SUM(S14:AH14) -> 0 | AW14: 0 | AX14: 0
A15: =('07-25'!A15) -> Nom 1 Prenom 7 | AH15: =A15 -> Nom 1 Prenom 7 | AI15: =COUNTIF($C15:$AG15,AI$4) -> 0 | AJ15: =COUNTIF($C15:$AG15,AJ$4) -> 0 | AK15: =COUNTIF($C15:$AG15,AK$4) -> 0 | AL15: =COUNTIF($C15:$AG15,AL$4) -> 0 | AM15: =COUNTIF($C15:$AG15,AM$4) -> 0 | AN15: =COUNTIF($C15:$AG15,AN$4) -> 0 | AO15: =COUNTIF($C15:$AG15,AO$4) -> 0 | AP15: =SUM(AI15,AJ15,AK15,AL15,AN15,AO15) -> 0 | AQ15: =IFERROR((AI15+AK15)/AP15,"") | AS15: =COUNTIF($C15:$AG15,#REF!) -> 0 | AT15: =COUNTIF($C15:$AG15,#REF!) -> 0 | AU15: 0 | AV15: =SUM(S15:AH15) -> 0 | AW15: 0 | AX15: 0
A16: =('07-25'!A16) -> Nom 1 Prenom 8 | AH16: =A16 -> Nom 1 Prenom 8 | AI16: =COUNTIF($C16:$AG16,AI$4) -> 0 | AJ16: =COUNTIF($C16:$AG16,AJ$4) -> 0 | AK16: =COUNTIF($C16:$AG16,AK$4) -> 0 | AL16: =COUNTIF($C16:$AG16,AL$4) -> 0 | AM16: =COUNTIF($C16:$AG16,AM$4) -> 0 | AN16: =COUNTIF($C16:$AG16,AN$4) -> 0 | AO16: =COUNTIF($C16:$AG16,AO$4) -> 0 | AP16: =SUM(AI16,AJ16,AK16,AL16,AN16,AO16) -> 0 | AQ16: =IFERROR((AI16+AK16)/AP16,"") | AS16: =COUNTIF($C16:$AG16,#REF!) -> 0 | AT16: =COUNTIF($C16:$AG16,#REF!) -> 0 | AU16: 0 | AV16: =SUM(S16:AH16) -> 0 | AW16: 0 | AX16: 0
A17: =('07-25'!A17) -> Nom 1 Prenom 9 | AH17: =A17 -> Nom 1 Prenom 9 | AI17: =COUNTIF($C17:$AG17,AI$4) -> 0 | AJ17: =COUNTIF($C17:$AG17,AJ$4) -> 0 | AK17: =COUNTIF($C17:$AG17,AK$4) -> 0 | AL17: =COUNTIF($C17:$AG17,AL$4) -> 0 | AM17: =COUNTIF($C17:$AG17,AM$4) -> 0 | AN17: =COUNTIF($C17:$AG17,AN$4) -> 0 | AO17: =COUNTIF($C17:$AG17,AO$4) -> 0 | AP17: =SUM(AI17,AJ17,AK17,AL17,AN17,AO17) -> 0 | AQ17: =IFERROR((AI17+AK17)/AP17,"") | AS17: =COUNTIF($C17:$AG17,#REF!) -> 0 | AT17: =COUNTIF($C17:$AG17,#REF!) -> 0 | AU17: 0 | AV17: =SUM(S17:AH17) -> 0 | AW17: 0 | AX17: 0
A18: =('07-25'!A18) -> Nom 1 Prenom 10 | AH18: =A18 -> Nom 1 Prenom 10 | AI18: =COUNTIF($C18:$AG18,AI$4) -> 0 | AJ18: =COUNTIF($C18:$AG18,AJ$4) -> 0 | AK18: =COUNTIF($C18:$AG18,AK$4) -> 0 | AL18: =COUNTIF($C18:$AG18,AL$4) -> 0 | AM18: =COUNTIF($C18:$AG18,AM$4) -> 0 | AN18: =COUNTIF($C18:$AG18,AN$4) -> 0 | AO18: =COUNTIF($C18:$AG18,AO$4) -> 0 | AP18: =SUM(AI18,AJ18,AK18,AL18,AN18,AO18) -> 0 | AQ18: =IFERROR((AI18+AK18)/AP18,"") | AS18: =COUNTIF($C18:$AG18,#REF!) -> 0 | AT18: =COUNTIF($C18:$AG18,#REF!) -> 0 | AU18: 0 | AV18: =SUM(S18:AH18) -> 0 | AW18: 0 | AX18: 0
A19: =('07-25'!A19) -> Nom 1 Prenom 11 | AH19: =A19 -> Nom 1 Prenom 11 | AI19: =COUNTIF($C19:$AG19,AI$4) -> 0 | AJ19: =COUNTIF($C19:$AG19,AJ$4) -> 0 | AK19: =COUNTIF($C19:$AG19,AK$4) -> 0 | AL19: =COUNTIF($C19:$AG19,AL$4) -> 0 | AM19: =COUNTIF($C19:$AG19,AM$4) -> 0 | AN19: =COUNTIF($C19:$AG19,AN$4) -> 0 | AO19: =COUNTIF($C19:$AG19,AO$4) -> 0 | AP19: =SUM(AI19,AJ19,AK19,AL19,AN19,AO19) -> 0 | AQ19: =IFERROR((AI19+AK19)/AP19,"") | AS19: =COUNTIF($C19:$AG19,#REF!) -> 0 | AT19: =COUNTIF($C19:$AG19,#REF!) -> 0 | AU19: 0 | AV19: =SUM(S19:AH19) -> 0 | AW19: 0 | AX19: 0
A20: =('07-25'!A20) -> Nom 1 Prenom 12 | AH20: =A20 -> Nom 1 Prenom 12 | AI20: =COUNTIF($C20:$AG20,AI$4) -> 0 | AJ20: =COUNTIF($C20:$AG20,AJ$4) -> 0 | AK20: =COUNTIF($C20:$AG20,AK$4) -> 0 | AL20: =COUNTIF($C20:$AG20,AL$4) -> 0 | AM20: =COUNTIF($C20:$AG20,AM$4) -> 0 | AN20: =COUNTIF($C20:$AG20,AN$4) -> 0 | AO20: =COUNTIF($C20:$AG20,AO$4) -> 0 | AP20: =SUM(AI20,AJ20,AK20,AL20,AN20,AO20) -> 0 | AQ20: =IFERROR((AI20+AK20)/AP20,"") | AS20: =COUNTIF($C20:$AG20,#REF!) -> 0 | AT20: =COUNTIF($C20:$AG20,#REF!) -> 0 | AU20: 0 | AV20: =SUM(S20:AH20) -> 0 | AW20: 0 | AX20: 0
... A39: =('07-25'!A39) -> 0 | AH39: =A39 -> 0 | AI39: =COUNTIF($C39:$AG39,AI$4) -> 0 | AJ39: =COUNTIF($C39:$AG39,AJ$4) -> 0 | AK39: =COUNTIF($C39:$AG39,AK$4) -> 0 | AL39: =COUNTIF($C39:$AG39,AL$4) -> 0 | AM39: =COUNTIF($C39:$AG39,AM$4) -> 0 | AN39: =COUNTIF($C39:$AG39,AN$4) -> 0 | AO39: =COUNTIF($C39:$AG39,AO$4) -> 0 | AP39: =SUM(AI39,AJ39,AK39,AL39,AN39,AO39) -> 0 | AQ39: =IFERROR((AI39+AK39)/AP39,"") | AS39: =COUNTIF($C39:$AG39,#REF!) -> 0 | AT39: =COUNTIF($C39:$AG39,#REF!) -> 0 | AU39: 0 | AV39: =SUM(S39:AH39) -> 0 | AW39: 0 | AX39: 0

Sheet 11-25
B2: N O V E M B E R 2 0 2 5 | AI2: N O V E M B E R 2 0 2 5
AI3: OPLEIDING | AS3: WEDSTRIJD
AI4: P | AJ4: B | AK4: I | AL4: C | AM4: A | AN4: M | AO4: S | AP4: Totale | AQ4: % | AS4: T | AT4: R | AU4: Buts | AV4: Temps de jeu | AW4: Carte jaune
AI5: Présent | AJ5: Blessé | AK5: Individuel | AL5: Congé | AM5: Annulé | AN5: Malade | AO5: Sans raison | AS5: Titulaire | AT5: Réserve | AX5: Carte Rouge
A7: Nom + prénom | B7: ma | C7: di | D7: wo | E7: do | F7: vr | G7: za | H7: zo | I7: ma | J7: di | K7: wo | L7: do | M7: vr | N7: za | O7: zo | P7: ma | Q7: di | R7: wo | S7: do | T7: vr | U7: za | V7: zo | W7: ma | X7: di | Y7: wo | Z7: do | AA7: vr | AB7: za | AC7: zo | AD7: ma | AE7: di | AF7: wo | AH7: Nom + prénom
B8: 1 | C8: 2 | D8: 3 | E8: 4 | F8: 5 | G8: 6 | H8: 7 | I8: 8 | J8: 9 | K8: 10 | L8: 11 | M8: 12 | N8: 13 | O8: 14 | P8: 15 | Q8: 16 | R8: 17 | S8: 18 | T8: 19 | U8: 20 | V8: 21 | W8: 22 | X8: 23 | Y8: 24 | Z8: 25 | AA8: 26 | AB8: 27 | AC8: 28 | AD8: 29 | AE8: 30 | AF8: 31
A9: =('07-25'!A9) -> Nom 1 Prenom 1 | AH9: =A9 -> Nom 1 Prenom 1 | AI9: =COUNTIF($C9:$AG9,AI$4) -> 0 | AJ9: =COUNTIF($C9:$AG9,AJ$4) -> 0 | AK9: =COUNTIF($C9:$AG9,AK$4) -> 0 | AL9: =COUNTIF($C9:$AG9,AL$4) -> 0 | AM9: =COUNTIF($C9:$AG9,AM$4) -> 0 | AN9: =COUNTIF($C9:$AG9,AN$4) -> 0 | AO9: =COUNTIF($C9:$AG9,AO$4) -> 0 | AP9: =SUM(AI9,AJ9,AK9,AL9,AN9,AO9) -> 0 | AQ9: =IFERROR((AI9+AK9)/AP9,"") | AS9: =COUNTIF($C9:$AG9,#REF!) -> 0 | AT9: =COUNTIF($C9:$AG9,#REF!) -> 0 | AU9: 0 | AV9: =SUM(S9:AH9) -> 0 | AW9: 0 | AX9: 0
A10: =('07-25'!A10) -> Nom 1 Prenom 2 | AH10: =A10 -> Nom 1 Prenom 2 | AI10: =COUNTIF($C10:$AG10,AI$4) -> 0 | AJ10: =COUNTIF($C10:$AG10,AJ$4) -> 0 | AK10: =COUNTIF($C10:$AG10,AK$4) -> 0 | AL10: =COUNTIF($C10:$AG10,AL$4) -> 0 | AM10: =COUNTIF($C10:$AG10,AM$4) -> 0 | AN10: =COUNTIF($C10:$AG10,AN$4) -> 0 | AO10: =COUNTIF($C10:$AG10,AO$4) -> 0 | AP10: =SUM(AI10,AJ10,AK10,AL10,AN10,AO10) -> 0 | AQ10: =IFERROR((AI10+AK10)/AP10,"") | AS10: =COUNTIF($C10:$AG10,#REF!) -> 0 | AT10: =COUNTIF($C10:$AG10,#REF!) -> 0 | AU10: 0 | AV10: =SUM(S10:AH10) -> 0 | AW10: 0 | AX10: 0
A11: =('07-25'!A11) -> Nom 1 Prenom 3 | AH11: =A11 -> Nom 1 Prenom 3 | AI11: =COUNTIF($C11:$AG11,AI$4) -> 0 | AJ11: =COUNTIF($C11:$AG11,AJ$4) -> 0 | AK11: =COUNTIF($C11:$AG11,AK$4) -> 0 | AL11: =COUNTIF($C11:$AG11,AL$4) -> 0 | AM11: =COUNTIF($C11:$AG11,AM$4) -> 0 | AN11: =COUNTIF($C11:$AG11,AN$4) -> 0 | AO11: =COUNTIF($C11:$AG11,AO$4) -> 0 | AP11: =SUM(AI11,AJ11,AK11,AL11,AN11,AO11) -> 0 | AQ11: =IFERROR((AI11+AK11)/AP11,"") | AS11: =COUNTIF($C11:$AG11,#REF!) -> 0 | AT11: =COUNTIF($C11:$AG11,#REF!) -> 0 | AU11: 0 | AV11: =SUM(S11:AH11) -> 0 | AW11: 0 | AX11: 0
A12: =('07-25'!A12) -> Nom 1 Prenom 4 | AH12: =A12 -> Nom 1 Prenom 4 | AI12: =COUNTIF($C12:$AG12,AI$4) -> 0 | AJ12: =COUNTIF($C12:$AG12,AJ$4) -> 0 | AK12: =COUNTIF($C12:$AG12,AK$4) -> 0 | AL12: =COUNTIF($C12:$AG12,AL$4) -> 0 | AM12: =COUNTIF($C12:$AG12,AM$4) -> 0 | AN12: =COUNTIF($C12:$AG12,AN$4) -> 0 | AO12: =COUNTIF($C12:$AG12,AO$4) -> 0 | AP12: =SUM(AI12,AJ12,AK12,AL12,AN12,AO12) -> 0 | AQ12: =IFERROR((AI12+AK12)/AP12,"") | AS12: =COUNTIF($C12:$AG12,#REF!) -> 0 | AT12: =COUNTIF($C12:$AG12,#REF!) -> 0 | AU12: 0 | AV12: =SUM(S12:AH12) -> 0 | AW12: 0 | AX12: 0
A13: =('07-25'!A13) -> Nom 1 Prenom 5 | AH13: =A13 -> Nom 1 Prenom 5 | AI13: =COUNTIF($C13:$AG13,AI$4) -> 0 | AJ13: =COUNTIF($C13:$AG13,AJ$4) -> 0 | AK13: =COUNTIF($C13:$AG13,AK$4) -> 0 | AL13: =COUNTIF($C13:$AG13,AL$4) -> 0 | AM13: =COUNTIF($C13:$AG13,AM$4) -> 0 | AN13: =COUNTIF($C13:$AG13,AN$4) -> 0 | AO13: =COUNTIF($C13:$AG13,AO$4) -> 0 | AP13: =SUM(AI13,AJ13,AK13,AL13,AN13,AO13) -> 0 | AQ13: =IFERROR((AI13+AK13)/AP13,"") | AS13: =COUNTIF($C13:$AG13,#REF!) -> 0 | AT13: =COUNTIF($C13:$AG13,#REF!) -> 0 | AU13: 0 | AV13: =SUM(S13:AH13) -> 0 | AW13: 0 | AX13: 0
A14: =('07-25'!A14) -> Nom 1 Prenom 6 | AH14: =A14 -> Nom 1 Prenom 6 | AI14: =COUNTIF($C14:$AG14,AI$4) -> 0 | AJ14: =COUNTIF($C14:$AG14,AJ$4) -> 0 | AK14: =COUNTIF($C14:$AG14,AK$4) -> 0 | AL14: =COUNTIF($C14:$AG14,AL$4) -> 0 | AM14: =COUNTIF($C14:$AG14,AM$4) -> 0 | AN14: =COUNTIF($C14:$AG14,AN$4) -> 0 | AO14: =COUNTIF($C14:$AG14,AO$4) -> 0 | AP14: =SUM(AI14,AJ14,AK14,AL14,AN14,AO14) -> 0 | AQ14: =IFERROR((AI14+AK14)/AP14,"") | AS14: =COUNTIF($C14:$AG14,#REF!) -> 0 | AT14: =COUNTIF($C14:$AG14,#REF!) -> 0 | AU14: 0 | AV14: =SUM(S14:AH14) -> 0 | AW14: 0 | AX14: 0
A15: =('07-25'!A15) -> Nom 1 Prenom 7 | AH15: =A15 -> Nom 1 Prenom 7 | AI15: =COUNTIF($C15:$AG15,AI$4) -> 0 | AJ15: =COUNTIF($C15:$AG15,AJ$4) -> 0 | AK15: =COUNTIF($C15:$AG15,AK$4) -> 0 | AL15: =COUNTIF($C15:$AG15,AL$4) -> 0 | AM15: =COUNTIF($C15:$AG15,AM$4) -> 0 | AN15: =COUNTIF($C15:$AG15,AN$4) -> 0 | AO15: =COUNTIF($C15:$AG15,AO$4) -> 0 | AP15: =SUM(AI15,AJ15,AK15,AL15,AN15,AO15) -> 0 | AQ15: =IFERROR((AI15+AK15)/AP15,"") | AS15: =COUNTIF($C15:$AG15,#REF!) -> 0 | AT15: =COUNTIF($C15:$AG15,#REF!) -> 0 | AU15: 0 | AV15: =SUM(S15:AH15) -> 0 | AW15: 0 | AX15: 0
A16: =('07-25'!A16) -> Nom 1 Prenom 8 | AH16: =A16 -> Nom 1 Prenom 8 | AI16: =COUNTIF($C16:$AG16,AI$4) -> 0 | AJ16: =COUNTIF($C16:$AG16,AJ$4) -> 0 | AK16: =COUNTIF($C16:$AG16,AK$4) -> 0 | AL16: =COUNTIF($C16:$AG16,AL$4) -> 0 | AM16: =COUNTIF($C16:$AG16,AM$4) -> 0 | AN16: =COUNTIF($C16:$AG16,AN$4) -> 0 | AO16: =COUNTIF($C16:$AG16,AO$4) -> 0 | AP16: =SUM(AI16,AJ16,AK16,AL16,AN16,AO16) -> 0 | AQ16: =IFERROR((AI16+AK16)/AP16,"") | AS16: =COUNTIF($C16:$AG16,#REF!) -> 0 | AT16: =COUNTIF($C16:$AG16,#REF!) -> 0 | AU16: 0 | AV16: =SUM(S16:AH16) -> 0 | AW16: 0 | AX16: 0
A17: =('07-25'!A17) -> Nom 1 Prenom 9 | AH17: =A17 -> Nom 1 Prenom 9 | AI17: =COUNTIF($C17:$AG17,AI$4) -> 0 | AJ17: =COUNTIF($C17:$AG17,AJ$4) -> 0 | AK17: =COUNTIF($C17:$AG17,AK$4) -> 0 | AL17: =COUNTIF($C17:$AG17,AL$4) -> 0 | AM17: =COUNTIF($C17:$AG17,AM$4) -> 0 | AN17: =COUNTIF($C17:$AG17,AN$4) -> 0 | AO17: =COUNTIF($C17:$AG17,AO$4) -> 0 | AP17: =SUM(AI17,AJ17,AK17,AL17,AN17,AO17) -> 0 | AQ17: =IFERROR((AI17+AK17)/AP17,"") | AS17: =COUNTIF($C17:$AG17,#REF!) -> 0 | AT17: =COUNTIF($C17:$AG17,#REF!) -> 0 | AU17: 0 | AV17: =SUM(S17:AH17) -> 0 | AW17: 0 | AX17: 0
A18: =('07-25'!A18) -> Nom 1 Prenom 10 | AH18: =A18 -> Nom 1 Prenom 10 | AI18: =COUNTIF($C18:$AG18,AI$4) -> 0 | AJ18: =COUNTIF($C18:$AG18,AJ$4) -> 0 | AK18: =COUNTIF($C18:$AG18,AK$4) -> 0 | AL18: =COUNTIF($C18:$AG18,AL$4) -> 0 | AM18: =COUNTIF($C18:$AG18,AM$4) -> 0 | AN18: =COUNTIF($C18:$AG18,AN$4) -> 0 | AO18: =COUNTIF($C18:$AG18,AO$4) -> 0 | AP18: =SUM(AI18,AJ18,AK18,AL18,AN18,AO18) -> 0 | AQ18: =IFERROR((AI18+AK18)/AP18,"") | AS18: =COUNTIF($C18:$AG18,#REF!) -> 0 | AT18: =COUNTIF($C18:$AG18,#REF!) -> 0 | AU18: 0 | AV18: =SUM(S18:AH18) -> 0 | AW18: 0 | AX18: 0
A19: =('07-25'!A19) -> Nom 1 Prenom 11 | AH19: =A19 -> Nom 1 Prenom 11 | AI19: =COUNTIF($C19:$AG19,AI$4) -> 0 | AJ19: =COUNTIF($C19:$AG19,AJ$4) -> 0 | AK19: =COUNTIF($C19:$AG19,AK$4) -> 0 | AL19: =COUNTIF($C19:$AG19,AL$4) -> 0 | AM19: =COUNTIF($C19:$AG19,AM$4) -> 0 | AN19: =COUNTIF($C19:$AG19,AN$4) -> 0 | AO19: =COUNTIF($C19:$AG19,AO$4) -> 0 | AP19: =SUM(AI19,AJ19,AK19,AL19,AN19,AO19) -> 0 | AQ19: =IFERROR((AI19+AK19)/AP19,"") | AS19: =COUNTIF($C19:$AG19,#REF!) -> 0 | AT19: =COUNTIF($C19:$AG19,#REF!) -> 0 | AU19: 0 | AV19: =SUM(S19:AH19) -> 0 | AW19: 0 | AX19: 0
A20: =('07-25'!A20) -> Nom 1 Prenom 12 | AH20: =A20 -> Nom 1 Prenom 12 | AI20: =COUNTIF($C20:$AG20,AI$4) -> 0 | AJ20: =COUNTIF($C20:$AG20,AJ$4) -> 0 | AK20: =COUNTIF($C20:$AG20,AK$4) -> 0 | AL20: =COUNTIF($C20:$AG20,AL$4) -> 0 | AM20: =COUNTIF($C20:$AG20,AM$4) -> 0 | AN20: =COUNTIF($C20:$AG20,AN$4) -> 0 | AO20: =COUNTIF($C20:$AG20,AO$4) -> 0 | AP20: =SUM(AI20,AJ20,AK20,AL20,AN20,AO20) -> 0 | AQ20: =IFERROR((AI20+AK20)/AP20,"") | AS20: =COUNTIF($C20:$AG20,#REF!) -> 0 | AT20: =COUNTIF($C20:$AG20,#REF!) -> 0 | AU20: 0 | AV20: =SUM(S20:AH20) -> 0 | AW20: 0 | AX20: 0
... A39: =('07-25'!A39) -> 0 | AH39: =A39 -> 0 | AI39: =COUNTIF($C39:$AG39,AI$4) -> 0 | AJ39: =COUNTIF($C39:$AG39,AJ$4) -> 0 | AK39: =COUNTIF($C39:$AG39,AK$4) -> 0 | AL39: =COUNTIF($C39:$AG39,AL$4) -> 0 | AM39: =COUNTIF($C39:$AG39,AM$4) -> 0 | AN39: =COUNTIF($C39:$AG39,AN$4) -> 0 | AO39: =COUNTIF($C39:$AG39,AO$4) -> 0 | AP39: =SUM(AI39,AJ39,AK39,AL39,AN39,AO39) -> 0 | AQ39: =IFERROR((AI39+AK39)/AP39,"") | AS39: =COUNTIF($C39:$AG39,#REF!) -> 0 | AT39: =COUNTIF($C39:$AG39,#REF!) -> 0 | AU39: 0 | AV39: =SUM(S39:AH39) -> 0 | AW39: 0 | AX39: 0

Sheet 12-25
B2: D E C E M B E R 2 0 2 5 | AI2: D E C E M B E R 2 0 2 5
AI3: OPLEIDING | AS3: WEDSTRIJD
AI4: P | AJ4: B | AK4: I | AL4: C | AM4: A | AN4: M | AO4: S | AP4: Totale | AQ4: % | AS4: T | AT4: R | AU4: Buts | AV4: Temps de jeu | AW4: Carte jaune
AI5: Présent | AJ5: Blessé | AK5: Individuel | AL5: Congé | AM5: Annulé | AN5: Malade | AO5: Sans raison | AS5: Titulaire | AT5: Réserve | AX5: Carte Rouge
A7: Nom + prénom | B7: ma | C7: di | D7: wo | E7: do | F7: vr | G7: za | H7: zo | I7: ma | J7: di | K7: wo | L7: do | M7: vr | N7: za | O7: zo | P7: ma | Q7: di | R7: wo | S7: do | T7: vr | U7: za | V7: zo | W7: ma | X7: di | Y7: wo | Z7: do | AA7: vr | AB7: za | AC7: zo | AD7: ma | AE7: di | AF7: wo | AH7: Nom + prénom
B8: 1 | C8: 2 | D8: 3 | E8: 4 | F8: 5 | G8: 6 | H8: 7 | I8: 8 | J8: 9 | K8: 10 | L8: 11 | M8: 12 | N8: 13 | O8: 14 | P8: 15 | Q8: 16 | R8: 17 | S8: 18 | T8: 19 | U8: 20 | V8: 21 | W8: 22 | X8: 23 | Y8: 24 | Z8: 25 | AA8: 26 | AB8: 27 | AC8: 28 | AD8: 29 | AE8: 30 | AF8: 31
A9: =('07-25'!A9) -> Nom 1 Prenom 1 | AH9: =A9 -> Nom 1 Prenom 1 | AI9: =COUNTIF($C9:$AG9,AI$4) -> 0 | AJ9: =COUNTIF($C9:$AG9,AJ$4) -> 0 | AK9: =COUNTIF($C9:$AG9,AK$4) -> 0 | AL9: =COUNTIF($C9:$AG9,AL$4) -> 0 | AM9: =COUNTIF($C9:$AG9,AM$4) -> 0 | AN9: =COUNTIF($C9:$AG9,AN$4) -> 0 | AO9: =COUNTIF($C9:$AG9,AO$4) -> 0 | AP9: =SUM(AI9,AJ9,AK9,AL9,AN9,AO9) -> 0 | AQ9: =IFERROR((AI9+AK9)/AP9,"") | AS9: =COUNTIF($C9:$AG9,#REF!) -> 0 | AT9: =COUNTIF($C9:$AG9,#REF!) -> 0 | AU9: 0 | AV9: =SUM(S9:AH9) -> 0 | AW9: 0 | AX9: 0
A10: =('07-25'!A10) -> Nom 1 Prenom 2 | AH10: =A10 -> Nom 1 Prenom 2 | AI10: =COUNTIF($C10:$AG10,AI$4) -> 0 | AJ10: =COUNTIF($C10:$AG10,AJ$4) -> 0 | AK10: =COUNTIF($C10:$AG10,AK$4) -> 0 | AL10: =COUNTIF($C10:$AG10,AL$4) -> 0 | AM10: =COUNTIF($C10:$AG10,AM$4) -> 0 | AN10: =COUNTIF($C10:$AG10,AN$4) -> 0 | AO10: =COUNTIF($C10:$AG10,AO$4) -> 0 | AP10: =SUM(AI10,AJ10,AK10,AL10,AN10,AO10) -> 0 | AQ10: =IFERROR((AI10+AK10)/AP10,"") | AS10: =COUNTIF($C10:$AG10,#REF!) -> 0 | AT10: =COUNTIF($C10:$AG10,#REF!) -> 0 | AU10: 0 | AV10: =SUM(S10:AH10) -> 0 | AW10: 0 | AX10: 0
A11: =('07-25'!A11) -> Nom 1 Prenom 3 | AH11: =A11 -> Nom 1 Prenom 3 | AI11: =COUNTIF($C11:$AG11,AI$4) -> 0 | AJ11: =COUNTIF($C11:$AG11,AJ$4) -> 0 | AK11: =COUNTIF($C11:$AG11,AK$4) -> 0 | AL11: =COUNTIF($C11:$AG11,AL$4) -> 0 | AM11: =COUNTIF($C11:$AG11,AM$4) -> 0 | AN11: =COUNTIF($C11:$AG11,AN$4) -> 0 | AO11: =COUNTIF($C11:$AG11,AO$4) -> 0 | AP11: =SUM(AI11,AJ11,AK11,AL11,AN11,AO11) -> 0 | AQ11: =IFERROR((AI11+AK11)/AP11,"") | AS11: =COUNTIF($C11:$AG11,#REF!) -> 0 | AT11: =COUNTIF($C11:$AG11,#REF!) -> 0 | AU11: 0 | AV11: =SUM(S11:AH11) -> 0 | AW11: 0 | AX11: 0
A12: =('07-25'!A12) -> Nom 1 Prenom 4 | AH12: =A12 -> Nom 1 Prenom 4 | AI12: =COUNTIF($C12:$AG12,AI$4) -> 0 | AJ12: =COUNTIF($C12:$AG12,AJ$4) -> 0 | AK12: =COUNTIF($C12:$AG12,AK$4) -> 0 | AL12: =COUNTIF($C12:$AG12,AL$4) -> 0 | AM12: =COUNTIF($C12:$AG12,AM$4) -> 0 | AN12: =COUNTIF($C12:$AG12,AN$4) -> 0 | AO12: =COUNTIF($C12:$AG12,AO$4) -> 0 | AP12: =SUM(AI12,AJ12,AK12,AL12,AN12,AO12) -> 0 | AQ12: =IFERROR((AI12+AK12)/AP12,"") | AS12: =COUNTIF($C12:$AG12,#REF!) -> 0 | AT12: =COUNTIF($C12:$AG12,#REF!) -> 0 | AU12: 0 | AV12: =SUM(S12:AH12) -> 0 | AW12: 0 | AX12: 0
A13: =('07-25'!A13) -> Nom 1 Prenom 5 | AH13: =A13 -> Nom 1 Prenom 5 | AI13: =COUNTIF($C13:$AG13,AI$4) -> 0 | AJ13: =COUNTIF($C13:$AG13,AJ$4) -> 0 | AK13: =COUNTIF($C13:$AG13,AK$4) -> 0 | AL13: =COUNTIF($C13:$AG13,AL$4) -> 0 | AM13: =COUNTIF($C13:$AG13,AM$4) -> 0 | AN13: =COUNTIF($C13:$AG13,AN$4) -> 0 | AO13: =COUNTIF($C13:$AG13,AO$4) -> 0 | AP13: =SUM(AI13,AJ13,AK13,AL13,AN13,AO13) -> 0 | AQ13: =IFERROR((AI13+AK13)/AP13,"") | AS13: =COUNTIF($C13:$AG13,#REF!) -> 0 | AT13: =COUNTIF($C13:$AG13,#REF!) -> 0 | AU13: 0 | AV13: =SUM(S13:AH13) -> 0 | AW13: 0 | AX13: 0
A14: =('07-25'!A14) -> Nom 1 Prenom 6 | AH14: =A14 -> Nom 1 Prenom 6 | AI14: =COUNTIF($C14:$AG14,AI$4) -> 0 | AJ14: =COUNTIF($C14:$AG14,AJ$4) -> 0 | AK14: =COUNTIF($C14:$AG14,AK$4) -> 0 | AL14: =COUNTIF($C14:$AG14,AL$4) -> 0 | AM14: =COUNTIF($C14:$AG14,AM$4) -> 0 | AN14: =COUNTIF($C14:$AG14,AN$4) -> 0 | AO14: =COUNTIF($C14:$AG14,AO$4) -> 0 | AP14: =SUM(AI14,AJ14,AK14,AL14,AN14,AO14) -> 0 | AQ14: =IFERROR((AI14+AK14)/AP14,"") | AS14: =COUNTIF($C14:$AG14,#REF!) -> 0 | AT14: =COUNTIF($C14:$AG14,#REF!) -> 0 | AU14: 0 | AV14: =SUM(S14:AH14) -> 0 | AW14: 0 | AX14: 0
A15: =('07-25'!A15) -> Nom 1 Prenom 7 | AH15: =A15 -> Nom 1 Prenom 7 | AI15: =COUNTIF($C15:$AG15,AI$4) -> 0 | AJ15: =COUNTIF($C15:$AG15,AJ$4) -> 0 | AK15: =COUNTIF($C15:$AG15,AK$4) -> 0 | AL15: =COUNTIF($C15:$AG15,AL$4) -> 0 | AM15: =COUNTIF($C15:$AG15,AM$4) -> 0 | AN15: =COUNTIF($C15:$AG15,AN$4) -> 0 | AO15: =COUNTIF($C15:$AG15,AO$4) -> 0 | AP15: =SUM(AI15,AJ15,AK15,AL15,AN15,AO15) -> 0 | AQ15: =IFERROR((AI15+AK15)/AP15,"") | AS15: =COUNTIF($C15:$AG15,#REF!) -> 0 | AT15: =COUNTIF($C15:$AG15,#REF!) -> 0 | AU15: 0 | AV15: =SUM(S15:AH15) -> 0 | AW15: 0 | AX15: 0
A16: =('07-25'!A16) -> Nom 1 Prenom 8 | AH16: =A16 -> Nom 1 Prenom 8 | AI16: =COUNTIF($C16:$AG16,AI$4) -> 0 | AJ16: =COUNTIF($C16:$AG16,AJ$4) -> 0 | AK16: =COUNTIF($C16:$AG16,AK$4) -> 0 | AL16: =COUNTIF($C16:$AG16,AL$4) -> 0 | AM16: =COUNTIF($C16:$AG16,AM$4) -> 0 | AN16: =COUNTIF($C16:$AG16,AN$4) -> 0 | AO16: =COUNTIF($C16:$AG16,AO$4) -> 0 | AP16: =SUM(AI16,AJ16,AK16,AL16,AN16,AO16) -> 0 | AQ16: =IFERROR((AI16+AK16)/AP16,"") | AS16: =COUNTIF($C16:$AG16,#REF!) -> 0 | AT16: =COUNTIF($C16:$AG16,#REF!) -> 0 | AU16: 0 | AV16: =SUM(S16:AH16) -> 0 | AW16: 0 | AX16: 0
A17: =('07-25'!A17) -> Nom 1 Prenom 9 | AH17: =A17 -> Nom 1 Prenom 9 | AI17: =COUNTIF($C17:$AG17,AI$4) -> 0 | AJ17: =COUNTIF($C17:$AG17,AJ$4) -> 0 | AK17: =COUNTIF($C17:$AG17,AK$4) -> 0 | AL17: =COUNTIF($C17:$AG17,AL$4) -> 0 | AM17: =COUNTIF($C17:$AG17,AM$4) -> 0 | AN17: =COUNTIF($C17:$AG17,AN$4) -> 0 | AO17: =COUNTIF($C17:$AG17,AO$4) -> 0 | AP17: =SUM(AI17,AJ17,AK17,AL17,AN17,AO17) -> 0 | AQ17: =IFERROR((AI17+AK17)/AP17,"") | AS17: =COUNTIF($C17:$AG17,#REF!) -> 0 | AT17: =COUNTIF($C17:$AG17,#REF!) -> 0 | AU17: 0 | AV17: =SUM(S17:AH17) -> 0 | AW17: 0 | AX17: 0
A18: =('07-25'!A18) -> Nom 1 Prenom 10 | AH18: =A18 -> Nom 1 Prenom 10 | AI18: =COUNTIF($C18:$AG18,AI$4) -> 0 | AJ18: =COUNTIF($C18:$AG18,AJ$4) -> 0 | AK18: =COUNTIF($C18:$AG18,AK$4) -> 0 | AL18: =COUNTIF($C18:$AG18,AL$4) -> 0 | AM18: =COUNTIF($C18:$AG18,AM$4) -> 0 | AN18: =COUNTIF($C18:$AG18,AN$4) -> 0 | AO18: =COUNTIF($C18:$AG18,AO$4) -> 0 | AP18: =SUM(AI18,AJ18,AK18,AL18,AN18,AO18) -> 0 | AQ18: =IFERROR((AI18+AK18)/AP18,"") | AS18: =COUNTIF($C18:$AG18,#REF!) -> 0 | AT18: =COUNTIF($C18:$AG18,#REF!) -> 0 | AU18: 0 | AV18: =SUM(S18:AH18) -> 0 | AW18: 0 | AX18: 0
A19: =('07-25'!A19) -> Nom 1 Prenom 11 | AH19: =A19 -> Nom 1 Prenom 11 | AI19: =COUNTIF($C19:$AG19,AI$4) -> 0 | AJ19: =COUNTIF($C19:$AG19,AJ$4) -> 0 | AK19: =COUNTIF($C19:$AG19,AK$4) -> 0 | AL19: =COUNTIF($C19:$AG19,AL$4) -> 0 | AM19: =COUNTIF($C19:$AG19,AM$4) -> 0 | AN19: =COUNTIF($C19:$AG19,AN$4) -> 0 | AO19: =COUNTIF($C19:$AG19,AO$4) -> 0 | AP19: =SUM(AI19,AJ19,AK19,AL19,AN19,AO19) -> 0 | AQ19: =IFERROR((AI19+AK19)/AP19,"") | AS19: =COUNTIF($C19:$AG19,#REF!) -> 0 | AT19: =COUNTIF($C19:$AG19,#REF!) -> 0 | AU19: 0 | AV19: =SUM(S19:AH19) -> 0 | AW19: 0 | AX19: 0
A20: =('07-25'!A20) -> Nom 1 Prenom 12 | AH20: =A20 -> Nom 1 Prenom 12 | AI20: =COUNTIF($C20:$AG20,AI$4) -> 0 | AJ20: =COUNTIF($C20:$AG20,AJ$4) -> 0 | AK20: =COUNTIF($C20:$AG20,AK$4) -> 0 | AL20: =COUNTIF($C20:$AG20,AL$4) -> 0 | AM20: =COUNTIF($C20:$AG20,AM$4) -> 0 | AN20: =COUNTIF($C20:$AG20,AN$4) -> 0 | AO20: =COUNTIF($C20:$AG20,AO$4) -> 0 | AP20: =SUM(AI20,AJ20,AK20,AL20,AN20,AO20) -> 0 | AQ20: =IFERROR((AI20+AK20)/AP20,"") | AS20: =COUNTIF($C20:$AG20,#REF!) -> 0 | AT20: =COUNTIF($C20:$AG20,#REF!) -> 0 | AU20: 0 | AV20: =SUM(S20:AH20) -> 0 | AW20: 0 | AX20: 0
... A39: =('07-25'!A39) -> 0 | AH39: =A39 -> 0 | AI39: =COUNTIF($C39:$AG39,AI$4) -> 0 | AJ39: =COUNTIF($C39:$AG39,AJ$4) -> 0 | AK39: =COUNTIF($C39:$AG39,AK$4) -> 0 | AL39: =COUNTIF($C39:$AG39,AL$4) -> 0 | AM39: =COUNTIF($C39:$AG39,AM$4) -> 0 | AN39: =COUNTIF($C39:$AG39,AN$4) -> 0 | AO39: =COUNTIF($C39:$AG39,AO$4) -> 0 | AP39: =SUM(AI39,AJ39,AK39,AL39,AN39,AO39) -> 0 | AQ39: =IFERROR((AI39+AK39)/AP39,"") | AS39: =COUNTIF($C39:$AG39,#REF!) -> 0 | AT39: =COUNTIF($C39:$AG39,#REF!) -> 0 | AU39: 0 | AV39: =SUM(S39:AH39) -> 0 | AW39: 0 | AX39: 0

Sheet 01-26
B2: J A N U A R Y 2 0 2 6 | AI2: J A N U A R Y 2 0 2 6
AI3: OPLEIDING | AS3: WEDSTRIJD
AI4: P | AJ4: B | AK4: I | AL4: C | AM4: A | AN4: M | AO4: S | AP4: Totale | AQ4: % | AS4: T | AT4: R | AU4: Buts | AV4: Temps de jeu | AW4: Carte jaune
AI5: Présent | AJ5: Blessé | AK5: Individuel | AL5: Congé | AM5: Annulé | AN5: Malade | AO5: Sans raison | AS5: Titulaire | AT5: Réserve | AX5: Carte Rouge
A7: Nom + prénom | B7: ma | C7: di | D7: wo | E7: do | F7: vr | G7: za | H7: zo | I7: ma | J7: di | K7: wo | L7: do | M7: vr | N7: za | O7: zo | P7: ma | Q7: di | R7: wo | S7: do | T7: vr | U7: za | V7: zo | W7: ma | X7: di | Y7: wo | Z7: do | AA7: vr | AB7: za | AC7: zo | AD7: ma | AE7: di | AF7: wo | AH7: Nom + prénom
B8: 1 | C8: 2 | D8: 3 | E8: 4 | F8: 5 | G8: 6 | H8: 7 | I8: 8 | J8: 9 | K8: 10 | L8: 11 | M8: 12 | N8: 13 | O8: 14 | P8: 15 | Q8: 16 | R8: 17 | S8: 18 | T8: 19 | U8: 20 | V8: 21 | W8: 22 | X8: 23 | Y8: 24 | Z8: 25 | AA8: 26 | AB8: 27 | AC8: 28 | AD8: 29 | AE8: 30 | AF8: 31
A9: =('07-25'!A9) -> Nom 1 Prenom 1 | AH9: =A9 -> Nom 1 Prenom 1 | AI9: =COUNTIF($C9:$AG9,AI$4) -> 0 | AJ9: =COUNTIF($C9:$AG9,AJ$4) -> 0 | AK9: =COUNTIF($C9:$AG9,AK$4) -> 0 | AL9: =COUNTIF($C9:$AG9,AL$4) -> 0 | AM9: =COUNTIF($C9:$AG9,AM$4) -> 0 | AN9: =COUNTIF($C9:$AG9,AN$4) -> 0 | AO9: =COUNTIF($C9:$AG9,AO$4) -> 0 | AP9: =SUM(AI9,AJ9,AK9,AL9,AN9,AO9) -> 0 | AQ9: =IFERROR((AI9+AK9)/AP9,"") | AS9: =COUNTIF($C9:$AG9,#REF!) -> 0 | AT9: =COUNTIF($C9:$AG9,#REF!) -> 0 | AU9: 0 | AV9: =SUM(B9:AF9) -> 0 | AW9: 0 | AX9: 0
A10: =('07-25'!A10) -> Nom 1 Prenom 2 | AH10: =A10 -> Nom 1 Prenom 2 | AI10: =COUNTIF($C10:$AG10,AI$4) -> 0 | AJ10: =COUNTIF($C10:$AG10,AJ$4) -> 0 | AK10: =COUNTIF($C10:$AG10,AK$4) -> 0 | AL10: =COUNTIF($C10:$AG10,AL$4) -> 0 | AM10: =COUNTIF($C10:$AG10,AM$4) -> 0 | AN10: =COUNTIF($C10:$AG10,AN$4) -> 0 | AO10: =COUNTIF($C10:$AG10,AO$4) -> 0 | AP10: =SUM(AI10,AJ10,AK10,AL10,AN10,AO10) -> 0 | AQ10: =IFERROR((AI10+AK10)/AP10,"") | AS10: =COUNTIF($C10:$AG10,#REF!) -> 0 | AT10: =COUNTIF($C10:$AG10,#REF!) -> 0 | AU10: 0 | AV10: =SUM(B10:AF10) -> 0 | AW10: 0 | AX10: 0
A11: =('07-25'!A11) -> Nom 1 Prenom 3 | AH11: =A11 -> Nom 1 Prenom 3 | AI11: =COUNTIF($C11:$AG11,AI$4) -> 0 | AJ11: =COUNTIF($C11:$AG11,AJ$4) -> 0 | AK11: =COUNTIF($C11:$AG11,AK$4) -> 0 | AL11: =COUNTIF($C11:$AG11,AL$4) -> 0 | AM11: =COUNTIF($C11:$AG11,AM$4) -> 0 | AN11: =COUNTIF($C11:$AG11,AN$4) -> 0 | AO11: =COUNTIF($C11:$AG11,AO$4) -> 0 | AP11: =SUM(AI11,AJ11,AK11,AL11,AN11,AO11) -> 0 | AQ11: =IFERROR((AI11+AK11)/AP11,"") | AS11: =COUNTIF($C11:$AG11,#REF!) -> 0 | AT11: =COUNTIF($C11:$AG11,#REF!) -> 0 | AU11: 0 | AV11: =SUM(B11:AF11) -> 0 | AW11: 0 | AX11: 0
A12: =('07-25'!A12) -> Nom 1 Prenom 4 | AH12: =A12 -> Nom 1 Prenom 4 | AI12: =COUNTIF($C12:$AG12,AI$4) -> 0 | AJ12: =COUNTIF($C12:$AG12,AJ$4) -> 0 | AK12: =COUNTIF($C12:$AG12,AK$4) -> 0 | AL12: =COUNTIF($C12:$AG12,AL$4) -> 0 | AM12: =COUNTIF($C12:$AG12,AM$4) -> 0 | AN12: =COUNTIF($C12:$AG12,AN$4) -> 0 | AO12: =COUNTIF($C12:$AG12,AO$4) -> 0 | AP12: =SUM(AI12,AJ12,AK12,AL12,AN12,AO12) -> 0 | AQ12: =IFERROR((AI12+AK12)/AP12,"") | AS12: =COUNTIF($C12:$AG12,#REF!) -> 0 | AT12: =COUNTIF($C12:$AG12,#REF!) -> 0 | AU12: 0 | AV12: =SUM(B12:AF12) -> 0 | AW12: 0 | AX12: 0
A13: =('07-25'!A13) -> Nom 1 Prenom 5 | AH13: =A13 -> Nom 1 Prenom 5 | AI13: =COUNTIF($C13:$AG13,AI$4) -> 0 | AJ13: =COUNTIF($C13:$AG13,AJ$4) -> 0 | AK13: =COUNTIF($C13:$AG13,AK$4) -> 0 | AL13: =COUNTIF($C13:$AG13,AL$4) -> 0 | AM13: =COUNTIF($C13:$AG13,AM$4) -> 0 | AN13: =COUNTIF($C13:$AG13,AN$4) -> 0 | AO13: =COUNTIF($C13:$AG13,AO$4) -> 0 | AP13: =SUM(AI13,AJ13,AK13,AL13,AN13,AO13) -> 0 | AQ13: =IFERROR((AI13+AK13)/AP13,"") | AS13: =COUNTIF($C13:$AG13,#REF!) -> 0 | AT13: =COUNTIF($C13:$AG13,#REF!) -> 0 | AU13: 0 | AV13: =SUM(B13:AF13) -> 0 | AW13: 0 | AX13: 0
A14: =('07-25'!A14) -> Nom 1 Prenom 6 | AH14: =A14 -> Nom 1 Prenom 6 | AI14: =COUNTIF($C14:$AG14,AI$4) -> 0 | AJ14: =COUNTIF($C14:$AG14,AJ$4) -> 0 | AK14: =COUNTIF($C14:$AG14,AK$4) -> 0 | AL14: =COUNTIF($C14:$AG14,AL$4) -> 0 | AM14: =COUNTIF($C14:$AG14,AM$4) -> 0 | AN14: =COUNTIF($C14:$AG14,AN$4) -> 0 | AO14: =COUNTIF($C14:$AG14,AO$4) -> 0 | AP14: =SUM(AI14,AJ14,AK14,AL14,AN14,AO14) -> 0 | AQ14: =IFERROR((AI14+AK14)/AP14,"") | AS14: =COUNTIF($C14:$AG14,#REF!) -> 0 | AT14: =COUNTIF($C14:$AG14,#REF!) -> 0 | AU14: 0 | AV14: =SUM(B14:AF14) -> 0 | AW14: 0 | AX14: 0
