Workbook
Name JoursFériés: [1]paramétres!$I$3:$I$15

Sheet parametres
A1: AM | B1: 0.375 | C1: 0.625
A2: PM | D2: 0.75 | E2: 0.88541667
A3: J | B3: 0.41666667 | C3: 0.60416667 | D3: 0.75 | E3: 0.875
A4: MT | B4: 0.41666667 | C4: 0.625 | D4: 0.75 | E4: 0.88541667
A15: RP | B15: 0 | C15: 0 | D15: 0 | E15: 0

Sheet janvier
A1: MOIS | C1: EMPLOI DU TEMPS | I1: A masquer
A2: 45658 | C2: code | D2: matin | F2: après midi | H2: Total heures | I2: Est | J2: Total heures comptables
D3: emb | E3: deb | F3: emb | G3: deb | I3: férié
A4: MERCREDI | B4: =A2 -> 45658 | C4: MT | D4: =IFERROR(INDEX(parametres!$A$1:$E$15,MATCH($C4,parametres!$A$1:$A$15,0),2),"") -> 0.41666667 | E4: =IFERROR(INDEX(parametres!$A$1:$E$15,MATCH($C4,parametres!$A$1:$A$15,0),3),"") -> 0.625 | F4: =IFERROR(INDEX(parametres!$A$1:$E$15,MATCH($C4,parametres!$A$1:$A$15,0),4),"") -> 0.75 | G4: =IFERROR(INDEX(parametres!$A$1:$E$15,MATCH($C4,parametres!$A$1:$A$15,0),5),"") -> 0.88541667 | H4: =IFERROR((E4-D4)+(G4-F4),"") -> 0.34375 | I4: =IFERROR(MATCH(B4,JoursFériés,0),0) -> 0 | J4: =IFERROR(VALUE((E4-D4)+(G4-F4))*24,"") -> 8.25
A5: JEUDI | B5: =B4+1 -> 45659 | C5: AM | D5: =IFERROR(INDEX(parametres!$A$1:$E$15,MATCH($C5,parametres!$A$1:$A$15,0),2),"") -> 0.375 | E5: =IFERROR(INDEX(parametres!$A$1:$E$15,MATCH($C5,parametres!$A$1:$A$15,0),3),"") -> 0.625 | F5: =IFERROR(INDEX(parametres!$A$1:$E$15,MATCH($C5,parametres!$A$1:$A$15,0),4),"") -> 0 | G5: =IFERROR(INDEX(parametres!$A$1:$E$15,MATCH($C5,parametres!$A$1:$A$15,0),5),"") -> 0 | H5: =IFERROR((E5-D5)+(G5-F5),"") -> 0.25 | I5: =IFERROR(MATCH(B5,JoursFériés,0),0) -> 0 | J5: =IFERROR(VALUE((E5-D5)+(G5-F5))*24,"") -> 6
A6: VENDREDI | B6: =B5+1 -> 45660 | C6: PM | D6: =IFERROR(INDEX(parametres!$A$1:$E$15,MATCH($C6,parametres!$A$1:$A$15,0),2),"") -> 0 | E6: =IFERROR(INDEX(parametres!$A$1:$E$15,MATCH($C6,parametres!$A$1:$A$15,0),3),"") -> 0 | F6: =IFERROR(INDEX(parametres!$A$1:$E$15,MATCH($C6,parametres!$A$1:$A$15,0),4),"") -> 0.75 | G6: =IFERROR(INDEX(parametres!$A$1:$E$15,MATCH($C6,parametres!$A$1:$A$15,0),5),"") -> 0.88541667 | H6: =IFERROR((E6-D6)+(G6-F6),"") -> 0.13541667 | I6: =IFERROR(MATCH(B6,JoursFériés,0),0) -> 0 | J6: =IFERROR(VALUE((E6-D6)+(G6-F6))*24,"") -> 3.25
A7: SAMEDI | B7: =B6+1 -> 45661 | C7: J | D7: =IFERROR(INDEX(parametres!$A$1:$E$15,MATCH($C7,parametres!$A$1:$A$15,0),2),"") -> 0.41666667 | E7: =IFERROR(INDEX(parametres!$A$1:$E$15,MATCH($C7,parametres!$A$1:$A$15,0),3),"") -> 0.60416667 | F7: =IFERROR(INDEX(parametres!$A$1:$E$15,MATCH($C7,parametres!$A$1:$A$15,0),4),"") -> 0.75 | G7: =IFERROR(INDEX(parametres!$A$1:$E$15,MATCH($C7,parametres!$A$1:$A$15,0),5),"") -> 0.875 | H7: =IFERROR((E7-D7)+(G7-F7),"") -> 0.3125 | I7: =IFERROR(MATCH(B7,JoursFériés,0),0) -> 0 | J7: =IFERROR(VALUE((E7-D7)+(G7-F7))*24,"") -> 7.5
A8: DIMANCHE | B8: =B7+1 -> 45662 | D8: =IFERROR(INDEX(parametres!$A$1:$E$15,MATCH($C8,parametres!$A$1:$A$15,0),2),"") | E8: =IFERROR(INDEX(parametres!$A$1:$E$15,MATCH($C8,parametres!$A$1:$A$15,0),3),"") | F8: =IFERROR(INDEX(parametres!$A$1:$E$15,MATCH($C8,parametres!$A$1:$A$15,0),4),"") | G8: =IFERROR(INDEX(parametres!$A$1:$E$15,MATCH($C8,parametres!$A$1:$A$15,0),5),"") | H8: =IFERROR((E8-D8)+(G8-F8),"") | I8: =IFERROR(MATCH(B8,JoursFériés,0),0) -> 0 | J8: =IFERROR(VALUE((E8-D8)+(G8-F8))*24,"")
A9: LUNDI | B9: =B8+1 -> 45663 | D9: =IFERROR(INDEX(parametres!$A$1:$E$15,MATCH($C9,parametres!$A$1:$A$15,0),2),"") | E9: =IFERROR(INDEX(parametres!$A$1:$E$15,MATCH($C9,parametres!$A$1:$A$15,0),3),"") | F9: =IFERROR(INDEX(parametres!$A$1:$E$15,MATCH($C9,parametres!$A$1:$A$15,0),4),"") | G9: =IFERROR(INDEX(parametres!$A$1:$E$15,MATCH($C9,parametres!$A$1:$A$15,0),5),"") | H9: =IFERROR((E9-D9)+(G9-F9),"") | I9: =IFERROR(MATCH(B9,JoursFériés,0),0) -> 0 | J9: =IFERROR(VALUE((E9-D9)+(G9-F9))*24,"")
A10: MARDI | B10: =B9+1 -> 45664 | D10: =IFERROR(INDEX(parametres!$A$1:$E$15,MATCH($C10,parametres!$A$1:$A$15,0),2),"") | E10: =IFERROR(INDEX(parametres!$A$1:$E$15,MATCH($C10,parametres!$A$1:$A$15,0),3),"") | F10: =IFERROR(INDEX(parametres!$A$1:$E$15,MATCH($C10,parametres!$A$1:$A$15,0),4),"") | G10: =IFERROR(INDEX(parametres!$A$1:$E$15,MATCH($C10,parametres!$A$1:$A$15,0),5),"") | H10: =IFERROR((E10-D10)+(G10-F10),"") | I10: =IFERROR(MATCH(B10,JoursFériés,0),0) -> 0 | J10: =IFERROR(VALUE((E10-D10)+(G10-F10))*24,"")
A11: MERCREDI | B11: =B10+1 -> 45665 | D11: =IFERROR(INDEX(parametres!$A$1:$E$15,MATCH($C11,parametres!$A$1:$A$15,0),2),"") | E11: =IFERROR(INDEX(parametres!$A$1:$E$15,MATCH($C11,parametres!$A$1:$A$15,0),3),"") | F11: =IFERROR(INDEX(parametres!$A$1:$E$15,MATCH($C11,parametres!$A$1:$A$15,0),4),"") | G11: =IFERROR(INDEX(parametres!$A$1:$E$15,MATCH($C11,parametres!$A$1:$A$15,0),5),"") | H11: =IFERROR((E11-D11)+(G11-F11),"") | I11: =IFERROR(MATCH(B11,JoursFériés,0),0) -> 0 | J11: =IFERROR(VALUE((E11-D11)+(G11-F11))*24,"")
A12: JEUDI | B12: =B11+1 -> 45666 | D12: =IFERROR(INDEX(parametres!$A$1:$E$15,MATCH($C12,parametres!$A$1:$A$15,0),2),"") | E12: =IFERROR(INDEX(parametres!$A$1:$E$15,MATCH($C12,parametres!$A$1:$A$15,0),3),"") | F12: =IFERROR(INDEX(parametres!$A$1:$E$15,MATCH($C12,parametres!$A$1:$A$15,0),4),"") | G12: =IFERROR(INDEX(parametres!$A$1:$E$15,MATCH($C12,parametres!$A$1:$A$15,0),5),"") | H12: =IFERROR((E12-D12)+(G12-F12),"") | I12: =IFERROR(MATCH(B12,JoursFériés,0),0) -> 0 | J12: =IFERROR(VALUE((E12-D12)+(G12-F12))*24,"")
A13: VENDREDI | B13: =B12+1 -> 45667 | D13: =IFERROR(INDEX(parametres!$A$1:$E$15,MATCH($C13,parametres!$A$1:$A$15,0),2),"") | E13: =IFERROR(INDEX(parametres!$A$1:$E$15,MATCH($C13,parametres!$A$1:$A$15,0),3),"") | F13: =IFERROR(INDEX(parametres!$A$1:$E$15,MATCH($C13,parametres!$A$1:$A$15,0),4),"") | G13: =IFERROR(INDEX(parametres!$A$1:$E$15,MATCH($C13,parametres!$A$1:$A$15,0),5),"") | H13: =IFERROR((E13-D13)+(G13-F13),"") | I13: =IFERROR(MATCH(B13,JoursFériés,0),0) -> 0 | J13: =IFERROR(VALUE((E13-D13)+(G13-F13))*24,"")
A14: SAMEDI | B14: =B13+1 -> 45668 | D14: =IFERROR(INDEX(parametres!$A$1:$E$15,MATCH($C14,parametres!$A$1:$A$15,0),2),"") | E14: =IFERROR(INDEX(parametres!$A$1:$E$15,MATCH($C14,parametres!$A$1:$A$15,0),3),"") | F14: =IFERROR(INDEX(parametres!$A$1:$E$15,MATCH($C14,parametres!$A$1:$A$15,0),4),"") | G14: =IFERROR(INDEX(parametres!$A$1:$E$15,MATCH($C14,parametres!$A$1:$A$15,0),5),"") | H14: =IFERROR((E14-D14)+(G14-F14),"") | I14: =IFERROR(MATCH(B14,JoursFériés,0),0) -> 0 | J14: =IFERROR(VALUE((E14-D14)+(G14-F14))*24,"")
A15: DIMANCHE | B15: =B14+1 -> 45669 | D15: =IFERROR(INDEX(parametres!$A$1:$E$15,MATCH($C15,parametres!$A$1:$A$15,0),2),"") | E15: =IFERROR(INDEX(parametres!$A$1:$E$15,MATCH($C15,parametres!$A$1:$A$15,0),3),"") | F15: =IFERROR(INDEX(parametres!$A$1:$E$15,MATCH($C15,parametres!$A$1:$A$15,0),4),"") | G15: =IFERROR(INDEX(parametres!$A$1:$E$15,MATCH($C15,parametres!$A$1:$A$15,0),5),"") | H15: =IFERROR((E15-D15)+(G15-F15),"") | I15: =IFERROR(MATCH(B15,JoursFériés,0),0) -> 0 | J15: =IFERROR(VALUE((E15-D15)+(G15-F15))*24,"")
A16: LUNDI | B16: =B15+1 -> 45670 | D16: =IFERROR(INDEX(parametres!$A$1:$E$15,MATCH($C16,parametres!$A$1:$A$15,0),2),"") | E16: =IFERROR(INDEX(parametres!$A$1:$E$15,MATCH($C16,parametres!$A$1:$A$15,0),3),"") | F16: =IFERROR(INDEX(parametres!$A$1:$E$15,MATCH($C16,parametres!$A$1:$A$15,0),4),"") | G16: =IFERROR(INDEX(parametres!$A$1:$E$15,MATCH($C16,parametres!$A$1:$A$15,0),5),"") | H16: =IFERROR((E16-D16)+(G16-F16),"") | I16: =IFERROR(MATCH(B16,JoursFériés,0),0) -> 0 | J16: =IFERROR(VALUE((E16-D16)+(G16-F16))*24,"")
A17: MARDI | B17: =B16+1 -> 45671 | D17: =IFERROR(INDEX(parametres!$A$1:$E$15,MATCH($C17,parametres!$A$1:$A$15,0),2),"") | E17: =IFERROR(INDEX(parametres!$A$1:$E$15,MATCH($C17,parametres!$A$1:$A$15,0),3),"") | F17: =IFERROR(INDEX(parametres!$A$1:$E$15,MATCH($C17,parametres!$A$1:$A$15,0),4),"") | G17: =IFERROR(INDEX(parametres!$A$1:$E$15,MATCH($C17,parametres!$A$1:$A$15,0),5),"") | H17: =IFERROR((E17-D17)+(G17-F17),"") | I17: =IFERROR(MATCH(B17,JoursFériés,0),0) -> 0 | J17: =IFERROR(VALUE((E17-D17)+(G17-F17))*24,"")
A18: MERCREDI | B18: =B17+1 -> 45672 | D18: =IFERROR(INDEX(parametres!$A$1:$E$15,MATCH($C18,parametres!$A$1:$A$15,0),2),"") | E18: =IFERROR(INDEX(parametres!$A$1:$E$15,MATCH($C18,parametres!$A$1:$A$15,0),3),"") | F18: =IFERROR(INDEX(parametres!$A$1:$E$15,MATCH($C18,parametres!$A$1:$A$15,0),4),"") | G18: =IFERROR(INDEX(parametres!$A$1:$E$15,MATCH($C18,parametres!$A$1:$A$15,0),5),"") | H18: =IFERROR((E18-D18)+(G18-F18),"") | I18: =IFERROR(MATCH(B18,JoursFériés,0),0) -> 0 | J18: =IFERROR(VALUE((E18-D18)+(G18-F18))*24,"")
A19: JEUDI | B19: =B18+1 -> 45673 | D19: =IFERROR(INDEX(parametres!$A$1:$E$15,MATCH($C19,parametres!$A$1:$A$15,0),2),"") | E19: =IFERROR(INDEX(parametres!$A$1:$E$15,MATCH($C19,parametres!$A$1:$A$15,0),3),"") | F19: =IFERROR(INDEX(parametres!$A$1:$E$15,MATCH($C19,parametres!$A$1:$A$15,0),4),"") | G19: =IFERROR(INDEX(parametres!$A$1:$E$15,MATCH($C19,parametres!$A$1:$A$15,0),5),"") | H19: =IFERROR((E19-D19)+(G19-F19),"") | I19: =IFERROR(MATCH(B19,JoursFériés,0),0) -> 0 | J19: =IFERROR(VALUE((E19-D19)+(G19-F19))*24,"")
... A34: VENDREDI | B34: =B33+1 -> 45688 | D34: =IFERROR(INDEX(parametres!$A$1:$E$15,MATCH($C34,parametres!$A$1:$A$15,0),2),"") | E34: =IFERROR(INDEX(parametres!$A$1:$E$15,MATCH($C34,parametres!$A$1:$A$15,0),3),"") | F34: =IFERROR(INDEX(parametres!$A$1:$E$15,MATCH($C34,parametres!$A$1:$A$15,0),4),"") | G34: =IFERROR(INDEX(parametres!$A$1:$E$15,MATCH($C34,parametres!$A$1:$A$15,0),5),"") | H34: =IFERROR((E34-D34)+(G34-F34),"") | I34: =IFERROR(MATCH(B34,JoursFériés,0),0) -> 0 | J34: =IFERROR(VALUE((E34-D34)+(G34-F34))*24,"")
A35: Total heures | H35: =SUM(H4:H34) -> 1.0416667 | J35: =IF(H35<>"",VALUE(H35)*24,0) -> 25
A36: dont heures dimanche | H36: =SUMIF(A4:A34,"DIMANCHE",H4:H34) -> 0 | J36: =SUMIF(A4:A34,"DIMANCHE",H4:H34)*24 -> 0
A37: dont heures jours fériés | H37: =SUMIF(I4:I34,1,H4:H34) -> 0 | J37: =SUMIF(I4:I34,">" &0,H4:H34)*24 -> 0
A38: REPORT DÉCEMBRE HEURES SEMAINE NON PAYÉES | J38: 108.5
A39: REPORT DÉCEMBRE HEURES DIMANCHE + JOURS FÉRIÉS NON PAYÉES | J39: 31
A40: TOTAL DES HEURES du MOIS M et M-1 | J40: 282
A41: Solde des heures dues | H41: =H40 -> 0 | I41: =I40-I35+I38 -> 0 | J41: 282

Sheet fevrier
A1: MOIS | C1: EMPLOI DU TEMPS
A2: 45689 | C2: code | D2: matin | F2: après midi | H2: Total heures
D3: emb | E3: deb | F3: emb | G3: deb
A4: SAMEDI | B4: =A2 -> 45689 | H4: =IFERROR((E4-D4)+(G4-F4),"") -> 0
A5: DIMANCHE | B5: =B4+1 -> 45690 | H5: =IFERROR((E5-D5)+(G5-F5),"") -> 0
A6: LUNDI | B6: =B5+1 -> 45691 | H6: =IFERROR((E6-D6)+(G6-F6),"") -> 0
A7: MARDI | B7: =B6+1 -> 45692 | H7: =IFERROR((E7-D7)+(G7-F7),"") -> 0
A8: MERCREDI | B8: =B7+1 -> 45693 | H8: =IFERROR((E8-D8)+(G8-F8),"") -> 0
A9: JEUDI | B9: =B8+1 -> 45694 | H9: =IFERROR((E9-D9)+(G9-F9),"") -> 0
A10: VENDREDI | B10: =B9+1 -> 45695 | H10: =IFERROR((E10-D10)+(G10-F10),"") -> 0
A11: SAMEDI | B11: =B10+1 -> 45696 | H11: =IFERROR((E11-D11)+(G11-F11),"") -> 0
A12: DIMANCHE | B12: =B11+1 -> 45697 | H12: =IFERROR((E12-D12)+(G12-F12),"") -> 0
A13: LUNDI | B13: =B12+1 -> 45698 | H13: =IFERROR((E13-D13)+(G13-F13),"") -> 0
A14: MARDI | B14: =B13+1 -> 45699 | H14: =IFERROR((E14-D14)+(G14-F14),"") -> 0
A15: MERCREDI | B15: =B14+1 -> 45700 | H15: =IFERROR((E15-D15)+(G15-F15),"") -> 0
A16: JEUDI | B16: =B15+1 -> 45701 | H16: =IFERROR((E16-D16)+(G16-F16),"") -> 0
... A31: VENDREDI | B31: =B30+1 -> 45716 | H31: =IFERROR((E31-D31)+(G31-F31),"") -> 0
A32: MERCREDI | B32: =B31+1 -> 45717 | D32: =IFERROR(VLOOKUP($C32,[1]paramétres!$A$2:$E$28,COLUMN()-2,FALSE),"") | E32: =IFERROR(VLOOKUP($C32,[1]paramétres!$A$2:$E$28,COLUMN()-2,FALSE),"") | F32: =IFERROR(VLOOKUP($C32,[1]paramétres!$A$2:$E$28,COLUMN()-2,FALSE),"") | G32: =IFERROR(VLOOKUP($C32,[1]paramétres!$A$2:$E$28,COLUMN()-2,FALSE),"") | H32: =IFERROR((E32-D32)+(G32-F32),"")
A33: JEUDI | B33: =B32+1 -> 45718 | D33: =IFERROR(VLOOKUP($C33,[1]paramétres!$A$2:$E$28,COLUMN()-2,FALSE),"") | E33: =IFERROR(VLOOKUP($C33,[1]paramétres!$A$2:$E$28,COLUMN()-2,FALSE),"") | F33: =IFERROR(VLOOKUP($C33,[1]paramétres!$A$2:$E$28,COLUMN()-2,FALSE),"") | G33: =IFERROR(VLOOKUP($C33,[1]paramétres!$A$2:$E$28,COLUMN()-2,FALSE),"") | H33: =IFERROR((E33-D33)+(G33-F33),"")
A34: VENDREDI | B34: =B33+1 -> 45719 | D34: =IFERROR(VLOOKUP($C34,[1]paramétres!$A$2:$E$28,COLUMN()-2,FALSE),"") | E34: =IFERROR(VLOOKUP($C34,[1]paramétres!$A$2:$E$28,COLUMN()-2,FALSE),"") | F34: =IFERROR(VLOOKUP($C34,[1]paramétres!$A$2:$E$28,COLUMN()-2,FALSE),"") | G34: =IFERROR(VLOOKUP($C34,[1]paramétres!$A$2:$E$28,COLUMN()-2,FALSE),"") | H34: =IFERROR((E34-D34)+(G34-F34),"")
A35: Total heures | H35: =SUM(H4:H34) -> 0
A36: dont heures dimanche | H36: =SUMIF(A4:A34,"DIMANCHE",H4:H34) -> 0
A37: dont heures jours fériés | H37: =SUMIF(I4:I34,1,H4:H34) -> 0
A38: REPORT DÉCEMBRE HEURES SEMAINE NON PAYÉES
A39: REPORT DÉCEMBRE HEURES DIMANCHE + JOURS FÉRIÉS NON PAYÉES
A40: TOTAL DES HEURES du MOIS M et M-1
A41: Solde des heures dues | H41: =H40 -> 0

Sheet mars
A1: MOIS | C1: EMPLOI DU TEMPS
A2: 45717 | C2: code | D2: matin | F2: après midi | H2: Total heures
D3: emb | E3: deb | F3: emb | G3: deb
A4: SAMEDI | B4: =A2 -> 45717 | H4: =IFERROR((E4-D4)+(G4-F4),"") -> 0
A5: DIMANCHE | B5: =B4+1 -> 45718 | H5: =IFERROR((E5-D5)+(G5-F5),"") -> 0
A6: LUNDI | B6: =B5+1 -> 45719 | H6: =IFERROR((E6-D6)+(G6-F6),"") -> 0
A7: MARDI | B7: =B6+1 -> 45720 | H7: =IFERROR((E7-D7)+(G7-F7),"") -> 0
A8: MERCREDI | B8: =B7+1 -> 45721 | H8: =IFERROR((E8-D8)+(G8-F8),"") -> 0
A9: JEUDI | B9: =B8+1 -> 45722 | H9: =IFERROR((E9-D9)+(G9-F9),"") -> 0
A10: VENDREDI | B10: =B9+1 -> 45723 | H10: =IFERROR((E10-D10)+(G10-F10),"") -> 0
A11: SAMEDI | B11: =B10+1 -> 45724 | H11: =IFERROR((E11-D11)+(G11-F11),"") -> 0
A12: DIMANCHE | B12: =B11+1 -> 45725 | H12: =IFERROR((E12-D12)+(G12-F12),"") -> 0
A13: LUNDI | B13: =B12+1 -> 45726 | H13: =IFERROR((E13-D13)+(G13-F13),"") -> 0
A14: MARDI | B14: =B13+1 -> 45727 | H14: =IFERROR((E14-D14)+(G14-F14),"") -> 0
A15: MERCREDI | B15: =B14+1 -> 45728 | H15: =IFERROR((E15-D15)+(G15-F15),"") -> 0
A16: JEUDI | B16: =B15+1 -> 45729 | H16: =IFERROR((E16-D16)+(G16-F16),"") -> 0
... A34: LUNDI | B34: =B33+1 -> 45747 | H34: =IFERROR((E34-D34)+(G34-F34),"") -> 0
A35: Total heures | H35: =SUM(H4:H34) -> 0
A36: dont heures dimanche | H36: =SUMIF(A4:A34,"DIMANCHE",H4:H34) -> 0
A37: dont heures jours fériés | H37: =SUMIF(I4:I34,1,H4:H34) -> 0
A38: REPORT DÉCEMBRE HEURES SEMAINE NON PAYÉES
A39: REPORT DÉCEMBRE HEURES DIMANCHE + JOURS FÉRIÉS NON PAYÉES
A40: TOTAL DES HEURES du MOIS M et M-1
A41: Solde des heures dues | H41: =H40 -> 0

Sheet avril
A1: MOIS | C1: EMPLOI DU TEMPS
A2: 45748 | C2: code | D2: matin | F2: après midi | H2: Total heures
D3: emb | E3: deb | F3: emb | G3: deb
A4: MARDI | B4: =A2 -> 45748 | H4: =IFERROR((E4-D4)+(G4-F4),"") -> 0
A5: MERCREDI | B5: =B4+1 -> 45749 | H5: =IFERROR((E5-D5)+(G5-F5),"") -> 0
A6: JEUDI | B6: =B5+1 -> 45750 | H6: =IFERROR((E6-D6)+(G6-F6),"") -> 0
A7: VENDREDI | B7: =B6+1 -> 45751 | H7: =IFERROR((E7-D7)+(G7-F7),"") -> 0
A8: SAMEDI | B8: =B7+1 -> 45752 | H8: =IFERROR((E8-D8)+(G8-F8),"") -> 0
A9: DIMANCHE | B9: =B8+1 -> 45753 | H9: =IFERROR((E9-D9)+(G9-F9),"") -> 0
A10: LUNDI | B10: =B9+1 -> 45754 | H10: =IFERROR((E10-D10)+(G10-F10),"") -> 0
A11: MARDI | B11: =B10+1 -> 45755 | H11: =IFERROR((E11-D11)+(G11-F11),"") -> 0
A12: MERCREDI | B12: =B11+1 -> 45756 | H12: =IFERROR((E12-D12)+(G12-F12),"") -> 0
A13: JEUDI | B13: =B12+1 -> 45757 | H13: =IFERROR((E13-D13)+(G13-F13),"") -> 0
A14: VENDREDI | B14: =B13+1 -> 45758 | H14: =IFERROR((E14-D14)+(G14-F14),"") -> 0
A15: SAMEDI | B15: =B14+1 -> 45759 | H15: =IFERROR((E15-D15)+(G15-F15),"") -> 0
A16: DIMANCHE | B16: =B15+1 -> 45760 | H16: =IFERROR((E16-D16)+(G16-F16),"") -> 0
... A33: MERCREDI | B33: =B32+1 -> 45777 | H33: =IFERROR((E33-D33)+(G33-F33),"") -> 0
A34: VENDREDI | B34: =B33+1 -> 45778 | D34: =IFERROR(VLOOKUP($C34,[1]paramétres!$A$2:$E$28,COLUMN()-2,FALSE),"") | E34: =IFERROR(VLOOKUP($C34,[1]paramétres!$A$2:$E$28,COLUMN()-2,FALSE),"") | F34: =IFERROR(VLOOKUP($C34,[1]paramétres!$A$2:$E$28,COLUMN()-2,FALSE),"") | G34: =IFERROR(VLOOKUP($C34,[1]paramétres!$A$2:$E$28,COLUMN()-2,FALSE),"") | H34: =IFERROR((E34-D34)+(G34-F34),"")
A35: Total heures | H35: =SUM(H4:H34) -> 0
A36: dont heures dimanche | H36: =SUMIF(A4:A34,"DIMANCHE",H4:H34) -> 0
A37: dont heures jours fériés | H37: =SUMIF(I4:I34,1,H4:H34) -> 0
A38: REPORT DÉCEMBRE HEURES SEMAINE NON PAYÉES
A39: REPORT DÉCEMBRE HEURES DIMANCHE + JOURS FÉRIÉS NON PAYÉES
A40: TOTAL DES HEURES du MOIS M et M-1
A41: Solde des heures dues | H41: =H40 -> 0

Sheet mai
A1: MOIS | C1: EMPLOI DU TEMPS
A2: 45778 | C2: code | D2: matin | F2: après midi | H2: Total heures
D3: emb | E3: deb | F3: emb | G3: deb
A4: JEUDI | B4: =A2 -> 45778 | H4: =IFERROR((E4-D4)+(G4-F4),"") -> 0
A5: VENDREDI | B5: =B4+1 -> 45779 | H5: =IFERROR((E5-D5)+(G5-F5),"") -> 0
A6: SAMEDI | B6: =B5+1 -> 45780 | H6: =IFERROR((E6-D6)+(G6-F6),"") -> 0
A7: DIMANCHE | B7: =B6+1 -> 45781 | H7: =IFERROR((E7-D7)+(G7-F7),"") -> 0
A8: LUNDI | B8: =B7+1 -> 45782 | H8: =IFERROR((E8-D8)+(G8-F8),"") -> 0
A9: MARDI | B9: =B8+1 -> 45783 | H9: =IFERROR((E9-D9)+(G9-F9),"") -> 0
A10: MERCREDI | B10: =B9+1 -> 45784 | H10: =IFERROR((E10-D10)+(G10-F10),"") -> 0
A11: JEUDI | B11: =B10+1 -> 45785 | H11: =IFERROR((E11-D11)+(G11-F11),"") -> 0
A12: VENDREDI | B12: =B11+1 -> 45786 | H12: =IFERROR((E12-D12)+(G12-F12),"") -> 0
A13: SAMEDI | B13: =B12+1 -> 45787 | H13: =IFERROR((E13-D13)+(G13-F13),"") -> 0
A14: DIMANCHE | B14: =B13+1 -> 45788 | H14: =IFERROR((E14-D14)+(G14-F14),"") -> 0
A15: LUNDI | B15: =B14+1 -> 45789 | H15: =IFERROR((E15-D15)+(G15-F15),"") -> 0
A16: MARDI | B16: =B15+1 -> 45790 | H16: =IFERROR((E16-D16)+(G16-F16),"") -> 0
... A34: SAMEDI | B34: =B33+1 -> 45808 | H34: =IFERROR((E34-D34)+(G34-F34),"") -> 0
A35: Total heures | H35: =SUM(H4:H34) -> 0
A36: dont heures dimanche | H36: =SUMIF(A4:A34,"DIMANCHE",H4:H34) -> 0
A37: dont heures jours fériés | H37: =SUMIF(I4:I34,1,H4:H34) -> 0
A38: REPORT DÉCEMBRE HEURES SEMAINE NON PAYÉES
A39: REPORT DÉCEMBRE HEURES DIMANCHE + JOURS FÉRIÉS NON PAYÉES
A40: TOTAL DES HEURES du MOIS M et M-1
A41: Solde des heures dues | H41: =H40 -> 0

Sheet juin
A1: MOIS | C1: EMPLOI DU TEMPS
A2: 45809 | C2: code | D2: matin | F2: après midi | H2: Total heures
D3: emb | E3: deb | F3: emb | G3: deb
A4: DIMANCHE | B4: =A2 -> 45809 | H4: =IFERROR((E4-D4)+(G4-F4),"") -> 0
A5: LUNDI | B5: =B4+1 -> 45810 | H5: =IFERROR((E5-D5)+(G5-F5),"") -> 0
A6: MARDI | B6: =B5+1 -> 45811 | H6: =IFERROR((E6-D6)+(G6-F6),"") -> 0
A7: MERCREDI | B7: =B6+1 -> 45812 | H7: =IFERROR((E7-D7)+(G7-F7),"") -> 0
A8: JEUDI | B8: =B7+1 -> 45813 | H8: =IFERROR((E8-D8)+(G8-F8),"") -> 0
A9: VENDREDI | B9: =B8+1 -> 45814 | H9: =IFERROR((E9-D9)+(G9-F9),"") -> 0
A10: SAMEDI | B10: =B9+1 -> 45815 | H10: =IFERROR((E10-D10)+(G10-F10),"") -> 0
A11: DIMANCHE | B11: =B10+1 -> 45816 | H11: =IFERROR((E11-D11)+(G11-F11),"") -> 0
A12: LUNDI | B12: =B11+1 -> 45817 | H12: =IFERROR((E12-D12)+(G12-F12),"") -> 0
A13: MARDI | B13: =B12+1 -> 45818 | H13: =IFERROR((E13-D13)+(G13-F13),"") -> 0
A14: MERCREDI | B14: =B13+1 -> 45819 | H14: =IFERROR((E14-D14)+(G14-F14),"") -> 0
A15: JEUDI | B15: =B14+1 -> 45820 | H15: =IFERROR((E15-D15)+(G15-F15),"") -> 0
A16: VENDREDI | B16: =B15+1 -> 45821 | H16: =IFERROR((E16-D16)+(G16-F16),"") -> 0
... A33: LUNDI | B33: =B32+1 -> 45838 | H33: =IFERROR((E33-D33)+(G33-F33),"") -> 0
A34: VENDREDI | B34: =B33+1 -> 45839 | D34: =IFERROR(VLOOKUP($C34,[1]paramétres!$A$2:$E$28,COLUMN()-2,FALSE),"") | E34: =IFERROR(VLOOKUP($C34,[1]paramétres!$A$2:$E$28,COLUMN()-2,FALSE),"") | F34: =IFERROR(VLOOKUP($C34,[1]paramétres!$A$2:$E$28,COLUMN()-2,FALSE),"") | G34: =IFERROR(VLOOKUP($C34,[1]paramétres!$A$2:$E$28,COLUMN()-2,FALSE),"") | H34: =IFERROR((E34-D34)+(G34-F34),"")
A35: Total heures | H35: =SUM(H4:H34) -> 0
A36: dont heures dimanche | H36: =SUMIF(A4:A34,"DIMANCHE",H4:H34) -> 0
A37: dont heures jours fériés | H37: =SUMIF(I4:I34,1,H4:H34) -> 0
A38: REPORT DÉCEMBRE HEURES SEMAINE NON PAYÉES
A39: REPORT DÉCEMBRE HEURES DIMANCHE + JOURS FÉRIÉS NON PAYÉES
A40: TOTAL DES HEURES du MOIS M et M-1
A41: Solde des heures dues | H41: =H40 -> 0

Sheet juillet
A1: MOIS | C1: EMPLOI DU TEMPS
A2: 45839 | C2: code | D2: matin | F2: après midi | H2: Total heures
D3: emb | E3: deb | F3: emb | G3: deb
A4: MARDI | B4: =A2 -> 45839 | H4: =IFERROR((E4-D4)+(G4-F4),"") -> 0
A5: MERCREDI | B5: =B4+1 -> 45840 | H5: =IFERROR((E5-D5)+(G5-F5),"") -> 0
A6: JEUDI | B6: =B5+1 -> 45841 | H6: =IFERROR((E6-D6)+(G6-F6),"") -> 0
A7: VENDREDI | B7: =B6+1 -> 45842 | H7: =IFERROR((E7-D7)+(G7-F7),"") -> 0
A8: SAMEDI | B8: =B7+1 -> 45843 | H8: =IFERROR((E8-D8)+(G8-F8),"") -> 0
A9: DIMANCHE | B9: =B8+1 -> 45844 | H9: =IFERROR((E9-D9)+(G9-F9),"") -> 0
A10: LUNDI | B10: =B9+1 -> 45845 | H10: =IFERROR((E10-D10)+(G10-F10),"") -> 0
A11: MARDI | B11: =B10+1 -> 45846 | H11: =IFERROR((E11-D11)+(G11-F11),"") -> 0
A12: MERCREDI | B12: =B11+1 -> 45847 | H12: =IFERROR((E12-D12)+(G12-F12),"") -> 0
A13: JEUDI | B13: =B12+1 -> 45848 | H13: =IFERROR((E13-D13)+(G13-F13),"") -> 0
A14: VENDREDI | B14: =B13+1 -> 45849 | H14: =IFERROR((E14-D14)+(G14-F14),"") -> 0
A15: SAMEDI | B15: =B14+1 -> 45850 | H15: =IFERROR((E15-D15)+(G15-F15),"") -> 0
A16: DIMANCHE | B16: =B15+1 -> 45851 | H16: =IFERROR((E16-D16)+(G16-F16),"") -> 0
... A34: JEUDI | B34: =B33+1 -> 45869 | H34: =IFERROR((E34-D34)+(G34-F34),"") -> 0
A35: Total heures | H35: =SUM(H4:H34) -> 0
A36: dont heures dimanche | H36: =SUMIF(A4:A34,"DIMANCHE",H4:H34) -> 0
A37: dont heures jours fériés | H37: =SUMIF(I4:I34,1,H4:H34) -> 0
A38: REPORT DÉCEMBRE HEURES SEMAINE NON PAYÉES
A39: REPORT DÉCEMBRE HEURES DIMANCHE + JOURS FÉRIÉS NON PAYÉES
A40: TOTAL DES HEURES du MOIS M et M-1
A41: Solde des heures dues | H41: =H40 -> 0

Sheet aout
A1: MOIS | C1: EMPLOI DU TEMPS
A2: 45870 | C2: code | D2: matin | F2: après midi | H2: Total heures
D3: emb | E3: deb | F3: emb | G3: deb
A4: VENDREDI | B4: =A2 -> 45870 | H4: =IFERROR((E4-D4)+(G4-F4),"") -> 0
A5: SAMEDI | B5: =B4+1 -> 45871 | H5: =IFERROR((E5-D5)+(G5-F5),"") -> 0
A6: DIMANCHE | B6: =B5+1 -> 45872 | H6: =IFERROR((E6-D6)+(G6-F6),"") -> 0
A7: LUNDI | B7: =B6+1 -> 45873 | H7: =IFERROR((E7-D7)+(G7-F7),"") -> 0
A8: MARDI | B8: =B7+1 -> 45874 | H8: =IFERROR((E8-D8)+(G8-F8),"") -> 0
A9: MERCREDI | B9: =B8+1 -> 45875 | H9: =IFERROR((E9-D9)+(G9-F9),"") -> 0
A10: JEUDI | B10: =B9+1 -> 45876 | H10: =IFERROR((E10-D10)+(G10-F10),"") -> 0
A11: VENDREDI | B11: =B10+1 -> 45877 | H11: =IFERROR((E11-D11)+(G11-F11),"") -> 0
A12: SAMEDI | B12: =B11+1 -> 45878 | H12: =IFERROR((E12-D12)+(G12-F12),"") -> 0
A13: DIMANCHE | B13: =B12+1 -> 45879 | H13: =IFERROR((E13-D13)+(G13-F13),"") -> 0
A14: LUNDI | B14: =B13+1 -> 45880 | H14: =IFERROR((E14-D14)+(G14-F14),"") -> 0
A15: MARDI | B15: =B14+1 -> 45881 | H15: =IFERROR((E15-D15)+(G15-F15),"") -> 0
A16: MERCREDI | B16: =B15+1 -> 45882 | H16: =IFERROR((E16-D16)+(G16-F16),"") -> 0
... A34: DIMANCHE | B34: =B33+1 -> 45900 | H34: =IFERROR((E34-D34)+(G34-F34),"") -> 0
A35: Total heures | H35: =SUM(H4:H34) -> 0
A36: dont heures dimanche | H36: =SUMIF(A4:A34,"DIMANCHE",H4:H34) -> 0
A37: dont heures jours fériés | H37: =SUMIF(I4:I34,1,H4:H34) -> 0
A38: REPORT DÉCEMBRE HEURES SEMAINE NON PAYÉES
A39: REPORT DÉCEMBRE HEURES DIMANCHE + JOURS FÉRIÉS NON PAYÉES
A40: TOTAL DES HEURES du MOIS M et M-1
A41: Solde des heures dues | H41: =H40 -> 0

Sheet septembre
A1: MOIS | C1: EMPLOI DU TEMPS
A2: 45901 | C2: code | D2: matin | F2: après midi | H2: Total heures
D3: emb | E3: deb | F3: emb | G3: deb
A4: LUNDI | B4: =A2 -> 45901 | H4: =IFERROR((E4-D4)+(G4-F4),"") -> 0
A5: MARDI | B5: =B4+1 -> 45902 | H5: =IFERROR((E5-D5)+(G5-F5),"") -> 0
A6: MERCREDI | B6: =B5+1 -> 45903 | H6: =IFERROR((E6-D6)+(G6-F6),"") -> 0
A7: JEUDI | B7: =B6+1 -> 45904 | H7: =IFERROR((E7-D7)+(G7-F7),"") -> 0
A8: VENDREDI | B8: =B7+1 -> 45905 | H8: =IFERROR((E8-D8)+(G8-F8),"") -> 0
A9: SAMEDI | B9: =B8+1 -> 45906 | H9: =IFERROR((E9-D9)+(G9-F9),"") -> 0
A10: DIMANCHE | B10: =B9+1 -> 45907 | H10: =IFERROR((E10-D10)+(G10-F10),"") -> 0
A11: LUNDI | B11: =B10+1 -> 45908 | H11: =IFERROR((E11-D11)+(G11-F11),"") -> 0
A12: MARDI | B12: =B11+1 -> 45909 | H12: =IFERROR((E12-D12)+(G12-F12),"") -> 0
A13: MERCREDI | B13: =B12+1 -> 45910 | H13: =IFERROR((E13-D13)+(G13-F13),"") -> 0
A14: JEUDI | B14: =B13+1 -> 45911 | H14: =IFERROR((E14-D14)+(G14-F14),"") -> 0
A15: VENDREDI | B15: =B14+1 -> 45912 | H15: =IFERROR((E15-D15)+(G15-F15),"") -> 0
A16: SAMEDI | B16: =B15+1 -> 45913 | H16: =IFERROR((E16-D16)+(G16-F16),"") -> 0
... A33: MARDI | B33: =B32+1 -> 45930 | H33: =IFERROR((E33-D33)+(G33-F33),"") -> 0
A34: VENDREDI | B34: =B33+1 -> 45931 | D34: =IFERROR(VLOOKUP($C34,[1]paramétres!$A$2:$E$28,COLUMN()-2,FALSE),"") | E34: =IFERROR(VLOOKUP($C34,[1]paramétres!$A$2:$E$28,COLUMN()-2,FALSE),"") | F34: =IFERROR(VLOOKUP($C34,[1]paramétres!$A$2:$E$28,COLUMN()-2,FALSE),"") | G34: =IFERROR(VLOOKUP($C34,[1]paramétres!$A$2:$E$28,COLUMN()-2,FALSE),"") | H34: =IFERROR((E34-D34)+(G34-F34),"")
A35: Total heures | H35: =SUM(H4:H34) -> 0
A36: dont heures dimanche | H36: =SUMIF(A4:A34,"DIMANCHE",H4:H34) -> 0
A37: dont heures jours fériés | H37: =SUMIF(I4:I34,1,H4:H34) -> 0
A38: REPORT DÉCEMBRE HEURES SEMAINE NON PAYÉES
A39: REPORT DÉCEMBRE HEURES DIMANCHE + JOURS FÉRIÉS NON PAYÉES
A40: TOTAL DES HEURES du MOIS M et M-1
A41: Solde des heures dues | H41: =H40 -> 0

Sheet octobre
A1: MOIS | C1: EMPLOI DU TEMPS
A2: 45931 | C2: code | D2: matin | F2: après midi | H2: Total heures
D3: emb | E3: deb | F3: emb | G3: deb
A4: MERCREDI | B4: =A2 -> 45931 | H4: =IFERROR((E4-D4)+(G4-F4),"") -> 0
A5: JEUDI | B5: =B4+1 -> 45932 | H5: =IFERROR((E5-D5)+(G5-F5),"") -> 0
A6: VENDREDI | B6: =B5+1 -> 45933 | H6: =IFERROR((E6-D6)+(G6-F6),"") -> 0
A7: SAMEDI | B7: =B6+1 -> 45934 | H7: =IFERROR((E7-D7)+(G7-F7),"") -> 0
A8: DIMANCHE | B8: =B7+1 -> 45935 | H8: =IFERROR((E8-D8)+(G8-F8),"") -> 0
A9: LUNDI | B9: =B8+1 -> 45936 | H9: =IFERROR((E9-D9)+(G9-F9),"") -> 0
A10: MARDI | B10: =B9+1 -> 45937 | H10: =IFERROR((E10-D10)+(G10-F10),"") -> 0
A11: MERCREDI | B11: =B10+1 -> 45938 | H11: =IFERROR((E11-D11)+(G11-F11),"") -> 0
A12: JEUDI | B12: =B11+1 -> 45939 | H12: =IFERROR((E12-D12)+(G12-F12),"") -> 0
A13: VENDREDI | B13: =B12+1 -> 45940 | H13: =IFERROR((E13-D13)+(G13-F13),"") -> 0
A14: SAMEDI | B14: =B13+1 -> 45941 | H14: =IFERROR((E14-D14)+(G14-F14),"") -> 0
A15: DIMANCHE | B15: =B14+1 -> 45942 | H15: =IFERROR((E15-D15)+(G15-F15),"") -> 0
A16: LUNDI | B16: =B15+1 -> 45943 | H16: =IFERROR((E16-D16)+(G16-F16),"") -> 0
... A34: VENDREDI | B34: =B33+1 -> 45961 | H34: =IFERROR((E34-D34)+(G34-F34),"") -> 0
A35: Total heures | H35: =SUM(H4:H34) -> 0
A36: dont heures dimanche | H36: =SUMIF(A4:A34,"DIMANCHE",H4:H34) -> 0
A37: dont heures jours fériés | H37: =SUMIF(I4:I34,1,H4:H34) -> 0
A38: REPORT DÉCEMBRE HEURES SEMAINE NON PAYÉES
A39: REPORT DÉCEMBRE HEURES DIMANCHE + JOURS FÉRIÉS NON PAYÉES
A40: TOTAL DES HEURES du MOIS M et M-1
A41: Solde des heures dues | H41: =H40 -> 0

Sheet novembre
A1: MOIS | C1: EMPLOI DU TEMPS
A2: 45962 | C2: code | D2: matin | F2: après midi | H2: Total heures
D3: emb | E3: deb | F3: emb | G3: deb
A4: SAMEDI | B4: =A2 -> 45962 | H4: =IFERROR((E4-D4)+(G4-F4),"") -> 0
A5: DIMANCHE | B5: =B4+1 -> 45963 | H5: =IFERROR((E5-D5)+(G5-F5),"") -> 0
A6: LUNDI | B6: =B5+1 -> 45964 | H6: =IFERROR((E6-D6)+(G6-F6),"") -> 0
A7: MARDI | B7: =B6+1 -> 45965 | H7: =IFERROR((E7-D7)+(G7-F7),"") -> 0
A8: MERCREDI | B8: =B7+1 -> 45966 | H8: =IFERROR((E8-D8)+(G8-F8),"") -> 0
A9: JEUDI | B9: =B8+1 -> 45967 | H9: =IFERROR((E9-D9)+(G9-F9),"") -> 0
A10: VENDREDI | B10: =B9+1 -> 45968 | H10: =IFERROR((E10-D10)+(G10-F10),"") -> 0
A11: SAMEDI | B11: =B10+1 -> 45969 | H11: =IFERROR((E11-D11)+(G11-F11),"") -> 0
A12: DIMANCHE | B12: =B11+1 -> 45970 | H12: =IFERROR((E12-D12)+(G12-F12),"") -> 0
A13: LUNDI | B13: =B12+1 -> 45971 | H13: =IFERROR((E13-D13)+(G13-F13),"") -> 0
A14: MARDI | B14: =B13+1 -> 45972 | H14: =IFERROR((E14-D14)+(G14-F14),"") -> 0
A15: MERCREDI | B15: =B14+1 -> 45973 | H15: =IFERROR((E15-D15)+(G15-F15),"") -> 0
A16: JEUDI | B16: =B15+1 -> 45974 | H16: =IFERROR((E16-D16)+(G16-F16),"") -> 0
... A33: DIMANCHE | B33: =B32+1 -> 45991 | H33: =IFERROR((E33-D33)+(G33-F33),"") -> 0
A34: VENDREDI | B34: =B33+1 -> 45992 | D34: =IFERROR(VLOOKUP($C34,[1]paramétres!$A$2:$E$28,COLUMN()-2,FALSE),"") | E34: =IFERROR(VLOOKUP($C34,[1]paramétres!$A$2:$E$28,COLUMN()-2,FALSE),"") | F34: =IFERROR(VLOOKUP($C34,[1]paramétres!$A$2:$E$28,COLUMN()-2,FALSE),"") | G34: =IFERROR(VLOOKUP($C34,[1]paramétres!$A$2:$E$28,COLUMN()-2,FALSE),"") | H34: =IFERROR((E34-D34)+(G34-F34),"")
A35: Total heures | H35: =SUM(H4:H34) -> 0
A36: dont heures dimanche | H36: =SUMIF(A4:A34,"DIMANCHE",H4:H34) -> 0
A37: dont heures jours fériés | H37: =SUMIF(I4:I34,1,H4:H34) -> 0
A38: REPORT DÉCEMBRE HEURES SEMAINE NON PAYÉES
A39: REPORT DÉCEMBRE HEURES DIMANCHE + JOURS FÉRIÉS NON PAYÉES
A40: TOTAL DES HEURES du MOIS M et M-1
A41: Solde des heures dues | H41: =H40 -> 0

Sheet decembre
A1: MOIS | C1: EMPLOI DU TEMPS
A2: 45992 | C2: code | D2: matin | F2: après midi | H2: Total heures
D3: emb | E3: deb | F3: emb | G3: deb
A4: LUNDI | B4: =A2 -> 45992 | H4: =IFERROR((E4-D4)+(G4-F4),"") -> 0
A5: MARDI | B5: =B4+1 -> 45993 | H5: =IFERROR((E5-D5)+(G5-F5),"") -> 0
A6: MERCREDI | B6: =B5+1 -> 45994 | H6: =IFERROR((E6-D6)+(G6-F6),"") -> 0
A7: JEUDI | B7: =B6+1 -> 45995 | H7: =IFERROR((E7-D7)+(G7-F7),"") -> 0
A8: VENDREDI | B8: =B7+1 -> 45996 | H8: =IFERROR((E8-D8)+(G8-F8),"") -> 0
A9: SAMEDI | B9: =B8+1 -> 45997 | H9: =IFERROR((E9-D9)+(G9-F9),"") -> 0
A10: DIMANCHE | B10: =B9+1 -> 45998 | H10: =IFERROR((E10-D10)+(G10-F10),"") -> 0
A11: LUNDI | B11: =B10+1 -> 45999 | H11: =IFERROR((E11-D11)+(G11-F11),"") -> 0
A12: MARDI | B12: =B11+1 -> 46000 | H12: =IFERROR((E12-D12)+(G12-F12),"") -> 0
A13: MERCREDI | B13: =B12+1 -> 46001 | H13: =IFERROR((E13-D13)+(G13-F13),"") -> 0
A14: JEUDI | B14: =B13+1 -> 46002 | H14: =IFERROR((E14-D14)+(G14-F14),"") -> 0
A15: VENDREDI | B15: =B14+1 -> 46003 | H15: =IFERROR((E15-D15)+(G15-F15),"") -> 0
A16: SAMEDI | B16: =B15+1 -> 46004 | H16: =IFERROR((E16-D16)+(G16-F16),"") -> 0
... A34: MERCREDI | B34: =B33+1 -> 46022 | H34: =IFERROR((E34-D34)+(G34-F34),"") -> 0
A35: Total heures | H35: =SUM(H4:H34) -> 0
A36: dont heures dimanche | H36: =SUMIF(A4:A34,"DIMANCHE",H4:H34) -> 0
A37: dont heures jours fériés | H37: =SUMIF(I4:I34,1,H4:H34) -> 0
A38: REPORT DÉCEMBRE HEURES SEMAINE NON PAYÉES
A39: REPORT DÉCEMBRE HEURES DIMANCHE + JOURS FÉRIÉS NON PAYÉES
A40: TOTAL DES HEURES du MOIS M et M-1
A41: Solde des heures dues | H41: =H40 -> 0

Sheet Feuil14

Sheet Feuil15

Sheet Feuil16

Sheet Feuil17

Sheet Feuil18

Sheet Feuil19

Sheet Feuil20

Sheet Feuil21

Sheet Feuil22

Sheet Feuil23

Sheet Feuil24

Sheet Feuil25

Sheet Feuil26

Sheet Feuil27

Sheet Feuil28

Sheet Feuil29

Sheet Feuil30

Sheet Feuil31

Sheet Feuil32

Sheet Feuil33
