Workbook
Name ferie: BASE!$E$5:$E$17
Name Segment_mois: #N/A

Sheet tableaux de bord
B2: année: | D2: 2025
D4: Installateur | E4: chauffeur 1 | G4: chauffeur 2 | I4: chauffeur 3 | K4: chauffeur 4 | M4: chauffeur 5 | O4: chauffeur 6 | Q4: chauffeur 7 | S4: chauffeur 8 | U4: chauffeur 9
E5: activité | F5: dpl | G5: activité | H5: dpl | I5: activité | J5: dpl | K5: activité | L5: dpl | M5: activité | N5: dpl | O5: activité | P5: dpl | Q5: activité | R5: dpl | S5: activité | T5: dpl | U5: activité | V5: dpl
C6: mois | D6: date | E6: col1 | F6: col2 | G6: col3 | H6: col4 | I6: col5 | J6: col6 | K6: col7 | L6: col8 | M6: col9 | N6: col10 | O6: col11 | P6: col12 | Q6: col13 | R6: col14 | S6: col15 | T6: col16 | U6: col17 | V6: col18
C7: =TEXT(D7,"mmmm") -> janvier | D7: =DATE($D$2,1,1) -> 44196
C8: =TEXT(D8,"mmmm") -> janvier | D8: =D7+1 -> 44197
C9: =TEXT(D9,"mmmm") -> janvier | D9: =D8+1 -> 44198
C10: =TEXT(D10,"mmmm") -> janvier | D10: =D9+1 -> 44199
C11: =TEXT(D11,"mmmm") -> janvier | D11: =D10+1 -> 44200
C12: =TEXT(D12,"mmmm") -> janvier | D12: =D11+1 -> 44201
C13: =TEXT(D13,"mmmm") -> janvier | D13: =D12+1 -> 44202 | H13: 1 | J13: 1 | L13: 1
C14: =TEXT(D14,"mmmm") -> janvier | D14: =D13+1 -> 44203
C15: =TEXT(D15,"mmmm") -> janvier | D15: =D14+1 -> 44204
C16: =TEXT(D16,"mmmm") -> janvier | D16: =D15+1 -> 44205
C17: =TEXT(D17,"mmmm") -> janvier | D17: =D16+1 -> 44206
C18: =TEXT(D18,"mmmm") -> janvier | D18: =D17+1 -> 44207
C19: =TEXT(D19,"mmmm") -> janvier | D19: =D18+1 -> 44208
C20: =TEXT(D20,"mmmm") -> janvier | D20: =D19+1 -> 44209
C21: =TEXT(D21,"mmmm") -> janvier | D21: =D20+1 -> 44210
C22: =TEXT(D22,"mmmm") -> janvier | D22: =D21+1 -> 44211
C23: =TEXT(D23,"mmmm") -> janvier | D23: =D22+1 -> 44212
C24: =TEXT(D24,"mmmm") -> janvier | D24: =D23+1 -> 44213
C25: =TEXT(D25,"mmmm") -> janvier | D25: =D24+1 -> 44214
... C371: =TEXT(D371,"mmmm") -> décembre | D371: =D370+1 -> 44560

Sheet BASE
C4: MOIS | E4: Jour fériés
C5: Janvier | E5: =DATE('tableaux de bord'!$D$2,1,1) -> 44196 | F5: jour de l'an
C6: Février | E6: =FLOOR(DAY(MINUTE('tableaux de bord'!$D$2/38)/2+56)&"/5/"&'tableaux de bord'!$D$2,7)-34 -> 44304 | F6: Pâques
C7: Mars | E7: =$E$6+1 -> 44305 | F7: Lundi de Pâques
C8: Avril | E8: =DATE('tableaux de bord'!$D$2,5,1) -> 44316 | F8: Fête du travail
C9: Mai | E9: =DATE('tableaux de bord'!$D$2,5,8) -> 44323 | F9: Armistice 39/45
C10: Juin | E10: =E6 + 39 -> 44343 | F10: Ascencion
C11: Juillet | E11: =E6+49 -> 44353 | F11: Pentecôte
C12: Août | E12: =E6+50 -> 44354 | F12: Lundi de Pentecôte
C13: Septembre | E13: =DATE('tableaux de bord'!$D$2,7,14) -> 44390 | F13: Fête Nationale
C14: Octobre | E14: =DATE('tableaux de bord'!$D$2,8,15) -> 44422 | F14: Assemption
C15: Novembre | E15: =DATE('tableaux de bord'!$D$2,11,1) -> 44500 | F15: Toussaint
C16: Décembre | E16: =DATE('tableaux de bord'!$D$2,11,11) -> 44510 | F16: Armistice 14/18
E17: =DATE('tableaux de bord'!$D$2,12,25) -> 44554 | F17: Noël
