Workbook

Sheet ORDER
A1: numero ordre | B1: date demandé
A2: 0001759158 | B2: 05/11/2024 18:30:00
A3: 0001759157 | B3: 05/11/2024 18:30:00
A4: 0001759159 | B4: 05/11/2024 18:30:00
A5: 0001759481 | B5: 05/11/2024 17:45:00
A6: 0001759482 | B6: 05/11/2024 17:45:00
A7: 0001758998 | B7: 31/10/2024 19:00:00
A8: 0001758997 | B8: 31/10/2024 19:00:00
A9: 0001758996 | B9: 31/10/2024 19:00:00
A10: 0001758999 | B10: 31/10/2024 19:00:00
A11: 0001759343 | B11: 31/10/2024 17:45:00
A12: 0001759342 | B12: 31/10/2024 17:45:00
... A314: 0001752099 | B314: 16/05/2024 17:45:00

Sheet SHIPPED
A1: numero ordre | B1: date éxpédié
A2: 0001759482 | B2: 05/11/2024 19:13:41 | C2: =IFERROR(IF(TEXT(INDEX(ORDER!$A$1:$B$315,MATCH(SHIPPED!A2,ORDER!$A$1:$A$315,0),2),"jj/mm/aaaa")=TEXT(B2,"jj/mm/aaaa"),"OK",INDEX(ORDER!$A$1:$B$315,MATCH(SHIPPED!A2,ORDER!$A$1:$A$315,0),2)),"Non trouvé") -> OK
A3: 0001759482 | B3: 05/11/2024 19:13:40 | C3: =IFERROR(IF(TEXT(INDEX(ORDER!$A$1:$B$315,MATCH(SHIPPED!A3,ORDER!$A$1:$A$315,0),2),"jj/mm/aaaa")=TEXT(B3,"jj/mm/aaaa"),"OK",INDEX(ORDER!$A$1:$B$315,MATCH(SHIPPED!A3,ORDER!$A$1:$A$315,0),2)),"Non trouvé") -> OK
A4: 0001759482 | B4: 05/11/2024 19:13:40 | C4: =IFERROR(IF(TEXT(INDEX(ORDER!$A$1:$B$315,MATCH(SHIPPED!A4,ORDER!$A$1:$A$315,0),2),"jj/mm/aaaa")=TEXT(B4,"jj/mm/aaaa"),"OK",INDEX(ORDER!$A$1:$B$315,MATCH(SHIPPED!A4,ORDER!$A$1:$A$315,0),2)),"Non trouvé") -> OK
A5: 0001759482 | B5: 05/11/2024 19:13:40 | C5: =IFERROR(IF(TEXT(INDEX(ORDER!$A$1:$B$315,MATCH(SHIPPED!A5,ORDER!$A$1:$A$315,0),2),"jj/mm/aaaa")=TEXT(B5,"jj/mm/aaaa"),"OK",INDEX(ORDER!$A$1:$B$315,MATCH(SHIPPED!A5,ORDER!$A$1:$A$315,0),2)),"Non trouvé") -> OK
A6: 0001759481 | B6: 05/11/2024 19:13:39 | C6: =IFERROR(IF(TEXT(INDEX(ORDER!$A$1:$B$315,MATCH(SHIPPED!A6,ORDER!$A$1:$A$315,0),2),"jj/mm/aaaa")=TEXT(B6,"jj/mm/aaaa"),"OK",INDEX(ORDER!$A$1:$B$315,MATCH(SHIPPED!A6,ORDER!$A$1:$A$315,0),2)),"Non trouvé") -> OK
A7: 0001759481 | B7: 05/11/2024 19:13:39 | C7: =IFERROR(IF(TEXT(INDEX(ORDER!$A$1:$B$315,MATCH(SHIPPED!A7,ORDER!$A$1:$A$315,0),2),"jj/mm/aaaa")=TEXT(B7,"jj/mm/aaaa"),"OK",INDEX(ORDER!$A$1:$B$315,MATCH(SHIPPED!A7,ORDER!$A$1:$A$315,0),2)),"Non trouvé") -> OK
A8: 0001759481 | B8: 05/11/2024 19:13:38 | C8: =IFERROR(IF(TEXT(INDEX(ORDER!$A$1:$B$315,MATCH(SHIPPED!A8,ORDER!$A$1:$A$315,0),2),"jj/mm/aaaa")=TEXT(B8,"jj/mm/aaaa"),"OK",INDEX(ORDER!$A$1:$B$315,MATCH(SHIPPED!A8,ORDER!$A$1:$A$315,0),2)),"Non trouvé") -> OK
A9: 0001759481 | B9: 05/11/2024 19:13:38 | C9: =IFERROR(IF(TEXT(INDEX(ORDER!$A$1:$B$315,MATCH(SHIPPED!A9,ORDER!$A$1:$A$315,0),2),"jj/mm/aaaa")=TEXT(B9,"jj/mm/aaaa"),"OK",INDEX(ORDER!$A$1:$B$315,MATCH(SHIPPED!A9,ORDER!$A$1:$A$315,0),2)),"Non trouvé") -> OK
A10: 0001759159 | B10: 05/11/2024 18:51:35 | C10: =IFERROR(IF(TEXT(INDEX(ORDER!$A$1:$B$315,MATCH(SHIPPED!A10,ORDER!$A$1:$A$315,0),2),"jj/mm/aaaa")=TEXT(B10,"jj/mm/aaaa"),"OK",INDEX(ORDER!$A$1:$B$315,MATCH(SHIPPED!A10,ORDER!$A$1:$A$315,0),2)),"Non trouvé") -> OK
A11: 0001759159 | B11: 05/11/2024 18:51:35 | C11: =IFERROR(IF(TEXT(INDEX(ORDER!$A$1:$B$315,MATCH(SHIPPED!A11,ORDER!$A$1:$A$315,0),2),"jj/mm/aaaa")=TEXT(B11,"jj/mm/aaaa"),"OK",INDEX(ORDER!$A$1:$B$315,MATCH(SHIPPED!A11,ORDER!$A$1:$A$315,0),2)),"Non trouvé") -> OK
A12: 0001759159 | B12: 05/11/2024 18:51:34 | C12: =IFERROR(IF(TEXT(INDEX(ORDER!$A$1:$B$315,MATCH(SHIPPED!A12,ORDER!$A$1:$A$315,0),2),"jj/mm/aaaa")=TEXT(B12,"jj/mm/aaaa"),"OK",INDEX(ORDER!$A$1:$B$315,MATCH(SHIPPED!A12,ORDER!$A$1:$A$315,0),2)),"Non trouvé") -> OK
A13: 0001759159 | B13: 05/11/2024 18:51:34 | C13: =IFERROR(IF(TEXT(INDEX(ORDER!$A$1:$B$315,MATCH(SHIPPED!A13,ORDER!$A$1:$A$315,0),2),"jj/mm/aaaa")=TEXT(B13,"jj/mm/aaaa"),"OK",INDEX(ORDER!$A$1:$B$315,MATCH(SHIPPED!A13,ORDER!$A$1:$A$315,0),2)),"Non trouvé") -> OK
... A807: 0001754959 | B807: 23/07/2024 13:41:57 | C807: =IFERROR(IF(TEXT(INDEX(ORDER!$A$1:$B$315,MATCH(SHIPPED!A807,ORDER!$A$1:$A$315,0),2),"jj/mm/aaaa")=TEXT(B807,"jj/mm/aaaa"),"OK",INDEX(ORDER!$A$1:$B$315,MATCH(SHIPPED!A807,ORDER!$A$1:$A$315,0),2)),"Non trouvé") -> OK
A808: 1754959 | B808: 23/07/2024 13:41:56 | C808: =IFERROR(IF(TEXT(INDEX(ORDER!$A$1:$B$315,MATCH(SHIPPED!A808,ORDER!$A$1:$A$315,0),2),"jj/mm/aaaa")=TEXT(B808,"jj/mm/aaaa"),"OK",INDEX(ORDER!$A$1:$B$315,MATCH(SHIPPED!A808,ORDER!$A$1:$A$315,0),2)),"Non trouvé") -> Non trouvé
A809: 0001754959 | B809: 23/07/2024 13:41:56 | C809: =IFERROR(IF(TEXT(INDEX(ORDER!$A$1:$B$315,MATCH(SHIPPED!A809,ORDER!$A$1:$A$315,0),2),"jj/mm/aaaa")=TEXT(B809,"jj/mm/aaaa"),"OK",INDEX(ORDER!$A$1:$B$315,MATCH(SHIPPED!A809,ORDER!$A$1:$A$315,0),2)),"Non trouvé") -> OK
A810: 0001754958 | B810: 23/07/2024 13:41:55 | C810: =IFERROR(IF(TEXT(INDEX(ORDER!$A$1:$B$315,MATCH(SHIPPED!A810,ORDER!$A$1:$A$315,0),2),"jj/mm/aaaa")=TEXT(B810,"jj/mm/aaaa"),"OK",INDEX(ORDER!$A$1:$B$315,MATCH(SHIPPED!A810,ORDER!$A$1:$A$315,0),2)),"Non trouvé") -> OK
A811: 0001754958 | B811: 23/07/2024 13:41:55 | C811: =IFERROR(IF(TEXT(INDEX(ORDER!$A$1:$B$315,MATCH(SHIPPED!A811,ORDER!$A$1:$A$315,0),2),"jj/mm/aaaa")=TEXT(B811,"jj/mm/aaaa"),"OK",INDEX(ORDER!$A$1:$B$315,MATCH(SHIPPED!A811,ORDER!$A$1:$A$315,0),2)),"Non trouvé") -> OK
A812: 0001754958 | B812: 23/07/2024 13:41:54 | C812: =IFERROR(IF(TEXT(INDEX(ORDER!$A$1:$B$315,MATCH(SHIPPED!A812,ORDER!$A$1:$A$315,0),2),"jj/mm/aaaa")=TEXT(B812,"jj/mm/aaaa"),"OK",INDEX(ORDER!$A$1:$B$315,MATCH(SHIPPED!A812,ORDER!$A$1:$A$315,0),2)),"Non trouvé") -> OK
A813: 0001754958 | B813: 23/07/2024 13:41:54 | C813: =IFERROR(IF(TEXT(INDEX(ORDER!$A$1:$B$315,MATCH(SHIPPED!A813,ORDER!$A$1:$A$315,0),2),"jj/mm/aaaa")=TEXT(B813,"jj/mm/aaaa"),"OK",INDEX(ORDER!$A$1:$B$315,MATCH(SHIPPED!A813,ORDER!$A$1:$A$315,0),2)),"Non trouvé") -> OK
A814: 0001754932 | B814: 22/07/2024 16:09:23 | C814: =IFERROR(IF(TEXT(INDEX(ORDER!$A$1:$B$315,MATCH(SHIPPED!A814,ORDER!$A$1:$A$315,0),2),"jj/mm/aaaa")=TEXT(B814,"jj/mm/aaaa"),"OK",INDEX(ORDER!$A$1:$B$315,MATCH(SHIPPED!A814,ORDER!$A$1:$A$315,0),2)),"Non trouvé") -> OK
A815: 0001754932 | B815: 22/07/2024 16:09:23 | C815: =IFERROR(IF(TEXT(INDEX(ORDER!$A$1:$B$315,MATCH(SHIPPED!A815,ORDER!$A$1:$A$315,0),2),"jj/mm/aaaa")=TEXT(B815,"jj/mm/aaaa"),"OK",INDEX(ORDER!$A$1:$B$315,MATCH(SHIPPED!A815,ORDER!$A$1:$A$315,0),2)),"Non trouvé") -> OK
A816: 0001754932 | B816: 22/07/2024 16:09:23 | C816: =IFERROR(IF(TEXT(INDEX(ORDER!$A$1:$B$315,MATCH(SHIPPED!A816,ORDER!$A$1:$A$315,0),2),"jj/mm/aaaa")=TEXT(B816,"jj/mm/aaaa"),"OK",INDEX(ORDER!$A$1:$B$315,MATCH(SHIPPED!A816,ORDER!$A$1:$A$315,0),2)),"Non trouvé") -> OK
A817: 0001754932 | B817: 22/07/2024 16:09:22 | C817: =IFERROR(IF(TEXT(INDEX(ORDER!$A$1:$B$315,MATCH(SHIPPED!A817,ORDER!$A$1:$A$315,0),2),"jj/mm/aaaa")=TEXT(B817,"jj/mm/aaaa"),"OK",INDEX(ORDER!$A$1:$B$315,MATCH(SHIPPED!A817,ORDER!$A$1:$A$315,0),2)),"Non trouvé") -> OK
A818: 0001754933 | B818: 22/07/2024 16:09:22 | C818: =IFERROR(IF(TEXT(INDEX(ORDER!$A$1:$B$315,MATCH(SHIPPED!A818,ORDER!$A$1:$A$315,0),2),"jj/mm/aaaa")=TEXT(B818,"jj/mm/aaaa"),"OK",INDEX(ORDER!$A$1:$B$315,MATCH(SHIPPED!A818,ORDER!$A$1:$A$315,0),2)),"Non trouvé") -> OK
A819: 0001754933 | B819: 22/07/2024 16:09:21 | C819: =IFERROR(IF(TEXT(INDEX(ORDER!$A$1:$B$315,MATCH(SHIPPED!A819,ORDER!$A$1:$A$315,0),2),"jj/mm/aaaa")=TEXT(B819,"jj/mm/aaaa"),"OK",INDEX(ORDER!$A$1:$B$315,MATCH(SHIPPED!A819,ORDER!$A$1:$A$315,0),2)),"Non trouvé") -> OK
A820: 0001754933 | B820: 22/07/2024 16:09:21 | C820: =IFERROR(IF(TEXT(INDEX(ORDER!$A$1:$B$315,MATCH(SHIPPED!A820,ORDER!$A$1:$A$315,0),2),"jj/mm/aaaa")=TEXT(B820,"jj/mm/aaaa"),"OK",INDEX(ORDER!$A$1:$B$315,MATCH(SHIPPED!A820,ORDER!$A$1:$A$315,0),2)),"Non trouvé") -> OK
... A1297: 0001751351 | B1297: 13/05/2024 19:03:05 | C1297: =IFERROR(IF(TEXT(INDEX(ORDER!$A$1:$B$315,MATCH(SHIPPED!A1297,ORDER!$A$1:$A$315,0),2),"jj/mm/aaaa")=TEXT(B1297,"jj/mm/aaaa"),"OK",INDEX(ORDER!$A$1:$B$315,MATCH(SHIPPED!A1297,ORDER!$A$1:$A$315,0),2)),"Non trouvé") -> Non trouvé
