Workbook

Sheet aaa
A1: 2024
C4: =DATE(A1,1,3)-MOD(DATE(A1,1,3)-1,7)+1 -> 45292 | D4: =C4+7 -> 45299 | E4: =D4+7 -> 45306 | F4: =E4+7 -> 45313 | G4: =F4+7 -> 45320 | H4: =G4+7 -> 45327 | I4: =H4+7 -> 45334 | J4: =I4+7 -> 45341 | K4: =J4+7 -> 45348 | ... BB4: =BA4+7 -> 45649
C5: =_xlfn.ISOWEEKNUM(C4) -> 1 | D5: =_xlfn.ISOWEEKNUM(D4) -> 2 | E5: =_xlfn.ISOWEEKNUM(E4) -> 3 | F5: =_xlfn.ISOWEEKNUM(F4) -> 4 | G5: =_xlfn.ISOWEEKNUM(G4) -> 5 | H5: =_xlfn.ISOWEEKNUM(H4) -> 6 | I5: =_xlfn.ISOWEEKNUM(I4) -> 7 | J5: =_xlfn.ISOWEEKNUM(J4) -> 8 | ... BB5: =_xlfn.ISOWEEKNUM(BB4) -> 52
B6: A | C6: 4 | D6: 3 | E6: 2 | F6: 5 | G6: 6 | H6: 7 | I6: 8 | J6: 9 | K6: 15
B7: B | C7: 0 | D7: 1 | E7: 0 | F7: 2 | G7: 3 | H7: 4 | I7: 5 | J7: 6 | K7: 2
C12: En C4: 1er lundi de la semaine 1 de l'année en A1
C13: ensuite +7
C14: Ecrit en blanc sur blanc….
C16: ligne 5 no.semaine.iso

Sheet bbb
C5: 45292 | D5: 45323 | E5: 45352 | F5: 45383 | G5: 45413 | H5: 45444 | I5: 45474 | J5: 45505 | K5: 45536 | L5: 45566 | M5: 45597 | N5: 45627
B6: A | C6: =SUMPRODUCT((MONTH(aaa!$C$4:$K$4)=COLUMN(A6))*(aaa!$B6=bbb!$B6)*(aaa!$C6:$K6)) -> 20 | D6: =SUMPRODUCT((MONTH(aaa!$C$4:$K$4)=COLUMN(B6))*(aaa!$B6=bbb!$B6)*(aaa!$C6:$K6)) -> 39 | E6: =SUMPRODUCT((MONTH(aaa!$C$4:$K$4)=COLUMN(C6))*(aaa!$B6=bbb!$B6)*(aaa!$C6:$K6)) -> 0 | F6: =SUMPRODUCT((MONTH(aaa!$C$4:$K$4)=COLUMN(D6))*(aaa!$B6=bbb!$B6)*(aaa!$C6:$K6)) -> 0 | G6: =SUMPRODUCT((MONTH(aaa!$C$4:$K$4)=COLUMN(E6))*(aaa!$B6=bbb!$B6)*(aaa!$C6:$K6)) -> 0 | H6: =SUMPRODUCT((MONTH(aaa!$C$4:$K$4)=COLUMN(F6))*(aaa!$B6=bbb!$B6)*(aaa!$C6:$K6)) -> 0 | I6: =SUMPRODUCT((MONTH(aaa!$C$4:$K$4)=COLUMN(G6))*(aaa!$B6=bbb!$B6)*(aaa!$C6:$K6)) -> 0 | J6: =SUMPRODUCT((MONTH(aaa!$C$4:$K$4)=COLUMN(H6))*(aaa!$B6=bbb!$B6)*(aaa!$C6:$K6)) -> 0 | ... N6: =SUMPRODUCT((MONTH(aaa!$C$4:$K$4)=COLUMN(L6))*(aaa!$B6=bbb!$B6)*(aaa!$C6:$K6)) -> 0
B7: B | C7: =SUMPRODUCT((MONTH(aaa!$C$4:$K$4)=COLUMN(A7))*(aaa!$B7=bbb!$B7)*(aaa!$C7:$K7)) -> 6 | D7: =SUMPRODUCT((MONTH(aaa!$C$4:$K$4)=COLUMN(B7))*(aaa!$B7=bbb!$B7)*(aaa!$C7:$K7)) -> 17 | E7: =SUMPRODUCT((MONTH(aaa!$C$4:$K$4)=COLUMN(C7))*(aaa!$B7=bbb!$B7)*(aaa!$C7:$K7)) -> 0 | F7: =SUMPRODUCT((MONTH(aaa!$C$4:$K$4)=COLUMN(D7))*(aaa!$B7=bbb!$B7)*(aaa!$C7:$K7)) -> 0 | G7: =SUMPRODUCT((MONTH(aaa!$C$4:$K$4)=COLUMN(E7))*(aaa!$B7=bbb!$B7)*(aaa!$C7:$K7)) -> 0 | H7: =SUMPRODUCT((MONTH(aaa!$C$4:$K$4)=COLUMN(F7))*(aaa!$B7=bbb!$B7)*(aaa!$C7:$K7)) -> 0 | I7: =SUMPRODUCT((MONTH(aaa!$C$4:$K$4)=COLUMN(G7))*(aaa!$B7=bbb!$B7)*(aaa!$C7:$K7)) -> 0 | J7: =SUMPRODUCT((MONTH(aaa!$C$4:$K$4)=COLUMN(H7))*(aaa!$B7=bbb!$B7)*(aaa!$C7:$K7)) -> 0 | ... N7: =SUMPRODUCT((MONTH(aaa!$C$4:$K$4)=COLUMN(L7))*(aaa!$B7=bbb!$B7)*(aaa!$C7:$K7)) -> 0
