Workbook

Sheet STATS
A1: DATE | B1: INJECTIONS / SAISIES | C1: LIQUIDATIONS | D1: ANNULATIONS | M1: =TODAY() -> 45546
A2: 45292 | B2: =COUNTIF('[1]FACTURES 2024'!J:J,STATS!A2) -> 0 | C2: =COUNTIF('[1]FACTURES 2024'!Z:Z,STATS!A2) -> 0 | D2: =COUNTIF('[1]FACTURES 2024'!AA:AA,STATS!A2) -> 0
A3: 45293 | B3: =COUNTIF('[1]FACTURES 2024'!J:J,STATS!A3) -> 0 | C3: =COUNTIF('[1]FACTURES 2024'!Z:Z,STATS!A3) -> 0 | D3: =COUNTIF('[1]FACTURES 2024'!AA:AA,STATS!A3) -> 0
A4: 45294 | B4: =COUNTIF('[1]FACTURES 2024'!J:J,STATS!A4) -> 0 | C4: =COUNTIF('[1]FACTURES 2024'!Z:Z,STATS!A4) -> 0 | D4: =COUNTIF('[1]FACTURES 2024'!AA:AA,STATS!A4) -> 0 | M4: STATISTIQUES
A5: 45295 | B5: =COUNTIF('[1]FACTURES 2024'!J:J,STATS!A5) -> 0 | C5: =COUNTIF('[1]FACTURES 2024'!Z:Z,STATS!A5) -> 0 | D5: =COUNTIF('[1]FACTURES 2024'!AA:AA,STATS!A5) -> 0 | N5: TOTAL | O5: MOYENNE / JOUR
A6: 45296 | B6: =COUNTIF('[1]FACTURES 2024'!J:J,STATS!A6) -> 0 | C6: =COUNTIF('[1]FACTURES 2024'!Z:Z,STATS!A6) -> 0 | D6: =COUNTIF('[1]FACTURES 2024'!AA:AA,STATS!A6) -> 0 | M6: INJECTIONS | N6: =SUM(B:B) -> 306 | O6: =AVERAGEIF(A:A,"<" & $M$1,B:B) -> 1.6223404
A7: 45297 | B7: =COUNTIF('[1]FACTURES 2024'!J:J,STATS!A7) -> 0 | C7: =COUNTIF('[1]FACTURES 2024'!Z:Z,STATS!A7) -> 0 | D7: =COUNTIF('[1]FACTURES 2024'!AA:AA,STATS!A7) -> 0 | M7: LIQUIDATIONS | N7: =+SUM(C:C) -> 267 | O7: =AVERAGEIF(A:A,"<" & $M$1,C:C) -> 1.4202128
A8: 45298 | B8: =COUNTIF('[1]FACTURES 2024'!J:J,STATS!A8) -> 0 | C8: =COUNTIF('[1]FACTURES 2024'!Z:Z,STATS!A8) -> 0 | D8: =COUNTIF('[1]FACTURES 2024'!AA:AA,STATS!A8) -> 0 | M8: ANNULATIONS | N8: =SUM(D:D) -> 32 | O8: =AVERAGEIF(A:A,"<" & $M$1,D:D) -> 0.17021277
A9: 45299 | B9: =COUNTIF('[1]FACTURES 2024'!J:J,STATS!A9) -> 0 | C9: =COUNTIF('[1]FACTURES 2024'!Z:Z,STATS!A9) -> 0 | D9: =COUNTIF('[1]FACTURES 2024'!AA:AA,STATS!A9) -> 0
A10: 45300 | B10: =COUNTIF('[1]FACTURES 2024'!J:J,STATS!A10) -> 0 | C10: =COUNTIF('[1]FACTURES 2024'!Z:Z,STATS!A10) -> 0 | D10: =COUNTIF('[1]FACTURES 2024'!AA:AA,STATS!A10) -> 0
A11: 45301 | B11: =COUNTIF('[1]FACTURES 2024'!J:J,STATS!A11) -> 0 | C11: =COUNTIF('[1]FACTURES 2024'!Z:Z,STATS!A11) -> 0 | D11: =COUNTIF('[1]FACTURES 2024'!AA:AA,STATS!A11) -> 0
A12: 45302 | B12: =COUNTIF('[1]FACTURES 2024'!J:J,STATS!A12) -> 0 | C12: =COUNTIF('[1]FACTURES 2024'!Z:Z,STATS!A12) -> 0 | D12: =COUNTIF('[1]FACTURES 2024'!AA:AA,STATS!A12) -> 0
A13: 45303 | B13: =COUNTIF('[1]FACTURES 2024'!J:J,STATS!A13) -> 0 | C13: =COUNTIF('[1]FACTURES 2024'!Z:Z,STATS!A13) -> 0 | D13: =COUNTIF('[1]FACTURES 2024'!AA:AA,STATS!A13) -> 0
A14: 45304 | B14: =COUNTIF('[1]FACTURES 2024'!J:J,STATS!A14) -> 0 | C14: =COUNTIF('[1]FACTURES 2024'!Z:Z,STATS!A14) -> 0 | D14: =COUNTIF('[1]FACTURES 2024'!AA:AA,STATS!A14) -> 0
A15: 45305 | B15: =COUNTIF('[1]FACTURES 2024'!J:J,STATS!A15) -> 0 | C15: =COUNTIF('[1]FACTURES 2024'!Z:Z,STATS!A15) -> 0 | D15: =COUNTIF('[1]FACTURES 2024'!AA:AA,STATS!A15) -> 0
A16: 45306 | B16: =COUNTIF('[1]FACTURES 2024'!J:J,STATS!A16) -> 0 | C16: =COUNTIF('[1]FACTURES 2024'!Z:Z,STATS!A16) -> 0 | D16: =COUNTIF('[1]FACTURES 2024'!AA:AA,STATS!A16) -> 0
A17: 45307 | B17: =COUNTIF('[1]FACTURES 2024'!J:J,STATS!A17) -> 3 | C17: =COUNTIF('[1]FACTURES 2024'!Z:Z,STATS!A17) -> 0 | D17: =COUNTIF('[1]FACTURES 2024'!AA:AA,STATS!A17) -> 0
A18: 45308 | B18: =COUNTIF('[1]FACTURES 2024'!J:J,STATS!A18) -> 0 | C18: =COUNTIF('[1]FACTURES 2024'!Z:Z,STATS!A18) -> 0 | D18: =COUNTIF('[1]FACTURES 2024'!AA:AA,STATS!A18) -> 0
A19: 45309 | B19: =COUNTIF('[1]FACTURES 2024'!J:J,STATS!A19) -> 1 | C19: =COUNTIF('[1]FACTURES 2024'!Z:Z,STATS!A19) -> 0 | D19: =COUNTIF('[1]FACTURES 2024'!AA:AA,STATS!A19) -> 0
A20: 45310 | B20: =COUNTIF('[1]FACTURES 2024'!J:J,STATS!A20) -> 0 | C20: =COUNTIF('[1]FACTURES 2024'!Z:Z,STATS!A20) -> 0 | D20: =COUNTIF('[1]FACTURES 2024'!AA:AA,STATS!A20) -> 0
... A269: 45657 | B269: =COUNTIF('[1]FACTURES 2024'!J:J,STATS!A269) -> 0 | C269: =COUNTIF('[1]FACTURES 2024'!Z:Z,STATS!A269) -> 0 | D269: =COUNTIF('[1]FACTURES 2024'!AA:AA,STATS!A269) -> 0
