Workbook
Name L_ref: T_liste[Ref.]

Sheet Mouvement stock Program
A2: Mouvements Stock Program
A5: N° | B5: Date | C5: Désignation | D5: Ref | E5: Entrée | F5: Sortie | G5: Partenaire/Fournisseur | H5: N° de Fiche/BC
A6: 1 | B6: 45513 | C6: =INDEX(T_liste[],MATCH('Mouvement stock Program'!D6,T_liste[Ref.],0),2) -> GRAISSE | D6: MP-3 | E6: 120 | G6: =IFERROR(INDEX(T_liste[],MATCH('Mouvement stock Program'!D6,T_liste[Partenaire/Fournisseur],0),2),"")
A7: =A6+1 -> 2 | B7: 45513 | C7: =INDEX(T_liste[],MATCH('Mouvement stock Program'!D7,T_liste[Ref.],0),2) -> COURROIE ALTERNATEUR | D7: 90916-02452 | E7: 32 | G7: =IFERROR(INDEX(T_liste[],MATCH('Mouvement stock Program'!D7,T_liste[Partenaire/Fournisseur],0),2),"")
A8: =A7+1 -> 3 | B8: 45513 | C8: =INDEX(T_liste[],MATCH('Mouvement stock Program'!D8,T_liste[Ref.],0),2) -> COURROIE MOTEUR | D8: 13568-19195 | E8: 9 | G8: =IFERROR(INDEX(T_liste[],MATCH('Mouvement stock Program'!D8,T_liste[Partenaire/Fournisseur],0),2),"")
A9: =A8+1 -> 4 | B9: 45513 | C9: =INDEX(T_liste[],MATCH('Mouvement stock Program'!D9,T_liste[Ref.],0),2) -> FER RADEAU | D9: 04495-26240 | E9: 4 | G9: =IFERROR(INDEX(T_liste[],MATCH('Mouvement stock Program'!D9,T_liste[Partenaire/Fournisseur],0),2),"")
A10: =A9+1 -> 5 | B10: 45513 | C10: =INDEX(T_liste[],MATCH('Mouvement stock Program'!D10,T_liste[Ref.],0),2) -> GARNITURE DE FREIN AV | D10: 04494-36320 | E10: 3 | G10: =IFERROR(INDEX(T_liste[],MATCH('Mouvement stock Program'!D10,T_liste[Partenaire/Fournisseur],0),2),"")
A11: =A10+1 -> 6 | B11: 45513 | C11: =INDEX(T_liste[],MATCH('Mouvement stock Program'!D11,T_liste[Ref.],0),2) -> GARNITURE DE FREIN | D11: 04495-0K160 | E11: 15 | G11: =IFERROR(INDEX(T_liste[],MATCH('Mouvement stock Program'!D11,T_liste[Partenaire/Fournisseur],0),2),"")
A12: =A11+1 -> 7 | B12: 45513 | C12: =INDEX(T_liste[],MATCH('Mouvement stock Program'!D12,T_liste[Ref.],0),2) -> AMORTISSEUR AVANT | D12: 48510-69475 | E12: 4 | G12: =IFERROR(INDEX(T_liste[],MATCH('Mouvement stock Program'!D12,T_liste[Partenaire/Fournisseur],0),2),"")
A13: =A12+1 -> 8 | B13: 45513 | C13: =INDEX(T_liste[],MATCH('Mouvement stock Program'!D13,T_liste[Ref.],0),2) -> AMORTISSEUR AVANT | D13: 48511-69495 | E13: 6 | G13: =IFERROR(INDEX(T_liste[],MATCH('Mouvement stock Program'!D13,T_liste[Partenaire/Fournisseur],0),2),"")
A14: =A13+1 -> 9 | B14: 45513 | C14: =INDEX(T_liste[],MATCH('Mouvement stock Program'!D14,T_liste[Ref.],0),2) -> AMORTISSEUR DIRECT | D14: 45700-69155 | E14: 9 | G14: =IFERROR(INDEX(T_liste[],MATCH('Mouvement stock Program'!D14,T_liste[Partenaire/Fournisseur],0),2),"")
A15: =A14+1 -> 10 | B15: 45513 | C15: =INDEX(T_liste[],MATCH('Mouvement stock Program'!D15,T_liste[Ref.],0),2) -> AMORTISSEUR DIRECTION | D15: 45700-69175 | E15: 8 | G15: =IFERROR(INDEX(T_liste[],MATCH('Mouvement stock Program'!D15,T_liste[Partenaire/Fournisseur],0),2),"")
A16: =A15+1 -> 11 | B16: 45513 | C16: =INDEX(T_liste[],MATCH('Mouvement stock Program'!D16,T_liste[Ref.],0),2) -> AMORTISSEUR ARRIÈRE | D16: 48531-80807 | E16: 12 | G16: =IFERROR(INDEX(T_liste[],MATCH('Mouvement stock Program'!D16,T_liste[Partenaire/Fournisseur],0),2),"")
A17: =A16+1 -> 12 | B17: 45513 | C17: =INDEX(T_liste[],MATCH('Mouvement stock Program'!D17,T_liste[Ref.],0),2) -> AMORTISSEUR ARRIÈRE | D17: 48531-80725 | E17: 2 | G17: =IFERROR(INDEX(T_liste[],MATCH('Mouvement stock Program'!D17,T_liste[Partenaire/Fournisseur],0),2),"")
A18: =A17+1 -> 13 | B18: 45513 | C18: =INDEX(T_liste[],MATCH('Mouvement stock Program'!D18,T_liste[Ref.],0),2) -> AMORTISSEUR AVANT | D18: 48511-69505 | E18: 6 | G18: =IFERROR(INDEX(T_liste[],MATCH('Mouvement stock Program'!D18,T_liste[Partenaire/Fournisseur],0),2),"")
... A23: =A22+1 -> 18 | B23: 45513 | C23: =INDEX(T_liste[],MATCH('Mouvement stock Program'!D23,T_liste[Ref.],0),2) -> GRAISSE | D23: MP-3 | E23: 2 | G23: =IFERROR(INDEX(T_liste[],MATCH('Mouvement stock Program'!D23,T_liste[Partenaire/Fournisseur],0),2),"")

Sheet Liste des Pièces
A2: LISTE DES PIECES
A5: N° | B5: Désignation | C5: Ref. | D5: Class. | E5: Unit | F5: Partenaire/Fournisseur | G5: Price | H5: Stock initial | I5: Entrées | J5: Sorties | K5: Stock Final | L5: Valeur Stock | M5: Stock Theorique | N5: Ecart | O5: Etat
A6: 206 | B6: ACCUMULATOR | C6: 7478549200 | D6: RNLT | E6: Pièce | I6: =IF(B6="","",SUMIFS(T_stock[Entrée],T_stock[Ref],C6)) -> 0 | J6: =IF(C6="","",SUMIFS(T_stock[Sortie],T_stock[Ref],C6)) -> 0 | K6: =IFERROR(H6+I6-J6,"") -> 0 | L6: =IFERROR(K6*G6,"") -> 0 | M6: 1 | N6: =H6-M6 -> -1 | O6: =IF(K6>0,"OK","Rupture") -> Rupture
A7: 3 | B7: AILE AVANT GAUCHE | C7: 53802-90K04 | D7: TOY | E7: Pièce | I7: =IF(B7="","",SUMIFS(T_stock[Entrée],T_stock[Ref],C7)) -> 0 | J7: =IF(C7="","",SUMIFS(T_stock[Sortie],T_stock[Ref],C7)) -> 0 | K7: =IFERROR(H7+I7-J7,"") -> 0 | L7: =IFERROR(K7*G7,"") -> 0 | M7: 1 | N7: =H7-M7 -> -1 | O7: =IF(K7>0,"OK","Rupture") -> Rupture
A8: 289 | B8: AIR COMPRESSOR | C8: 7422373024 | D8: RNLT | E8: Pièce | I8: =IF(B8="","",SUMIFS(T_stock[Entrée],T_stock[Ref],C8)) -> 0 | J8: =IF(C8="","",SUMIFS(T_stock[Sortie],T_stock[Ref],C8)) -> 0 | K8: =IFERROR(H8+I8-J8,"") -> 0 | L8: =IFERROR(K8*G8,"") -> 0 | M8: 1 | N8: =H8-M8 -> -1 | O8: =IF(K8>0,"OK","Rupture") -> Rupture
A9: 287 | B9: AIR CONDITIONNING COMPRESS | C9: 7478522418 | D9: RNLT | E9: Pièce | I9: =IF(B9="","",SUMIFS(T_stock[Entrée],T_stock[Ref],C9)) -> 0 | J9: =IF(C9="","",SUMIFS(T_stock[Sortie],T_stock[Ref],C9)) -> 0 | K9: =IFERROR(H9+I9-J9,"") -> 0 | L9: =IFERROR(K9*G9,"") -> 0 | M9: 2 | N9: =H9-M9 -> -2 | O9: =IF(K9>0,"OK","Rupture") -> Rupture
A10: 317 | B10: AIR INLET MAUSING | C10: 7482589763 | D10: RNLT | E10: Pièce | I10: =IF(B10="","",SUMIFS(T_stock[Entrée],T_stock[Ref],C10)) -> 0 | J10: =IF(C10="","",SUMIFS(T_stock[Sortie],T_stock[Ref],C10)) -> 0 | K10: =IFERROR(H10+I10-J10,"") -> 0 | L10: =IFERROR(K10*G10,"") -> 0 | M10: 1 | N10: =H10-M10 -> -1 | O10: =IF(K10>0,"OK","Rupture") -> Rupture
A11: 113 | B11: ALTERNATEUR | C11: 27060-0L30 | D11: TOY | E11: Pièce | I11: =IF(B11="","",SUMIFS(T_stock[Entrée],T_stock[Ref],C11)) -> 0 | J11: =IF(C11="","",SUMIFS(T_stock[Sortie],T_stock[Ref],C11)) -> 0 | K11: =IFERROR(H11+I11-J11,"") -> 0 | L11: =IFERROR(K11*G11,"") -> 0 | M11: 2 | N11: =H11-M11 -> -2 | O11: =IF(K11>0,"OK","Rupture") -> Rupture
A12: 198 | B12: ALTERNATEUR | C12: A 0081522902 | D12: BENZ | E12: Pièce | I12: =IF(B12="","",SUMIFS(T_stock[Entrée],T_stock[Ref],C12)) -> 0 | J12: =IF(C12="","",SUMIFS(T_stock[Sortie],T_stock[Ref],C12)) -> 0 | K12: =IFERROR(H12+I12-J12,"") -> 0 | L12: =IFERROR(K12*G12,"") -> 0 | M12: 1 | N12: =H12-M12 -> -1 | O12: =IF(K12>0,"OK","Rupture") -> Rupture
A13: 587 | B13: ALTERNATEUR | C13: 012 455 51 68 | D13: BENZ | E13: Pièce | I13: =IF(B13="","",SUMIFS(T_stock[Entrée],T_stock[Ref],C13)) -> 0 | J13: =IF(C13="","",SUMIFS(T_stock[Sortie],T_stock[Ref],C13)) -> 0 | K13: =IFERROR(H13+I13-J13,"") -> 0 | L13: =IFERROR(K13*G13,"") -> 0 | M13: 0 | N13: =H13-M13 -> 0 | O13: =IF(K13>0,"OK","Rupture") -> Rupture
A14: 636 | B14: ALTERNATEUR | C14: A 005 154 29 02 | D14: BENZ | E14: Pièce | I14: =IF(B14="","",SUMIFS(T_stock[Entrée],T_stock[Ref],C14)) -> 0 | J14: =IF(C14="","",SUMIFS(T_stock[Sortie],T_stock[Ref],C14)) -> 0 | K14: =IFERROR(H14+I14-J14,"") -> 0 | L14: =IFERROR(K14*G14,"") -> 0 | M14: 0 | N14: =H14-M14 -> 0 | O14: =IF(K14>0,"OK","Rupture") -> Rupture
A15: 836 | B15: ALTERNATEUR | C15: 27060-17210 | D15: TOY | E15: Pièce | I15: =IF(B15="","",SUMIFS(T_stock[Entrée],T_stock[Ref],C15)) -> 0 | J15: =IF(C15="","",SUMIFS(T_stock[Sortie],T_stock[Ref],C15)) -> 0 | K15: =IFERROR(H15+I15-J15,"") -> 0 | L15: =IFERROR(K15*G15,"") -> 0 | M15: 4 | N15: =H15-M15 -> -4 | O15: =IF(K15>0,"OK","Rupture") -> Rupture
A16: 288 | B16: ALTERNATOR | C16: 7421401682 | D16: RNLT | E16: Pièce | I16: =IF(B16="","",SUMIFS(T_stock[Entrée],T_stock[Ref],C16)) -> 0 | J16: =IF(C16="","",SUMIFS(T_stock[Sortie],T_stock[Ref],C16)) -> 0 | K16: =IFERROR(H16+I16-J16,"") -> 0 | L16: =IFERROR(K16*G16,"") -> 0 | M16: 1 | N16: =H16-M16 -> -1 | O16: =IF(K16>0,"OK","Rupture") -> Rupture
A17: 579 | B17: AMORTISSEUR | C17: 48510-60222 | D17: TOY | E17: Pièce | I17: =IF(B17="","",SUMIFS(T_stock[Entrée],T_stock[Ref],C17)) -> 0 | J17: =IF(C17="","",SUMIFS(T_stock[Sortie],T_stock[Ref],C17)) -> 0 | K17: =IFERROR(H17+I17-J17,"") -> 0 | L17: =IFERROR(K17*G17,"") -> 0 | M17: 2 | N17: =H17-M17 -> -2 | O17: =IF(K17>0,"OK","Rupture") -> Rupture
A18: 277 | B18: AMORTISSEUR ARRIERE | C18: 48530-60203 | D18: TOY | E18: Pièce | I18: =IF(B18="","",SUMIFS(T_stock[Entrée],T_stock[Ref],C18)) -> 0 | J18: =IF(C18="","",SUMIFS(T_stock[Sortie],T_stock[Ref],C18)) -> 0 | K18: =IFERROR(H18+I18-J18,"") -> 0 | L18: =IFERROR(K18*G18,"") -> 0 | M18: 8 | N18: =H18-M18 -> -8 | O18: =IF(K18>0,"OK","Rupture") -> Rupture
A19: 5 | B19: AMORTISSEUR ARRIÈRE | C19: 48531-69045 | D19: TOY | E19: Pièce | I19: =IF(B19="","",SUMIFS(T_stock[Entrée],T_stock[Ref],C19)) -> 0 | J19: =IF(C19="","",SUMIFS(T_stock[Sortie],T_stock[Ref],C19)) -> 0 | K19: =IFERROR(H19+I19-J19,"") -> 0 | L19: =IFERROR(K19*G19,"") -> 0 | M19: 5 | N19: =H19-M19 -> -5 | O19: =IF(K19>0,"OK","Rupture") -> Rupture
A20: 102 | B20: AMORTISSEUR ARRIÈRE | C20: 48531-80807 | D20: TOY | E20: Pièce | I20: =IF(B20="","",SUMIFS(T_stock[Entrée],T_stock[Ref],C20)) -> 12 | J20: =IF(C20="","",SUMIFS(T_stock[Sortie],T_stock[Ref],C20)) -> 0 | K20: =IFERROR(H20+I20-J20,"") -> 12 | L20: =IFERROR(K20*G20,"") -> 0 | M20: 12 | N20: =H20-M20 -> -12 | O20: =IF(K20>0,"OK","Rupture") -> OK
A21: 269 | B21: AMORTISSEUR ARRIÈRE | C21: 81437016954 | D21: BENZ | E21: Pièce | I21: =IF(B21="","",SUMIFS(T_stock[Entrée],T_stock[Ref],C21)) -> 0 | J21: =IF(C21="","",SUMIFS(T_stock[Sortie],T_stock[Ref],C21)) -> 0 | K21: =IFERROR(H21+I21-J21,"") -> 0 | L21: =IFERROR(K21*G21,"") -> 0 | M21: 7 | N21: =H21-M21 -> -7 | O21: =IF(K21>0,"OK","Rupture") -> Rupture
A22: 456 | B22: AMORTISSEUR ARRIÈRE | C22: 3983239800 | D22: BENZ | E22: Pièce | I22: =IF(B22="","",SUMIFS(T_stock[Entrée],T_stock[Ref],C22)) -> 0 | J22: =IF(C22="","",SUMIFS(T_stock[Sortie],T_stock[Ref],C22)) -> 0 | K22: =IFERROR(H22+I22-J22,"") -> 0 | L22: =IFERROR(K22*G22,"") -> 0 | M22: 5 | N22: =H22-M22 -> -5 | O22: =IF(K22>0,"OK","Rupture") -> Rupture
A23: 521 | B23: AMORTISSEUR ARRIÈRE | C23: 48530-80818 | D23: TOY | E23: Pièce | I23: =IF(B23="","",SUMIFS(T_stock[Entrée],T_stock[Ref],C23)) -> 0 | J23: =IF(C23="","",SUMIFS(T_stock[Sortie],T_stock[Ref],C23)) -> 0 | K23: =IFERROR(H23+I23-J23,"") -> 0 | L23: =IFERROR(K23*G23,"") -> 0 | M23: 2 | N23: =H23-M23 -> -2 | O23: =IF(K23>0,"OK","Rupture") -> Rupture
A24: 710 | B24: AMORTISSEUR ARRIÈRE | C24: 48531-69855 | D24: TOY | E24: Pièce | I24: =IF(B24="","",SUMIFS(T_stock[Entrée],T_stock[Ref],C24)) -> 0 | J24: =IF(C24="","",SUMIFS(T_stock[Sortie],T_stock[Ref],C24)) -> 0 | K24: =IFERROR(H24+I24-J24,"") -> 0 | L24: =IFERROR(K24*G24,"") -> 0 | M24: 0 | N24: =H24-M24 -> 0 | O24: =IF(K24>0,"OK","Rupture") -> Rupture
A25: 789 | B25: AMORTISSEUR ARRIÈRE | C25: 48531-80725 | D25: TOY | E25: Pièce | I25: =IF(B25="","",SUMIFS(T_stock[Entrée],T_stock[Ref],C25)) -> 2 | J25: =IF(C25="","",SUMIFS(T_stock[Sortie],T_stock[Ref],C25)) -> 0 | K25: =IFERROR(H25+I25-J25,"") -> 2 | L25: =IFERROR(K25*G25,"") -> 0 | M25: 2 | N25: =H25-M25 -> -2 | O25: =IF(K25>0,"OK","Rupture") -> OK
A26: 790 | B26: AMORTISSEUR ARRIÈRE | C26: 48531-69635 | D26: TOY | E26: Pièce | I26: =IF(B26="","",SUMIFS(T_stock[Entrée],T_stock[Ref],C26)) -> 0 | J26: =IF(C26="","",SUMIFS(T_stock[Sortie],T_stock[Ref],C26)) -> 0 | K26: =IFERROR(H26+I26-J26,"") -> 0 | L26: =IFERROR(K26*G26,"") -> 0 | M26: 19 | N26: =H26-M26 -> -19 | O26: =IF(K26>0,"OK","Rupture") -> Rupture
A27: 791 | B27: AMORTISSEUR ARRIÈRE | C27: 48531-69625 | D27: TOY | E27: Pièce | I27: =IF(B27="","",SUMIFS(T_stock[Entrée],T_stock[Ref],C27)) -> 2 | J27: =IF(C27="","",SUMIFS(T_stock[Sortie],T_stock[Ref],C27)) -> 0 | K27: =IFERROR(H27+I27-J27,"") -> 2 | L27: =IFERROR(K27*G27,"") -> 0 | M27: 3 | N27: =H27-M27 -> -3 | O27: =IF(K27>0,"OK","Rupture") -> OK
A28: 385 | B28: AMORTISSEUR AV | C28: 48531-69645 | D28: TOY | E28: Pièce | I28: =IF(B28="","",SUMIFS(T_stock[Entrée],T_stock[Ref],C28)) -> 0 | J28: =IF(C28="","",SUMIFS(T_stock[Sortie],T_stock[Ref],C28)) -> 0 | K28: =IFERROR(H28+I28-J28,"") -> 0 | L28: =IFERROR(K28*G28,"") -> 0 | M28: 0 | N28: =H28-M28 -> 0 | O28: =IF(K28>0,"OK","Rupture") -> Rupture
A29: 6 | B29: AMORTISSEUR AVANT | C29: 48511-69045 | D29: TOY | E29: Pièce | I29: =IF(B29="","",SUMIFS(T_stock[Entrée],T_stock[Ref],C29)) -> 0 | J29: =IF(C29="","",SUMIFS(T_stock[Sortie],T_stock[Ref],C29)) -> 0 | K29: =IFERROR(H29+I29-J29,"") -> 0 | L29: =IFERROR(K29*G29,"") -> 0 | M29: 5 | N29: =H29-M29 -> -5 | O29: =IF(K29>0,"OK","Rupture") -> Rupture
A30: 103 | B30: AMORTISSEUR AVANT | C30: 48510-80871 | D30: TOY | E30: Pièce | I30: =IF(B30="","",SUMIFS(T_stock[Entrée],T_stock[Ref],C30)) -> 12 | J30: =IF(C30="","",SUMIFS(T_stock[Sortie],T_stock[Ref],C30)) -> 0 | K30: =IFERROR(H30+I30-J30,"") -> 12 | L30: =IFERROR(K30*G30,"") -> 0 | M30: 12 | N30: =H30-M30 -> -12 | O30: =IF(K30>0,"OK","Rupture") -> OK
A31: 104 | B31: AMORTISSEUR AVANT | C31: 48510-69475 | D31: TOY | E31: Pièce | I31: =IF(B31="","",SUMIFS(T_stock[Entrée],T_stock[Ref],C31)) -> 4 | J31: =IF(C31="","",SUMIFS(T_stock[Sortie],T_stock[Ref],C31)) -> 0 | K31: =IFERROR(H31+I31-J31,"") -> 4 | L31: =IFERROR(K31*G31,"") -> 0 | M31: 7 | N31: =H31-M31 -> -7 | O31: =IF(K31>0,"OK","Rupture") -> OK
A32: 390 | B32: AMORTISSEUR AVANT | C32: 48511-69645 | D32: TOY | E32: Kit | I32: =IF(B32="","",SUMIFS(T_stock[Entrée],T_stock[Ref],C32)) -> 0 | J32: =IF(C32="","",SUMIFS(T_stock[Sortie],T_stock[Ref],C32)) -> 0 | K32: =IFERROR(H32+I32-J32,"") -> 0 | L32: =IFERROR(K32*G32,"") -> 0 | M32: 1 | N32: =H32-M32 -> -1 | O32: =IF(K32>0,"OK","Rupture") -> Rupture
A33: 520 | B33: AMORTISSEUR AVANT | C33: 48510-80873 | D33: TOY | E33: Kit | I33: =IF(B33="","",SUMIFS(T_stock[Entrée],T_stock[Ref],C33)) -> 0 | J33: =IF(C33="","",SUMIFS(T_stock[Sortie],T_stock[Ref],C33)) -> 0 | K33: =IFERROR(H33+I33-J33,"") -> 0 | L33: =IFERROR(K33*G33,"") -> 0 | M33: 2 | N33: =H33-M33 -> -2 | O33: =IF(K33>0,"OK","Rupture") -> Rupture
A34: 714 | B34: AMORTISSEUR AVANT | C34: 48511-69665 | D34: TOY | E34: Pièce | I34: =IF(B34="","",SUMIFS(T_stock[Entrée],T_stock[Ref],C34)) -> 0 | J34: =IF(C34="","",SUMIFS(T_stock[Sortie],T_stock[Ref],C34)) -> 0 | K34: =IFERROR(H34+I34-J34,"") -> 0 | L34: =IFERROR(K34*G34,"") -> 0 | M34: 0 | N34: =H34-M34 -> 0 | O34: =IF(K34>0,"OK","Rupture") -> Rupture
... A39: 892 | B39: AMORTISSEUR CABINE | C39: A 943 801 319 | D39: BENZ | E39: Pièce | I39: =IF(B39="","",SUMIFS(T_stock[Entrée],T_stock[Ref],C39)) -> 0 | J39: =IF(C39="","",SUMIFS(T_stock[Sortie],T_stock[Ref],C39)) -> 0 | K39: =IFERROR(H39+I39-J39,"") -> 0 | L39: =IFERROR(K39*G39,"") -> 0 | M39: 2 | N39: =H39-M39 -> -2 | O39: =IF(K39>0,"OK","Rupture") -> Rupture
A40: 182 | B40: AMORTISSEUR DE CABINE | C40: 81417226047 | D40: ACTROS | E40: Kit | I40: =IF(B40="","",SUMIFS(T_stock[Entrée],T_stock[Ref],C40)) -> 0 | J40: =IF(C40="","",SUMIFS(T_stock[Sortie],T_stock[Ref],C40)) -> 0 | K40: =IFERROR(H40+I40-J40,"") -> 0 | L40: =IFERROR(K40*G40,"") -> 0 | M40: 1 | N40: =H40-M40 -> -1 | O40: =IF(K40>0,"OK","Rupture") -> Rupture
A41: 804 | B41: AMORTISSEUR DIRECT | C41: 45700-69155 | D41: TOY | E41: Pièce | I41: =IF(B41="","",SUMIFS(T_stock[Entrée],T_stock[Ref],C41)) -> 9 | J41: =IF(C41="","",SUMIFS(T_stock[Sortie],T_stock[Ref],C41)) -> 0 | K41: =IFERROR(H41+I41-J41,"") -> 9 | L41: =IFERROR(K41*G41,"") -> 0 | M41: 9 | N41: =H41-M41 -> -9 | O41: =IF(K41>0,"OK","Rupture") -> OK
A42: 803 | B42: AMORTISSEUR DIRECTION | C42: 45700-69175 | D42: TOY | E42: Pièce | I42: =IF(B42="","",SUMIFS(T_stock[Entrée],T_stock[Ref],C42)) -> 8 | J42: =IF(C42="","",SUMIFS(T_stock[Sortie],T_stock[Ref],C42)) -> 0 | K42: =IFERROR(H42+I42-J42,"") -> 8 | L42: =IFERROR(K42*G42,"") -> 0 | M42: 9 | N42: =H42-M42 -> -9 | O42: =IF(K42>0,"OK","Rupture") -> OK
A43: 239 | B43: AMPOULE | C43: 24V 21W/5W | D43: TOY | E43: Pièce | I43: =IF(B43="","",SUMIFS(T_stock[Entrée],T_stock[Ref],C43)) -> 0 | J43: =IF(C43="","",SUMIFS(T_stock[Sortie],T_stock[Ref],C43)) -> 0 | K43: =IFERROR(H43+I43-J43,"") -> 0 | L43: =IFERROR(K43*G43,"") -> 0 | M43: 0 | N43: =H43-M43 -> 0 | O43: =IF(K43>0,"OK","Rupture") -> Rupture
A44: 614 | B44: AMPOULE | C44: 24V 60W | D44: BENZ | E44: Pièce | I44: =IF(B44="","",SUMIFS(T_stock[Entrée],T_stock[Ref],C44)) -> 0 | J44: =IF(C44="","",SUMIFS(T_stock[Sortie],T_stock[Ref],C44)) -> 0 | K44: =IFERROR(H44+I44-J44,"") -> 0 | L44: =IFERROR(K44*G44,"") -> 0 | M44: 1 | N44: =H44-M44 -> -1 | O44: =IF(K44>0,"OK","Rupture") -> Rupture
A45: 623 | B45: AMPOULE | C45: 24V 21 W | D45: BENZ | E45: Pièce | I45: =IF(B45="","",SUMIFS(T_stock[Entrée],T_stock[Ref],C45)) -> 0 | J45: =IF(C45="","",SUMIFS(T_stock[Sortie],T_stock[Ref],C45)) -> 0 | K45: =IFERROR(H45+I45-J45,"") -> 0 | L45: =IFERROR(K45*G45,"") -> 0 | M45: 0 | N45: =H45-M45 -> 0 | O45: =IF(K45>0,"OK","Rupture") -> Rupture
A46: 712 | B46: AMPOULE | C46: 24V60W | D46: TOY | E46: Pièce | I46: =IF(B46="","",SUMIFS(T_stock[Entrée],T_stock[Ref],C46)) -> 0 | J46: =IF(C46="","",SUMIFS(T_stock[Sortie],T_stock[Ref],C46)) -> 0 | K46: =IFERROR(H46+I46-J46,"") -> 0 | L46: =IFERROR(K46*G46,"") -> 0 | M46: 5 | N46: =H46-M46 -> -5 | O46: =IF(K46>0,"OK","Rupture") -> Rupture
A47: 721 | B47: AMPOULE | C47: 90981-13058 | D47: TOY | E47: Pièce | I47: =IF(B47="","",SUMIFS(T_stock[Entrée],T_stock[Ref],C47)) -> 0 | J47: =IF(C47="","",SUMIFS(T_stock[Sortie],T_stock[Ref],C47)) -> 0 | K47: =IFERROR(H47+I47-J47,"") -> 0 | L47: =IFERROR(K47*G47,"") -> 0 | M47: 15 | N47: =H47-M47 -> -15 | O47: =IF(K47>0,"OK","Rupture") -> Rupture
...
