Workbook
Name L_ref: T_liste[Ref.]

Sheet Mouvement stock Program
A2: Mouvements Stock Program
A5: N° | B5: Date | C5: Désignation | D5: Ref | E5: Entrée | F5: Sortie | G5: Partenaire/Fournisseur | H5: N° de Fiche/BC
A6: 1 | B6: 45513 | C6: =INDEX(T_liste[],MATCH('Mouvement stock Program'!D6,T_liste[Ref.],0),2) -> GRAISSE | D6: MP-3 | E6: 120 | G6: =IFERROR(INDEX(T_liste[],MATCH('Mouvement stock Program'!D6,T_liste[Partenaire/Fournisseur],0),2),"")
A7: =A6+1 -> 2 | B7: 45513 | C7: =INDEX(T_liste[],MATCH('Mouvement stock Program'!D7,T_liste[Ref.],0),2) -> COURROIE ALTERNATEUR | D7: 90916-02452 | E7: 32 | G7: =IFERROR(INDEX(T_liste[],MATCH('Mouvement stock Program'!D7,T_liste[Partenaire/Fournisseur],0),2),"")
A8: =A7+1 -> 3 | B8: 45513 | C8: =INDEX(T_liste[],MATCH('Mouvement stock Program'!D8,T_liste[Ref.],0),2) -> COURROIE MOTEUR | D8: 13568-19195 | E8: 9 | G8: =IFERROR(INDEX(T_liste[],MATCH('Mouvement stock Program'!D8,T_liste[Partenaire/Fournisseur],0),2),"")
A9: =A8+1 -> 4 | B9: 45513 | C9: =INDEX(T_liste[],MATCH('Mouvement stock Program'!D9,T_liste[Ref.],0),2) -> FER RADEAU | D9: 04495-26240 | E9: 4 | G9: =IFERROR(INDEX(T_liste[],MATCH('Mouvement stock Program'!D9,T_liste[Partenaire/Fournisseur],0),2),"")
A10: =A9+1 -> 5 | B10: 45513 | C10: =INDEX(T_liste[],MATCH('Mouvement stock Program'!D10,T_liste[Ref.],0),2) -> GARNITURE DE FREIN AV | D10: 04494-36320 | E10: 3 | G10: =IFERROR(INDEX(T_liste[],MATCH('Mouvement stock Program'!D10,T_liste[Partenaire/Fournisseur],0),2),"")
A11: =A10+1 -> 6 | B11: 45513 | C11: =INDEX(T_liste[],MATCH('Mouvement stock Program'!D11,T_liste[Ref.],0),2) -> GARNITURE DE FREIN | D11: 04495-0K160 | E11: 15 | G11: =IFERROR(INDEX(T_liste[],MATCH('Mouvement stock Program'!D11,T_liste[Partenaire/Fournisseur],0),2),"")
A12: =A11+1 -> 7 | B12: 45513 | C12: =INDEX(T_liste[],MATCH('Mouvement stock Program'!D12,T_liste[Ref.],0),2) -> AMORTISSEUR AVANT | D12: 48510-69475 | E12: 4 | G12: =IFERROR(INDEX(T_liste[],MATCH('Mouvement stock Program'!D12,T_liste[Partenaire/Fournisseur],0),2),"")
A13: =A12+1 -> 8 | B13: 45513 | C13: =INDEX(T_liste[],MATCH('Mouvement stock Program'!D13,T_liste[Ref.],0),2) -> AMORTISSEUR AVANT | D13: 48511-69495 | E13: 6 | G13: =IFERROR(INDEX(T_liste[],MATCH('Mouvement stock Program'!D13,T_liste[Partenaire/Fournisseur],0),2),"")
A14: =A13+1 -> 9 | B14: 45513 | C14: =INDEX(T_liste[],MATCH('Mouvement stock Program'!D14,T_liste[Ref.],0),2) -> AMORTISSEUR DIRECT | D14: 45700-69155 | E14: 9 | G14: =IFERROR(INDEX(T_liste[],MATCH('Mouvement stock Program'!D14,T_liste[Partenaire/Fournisseur],0),2),"")
A15: =A14+1 -> 10 | B15: 45513 | C15: =INDEX(T_liste[],MATCH('Mouvement stock Program'!D15,T_liste[Ref.],0),2) -> AMORTISSEUR DIRECTION | D15: 45700-69175 | E15: 8 | G15: =IFERROR(INDEX(T_liste[],MATCH('Mouvement stock Program'!D15,T_liste[Partenaire/Fournisseur],0),2),"")
A16: =A15+1 -> 11 | B16: 45513 | C16: =INDEX(T_liste[],MATCH('Mouvement stock Program'!D16,T_liste[Ref.],0),2) -> AMORTISSEUR ARRIÈRE | D16: 48531-80807 | E16: 12 | G16: =IFERROR(INDEX(T_liste[],MATCH('Mouvement stock Program'!D16,T_liste[Partenaire/Fournisseur],0),2),"")
A17: =A16+1 -> 12 | B17: 45513 | C17: =INDEX(T_liste[],MATCH('Mouvement stock Program'!D17,T_liste[Ref.],0),2) -> AMORTISSEUR ARRIÈRE | D17: 48531-80725 | E17: 2 | G17: =IFERROR(INDEX(T_liste[],MATCH('Mouvement stock Program'!D17,T_liste[Partenaire/Fournisseur],0),2),"")
A18: =A17+1 -> 13 | B18: 45513 | C18: =INDEX(T_liste[],MATCH('Mouvement stock Program'!D18,T_liste[Ref.],0),2) -> AMORTISSEUR AVANT | D18: 48511-69505 | E18: 6 | G18: =IFERROR(INDEX(T_liste[],MATCH('Mouvement stock Program'!D18,T_liste[Partenaire/Fournisseur],0),2),"")
... A23: =A22+1 -> 18 | B23: 45513 | C23: =INDEX(T_liste[],MATCH('Mouvement stock Program'!D23,T_liste[Ref.],0),2) -> GRAISSE | D23: MP-3 | E23: 2 | G23: =IFERROR(INDEX(T_liste[],MATCH('Mouvement stock Program'!D23,T_liste[Partenaire/Fournisseur],0),2),"")

Sheet Liste des Pièces
A2: LISTE DES PIECES
A5: N° | B5: Désignation | C5: Ref. | D5: Class. | E5: Unit | F5: Partenaire/Fournisseur | G5: Price | H5: Stock initial | I5: Entrées | J5: Sorties | K5: Stock Final | L5: Valeur Stock | M5: Stock Theorique | N5: Ecart | O5: Etat
A6: 206 | B6: ACCUMULATOR | C6: 7478549200 | D6: RNLT | E6: Pièce | I6: =IF(B6="","",SUMIFS(T_stock[Entrée],T_stock[Ref],C6)) -> 0 | J6: =IF(C6="","",SUMIFS(T_stock[Sortie],T_stock[Ref],C6)) -> 0 | K6: =IFERROR(H6+I6-J6,"") -> 0 | L6: =IFERROR(K6*G6,"") -> 0 | M6: 1 | N6: =H6-M6 -> -1 | O6: =IF(K6>0,"OK","Rupture") -> Rupture
A7: 3 | B7: AILE AVANT GAUCHE | C7: 53802-90K04 | D7: TOY | E7: Pièce | I7: =IF(B7="","",SUMIFS(T_stock[Entrée],T_stock[Ref],C7)) -> 0 | J7: =IF(C7="","",SUMIFS(T_stock[Sortie],T_stock[Ref],C7)) -> 0 | K7: =IFERROR(H7+I7-J7,"") -> 0 | L7: =IFERROR(K7*G7,"") -> 0 | M7: 1 | N7: =H7-M7 -> -1 | O7: =IF(K7>0,"OK","Rupture") -> Rupture
A8: 289 | B8: AIR COMPRESSOR | C8: 7422373024 | D8: RNLT | E8: Pièce | I8: =IF(B8="","",SUMIFS(T_stock[Entrée],T_stock[Ref],C8)) -> 0 | J8: =IF(C8="","",SUMIFS(T_stock[Sortie],T_stock[Ref],C8)) -> 0 | K8: =IFERROR(H8+I8-J8,"") -> 0 | L8: =IFERROR(K8*G8,"") -> 0 | M8: 1 | N8: =H8-M8 -> -1 | O8: =IF(K8>0,"OK","Rupture") -> Rupture
A9: 287 | B9: AIR CONDITIONNING COMPRESS | C9: 7478522418 | D9: RNLT | E9: Pièce | I9: =IF(B9="","",SUMIFS(T_stock[Entrée],T_stock[Ref],C9)) -> 0 | J9: =IF(C9="","",SUMIFS(T_stock[Sortie],T_stock[Ref],C9)) -> 0 | K9: =IFERROR(H9+I9-J9,"") -> 0 | L9: =IFERROR(K9*G9,"") -> 0 | M9: 2 | N9: =H9-M9 -> -2 | O9: =IF(K9>0,"OK","Rupture") -> Rupture
A10: 317 | B10: AIR INLET MAUSING | C10: 7482589763 | D10: RNLT | E10: Pièce | I10: =IF(B10="","",SUMIFS(T_stock[Entrée],T_stock[Ref],C10)) -> 0 | J10: =IF(C10="","",SUMIFS(T_stock[Sortie],T_stock[Ref],C10)) -> 0 | K10: =IFERROR(H10+I10-J10,"") -> 0 | L10: =IFERROR(K10*G10,"") -> 0 | M10: 1 | N10: =H10-M10 -> -1 | O10: =IF(K10>0,"OK","Rupture") -> Rupture
A11: 113 | B11: ALTERNATEUR | C11: 27060-0L30 | D11: TOY | E11: Pièce | I11: =IF(B11="","",SUMIFS(T_stock[Entrée],T_stock[Ref],C11)) -> 0 | J11: =IF(C11="","",SUMIFS(T_stock[Sortie],T_stock[Ref],C11)) -> 0 | K11: =IFERROR(H11+I11-J11,"") -> 0 | L11: =IFERROR(K11*G11,"") -> 0 | M11: 2 | N11: =H11-M11 -> -2 | O11: =IF(K11>0,"OK","Rupture") -> Rupture
A12: 198 | B12: ALTERNATEUR | C12: A 0081522902 | D12: BENZ | E12: Pièce | I12: =IF(B12="","",SUMIFS(T_stock[Entrée],T_stock[Ref],C12)) -> 0 | J12: =IF(C12="","",SUMIFS(T_stock[Sortie],T_stock[Ref],C12)) -> 0 | K12: =IFERROR(H12+I12-J12,"") -> 0 | L12: =IFERROR(K12*G12,"") -> 0 | M12: 1 | N12: =H12-M12 -> -1 | O12: =IF(K12>0,"OK","Rupture") -> Rupture
A13: 587 | B13: ALTERNATEUR | C13: 012 455 51 68 | D13: BENZ | E13: Pièce | I13: =IF(B13="","",SUMIFS(T_stock[Entrée],T_stock[Ref],C13)) -> 0 | J13: =IF(C13="","",SUMIFS(T_stock[Sortie],T_stock[Ref],C13)) -> 0 | K13: =IFERROR(H13+I13-J13,"") -> 0 | L13: =IFERROR(K13*G13,"") -> 0 | M13: 0 | N13: =H13-M13 -> 0 | O13: =IF(K13>0,"OK","Rupture") -> Rupture
A14: 636 | B14: ALTERNATEUR | C14: A 005 154 29 02 | D14: BENZ | E14: Pièce | I14: =IF(B14="","",SUMIFS(T_stock[Entrée],T_stock[Ref],C14)) -> 0 | J14: =IF(C14="","",SUMIFS(T_stock[Sortie],T_stock[Ref],C14)) -> 0 | K14: =IFERROR(H14+I14-J14,"") -> 0 | L14: =IFERROR(K14*G14,"") -> 0 | M14: 0 | N14: =H14-M14 -> 0 | O14: =IF(K14>0,"OK","Rupture") -> Rupture
A15: 836 | B15: ALTERNATEUR | C15: 27060-17210 | D15: TOY | E15: Pièce | I15: =IF(B15="","",SUMIFS(T_stock[Entrée],T_stock[Ref],C15)) -> 0 | J15: =IF(C15="","",SUMIFS(T_stock[Sortie],T_stock[Ref],C15)) -> 0 | K15: =IFERROR(H15+I15-J15,"") -> 0 | L15: =IFERROR(K15*G15,"") -> 0 | M15: 4 | N15: =H15-M15 -> -4 | O15: =IF(K15>0,"OK","Rupture") -> Rupture
A16: 288 | B16: ALTERNATOR | C16: 7421401682 | D16: RNLT | E16: Pièce | I16: =IF(B16="","",SUMIFS(T_stock[Entrée],T_stock[Ref],C16)) -> 0 | J16: =IF(C16="","",SUMIFS(T_stock[Sortie],T_stock[Ref],C16)) -> 0 | K16: =IFERROR(H16+I16-J16,"") -> 0 | L16: =IFERROR(K16*G16,"") -> 0 | M16: 1 | N16: =H16-M16 -> -1 | O16: =IF(K16>0,"OK","Rupture") -> Rupture
A17: 579 | B17: AMORTISSEUR | C17: 48510-60222 | D17: TOY | E17: Pièce | I17: =IF(B17="","",SUMIFS(T_stock[Entrée],T_stock[Ref],C17)) -> 0 | J17: =IF(C17="","",SUMIFS(T_stock[Sortie],T_stock[Ref],C17)) -> 0 | K17: =IFERROR(H17+I17-J17,"") -> 0 | L17: =IFERROR(K17*G17,"") -> 0 | M17: 2 | N17: =H17-M17 -> -2 | O17: =IF(K17>0,"OK","Rupture") -> Rupture
A18: 277 | B18: AMORTISSEUR ARRIERE | C18: 48530-60203 | D18: TOY | E18: Pièce | I18: =IF(B18="","",SUMIFS(T_stock[Entrée],T_stock[Ref],C18)) -> 0 | J18: =IF(C18="","",SUMIFS(T_stock[Sortie],T_stock[Ref],C18)) -> 0 | K18: =IFERROR(H18+I18-J18,"") -> 0 | L18: =IFERROR(K18*G18,"") -> 0 | M18: 8 | N18: =H18-M18 -> -8 | O18: =IF(K18>0,"OK","Rupture") -> Rupture
A19: 5 | B19: AMORTISSEUR ARRIÈRE | C19: 48531-69045 | D19: TOY | E19: Pièce | I19: =IF(B19="","",SUMIFS(T_stock[Entrée],T_stock[Ref],C19)) -> 0 | J19: =IF(C19="","",SUMIFS(T_stock[Sortie],T_stock[Ref],C19)) -> 0 | K19: =IFERROR(H19+I19-J19,"") -> 0 | L19: =IFERROR(K19*G19,"") -> 0 | M19: 5 | N19: =H19-M19 -> -5 | O19: =IF(K19>0,"OK","Rupture") -> Rupture
A20: 102 | B20: AMORTISSEUR ARRIÈRE | C20: 48531-80807 | D20: TOY | E20: Pièce | I20: =IF(B20="","",SUMIFS(T_stock[Entrée],T_stock[Ref],C20)) -> 12 | J20: =IF(C20="","",SUMIFS(T_stock[Sortie],T_stock[Ref],C20)) -> 0 | K20: =IFERROR(H20+I20-J20,"") -> 12 | L20: =IFERROR(K20*G20,"") -> 0 | M20: 12 | N20: =H20-M20 -> -12 | O20: =IF(K20>0,"OK","Rupture") -> OK
A21: 269 | B21: AMORTISSEUR ARRIÈRE | C21: 81437016954 | D21: BENZ | E21: Pièce | I21: =IF(B21="","",SUMIFS(T_stock[Entrée],T_stock[Ref],C21)) -> 0 | J21: =IF(C21="","",SUMIFS(T_stock[Sortie],T_stock[Ref],C21)) -> 0 | K21: =IFERROR(H21+I21-J21,"") -> 0 | L21: =IFERROR(K21*G21,"") -> 0 | M21: 7 | N21: =H21-M21 -> -7 | O21: =IF(K21>0,"OK","Rupture") -> Rupture
A22: 456 | B22: AMORTISSEUR ARRIÈRE | C22: 3983239800 | D22: BENZ | E22: Pièce | I22: =IF(B22="","",SUMIFS(T_stock[Entrée],T_stock[Ref],C22)) -> 0 | J22: =IF(C22="","",SUMIFS(T_stock[Sortie],T_stock[Ref],C22)) -> 0 | K22: =IFERROR(H22+I22-J22,"") -> 0 | L22: =IFERROR(K22*G22,"") -> 0 | M22: 5 | N22: =H22-M22 -> -5 | O22: =IF(K22>0,"OK","Rupture") -> Rupture
A23: 521 | B23: AMORTISSEUR ARRIÈRE | C23: 48530-80818 | D23: TOY | E23: Pièce | I23: =IF(B23="","",SUMIFS(T_stock[Entrée],T_stock[Ref],C23)) -> 0 | J23: =IF(C23="","",SUMIFS(T_stock[Sortie],T_stock[Ref],C23)) -> 0 | K23: =IFERROR(H23+I23-J23,"") -> 0 | L23: =IFERROR(K23*G23,"") -> 0 | M23: 2 | N23: =H23-M23 -> -2 | O23: =IF(K23>0,"OK","Rupture") -> Rupture
A24: 710 | B24: AMORTISSEUR ARRIÈRE | C24: 48531-69855 | D24: TOY | E24: Pièce | I24: =IF(B24="","",SUMIFS(T_stock[Entrée],T_stock[Ref],C24)) -> 0 | J24: =IF(C24="","",SUMIFS(T_stock[Sortie],T_stock[Ref],C24)) -> 0 | K24: =IFERROR(H24+I24-J24,"") -> 0 | L24: =IFERROR(K24*G24,"") -> 0 | M24: 0 | N24: =H24-M24 -> 0 | O24: =IF(K24>0,"OK","Rupture") -> Rupture
A25: 789 | B25: AMORTISSEUR ARRIÈRE | C25: 48531-80725 | D25: TOY | E25: Pièce | I25: =IF(B25="","",SUMIFS(T_stock[Entrée],T_stock[Ref],C25)) -> 2 | J25: =IF(C25="","",SUMIFS(T_stock[Sortie],T_stock[Ref],C25)) -> 0 | K25: =IFERROR(H25+I25-J25,"") -> 2 | L25: =IFERROR(K25*G25,"") -> 0 | M25: 2 | N25: =H25-M25 -> -2 | O25: =IF(K25>0,"OK","Rupture") -> OK
A26: 790 | B26: AMORTISSEUR ARRIÈRE | C26: 48531-69635 | D26: TOY | E26: Pièce | I26: =IF(B26="","",SUMIFS(T_stock[Entrée],T_stock[Ref],C26)) -> 0 | J26: =IF(C26="","",SUMIFS(T_stock[Sortie],T_stock[Ref],C26)) -> 0 | K26: =IFERROR(H26+I26-J26,"") -> 0 | L26: =IFERROR(K26*G26,"") -> 0 | M26: 19 | N26: =H26-M26 -> -19 | O26: =IF(K26>0,"OK","Rupture") -> Rupture
A27: 791 | B27: AMORTISSEUR ARRIÈRE | C27: 48531-69625 | D27: TOY | E27: Pièce | I27: =IF(B27="","",SUMIFS(T_stock[Entrée],T_stock[Ref],C27)) -> 2 | J27: =IF(C27="","",SUMIFS(T_stock[Sortie],T_stock[Ref],C27)) -> 0 | K27: =IFERROR(H27+I27-J27,"") -> 2 | L27: =IFERROR(K27*G27,"") -> 0 | M27: 3 | N27: =H27-M27 -> -3 | O27: =IF(K27>0,"OK","Rupture") -> OK
A28: 385 | B28: AMORTISSEUR AV | C28: 48531-69645 | D28: TOY | E28: Pièce | I28: =IF(B28="","",SUMIFS(T_stock[Entrée],T_stock[Ref],C28)) -> 0 | J28: =IF(C28="","",SUMIFS(T_stock[Sortie],T_stock[Ref],C28)) -> 0 | K28: =IFERROR(H28+I28-J28,"") -> 0 | L28: =IFERROR(K28*G28,"") -> 0 | M28: 0 | N28: =H28-M28 -> 0 | O28: =IF(K28>0,"OK","Rupture") -> Rupture
A29: 6 | B29: AMORTISSEUR AVANT | C29: 48511-69045 | D29: TOY | E29: Pièce | I29: =IF(B29="","",SUMIFS(T_stock[Entrée],T_stock[Ref],C29)) -> 0 | J29: =IF(C29="","",SUMIFS(T_stock[Sortie],T_stock[Ref],C29)) -> 0 | K29: =IFERROR(H29+I29-J29,"") -> 0 | L29: =IFERROR(K29*G29,"") -> 0 | M29: 5 | N29: =H29-M29 -> -5 | O29: =IF(K29>0,"OK","Rupture") -> Rupture
A30: 103 | B30: AMORTISSEUR AVANT | C30: 48510-80871 | D30: TOY | E30: Pièce | I30: =IF(B30="","",SUMIFS(T_stock[Entrée],T_stock[Ref],C30)) -> 12 | J30: =IF(C30="","",SUMIFS(T_stock[Sortie],T_stock[Ref],C30)) -> 0 | K30: =IFERROR(H30+I30-J30,"") -> 12 | L30: =IFERROR(K30*G30,"") -> 0 | M30: 12 | N30: =H30-M30 -> -12 | O30: =IF(K30>0,"OK","Rupture") -> OK
A31: 104 | B31: AMORTISSEUR AVANT | C31: 48510-69475 | D31: TOY | E31: Pièce | I31: =IF(B31="","",SUMIFS(T_stock[Entrée],T_stock[Ref],C31)) -> 4 | J31: =IF(C31="","",SUMIFS(T_stock[Sortie],T_stock[Ref],C31)) -> 0 | K31: =IFERROR(H31+I31-J31,"") -> 4 | L31: =IFERROR(K31*G31,"") -> 0 | M31: 7 | N31: =H31-M31 -> -7 | O31: =IF(K31>0,"OK","Rupture") -> OK
A32: 390 | B32: AMORTISSEUR AVANT | C32: 48511-69645 | D32: TOY | E32: Kit | I32: =IF(B32="","",SUMIFS(T_stock[Entrée],T_stock[Ref],C32)) -> 0 | J32: =IF(C32="","",SUMIFS(T_stock[Sortie],T_stock[Ref],C32)) -> 0 | K32: =IFERROR(H32+I32-J32,"") -> 0 | L32: =IFERROR(K32*G32,"") -> 0 | M32: 1 | N32: =H32-M32 -> -1 | O32: =IF(K32>0,"OK","Rupture") -> Rupture
A33: 520 | B33: AMORTISSEUR AVANT | C33: 48510-80873 | D33: TOY | E33: Kit | I33: =IF(B33="","",SUMIFS(T_stock[Entrée],T_stock[Ref],C33)) -> 0 | J33: =IF(C33="","",SUMIFS(T_stock[Sortie],T_stock[Ref],C33)) -> 0 | K33: =IFERROR(H33+I33-J33,"") -> 0 | L33: =IFERROR(K33*G33,"") -> 0 | M33: 2 | N33: =H33-M33 -> -2 | O33: =IF(K33>0,"OK","Rupture") -> Rupture
A34: 714 | B34: AMORTISSEUR AVANT | C34: 48511-69665 | D34: TOY | E34: Pièce | I34: =IF(B34="","",SUMIFS(T_stock[Entrée],T_stock[Ref],C34)) -> 0 | J34: =IF(C34="","",SUMIFS(T_stock[Sortie],T_stock[Ref],C34)) -> 0 | K34: =IFERROR(H34+I34-J34,"") -> 0 | L34: =IFERROR(K34*G34,"") -> 0 | M34: 0 | N34: =H34-M34 -> 0 | O34: =IF(K34>0,"OK","Rupture") -> Rupture
... A39: 892 | B39: AMORTISSEUR CABINE | C39: A 943 801 319 | D39: BENZ | E39: Pièce | I39: =IF(B39="","",SUMIFS(T_stock[Entrée],T_stock[Ref],C39)) -> 0 | J39: =IF(C39="","",SUMIFS(T_stock[Sortie],T_stock[Ref],C39)) -> 0 | K39: =IFERROR(H39+I39-J39,"") -> 0 | L39: =IFERROR(K39*G39,"") -> 0 | M39: 2 | N39: =H39-M39 -> -2 | O39: =IF(K39>0,"OK","Rupture") -> Rupture
A40: 182 | B40: AMORTISSEUR DE CABINE | C40: 81417226047 | D40: ACTROS | E40: Kit | I40: =IF(B40="","",SUMIFS(T_stock[Entrée],T_stock[Ref],C40)) -> 0 | J40: =IF(C40="","",SUMIFS(T_stock[Sortie],T_stock[Ref],C40)) -> 0 | K40: =IFERROR(H40+I40-J40,"") -> 0 | L40: =IFERROR(K40*G40,"") -> 0 | M40: 1 | N40: =H40-M40 -> -1 | O40: =IF(K40>0,"OK","Rupture") -> Rupture
A41: 804 | B41: AMORTISSEUR DIRECT | C41: 45700-69155 | D41: TOY | E41: Pièce | I41: =IF(B41="","",SUMIFS(T_stock[Entrée],T_stock[Ref],C41)) -> 9 | J41: =IF(C41="","",SUMIFS(T_stock[Sortie],T_stock[Ref],C41)) -> 0 | K41: =IFERROR(H41+I41-J41,"") -> 9 | L41: =IFERROR(K41*G41,"") -> 0 | M41: 9 | N41: =H41-M41 -> -9 | O41: =IF(K41>0,"OK","Rupture") -> OK
A42: 803 | B42: AMORTISSEUR DIRECTION | C42: 45700-69175 | D42: TOY | E42: Pièce | I42: =IF(B42="","",SUMIFS(T_stock[Entrée],T_stock[Ref],C42)) -> 8 | J42: =IF(C42="","",SUMIFS(T_stock[Sortie],T_stock[Ref],C42)) -> 0 | K42: =IFERROR(H42+I42-J42,"") -> 8 | L42: =IFERROR(K42*G42,"") -> 0 | M42: 9 | N42: =H42-M42 -> -9 | O42: =IF(K42>0,"OK","Rupture") -> OK
A43: 239 | B43: AMPOULE | C43: 24V 21W/5W | D43: TOY | E43: Pièce | I43: =IF(B43="","",SUMIFS(T_stock[Entrée],T_stock[Ref],C43)) -> 0 | J43: =IF(C43="","",SUMIFS(T_stock[Sortie],T_stock[Ref],C43)) -> 0 | K43: =IFERROR(H43+I43-J43,"") -> 0 | L43: =IFERROR(K43*G43,"") -> 0 | M43: 0 | N43: =H43-M43 -> 0 | O43: =IF(K43>0,"OK","Rupture") -> Rupture
A44: 614 | B44: AMPOULE | C44: 24V 60W | D44: BENZ | E44: Pièce | I44: =IF(B44="","",SUMIFS(T_stock[Entrée],T_stock[Ref],C44)) -> 0 | J44: =IF(C44="","",SUMIFS(T_stock[Sortie],T_stock[Ref],C44)) -> 0 | K44: =IFERROR(H44+I44-J44,"") -> 0 | L44: =IFERROR(K44*G44,"") -> 0 | M44: 1 | N44: =H44-M44 -> -1 | O44: =IF(K44>0,"OK","Rupture") -> Rupture
A45: 623 | B45: AMPOULE | C45: 24V 21 W | D45: BENZ | E45: Pièce | I45: =IF(B45="","",SUMIFS(T_stock[Entrée],T_stock[Ref],C45)) -> 0 | J45: =IF(C45="","",SUMIFS(T_stock[Sortie],T_stock[Ref],C45)) -> 0 | K45: =IFERROR(H45+I45-J45,"") -> 0 | L45: =IFERROR(K45*G45,"") -> 0 | M45: 0 | N45: =H45-M45 -> 0 | O45: =IF(K45>0,"OK","Rupture") -> Rupture
A46: 712 | B46: AMPOULE | C46: 24V60W | D46: TOY | E46: Pièce | I46: =IF(B46="","",SUMIFS(T_stock[Entrée],T_stock[Ref],C46)) -> 0 | J46: =IF(C46="","",SUMIFS(T_stock[Sortie],T_stock[Ref],C46)) -> 0 | K46: =IFERROR(H46+I46-J46,"") -> 0 | L46: =IFERROR(K46*G46,"") -> 0 | M46: 5 | N46: =H46-M46 -> -5 | O46: =IF(K46>0,"OK","Rupture") -> Rupture
A47: 721 | B47: AMPOULE | C47: 90981-13058 | D47: TOY | E47: Pièce | I47: =IF(B47="","",SUMIFS(T_stock[Entrée],T_stock[Ref],C47)) -> 0 | J47: =IF(C47="","",SUMIFS(T_stock[Sortie],T_stock[Ref],C47)) -> 0 | K47: =IFERROR(H47+I47-J47,"") -> 0 | L47: =IFERROR(K47*G47,"") -> 0 | M47: 15 | N47: =H47-M47 -> -15 | O47: =IF(K47>0,"OK","Rupture") -> Rupture
A48: 438 | B48: AMPOULE 12 V 16 W | C48: 90981-11059 | D48: TOY | E48: Pièce | I48: =IF(B48="","",SUMIFS(T_stock[Entrée],T_stock[Ref],C48)) -> 0 | J48: =IF(C48="","",SUMIFS(T_stock[Sortie],T_stock[Ref],C48)) -> 0 | K48: =IFERROR(H48+I48-J48,"") -> 0 | L48: =IFERROR(K48*G48,"") -> 0 | M48: 10 | N48: =H48-M48 -> -10 | O48: =IF(K48>0,"OK","Rupture") -> Rupture
A49: 498 | B49: AMPOULE 12V 21W | C49: 90981-15021 | D49: TOY | E49: Pièce | I49: =IF(B49="","",SUMIFS(T_stock[Entrée],T_stock[Ref],C49)) -> 0 | J49: =IF(C49="","",SUMIFS(T_stock[Sortie],T_stock[Ref],C49)) -> 0 | K49: =IFERROR(H49+I49-J49,"") -> 0 | L49: =IFERROR(K49*G49,"") -> 0 | M49: 13 | N49: =H49-M49 -> -13 | O49: =IF(K49>0,"OK","Rupture") -> Rupture
A50: 437 | B50: AMPOULE 12V 5W | C50: 90981-13044 | D50: TOY | E50: Pièce | I50: =IF(B50="","",SUMIFS(T_stock[Entrée],T_stock[Ref],C50)) -> 0 | J50: =IF(C50="","",SUMIFS(T_stock[Sortie],T_stock[Ref],C50)) -> 0 | K50: =IFERROR(H50+I50-J50,"") -> 0 | L50: =IFERROR(K50*G50,"") -> 0 | M50: 10 | N50: =H50-M50 -> -10 | O50: =IF(K50>0,"OK","Rupture") -> Rupture
A51: 723 | B51: AMPOULE 12V10W | C51: 90981-11004 | D51: TOY | E51: Pièce | I51: =IF(B51="","",SUMIFS(T_stock[Entrée],T_stock[Ref],C51)) -> 0 | J51: =IF(C51="","",SUMIFS(T_stock[Sortie],T_stock[Ref],C51)) -> 0 | K51: =IFERROR(H51+I51-J51,"") -> 0 | L51: =IFERROR(K51*G51,"") -> 0 | M51: 27 | N51: =H51-M51 -> -27 | O51: =IF(K51>0,"OK","Rupture") -> Rupture
A52: 718 | B52: AMPOULE 12V21W | C52: 99132-11210 | D52: TOY | E52: Pièce | I52: =IF(B52="","",SUMIFS(T_stock[Entrée],T_stock[Ref],C52)) -> 0 | J52: =IF(C52="","",SUMIFS(T_stock[Sortie],T_stock[Ref],C52)) -> 0 | K52: =IFERROR(H52+I52-J52,"") -> 0 | L52: =IFERROR(K52*G52,"") -> 0 | M52: 23 | N52: =H52-M52 -> -23 | O52: =IF(K52>0,"OK","Rupture") -> Rupture
... A80: 590 | B80: BACHE / TRUCK 1017 A | C80: 4 X 6 CM | D80: BENZ | E80: Pièce | I80: =IF(B80="","",SUMIFS(T_stock[Entrée],T_stock[Ref],C80)) -> 0 | J80: =IF(C80="","",SUMIFS(T_stock[Sortie],T_stock[Ref],C80)) -> 0 | K80: =IFERROR(H80+I80-J80,"") -> 0 | L80: =IFERROR(K80*G80,"") -> 0 | M80: 2 | N80: =H80-M80 -> -2 | O80: =IF(K80>0,"OK","Rupture") -> Rupture
A81: 171 | B81: BAGUE DE VILEBREQUIN | C81: 20108675025 | D81: PRESSE A BRIQUE | E81: Pièce | I81: =IF(B81="","",SUMIFS(T_stock[Entrée],T_stock[Ref],C81)) -> 0 | J81: =IF(C81="","",SUMIFS(T_stock[Sortie],T_stock[Ref],C81)) -> 0 | K81: =IFERROR(H81+I81-J81,"") -> 0 | L81: =IFERROR(K81*G81,"") -> 0 | M81: 2 | N81: =H81-M81 -> -2 | O81: =IF(K81>0,"OK","Rupture") -> Rupture
A82: 343 | B82: BAGUETTE A SOUDER | C82: 2.5 X 350 MM | D82: DIV | E82: Pièce | I82: =IF(B82="","",SUMIFS(T_stock[Entrée],T_stock[Ref],C82)) -> 0 | J82: =IF(C82="","",SUMIFS(T_stock[Sortie],T_stock[Ref],C82)) -> 0 | K82: =IFERROR(H82+I82-J82,"") -> 0 | L82: =IFERROR(K82*G82,"") -> 0 | M82: 1 | N82: =H82-M82 -> -1 | O82: =IF(K82>0,"OK","Rupture") -> Rupture
A83: 345 | B83: BAGUETTE A SOUDURE | C83: 2.5 X 3 X 32 MM | D83: CON | E83: Pièce | I83: =IF(B83="","",SUMIFS(T_stock[Entrée],T_stock[Ref],C83)) -> 0 | J83: =IF(C83="","",SUMIFS(T_stock[Sortie],T_stock[Ref],C83)) -> 0 | K83: =IFERROR(H83+I83-J83,"") -> 0 | L83: =IFERROR(K83*G83,"") -> 0 | M83: 0 | N83: =H83-M83 -> 0 | O83: =IF(K83>0,"OK","Rupture") -> Rupture
A84: 88 | B84: BAGUETTE EN ALUMINIUM | C84: GBA | D84: DIV | E84: Pièce | I84: =IF(B84="","",SUMIFS(T_stock[Entrée],T_stock[Ref],C84)) -> 0 | J84: =IF(C84="","",SUMIFS(T_stock[Sortie],T_stock[Ref],C84)) -> 0 | K84: =IFERROR(H84+I84-J84,"") -> 0 | L84: =IFERROR(K84*G84,"") -> 0 | M84: 25 | N84: =H84-M84 -> -25 | O84: =IF(K84>0,"OK","Rupture") -> Rupture
A85: 89 | B85: BAGUETTE EN CUIVRE | C85: GBP | D85: DIV | E85: Pièce | I85: =IF(B85="","",SUMIFS(T_stock[Entrée],T_stock[Ref],C85)) -> 0 | J85: =IF(C85="","",SUMIFS(T_stock[Sortie],T_stock[Ref],C85)) -> 0 | K85: =IFERROR(H85+I85-J85,"") -> 0 | L85: =IFERROR(K85*G85,"") -> 0 | M85: 25 | N85: =H85-M85 -> -25 | O85: =IF(K85>0,"OK","Rupture") -> Rupture
A86: 639 | B86: BALAIS ESSUIE GLACE | C86: A 001 8201245 | D86: BENZ | E86: Pièce | I86: =IF(B86="","",SUMIFS(T_stock[Entrée],T_stock[Ref],C86)) -> 0 | J86: =IF(C86="","",SUMIFS(T_stock[Sortie],T_stock[Ref],C86)) -> 0 | K86: =IFERROR(H86+I86-J86,"") -> 0 | L86: =IFERROR(K86*G86,"") -> 0 | M86: 3 | N86: =H86-M86 -> -3 | O86: =IF(K86>0,"OK","Rupture") -> Rupture
A87: 693 | B87: BALLAIT D ESSUIE | C87: 87212-60031 | D87: TOY | E87: Pièce | I87: =IF(B87="","",SUMIFS(T_stock[Entrée],T_stock[Ref],C87)) -> 0 | J87: =IF(C87="","",SUMIFS(T_stock[Sortie],T_stock[Ref],C87)) -> 0 | K87: =IFERROR(H87+I87-J87,"") -> 0 | L87: =IFERROR(K87*G87,"") -> 0 | M87: 2 | N87: =H87-M87 -> -2 | O87: =IF(K87>0,"OK","Rupture") -> Rupture
A88: 766 | B88: BALLAIT D ESSUIE | C88: 85212-60031 | D88: TOY | E88: Pièce | I88: =IF(B88="","",SUMIFS(T_stock[Entrée],T_stock[Ref],C88)) -> 0 | J88: =IF(C88="","",SUMIFS(T_stock[Sortie],T_stock[Ref],C88)) -> 0 | K88: =IFERROR(H88+I88-J88,"") -> 0 | L88: =IFERROR(K88*G88,"") -> 0 | M88: 29 | N88: =H88-M88 -> -29 | O88: =IF(K88>0,"OK","Rupture") -> Rupture
A89: 765 | B89: BALLAIT D’ESSUIE-GLACE | C89: 85222-60061 | D89: TOY | E89: Pièce | I89: =IF(B89="","",SUMIFS(T_stock[Entrée],T_stock[Ref],C89)) -> 0 | J89: =IF(C89="","",SUMIFS(T_stock[Sortie],T_stock[Ref],C89)) -> 0 | K89: =IFERROR(H89+I89-J89,"") -> 0 | L89: =IFERROR(K89*G89,"") -> 0 | M89: 20 | N89: =H89-M89 -> -20 | O89: =IF(K89>0,"OK","Rupture") -> Rupture
A90: 764 | B90: BALLAIT D’ESSUIE-GLACE ARRIÈRE | C90: 85242-33040 | D90: TOY | E90: Pièce | I90: =IF(B90="","",SUMIFS(T_stock[Entrée],T_stock[Ref],C90)) -> 0 | J90: =IF(C90="","",SUMIFS(T_stock[Sortie],T_stock[Ref],C90)) -> 0 | K90: =IFERROR(H90+I90-J90,"") -> 0 | L90: =IFERROR(K90*G90,"") -> 0 | M90: 13 | N90: =H90-M90 -> -13 | O90: =IF(K90>0,"OK","Rupture") -> Rupture
A91: 926 | B91: BARRE DE DIRECTION | C91: 45451-60130 | D91: TOY | E91: Pièce | I91: =IF(B91="","",SUMIFS(T_stock[Entrée],T_stock[Ref],C91)) -> 0 | J91: =IF(C91="","",SUMIFS(T_stock[Sortie],T_stock[Ref],C91)) -> 0 | K91: =IFERROR(H91+I91-J91,"") -> 0 | L91: =IFERROR(K91*G91,"") -> 0 | M91: 1 | N91: =H91-M91 -> -1 | O91: =IF(K91>0,"OK","Rupture") -> Rupture
A92: 362 | B92: BARRE DE SUSPENSION | C92: 48610-60040 | D92: TOY | E92: Pièce | I92: =IF(B92="","",SUMIFS(T_stock[Entrée],T_stock[Ref],C92)) -> 0 | J92: =IF(C92="","",SUMIFS(T_stock[Sortie],T_stock[Ref],C92)) -> 0 | K92: =IFERROR(H92+I92-J92,"") -> 0 | L92: =IFERROR(K92*G92,"") -> 0 | M92: 6 | N92: =H92-M92 -> -6 | O92: =IF(K92>0,"OK","Rupture") -> Rupture
A93: 159 | B93: BARRE STABILISATRICE | C93: 48804-60090 | D93: TOY | E93: Pièce | I93: =IF(B93="","",SUMIFS(T_stock[Entrée],T_stock[Ref],C93)) -> 0 | J93: =IF(C93="","",SUMIFS(T_stock[Sortie],T_stock[Ref],C93)) -> 0 | K93: =IFERROR(H93+I93-J93,"") -> 0 | L93: =IFERROR(K93*G93,"") -> 0 | M93: 0 | N93: =H93-M93 -> 0 | O93: =IF(K93>0,"OK","Rupture") -> Rupture
... A105: 255 | B105: BATTERIE SOLAIRE | C105: 12 V 200 AM | D105: BAT | E105: Pièce | I105: =IF(B105="","",SUMIFS(T_stock[Entrée],T_stock[Ref],C105)) -> 0 | J105: =IF(C105="","",SUMIFS(T_stock[Sortie],T_stock[Ref],C105)) -> 0 | K105: =IFERROR(H105+I105-J105,"") -> 0 | L105: =IFERROR(K105*G105,"") -> 0 | M105: 8 | N105: =H105-M105 -> -8 | O105: =IF(K105>0,"OK","Rupture") -> Rupture
A106: 119 | B106: BDUHON RESERVOIR | C106: 1687 | D106: HYDRA | E106: Pièce | I106: =IF(B106="","",SUMIFS(T_stock[Entrée],T_stock[Ref],C106)) -> 0 | J106: =IF(C106="","",SUMIFS(T_stock[Sortie],T_stock[Ref],C106)) -> 0 | K106: =IFERROR(H106+I106-J106,"") -> 0 | L106: =IFERROR(K106*G106,"") -> 0 | M106: 3000 | N106: =H106-M106 -> -3000 | O106: =IF(K106>0,"OK","Rupture") -> Rupture
A107: 227 | B107: BEHRING SUPPORT | C107: 7423281217 | D107: RNLT | E107: Pièce | I107: =IF(B107="","",SUMIFS(T_stock[Entrée],T_stock[Ref],C107)) -> 0 | J107: =IF(C107="","",SUMIFS(T_stock[Sortie],T_stock[Ref],C107)) -> 0 | K107: =IFERROR(H107+I107-J107,"") -> 0 | L107: =IFERROR(K107*G107,"") -> 0 | M107: 2 | N107: =H107-M107 -> -2 | O107: =IF(K107>0,"OK","Rupture") -> Rupture
A108: 859 | B108: BIELLE | C108: 13201-3002 | D108: TOY | E108: Pièce | I108: =IF(B108="","",SUMIFS(T_stock[Entrée],T_stock[Ref],C108)) -> 0 | J108: =IF(C108="","",SUMIFS(T_stock[Sortie],T_stock[Ref],C108)) -> 0 | K108: =IFERROR(H108+I108-J108,"") -> 0 | L108: =IFERROR(K108*G108,"") -> 0 | M108: 0 | N108: =H108-M108 -> 0 | O108: =IF(K108>0,"OK","Rupture") -> Rupture
A109: 147 | B109: BIELLETE AV DROIT | C109: 48810-60040 | D109: TOY | E109: Pièce | I109: =IF(B109="","",SUMIFS(T_stock[Entrée],T_stock[Ref],C109)) -> 0 | J109: =IF(C109="","",SUMIFS(T_stock[Sortie],T_stock[Ref],C109)) -> 0 | K109: =IFERROR(H109+I109-J109,"") -> 0 | L109: =IFERROR(K109*G109,"") -> 0 | M109: 10 | N109: =H109-M109 -> -10 | O109: =IF(K109>0,"OK","Rupture") -> Rupture
A110: 126 | B110: BIELLETTE | C110: 7422325247 | D110: RNLT | E110: Pièce | I110: =IF(B110="","",SUMIFS(T_stock[Entrée],T_stock[Ref],C110)) -> 0 | J110: =IF(C110="","",SUMIFS(T_stock[Sortie],T_stock[Ref],C110)) -> 0 | K110: =IFERROR(H110+I110-J110,"") -> 0 | L110: =IFERROR(K110*G110,"") -> 0 | M110: 6 | N110: =H110-M110 -> -6 | O110: =IF(K110>0,"OK","Rupture") -> Rupture
A111: 271 | B111: BIELLETTE AVANT DROITE | C111: 48820-60050 | D111: TOY | E111: Pièce | I111: =IF(B111="","",SUMIFS(T_stock[Entrée],T_stock[Ref],C111)) -> 0 | J111: =IF(C111="","",SUMIFS(T_stock[Sortie],T_stock[Ref],C111)) -> 0 | K111: =IFERROR(H111+I111-J111,"") -> 0 | L111: =IFERROR(K111*G111,"") -> 0 | M111: 16 | N111: =H111-M111 -> -16 | O111: =IF(K111>0,"OK","Rupture") -> Rupture
A112: 276 | B112: BIELLETTE AVANT DROITE | C112: 48810-60030 | D112: TOY | E112: Pièce | I112: =IF(B112="","",SUMIFS(T_stock[Entrée],T_stock[Ref],C112)) -> 0 | J112: =IF(C112="","",SUMIFS(T_stock[Sortie],T_stock[Ref],C112)) -> 0 | K112: =IFERROR(H112+I112-J112,"") -> 0 | L112: =IFERROR(K112*G112,"") -> 0 | M112: 0 | N112: =H112-M112 -> 0 | O112: =IF(K112>0,"OK","Rupture") -> Rupture
A113: 275 | B113: BIELLETTE AVANT GAUCHE | C113: 48820-60040 | D113: TOY | E113: Pièce | I113: =IF(B113="","",SUMIFS(T_stock[Entrée],T_stock[Ref],C113)) -> 0 | J113: =IF(C113="","",SUMIFS(T_stock[Sortie],T_stock[Ref],C113)) -> 0 | K113: =IFERROR(H113+I113-J113,"") -> 0 | L113: =IFERROR(K113*G113,"") -> 0 | M113: 8 | N113: =H113-M113 -> -8 | O113: =IF(K113>0,"OK","Rupture") -> Rupture
A114: 73 | B114: BLOC ADDITIF ABB | C114: 15124480171A | D114: ELE | E114: Pièce | I114: =IF(B114="","",SUMIFS(T_stock[Entrée],T_stock[Ref],C114)) -> 0 | J114: =IF(C114="","",SUMIFS(T_stock[Sortie],T_stock[Ref],C114)) -> 0 | K114: =IFERROR(H114+I114-J114,"") -> 0 | L114: =IFERROR(K114*G114,"") -> 0 | M114: 2 | N114: =H114-M114 -> -2 | O114: =IF(K114>0,"OK","Rupture") -> Rupture
A115: 512 | B115: BOITE DE VITESSE | C115: A 383 2610 301 | D115: BENZ | E115: Pièce | I115: =IF(B115="","",SUMIFS(T_stock[Entrée],T_stock[Ref],C115)) -> 0 | J115: =IF(C115="","",SUMIFS(T_stock[Sortie],T_stock[Ref],C115)) -> 0 | K115: =IFERROR(H115+I115-J115,"") -> 0 | L115: =IFERROR(K115*G115,"") -> 0 | M115: 0 | N115: =H115-M115 -> 0 | O115: =IF(K115>0,"OK","Rupture") -> Rupture
A116: 827 | B116: BOITE DE VITESSE | C116: 33036-6A410 | D116: TOY | E116: Kit | I116: =IF(B116="","",SUMIFS(T_stock[Entrée],T_stock[Ref],C116)) -> 0 | J116: =IF(C116="","",SUMIFS(T_stock[Sortie],T_stock[Ref],C116)) -> 0 | K116: =IFERROR(H116+I116-J116,"") -> 0 | L116: =IFERROR(K116*G116,"") -> 0 | M116: 0 | N116: =H116-M116 -> 0 | O116: =IF(K116>0,"OK","Rupture") -> Rupture
A117: 144 | B117: BOITIER DE DIRECTION | C117: 730 8093 | D117: TOY | E117: Pièce | I117: =IF(B117="","",SUMIFS(T_stock[Entrée],T_stock[Ref],C117)) -> 0 | J117: =IF(C117="","",SUMIFS(T_stock[Sortie],T_stock[Ref],C117)) -> 0 | K117: =IFERROR(H117+I117-J117,"") -> 0 | L117: =IFERROR(K117*G117,"") -> 0 | M117: 1 | N117: =H117-M117 -> -1 | O117: =IF(K117>0,"OK","Rupture") -> Rupture
A118: 910 | B118: BOITIER ETANCHE DE 100 X 100 | C118: 100X100 | D118: ELE | E118: Pièce | I118: =IF(B118="","",SUMIFS(T_stock[Entrée],T_stock[Ref],C118)) -> 0 | J118: =IF(C118="","",SUMIFS(T_stock[Sortie],T_stock[Ref],C118)) -> 0 | K118: =IFERROR(H118+I118-J118,"") -> 0 | L118: =IFERROR(K118*G118,"") -> 0 | M118: 39 | N118: =H118-M118 -> -39 | O118: =IF(K118>0,"OK","Rupture") -> Rupture
A119: 418 | B119: BOLT/STUD | C119: 90126-12005 | D119: TOY | E119: Pièce | I119: =IF(B119="","",SUMIFS(T_stock[Entrée],T_stock[Ref],C119)) -> 0 | J119: =IF(C119="","",SUMIFS(T_stock[Sortie],T_stock[Ref],C119)) -> 0 | K119: =IFERROR(H119+I119-J119,"") -> 0 | L119: =IFERROR(K119*G119,"") -> 0 | M119: 7 | N119: =H119-M119 -> -7 | O119: =IF(K119>0,"OK","Rupture") -> Rupture
A120: 392 | B120: BOMBE PEINTURE | C120: 400 mL | D120: CON | E120: Pièce | I120: =IF(B120="","",SUMIFS(T_stock[Entrée],T_stock[Ref],C120)) -> 0 | J120: =IF(C120="","",SUMIFS(T_stock[Sortie],T_stock[Ref],C120)) -> 0 | K120: =IFERROR(H120+I120-J120,"") -> 0 | L120: =IFERROR(K120*G120,"") -> 0 | M120: 5 | N120: =H120-M120 -> -5 | O120: =IF(K120>0,"OK","Rupture") -> Rupture
A121: 469 | B121: BORNIER | C121: 25 mm2 | D121: ELE | E121: Pièce | I121: =IF(B121="","",SUMIFS(T_stock[Entrée],T_stock[Ref],C121)) -> 0 | J121: =IF(C121="","",SUMIFS(T_stock[Sortie],T_stock[Ref],C121)) -> 0 | K121: =IFERROR(H121+I121-J121,"") -> 0 | L121: =IFERROR(K121*G121,"") -> 0 | M121: 4 | N121: =H121-M121 -> -4 | O121: =IF(K121>0,"OK","Rupture") -> Rupture
A122: 598 | B122: BOUCHON DE RESERVOIR | C122: A 383 470 01 05 | D122: BENZ | E122: Pièce | I122: =IF(B122="","",SUMIFS(T_stock[Entrée],T_stock[Ref],C122)) -> 0 | J122: =IF(C122="","",SUMIFS(T_stock[Sortie],T_stock[Ref],C122)) -> 0 | K122: =IFERROR(H122+I122-J122,"") -> 0 | L122: =IFERROR(K122*G122,"") -> 0 | M122: 2 | N122: =H122-M122 -> -2 | O122: =IF(K122>0,"OK","Rupture") -> Rupture
... A134: 91 | B134: BOUTEILLE GAZ 11,3 KG | C134: R 22 | D134: CON | E134: Kg | I134: =IF(B134="","",SUMIFS(T_stock[Entrée],T_stock[Ref],C134)) -> 0 | J134: =IF(C134="","",SUMIFS(T_stock[Sortie],T_stock[Ref],C134)) -> 0 | K134: =IFERROR(H134+I134-J134,"") -> 0 | L134: =IFERROR(K134*G134,"") -> 0 | M134: 10 | N134: =H134-M134 -> -10 | O134: =IF(K134>0,"OK","Rupture") -> Rupture
A135: 210 | B135: BOWL | C135: 7420900648 | D135: RNLT | E135: Pièce | I135: =IF(B135="","",SUMIFS(T_stock[Entrée],T_stock[Ref],C135)) -> 0 | J135: =IF(C135="","",SUMIFS(T_stock[Sortie],T_stock[Ref],C135)) -> 0 | K135: =IFERROR(H135+I135-J135,"") -> 0 | L135: =IFERROR(K135*G135,"") -> 0 | M135: 1 | N135: =H135-M135 -> -1 | O135: =IF(K135>0,"OK","Rupture") -> Rupture
A136: 305 | B136: BRAKE DRUM | C136: 7423649361 | D136: RNLT | E136: Pièce | I136: =IF(B136="","",SUMIFS(T_stock[Entrée],T_stock[Ref],C136)) -> 0 | J136: =IF(C136="","",SUMIFS(T_stock[Sortie],T_stock[Ref],C136)) -> 0 | K136: =IFERROR(H136+I136-J136,"") -> 0 | L136: =IFERROR(K136*G136,"") -> 0 | M136: 3 | N136: =H136-M136 -> -3 | O136: =IF(K136>0,"OK","Rupture") -> Rupture
A137: 310 | B137: BRAKE DRUM | C137: 7421451973 | D137: RNLT | E137: Pièce | I137: =IF(B137="","",SUMIFS(T_stock[Entrée],T_stock[Ref],C137)) -> 0 | J137: =IF(C137="","",SUMIFS(T_stock[Sortie],T_stock[Ref],C137)) -> 0 | K137: =IFERROR(H137+I137-J137,"") -> 0 | L137: =IFERROR(K137*G137,"") -> 0 | M137: 5 | N137: =H137-M137 -> -5 | O137: =IF(K137>0,"OK","Rupture") -> Rupture
A138: 325 | B138: BRAKE LINING KIT | C138: 7421534386 | D138: RNLT | E138: Pièce | I138: =IF(B138="","",SUMIFS(T_stock[Entrée],T_stock[Ref],C138)) -> 0 | J138: =IF(C138="","",SUMIFS(T_stock[Sortie],T_stock[Ref],C138)) -> 0 | K138: =IFERROR(H138+I138-J138,"") -> 0 | L138: =IFERROR(K138*G138,"") -> 0 | M138: 10 | N138: =H138-M138 -> -10 | O138: =IF(K138>0,"OK","Rupture") -> Rupture
A139: 326 | B139: BRAKE LINING KIT | C139: 7421534374 | D139: RNLT | E139: Pièce | I139: =IF(B139="","",SUMIFS(T_stock[Entrée],T_stock[Ref],C139)) -> 0 | J139: =IF(C139="","",SUMIFS(T_stock[Sortie],T_stock[Ref],C139)) -> 0 | K139: =IFERROR(H139+I139-J139,"") -> 0 | L139: =IFERROR(K139*G139,"") -> 0 | M139: 5 | N139: =H139-M139 -> -5 | O139: =IF(K139>0,"OK","Rupture") -> Rupture
A140: 222 | B140: BRAKET | C140: 7422287284 | D140: RNLT | E140: Pièce | I140: =IF(B140="","",SUMIFS(T_stock[Entrée],T_stock[Ref],C140)) -> 0 | J140: =IF(C140="","",SUMIFS(T_stock[Sortie],T_stock[Ref],C140)) -> 0 | K140: =IFERROR(H140+I140-J140,"") -> 0 | L140: =IFERROR(K140*G140,"") -> 0 | M140: 1 | N140: =H140-M140 -> -1 | O140: =IF(K140>0,"OK","Rupture") -> Rupture
A141: 945 | B141: BRAS D EMBRAYGE | C141: 2HO-83912-30 | D141: MBK | E141: Pièce | I141: =IF(B141="","",SUMIFS(T_stock[Entrée],T_stock[Ref],C141)) -> 0 | J141: =IF(C141="","",SUMIFS(T_stock[Sortie],T_stock[Ref],C141)) -> 0 | K141: =IFERROR(H141+I141-J141,"") -> 0 | L141: =IFERROR(K141*G141,"") -> 0 | M141: 2 | N141: =H141-M141 -> -2 | O141: =IF(K141>0,"OK","Rupture") -> Rupture
A142: 228 | B142: BUBBER BEARING | C142: 7401629169 | D142: RNLT | E142: Pièce | I142: =IF(B142="","",SUMIFS(T_stock[Entrée],T_stock[Ref],C142)) -> 0 | J142: =IF(C142="","",SUMIFS(T_stock[Sortie],T_stock[Ref],C142)) -> 0 | K142: =IFERROR(H142+I142-J142,"") -> 0 | L142: =IFERROR(K142*G142,"") -> 0 | M142: 4 | N142: =H142-M142 -> -4 | O142: =IF(K142>0,"OK","Rupture") -> Rupture
A143: 309 | B143: BULB KIT | C143: 7485145549 | D143: RNLT | E143: Pièce | I143: =IF(B143="","",SUMIFS(T_stock[Entrée],T_stock[Ref],C143)) -> 0 | J143: =IF(C143="","",SUMIFS(T_stock[Sortie],T_stock[Ref],C143)) -> 0 | K143: =IFERROR(H143+I143-J143,"") -> 0 | L143: =IFERROR(K143*G143,"") -> 0 | M143: 8 | N143: =H143-M143 -> -8 | O143: =IF(K143>0,"OK","Rupture") -> Rupture
A144: 785 | B144: BUSH, FRONT LATERAL. BAR DE DIRECTION | C144: 48706-60070 | D144: TOY | E144: Pièce | I144: =IF(B144="","",SUMIFS(T_stock[Entrée],T_stock[Ref],C144)) -> 0 | J144: =IF(C144="","",SUMIFS(T_stock[Sortie],T_stock[Ref],C144)) -> 0 | K144: =IFERROR(H144+I144-J144,"") -> 0 | L144: =IFERROR(K144*G144,"") -> 0 | M144: 14 | N144: =H144-M144 -> -14 | O144: =IF(K144>0,"OK","Rupture") -> Rupture
A145: 737 | B145: BUSH, STABILIZER BAR AVANT | C145: 90385-13009 | D145: TOY | E145: Pièce | I145: =IF(B145="","",SUMIFS(T_stock[Entrée],T_stock[Ref],C145)) -> 0 | J145: =IF(C145="","",SUMIFS(T_stock[Sortie],T_stock[Ref],C145)) -> 0 | K145: =IFERROR(H145+I145-J145,"") -> 0 | L145: =IFERROR(K145*G145,"") -> 0 | M145: 56 | N145: =H145-M145 -> -56 | O145: =IF(K145>0,"OK","Rupture") -> Rupture
A146: 784 | B146: BUSH, STABILIZER BAR AVANT | C146: 48815-60170 | D146: TOY | E146: Kit | I146: =IF(B146="","",SUMIFS(T_stock[Entrée],T_stock[Ref],C146)) -> 0 | J146: =IF(C146="","",SUMIFS(T_stock[Sortie],T_stock[Ref],C146)) -> 0 | K146: =IFERROR(H146+I146-J146,"") -> 0 | L146: =IFERROR(K146*G146,"") -> 0 | M146: 17 | N146: =H146-M146 -> -17 | O146: =IF(K146>0,"OK","Rupture") -> Rupture
A147: 224 | B147: BUSHING | C147: 7421175831 | D147: RNLT | E147: Pièce | I147: =IF(B147="","",SUMIFS(T_stock[Entrée],T_stock[Ref],C147)) -> 0 | J147: =IF(C147="","",SUMIFS(T_stock[Sortie],T_stock[Ref],C147)) -> 0 | K147: =IFERROR(H147+I147-J147,"") -> 0 | L147: =IFERROR(K147*G147,"") -> 0 | M147: 4 | N147: =H147-M147 -> -4 | O147: =IF(K147>0,"OK","Rupture") -> Rupture
A148: 225 | B148: BUSHING | C148: 7422139175 | D148: RNLT | E148: Pièce | I148: =IF(B148="","",SUMIFS(T_stock[Entrée],T_stock[Ref],C148)) -> 0 | J148: =IF(C148="","",SUMIFS(T_stock[Sortie],T_stock[Ref],C148)) -> 0 | K148: =IFERROR(H148+I148-J148,"") -> 0 | L148: =IFERROR(K148*G148,"") -> 0 | M148: 4 | N148: =H148-M148 -> -4 | O148: =IF(K148>0,"OK","Rupture") -> Rupture
A149: 830 | B149: BUTEE | C149: 31230-60270 | D149: TOY | E149: Pièce | I149: =IF(B149="","",SUMIFS(T_stock[Entrée],T_stock[Ref],C149)) -> 0 | J149: =IF(C149="","",SUMIFS(T_stock[Sortie],T_stock[Ref],C149)) -> 0 | K149: =IFERROR(H149+I149-J149,"") -> 0 | L149: =IFERROR(K149*G149,"") -> 0 | M149: 0 | N149: =H149-M149 -> 0 | O149: =IF(K149>0,"OK","Rupture") -> Rupture
A150: 631 | B150: BUTEE D'EMBRAYAGE | C150: A 0032506015 | D150: BENZ | E150: Pièce | I150: =IF(B150="","",SUMIFS(T_stock[Entrée],T_stock[Ref],C150)) -> 0 | J150: =IF(C150="","",SUMIFS(T_stock[Sortie],T_stock[Ref],C150)) -> 0 | K150: =IFERROR(H150+I150-J150,"") -> 0 | L150: =IFERROR(K150*G150,"") -> 0 | M150: 2 | N150: =H150-M150 -> -2 | O150: =IF(K150>0,"OK","Rupture") -> Rupture
A151: 374 | B151: BUTEE EMBRAYAGE | C151: 31230-60201 | D151: TOY | E151: Pièce | I151: =IF(B151="","",SUMIFS(T_stock[Entrée],T_stock[Ref],C151)) -> 0 | J151: =IF(C151="","",SUMIFS(T_stock[Sortie],T_stock[Ref],C151)) -> 0 | K151: =IFERROR(H151+I151-J151,"") -> 0 | L151: =IFERROR(K151*G151,"") -> 0 | M151: 10 | N151: =H151-M151 -> -10 | O151: =IF(K151>0,"OK","Rupture") -> Rupture
A152: 831 | B152: BUTTÉ D’EMBRAYAGE | C152: 31230-60200 | D152: TOY | E152: Pièce | I152: =IF(B152="","",SUMIFS(T_stock[Entrée],T_stock[Ref],C152)) -> 0 | J152: =IF(C152="","",SUMIFS(T_stock[Sortie],T_stock[Ref],C152)) -> 0 | K152: =IFERROR(H152+I152-J152,"") -> 0 | L152: =IFERROR(K152*G152,"") -> 0 | M152: 9 | N152: =H152-M152 -> -9 | O152: =IF(K152>0,"OK","Rupture") -> Rupture
A153: 561 | B153: CABLE ACCELERATEUR | C153: 3J026311-02 | D153: MBK | E153: Pièce | I153: =IF(B153="","",SUMIFS(T_stock[Entrée],T_stock[Ref],C153)) -> 0 | J153: =IF(C153="","",SUMIFS(T_stock[Sortie],T_stock[Ref],C153)) -> 0 | K153: =IFERROR(H153+I153-J153,"") -> 0 | L153: =IFERROR(K153*G153,"") -> 0 | M153: 2 | N153: =H153-M153 -> -2 | O153: =IF(K153>0,"OK","Rupture") -> Rupture
A154: 550 | B154: CABLE BLEU | C154: 1 X 10 B- MM | D154: MBK | E154: Pièce | I154: =IF(B154="","",SUMIFS(T_stock[Entrée],T_stock[Ref],C154)) -> 0 | J154: =IF(C154="","",SUMIFS(T_stock[Sortie],T_stock[Ref],C154)) -> 0 | K154: =IFERROR(H154+I154-J154,"") -> 0 | L154: =IFERROR(K154*G154,"") -> 0 | M154: 100 | N154: =H154-M154 -> -100 | O154: =IF(K154>0,"OK","Rupture") -> Rupture
A155: 564 | B155: CABLE COMPTEUR | C155: 10V-83550-00 | D155: MBK | E155: Pièce | I155: =IF(B155="","",SUMIFS(T_stock[Entrée],T_stock[Ref],C155)) -> 0 | J155: =IF(C155="","",SUMIFS(T_stock[Sortie],T_stock[Ref],C155)) -> 0 | K155: =IFERROR(H155+I155-J155,"") -> 0 | L155: =IFERROR(K155*G155,"") -> 0 | M155: 0 | N155: =H155-M155 -> 0 | O155: =IF(K155>0,"OK","Rupture") -> Rupture
A156: 17 | B156: CABLE DE COMMANDE | C156: 4X2.5 MM | D156: ELE | E156: Mètre | I156: =IF(B156="","",SUMIFS(T_stock[Entrée],T_stock[Ref],C156)) -> 0 | J156: =IF(C156="","",SUMIFS(T_stock[Sortie],T_stock[Ref],C156)) -> 0 | K156: =IFERROR(H156+I156-J156,"") -> 0 | L156: =IFERROR(K156*G156,"") -> 0 | M156: 0 | N156: =H156-M156 -> 0 | O156: =IF(K156>0,"OK","Rupture") -> Rupture
...
