Workbook
Name Années: OFFSET(Sources!$D$2,1,,COUNTA(Sources!$D:$D)-1)
Name BELLAMY_Pascal: OFFSET(Sources!$O$3,,,COUNTA(Sources!$O:$O))
Name BioDiversité: Sources!$M$10:$M$14
Name BLANCHARD_Noémie: OFFSET(Sources!$T$3,,,COUNTA(Sources!$T:$T))
Name BUSSEREAU_Eric: Sources!$P$3:$P$6
Name CartesIPCBD: Sources!$AC$175
Name CartesIPCEV: Sources!$AC$96
Name CartesIPCPT: Sources!$AC$143
Name CartesIPCTP: OFFSET(Sources!#REF!,1,,COUNTA(Sources!#REF!)-1)
Name CERISIER_Dorian: Sources!$W$3:$W$6
Name Colonne1: Sources!$O$2:$O$13
Name Colonne2: Sources!$P$2:$P$13
Name EntretiensEV: Sources!$AC$2
Name EntretiensPT: Sources!$AC$115
Name EspacesVerts: Sources!$K$10:$K$14
Name Formule: OFFSET(Sources!$L$2,1,,COUNTA(Sources!$L:$L)-1)
Name HUAULT_Philippe: Sources!$U$3:$U$6
Name KEUVAHANA_Sylvano: Sources!$Q$3:$Q$6
Name LUCIANI_Nathan: Sources!$X$3:$X$6
Name Managers: Sources!$O$21:$O$24
Name MESCHAIN_Mathéo: Sources!$Y$3:$Y$6
Name Mois: Sources!$A$2:$B$14
Name MORISSET_Clément: Sources!$R$3:$R$6
Name PIMOT_Kylian: Sources!$Z$3:$Z$6
Name PIMOT_Kyllian: Sources!$Z$3:$Z$6
Name PlantesTropicales: Sources!$L$10:$L$14
Name POUZET_Cyril: Sources!$V$3:$V$6
Name Salarié: OFFSET(Sources!$G$2,1,,COUNTA(Sources!$G:$G)-1)
Name Services: Sources!$J$3:$J$5
Name SIMONYAN_Gevorg: OFFSET(Sources!$S$3,,,vbval(Sources!$S$6:$S$6))
Name SuivideGestion_BD: Sources!$AC$147
Name SuiviGestionBD: OFFSET(Sources!#REF!,1,,COUNTA(Sources!#REF!)-1)
Name Taches: Sources!$AB$2:$AC$192
Name TravauxCréationsEV: Sources!$AC$80
Name TravauxdeGestion_BD: Sources!$AC$163
Name TravauxGestionBD: OFFSET(Sources!#REF!,1,,COUNTA(Sources!#REF!)-1)
Name TravauxMobiliersEV: Sources!$AC$38
Name TravauxPonctuelsPT: Sources!$AC$131

Sheet Tableau de bord
E20: https://forum.excel-pratique.com/excel/creation-d-un-tableau-de-donnees-a-partir-des-donnees-d-une-liste-deroulant-188675

Sheet Planning Prévisionnel
B2: Année : | C2: 2023 | G2: =IF(AND(C2<>"",C3<>"",B6<>"",C6<>""),"Planning de Travail du service "&B6&" pour "&C6&" pour le mois de "&C3,"") -> Planning de Travail du service EspacesVerts pour BUSSEREAU_Eric pour le mois de Décembre
B3: Mois : | C3: Décembre
B5: Service: | C5: Salarié: | D5: Affectation:
B6: EspacesVerts | C6: BUSSEREAU_Eric | D6: TravauxPonctuelsPT
G10: 1 | H10: 2 | I10: 3 | J10: 4 | K10: 5 | L10: 6 | M10: 7 | N10: 8 | O10: 9 | P10: 10 | Q10: 11 | R10: 12 | S10: 13 | T10: 14 | U10: 15 | V10: 16 | W10: 17 | X10: 18 | Y10: 19 | Z10: 20 | AA10: 21 | AB10: 22 | AC10: 23 | AD10: 24 | AE10: 25 | AF10: 26 | AG10: 27 | AH10: 28 | AI10: 29 | AJ10: 30 | AK10: 31
G11: =DATE($C$2,VLOOKUP($C$3,Sources!$A$2:$B$14,2,FALSE),'Planning Prévisionnel'!G10) -> 45261 | H11: =DATE($C$2,VLOOKUP($C$3,Sources!$A$2:$B$14,2,FALSE),'Planning Prévisionnel'!H10) -> 45262 | I11: =DATE($C$2,VLOOKUP($C$3,Sources!$A$2:$B$14,2,FALSE),'Planning Prévisionnel'!I10) -> 45263 | J11: =DATE($C$2,VLOOKUP($C$3,Sources!$A$2:$B$14,2,FALSE),'Planning Prévisionnel'!J10) -> 45264 | K11: =DATE($C$2,VLOOKUP($C$3,Sources!$A$2:$B$14,2,FALSE),'Planning Prévisionnel'!K10) -> 45265 | L11: =DATE($C$2,VLOOKUP($C$3,Sources!$A$2:$B$14,2,FALSE),'Planning Prévisionnel'!L10) -> 45266 | M11: =DATE($C$2,VLOOKUP($C$3,Sources!$A$2:$B$14,2,FALSE),'Planning Prévisionnel'!M10) -> 45267 | N11: =DATE($C$2,VLOOKUP($C$3,Sources!$A$2:$B$14,2,FALSE),'Planning Prévisionnel'!N10) -> 45268 | ... AK11: =DATE($C$2,VLOOKUP($C$3,Sources!$A$2:$B$14,2,FALSE),'Planning Prévisionnel'!AK10) -> 45291
G12: =IF(AND($C$2<>"",$C$3<>""),TEXT(G11,"jjjj")&" " &TEXT(G11,"jj"),"") -> vendredi 01 | H12: =IF(AND($C$2<>"",$C$3<>""),IF(MONTH(H11)=MONTH($G$11),TEXT(H11,"jjjj")&" " &TEXT(H11,"jj"),""),"") -> samedi 02 | I12: =IF(AND($C$2<>"",$C$3<>""),IF(MONTH(I11)=MONTH($G$11),TEXT(I11,"jjjj")&" " &TEXT(I11,"jj"),""),"") -> dimanche 03 | J12: =IF(AND($C$2<>"",$C$3<>""),IF(MONTH(J11)=MONTH($G$11),TEXT(J11,"jjjj")&" " &TEXT(J11,"jj"),""),"") -> lundi 04 | K12: =IF(AND($C$2<>"",$C$3<>""),IF(MONTH(K11)=MONTH($G$11),TEXT(K11,"jjjj")&" " &TEXT(K11,"jj"),""),"") -> mardi 05 | L12: =IF(AND($C$2<>"",$C$3<>""),IF(MONTH(L11)=MONTH($G$11),TEXT(L11,"jjjj")&" " &TEXT(L11,"jj"),""),"") -> mercredi 06 | M12: =IF(AND($C$2<>"",$C$3<>""),IF(MONTH(M11)=MONTH($G$11),TEXT(M11,"jjjj")&" " &TEXT(M11,"jj"),""),"") -> jeudi 07 | N12: =IF(AND($C$2<>"",$C$3<>""),IF(MONTH(N11)=MONTH($G$11),TEXT(N11,"jjjj")&" " &TEXT(N11,"jj"),""),"") -> vendredi 08 | O12: =IF(AND($C$2<>"",$C$3<>""),IF(MONTH(O11)=MONTH($G$11),TEXT(O11,"jjjj")&" " &TEXT(O11,"jj"),""),"") -> samedi 09 | ... AK12: =IF(AND($C$2<>"",$C$3<>""),IF(MONTH(AK11)=MONTH($G$11),TEXT(AK11,"jjjj")&" " &TEXT(AK11,"jj"),""),"") -> dimanche 31

Sheet Gestion Stocks

Sheet Suivi Entrée sortie Matériels

Sheet Inventaires

Sheet suivi entretien Matériels

Sheet suivi attribution outillage

Sheet Planning Salarié

Sheet Sources
A2: mois | B2: Numéro | D2: Années | G2: Salarié | H2: Contrats | J2: Services | O2: BELLAMY Pascal | P2: BUSSEREAU Eric | Q2: KEUVAHANA Sylvano | R2: MORISSET Clément | S2: SIMONYAN Gevorg | T2: BLANCHARD Noémie | U2: HUAULT Philippe | V2: POUZET Cyril | W2: CERISIER Dorian | X2: LUCIANI Nathan | Y2: MESCHAIN Mathéo | Z2: PIMOT Kylian | AB2: EntretiensEV | AC2: Spa deep Nature/Riviere sauvage | AE2: CartesIPCEV | AF2: Récurrence | AH2: CartesIPCPT | AI2: Récurence | AK2: CartesIPCBD | AL2: Récurrence
A3: Janvier | B3: 1 | D3: 2023 | G3: BELLAMY Pascal | H3: CDI | J3: EspacesVerts | O3: EntretiensEV | P3: EntretiensEV | Q3: EntretiensEV | R3: EntretiensEV | S3: EntretiensEV | T3: EntretiensPT | U3: EntretiensPT | V3: EntretiensPT | W3: SuivideGestion BD | X3: SuivideGestion BD | Y3: SuivideGestion BD | Z3: SuivideGestion BD | AC3: Plage/Ponton des amoureux/zone Bio-div | AE3: IPC PA1302 Jeux CVI-AF, Parc Filets, structures, contrôles poussés | AF3: Hebdomadaire | AH3: IPC 32 Cl1 arrosage, lutte, nettoyage | AI3: hedomadaire | AK3: IPC 00 CL0 Niveau, états pompes étangs, Brasd'eau, Marais | AL3: Bi-Mensuel
A4: Février | B4: 2 | D4: 2024 | G4: BLANCHARD Noémie | H4: CDI | J4: PlantesTropicales | O4: TravauxMobiliersEV | P4: TravauxMobiliersEV | Q4: TravauxMobiliersEV | R4: TravauxMobiliersEV | S4: TravauxMobiliersEV | T4: TravauxPonctuelsPT | U4: TravauxPonctuelsPT | V4: TravauxPonctuelsPT | W4: TravauxdeGestion BD | X4: TravauxdeGestion BD | Y4: TravauxdeGestion BD | Z4: TravauxdeGestion BD | AC4: Esplanade Dôme/ Centre séminaire/ Pétanque | AE4: IPC PA1302 Jeux CVI-AF Filets, structures | AF4: Quotidiens | AH4: IPC 60 Cl2 arrosage, lutte, nettoyage | AI4: Bi-mensuel | AK4: IPC 07 Cl3 Propretée étangs, bras d'eau, marais | AL4: Mensuel
A5: Mars | B5: 3 | D5: 2025 | G5: BUSSEREAU Eric | H5: CDI | J5: Biodiversité | O5: TravauxCréationsEV | P5: TravauxCréationsEV | Q5: TravauxCréationsEV | R5: TravauxCréationsEV | S5: TravauxCréationsEV | T5: CartesIPCPT | U5: CartesIPCPT | V5: CartesIPCPT | W5: CartesIPCBD | X5: CartesIPCBD | Y5: CartesIPCBD | Z5: CartesIPCBD | AC5: ME-MA/ Parcours Poney | AE5: IPC PA2197 Courts de Tennis | AF5: Hebdomadaire | AH5: IPC 32 Cl1 fertilisation, bassinage,sous-solage | AI5: Mensuel
A6: Avril | B6: 4 | D6: 2026 | G6: CERISIER Dorian | H6: CDI | O6: CartesIPCEV | P6: CartesIPCEV | Q6: CartesIPCEV | R6: CartesIPCEV | S6: CartesIPCEV | AC6: Poney Club/Ferme du poitou | AE6: IPC PA3082 Beach-volley | AF6: Hebdomadaire | AH6: IPC 60 Cl2 fertilisation, bassinage, sous-solage | AI6: Mensuel
A7: Mai | B7: 5 | D7: 2027 | G7: HUAULT Philippe | H7: CDI | AC7: Action Factory/ Place du marché | AE7: IPC 00 Cl0 Pont de singe | AF7: Bi-mensuel
A8: Juin | B8: 6 | D8: 2028 | G8: KEUVAHANA Sylvano | H8: CDD | AC8: Jeux de la ferme | AE8: IPC PA2427 Cl2 Lutte contre les nuisibles | AF8: Hebdomadaire
A9: Juillet | B9: 7 | D9: 2029 | G9: LUCIANI Nathan | H9: CDI | K9: EspacesVerts | L9: PlantesTropicales | M9: BioDiversité | AC9: FunShop/ Ponton nautique | AE9: IPC 00 CL0 Plateforme Tri sélectifs | AF9: Bi-mensuel
A10: Août | B10: 8 | D10: 2030 | G10: MESCHAIN Mathéo | H10: APP | K10: BELLAMY_Pascal | L10: BLANCHARD_Noémie | M10: CERISIER_Dorian | AC10: Cycle center | AE10: IPC PA2277 emplacements à conteneurs poubelles | AF10: Hebdomadaire
A11: Septembre | B11: 9 | D11: 2031 | G11: MORISSET Clément | H11: CDD | K11: BUSSEREAU_Eric | L11: HUAULT_Philippe | M11: LUCIANI_Nathan | AC11: Minigolf | AE11: IPC 00 Cl1 contrôle réglementaire véhicules | AF11: Mensuel
A12: Octobre | B12: 10 | D12: 2032 | G12: PIMOT Kylian | H12: APP | K12: KEUVAHANA_Sylvano | L12: POUZET_Cyril | M12: MESCHAIN_Mathéo | AC12: Elasto-trampoline/ Tir à l'arc | AE12: IPC OG2212 Cl2 Entretien léger motoculture | AF12: Hebdomadaire
A13: Novembre | B13: 11 | D13: 2033 | G13: POUZET Cyril | H13: CDI | K13: MORISSET_Clément | M13: PIMOT_Kylian | AC13: Parcours de l'aventure /Paintball | AE13: Contrôle IPC Toits CVI, Animalier, Maintenance
A14: Décembre | B14: 12 | D14: 2034 | G14: SIMONYAN Gevorg | H14: CDI | K14: SIMONYAN_Gevorg | AC14: Tennis / Cochon Affamé | AE14: Contrôle IPC états Phytosanitaire forestiers
D15: 2035 | AC15: Parking visiteur/ aire de pique nique | AE15: IPC PA2433 Cl2 détrituts zones boisées reculées | AF15: Mensuel
D16: 2036 | AC16: Beach volley/ Bord de Lac | AE16: IPC PA2432 Cl2 détritus épars Hameauxx | AF16: Hebdomadaire
D17: 2037 | AC17: Parcours Ouistiti / Grand Parcours | AE17: Contrôle IPC déchets épars arrieres cottages
D18: 2038 | AC18: Parcours découverte / Parcours sensoriel | AE18: IPC PA3013 Mobilier urbain sécurité fouet de feu, verglas. Entretien, réparation | AF18: Mensuel
D19: 2039 | AC19: Cœur animalier/ Volière/ Théatre du bois | AE19: IPC PA3102 Propretées des sentiers et terrasses Klinker | AF19: Hebdomadaire
D20: 2040 | AC20: L'écureuil / Les Lapins | AE20: IPC 00 Cl0 Contrôle des véhicules | AF20: Mensuel
O21: RD | AC21: L'ile aux oiseaux/ MDLA | AE21: IPC 00 Cl0 Camion benne état | AF21: Mensuel
O22: LEPINOY Olivier | P22: CDI | AC22: Le Cube/ Les troncs volants /parcours santé
O23: RS | AC23: L'ile aux cigogne / les Pélicans
O24: GRETEAU Stanislas | P24: CDI | AC24: abords talus/ trou d'eau
AC25: Reserve 1
AC26: Reserve 2
AC27: Reserve 3
AC28: Reserve 4
AC29: Reserve 5
AC30: Entrée Poste De Garde
AC31: Canisite A,B,C,D,E,F&G
AC32: cloture daims
AC33: Elagage / Abbatage
AC34: Pré-parc A
AC35: Pré-parc B
AC36: Pré-parc C
AC37: Pré-parc D
AB38: TravauxMobiliersEV | AC38: Parkings Voiturette Pélican
AC39: Parkings Voiturette Séminaire
AC40: Parkings Vélo Dôme
AC41: Parkings vélo Séminaire
...
