Workbook

Sheet pomme
A1: date | B1: produit | C1: ref client | D1: quantitée | F1: action | G1: lieu d'entree | H1: lieu de sortie | I1: total sur tout les locaux | J1: total local 1 | K1: total local 2 | L1: total local 3 | M1: total local 4 | N1: total local 5
B2: pomme | D2: 5000 | F2: ENTREE | G2: local 1 | I2: =D2 -> 5000 | J2: =IF($G2="local 1",$D2,IF($H2="local 1",$D2*-1,"")) -> 5000 | K2: =IF($G2="local 2",$D2,IF($H2="local 2",$D2*-1,"")) | L2: =IF($G2="local 3",$D2,IF($H2="local 3",$D2*-1,"")) | M2: =IF($G2="local 4",$D2,IF($H2="local 4",$D2*-1,"")) | N2: =IF($G2="local 5",$D2,IF($H2="local 5",$D2*-1,""))
B3: pomme | D3: 1000 | F3: ENTREE | G3: local 2 | I3: =IF(F3="ENTREE",I2+D3,IF(F3="SORTIE",I2-D3,IF(F3="TRANSFERT",I2,""))) -> 6000 | J3: =IF($G3="local 1",$D3,IF($H3="local 1",$D3*-1,"")) | K3: =IF($G3="local 2",$D3,IF($H3="local 2",$D3*-1,"")) -> 1000 | L3: =IF($G3="local 3",$D3,IF($H3="local 3",$D3*-1,"")) | M3: =IF($G3="local 4",$D3,IF($H3="local 4",$D3*-1,"")) | N3: =IF($G3="local 5",$D3,IF($H3="local 5",$D3*-1,""))
B4: pomme | D4: 2000 | F4: ENTREE | G4: local 3 | I4: =IF(F4="ENTREE",I3+D4,IF(F4="SORTIE",I3-D4,IF(F4="TRANSFERT",I3,""))) -> 8000 | J4: =IF($G4="local 1",$D4,IF($H4="local 1",$D4*-1,"")) | K4: =IF($G4="local 2",$D4,IF($H4="local 2",$D4*-1,"")) | L4: =IF($G4="local 3",$D4,IF($H4="local 3",$D4*-1,"")) -> 2000 | M4: =IF($G4="local 4",$D4,IF($H4="local 4",$D4*-1,"")) | N4: =IF($G4="local 5",$D4,IF($H4="local 5",$D4*-1,""))
B5: pomme | D5: 3000 | F5: ENTREE | G5: local 4 | I5: =IF(F5="ENTREE",I4+D5,IF(F5="SORTIE",I4-D5,IF(F5="TRANSFERT",I4,""))) -> 11000 | J5: =IF($G5="local 1",$D5,IF($H5="local 1",$D5*-1,"")) | K5: =IF($G5="local 2",$D5,IF($H5="local 2",$D5*-1,"")) | L5: =IF($G5="local 3",$D5,IF($H5="local 3",$D5*-1,"")) | M5: =IF($G5="local 4",$D5,IF($H5="local 4",$D5*-1,"")) -> 3000 | N5: =IF($G5="local 5",$D5,IF($H5="local 5",$D5*-1,""))
B6: pomme | D6: 4000 | F6: ENTREE | G6: local 5 | I6: =IF(F6="ENTREE",I5+D6,IF(F6="SORTIE",I5-D6,IF(F6="TRANSFERT",I5,""))) -> 15000 | J6: =IF($G6="local 1",$D6,IF($H6="local 1",$D6*-1,"")) | K6: =IF($G6="local 2",$D6,IF($H6="local 2",$D6*-1,"")) | L6: =IF($G6="local 3",$D6,IF($H6="local 3",$D6*-1,"")) | M6: =IF($G6="local 4",$D6,IF($H6="local 4",$D6*-1,"")) | N6: =IF($G6="local 5",$D6,IF($H6="local 5",$D6*-1,"")) -> 4000
A7: 45051 | B7: pomme | C7: durant | D7: 300 | F7: SORTIE | H7: local 1 | I7: =IF(F7="ENTREE",I6+D7,IF(F7="SORTIE",I6-D7,IF(F7="TRANSFERT",I6,""))) -> 14700 | J7: =IF($G7="local 1",$D7,IF($H7="local 1",$D7*-1,"")) -> -300 | K7: =IF($G7="local 2",$D7,IF($H7="local 2",$D7*-1,"")) | L7: =IF($G7="local 3",$D7,IF($H7="local 3",$D7*-1,"")) | M7: =IF($G7="local 4",$D7,IF($H7="local 4",$D7*-1,"")) | N7: =IF($G7="local 5",$D7,IF($H7="local 5",$D7*-1,""))
A8: 45054 | B8: pomme | D8: 500 | F8: TRANSFERT | G8: local 1 | H8: local 2 | I8: =IF(F8="ENTREE",I7+D8,IF(F8="SORTIE",I7-D8,IF(F8="TRANSFERT",I7,""))) -> 14700 | J8: =IF($G8="local 1",$D8,IF($H8="local 1",$D8*-1,"")) -> 500 | K8: =IF($G8="local 2",$D8,IF($H8="local 2",$D8*-1,"")) -> -500 | L8: =IF($G8="local 3",$D8,IF($H8="local 3",$D8*-1,"")) | M8: =IF($G8="local 4",$D8,IF($H8="local 4",$D8*-1,"")) | N8: =IF($G8="local 5",$D8,IF($H8="local 5",$D8*-1,""))
A9: 45056 | B9: pomme | D9: 1000 | F9: TRANSFERT | G9: local 3 | H9: local 4 | I9: =IF(F9="ENTREE",I8+D9,IF(F9="SORTIE",I8-D9,IF(F9="TRANSFERT",I8,""))) -> 14700 | J9: =IF($G9="local 1",$D9,IF($H9="local 1",$D9*-1,"")) | K9: =IF($G9="local 2",$D9,IF($H9="local 2",$D9*-1,"")) | L9: =IF($G9="local 3",$D9,IF($H9="local 3",$D9*-1,"")) -> 1000 | M9: =IF($G9="local 4",$D9,IF($H9="local 4",$D9*-1,"")) -> -1000 | N9: =IF($G9="local 5",$D9,IF($H9="local 5",$D9*-1,""))
A10: sortie | B10: pomme | D10: 1000 | F10: SORTIE | H10: local 1 | I10: =IF(F10="ENTREE",I9+D10,IF(F10="SORTIE",I9-D10,IF(F10="TRANSFERT",I9,""))) -> 13700 | J10: =IF($G10="local 1",$D10,IF($H10="local 1",$D10*-1,"")) -> -1000 | K10: =IF($G10="local 2",$D10,IF($H10="local 2",$D10*-1,"")) | L10: =IF($G10="local 3",$D10,IF($H10="local 3",$D10*-1,"")) | M10: =IF($G10="local 4",$D10,IF($H10="local 4",$D10*-1,"")) | N10: =IF($G10="local 5",$D10,IF($H10="local 5",$D10*-1,""))
I11: =IF(F11="ENTREE",I10+D11,IF(F11="SORTIE",I10-D11,IF(F11="TRANSFERT",I10,"")))
I12: =IF(F12="ENTREE",I11+D12,IF(F12="SORTIE",I11-D12,IF(F12="TRANSFERT",I11,"")))
I13: =IF(F13="ENTREE",I12+D13,IF(F13="SORTIE",I12-D13,IF(F13="TRANSFERT",I12,"")))
I14: =IF(F14="ENTREE",I13+D14,IF(F14="SORTIE",I13-D14,IF(F14="TRANSFERT",I13,"")))
I15: =IF(F15="ENTREE",I14+D15,IF(F15="SORTIE",I14-D15,IF(F15="TRANSFERT",I14,"")))
I18: =IF(F18="ENTREE",I17+D18,IF(F18="SORTIE",I17-D18,IF(F18="TRANSFERT",I17,"")))
I19: =IF(F19="ENTREE",I18+D19,IF(F19="SORTIE",I18-D19,IF(F19="TRANSFERT",I18,"")))
I20: =IF(F20="ENTREE",I19+D20,IF(F20="SORTIE",I19-D20,IF(F20="TRANSFERT",I19,"")))
I21: =IF(F21="ENTREE",I20+D21,IF(F21="SORTIE",I20-D21,IF(F21="TRANSFERT",I20,"")))
I22: =IF(F22="ENTREE",I21+D22,IF(F22="SORTIE",I21-D22,IF(F22="TRANSFERT",I21,"")))
I23: =IF(F23="ENTREE",I22+D23,IF(F23="SORTIE",I22-D23,IF(F23="TRANSFERT",I22,"")))
I24: =IF(F24="ENTREE",I23+D24,IF(F24="SORTIE",I23-D24,IF(F24="TRANSFERT",I23,"")))
... I68: =IF(F68="ENTREE",I67+D68,IF(F68="SORTIE",I67-D68,IF(F68="TRANSFERT",I67,"")))

Sheet poire
A1: date | B1: produit | C1: ref client | D1: quantitée | F1: action | G1: lieu d'entree | H1: lieu de sortie | I1: total | J1: total local 1 | K1: total local 2 | L1: total local 3 | M1: total local 4 | N1: total local 5
B2: poire | D2: 5000 | F2: ENTREE | G2: local 1 | I2: =D2 -> 5000 | J2: =IF($G2="local 1",$D2,IF($H2="local 1",$D2*-1,"")) -> 5000 | K2: =IF($G2="local 2",$D2,IF($H2="local 2",$D2*-1,"")) | L2: =IF($G2="local 3",$D2,IF($H2="local 3",$D2*-1,"")) | M2: =IF($G2="local 4",$D2,IF($H2="local 4",$D2*-1,"")) | N2: =IF($G2="local 5",$D2,IF($H2="local 5",$D2*-1,""))
B3: poire | D3: 1000 | F3: ENTREE | G3: local 2 | I3: =IF(F3="ENTREE",I2+D3,IF(F3="SORTIE",I2-D3,IF(F3="TRANSFERT",I2,""))) -> 6000 | J3: =IF($G3="local 1",$D3,IF($H3="local 1",$D3*-1,"")) | K3: =IF($G3="local 2",$D3,IF($H3="local 2",$D3*-1,"")) -> 1000 | L3: =IF($G3="local 3",$D3,IF($H3="local 3",$D3*-1,"")) | M3: =IF($G3="local 4",$D3,IF($H3="local 4",$D3*-1,"")) | N3: =IF($G3="local 5",$D3,IF($H3="local 5",$D3*-1,""))
B4: poire | D4: 2000 | F4: ENTREE | G4: local 3 | I4: =IF(F4="ENTREE",I3+D4,IF(F4="SORTIE",I3-D4,IF(F4="TRANSFERT",I3,""))) -> 8000 | J4: =IF($G4="local 1",$D4,IF($H4="local 1",$D4*-1,"")) | K4: =IF($G4="local 2",$D4,IF($H4="local 2",$D4*-1,"")) | L4: =IF($G4="local 3",$D4,IF($H4="local 3",$D4*-1,"")) -> 2000 | M4: =IF($G4="local 4",$D4,IF($H4="local 4",$D4*-1,"")) | N4: =IF($G4="local 5",$D4,IF($H4="local 5",$D4*-1,""))
B5: poire | D5: 3000 | F5: ENTREE | G5: local 4 | I5: =IF(F5="ENTREE",I4+D5,IF(F5="SORTIE",I4-D5,IF(F5="TRANSFERT",I4,""))) -> 11000 | J5: =IF($G5="local 1",$D5,IF($H5="local 1",$D5*-1,"")) | K5: =IF($G5="local 2",$D5,IF($H5="local 2",$D5*-1,"")) | L5: =IF($G5="local 3",$D5,IF($H5="local 3",$D5*-1,"")) | M5: =IF($G5="local 4",$D5,IF($H5="local 4",$D5*-1,"")) -> 3000 | N5: =IF($G5="local 5",$D5,IF($H5="local 5",$D5*-1,""))
B6: poire | D6: 4000 | F6: ENTREE | G6: local 5 | I6: =IF(F6="ENTREE",I5+D6,IF(F6="SORTIE",I5-D6,IF(F6="TRANSFERT",I5,""))) -> 15000 | J6: =IF($G6="local 1",$D6,IF($H6="local 1",$D6*-1,"")) | K6: =IF($G6="local 2",$D6,IF($H6="local 2",$D6*-1,"")) | L6: =IF($G6="local 3",$D6,IF($H6="local 3",$D6*-1,"")) | M6: =IF($G6="local 4",$D6,IF($H6="local 4",$D6*-1,"")) | N6: =IF($G6="local 5",$D6,IF($H6="local 5",$D6*-1,"")) -> 4000
I7: =IF(F7="ENTREE",I6+D7,IF(F7="SORTIE",I6-D7,IF(F7="TRANSFERT",I6,""))) | J7: =IF($G7="local 1",$D7,IF($H7="local 1",$D7*-1,"")) | K7: =IF($G7="local 2",$D7,IF($H7="local 2",$D7*-1,"")) | L7: =IF($G7="local 3",$D7,IF($H7="local 3",$D7*-1,"")) | M7: =IF($G7="local 4",$D7,IF($H7="local 4",$D7*-1,"")) | N7: =IF($G7="local 5",$D7,IF($H7="local 5",$D7*-1,""))
I8: =IF(F8="ENTREE",I7+D8,IF(F8="SORTIE",I7-D8,IF(F8="TRANSFERT",I7,""))) | J8: =IF($G8="local 1",$D8,IF($H8="local 1",$D8*-1,"")) | K8: =IF($G8="local 2",$D8,IF($H8="local 2",$D8*-1,"")) | L8: =IF($G8="local 3",$D8,IF($H8="local 3",$D8*-1,"")) | M8: =IF($G8="local 4",$D8,IF($H8="local 4",$D8*-1,"")) | N8: =IF($G8="local 5",$D8,IF($H8="local 5",$D8*-1,""))
I9: =IF(F9="ENTREE",I8+D9,IF(F9="SORTIE",I8-D9,IF(F9="TRANSFERT",I8,""))) | J9: =IF($G9="local 1",$D9,IF($H9="local 1",$D9*-1,"")) | K9: =IF($G9="local 2",$D9,IF($H9="local 2",$D9*-1,"")) | L9: =IF($G9="local 3",$D9,IF($H9="local 3",$D9*-1,"")) | M9: =IF($G9="local 4",$D9,IF($H9="local 4",$D9*-1,"")) | N9: =IF($G9="local 5",$D9,IF($H9="local 5",$D9*-1,""))
I10: =IF(F10="ENTREE",I9+D10,IF(F10="SORTIE",I9-D10,IF(F10="TRANSFERT",I9,""))) | J10: =IF($G10="local 1",$D10,IF($H10="local 1",$D10*-1,"")) | K10: =IF($G10="local 2",$D10,IF($H10="local 2",$D10*-1,"")) | L10: =IF($G10="local 3",$D10,IF($H10="local 3",$D10*-1,"")) | M10: =IF($G10="local 4",$D10,IF($H10="local 4",$D10*-1,"")) | N10: =IF($G10="local 5",$D10,IF($H10="local 5",$D10*-1,""))
I11: =IF(F11="ENTREE",I10+D11,IF(F11="SORTIE",I10-D11,IF(F11="TRANSFERT",I10,"")))
I12: =IF(F12="ENTREE",I11+D12,IF(F12="SORTIE",I11-D12,IF(F12="TRANSFERT",I11,"")))
I13: =IF(F13="ENTREE",I12+D13,IF(F13="SORTIE",I12-D13,IF(F13="TRANSFERT",I12,"")))
I14: =IF(F14="ENTREE",I13+D14,IF(F14="SORTIE",I13-D14,IF(F14="TRANSFERT",I13,"")))
I15: =IF(F15="ENTREE",I14+D15,IF(F15="SORTIE",I14-D15,IF(F15="TRANSFERT",I14,"")))
I16: =IF(F16="ENTREE",I15+D16,IF(F16="SORTIE",I15-D16,IF(F16="TRANSFERT",I15,"")))
I17: =IF(F17="ENTREE",I16+D17,IF(F17="SORTIE",I16-D17,IF(F17="TRANSFERT",I16,"")))
I18: =IF(F18="ENTREE",I17+D18,IF(F18="SORTIE",I17-D18,IF(F18="TRANSFERT",I17,"")))
I19: =IF(F19="ENTREE",I18+D19,IF(F19="SORTIE",I18-D19,IF(F19="TRANSFERT",I18,"")))
I20: =IF(F20="ENTREE",I19+D20,IF(F20="SORTIE",I19-D20,IF(F20="TRANSFERT",I19,"")))
I21: =IF(F21="ENTREE",I20+D21,IF(F21="SORTIE",I20-D21,IF(F21="TRANSFERT",I20,"")))
I22: =IF(F22="ENTREE",I21+D22,IF(F22="SORTIE",I21-D22,IF(F22="TRANSFERT",I21,"")))
... I68: =IF(F68="ENTREE",I67+D68,IF(F68="SORTIE",I67-D68,IF(F68="TRANSFERT",I67,"")))

Sheet cerise
A1: date | B1: produit | C1: ref client | D1: quantitée | F1: action | G1: lieu d'entree | H1: lieu de sortie | I1: total | J1: total local 1 | K1: total local 2 | L1: total local 3 | M1: total local 4 | N1: total local 5
B2: cerise | D2: 5000 | F2: ENTREE | G2: local 1 | I2: =D2 -> 5000 | J2: =IF($G2="local 1",$D2,IF($H2="local 1",$D2*-1,"")) -> 5000 | K2: =IF($G2="local 2",$D2,IF($H2="local 2",$D2*-1,"")) | L2: =IF($G2="local 3",$D2,IF($H2="local 3",$D2*-1,"")) | M2: =IF($G2="local 4",$D2,IF($H2="local 4",$D2*-1,"")) | N2: =IF($G2="local 5",$D2,IF($H2="local 5",$D2*-1,""))
B3: cerise | D3: 1000 | F3: ENTREE | G3: local 2 | I3: =IF(F3="ENTREE",I2+D3,IF(F3="SORTIE",I2-D3,IF(F3="TRANSFERT",I2,""))) -> 6000 | J3: =IF($G3="local 1",$D3,IF($H3="local 1",$D3*-1,"")) | K3: =IF($G3="local 2",$D3,IF($H3="local 2",$D3*-1,"")) -> 1000 | L3: =IF($G3="local 3",$D3,IF($H3="local 3",$D3*-1,"")) | M3: =IF($G3="local 4",$D3,IF($H3="local 4",$D3*-1,"")) | N3: =IF($G3="local 5",$D3,IF($H3="local 5",$D3*-1,""))
B4: cerise | D4: 2000 | F4: ENTREE | G4: local 3 | I4: =IF(F4="ENTREE",I3+D4,IF(F4="SORTIE",I3-D4,IF(F4="TRANSFERT",I3,""))) -> 8000 | J4: =IF($G4="local 1",$D4,IF($H4="local 1",$D4*-1,"")) | K4: =IF($G4="local 2",$D4,IF($H4="local 2",$D4*-1,"")) | L4: =IF($G4="local 3",$D4,IF($H4="local 3",$D4*-1,"")) -> 2000 | M4: =IF($G4="local 4",$D4,IF($H4="local 4",$D4*-1,"")) | N4: =IF($G4="local 5",$D4,IF($H4="local 5",$D4*-1,""))
B5: cerise | D5: 3000 | F5: ENTREE | G5: local 4 | I5: =IF(F5="ENTREE",I4+D5,IF(F5="SORTIE",I4-D5,IF(F5="TRANSFERT",I4,""))) -> 11000 | J5: =IF($G5="local 1",$D5,IF($H5="local 1",$D5*-1,"")) | K5: =IF($G5="local 2",$D5,IF($H5="local 2",$D5*-1,"")) | L5: =IF($G5="local 3",$D5,IF($H5="local 3",$D5*-1,"")) | M5: =IF($G5="local 4",$D5,IF($H5="local 4",$D5*-1,"")) -> 3000 | N5: =IF($G5="local 5",$D5,IF($H5="local 5",$D5*-1,""))
B6: cerise | D6: 4000 | F6: ENTREE | G6: local 5 | I6: =IF(F6="ENTREE",I5+D6,IF(F6="SORTIE",I5-D6,IF(F6="TRANSFERT",I5,""))) -> 15000 | J6: =IF($G6="local 1",$D6,IF($H6="local 1",$D6*-1,"")) | K6: =IF($G6="local 2",$D6,IF($H6="local 2",$D6*-1,"")) | L6: =IF($G6="local 3",$D6,IF($H6="local 3",$D6*-1,"")) | M6: =IF($G6="local 4",$D6,IF($H6="local 4",$D6*-1,"")) | N6: =IF($G6="local 5",$D6,IF($H6="local 5",$D6*-1,"")) -> 4000
I7: =IF(F7="ENTREE",I6+D7,IF(F7="SORTIE",I6-D7,IF(F7="TRANSFERT",I6,""))) | J7: =IF($G7="local 1",$D7,IF($H7="local 1",$D7*-1,"")) | K7: =IF($G7="local 2",$D7,IF($H7="local 2",$D7*-1,"")) | L7: =IF($G7="local 3",$D7,IF($H7="local 3",$D7*-1,"")) | M7: =IF($G7="local 4",$D7,IF($H7="local 4",$D7*-1,"")) | N7: =IF($G7="local 5",$D7,IF($H7="local 5",$D7*-1,""))
I8: =IF(F8="ENTREE",I7+D8,IF(F8="SORTIE",I7-D8,IF(F8="TRANSFERT",I7,""))) | J8: =IF($G8="local 1",$D8,IF($H8="local 1",$D8*-1,"")) | K8: =IF($G8="local 2",$D8,IF($H8="local 2",$D8*-1,"")) | L8: =IF($G8="local 3",$D8,IF($H8="local 3",$D8*-1,"")) | M8: =IF($G8="local 4",$D8,IF($H8="local 4",$D8*-1,"")) | N8: =IF($G8="local 5",$D8,IF($H8="local 5",$D8*-1,""))
I9: =IF(F9="ENTREE",I8+D9,IF(F9="SORTIE",I8-D9,IF(F9="TRANSFERT",I8,""))) | J9: =IF($G9="local 1",$D9,IF($H9="local 1",$D9*-1,"")) | K9: =IF($G9="local 2",$D9,IF($H9="local 2",$D9*-1,"")) | L9: =IF($G9="local 3",$D9,IF($H9="local 3",$D9*-1,"")) | M9: =IF($G9="local 4",$D9,IF($H9="local 4",$D9*-1,"")) | N9: =IF($G9="local 5",$D9,IF($H9="local 5",$D9*-1,""))
I10: =IF(F10="ENTREE",I9+D10,IF(F10="SORTIE",I9-D10,IF(F10="TRANSFERT",I9,""))) | J10: =IF($G10="local 1",$D10,IF($H10="local 1",$D10*-1,"")) | K10: =IF($G10="local 2",$D10,IF($H10="local 2",$D10*-1,"")) | L10: =IF($G10="local 3",$D10,IF($H10="local 3",$D10*-1,"")) | M10: =IF($G10="local 4",$D10,IF($H10="local 4",$D10*-1,"")) | N10: =IF($G10="local 5",$D10,IF($H10="local 5",$D10*-1,""))
I11: =IF(F11="ENTREE",I10+D11,IF(F11="SORTIE",I10-D11,IF(F11="TRANSFERT",I10,"")))
I12: =IF(F12="ENTREE",I11+D12,IF(F12="SORTIE",I11-D12,IF(F12="TRANSFERT",I11,"")))
I13: =IF(F13="ENTREE",I12+D13,IF(F13="SORTIE",I12-D13,IF(F13="TRANSFERT",I12,"")))
I14: =IF(F14="ENTREE",I13+D14,IF(F14="SORTIE",I13-D14,IF(F14="TRANSFERT",I13,"")))
I15: =IF(F15="ENTREE",I14+D15,IF(F15="SORTIE",I14-D15,IF(F15="TRANSFERT",I14,"")))
I16: =IF(F16="ENTREE",I15+D16,IF(F16="SORTIE",I15-D16,IF(F16="TRANSFERT",I15,"")))
I17: =IF(F17="ENTREE",I16+D17,IF(F17="SORTIE",I16-D17,IF(F17="TRANSFERT",I16,"")))
I18: =IF(F18="ENTREE",I17+D18,IF(F18="SORTIE",I17-D18,IF(F18="TRANSFERT",I17,"")))
I19: =IF(F19="ENTREE",I18+D19,IF(F19="SORTIE",I18-D19,IF(F19="TRANSFERT",I18,"")))
I20: =IF(F20="ENTREE",I19+D20,IF(F20="SORTIE",I19-D20,IF(F20="TRANSFERT",I19,"")))
I21: =IF(F21="ENTREE",I20+D21,IF(F21="SORTIE",I20-D21,IF(F21="TRANSFERT",I20,"")))
I22: =IF(F22="ENTREE",I21+D22,IF(F22="SORTIE",I21-D22,IF(F22="TRANSFERT",I21,"")))
... I68: =IF(F68="ENTREE",I67+D68,IF(F68="SORTIE",I67-D68,IF(F68="TRANSFERT",I67,"")))

Sheet gateau
A1: date | B1: produit | C1: ref client | D1: quantitée | F1: action | G1: lieu d'entree | H1: lieu de sortie | I1: total | J1: total local 1 | K1: total local 2 | L1: total local 3 | M1: total local 4 | N1: total local 5
B2: gateau | D2: 5000 | F2: ENTREE | G2: local 1 | I2: =D2 -> 5000 | J2: =IF($G2="local 1",$D2,IF($H2="local 1",$D2*-1,"")) -> 5000 | K2: =IF($G2="local 2",$D2,IF($H2="local 2",$D2*-1,"")) | L2: =IF($G2="local 3",$D2,IF($H2="local 3",$D2*-1,"")) | M2: =IF($G2="local 4",$D2,IF($H2="local 4",$D2*-1,"")) | N2: =IF($G2="local 5",$D2,IF($H2="local 5",$D2*-1,""))
B3: gateau | D3: 1000 | F3: ENTREE | G3: local 2 | I3: =IF(F3="ENTREE",I2+D3,IF(F3="SORTIE",I2-D3,IF(F3="TRANSFERT",I2,""))) -> 6000 | J3: =IF($G3="local 1",$D3,IF($H3="local 1",$D3*-1,"")) | K3: =IF($G3="local 2",$D3,IF($H3="local 2",$D3*-1,"")) -> 1000 | L3: =IF($G3="local 3",$D3,IF($H3="local 3",$D3*-1,"")) | M3: =IF($G3="local 4",$D3,IF($H3="local 4",$D3*-1,"")) | N3: =IF($G3="local 5",$D3,IF($H3="local 5",$D3*-1,""))
B4: gateau | D4: 2000 | F4: ENTREE | G4: local 3 | I4: =IF(F4="ENTREE",I3+D4,IF(F4="SORTIE",I3-D4,IF(F4="TRANSFERT",I3,""))) -> 8000 | J4: =IF($G4="local 1",$D4,IF($H4="local 1",$D4*-1,"")) | K4: =IF($G4="local 2",$D4,IF($H4="local 2",$D4*-1,"")) | L4: =IF($G4="local 3",$D4,IF($H4="local 3",$D4*-1,"")) -> 2000 | M4: =IF($G4="local 4",$D4,IF($H4="local 4",$D4*-1,"")) | N4: =IF($G4="local 5",$D4,IF($H4="local 5",$D4*-1,""))
B5: gateau | D5: 3000 | F5: ENTREE | G5: local 4 | I5: =IF(F5="ENTREE",I4+D5,IF(F5="SORTIE",I4-D5,IF(F5="TRANSFERT",I4,""))) -> 11000 | J5: =IF($G5="local 1",$D5,IF($H5="local 1",$D5*-1,"")) | K5: =IF($G5="local 2",$D5,IF($H5="local 2",$D5*-1,"")) | L5: =IF($G5="local 3",$D5,IF($H5="local 3",$D5*-1,"")) | M5: =IF($G5="local 4",$D5,IF($H5="local 4",$D5*-1,"")) -> 3000 | N5: =IF($G5="local 5",$D5,IF($H5="local 5",$D5*-1,""))
B6: gateau | D6: 4000 | F6: ENTREE | G6: local 5 | I6: =IF(F6="ENTREE",I5+D6,IF(F6="SORTIE",I5-D6,IF(F6="TRANSFERT",I5,""))) -> 15000 | J6: =IF($G6="local 1",$D6,IF($H6="local 1",$D6*-1,"")) | K6: =IF($G6="local 2",$D6,IF($H6="local 2",$D6*-1,"")) | L6: =IF($G6="local 3",$D6,IF($H6="local 3",$D6*-1,"")) | M6: =IF($G6="local 4",$D6,IF($H6="local 4",$D6*-1,"")) | N6: =IF($G6="local 5",$D6,IF($H6="local 5",$D6*-1,"")) -> 4000
I7: =IF(F7="ENTREE",I6+D7,IF(F7="SORTIE",I6-D7,IF(F7="TRANSFERT",I6,""))) | J7: =IF($G7="local 1",$D7,IF($H7="local 1",$D7*-1,"")) | K7: =IF($G7="local 2",$D7,IF($H7="local 2",$D7*-1,"")) | L7: =IF($G7="local 3",$D7,IF($H7="local 3",$D7*-1,"")) | M7: =IF($G7="local 4",$D7,IF($H7="local 4",$D7*-1,"")) | N7: =IF($G7="local 5",$D7,IF($H7="local 5",$D7*-1,""))
I8: =IF(F8="ENTREE",I7+D8,IF(F8="SORTIE",I7-D8,IF(F8="TRANSFERT",I7,""))) | J8: =IF($G8="local 1",$D8,IF($H8="local 1",$D8*-1,"")) | K8: =IF($G8="local 2",$D8,IF($H8="local 2",$D8*-1,"")) | L8: =IF($G8="local 3",$D8,IF($H8="local 3",$D8*-1,"")) | M8: =IF($G8="local 4",$D8,IF($H8="local 4",$D8*-1,"")) | N8: =IF($G8="local 5",$D8,IF($H8="local 5",$D8*-1,""))
I9: =IF(F9="ENTREE",I8+D9,IF(F9="SORTIE",I8-D9,IF(F9="TRANSFERT",I8,""))) | J9: =IF($G9="local 1",$D9,IF($H9="local 1",$D9*-1,"")) | K9: =IF($G9="local 2",$D9,IF($H9="local 2",$D9*-1,"")) | L9: =IF($G9="local 3",$D9,IF($H9="local 3",$D9*-1,"")) | M9: =IF($G9="local 4",$D9,IF($H9="local 4",$D9*-1,"")) | N9: =IF($G9="local 5",$D9,IF($H9="local 5",$D9*-1,""))
I10: =IF(F10="ENTREE",I9+D10,IF(F10="SORTIE",I9-D10,IF(F10="TRANSFERT",I9,""))) | J10: =IF($G10="local 1",$D10,IF($H10="local 1",$D10*-1,"")) | K10: =IF($G10="local 2",$D10,IF($H10="local 2",$D10*-1,"")) | L10: =IF($G10="local 3",$D10,IF($H10="local 3",$D10*-1,"")) | M10: =IF($G10="local 4",$D10,IF($H10="local 4",$D10*-1,"")) | N10: =IF($G10="local 5",$D10,IF($H10="local 5",$D10*-1,""))
I11: =IF(F11="ENTREE",I10+D11,IF(F11="SORTIE",I10-D11,IF(F11="TRANSFERT",I10,"")))
I12: =IF(F12="ENTREE",I11+D12,IF(F12="SORTIE",I11-D12,IF(F12="TRANSFERT",I11,"")))
I13: =IF(F13="ENTREE",I12+D13,IF(F13="SORTIE",I12-D13,IF(F13="TRANSFERT",I12,"")))
I14: =IF(F14="ENTREE",I13+D14,IF(F14="SORTIE",I13-D14,IF(F14="TRANSFERT",I13,"")))
I15: =IF(F15="ENTREE",I14+D15,IF(F15="SORTIE",I14-D15,IF(F15="TRANSFERT",I14,"")))
I16: =IF(F16="ENTREE",I15+D16,IF(F16="SORTIE",I15-D16,IF(F16="TRANSFERT",I15,"")))
I17: =IF(F17="ENTREE",I16+D17,IF(F17="SORTIE",I16-D17,IF(F17="TRANSFERT",I16,"")))
I18: =IF(F18="ENTREE",I17+D18,IF(F18="SORTIE",I17-D18,IF(F18="TRANSFERT",I17,"")))
I19: =IF(F19="ENTREE",I18+D19,IF(F19="SORTIE",I18-D19,IF(F19="TRANSFERT",I18,"")))
I20: =IF(F20="ENTREE",I19+D20,IF(F20="SORTIE",I19-D20,IF(F20="TRANSFERT",I19,"")))
I21: =IF(F21="ENTREE",I20+D21,IF(F21="SORTIE",I20-D21,IF(F21="TRANSFERT",I20,"")))
I22: =IF(F22="ENTREE",I21+D22,IF(F22="SORTIE",I21-D22,IF(F22="TRANSFERT",I21,"")))
... I68: =IF(F68="ENTREE",I67+D68,IF(F68="SORTIE",I67-D68,IF(F68="TRANSFERT",I67,"")))

Sheet art254
A1: date | B1: produit | C1: ref client | D1: quantitée | F1: action | G1: lieu d'entree | H1: lieu de sortie | I1: total | J1: total local 1 | K1: total local 2 | L1: total local 3 | M1: total local 4 | N1: total local 5
B2: art254 | D2: 5000 | F2: ENTREE | G2: local 1 | I2: =D2 -> 5000 | J2: =IF($G2="local 1",$D2,IF($H2="local 1",$D2*-1,"")) -> 5000 | K2: =IF($G2="local 2",$D2,IF($H2="local 2",$D2*-1,"")) | L2: =IF($G2="local 3",$D2,IF($H2="local 3",$D2*-1,"")) | M2: =IF($G2="local 4",$D2,IF($H2="local 4",$D2*-1,"")) | N2: =IF($G2="local 5",$D2,IF($H2="local 5",$D2*-1,""))
B3: art254 | D3: 1000 | F3: ENTREE | G3: local 2 | I3: =IF(F3="ENTREE",I2+D3,IF(F3="SORTIE",I2-D3,IF(F3="TRANSFERT",I2,""))) -> 6000 | J3: =IF($G3="local 1",$D3,IF($H3="local 1",$D3*-1,"")) | K3: =IF($G3="local 2",$D3,IF($H3="local 2",$D3*-1,"")) -> 1000 | L3: =IF($G3="local 3",$D3,IF($H3="local 3",$D3*-1,"")) | M3: =IF($G3="local 4",$D3,IF($H3="local 4",$D3*-1,"")) | N3: =IF($G3="local 5",$D3,IF($H3="local 5",$D3*-1,""))
B4: art254 | D4: 2000 | F4: ENTREE | G4: local 3 | I4: =IF(F4="ENTREE",I3+D4,IF(F4="SORTIE",I3-D4,IF(F4="TRANSFERT",I3,""))) -> 8000 | J4: =IF($G4="local 1",$D4,IF($H4="local 1",$D4*-1,"")) | K4: =IF($G4="local 2",$D4,IF($H4="local 2",$D4*-1,"")) | L4: =IF($G4="local 3",$D4,IF($H4="local 3",$D4*-1,"")) -> 2000 | M4: =IF($G4="local 4",$D4,IF($H4="local 4",$D4*-1,"")) | N4: =IF($G4="local 5",$D4,IF($H4="local 5",$D4*-1,""))
B5: art254 | D5: 3000 | F5: ENTREE | G5: local 4 | I5: =IF(F5="ENTREE",I4+D5,IF(F5="SORTIE",I4-D5,IF(F5="TRANSFERT",I4,""))) -> 11000 | J5: =IF($G5="local 1",$D5,IF($H5="local 1",$D5*-1,"")) | K5: =IF($G5="local 2",$D5,IF($H5="local 2",$D5*-1,"")) | L5: =IF($G5="local 3",$D5,IF($H5="local 3",$D5*-1,"")) | M5: =IF($G5="local 4",$D5,IF($H5="local 4",$D5*-1,"")) -> 3000 | N5: =IF($G5="local 5",$D5,IF($H5="local 5",$D5*-1,""))
B6: art254 | D6: 4000 | F6: ENTREE | G6: local 5 | I6: =IF(F6="ENTREE",I5+D6,IF(F6="SORTIE",I5-D6,IF(F6="TRANSFERT",I5,""))) -> 15000 | J6: =IF($G6="local 1",$D6,IF($H6="local 1",$D6*-1,"")) | K6: =IF($G6="local 2",$D6,IF($H6="local 2",$D6*-1,"")) | L6: =IF($G6="local 3",$D6,IF($H6="local 3",$D6*-1,"")) | M6: =IF($G6="local 4",$D6,IF($H6="local 4",$D6*-1,"")) | N6: =IF($G6="local 5",$D6,IF($H6="local 5",$D6*-1,"")) -> 4000
I7: =IF(F7="ENTREE",#REF!+D7,IF(F7="SORTIE",#REF!-D7,IF(F7="TRANSFERT",#REF!,""))) | J7: =IF($G7="local 1",$D7,IF($H7="local 1",$D7*-1,"")) | K7: =IF($G7="local 2",$D7,IF($H7="local 2",$D7*-1,"")) | L7: =IF($G7="local 3",$D7,IF($H7="local 3",$D7*-1,"")) | M7: =IF($G7="local 4",$D7,IF($H7="local 4",$D7*-1,"")) | N7: =IF($G7="local 5",$D7,IF($H7="local 5",$D7*-1,""))
I8: =IF(F8="ENTREE",I7+D8,IF(F8="SORTIE",I7-D8,IF(F8="TRANSFERT",I7,""))) | J8: =IF($G8="local 1",$D8,IF($H8="local 1",$D8*-1,"")) | K8: =IF($G8="local 2",$D8,IF($H8="local 2",$D8*-1,"")) | L8: =IF($G8="local 3",$D8,IF($H8="local 3",$D8*-1,"")) | M8: =IF($G8="local 4",$D8,IF($H8="local 4",$D8*-1,"")) | N8: =IF($G8="local 5",$D8,IF($H8="local 5",$D8*-1,""))
I9: =IF(F9="ENTREE",I8+D9,IF(F9="SORTIE",I8-D9,IF(F9="TRANSFERT",I8,""))) | J9: =IF($G9="local 1",$D9,IF($H9="local 1",$D9*-1,"")) | K9: =IF($G9="local 2",$D9,IF($H9="local 2",$D9*-1,"")) | L9: =IF($G9="local 3",$D9,IF($H9="local 3",$D9*-1,"")) | M9: =IF($G9="local 4",$D9,IF($H9="local 4",$D9*-1,"")) | N9: =IF($G9="local 5",$D9,IF($H9="local 5",$D9*-1,""))
I10: =IF(F10="ENTREE",I9+D10,IF(F10="SORTIE",I9-D10,IF(F10="TRANSFERT",I9,""))) | J10: =IF($G10="local 1",$D10,IF($H10="local 1",$D10*-1,"")) | K10: =IF($G10="local 2",$D10,IF($H10="local 2",$D10*-1,"")) | L10: =IF($G10="local 3",$D10,IF($H10="local 3",$D10*-1,"")) | M10: =IF($G10="local 4",$D10,IF($H10="local 4",$D10*-1,"")) | N10: =IF($G10="local 5",$D10,IF($H10="local 5",$D10*-1,""))
I11: =IF(F11="ENTREE",I10+D11,IF(F11="SORTIE",I10-D11,IF(F11="TRANSFERT",I10,"")))
I12: =IF(F12="ENTREE",I11+D12,IF(F12="SORTIE",I11-D12,IF(F12="TRANSFERT",I11,"")))
I13: =IF(F13="ENTREE",I12+D13,IF(F13="SORTIE",I12-D13,IF(F13="TRANSFERT",I12,"")))
I14: =IF(F14="ENTREE",I13+D14,IF(F14="SORTIE",I13-D14,IF(F14="TRANSFERT",I13,"")))
I15: =IF(F15="ENTREE",I14+D15,IF(F15="SORTIE",I14-D15,IF(F15="TRANSFERT",I14,"")))
I16: =IF(F16="ENTREE",I15+D16,IF(F16="SORTIE",I15-D16,IF(F16="TRANSFERT",I15,"")))
I17: =IF(F17="ENTREE",I16+D17,IF(F17="SORTIE",I16-D17,IF(F17="TRANSFERT",I16,"")))
I18: =IF(F18="ENTREE",I17+D18,IF(F18="SORTIE",I17-D18,IF(F18="TRANSFERT",I17,"")))
I19: =IF(F19="ENTREE",I18+D19,IF(F19="SORTIE",I18-D19,IF(F19="TRANSFERT",I18,"")))
I20: =IF(F20="ENTREE",I19+D20,IF(F20="SORTIE",I19-D20,IF(F20="TRANSFERT",I19,"")))
I21: =IF(F21="ENTREE",I20+D21,IF(F21="SORTIE",I20-D21,IF(F21="TRANSFERT",I20,"")))
I22: =IF(F22="ENTREE",I21+D22,IF(F22="SORTIE",I21-D22,IF(F22="TRANSFERT",I21,"")))
... I66: =IF(F66="ENTREE",I65+D66,IF(F66="SORTIE",I65-D66,IF(F66="TRANSFERT",I65,"")))

Sheet lieu stockage
B3: local 1 | G3: local 2 | L3: local 3 | Q3: local 4 | V3: local 5
C4: stock départ | D4: stock actuel | H4: stock départ | I4: stock actuel | M4: stock départ | N4: stock actuel | R4: stock départ | S4: stock actuel | W4: stock départ | X4: stock actuel
B5: pomme | C5: 5000 | D5: =SUM(pomme!J:J) -> 4200 | G5: pomme | H5: 1000 | I5: =SUM(pomme!K:K) -> 500 | L5: pomme | M5: 2000 | N5: =SUM(pomme!L:L) -> 3000 | Q5: pomme | R5: 3000 | S5: =SUM(pomme!M:M) -> 2000 | V5: pomme | W5: 4000 | X5: =SUM(pomme!N:N) -> 4000
B6: poire | C6: 5000 | D6: =SUM(cerise!J:J) -> 5000 | G6: poire | H6: 1000 | I6: =SUM(poire!K:K) -> 1000 | L6: poire | M6: 2000 | N6: =SUM(poire!L:L) -> 2000 | Q6: poire | R6: 3000 | S6: =SUM(poire!M:M) -> 3000 | V6: poire | W6: 4000 | X6: =SUM(poire!N:N) -> 4000
B7: cerise | C7: 5000 | D7: =SUM(pomme!J:J) -> 4200 | G7: cerise | H7: 1000 | I7: =SUM(cerise!K:K) -> 1000 | L7: cerise | M7: 2000 | N7: =SUM(cerise!L:L) -> 2000 | Q7: cerise | R7: 3000 | S7: =SUM(cerise!M:M) -> 3000 | V7: cerise | W7: 4000 | X7: =SUM(cerise!N:N) -> 4000
B8: gateau | C8: 5000 | D8: =SUM(gateau!J:J) -> 5000 | G8: gateau | H8: 1000 | I8: =SUM(gateau!K:K) -> 1000 | L8: gateau | M8: 2000 | N8: =SUM(gateau!L:L) -> 2000 | Q8: gateau | R8: 3000 | S8: =SUM(gateau!M:M) -> 3000 | V8: gateau | W8: 4000 | X8: =SUM(gateau!N:N) -> 4000
B9: art254 | C9: 5000 | D9: =SUM('art254'!J:J) -> 5000 | G9: art254 | H9: 1000 | I9: =SUM('art254'!K:K) -> 1000 | L9: art254 | M9: 2000 | N9: =SUM('art254'!L:L) -> 2000 | Q9: art254 | R9: 3000 | S9: =SUM('art254'!M:M) -> 3000 | V9: art254 | W9: 4000 | X9: =SUM('art254'!N:N) -> 4000
