Workbook
Name AnnéeCalendrier: Janvier!$AH$4
Name feries: 'Noms des employés'!$J$1:$J$13

Sheet Janvier
B1: Calendrier des gardes et absences des employés
B2: Légende | C2: C | D2: Congés | F2: G1 | G2: Gardes 1 | J2: G2 | K2: Gardes 2 | M2: FS | N2: Formations/Stages | R2: A | S2: Absences | X2: Férié | AB2: M | AC2: Maladie
AH3: Année :
B4: Janvier | C4: Dates | AH4: 2023 | AI4: G2
C5: =DATE(AnnéeCalendrier,2,1) -> 44958 | D5: =C5+1 -> 44959 | E5: =D5+1 -> 44960 | F5: =E5+1 -> 44961 | G5: =F5+1 -> 44962 | H5: =G5+1 -> 44963 | I5: =H5+1 -> 44964 | J5: =I5+1 -> 44965 | K5: =J5+1 -> 44966 | ... AG5: =AF5+1 -> 44988 | AH5: C | AI5: G1 | AJ5: FS | AK5: A | AL5: M
B6: Nom de l’employé | C6: 1 | D6: 2 | E6: 3 | F6: 4 | G6: 5 | H6: 6 | I6: 7 | J6: 8 | K6: 9 | L6: 10 | M6: 11 | N6: 12 | O6: 13 | P6: 14 | Q6: 15 | R6: 16 | S6: 17 | T6: 18 | U6: 19 | V6: 20 | W6: 21 | X6: 22 | Y6: 23 | Z6: 24 | AA6: 25 | AB6: 26 | AC6: 27 | AD6: 28 | AE6: 29 | AF6: 30 | AG6: 31 | AH6: Congés | AI6: Gardes | AJ6: Formations Stages | AK6: Absences | AL6: Maladie
B7: BONNEFOND Manon | AH7: =COUNTIF(Janvier[[#This Row],[1]:[31]],$AH$5) -> 0 | AI7: =COUNTIF(Janvier[[#This Row],[1]:[31]],$AI$4)+COUNTIF(Janvier[[#This Row],[1]:[31]],$AI$5) -> 0 | AJ7: =COUNTIF(Janvier[[#This Row],[1]:[31]],$AJ$5) -> 0 | AK7: =COUNTIF(Janvier[[#This Row],[1]:[31]],$AK$5) -> 0 | AL7: =COUNTIF(Janvier[[#This Row],[1]:[31]],$AL$5) -> 0
B8: CABANNES Emile | H8: G1 | I8: G1 | J8: G1 | AC8: G1 | AD8: G1 | AE8: G1 | AH8: =COUNTIF(Janvier[[#This Row],[1]:[31]],$AH$5) -> 0 | AI8: =COUNTIF(Janvier[[#This Row],[1]:[31]],$AI$4)+COUNTIF(Janvier[[#This Row],[1]:[31]],$AI$5) -> 6 | AJ8: =COUNTIF(Janvier[[#This Row],[1]:[31]],$AJ$5) -> 0 | AK8: =COUNTIF(Janvier[[#This Row],[1]:[31]],$AK$5) -> 0 | AL8: =COUNTIF(Janvier[[#This Row],[1]:[31]],$AL$5) -> 0
B9: CHAZEAUD Anita | AH9: =COUNTIF(Janvier[[#This Row],[1]:[31]],$AH$5) -> 0 | AI9: =COUNTIF(Janvier[[#This Row],[1]:[31]],$AI$4)+COUNTIF(Janvier[[#This Row],[1]:[31]],$AI$5) -> 0 | AJ9: =COUNTIF(Janvier[[#This Row],[1]:[31]],$AJ$5) -> 0 | AK9: =COUNTIF(Janvier[[#This Row],[1]:[31]],$AK$5) -> 0 | AL9: =COUNTIF(Janvier[[#This Row],[1]:[31]],$AL$5) -> 0
B10: CASTANG Jean-Claude | AH10: =COUNTIF(Janvier[[#This Row],[1]:[31]],$AH$5) -> 0 | AI10: =COUNTIF(Janvier[[#This Row],[1]:[31]],$AI$4)+COUNTIF(Janvier[[#This Row],[1]:[31]],$AI$5) -> 0 | AJ10: =COUNTIF(Janvier[[#This Row],[1]:[31]],$AJ$5) -> 0 | AK10: =COUNTIF(Janvier[[#This Row],[1]:[31]],$AK$5) -> 0 | AL10: =COUNTIF(Janvier[[#This Row],[1]:[31]],$AL$5) -> 0
B11: DA SILVA Marc | C11: G2 | R11: G1 | S11: G1 | T11: G1 | U11: G1 | V11: G1 | W11: G1 | X11: G1 | AH11: =COUNTIF(Janvier[[#This Row],[1]:[31]],$AH$5) -> 0 | AI11: =COUNTIF(Janvier[[#This Row],[1]:[31]],$AI$4)+COUNTIF(Janvier[[#This Row],[1]:[31]],$AI$5) -> 8 | AJ11: =COUNTIF(Janvier[[#This Row],[1]:[31]],$AJ$5) -> 0 | AK11: =COUNTIF(Janvier[[#This Row],[1]:[31]],$AK$5) -> 0 | AL11: =COUNTIF(Janvier[[#This Row],[1]:[31]],$AL$5) -> 0
B12: DERACO Philippe | O12: G1 | P12: G1 | Q12: G1 | AH12: =COUNTIF(Janvier[[#This Row],[1]:[31]],$AH$5) -> 0 | AI12: =COUNTIF(Janvier[[#This Row],[1]:[31]],$AI$4)+COUNTIF(Janvier[[#This Row],[1]:[31]],$AI$5) -> 3 | AJ12: =COUNTIF(Janvier[[#This Row],[1]:[31]],$AJ$5) -> 0 | AK12: =COUNTIF(Janvier[[#This Row],[1]:[31]],$AK$5) -> 0 | AL12: =COUNTIF(Janvier[[#This Row],[1]:[31]],$AL$5) -> 0
B13: DURAN Alexandre | AH13: =COUNTIF(Janvier[[#This Row],[1]:[31]],$AH$5) -> 0 | AI13: =COUNTIF(Janvier[[#This Row],[1]:[31]],$AI$4)+COUNTIF(Janvier[[#This Row],[1]:[31]],$AI$5) -> 0 | AJ13: =COUNTIF(Janvier[[#This Row],[1]:[31]],$AJ$5) -> 0 | AK13: =COUNTIF(Janvier[[#This Row],[1]:[31]],$AK$5) -> 0 | AL13: =COUNTIF(Janvier[[#This Row],[1]:[31]],$AL$5) -> 0
B14: FAGETTE Philippe | AH14: =COUNTIF(Janvier[[#This Row],[1]:[31]],$AH$5) -> 0 | AI14: =COUNTIF(Janvier[[#This Row],[1]:[31]],$AI$4)+COUNTIF(Janvier[[#This Row],[1]:[31]],$AI$5) -> 0 | AJ14: =COUNTIF(Janvier[[#This Row],[1]:[31]],$AJ$5) -> 0 | AK14: =COUNTIF(Janvier[[#This Row],[1]:[31]],$AK$5) -> 0 | AL14: =COUNTIF(Janvier[[#This Row],[1]:[31]],$AL$5) -> 0
B15: FRANCOIS Jean-Paul | AH15: =COUNTIF(Janvier[[#This Row],[1]:[31]],$AH$5) -> 0 | AI15: =COUNTIF(Janvier[[#This Row],[1]:[31]],$AI$4)+COUNTIF(Janvier[[#This Row],[1]:[31]],$AI$5) -> 0 | AJ15: =COUNTIF(Janvier[[#This Row],[1]:[31]],$AJ$5) -> 0 | AK15: =COUNTIF(Janvier[[#This Row],[1]:[31]],$AK$5) -> 0 | AL15: =COUNTIF(Janvier[[#This Row],[1]:[31]],$AL$5) -> 0
B16: FRANCOIS Mathéo | D16: FS | E16: FS | F16: FS | G16: FS | H16: FS | Y16: FS | Z16: FS | AA16: FS | AB16: FS | AC16: FS | AH16: =COUNTIF(Janvier[[#This Row],[1]:[31]],$AH$5) -> 0 | AI16: =COUNTIF(Janvier[[#This Row],[1]:[31]],$AI$4)+COUNTIF(Janvier[[#This Row],[1]:[31]],$AI$5) -> 0 | AJ16: =COUNTIF(Janvier[[#This Row],[1]:[31]],$AJ$5) -> 10 | AK16: =COUNTIF(Janvier[[#This Row],[1]:[31]],$AK$5) -> 0 | AL16: =COUNTIF(Janvier[[#This Row],[1]:[31]],$AL$5) -> 0
B17: FONDIN Patrice | AH17: =COUNTIF(Janvier[[#This Row],[1]:[31]],$AH$5) -> 0 | AI17: =COUNTIF(Janvier[[#This Row],[1]:[31]],$AI$4)+COUNTIF(Janvier[[#This Row],[1]:[31]],$AI$5) -> 0 | AJ17: =COUNTIF(Janvier[[#This Row],[1]:[31]],$AJ$5) -> 0 | AK17: =COUNTIF(Janvier[[#This Row],[1]:[31]],$AK$5) -> 0 | AL17: =COUNTIF(Janvier[[#This Row],[1]:[31]],$AL$5) -> 0
B18: GRIVOIS Nicolas | C18: G1 | R18: G1 | S18: G1 | T18: G1 | U18: G1 | V18: G1 | W18: G1 | X18: G1 | AH18: =COUNTIF(Janvier[[#This Row],[1]:[31]],$AH$5) -> 0 | AI18: =COUNTIF(Janvier[[#This Row],[1]:[31]],$AI$4)+COUNTIF(Janvier[[#This Row],[1]:[31]],$AI$5) -> 8 | AJ18: =COUNTIF(Janvier[[#This Row],[1]:[31]],$AJ$5) -> 0 | AK18: =COUNTIF(Janvier[[#This Row],[1]:[31]],$AK$5) -> 0 | AL18: =COUNTIF(Janvier[[#This Row],[1]:[31]],$AL$5) -> 0
B19: LAFAYE Marion | C19: A | D19: A | E19: A | F19: A | G19: A | H19: A | I19: A | J19: A | K19: A | L19: A | M19: A | N19: A | O19: A | P19: A | Q19: A | R19: A | S19: A | T19: A | U19: A | V19: A | W19: A | X19: A | Y19: A | Z19: A | AA19: A | AB19: A | AC19: A | AD19: A | AE19: A | AF19: A | AG19: A | AH19: =COUNTIF(Janvier[[#This Row],[1]:[31]],$AH$5) -> 0 | AI19: =COUNTIF(Janvier[[#This Row],[1]:[31]],$AI$4)+COUNTIF(Janvier[[#This Row],[1]:[31]],$AI$5) -> 0 | AJ19: =COUNTIF(Janvier[[#This Row],[1]:[31]],$AJ$5) -> 0 | AK19: =COUNTIF(Janvier[[#This Row],[1]:[31]],$AK$5) -> 31 | AL19: =COUNTIF(Janvier[[#This Row],[1]:[31]],$AL$5) -> 0
B20: MARCHE Philippe | O20: G2 | P20: G2 | Q20: G2 | AF20: FS | AH20: =COUNTIF(Janvier[[#This Row],[1]:[31]],$AH$5) -> 0 | AI20: =COUNTIF(Janvier[[#This Row],[1]:[31]],$AI$4)+COUNTIF(Janvier[[#This Row],[1]:[31]],$AI$5) -> 3 | AJ20: =COUNTIF(Janvier[[#This Row],[1]:[31]],$AJ$5) -> 1 | AK20: =COUNTIF(Janvier[[#This Row],[1]:[31]],$AK$5) -> 0 | AL20: =COUNTIF(Janvier[[#This Row],[1]:[31]],$AL$5) -> 0
B21: MARTIAL Jean-Luc | C21: G1 | D21: C | E21: C | F21: C | G21: C | H21: C | I21: C | J21: C | K21: C | L21: C | M21: C | N21: C | O21: C | P21: C | Q21: C | AH21: =COUNTIF(Janvier[[#This Row],[1]:[31]],$AH$5) -> 14 | AI21: =COUNTIF(Janvier[[#This Row],[1]:[31]],$AI$4)+COUNTIF(Janvier[[#This Row],[1]:[31]],$AI$5) -> 1 | AJ21: =COUNTIF(Janvier[[#This Row],[1]:[31]],$AJ$5) -> 0 | AK21: =COUNTIF(Janvier[[#This Row],[1]:[31]],$AK$5) -> 0 | AL21: =COUNTIF(Janvier[[#This Row],[1]:[31]],$AL$5) -> 0
B22: MENARD Martial | AH22: =COUNTIF(Janvier[[#This Row],[1]:[31]],$AH$5) -> 0 | AI22: =COUNTIF(Janvier[[#This Row],[1]:[31]],$AI$4)+COUNTIF(Janvier[[#This Row],[1]:[31]],$AI$5) -> 0 | AJ22: =COUNTIF(Janvier[[#This Row],[1]:[31]],$AJ$5) -> 0 | AK22: =COUNTIF(Janvier[[#This Row],[1]:[31]],$AK$5) -> 0 | AL22: =COUNTIF(Janvier[[#This Row],[1]:[31]],$AL$5) -> 0
B23: NOEL Didier | AC23: G1 | AD23: G1 | AE23: G1 | AH23: =COUNTIF(Janvier[[#This Row],[1]:[31]],$AH$5) -> 0 | AI23: =COUNTIF(Janvier[[#This Row],[1]:[31]],$AI$4)+COUNTIF(Janvier[[#This Row],[1]:[31]],$AI$5) -> 3 | AJ23: =COUNTIF(Janvier[[#This Row],[1]:[31]],$AJ$5) -> 0 | AK23: =COUNTIF(Janvier[[#This Row],[1]:[31]],$AK$5) -> 0 | AL23: =COUNTIF(Janvier[[#This Row],[1]:[31]],$AL$5) -> 0
B24: NORMAND Christian | AH24: =COUNTIF(Janvier[[#This Row],[1]:[31]],$AH$5) -> 0 | AI24: =COUNTIF(Janvier[[#This Row],[1]:[31]],$AI$4)+COUNTIF(Janvier[[#This Row],[1]:[31]],$AI$5) -> 0 | AJ24: =COUNTIF(Janvier[[#This Row],[1]:[31]],$AJ$5) -> 0 | AK24: =COUNTIF(Janvier[[#This Row],[1]:[31]],$AK$5) -> 0 | AL24: =COUNTIF(Janvier[[#This Row],[1]:[31]],$AL$5) -> 0
B25: PARAT Alex | H25: G1 | I25: G1 | J25: G1 | AH25: =COUNTIF(Janvier[[#This Row],[1]:[31]],$AH$5) -> 0 | AI25: =COUNTIF(Janvier[[#This Row],[1]:[31]],$AI$4)+COUNTIF(Janvier[[#This Row],[1]:[31]],$AI$5) -> 3 | AJ25: =COUNTIF(Janvier[[#This Row],[1]:[31]],$AJ$5) -> 0 | AK25: =COUNTIF(Janvier[[#This Row],[1]:[31]],$AK$5) -> 0 | AL25: =COUNTIF(Janvier[[#This Row],[1]:[31]],$AL$5) -> 0
B26: PICAUD Carine | O26: G1 | P26: G1 | Q26: G1 | AC26: G2 | AD26: G2 | AE26: G2 | AH26: =COUNTIF(Janvier[[#This Row],[1]:[31]],$AH$5) -> 0 | AI26: =COUNTIF(Janvier[[#This Row],[1]:[31]],$AI$4)+COUNTIF(Janvier[[#This Row],[1]:[31]],$AI$5) -> 6 | AJ26: =COUNTIF(Janvier[[#This Row],[1]:[31]],$AJ$5) -> 0 | AK26: =COUNTIF(Janvier[[#This Row],[1]:[31]],$AK$5) -> 0 | AL26: =COUNTIF(Janvier[[#This Row],[1]:[31]],$AL$5) -> 0
B27: RIBEIRO Rui | V27: G2 | W27: G2 | X27: G2 | AH27: =COUNTIF(Janvier[[#This Row],[1]:[31]],$AH$5) -> 0 | AI27: =COUNTIF(Janvier[[#This Row],[1]:[31]],$AI$4)+COUNTIF(Janvier[[#This Row],[1]:[31]],$AI$5) -> 3 | AJ27: =COUNTIF(Janvier[[#This Row],[1]:[31]],$AJ$5) -> 0 | AK27: =COUNTIF(Janvier[[#This Row],[1]:[31]],$AK$5) -> 0 | AL27: =COUNTIF(Janvier[[#This Row],[1]:[31]],$AL$5) -> 0
B28: RIGAL Pauline | O28: G2 | P28: G2 | Q28: G2 | AH28: =COUNTIF(Janvier[[#This Row],[1]:[31]],$AH$5) -> 0 | AI28: =COUNTIF(Janvier[[#This Row],[1]:[31]],$AI$4)+COUNTIF(Janvier[[#This Row],[1]:[31]],$AI$5) -> 3 | AJ28: =COUNTIF(Janvier[[#This Row],[1]:[31]],$AJ$5) -> 0 | AK28: =COUNTIF(Janvier[[#This Row],[1]:[31]],$AK$5) -> 0 | AL28: =COUNTIF(Janvier[[#This Row],[1]:[31]],$AL$5) -> 0
B29: ROUGIER Stéphanie | C29: G2 | V29: G2 | W29: G2 | X29: G2 | AH29: =COUNTIF(Janvier[[#This Row],[1]:[31]],$AH$5) -> 0 | AI29: =COUNTIF(Janvier[[#This Row],[1]:[31]],$AI$4)+COUNTIF(Janvier[[#This Row],[1]:[31]],$AI$5) -> 4 | AJ29: =COUNTIF(Janvier[[#This Row],[1]:[31]],$AJ$5) -> 0 | AK29: =COUNTIF(Janvier[[#This Row],[1]:[31]],$AK$5) -> 0 | AL29: =COUNTIF(Janvier[[#This Row],[1]:[31]],$AL$5) -> 0
B30: SAVARIT André | AC30: G2 | AD30: G2 | AE30: G2 | AH30: =COUNTIF(Janvier[[#This Row],[1]:[31]],$AH$5) -> 0 | AI30: =COUNTIF(Janvier[[#This Row],[1]:[31]],$AI$4)+COUNTIF(Janvier[[#This Row],[1]:[31]],$AI$5) -> 3 | AJ30: =COUNTIF(Janvier[[#This Row],[1]:[31]],$AJ$5) -> 0 | AK30: =COUNTIF(Janvier[[#This Row],[1]:[31]],$AK$5) -> 0 | AL30: =COUNTIF(Janvier[[#This Row],[1]:[31]],$AL$5) -> 0
B31: SAVARIT David | H31: G2 | I31: G2 | J31: G2 | AH31: =COUNTIF(Janvier[[#This Row],[1]:[31]],$AH$5) -> 0 | AI31: =COUNTIF(Janvier[[#This Row],[1]:[31]],$AI$4)+COUNTIF(Janvier[[#This Row],[1]:[31]],$AI$5) -> 3 | AJ31: =COUNTIF(Janvier[[#This Row],[1]:[31]],$AJ$5) -> 0 | AK31: =COUNTIF(Janvier[[#This Row],[1]:[31]],$AK$5) -> 0 | AL31: =COUNTIF(Janvier[[#This Row],[1]:[31]],$AL$5) -> 0
B32: THOMAS Karl | D32: FS | E32: FS | F32: FS | G32: FS | H32: FS | AF32: FS | AH32: =COUNTIF(Janvier[[#This Row],[1]:[31]],$AH$5) -> 0 | AI32: =COUNTIF(Janvier[[#This Row],[1]:[31]],$AI$4)+COUNTIF(Janvier[[#This Row],[1]:[31]],$AI$5) -> 0 | AJ32: =COUNTIF(Janvier[[#This Row],[1]:[31]],$AJ$5) -> 6 | AK32: =COUNTIF(Janvier[[#This Row],[1]:[31]],$AK$5) -> 0 | AL32: =COUNTIF(Janvier[[#This Row],[1]:[31]],$AL$5) -> 0
B33: VAVASSEUR Célia | H33: G2 | I33: G2 | J33: G2 | AH33: =COUNTIF(Janvier[[#This Row],[1]:[31]],$AH$5) -> 0 | AI33: =COUNTIF(Janvier[[#This Row],[1]:[31]],$AI$4)+COUNTIF(Janvier[[#This Row],[1]:[31]],$AI$5) -> 3 | AJ33: =COUNTIF(Janvier[[#This Row],[1]:[31]],$AJ$5) -> 0 | AK33: =COUNTIF(Janvier[[#This Row],[1]:[31]],$AK$5) -> 0 | AL33: =COUNTIF(Janvier[[#This Row],[1]:[31]],$AL$5) -> 0
B34: 28 | AH34: =COUNTIF(Janvier[[#This Row],[1]:[31]],$AH$5) -> 0 | AI34: =COUNTIF(Janvier[[#This Row],[1]:[31]],$AI$4)+COUNTIF(Janvier[[#This Row],[1]:[31]],$AI$5) -> 0 | AJ34: =COUNTIF(Janvier[[#This Row],[1]:[31]],$AJ$5) -> 0 | AK34: =COUNTIF(Janvier[[#This Row],[1]:[31]],$AK$5) -> 0 | AL34: =COUNTIF(Janvier[[#This Row],[1]:[31]],$AL$5) -> 0
B35: 29 | AH35: =COUNTIF(Janvier[[#This Row],[1]:[31]],$AH$5) -> 0 | AI35: =COUNTIF(Janvier[[#This Row],[1]:[31]],$AI$4)+COUNTIF(Janvier[[#This Row],[1]:[31]],$AI$5) -> 0 | AJ35: =COUNTIF(Janvier[[#This Row],[1]:[31]],$AJ$5) -> 0 | AK35: =COUNTIF(Janvier[[#This Row],[1]:[31]],$AK$5) -> 0 | AL35: =COUNTIF(Janvier[[#This Row],[1]:[31]],$AL$5) -> 0
B36: 30 | V36: M | W36: M | X36: M | Y36: M | Z36: M | AA36: M | AB36: M | AC36: M | AD36: M | AH36: =COUNTIF(Janvier[[#This Row],[1]:[31]],$AH$5) -> 0 | AI36: =COUNTIF(Janvier[[#This Row],[1]:[31]],$AI$4)+COUNTIF(Janvier[[#This Row],[1]:[31]],$AI$5) -> 0 | AJ36: =COUNTIF(Janvier[[#This Row],[1]:[31]],$AJ$5) -> 0 | AK36: =COUNTIF(Janvier[[#This Row],[1]:[31]],$AK$5) -> 0 | AL36: =COUNTIF(Janvier[[#This Row],[1]:[31]],$AL$5) -> 9
AH37: =SUM(AH7:AH36) -> 14 | AI37: =SUM(AI7:AI36) -> 60 | AJ37: =SUM(AJ7:AJ36) -> 17 | AK37: =SUM(AK7:AK36) -> 31 | AL37: =SUM(AL7:AL36) -> 9

Sheet Février
B1: Calendrier des gardes et absences des employés
B2: Légende | C2: C | D2: Congés | F2: G1 | G2: Gardes 1 | J2: G2 | K2: Gardes 2 | M2: FS | N2: Formations/Stages | R2: A | S2: Absences | X2: Férié | AB2: M | AC2: Maladie
AH3: Année :
B4: Février | C4: Dates | AH4: =Janvier!AH4 -> 2023 | AI4: G2
C5: =DATE(AnnéeCalendrier,2,1) -> 44958 | D5: =C5+1 -> 44959 | E5: =D5+1 -> 44960 | F5: =E5+1 -> 44961 | G5: =F5+1 -> 44962 | H5: =G5+1 -> 44963 | I5: =H5+1 -> 44964 | J5: =I5+1 -> 44965 | K5: =J5+1 -> 44966 | ... AD5: =AC5+1 -> 44985 | AE5: =IF(MONTH(AD5+1)=MONTH(AD5),AD5+1,"") | AF5: =AE5+1 -> #VALUE! | AG5: =AF5+1 -> #VALUE! | AH5: C | AI5: G1 | AJ5: FS | AK5: A | AL5: M
B6: Nom de l’employé | C6: 1 | D6: 2 | E6: 3 | F6: 4 | G6: 5 | H6: 6 | I6: 7 | J6: 8 | K6: 9 | L6: 10 | M6: 11 | N6: 12 | O6: 13 | P6: 14 | Q6: 15 | R6: 16 | S6: 17 | T6: 18 | U6: 19 | V6: 20 | W6: 21 | X6: 22 | Y6: 23 | Z6: 24 | AA6: 25 | AB6: 26 | AC6: 27 | AD6: 28 | AE6: 29 | AF6: 30 | AG6: 31 | AH6: Congés | AI6: Gardes | AJ6: Formations Stages | AK6: Absences | AL6: Maladie
B7: BONNEFOND Manon | AH7: =COUNTIF(Fevrier[[#This Row],[1]:[31]],$AH$5) -> 0 | AI7: =COUNTIF(Fevrier[[#This Row],[1]:[31]],$AI$4)+COUNTIF(Fevrier[[#This Row],[1]:[31]],$AI$5) -> 0 | AJ7: =COUNTIF(Fevrier[[#This Row],[1]:[31]],$AJ$5) -> 0 | AK7: =COUNTIF(Fevrier[[#This Row],[1]:[31]],$AK$5) -> 0 | AL7: =COUNTIF(Fevrier[[#This Row],[1]:[31]],$AL$5) -> 0
B8: CABANNES Emile | H8: G1 | I8: G1 | J8: G1 | AC8: G1 | AD8: G1 | AE8: G1 | AH8: =COUNTIF(Fevrier[[#This Row],[1]:[31]],$AH$5) -> 0 | AI8: =COUNTIF(Fevrier[[#This Row],[1]:[31]],$AI$4)+COUNTIF(Fevrier[[#This Row],[1]:[31]],$AI$5) -> 6 | AJ8: =COUNTIF(Fevrier[[#This Row],[1]:[31]],$AJ$5) -> 0 | AK8: =COUNTIF(Fevrier[[#This Row],[1]:[31]],$AK$5) -> 0 | AL8: =COUNTIF(Fevrier[[#This Row],[1]:[31]],$AL$5) -> 0
B9: CHAZEAUD Anita | AH9: =COUNTIF(Fevrier[[#This Row],[1]:[31]],$AH$5) -> 0 | AI9: =COUNTIF(Fevrier[[#This Row],[1]:[31]],$AI$4)+COUNTIF(Fevrier[[#This Row],[1]:[31]],$AI$5) -> 0 | AJ9: =COUNTIF(Fevrier[[#This Row],[1]:[31]],$AJ$5) -> 0 | AK9: =COUNTIF(Fevrier[[#This Row],[1]:[31]],$AK$5) -> 0 | AL9: =COUNTIF(Fevrier[[#This Row],[1]:[31]],$AL$5) -> 0
B10: CASTANG Jean-Claude | AH10: =COUNTIF(Fevrier[[#This Row],[1]:[31]],$AH$5) -> 0 | AI10: =COUNTIF(Fevrier[[#This Row],[1]:[31]],$AI$4)+COUNTIF(Fevrier[[#This Row],[1]:[31]],$AI$5) -> 0 | AJ10: =COUNTIF(Fevrier[[#This Row],[1]:[31]],$AJ$5) -> 0 | AK10: =COUNTIF(Fevrier[[#This Row],[1]:[31]],$AK$5) -> 0 | AL10: =COUNTIF(Fevrier[[#This Row],[1]:[31]],$AL$5) -> 0
B11: DA SILVA Marc | C11: G2 | R11: G1 | S11: G1 | T11: G1 | U11: G1 | V11: G1 | W11: G1 | X11: G1 | AH11: =COUNTIF(Fevrier[[#This Row],[1]:[31]],$AH$5) -> 0 | AI11: =COUNTIF(Fevrier[[#This Row],[1]:[31]],$AI$4)+COUNTIF(Fevrier[[#This Row],[1]:[31]],$AI$5) -> 8 | AJ11: =COUNTIF(Fevrier[[#This Row],[1]:[31]],$AJ$5) -> 0 | AK11: =COUNTIF(Fevrier[[#This Row],[1]:[31]],$AK$5) -> 0 | AL11: =COUNTIF(Fevrier[[#This Row],[1]:[31]],$AL$5) -> 0
B12: DERACO Philippe | O12: G1 | P12: G1 | Q12: G1 | AH12: =COUNTIF(Fevrier[[#This Row],[1]:[31]],$AH$5) -> 0 | AI12: =COUNTIF(Fevrier[[#This Row],[1]:[31]],$AI$4)+COUNTIF(Fevrier[[#This Row],[1]:[31]],$AI$5) -> 3 | AJ12: =COUNTIF(Fevrier[[#This Row],[1]:[31]],$AJ$5) -> 0 | AK12: =COUNTIF(Fevrier[[#This Row],[1]:[31]],$AK$5) -> 0 | AL12: =COUNTIF(Fevrier[[#This Row],[1]:[31]],$AL$5) -> 0
B13: DURAN Alexandre | AH13: =COUNTIF(Fevrier[[#This Row],[1]:[31]],$AH$5) -> 0 | AI13: =COUNTIF(Fevrier[[#This Row],[1]:[31]],$AI$4)+COUNTIF(Fevrier[[#This Row],[1]:[31]],$AI$5) -> 0 | AJ13: =COUNTIF(Fevrier[[#This Row],[1]:[31]],$AJ$5) -> 0 | AK13: =COUNTIF(Fevrier[[#This Row],[1]:[31]],$AK$5) -> 0 | AL13: =COUNTIF(Fevrier[[#This Row],[1]:[31]],$AL$5) -> 0
B14: FAGETTE Philippe | AH14: =COUNTIF(Fevrier[[#This Row],[1]:[31]],$AH$5) -> 0 | AI14: =COUNTIF(Fevrier[[#This Row],[1]:[31]],$AI$4)+COUNTIF(Fevrier[[#This Row],[1]:[31]],$AI$5) -> 0 | AJ14: =COUNTIF(Fevrier[[#This Row],[1]:[31]],$AJ$5) -> 0 | AK14: =COUNTIF(Fevrier[[#This Row],[1]:[31]],$AK$5) -> 0 | AL14: =COUNTIF(Fevrier[[#This Row],[1]:[31]],$AL$5) -> 0
B15: FRANCOIS Jean-Paul | AH15: =COUNTIF(Fevrier[[#This Row],[1]:[31]],$AH$5) -> 0 | AI15: =COUNTIF(Fevrier[[#This Row],[1]:[31]],$AI$4)+COUNTIF(Fevrier[[#This Row],[1]:[31]],$AI$5) -> 0 | AJ15: =COUNTIF(Fevrier[[#This Row],[1]:[31]],$AJ$5) -> 0 | AK15: =COUNTIF(Fevrier[[#This Row],[1]:[31]],$AK$5) -> 0 | AL15: =COUNTIF(Fevrier[[#This Row],[1]:[31]],$AL$5) -> 0
B16: FRANCOIS Mathéo | D16: FS | E16: FS | F16: FS | G16: FS | H16: FS | Y16: FS | Z16: FS | AA16: FS | AB16: FS | AC16: FS | AH16: =COUNTIF(Fevrier[[#This Row],[1]:[31]],$AH$5) -> 0 | AI16: =COUNTIF(Fevrier[[#This Row],[1]:[31]],$AI$4)+COUNTIF(Fevrier[[#This Row],[1]:[31]],$AI$5) -> 0 | AJ16: =COUNTIF(Fevrier[[#This Row],[1]:[31]],$AJ$5) -> 10 | AK16: =COUNTIF(Fevrier[[#This Row],[1]:[31]],$AK$5) -> 0 | AL16: =COUNTIF(Fevrier[[#This Row],[1]:[31]],$AL$5) -> 0
B17: FONDIN Patrice | AH17: =COUNTIF(Fevrier[[#This Row],[1]:[31]],$AH$5) -> 0 | AI17: =COUNTIF(Fevrier[[#This Row],[1]:[31]],$AI$4)+COUNTIF(Fevrier[[#This Row],[1]:[31]],$AI$5) -> 0 | AJ17: =COUNTIF(Fevrier[[#This Row],[1]:[31]],$AJ$5) -> 0 | AK17: =COUNTIF(Fevrier[[#This Row],[1]:[31]],$AK$5) -> 0 | AL17: =COUNTIF(Fevrier[[#This Row],[1]:[31]],$AL$5) -> 0
B18: GRIVOIS Nicolas | C18: G1 | R18: G1 | S18: G1 | T18: G1 | U18: G1 | V18: G1 | W18: G1 | X18: G1 | AH18: =COUNTIF(Fevrier[[#This Row],[1]:[31]],$AH$5) -> 0 | AI18: =COUNTIF(Fevrier[[#This Row],[1]:[31]],$AI$4)+COUNTIF(Fevrier[[#This Row],[1]:[31]],$AI$5) -> 8 | AJ18: =COUNTIF(Fevrier[[#This Row],[1]:[31]],$AJ$5) -> 0 | AK18: =COUNTIF(Fevrier[[#This Row],[1]:[31]],$AK$5) -> 0 | AL18: =COUNTIF(Fevrier[[#This Row],[1]:[31]],$AL$5) -> 0
B19: LAFAYE Marion | C19: A | D19: A | E19: A | F19: A | G19: A | H19: A | I19: A | J19: A | K19: A | L19: A | M19: A | N19: A | O19: A | P19: A | Q19: A | R19: A | S19: A | T19: A | U19: A | V19: A | W19: A | X19: A | Y19: A | Z19: A | AA19: A | AB19: A | AC19: A | AD19: A | AE19: A | AF19: A | AG19: A | AH19: =COUNTIF(Fevrier[[#This Row],[1]:[31]],$AH$5) -> 0 | AI19: =COUNTIF(Fevrier[[#This Row],[1]:[31]],$AI$4)+COUNTIF(Fevrier[[#This Row],[1]:[31]],$AI$5) -> 0 | AJ19: =COUNTIF(Fevrier[[#This Row],[1]:[31]],$AJ$5) -> 0 | AK19: =COUNTIF(Fevrier[[#This Row],[1]:[31]],$AK$5) -> 31 | AL19: =COUNTIF(Fevrier[[#This Row],[1]:[31]],$AL$5) -> 0
B20: MARCHE Philippe | O20: G2 | P20: G2 | Q20: G2 | AF20: FS | AH20: =COUNTIF(Fevrier[[#This Row],[1]:[31]],$AH$5) -> 0 | AI20: =COUNTIF(Fevrier[[#This Row],[1]:[31]],$AI$4)+COUNTIF(Fevrier[[#This Row],[1]:[31]],$AI$5) -> 3 | AJ20: =COUNTIF(Fevrier[[#This Row],[1]:[31]],$AJ$5) -> 1 | AK20: =COUNTIF(Fevrier[[#This Row],[1]:[31]],$AK$5) -> 0 | AL20: =COUNTIF(Fevrier[[#This Row],[1]:[31]],$AL$5) -> 0
B21: MARTIAL Jean-Luc | C21: G1 | D21: C | E21: C | F21: C | G21: C | H21: C | I21: C | J21: C | K21: C | L21: C | M21: C | N21: C | O21: C | P21: C | Q21: C | AH21: =COUNTIF(Fevrier[[#This Row],[1]:[31]],$AH$5) -> 14 | AI21: =COUNTIF(Fevrier[[#This Row],[1]:[31]],$AI$4)+COUNTIF(Fevrier[[#This Row],[1]:[31]],$AI$5) -> 1 | AJ21: =COUNTIF(Fevrier[[#This Row],[1]:[31]],$AJ$5) -> 0 | AK21: =COUNTIF(Fevrier[[#This Row],[1]:[31]],$AK$5) -> 0 | AL21: =COUNTIF(Fevrier[[#This Row],[1]:[31]],$AL$5) -> 0
B22: MENARD Martial | AH22: =COUNTIF(Fevrier[[#This Row],[1]:[31]],$AH$5) -> 0 | AI22: =COUNTIF(Fevrier[[#This Row],[1]:[31]],$AI$4)+COUNTIF(Fevrier[[#This Row],[1]:[31]],$AI$5) -> 0 | AJ22: =COUNTIF(Fevrier[[#This Row],[1]:[31]],$AJ$5) -> 0 | AK22: =COUNTIF(Fevrier[[#This Row],[1]:[31]],$AK$5) -> 0 | AL22: =COUNTIF(Fevrier[[#This Row],[1]:[31]],$AL$5) -> 0
B23: NOEL Didier | AC23: G1 | AD23: G1 | AE23: G1 | AH23: =COUNTIF(Fevrier[[#This Row],[1]:[31]],$AH$5) -> 0 | AI23: =COUNTIF(Fevrier[[#This Row],[1]:[31]],$AI$4)+COUNTIF(Fevrier[[#This Row],[1]:[31]],$AI$5) -> 3 | AJ23: =COUNTIF(Fevrier[[#This Row],[1]:[31]],$AJ$5) -> 0 | AK23: =COUNTIF(Fevrier[[#This Row],[1]:[31]],$AK$5) -> 0 | AL23: =COUNTIF(Fevrier[[#This Row],[1]:[31]],$AL$5) -> 0
B24: NORMAND Christian | AH24: =COUNTIF(Fevrier[[#This Row],[1]:[31]],$AH$5) -> 0 | AI24: =COUNTIF(Fevrier[[#This Row],[1]:[31]],$AI$4)+COUNTIF(Fevrier[[#This Row],[1]:[31]],$AI$5) -> 0 | AJ24: =COUNTIF(Fevrier[[#This Row],[1]:[31]],$AJ$5) -> 0 | AK24: =COUNTIF(Fevrier[[#This Row],[1]:[31]],$AK$5) -> 0 | AL24: =COUNTIF(Fevrier[[#This Row],[1]:[31]],$AL$5) -> 0
B25: PARAT Alex | H25: G1 | I25: G1 | J25: G1 | AH25: =COUNTIF(Fevrier[[#This Row],[1]:[31]],$AH$5) -> 0 | AI25: =COUNTIF(Fevrier[[#This Row],[1]:[31]],$AI$4)+COUNTIF(Fevrier[[#This Row],[1]:[31]],$AI$5) -> 3 | AJ25: =COUNTIF(Fevrier[[#This Row],[1]:[31]],$AJ$5) -> 0 | AK25: =COUNTIF(Fevrier[[#This Row],[1]:[31]],$AK$5) -> 0 | AL25: =COUNTIF(Fevrier[[#This Row],[1]:[31]],$AL$5) -> 0
B26: PICAUD Carine | O26: G1 | P26: G1 | Q26: G1 | AC26: G2 | AD26: G2 | AE26: G2 | AH26: =COUNTIF(Fevrier[[#This Row],[1]:[31]],$AH$5) -> 0 | AI26: =COUNTIF(Fevrier[[#This Row],[1]:[31]],$AI$4)+COUNTIF(Fevrier[[#This Row],[1]:[31]],$AI$5) -> 6 | AJ26: =COUNTIF(Fevrier[[#This Row],[1]:[31]],$AJ$5) -> 0 | AK26: =COUNTIF(Fevrier[[#This Row],[1]:[31]],$AK$5) -> 0 | AL26: =COUNTIF(Fevrier[[#This Row],[1]:[31]],$AL$5) -> 0
B27: RIBEIRO Rui | V27: G2 | W27: G2 | X27: G2 | AH27: =COUNTIF(Fevrier[[#This Row],[1]:[31]],$AH$5) -> 0 | AI27: =COUNTIF(Fevrier[[#This Row],[1]:[31]],$AI$4)+COUNTIF(Fevrier[[#This Row],[1]:[31]],$AI$5) -> 3 | AJ27: =COUNTIF(Fevrier[[#This Row],[1]:[31]],$AJ$5) -> 0 | AK27: =COUNTIF(Fevrier[[#This Row],[1]:[31]],$AK$5) -> 0 | AL27: =COUNTIF(Fevrier[[#This Row],[1]:[31]],$AL$5) -> 0
B28: RIGAL Pauline | O28: G2 | P28: G2 | Q28: G2 | AH28: =COUNTIF(Fevrier[[#This Row],[1]:[31]],$AH$5) -> 0 | AI28: =COUNTIF(Fevrier[[#This Row],[1]:[31]],$AI$4)+COUNTIF(Fevrier[[#This Row],[1]:[31]],$AI$5) -> 3 | AJ28: =COUNTIF(Fevrier[[#This Row],[1]:[31]],$AJ$5) -> 0 | AK28: =COUNTIF(Fevrier[[#This Row],[1]:[31]],$AK$5) -> 0 | AL28: =COUNTIF(Fevrier[[#This Row],[1]:[31]],$AL$5) -> 0
B29: ROUGIER Stéphanie | C29: G2 | V29: G2 | W29: G2 | X29: G2 | AH29: =COUNTIF(Fevrier[[#This Row],[1]:[31]],$AH$5) -> 0 | AI29: =COUNTIF(Fevrier[[#This Row],[1]:[31]],$AI$4)+COUNTIF(Fevrier[[#This Row],[1]:[31]],$AI$5) -> 4 | AJ29: =COUNTIF(Fevrier[[#This Row],[1]:[31]],$AJ$5) -> 0 | AK29: =COUNTIF(Fevrier[[#This Row],[1]:[31]],$AK$5) -> 0 | AL29: =COUNTIF(Fevrier[[#This Row],[1]:[31]],$AL$5) -> 0
B30: SAVARIT André | AC30: G2 | AD30: G2 | AE30: G2 | AH30: =COUNTIF(Fevrier[[#This Row],[1]:[31]],$AH$5) -> 0 | AI30: =COUNTIF(Fevrier[[#This Row],[1]:[31]],$AI$4)+COUNTIF(Fevrier[[#This Row],[1]:[31]],$AI$5) -> 3 | AJ30: =COUNTIF(Fevrier[[#This Row],[1]:[31]],$AJ$5) -> 0 | AK30: =COUNTIF(Fevrier[[#This Row],[1]:[31]],$AK$5) -> 0 | AL30: =COUNTIF(Fevrier[[#This Row],[1]:[31]],$AL$5) -> 0
B31: SAVARIT David | H31: G2 | I31: G2 | J31: G2 | AH31: =COUNTIF(Fevrier[[#This Row],[1]:[31]],$AH$5) -> 0 | AI31: =COUNTIF(Fevrier[[#This Row],[1]:[31]],$AI$4)+COUNTIF(Fevrier[[#This Row],[1]:[31]],$AI$5) -> 3 | AJ31: =COUNTIF(Fevrier[[#This Row],[1]:[31]],$AJ$5) -> 0 | AK31: =COUNTIF(Fevrier[[#This Row],[1]:[31]],$AK$5) -> 0 | AL31: =COUNTIF(Fevrier[[#This Row],[1]:[31]],$AL$5) -> 0
B32: THOMAS Karl | D32: FS | E32: FS | F32: FS | G32: FS | H32: FS | AF32: FS | AH32: =COUNTIF(Fevrier[[#This Row],[1]:[31]],$AH$5) -> 0 | AI32: =COUNTIF(Fevrier[[#This Row],[1]:[31]],$AI$4)+COUNTIF(Fevrier[[#This Row],[1]:[31]],$AI$5) -> 0 | AJ32: =COUNTIF(Fevrier[[#This Row],[1]:[31]],$AJ$5) -> 6 | AK32: =COUNTIF(Fevrier[[#This Row],[1]:[31]],$AK$5) -> 0 | AL32: =COUNTIF(Fevrier[[#This Row],[1]:[31]],$AL$5) -> 0
B33: VAVASSEUR Célia | H33: G2 | I33: G2 | J33: G2 | AH33: =COUNTIF(Fevrier[[#This Row],[1]:[31]],$AH$5) -> 0 | AI33: =COUNTIF(Fevrier[[#This Row],[1]:[31]],$AI$4)+COUNTIF(Fevrier[[#This Row],[1]:[31]],$AI$5) -> 3 | AJ33: =COUNTIF(Fevrier[[#This Row],[1]:[31]],$AJ$5) -> 0 | AK33: =COUNTIF(Fevrier[[#This Row],[1]:[31]],$AK$5) -> 0 | AL33: =COUNTIF(Fevrier[[#This Row],[1]:[31]],$AL$5) -> 0
B34: 28 | AH34: =COUNTIF(Fevrier[[#This Row],[1]:[31]],$AH$5) -> 0 | AI34: =COUNTIF(Fevrier[[#This Row],[1]:[31]],$AI$4)+COUNTIF(Fevrier[[#This Row],[1]:[31]],$AI$5) -> 0 | AJ34: =COUNTIF(Fevrier[[#This Row],[1]:[31]],$AJ$5) -> 0 | AK34: =COUNTIF(Fevrier[[#This Row],[1]:[31]],$AK$5) -> 0 | AL34: =COUNTIF(Fevrier[[#This Row],[1]:[31]],$AL$5) -> 0
B35: 29 | AH35: =COUNTIF(Fevrier[[#This Row],[1]:[31]],$AH$5) -> 0 | AI35: =COUNTIF(Fevrier[[#This Row],[1]:[31]],$AI$4)+COUNTIF(Fevrier[[#This Row],[1]:[31]],$AI$5) -> 0 | AJ35: =COUNTIF(Fevrier[[#This Row],[1]:[31]],$AJ$5) -> 0 | AK35: =COUNTIF(Fevrier[[#This Row],[1]:[31]],$AK$5) -> 0 | AL35: =COUNTIF(Fevrier[[#This Row],[1]:[31]],$AL$5) -> 0
B36: 30 | V36: M | W36: M | X36: M | Y36: M | Z36: M | AA36: M | AB36: M | AC36: M | AD36: M | AH36: =COUNTIF(Fevrier[[#This Row],[1]:[31]],$AH$5) -> 0 | AI36: =COUNTIF(Fevrier[[#This Row],[1]:[31]],$AI$4)+COUNTIF(Fevrier[[#This Row],[1]:[31]],$AI$5) -> 0 | AJ36: =COUNTIF(Fevrier[[#This Row],[1]:[31]],$AJ$5) -> 0 | AK36: =COUNTIF(Fevrier[[#This Row],[1]:[31]],$AK$5) -> 0 | AL36: =COUNTIF(Fevrier[[#This Row],[1]:[31]],$AL$5) -> 9
AH37: =SUM(AH7:AH36) -> 14 | AI37: =SUM(AI7:AI36) -> 60 | AJ37: =SUM(AJ7:AJ36) -> 17 | AK37: =SUM(AK7:AK36) -> 31 | AL37: =SUM(AL7:AL36) -> 9

Sheet Mars
B1: Calendrier des gardes et absences des employés
B2: Légende | C2: C | D2: Congés | F2: G1 | G2: Gardes 1 | J2: G2 | K2: Gardes 2 | M2: FS | N2: Formations/Stages | R2: A | S2: Absences | X2: Férié | AB2: M | AC2: Maladie
AH3: Année :
B4: Mars | C4: Dates | AH4: =Janvier!AH4 -> 2023 | AI4: G2
C5: =DATE(AnnéeCalendrier,2,1) -> 44958 | D5: =C5+1 -> 44959 | E5: =D5+1 -> 44960 | F5: =E5+1 -> 44961 | G5: =F5+1 -> 44962 | H5: =G5+1 -> 44963 | I5: =H5+1 -> 44964 | J5: =I5+1 -> 44965 | K5: =J5+1 -> 44966 | ... AG5: =AF5+1 -> 44988 | AH5: C | AI5: G1 | AJ5: FS | AK5: A | AL5: M
B6: Nom de l’employé | C6: 1 | D6: 2 | E6: 3 | F6: 4 | G6: 5 | H6: 6 | I6: 7 | J6: 8 | K6: 9 | L6: 10 | M6: 11 | N6: 12 | O6: 13 | P6: 14 | Q6: 15 | R6: 16 | S6: 17 | T6: 18 | U6: 19 | V6: 20 | W6: 21 | X6: 22 | Y6: 23 | Z6: 24 | AA6: 25 | AB6: 26 | AC6: 27 | AD6: 28 | AE6: 29 | AF6: 30 | AG6: 31 | AH6: Congés | AI6: Gardes | AJ6: Formations Stages | AK6: Absences | AL6: Maladie
B7: BONNEFOND Manon | AH7: =COUNTIF(Mars[[#This Row],[1]:[31]],$AH$5) -> 0 | AI7: =COUNTIF(Mars[[#This Row],[1]:[31]],$AI$4)+COUNTIF(Mars[[#This Row],[1]:[31]],$AI$5) -> 0 | AJ7: =COUNTIF(Mars[[#This Row],[1]:[31]],$AJ$5) -> 0 | AK7: =COUNTIF(Mars[[#This Row],[1]:[31]],$AK$5) -> 0 | AL7: =COUNTIF(Mars[[#This Row],[1]:[31]],$AL$5) -> 0
B8: CABANNES Emile | H8: G1 | I8: G1 | J8: G1 | AC8: G1 | AD8: G1 | AE8: G1 | AH8: =COUNTIF(Mars[[#This Row],[1]:[31]],$AH$5) -> 0 | AI8: =COUNTIF(Mars[[#This Row],[1]:[31]],$AI$4)+COUNTIF(Mars[[#This Row],[1]:[31]],$AI$5) -> 6 | AJ8: =COUNTIF(Mars[[#This Row],[1]:[31]],$AJ$5) -> 0 | AK8: =COUNTIF(Mars[[#This Row],[1]:[31]],$AK$5) -> 0 | AL8: =COUNTIF(Mars[[#This Row],[1]:[31]],$AL$5) -> 0
B9: CHAZEAUD Anita | AH9: =COUNTIF(Mars[[#This Row],[1]:[31]],$AH$5) -> 0 | AI9: =COUNTIF(Mars[[#This Row],[1]:[31]],$AI$4)+COUNTIF(Mars[[#This Row],[1]:[31]],$AI$5) -> 0 | AJ9: =COUNTIF(Mars[[#This Row],[1]:[31]],$AJ$5) -> 0 | AK9: =COUNTIF(Mars[[#This Row],[1]:[31]],$AK$5) -> 0 | AL9: =COUNTIF(Mars[[#This Row],[1]:[31]],$AL$5) -> 0
B10: CASTANG Jean-Claude | AH10: =COUNTIF(Mars[[#This Row],[1]:[31]],$AH$5) -> 0 | AI10: =COUNTIF(Mars[[#This Row],[1]:[31]],$AI$4)+COUNTIF(Mars[[#This Row],[1]:[31]],$AI$5) -> 0 | AJ10: =COUNTIF(Mars[[#This Row],[1]:[31]],$AJ$5) -> 0 | AK10: =COUNTIF(Mars[[#This Row],[1]:[31]],$AK$5) -> 0 | AL10: =COUNTIF(Mars[[#This Row],[1]:[31]],$AL$5) -> 0
B11: DA SILVA Marc | C11: G2 | R11: G1 | S11: G1 | T11: G1 | U11: G1 | V11: G1 | W11: G1 | X11: G1 | AH11: =COUNTIF(Mars[[#This Row],[1]:[31]],$AH$5) -> 0 | AI11: =COUNTIF(Mars[[#This Row],[1]:[31]],$AI$4)+COUNTIF(Mars[[#This Row],[1]:[31]],$AI$5) -> 8 | AJ11: =COUNTIF(Mars[[#This Row],[1]:[31]],$AJ$5) -> 0 | AK11: =COUNTIF(Mars[[#This Row],[1]:[31]],$AK$5) -> 0 | AL11: =COUNTIF(Mars[[#This Row],[1]:[31]],$AL$5) -> 0
B12: DERACO Philippe | O12: G1 | P12: G1 | Q12: G1 | AH12: =COUNTIF(Mars[[#This Row],[1]:[31]],$AH$5) -> 0 | AI12: =COUNTIF(Mars[[#This Row],[1]:[31]],$AI$4)+COUNTIF(Mars[[#This Row],[1]:[31]],$AI$5) -> 3 | AJ12: =COUNTIF(Mars[[#This Row],[1]:[31]],$AJ$5) -> 0 | AK12: =COUNTIF(Mars[[#This Row],[1]:[31]],$AK$5) -> 0 | AL12: =COUNTIF(Mars[[#This Row],[1]:[31]],$AL$5) -> 0
B13: DURAN Alexandre | AH13: =COUNTIF(Mars[[#This Row],[1]:[31]],$AH$5) -> 0 | AI13: =COUNTIF(Mars[[#This Row],[1]:[31]],$AI$4)+COUNTIF(Mars[[#This Row],[1]:[31]],$AI$5) -> 0 | AJ13: =COUNTIF(Mars[[#This Row],[1]:[31]],$AJ$5) -> 0 | AK13: =COUNTIF(Mars[[#This Row],[1]:[31]],$AK$5) -> 0 | AL13: =COUNTIF(Mars[[#This Row],[1]:[31]],$AL$5) -> 0
B14: FAGETTE Philippe | AH14: =COUNTIF(Mars[[#This Row],[1]:[31]],$AH$5) -> 0 | AI14: =COUNTIF(Mars[[#This Row],[1]:[31]],$AI$4)+COUNTIF(Mars[[#This Row],[1]:[31]],$AI$5) -> 0 | AJ14: =COUNTIF(Mars[[#This Row],[1]:[31]],$AJ$5) -> 0 | AK14: =COUNTIF(Mars[[#This Row],[1]:[31]],$AK$5) -> 0 | AL14: =COUNTIF(Mars[[#This Row],[1]:[31]],$AL$5) -> 0
B15: FRANCOIS Jean-Paul | AH15: =COUNTIF(Mars[[#This Row],[1]:[31]],$AH$5) -> 0 | AI15: =COUNTIF(Mars[[#This Row],[1]:[31]],$AI$4)+COUNTIF(Mars[[#This Row],[1]:[31]],$AI$5) -> 0 | AJ15: =COUNTIF(Mars[[#This Row],[1]:[31]],$AJ$5) -> 0 | AK15: =COUNTIF(Mars[[#This Row],[1]:[31]],$AK$5) -> 0 | AL15: =COUNTIF(Mars[[#This Row],[1]:[31]],$AL$5) -> 0
B16: FRANCOIS Mathéo | D16: FS | E16: FS | F16: FS | G16: FS | H16: FS | Y16: FS | Z16: FS | AA16: FS | AB16: FS | AC16: FS | AH16: =COUNTIF(Mars[[#This Row],[1]:[31]],$AH$5) -> 0 | AI16: =COUNTIF(Mars[[#This Row],[1]:[31]],$AI$4)+COUNTIF(Mars[[#This Row],[1]:[31]],$AI$5) -> 0 | AJ16: =COUNTIF(Mars[[#This Row],[1]:[31]],$AJ$5) -> 10 | AK16: =COUNTIF(Mars[[#This Row],[1]:[31]],$AK$5) -> 0 | AL16: =COUNTIF(Mars[[#This Row],[1]:[31]],$AL$5) -> 0
B17: FONDIN Patrice | AH17: =COUNTIF(Mars[[#This Row],[1]:[31]],$AH$5) -> 0 | AI17: =COUNTIF(Mars[[#This Row],[1]:[31]],$AI$4)+COUNTIF(Mars[[#This Row],[1]:[31]],$AI$5) -> 0 | AJ17: =COUNTIF(Mars[[#This Row],[1]:[31]],$AJ$5) -> 0 | AK17: =COUNTIF(Mars[[#This Row],[1]:[31]],$AK$5) -> 0 | AL17: =COUNTIF(Mars[[#This Row],[1]:[31]],$AL$5) -> 0
B18: GRIVOIS Nicolas | C18: G1 | R18: G1 | S18: G1 | T18: G1 | U18: G1 | V18: G1 | W18: G1 | X18: G1 | AH18: =COUNTIF(Mars[[#This Row],[1]:[31]],$AH$5) -> 0 | AI18: =COUNTIF(Mars[[#This Row],[1]:[31]],$AI$4)+COUNTIF(Mars[[#This Row],[1]:[31]],$AI$5) -> 8 | AJ18: =COUNTIF(Mars[[#This Row],[1]:[31]],$AJ$5) -> 0 | AK18: =COUNTIF(Mars[[#This Row],[1]:[31]],$AK$5) -> 0 | AL18: =COUNTIF(Mars[[#This Row],[1]:[31]],$AL$5) -> 0
B19: LAFAYE Marion | C19: A | D19: A | E19: A | F19: A | G19: A | H19: A | I19: A | J19: A | K19: A | L19: A | M19: A | N19: A | O19: A | P19: A | Q19: A | R19: A | S19: A | T19: A | U19: A | V19: A | W19: A | X19: A | Y19: A | Z19: A | AA19: A | AB19: A | AC19: A | AD19: A | AE19: A | AF19: A | AG19: A | AH19: =COUNTIF(Mars[[#This Row],[1]:[31]],$AH$5) -> 0 | AI19: =COUNTIF(Mars[[#This Row],[1]:[31]],$AI$4)+COUNTIF(Mars[[#This Row],[1]:[31]],$AI$5) -> 0 | AJ19: =COUNTIF(Mars[[#This Row],[1]:[31]],$AJ$5) -> 0 | AK19: =COUNTIF(Mars[[#This Row],[1]:[31]],$AK$5) -> 31 | AL19: =COUNTIF(Mars[[#This Row],[1]:[31]],$AL$5) -> 0
B20: MARCHE Philippe | O20: G2 | P20: G2 | Q20: G2 | AF20: FS | AH20: =COUNTIF(Mars[[#This Row],[1]:[31]],$AH$5) -> 0 | AI20: =COUNTIF(Mars[[#This Row],[1]:[31]],$AI$4)+COUNTIF(Mars[[#This Row],[1]:[31]],$AI$5) -> 3 | AJ20: =COUNTIF(Mars[[#This Row],[1]:[31]],$AJ$5) -> 1 | AK20: =COUNTIF(Mars[[#This Row],[1]:[31]],$AK$5) -> 0 | AL20: =COUNTIF(Mars[[#This Row],[1]:[31]],$AL$5) -> 0
B21: MARTIAL Jean-Luc | C21: G1 | D21: C | E21: C | F21: C | G21: C | H21: C | I21: C | J21: C | K21: C | L21: C | M21: C | N21: C | O21: C | P21: C | Q21: C | AH21: =COUNTIF(Mars[[#This Row],[1]:[31]],$AH$5) -> 14 | AI21: =COUNTIF(Mars[[#This Row],[1]:[31]],$AI$4)+COUNTIF(Mars[[#This Row],[1]:[31]],$AI$5) -> 1 | AJ21: =COUNTIF(Mars[[#This Row],[1]:[31]],$AJ$5) -> 0 | AK21: =COUNTIF(Mars[[#This Row],[1]:[31]],$AK$5) -> 0 | AL21: =COUNTIF(Mars[[#This Row],[1]:[31]],$AL$5) -> 0
B22: MENARD Martial | AH22: =COUNTIF(Mars[[#This Row],[1]:[31]],$AH$5) -> 0 | AI22: =COUNTIF(Mars[[#This Row],[1]:[31]],$AI$4)+COUNTIF(Mars[[#This Row],[1]:[31]],$AI$5) -> 0 | AJ22: =COUNTIF(Mars[[#This Row],[1]:[31]],$AJ$5) -> 0 | AK22: =COUNTIF(Mars[[#This Row],[1]:[31]],$AK$5) -> 0 | AL22: =COUNTIF(Mars[[#This Row],[1]:[31]],$AL$5) -> 0
B23: NOEL Didier | AC23: G1 | AD23: G1 | AE23: G1 | AH23: =COUNTIF(Mars[[#This Row],[1]:[31]],$AH$5) -> 0 | AI23: =COUNTIF(Mars[[#This Row],[1]:[31]],$AI$4)+COUNTIF(Mars[[#This Row],[1]:[31]],$AI$5) -> 3 | AJ23: =COUNTIF(Mars[[#This Row],[1]:[31]],$AJ$5) -> 0 | AK23: =COUNTIF(Mars[[#This Row],[1]:[31]],$AK$5) -> 0 | AL23: =COUNTIF(Mars[[#This Row],[1]:[31]],$AL$5) -> 0
B24: NORMAND Christian | AH24: =COUNTIF(Mars[[#This Row],[1]:[31]],$AH$5) -> 0 | AI24: =COUNTIF(Mars[[#This Row],[1]:[31]],$AI$4)+COUNTIF(Mars[[#This Row],[1]:[31]],$AI$5) -> 0 | AJ24: =COUNTIF(Mars[[#This Row],[1]:[31]],$AJ$5) -> 0 | AK24: =COUNTIF(Mars[[#This Row],[1]:[31]],$AK$5) -> 0 | AL24: =COUNTIF(Mars[[#This Row],[1]:[31]],$AL$5) -> 0
B25: PARAT Alex | H25: G1 | I25: G1 | J25: G1 | AH25: =COUNTIF(Mars[[#This Row],[1]:[31]],$AH$5) -> 0 | AI25: =COUNTIF(Mars[[#This Row],[1]:[31]],$AI$4)+COUNTIF(Mars[[#This Row],[1]:[31]],$AI$5) -> 3 | AJ25: =COUNTIF(Mars[[#This Row],[1]:[31]],$AJ$5) -> 0 | AK25: =COUNTIF(Mars[[#This Row],[1]:[31]],$AK$5) -> 0 | AL25: =COUNTIF(Mars[[#This Row],[1]:[31]],$AL$5) -> 0
B26: PICAUD Carine | O26: G1 | P26: G1 | Q26: G1 | AC26: G2 | AD26: G2 | AE26: G2 | AH26: =COUNTIF(Mars[[#This Row],[1]:[31]],$AH$5) -> 0 | AI26: =COUNTIF(Mars[[#This Row],[1]:[31]],$AI$4)+COUNTIF(Mars[[#This Row],[1]:[31]],$AI$5) -> 6 | AJ26: =COUNTIF(Mars[[#This Row],[1]:[31]],$AJ$5) -> 0 | AK26: =COUNTIF(Mars[[#This Row],[1]:[31]],$AK$5) -> 0 | AL26: =COUNTIF(Mars[[#This Row],[1]:[31]],$AL$5) -> 0
B27: RIBEIRO Rui | V27: G2 | W27: G2 | X27: G2 | AH27: =COUNTIF(Mars[[#This Row],[1]:[31]],$AH$5) -> 0 | AI27: =COUNTIF(Mars[[#This Row],[1]:[31]],$AI$4)+COUNTIF(Mars[[#This Row],[1]:[31]],$AI$5) -> 3 | AJ27: =COUNTIF(Mars[[#This Row],[1]:[31]],$AJ$5) -> 0 | AK27: =COUNTIF(Mars[[#This Row],[1]:[31]],$AK$5) -> 0 | AL27: =COUNTIF(Mars[[#This Row],[1]:[31]],$AL$5) -> 0
B28: RIGAL Pauline | O28: G2 | P28: G2 | Q28: G2 | AH28: =COUNTIF(Mars[[#This Row],[1]:[31]],$AH$5) -> 0 | AI28: =COUNTIF(Mars[[#This Row],[1]:[31]],$AI$4)+COUNTIF(Mars[[#This Row],[1]:[31]],$AI$5) -> 3 | AJ28: =COUNTIF(Mars[[#This Row],[1]:[31]],$AJ$5) -> 0 | AK28: =COUNTIF(Mars[[#This Row],[1]:[31]],$AK$5) -> 0 | AL28: =COUNTIF(Mars[[#This Row],[1]:[31]],$AL$5) -> 0
B29: ROUGIER Stéphanie | C29: G2 | V29: G2 | W29: G2 | X29: G2 | AH29: =COUNTIF(Mars[[#This Row],[1]:[31]],$AH$5) -> 0 | AI29: =COUNTIF(Mars[[#This Row],[1]:[31]],$AI$4)+COUNTIF(Mars[[#This Row],[1]:[31]],$AI$5) -> 4 | AJ29: =COUNTIF(Mars[[#This Row],[1]:[31]],$AJ$5) -> 0 | AK29: =COUNTIF(Mars[[#This Row],[1]:[31]],$AK$5) -> 0 | AL29: =COUNTIF(Mars[[#This Row],[1]:[31]],$AL$5) -> 0
B30: SAVARIT André | AC30: G2 | AD30: G2 | AE30: G2 | AH30: =COUNTIF(Mars[[#This Row],[1]:[31]],$AH$5) -> 0 | AI30: =COUNTIF(Mars[[#This Row],[1]:[31]],$AI$4)+COUNTIF(Mars[[#This Row],[1]:[31]],$AI$5) -> 3 | AJ30: =COUNTIF(Mars[[#This Row],[1]:[31]],$AJ$5) -> 0 | AK30: =COUNTIF(Mars[[#This Row],[1]:[31]],$AK$5) -> 0 | AL30: =COUNTIF(Mars[[#This Row],[1]:[31]],$AL$5) -> 0
B31: SAVARIT David | H31: G2 | I31: G2 | J31: G2 | AH31: =COUNTIF(Mars[[#This Row],[1]:[31]],$AH$5) -> 0 | AI31: =COUNTIF(Mars[[#This Row],[1]:[31]],$AI$4)+COUNTIF(Mars[[#This Row],[1]:[31]],$AI$5) -> 3 | AJ31: =COUNTIF(Mars[[#This Row],[1]:[31]],$AJ$5) -> 0 | AK31: =COUNTIF(Mars[[#This Row],[1]:[31]],$AK$5) -> 0 | AL31: =COUNTIF(Mars[[#This Row],[1]:[31]],$AL$5) -> 0
B32: THOMAS Karl | D32: FS | E32: FS | F32: FS | G32: FS | H32: FS | AF32: FS | AH32: =COUNTIF(Mars[[#This Row],[1]:[31]],$AH$5) -> 0 | AI32: =COUNTIF(Mars[[#This Row],[1]:[31]],$AI$4)+COUNTIF(Mars[[#This Row],[1]:[31]],$AI$5) -> 0 | AJ32: =COUNTIF(Mars[[#This Row],[1]:[31]],$AJ$5) -> 6 | AK32: =COUNTIF(Mars[[#This Row],[1]:[31]],$AK$5) -> 0 | AL32: =COUNTIF(Mars[[#This Row],[1]:[31]],$AL$5) -> 0
B33: VAVASSEUR Célia | H33: G2 | I33: G2 | J33: G2 | AH33: =COUNTIF(Mars[[#This Row],[1]:[31]],$AH$5) -> 0 | AI33: =COUNTIF(Mars[[#This Row],[1]:[31]],$AI$4)+COUNTIF(Mars[[#This Row],[1]:[31]],$AI$5) -> 3 | AJ33: =COUNTIF(Mars[[#This Row],[1]:[31]],$AJ$5) -> 0 | AK33: =COUNTIF(Mars[[#This Row],[1]:[31]],$AK$5) -> 0 | AL33: =COUNTIF(Mars[[#This Row],[1]:[31]],$AL$5) -> 0
B34: 28 | AH34: =COUNTIF(Mars[[#This Row],[1]:[31]],$AH$5) -> 0 | AI34: =COUNTIF(Mars[[#This Row],[1]:[31]],$AI$4)+COUNTIF(Mars[[#This Row],[1]:[31]],$AI$5) -> 0 | AJ34: =COUNTIF(Mars[[#This Row],[1]:[31]],$AJ$5) -> 0 | AK34: =COUNTIF(Mars[[#This Row],[1]:[31]],$AK$5) -> 0 | AL34: =COUNTIF(Mars[[#This Row],[1]:[31]],$AL$5) -> 0
B35: 29 | AH35: =COUNTIF(Mars[[#This Row],[1]:[31]],$AH$5) -> 0 | AI35: =COUNTIF(Mars[[#This Row],[1]:[31]],$AI$4)+COUNTIF(Mars[[#This Row],[1]:[31]],$AI$5) -> 0 | AJ35: =COUNTIF(Mars[[#This Row],[1]:[31]],$AJ$5) -> 0 | AK35: =COUNTIF(Mars[[#This Row],[1]:[31]],$AK$5) -> 0 | AL35: =COUNTIF(Mars[[#This Row],[1]:[31]],$AL$5) -> 0
B36: 30 | V36: M | W36: M | X36: M | Y36: M | Z36: M | AA36: M | AB36: M | AC36: M | AD36: M | AH36: =COUNTIF(Mars[[#This Row],[1]:[31]],$AH$5) -> 0 | AI36: =COUNTIF(Mars[[#This Row],[1]:[31]],$AI$4)+COUNTIF(Mars[[#This Row],[1]:[31]],$AI$5) -> 0 | AJ36: =COUNTIF(Mars[[#This Row],[1]:[31]],$AJ$5) -> 0 | AK36: =COUNTIF(Mars[[#This Row],[1]:[31]],$AK$5) -> 0 | AL36: =COUNTIF(Mars[[#This Row],[1]:[31]],$AL$5) -> 9
AH37: =SUM(AH7:AH36) -> 14 | AI37: =SUM(AI7:AI36) -> 60 | AJ37: =SUM(AJ7:AJ36) -> 17 | AK37: =SUM(AK7:AK36) -> 31 | AL37: =SUM(AL7:AL36) -> 9

Sheet Avril
B1: Calendrier des gardes et absences des employés
B2: Légende | C2: C | D2: Congés | F2: G1 | G2: Gardes 1 | J2: G2 | K2: Gardes 2 | M2: FS | N2: Formations/Stages | R2: A | S2: Absences | X2: Férié | AB2: M | AC2: Maladie
AH3: Année :
B4: Avril | C4: Dates | AH4: =Janvier!AH4 -> 2023 | AI4: G2
C5: =DATE(AnnéeCalendrier,2,1) -> 44958 | D5: =C5+1 -> 44959 | E5: =D5+1 -> 44960 | F5: =E5+1 -> 44961 | G5: =F5+1 -> 44962 | H5: =G5+1 -> 44963 | I5: =H5+1 -> 44964 | J5: =I5+1 -> 44965 | K5: =J5+1 -> 44966 | ... AG5: =AF5+1 -> 44988 | AH5: C | AI5: G1 | AJ5: FS | AK5: A | AL5: M
B6: Nom de l’employé | C6: 1 | D6: 2 | E6: 3 | F6: 4 | G6: 5 | H6: 6 | I6: 7 | J6: 8 | K6: 9 | L6: 10 | M6: 11 | N6: 12 | O6: 13 | P6: 14 | Q6: 15 | R6: 16 | S6: 17 | T6: 18 | U6: 19 | V6: 20 | W6: 21 | X6: 22 | Y6: 23 | Z6: 24 | AA6: 25 | AB6: 26 | AC6: 27 | AD6: 28 | AE6: 29 | AF6: 30 | AG6: 31 | AH6: Congés | AI6: Gardes | AJ6: Formations Stages | AK6: Absences | AL6: Maladie
B7: BONNEFOND Manon | AH7: =COUNTIF(Avril[[#This Row],[1]:[31]],$AH$5) -> 0 | AI7: =COUNTIF(Avril[[#This Row],[1]:[31]],$AI$4)+COUNTIF(Avril[[#This Row],[1]:[31]],$AI$5) -> 0 | AJ7: =COUNTIF(Avril[[#This Row],[1]:[31]],$AJ$5) -> 0 | AK7: =COUNTIF(Avril[[#This Row],[1]:[31]],$AK$5) -> 0 | AL7: =COUNTIF(Avril[[#This Row],[1]:[31]],$AL$5) -> 0
B8: CABANNES Emile | H8: G1 | I8: G1 | J8: G1 | AC8: G1 | AD8: G1 | AE8: G1 | AH8: =COUNTIF(Avril[[#This Row],[1]:[31]],$AH$5) -> 0 | AI8: =COUNTIF(Avril[[#This Row],[1]:[31]],$AI$4)+COUNTIF(Avril[[#This Row],[1]:[31]],$AI$5) -> 6 | AJ8: =COUNTIF(Avril[[#This Row],[1]:[31]],$AJ$5) -> 0 | AK8: =COUNTIF(Avril[[#This Row],[1]:[31]],$AK$5) -> 0 | AL8: =COUNTIF(Avril[[#This Row],[1]:[31]],$AL$5) -> 0
B9: CHAZEAUD Anita | AH9: =COUNTIF(Avril[[#This Row],[1]:[31]],$AH$5) -> 0 | AI9: =COUNTIF(Avril[[#This Row],[1]:[31]],$AI$4)+COUNTIF(Avril[[#This Row],[1]:[31]],$AI$5) -> 0 | AJ9: =COUNTIF(Avril[[#This Row],[1]:[31]],$AJ$5) -> 0 | AK9: =COUNTIF(Avril[[#This Row],[1]:[31]],$AK$5) -> 0 | AL9: =COUNTIF(Avril[[#This Row],[1]:[31]],$AL$5) -> 0
B10: CASTANG Jean-Claude | AH10: =COUNTIF(Avril[[#This Row],[1]:[31]],$AH$5) -> 0 | AI10: =COUNTIF(Avril[[#This Row],[1]:[31]],$AI$4)+COUNTIF(Avril[[#This Row],[1]:[31]],$AI$5) -> 0 | AJ10: =COUNTIF(Avril[[#This Row],[1]:[31]],$AJ$5) -> 0 | AK10: =COUNTIF(Avril[[#This Row],[1]:[31]],$AK$5) -> 0 | AL10: =COUNTIF(Avril[[#This Row],[1]:[31]],$AL$5) -> 0
B11: DA SILVA Marc | C11: G2 | R11: G1 | S11: G1 | T11: G1 | U11: G1 | V11: G1 | W11: G1 | X11: G1 | AH11: =COUNTIF(Avril[[#This Row],[1]:[31]],$AH$5) -> 0 | AI11: =COUNTIF(Avril[[#This Row],[1]:[31]],$AI$4)+COUNTIF(Avril[[#This Row],[1]:[31]],$AI$5) -> 8 | AJ11: =COUNTIF(Avril[[#This Row],[1]:[31]],$AJ$5) -> 0 | AK11: =COUNTIF(Avril[[#This Row],[1]:[31]],$AK$5) -> 0 | AL11: =COUNTIF(Avril[[#This Row],[1]:[31]],$AL$5) -> 0
B12: DERACO Philippe | O12: G1 | P12: G1 | Q12: G1 | AH12: =COUNTIF(Avril[[#This Row],[1]:[31]],$AH$5) -> 0 | AI12: =COUNTIF(Avril[[#This Row],[1]:[31]],$AI$4)+COUNTIF(Avril[[#This Row],[1]:[31]],$AI$5) -> 3 | AJ12: =COUNTIF(Avril[[#This Row],[1]:[31]],$AJ$5) -> 0 | AK12: =COUNTIF(Avril[[#This Row],[1]:[31]],$AK$5) -> 0 | AL12: =COUNTIF(Avril[[#This Row],[1]:[31]],$AL$5) -> 0
B13: DURAN Alexandre | AH13: =COUNTIF(Avril[[#This Row],[1]:[31]],$AH$5) -> 0 | AI13: =COUNTIF(Avril[[#This Row],[1]:[31]],$AI$4)+COUNTIF(Avril[[#This Row],[1]:[31]],$AI$5) -> 0 | AJ13: =COUNTIF(Avril[[#This Row],[1]:[31]],$AJ$5) -> 0 | AK13: =COUNTIF(Avril[[#This Row],[1]:[31]],$AK$5) -> 0 | AL13: =COUNTIF(Avril[[#This Row],[1]:[31]],$AL$5) -> 0
B14: FAGETTE Philippe | AH14: =COUNTIF(Avril[[#This Row],[1]:[31]],$AH$5) -> 0 | AI14: =COUNTIF(Avril[[#This Row],[1]:[31]],$AI$4)+COUNTIF(Avril[[#This Row],[1]:[31]],$AI$5) -> 0 | AJ14: =COUNTIF(Avril[[#This Row],[1]:[31]],$AJ$5) -> 0 | AK14: =COUNTIF(Avril[[#This Row],[1]:[31]],$AK$5) -> 0 | AL14: =COUNTIF(Avril[[#This Row],[1]:[31]],$AL$5) -> 0
B15: FRANCOIS Jean-Paul | AH15: =COUNTIF(Avril[[#This Row],[1]:[31]],$AH$5) -> 0 | AI15: =COUNTIF(Avril[[#This Row],[1]:[31]],$AI$4)+COUNTIF(Avril[[#This Row],[1]:[31]],$AI$5) -> 0 | AJ15: =COUNTIF(Avril[[#This Row],[1]:[31]],$AJ$5) -> 0 | AK15: =COUNTIF(Avril[[#This Row],[1]:[31]],$AK$5) -> 0 | AL15: =COUNTIF(Avril[[#This Row],[1]:[31]],$AL$5) -> 0
B16: FRANCOIS Mathéo | D16: FS | E16: FS | F16: FS | G16: FS | H16: FS | Y16: FS | Z16: FS | AA16: FS | AB16: FS | AC16: FS | AH16: =COUNTIF(Avril[[#This Row],[1]:[31]],$AH$5) -> 0 | AI16: =COUNTIF(Avril[[#This Row],[1]:[31]],$AI$4)+COUNTIF(Avril[[#This Row],[1]:[31]],$AI$5) -> 0 | AJ16: =COUNTIF(Avril[[#This Row],[1]:[31]],$AJ$5) -> 10 | AK16: =COUNTIF(Avril[[#This Row],[1]:[31]],$AK$5) -> 0 | AL16: =COUNTIF(Avril[[#This Row],[1]:[31]],$AL$5) -> 0
B17: FONDIN Patrice | AH17: =COUNTIF(Avril[[#This Row],[1]:[31]],$AH$5) -> 0 | AI17: =COUNTIF(Avril[[#This Row],[1]:[31]],$AI$4)+COUNTIF(Avril[[#This Row],[1]:[31]],$AI$5) -> 0 | AJ17: =COUNTIF(Avril[[#This Row],[1]:[31]],$AJ$5) -> 0 | AK17: =COUNTIF(Avril[[#This Row],[1]:[31]],$AK$5) -> 0 | AL17: =COUNTIF(Avril[[#This Row],[1]:[31]],$AL$5) -> 0
B18: GRIVOIS Nicolas | C18: G1 | R18: G1 | S18: G1 | T18: G1 | U18: G1 | V18: G1 | W18: G1 | X18: G1 | AH18: =COUNTIF(Avril[[#This Row],[1]:[31]],$AH$5) -> 0 | AI18: =COUNTIF(Avril[[#This Row],[1]:[31]],$AI$4)+COUNTIF(Avril[[#This Row],[1]:[31]],$AI$5) -> 8 | AJ18: =COUNTIF(Avril[[#This Row],[1]:[31]],$AJ$5) -> 0 | AK18: =COUNTIF(Avril[[#This Row],[1]:[31]],$AK$5) -> 0 | AL18: =COUNTIF(Avril[[#This Row],[1]:[31]],$AL$5) -> 0
B19: LAFAYE Marion | C19: A | D19: A | E19: A | F19: A | G19: A | H19: A | I19: A | J19: A | K19: A | L19: A | M19: A | N19: A | O19: A | P19: A | Q19: A | R19: A | S19: A | T19: A | U19: A | V19: A | W19: A | X19: A | Y19: A | Z19: A | AA19: A | AB19: A | AC19: A | AD19: A | AE19: A | AF19: A | AG19: A | AH19: =COUNTIF(Avril[[#This Row],[1]:[31]],$AH$5) -> 0 | AI19: =COUNTIF(Avril[[#This Row],[1]:[31]],$AI$4)+COUNTIF(Avril[[#This Row],[1]:[31]],$AI$5) -> 0 | AJ19: =COUNTIF(Avril[[#This Row],[1]:[31]],$AJ$5) -> 0 | AK19: =COUNTIF(Avril[[#This Row],[1]:[31]],$AK$5) -> 31 | AL19: =COUNTIF(Avril[[#This Row],[1]:[31]],$AL$5) -> 0
B20: MARCHE Philippe | O20: G2 | P20: G2 | Q20: G2 | AF20: FS | AH20: =COUNTIF(Avril[[#This Row],[1]:[31]],$AH$5) -> 0 | AI20: =COUNTIF(Avril[[#This Row],[1]:[31]],$AI$4)+COUNTIF(Avril[[#This Row],[1]:[31]],$AI$5) -> 3 | AJ20: =COUNTIF(Avril[[#This Row],[1]:[31]],$AJ$5) -> 1 | AK20: =COUNTIF(Avril[[#This Row],[1]:[31]],$AK$5) -> 0 | AL20: =COUNTIF(Avril[[#This Row],[1]:[31]],$AL$5) -> 0
B21: MARTIAL Jean-Luc | C21: G1 | D21: C | E21: C | F21: C | G21: C | H21: C | I21: C | J21: C | K21: C | L21: C | M21: C | N21: C | O21: C | P21: C | Q21: C | AH21: =COUNTIF(Avril[[#This Row],[1]:[31]],$AH$5) -> 14 | AI21: =COUNTIF(Avril[[#This Row],[1]:[31]],$AI$4)+COUNTIF(Avril[[#This Row],[1]:[31]],$AI$5) -> 1 | AJ21: =COUNTIF(Avril[[#This Row],[1]:[31]],$AJ$5) -> 0 | AK21: =COUNTIF(Avril[[#This Row],[1]:[31]],$AK$5) -> 0 | AL21: =COUNTIF(Avril[[#This Row],[1]:[31]],$AL$5) -> 0
B22: MENARD Martial | AH22: =COUNTIF(Avril[[#This Row],[1]:[31]],$AH$5) -> 0 | AI22: =COUNTIF(Avril[[#This Row],[1]:[31]],$AI$4)+COUNTIF(Avril[[#This Row],[1]:[31]],$AI$5) -> 0 | AJ22: =COUNTIF(Avril[[#This Row],[1]:[31]],$AJ$5) -> 0 | AK22: =COUNTIF(Avril[[#This Row],[1]:[31]],$AK$5) -> 0 | AL22: =COUNTIF(Avril[[#This Row],[1]:[31]],$AL$5) -> 0
B23: NOEL Didier | AC23: G1 | AD23: G1 | AE23: G1 | AH23: =COUNTIF(Avril[[#This Row],[1]:[31]],$AH$5) -> 0 | AI23: =COUNTIF(Avril[[#This Row],[1]:[31]],$AI$4)+COUNTIF(Avril[[#This Row],[1]:[31]],$AI$5) -> 3 | AJ23: =COUNTIF(Avril[[#This Row],[1]:[31]],$AJ$5) -> 0 | AK23: =COUNTIF(Avril[[#This Row],[1]:[31]],$AK$5) -> 0 | AL23: =COUNTIF(Avril[[#This Row],[1]:[31]],$AL$5) -> 0
B24: NORMAND Christian | AH24: =COUNTIF(Avril[[#This Row],[1]:[31]],$AH$5) -> 0 | AI24: =COUNTIF(Avril[[#This Row],[1]:[31]],$AI$4)+COUNTIF(Avril[[#This Row],[1]:[31]],$AI$5) -> 0 | AJ24: =COUNTIF(Avril[[#This Row],[1]:[31]],$AJ$5) -> 0 | AK24: =COUNTIF(Avril[[#This Row],[1]:[31]],$AK$5) -> 0 | AL24: =COUNTIF(Avril[[#This Row],[1]:[31]],$AL$5) -> 0
B25: PARAT Alex | H25: G1 | I25: G1 | J25: G1 | AH25: =COUNTIF(Avril[[#This Row],[1]:[31]],$AH$5) -> 0 | AI25: =COUNTIF(Avril[[#This Row],[1]:[31]],$AI$4)+COUNTIF(Avril[[#This Row],[1]:[31]],$AI$5) -> 3 | AJ25: =COUNTIF(Avril[[#This Row],[1]:[31]],$AJ$5) -> 0 | AK25: =COUNTIF(Avril[[#This Row],[1]:[31]],$AK$5) -> 0 | AL25: =COUNTIF(Avril[[#This Row],[1]:[31]],$AL$5) -> 0
B26: PICAUD Carine | O26: G1 | P26: G1 | Q26: G1 | AC26: G2 | AD26: G2 | AE26: G2 | AH26: =COUNTIF(Avril[[#This Row],[1]:[31]],$AH$5) -> 0 | AI26: =COUNTIF(Avril[[#This Row],[1]:[31]],$AI$4)+COUNTIF(Avril[[#This Row],[1]:[31]],$AI$5) -> 6 | AJ26: =COUNTIF(Avril[[#This Row],[1]:[31]],$AJ$5) -> 0 | AK26: =COUNTIF(Avril[[#This Row],[1]:[31]],$AK$5) -> 0 | AL26: =COUNTIF(Avril[[#This Row],[1]:[31]],$AL$5) -> 0
B27: RIBEIRO Rui | V27: G2 | W27: G2 | X27: G2 | AH27: =COUNTIF(Avril[[#This Row],[1]:[31]],$AH$5) -> 0 | AI27: =COUNTIF(Avril[[#This Row],[1]:[31]],$AI$4)+COUNTIF(Avril[[#This Row],[1]:[31]],$AI$5) -> 3 | AJ27: =COUNTIF(Avril[[#This Row],[1]:[31]],$AJ$5) -> 0 | AK27: =COUNTIF(Avril[[#This Row],[1]:[31]],$AK$5) -> 0 | AL27: =COUNTIF(Avril[[#This Row],[1]:[31]],$AL$5) -> 0
B28: RIGAL Pauline | O28: G2 | P28: G2 | Q28: G2 | AH28: =COUNTIF(Avril[[#This Row],[1]:[31]],$AH$5) -> 0 | AI28: =COUNTIF(Avril[[#This Row],[1]:[31]],$AI$4)+COUNTIF(Avril[[#This Row],[1]:[31]],$AI$5) -> 3 | AJ28: =COUNTIF(Avril[[#This Row],[1]:[31]],$AJ$5) -> 0 | AK28: =COUNTIF(Avril[[#This Row],[1]:[31]],$AK$5) -> 0 | AL28: =COUNTIF(Avril[[#This Row],[1]:[31]],$AL$5) -> 0
B29: ROUGIER Stéphanie | C29: G2 | V29: G2 | W29: G2 | X29: G2 | AH29: =COUNTIF(Avril[[#This Row],[1]:[31]],$AH$5) -> 0 | AI29: =COUNTIF(Avril[[#This Row],[1]:[31]],$AI$4)+COUNTIF(Avril[[#This Row],[1]:[31]],$AI$5) -> 4 | AJ29: =COUNTIF(Avril[[#This Row],[1]:[31]],$AJ$5) -> 0 | AK29: =COUNTIF(Avril[[#This Row],[1]:[31]],$AK$5) -> 0 | AL29: =COUNTIF(Avril[[#This Row],[1]:[31]],$AL$5) -> 0
B30: SAVARIT André | AC30: G2 | AD30: G2 | AE30: G2 | AH30: =COUNTIF(Avril[[#This Row],[1]:[31]],$AH$5) -> 0 | AI30: =COUNTIF(Avril[[#This Row],[1]:[31]],$AI$4)+COUNTIF(Avril[[#This Row],[1]:[31]],$AI$5) -> 3 | AJ30: =COUNTIF(Avril[[#This Row],[1]:[31]],$AJ$5) -> 0 | AK30: =COUNTIF(Avril[[#This Row],[1]:[31]],$AK$5) -> 0 | AL30: =COUNTIF(Avril[[#This Row],[1]:[31]],$AL$5) -> 0
B31: SAVARIT David | H31: G2 | I31: G2 | J31: G2 | AH31: =COUNTIF(Avril[[#This Row],[1]:[31]],$AH$5) -> 0 | AI31: =COUNTIF(Avril[[#This Row],[1]:[31]],$AI$4)+COUNTIF(Avril[[#This Row],[1]:[31]],$AI$5) -> 3 | AJ31: =COUNTIF(Avril[[#This Row],[1]:[31]],$AJ$5) -> 0 | AK31: =COUNTIF(Avril[[#This Row],[1]:[31]],$AK$5) -> 0 | AL31: =COUNTIF(Avril[[#This Row],[1]:[31]],$AL$5) -> 0
B32: THOMAS Karl | D32: FS | E32: FS | F32: FS | G32: FS | H32: FS | AF32: FS | AH32: =COUNTIF(Avril[[#This Row],[1]:[31]],$AH$5) -> 0 | AI32: =COUNTIF(Avril[[#This Row],[1]:[31]],$AI$4)+COUNTIF(Avril[[#This Row],[1]:[31]],$AI$5) -> 0 | AJ32: =COUNTIF(Avril[[#This Row],[1]:[31]],$AJ$5) -> 6 | AK32: =COUNTIF(Avril[[#This Row],[1]:[31]],$AK$5) -> 0 | AL32: =COUNTIF(Avril[[#This Row],[1]:[31]],$AL$5) -> 0
B33: VAVASSEUR Célia | H33: G2 | I33: G2 | J33: G2 | AH33: =COUNTIF(Avril[[#This Row],[1]:[31]],$AH$5) -> 0 | AI33: =COUNTIF(Avril[[#This Row],[1]:[31]],$AI$4)+COUNTIF(Avril[[#This Row],[1]:[31]],$AI$5) -> 3 | AJ33: =COUNTIF(Avril[[#This Row],[1]:[31]],$AJ$5) -> 0 | AK33: =COUNTIF(Avril[[#This Row],[1]:[31]],$AK$5) -> 0 | AL33: =COUNTIF(Avril[[#This Row],[1]:[31]],$AL$5) -> 0
B34: 28 | AH34: =COUNTIF(Avril[[#This Row],[1]:[31]],$AH$5) -> 0 | AI34: =COUNTIF(Avril[[#This Row],[1]:[31]],$AI$4)+COUNTIF(Avril[[#This Row],[1]:[31]],$AI$5) -> 0 | AJ34: =COUNTIF(Avril[[#This Row],[1]:[31]],$AJ$5) -> 0 | AK34: =COUNTIF(Avril[[#This Row],[1]:[31]],$AK$5) -> 0 | AL34: =COUNTIF(Avril[[#This Row],[1]:[31]],$AL$5) -> 0
B35: 29 | AH35: =COUNTIF(Avril[[#This Row],[1]:[31]],$AH$5) -> 0 | AI35: =COUNTIF(Avril[[#This Row],[1]:[31]],$AI$4)+COUNTIF(Avril[[#This Row],[1]:[31]],$AI$5) -> 0 | AJ35: =COUNTIF(Avril[[#This Row],[1]:[31]],$AJ$5) -> 0 | AK35: =COUNTIF(Avril[[#This Row],[1]:[31]],$AK$5) -> 0 | AL35: =COUNTIF(Avril[[#This Row],[1]:[31]],$AL$5) -> 0
B36: 30 | V36: M | W36: M | X36: M | Y36: M | Z36: M | AA36: M | AB36: M | AC36: M | AD36: M | AH36: =COUNTIF(Avril[[#This Row],[1]:[31]],$AH$5) -> 0 | AI36: =COUNTIF(Avril[[#This Row],[1]:[31]],$AI$4)+COUNTIF(Avril[[#This Row],[1]:[31]],$AI$5) -> 0 | AJ36: =COUNTIF(Avril[[#This Row],[1]:[31]],$AJ$5) -> 0 | AK36: =COUNTIF(Avril[[#This Row],[1]:[31]],$AK$5) -> 0 | AL36: =COUNTIF(Avril[[#This Row],[1]:[31]],$AL$5) -> 9
AH37: =SUM(AH7:AH36) -> 14 | AI37: =SUM(AI7:AI36) -> 60 | AJ37: =SUM(AJ7:AJ36) -> 17 | AK37: =SUM(AK7:AK36) -> 31 | AL37: =SUM(AL7:AL36) -> 9

Sheet Mai
B1: Calendrier des gardes et absences des employés
B2: Légende | C2: C | D2: Congés | F2: G1 | G2: Gardes 1 | J2: G2 | K2: Gardes 2 | M2: FS | N2: Formations/Stages | R2: A | S2: Absences | X2: Férié | AB2: M | AC2: Maladie
AH3: Année :
B4: Mai | C4: Dates | AH4: =Janvier!AH4 -> 2023 | AI4: G2
C5: =DATE(AnnéeCalendrier,2,1) -> 44958 | D5: =C5+1 -> 44959 | E5: =D5+1 -> 44960 | F5: =E5+1 -> 44961 | G5: =F5+1 -> 44962 | H5: =G5+1 -> 44963 | I5: =H5+1 -> 44964 | J5: =I5+1 -> 44965 | K5: =J5+1 -> 44966 | ... AG5: =AF5+1 -> 44988 | AH5: C | AI5: G1 | AJ5: FS | AK5: A | AL5: M
B6: Nom de l’employé | C6: 1 | D6: 2 | E6: 3 | F6: 4 | G6: 5 | H6: 6 | I6: 7 | J6: 8 | K6: 9 | L6: 10 | M6: 11 | N6: 12 | O6: 13 | P6: 14 | Q6: 15 | R6: 16 | S6: 17 | T6: 18 | U6: 19 | V6: 20 | W6: 21 | X6: 22 | Y6: 23 | Z6: 24 | AA6: 25 | AB6: 26 | AC6: 27 | AD6: 28 | AE6: 29 | AF6: 30 | AG6: 31 | AH6: Congés | AI6: Gardes | AJ6: Formations Stages | AK6: Absences | AL6: Maladie
B7: BONNEFOND Manon | AH7: =COUNTIF(Mai[[#This Row],[1]:[31]],$AH$5) -> 0 | AI7: =COUNTIF(Mai[[#This Row],[1]:[31]],$AI$4)+COUNTIF(Mai[[#This Row],[1]:[31]],$AI$5) -> 0 | AJ7: =COUNTIF(Mai[[#This Row],[1]:[31]],$AJ$5) -> 0 | AK7: =COUNTIF(Mai[[#This Row],[1]:[31]],$AK$5) -> 0 | AL7: =COUNTIF(Mai[[#This Row],[1]:[31]],$AL$5) -> 0
B8: CABANNES Emile | H8: G1 | I8: G1 | J8: G1 | AC8: G1 | AD8: G1 | AE8: G1 | AH8: =COUNTIF(Mai[[#This Row],[1]:[31]],$AH$5) -> 0 | AI8: =COUNTIF(Mai[[#This Row],[1]:[31]],$AI$4)+COUNTIF(Mai[[#This Row],[1]:[31]],$AI$5) -> 6 | AJ8: =COUNTIF(Mai[[#This Row],[1]:[31]],$AJ$5) -> 0 | AK8: =COUNTIF(Mai[[#This Row],[1]:[31]],$AK$5) -> 0 | AL8: =COUNTIF(Mai[[#This Row],[1]:[31]],$AL$5) -> 0
B9: CHAZEAUD Anita | AH9: =COUNTIF(Mai[[#This Row],[1]:[31]],$AH$5) -> 0 | AI9: =COUNTIF(Mai[[#This Row],[1]:[31]],$AI$4)+COUNTIF(Mai[[#This Row],[1]:[31]],$AI$5) -> 0 | AJ9: =COUNTIF(Mai[[#This Row],[1]:[31]],$AJ$5) -> 0 | AK9: =COUNTIF(Mai[[#This Row],[1]:[31]],$AK$5) -> 0 | AL9: =COUNTIF(Mai[[#This Row],[1]:[31]],$AL$5) -> 0
B10: CASTANG Jean-Claude | AH10: =COUNTIF(Mai[[#This Row],[1]:[31]],$AH$5) -> 0 | AI10: =COUNTIF(Mai[[#This Row],[1]:[31]],$AI$4)+COUNTIF(Mai[[#This Row],[1]:[31]],$AI$5) -> 0 | AJ10: =COUNTIF(Mai[[#This Row],[1]:[31]],$AJ$5) -> 0 | AK10: =COUNTIF(Mai[[#This Row],[1]:[31]],$AK$5) -> 0 | AL10: =COUNTIF(Mai[[#This Row],[1]:[31]],$AL$5) -> 0
B11: DA SILVA Marc | C11: G2 | R11: G1 | S11: G1 | T11: G1 | U11: G1 | V11: G1 | W11: G1 | X11: G1 | AH11: =COUNTIF(Mai[[#This Row],[1]:[31]],$AH$5) -> 0 | AI11: =COUNTIF(Mai[[#This Row],[1]:[31]],$AI$4)+COUNTIF(Mai[[#This Row],[1]:[31]],$AI$5) -> 8 | AJ11: =COUNTIF(Mai[[#This Row],[1]:[31]],$AJ$5) -> 0 | AK11: =COUNTIF(Mai[[#This Row],[1]:[31]],$AK$5) -> 0 | AL11: =COUNTIF(Mai[[#This Row],[1]:[31]],$AL$5) -> 0
B12: DERACO Philippe | O12: G1 | P12: G1 | Q12: G1 | AH12: =COUNTIF(Mai[[#This Row],[1]:[31]],$AH$5) -> 0 | AI12: =COUNTIF(Mai[[#This Row],[1]:[31]],$AI$4)+COUNTIF(Mai[[#This Row],[1]:[31]],$AI$5) -> 3 | AJ12: =COUNTIF(Mai[[#This Row],[1]:[31]],$AJ$5) -> 0 | AK12: =COUNTIF(Mai[[#This Row],[1]:[31]],$AK$5) -> 0 | AL12: =COUNTIF(Mai[[#This Row],[1]:[31]],$AL$5) -> 0
B13: DURAN Alexandre | AH13: =COUNTIF(Mai[[#This Row],[1]:[31]],$AH$5) -> 0 | AI13: =COUNTIF(Mai[[#This Row],[1]:[31]],$AI$4)+COUNTIF(Mai[[#This Row],[1]:[31]],$AI$5) -> 0 | AJ13: =COUNTIF(Mai[[#This Row],[1]:[31]],$AJ$5) -> 0 | AK13: =COUNTIF(Mai[[#This Row],[1]:[31]],$AK$5) -> 0 | AL13: =COUNTIF(Mai[[#This Row],[1]:[31]],$AL$5) -> 0
B14: FAGETTE Philippe | AH14: =COUNTIF(Mai[[#This Row],[1]:[31]],$AH$5) -> 0 | AI14: =COUNTIF(Mai[[#This Row],[1]:[31]],$AI$4)+COUNTIF(Mai[[#This Row],[1]:[31]],$AI$5) -> 0 | AJ14: =COUNTIF(Mai[[#This Row],[1]:[31]],$AJ$5) -> 0 | AK14: =COUNTIF(Mai[[#This Row],[1]:[31]],$AK$5) -> 0 | AL14: =COUNTIF(Mai[[#This Row],[1]:[31]],$AL$5) -> 0
B15: FRANCOIS Jean-Paul | AH15: =COUNTIF(Mai[[#This Row],[1]:[31]],$AH$5) -> 0 | AI15: =COUNTIF(Mai[[#This Row],[1]:[31]],$AI$4)+COUNTIF(Mai[[#This Row],[1]:[31]],$AI$5) -> 0 | AJ15: =COUNTIF(Mai[[#This Row],[1]:[31]],$AJ$5) -> 0 | AK15: =COUNTIF(Mai[[#This Row],[1]:[31]],$AK$5) -> 0 | AL15: =COUNTIF(Mai[[#This Row],[1]:[31]],$AL$5) -> 0
B16: FRANCOIS Mathéo | D16: FS | E16: FS | F16: FS | G16: FS | H16: FS | Y16: FS | Z16: FS | AA16: FS | AB16: FS | AC16: FS | AH16: =COUNTIF(Mai[[#This Row],[1]:[31]],$AH$5) -> 0 | AI16: =COUNTIF(Mai[[#This Row],[1]:[31]],$AI$4)+COUNTIF(Mai[[#This Row],[1]:[31]],$AI$5) -> 0 | AJ16: =COUNTIF(Mai[[#This Row],[1]:[31]],$AJ$5) -> 10 | AK16: =COUNTIF(Mai[[#This Row],[1]:[31]],$AK$5) -> 0 | AL16: =COUNTIF(Mai[[#This Row],[1]:[31]],$AL$5) -> 0
B17: FONDIN Patrice | AH17: =COUNTIF(Mai[[#This Row],[1]:[31]],$AH$5) -> 0 | AI17: =COUNTIF(Mai[[#This Row],[1]:[31]],$AI$4)+COUNTIF(Mai[[#This Row],[1]:[31]],$AI$5) -> 0 | AJ17: =COUNTIF(Mai[[#This Row],[1]:[31]],$AJ$5) -> 0 | AK17: =COUNTIF(Mai[[#This Row],[1]:[31]],$AK$5) -> 0 | AL17: =COUNTIF(Mai[[#This Row],[1]:[31]],$AL$5) -> 0
B18: GRIVOIS Nicolas | C18: G1 | R18: G1 | S18: G1 | T18: G1 | U18: G1 | V18: G1 | W18: G1 | X18: G1 | AH18: =COUNTIF(Mai[[#This Row],[1]:[31]],$AH$5) -> 0 | AI18: =COUNTIF(Mai[[#This Row],[1]:[31]],$AI$4)+COUNTIF(Mai[[#This Row],[1]:[31]],$AI$5) -> 8 | AJ18: =COUNTIF(Mai[[#This Row],[1]:[31]],$AJ$5) -> 0 | AK18: =COUNTIF(Mai[[#This Row],[1]:[31]],$AK$5) -> 0 | AL18: =COUNTIF(Mai[[#This Row],[1]:[31]],$AL$5) -> 0
B19: LAFAYE Marion | C19: A | D19: A | E19: A | F19: A | G19: A | H19: A | I19: A | J19: A | K19: A | L19: A | M19: A | N19: A | O19: A | P19: A | Q19: A | R19: A | S19: A | T19: A | U19: A | V19: A | W19: A | X19: A | Y19: A | Z19: A | AA19: A | AB19: A | AC19: A | AD19: A | AE19: A | AF19: A | AG19: A | AH19: =COUNTIF(Mai[[#This Row],[1]:[31]],$AH$5) -> 0 | AI19: =COUNTIF(Mai[[#This Row],[1]:[31]],$AI$4)+COUNTIF(Mai[[#This Row],[1]:[31]],$AI$5) -> 0 | AJ19: =COUNTIF(Mai[[#This Row],[1]:[31]],$AJ$5) -> 0 | AK19: =COUNTIF(Mai[[#This Row],[1]:[31]],$AK$5) -> 31 | AL19: =COUNTIF(Mai[[#This Row],[1]:[31]],$AL$5) -> 0
B20: MARCHE Philippe | O20: G2 | P20: G2 | Q20: G2 | AF20: FS | AH20: =COUNTIF(Mai[[#This Row],[1]:[31]],$AH$5) -> 0 | AI20: =COUNTIF(Mai[[#This Row],[1]:[31]],$AI$4)+COUNTIF(Mai[[#This Row],[1]:[31]],$AI$5) -> 3 | AJ20: =COUNTIF(Mai[[#This Row],[1]:[31]],$AJ$5) -> 1 | AK20: =COUNTIF(Mai[[#This Row],[1]:[31]],$AK$5) -> 0 | AL20: =COUNTIF(Mai[[#This Row],[1]:[31]],$AL$5) -> 0
B21: MARTIAL Jean-Luc | C21: G1 | D21: C | E21: C | F21: C | G21: C | H21: C | I21: C | J21: C | K21: C | L21: C | M21: C | N21: C | O21: C | P21: C | Q21: C | AH21: =COUNTIF(Mai[[#This Row],[1]:[31]],$AH$5) -> 14 | AI21: =COUNTIF(Mai[[#This Row],[1]:[31]],$AI$4)+COUNTIF(Mai[[#This Row],[1]:[31]],$AI$5) -> 1 | AJ21: =COUNTIF(Mai[[#This Row],[1]:[31]],$AJ$5) -> 0 | AK21: =COUNTIF(Mai[[#This Row],[1]:[31]],$AK$5) -> 0 | AL21: =COUNTIF(Mai[[#This Row],[1]:[31]],$AL$5) -> 0
B22: MENARD Martial | AH22: =COUNTIF(Mai[[#This Row],[1]:[31]],$AH$5) -> 0 | AI22: =COUNTIF(Mai[[#This Row],[1]:[31]],$AI$4)+COUNTIF(Mai[[#This Row],[1]:[31]],$AI$5) -> 0 | AJ22: =COUNTIF(Mai[[#This Row],[1]:[31]],$AJ$5) -> 0 | AK22: =COUNTIF(Mai[[#This Row],[1]:[31]],$AK$5) -> 0 | AL22: =COUNTIF(Mai[[#This Row],[1]:[31]],$AL$5) -> 0
B23: NOEL Didier | AC23: G1 | AD23: G1 | AE23: G1 | AH23: =COUNTIF(Mai[[#This Row],[1]:[31]],$AH$5) -> 0 | AI23: =COUNTIF(Mai[[#This Row],[1]:[31]],$AI$4)+COUNTIF(Mai[[#This Row],[1]:[31]],$AI$5) -> 3 | AJ23: =COUNTIF(Mai[[#This Row],[1]:[31]],$AJ$5) -> 0 | AK23: =COUNTIF(Mai[[#This Row],[1]:[31]],$AK$5) -> 0 | AL23: =COUNTIF(Mai[[#This Row],[1]:[31]],$AL$5) -> 0
B24: NORMAND Christian | AH24: =COUNTIF(Mai[[#This Row],[1]:[31]],$AH$5) -> 0 | AI24: =COUNTIF(Mai[[#This Row],[1]:[31]],$AI$4)+COUNTIF(Mai[[#This Row],[1]:[31]],$AI$5) -> 0 | AJ24: =COUNTIF(Mai[[#This Row],[1]:[31]],$AJ$5) -> 0 | AK24: =COUNTIF(Mai[[#This Row],[1]:[31]],$AK$5) -> 0 | AL24: =COUNTIF(Mai[[#This Row],[1]:[31]],$AL$5) -> 0
B25: PARAT Alex | H25: G1 | I25: G1 | J25: G1 | AH25: =COUNTIF(Mai[[#This Row],[1]:[31]],$AH$5) -> 0 | AI25: =COUNTIF(Mai[[#This Row],[1]:[31]],$AI$4)+COUNTIF(Mai[[#This Row],[1]:[31]],$AI$5) -> 3 | AJ25: =COUNTIF(Mai[[#This Row],[1]:[31]],$AJ$5) -> 0 | AK25: =COUNTIF(Mai[[#This Row],[1]:[31]],$AK$5) -> 0 | AL25: =COUNTIF(Mai[[#This Row],[1]:[31]],$AL$5) -> 0
B26: PICAUD Carine | O26: G1 | P26: G1 | Q26: G1 | AC26: G2 | AD26: G2 | AE26: G2 | AH26: =COUNTIF(Mai[[#This Row],[1]:[31]],$AH$5) -> 0 | AI26: =COUNTIF(Mai[[#This Row],[1]:[31]],$AI$4)+COUNTIF(Mai[[#This Row],[1]:[31]],$AI$5) -> 6 | AJ26: =COUNTIF(Mai[[#This Row],[1]:[31]],$AJ$5) -> 0 | AK26: =COUNTIF(Mai[[#This Row],[1]:[31]],$AK$5) -> 0 | AL26: =COUNTIF(Mai[[#This Row],[1]:[31]],$AL$5) -> 0
B27: RIBEIRO Rui | V27: G2 | W27: G2 | X27: G2 | AH27: =COUNTIF(Mai[[#This Row],[1]:[31]],$AH$5) -> 0 | AI27: =COUNTIF(Mai[[#This Row],[1]:[31]],$AI$4)+COUNTIF(Mai[[#This Row],[1]:[31]],$AI$5) -> 3 | AJ27: =COUNTIF(Mai[[#This Row],[1]:[31]],$AJ$5) -> 0 | AK27: =COUNTIF(Mai[[#This Row],[1]:[31]],$AK$5) -> 0 | AL27: =COUNTIF(Mai[[#This Row],[1]:[31]],$AL$5) -> 0
B28: RIGAL Pauline | O28: G2 | P28: G2 | Q28: G2 | AH28: =COUNTIF(Mai[[#This Row],[1]:[31]],$AH$5) -> 0 | AI28: =COUNTIF(Mai[[#This Row],[1]:[31]],$AI$4)+COUNTIF(Mai[[#This Row],[1]:[31]],$AI$5) -> 3 | AJ28: =COUNTIF(Mai[[#This Row],[1]:[31]],$AJ$5) -> 0 | AK28: =COUNTIF(Mai[[#This Row],[1]:[31]],$AK$5) -> 0 | AL28: =COUNTIF(Mai[[#This Row],[1]:[31]],$AL$5) -> 0
B29: ROUGIER Stéphanie | C29: G2 | V29: G2 | W29: G2 | X29: G2 | AH29: =COUNTIF(Mai[[#This Row],[1]:[31]],$AH$5) -> 0 | AI29: =COUNTIF(Mai[[#This Row],[1]:[31]],$AI$4)+COUNTIF(Mai[[#This Row],[1]:[31]],$AI$5) -> 4 | AJ29: =COUNTIF(Mai[[#This Row],[1]:[31]],$AJ$5) -> 0 | AK29: =COUNTIF(Mai[[#This Row],[1]:[31]],$AK$5) -> 0 | AL29: =COUNTIF(Mai[[#This Row],[1]:[31]],$AL$5) -> 0
B30: SAVARIT André | AC30: G2 | AD30: G2 | AE30: G2 | AH30: =COUNTIF(Mai[[#This Row],[1]:[31]],$AH$5) -> 0 | AI30: =COUNTIF(Mai[[#This Row],[1]:[31]],$AI$4)+COUNTIF(Mai[[#This Row],[1]:[31]],$AI$5) -> 3 | AJ30: =COUNTIF(Mai[[#This Row],[1]:[31]],$AJ$5) -> 0 | AK30: =COUNTIF(Mai[[#This Row],[1]:[31]],$AK$5) -> 0 | AL30: =COUNTIF(Mai[[#This Row],[1]:[31]],$AL$5) -> 0
B31: SAVARIT David | H31: G2 | I31: G2 | J31: G2 | AH31: =COUNTIF(Mai[[#This Row],[1]:[31]],$AH$5) -> 0 | AI31: =COUNTIF(Mai[[#This Row],[1]:[31]],$AI$4)+COUNTIF(Mai[[#This Row],[1]:[31]],$AI$5) -> 3 | AJ31: =COUNTIF(Mai[[#This Row],[1]:[31]],$AJ$5) -> 0 | AK31: =COUNTIF(Mai[[#This Row],[1]:[31]],$AK$5) -> 0 | AL31: =COUNTIF(Mai[[#This Row],[1]:[31]],$AL$5) -> 0
B32: THOMAS Karl | D32: FS | E32: FS | F32: FS | G32: FS | H32: FS | AF32: FS | AH32: =COUNTIF(Mai[[#This Row],[1]:[31]],$AH$5) -> 0 | AI32: =COUNTIF(Mai[[#This Row],[1]:[31]],$AI$4)+COUNTIF(Mai[[#This Row],[1]:[31]],$AI$5) -> 0 | AJ32: =COUNTIF(Mai[[#This Row],[1]:[31]],$AJ$5) -> 6 | AK32: =COUNTIF(Mai[[#This Row],[1]:[31]],$AK$5) -> 0 | AL32: =COUNTIF(Mai[[#This Row],[1]:[31]],$AL$5) -> 0
B33: VAVASSEUR Célia | H33: G2 | I33: G2 | J33: G2 | AH33: =COUNTIF(Mai[[#This Row],[1]:[31]],$AH$5) -> 0 | AI33: =COUNTIF(Mai[[#This Row],[1]:[31]],$AI$4)+COUNTIF(Mai[[#This Row],[1]:[31]],$AI$5) -> 3 | AJ33: =COUNTIF(Mai[[#This Row],[1]:[31]],$AJ$5) -> 0 | AK33: =COUNTIF(Mai[[#This Row],[1]:[31]],$AK$5) -> 0 | AL33: =COUNTIF(Mai[[#This Row],[1]:[31]],$AL$5) -> 0
B34: 28 | AH34: =COUNTIF(Mai[[#This Row],[1]:[31]],$AH$5) -> 0 | AI34: =COUNTIF(Mai[[#This Row],[1]:[31]],$AI$4)+COUNTIF(Mai[[#This Row],[1]:[31]],$AI$5) -> 0 | AJ34: =COUNTIF(Mai[[#This Row],[1]:[31]],$AJ$5) -> 0 | AK34: =COUNTIF(Mai[[#This Row],[1]:[31]],$AK$5) -> 0 | AL34: =COUNTIF(Mai[[#This Row],[1]:[31]],$AL$5) -> 0
B35: 29 | AH35: =COUNTIF(Mai[[#This Row],[1]:[31]],$AH$5) -> 0 | AI35: =COUNTIF(Mai[[#This Row],[1]:[31]],$AI$4)+COUNTIF(Mai[[#This Row],[1]:[31]],$AI$5) -> 0 | AJ35: =COUNTIF(Mai[[#This Row],[1]:[31]],$AJ$5) -> 0 | AK35: =COUNTIF(Mai[[#This Row],[1]:[31]],$AK$5) -> 0 | AL35: =COUNTIF(Mai[[#This Row],[1]:[31]],$AL$5) -> 0
B36: 30 | V36: M | W36: M | X36: M | Y36: M | Z36: M | AA36: M | AB36: M | AC36: M | AD36: M | AH36: =COUNTIF(Mai[[#This Row],[1]:[31]],$AH$5) -> 0 | AI36: =COUNTIF(Mai[[#This Row],[1]:[31]],$AI$4)+COUNTIF(Mai[[#This Row],[1]:[31]],$AI$5) -> 0 | AJ36: =COUNTIF(Mai[[#This Row],[1]:[31]],$AJ$5) -> 0 | AK36: =COUNTIF(Mai[[#This Row],[1]:[31]],$AK$5) -> 0 | AL36: =COUNTIF(Mai[[#This Row],[1]:[31]],$AL$5) -> 9
AH37: =SUM(AH7:AH36) -> 14 | AI37: =SUM(AI7:AI36) -> 60 | AJ37: =SUM(AJ7:AJ36) -> 17 | AK37: =SUM(AK7:AK36) -> 31 | AL37: =SUM(AL7:AL36) -> 9

Sheet Juin
B1: Calendrier des gardes et absences des employés
B2: Légende | C2: C | D2: Congés | F2: G1 | G2: Gardes 1 | J2: G2 | K2: Gardes 2 | M2: FS | N2: Formations/Stages | R2: A | S2: Absences | X2: Férié | AB2: M | AC2: Maladie
AH3: Année :
B4: Juin | C4: Dates | AH4: =Janvier!AH4 -> 2023 | AI4: G2
C5: =DATE(AnnéeCalendrier,2,1) -> 44958 | D5: =C5+1 -> 44959 | E5: =D5+1 -> 44960 | F5: =E5+1 -> 44961 | G5: =F5+1 -> 44962 | H5: =G5+1 -> 44963 | I5: =H5+1 -> 44964 | J5: =I5+1 -> 44965 | K5: =J5+1 -> 44966 | ... AG5: =AF5+1 -> 44988 | AH5: C | AI5: G1 | AJ5: FS | AK5: A | AL5: M
B6: Nom de l’employé | C6: 1 | D6: 2 | E6: 3 | F6: 4 | G6: 5 | H6: 6 | I6: 7 | J6: 8 | K6: 9 | L6: 10 | M6: 11 | N6: 12 | O6: 13 | P6: 14 | Q6: 15 | R6: 16 | S6: 17 | T6: 18 | U6: 19 | V6: 20 | W6: 21 | X6: 22 | Y6: 23 | Z6: 24 | AA6: 25 | AB6: 26 | AC6: 27 | AD6: 28 | AE6: 29 | AF6: 30 | AG6: 31 | AH6: Congés | AI6: Gardes | AJ6: Formations Stages | AK6: Absences | AL6: Maladie
B7: BONNEFOND Manon | AH7: =COUNTIF(juin[[#This Row],[1]:[31]],$AH$5) -> 0 | AI7: =COUNTIF(juin[[#This Row],[1]:[31]],$AI$4)+COUNTIF(juin[[#This Row],[1]:[31]],$AI$5) -> 0 | AJ7: =COUNTIF(juin[[#This Row],[1]:[31]],$AJ$5) -> 0 | AK7: =COUNTIF(juin[[#This Row],[1]:[31]],$AK$5) -> 0 | AL7: =COUNTIF(juin[[#This Row],[1]:[31]],$AL$5) -> 0
B8: CABANNES Emile | H8: G1 | I8: G1 | J8: G1 | AC8: G1 | AD8: G1 | AE8: G1 | AH8: =COUNTIF(juin[[#This Row],[1]:[31]],$AH$5) -> 0 | AI8: =COUNTIF(juin[[#This Row],[1]:[31]],$AI$4)+COUNTIF(juin[[#This Row],[1]:[31]],$AI$5) -> 6 | AJ8: =COUNTIF(juin[[#This Row],[1]:[31]],$AJ$5) -> 0 | AK8: =COUNTIF(juin[[#This Row],[1]:[31]],$AK$5) -> 0 | AL8: =COUNTIF(juin[[#This Row],[1]:[31]],$AL$5) -> 0
B9: CHAZEAUD Anita | AH9: =COUNTIF(juin[[#This Row],[1]:[31]],$AH$5) -> 0 | AI9: =COUNTIF(juin[[#This Row],[1]:[31]],$AI$4)+COUNTIF(juin[[#This Row],[1]:[31]],$AI$5) -> 0 | AJ9: =COUNTIF(juin[[#This Row],[1]:[31]],$AJ$5) -> 0 | AK9: =COUNTIF(juin[[#This Row],[1]:[31]],$AK$5) -> 0 | AL9: =COUNTIF(juin[[#This Row],[1]:[31]],$AL$5) -> 0
B10: CASTANG Jean-Claude | AH10: =COUNTIF(juin[[#This Row],[1]:[31]],$AH$5) -> 0 | AI10: =COUNTIF(juin[[#This Row],[1]:[31]],$AI$4)+COUNTIF(juin[[#This Row],[1]:[31]],$AI$5) -> 0 | AJ10: =COUNTIF(juin[[#This Row],[1]:[31]],$AJ$5) -> 0 | AK10: =COUNTIF(juin[[#This Row],[1]:[31]],$AK$5) -> 0 | AL10: =COUNTIF(juin[[#This Row],[1]:[31]],$AL$5) -> 0
B11: DA SILVA Marc | C11: G2 | R11: G1 | S11: G1 | T11: G1 | U11: G1 | V11: G1 | W11: G1 | X11: G1 | AH11: =COUNTIF(juin[[#This Row],[1]:[31]],$AH$5) -> 0 | AI11: =COUNTIF(juin[[#This Row],[1]:[31]],$AI$4)+COUNTIF(juin[[#This Row],[1]:[31]],$AI$5) -> 8 | AJ11: =COUNTIF(juin[[#This Row],[1]:[31]],$AJ$5) -> 0 | AK11: =COUNTIF(juin[[#This Row],[1]:[31]],$AK$5) -> 0 | AL11: =COUNTIF(juin[[#This Row],[1]:[31]],$AL$5) -> 0
B12: DERACO Philippe | O12: G1 | P12: G1 | Q12: G1 | AH12: =COUNTIF(juin[[#This Row],[1]:[31]],$AH$5) -> 0 | AI12: =COUNTIF(juin[[#This Row],[1]:[31]],$AI$4)+COUNTIF(juin[[#This Row],[1]:[31]],$AI$5) -> 3 | AJ12: =COUNTIF(juin[[#This Row],[1]:[31]],$AJ$5) -> 0 | AK12: =COUNTIF(juin[[#This Row],[1]:[31]],$AK$5) -> 0 | AL12: =COUNTIF(juin[[#This Row],[1]:[31]],$AL$5) -> 0
B13: DURAN Alexandre | AH13: =COUNTIF(juin[[#This Row],[1]:[31]],$AH$5) -> 0 | AI13: =COUNTIF(juin[[#This Row],[1]:[31]],$AI$4)+COUNTIF(juin[[#This Row],[1]:[31]],$AI$5) -> 0 | AJ13: =COUNTIF(juin[[#This Row],[1]:[31]],$AJ$5) -> 0 | AK13: =COUNTIF(juin[[#This Row],[1]:[31]],$AK$5) -> 0 | AL13: =COUNTIF(juin[[#This Row],[1]:[31]],$AL$5) -> 0
B14: FAGETTE Philippe | AH14: =COUNTIF(juin[[#This Row],[1]:[31]],$AH$5) -> 0 | AI14: =COUNTIF(juin[[#This Row],[1]:[31]],$AI$4)+COUNTIF(juin[[#This Row],[1]:[31]],$AI$5) -> 0 | AJ14: =COUNTIF(juin[[#This Row],[1]:[31]],$AJ$5) -> 0 | AK14: =COUNTIF(juin[[#This Row],[1]:[31]],$AK$5) -> 0 | AL14: =COUNTIF(juin[[#This Row],[1]:[31]],$AL$5) -> 0
B15: FRANCOIS Jean-Paul | AH15: =COUNTIF(juin[[#This Row],[1]:[31]],$AH$5) -> 0 | AI15: =COUNTIF(juin[[#This Row],[1]:[31]],$AI$4)+COUNTIF(juin[[#This Row],[1]:[31]],$AI$5) -> 0 | AJ15: =COUNTIF(juin[[#This Row],[1]:[31]],$AJ$5) -> 0 | AK15: =COUNTIF(juin[[#This Row],[1]:[31]],$AK$5) -> 0 | AL15: =COUNTIF(juin[[#This Row],[1]:[31]],$AL$5) -> 0
B16: FRANCOIS Mathéo | D16: FS | E16: FS | F16: FS | G16: FS | H16: FS | Y16: FS | Z16: FS | AA16: FS | AB16: FS | AC16: FS | AH16: =COUNTIF(juin[[#This Row],[1]:[31]],$AH$5) -> 0 | AI16: =COUNTIF(juin[[#This Row],[1]:[31]],$AI$4)+COUNTIF(juin[[#This Row],[1]:[31]],$AI$5) -> 0 | AJ16: =COUNTIF(juin[[#This Row],[1]:[31]],$AJ$5) -> 10 | AK16: =COUNTIF(juin[[#This Row],[1]:[31]],$AK$5) -> 0 | AL16: =COUNTIF(juin[[#This Row],[1]:[31]],$AL$5) -> 0
B17: FONDIN Patrice | AH17: =COUNTIF(juin[[#This Row],[1]:[31]],$AH$5) -> 0 | AI17: =COUNTIF(juin[[#This Row],[1]:[31]],$AI$4)+COUNTIF(juin[[#This Row],[1]:[31]],$AI$5) -> 0 | AJ17: =COUNTIF(juin[[#This Row],[1]:[31]],$AJ$5) -> 0 | AK17: =COUNTIF(juin[[#This Row],[1]:[31]],$AK$5) -> 0 | AL17: =COUNTIF(juin[[#This Row],[1]:[31]],$AL$5) -> 0
B18: GRIVOIS Nicolas | C18: G1 | R18: G1 | S18: G1 | T18: G1 | U18: G1 | V18: G1 | W18: G1 | X18: G1 | AH18: =COUNTIF(juin[[#This Row],[1]:[31]],$AH$5) -> 0 | AI18: =COUNTIF(juin[[#This Row],[1]:[31]],$AI$4)+COUNTIF(juin[[#This Row],[1]:[31]],$AI$5) -> 8 | AJ18: =COUNTIF(juin[[#This Row],[1]:[31]],$AJ$5) -> 0 | AK18: =COUNTIF(juin[[#This Row],[1]:[31]],$AK$5) -> 0 | AL18: =COUNTIF(juin[[#This Row],[1]:[31]],$AL$5) -> 0
B19: LAFAYE Marion | C19: A | D19: A | E19: A | F19: A | G19: A | H19: A | I19: A | J19: A | K19: A | L19: A | M19: A | N19: A | O19: A | P19: A | Q19: A | R19: A | S19: A | T19: A | U19: A | V19: A | W19: A | X19: A | Y19: A | Z19: A | AA19: A | AB19: A | AC19: A | AD19: A | AE19: A | AF19: A | AG19: A | AH19: =COUNTIF(juin[[#This Row],[1]:[31]],$AH$5) -> 0 | AI19: =COUNTIF(juin[[#This Row],[1]:[31]],$AI$4)+COUNTIF(juin[[#This Row],[1]:[31]],$AI$5) -> 0 | AJ19: =COUNTIF(juin[[#This Row],[1]:[31]],$AJ$5) -> 0 | AK19: =COUNTIF(juin[[#This Row],[1]:[31]],$AK$5) -> 31 | AL19: =COUNTIF(juin[[#This Row],[1]:[31]],$AL$5) -> 0
B20: MARCHE Philippe | O20: G2 | P20: G2 | Q20: G2 | AF20: FS | AH20: =COUNTIF(juin[[#This Row],[1]:[31]],$AH$5) -> 0 | AI20: =COUNTIF(juin[[#This Row],[1]:[31]],$AI$4)+COUNTIF(juin[[#This Row],[1]:[31]],$AI$5) -> 3 | AJ20: =COUNTIF(juin[[#This Row],[1]:[31]],$AJ$5) -> 1 | AK20: =COUNTIF(juin[[#This Row],[1]:[31]],$AK$5) -> 0 | AL20: =COUNTIF(juin[[#This Row],[1]:[31]],$AL$5) -> 0
B21: MARTIAL Jean-Luc | C21: G1 | D21: C | E21: C | F21: C | G21: C | H21: C | I21: C | J21: C | K21: C | L21: C | M21: C | N21: C | O21: C | P21: C | Q21: C | AH21: =COUNTIF(juin[[#This Row],[1]:[31]],$AH$5) -> 14 | AI21: =COUNTIF(juin[[#This Row],[1]:[31]],$AI$4)+COUNTIF(juin[[#This Row],[1]:[31]],$AI$5) -> 1 | AJ21: =COUNTIF(juin[[#This Row],[1]:[31]],$AJ$5) -> 0 | AK21: =COUNTIF(juin[[#This Row],[1]:[31]],$AK$5) -> 0 | AL21: =COUNTIF(juin[[#This Row],[1]:[31]],$AL$5) -> 0
B22: MENARD Martial | AH22: =COUNTIF(juin[[#This Row],[1]:[31]],$AH$5) -> 0 | AI22: =COUNTIF(juin[[#This Row],[1]:[31]],$AI$4)+COUNTIF(juin[[#This Row],[1]:[31]],$AI$5) -> 0 | AJ22: =COUNTIF(juin[[#This Row],[1]:[31]],$AJ$5) -> 0 | AK22: =COUNTIF(juin[[#This Row],[1]:[31]],$AK$5) -> 0 | AL22: =COUNTIF(juin[[#This Row],[1]:[31]],$AL$5) -> 0
B23: NOEL Didier | AC23: G1 | AD23: G1 | AE23: G1 | AH23: =COUNTIF(juin[[#This Row],[1]:[31]],$AH$5) -> 0 | AI23: =COUNTIF(juin[[#This Row],[1]:[31]],$AI$4)+COUNTIF(juin[[#This Row],[1]:[31]],$AI$5) -> 3 | AJ23: =COUNTIF(juin[[#This Row],[1]:[31]],$AJ$5) -> 0 | AK23: =COUNTIF(juin[[#This Row],[1]:[31]],$AK$5) -> 0 | AL23: =COUNTIF(juin[[#This Row],[1]:[31]],$AL$5) -> 0
B24: NORMAND Christian | AH24: =COUNTIF(juin[[#This Row],[1]:[31]],$AH$5) -> 0 | AI24: =COUNTIF(juin[[#This Row],[1]:[31]],$AI$4)+COUNTIF(juin[[#This Row],[1]:[31]],$AI$5) -> 0 | AJ24: =COUNTIF(juin[[#This Row],[1]:[31]],$AJ$5) -> 0 | AK24: =COUNTIF(juin[[#This Row],[1]:[31]],$AK$5) -> 0 | AL24: =COUNTIF(juin[[#This Row],[1]:[31]],$AL$5) -> 0
B25: PARAT Alex | H25: G1 | I25: G1 | J25: G1 | AH25: =COUNTIF(juin[[#This Row],[1]:[31]],$AH$5) -> 0 | AI25: =COUNTIF(juin[[#This Row],[1]:[31]],$AI$4)+COUNTIF(juin[[#This Row],[1]:[31]],$AI$5) -> 3 | AJ25: =COUNTIF(juin[[#This Row],[1]:[31]],$AJ$5) -> 0 | AK25: =COUNTIF(juin[[#This Row],[1]:[31]],$AK$5) -> 0 | AL25: =COUNTIF(juin[[#This Row],[1]:[31]],$AL$5) -> 0
B26: PICAUD Carine | O26: G1 | P26: G1 | Q26: G1 | AC26: G2 | AD26: G2 | AE26: G2 | AH26: =COUNTIF(juin[[#This Row],[1]:[31]],$AH$5) -> 0 | AI26: =COUNTIF(juin[[#This Row],[1]:[31]],$AI$4)+COUNTIF(juin[[#This Row],[1]:[31]],$AI$5) -> 6 | AJ26: =COUNTIF(juin[[#This Row],[1]:[31]],$AJ$5) -> 0 | AK26: =COUNTIF(juin[[#This Row],[1]:[31]],$AK$5) -> 0 | AL26: =COUNTIF(juin[[#This Row],[1]:[31]],$AL$5) -> 0
B27: RIBEIRO Rui | V27: G2 | W27: G2 | X27: G2 | AH27: =COUNTIF(juin[[#This Row],[1]:[31]],$AH$5) -> 0 | AI27: =COUNTIF(juin[[#This Row],[1]:[31]],$AI$4)+COUNTIF(juin[[#This Row],[1]:[31]],$AI$5) -> 3 | AJ27: =COUNTIF(juin[[#This Row],[1]:[31]],$AJ$5) -> 0 | AK27: =COUNTIF(juin[[#This Row],[1]:[31]],$AK$5) -> 0 | AL27: =COUNTIF(juin[[#This Row],[1]:[31]],$AL$5) -> 0
B28: RIGAL Pauline | O28: G2 | P28: G2 | Q28: G2 | AH28: =COUNTIF(juin[[#This Row],[1]:[31]],$AH$5) -> 0 | AI28: =COUNTIF(juin[[#This Row],[1]:[31]],$AI$4)+COUNTIF(juin[[#This Row],[1]:[31]],$AI$5) -> 3 | AJ28: =COUNTIF(juin[[#This Row],[1]:[31]],$AJ$5) -> 0 | AK28: =COUNTIF(juin[[#This Row],[1]:[31]],$AK$5) -> 0 | AL28: =COUNTIF(juin[[#This Row],[1]:[31]],$AL$5) -> 0
B29: ROUGIER Stéphanie | C29: G2 | V29: G2 | W29: G2 | X29: G2 | AH29: =COUNTIF(juin[[#This Row],[1]:[31]],$AH$5) -> 0 | AI29: =COUNTIF(juin[[#This Row],[1]:[31]],$AI$4)+COUNTIF(juin[[#This Row],[1]:[31]],$AI$5) -> 4 | AJ29: =COUNTIF(juin[[#This Row],[1]:[31]],$AJ$5) -> 0 | AK29: =COUNTIF(juin[[#This Row],[1]:[31]],$AK$5) -> 0 | AL29: =COUNTIF(juin[[#This Row],[1]:[31]],$AL$5) -> 0
B30: SAVARIT André | AC30: G2 | AD30: G2 | AE30: G2 | AH30: =COUNTIF(juin[[#This Row],[1]:[31]],$AH$5) -> 0 | AI30: =COUNTIF(juin[[#This Row],[1]:[31]],$AI$4)+COUNTIF(juin[[#This Row],[1]:[31]],$AI$5) -> 3 | AJ30: =COUNTIF(juin[[#This Row],[1]:[31]],$AJ$5) -> 0 | AK30: =COUNTIF(juin[[#This Row],[1]:[31]],$AK$5) -> 0 | AL30: =COUNTIF(juin[[#This Row],[1]:[31]],$AL$5) -> 0
B31: SAVARIT David | H31: G2 | I31: G2 | J31: G2 | AH31: =COUNTIF(juin[[#This Row],[1]:[31]],$AH$5) -> 0 | AI31: =COUNTIF(juin[[#This Row],[1]:[31]],$AI$4)+COUNTIF(juin[[#This Row],[1]:[31]],$AI$5) -> 3 | AJ31: =COUNTIF(juin[[#This Row],[1]:[31]],$AJ$5) -> 0 | AK31: =COUNTIF(juin[[#This Row],[1]:[31]],$AK$5) -> 0 | AL31: =COUNTIF(juin[[#This Row],[1]:[31]],$AL$5) -> 0
B32: THOMAS Karl | D32: FS | E32: FS | F32: FS | G32: FS | H32: FS | AF32: FS | AH32: =COUNTIF(juin[[#This Row],[1]:[31]],$AH$5) -> 0 | AI32: =COUNTIF(juin[[#This Row],[1]:[31]],$AI$4)+COUNTIF(juin[[#This Row],[1]:[31]],$AI$5) -> 0 | AJ32: =COUNTIF(juin[[#This Row],[1]:[31]],$AJ$5) -> 6 | AK32: =COUNTIF(juin[[#This Row],[1]:[31]],$AK$5) -> 0 | AL32: =COUNTIF(juin[[#This Row],[1]:[31]],$AL$5) -> 0
B33: VAVASSEUR Célia | H33: G2 | I33: G2 | J33: G2 | AH33: =COUNTIF(juin[[#This Row],[1]:[31]],$AH$5) -> 0 | AI33: =COUNTIF(juin[[#This Row],[1]:[31]],$AI$4)+COUNTIF(juin[[#This Row],[1]:[31]],$AI$5) -> 3 | AJ33: =COUNTIF(juin[[#This Row],[1]:[31]],$AJ$5) -> 0 | AK33: =COUNTIF(juin[[#This Row],[1]:[31]],$AK$5) -> 0 | AL33: =COUNTIF(juin[[#This Row],[1]:[31]],$AL$5) -> 0
B34: 28 | AH34: =COUNTIF(juin[[#This Row],[1]:[31]],$AH$5) -> 0 | AI34: =COUNTIF(juin[[#This Row],[1]:[31]],$AI$4)+COUNTIF(juin[[#This Row],[1]:[31]],$AI$5) -> 0 | AJ34: =COUNTIF(juin[[#This Row],[1]:[31]],$AJ$5) -> 0 | AK34: =COUNTIF(juin[[#This Row],[1]:[31]],$AK$5) -> 0 | AL34: =COUNTIF(juin[[#This Row],[1]:[31]],$AL$5) -> 0
B35: 29 | AH35: =COUNTIF(juin[[#This Row],[1]:[31]],$AH$5) -> 0 | AI35: =COUNTIF(juin[[#This Row],[1]:[31]],$AI$4)+COUNTIF(juin[[#This Row],[1]:[31]],$AI$5) -> 0 | AJ35: =COUNTIF(juin[[#This Row],[1]:[31]],$AJ$5) -> 0 | AK35: =COUNTIF(juin[[#This Row],[1]:[31]],$AK$5) -> 0 | AL35: =COUNTIF(juin[[#This Row],[1]:[31]],$AL$5) -> 0
B36: 30 | V36: M | W36: M | X36: M | Y36: M | Z36: M | AA36: M | AB36: M | AC36: M | AD36: M | AH36: =COUNTIF(juin[[#This Row],[1]:[31]],$AH$5) -> 0 | AI36: =COUNTIF(juin[[#This Row],[1]:[31]],$AI$4)+COUNTIF(juin[[#This Row],[1]:[31]],$AI$5) -> 0 | AJ36: =COUNTIF(juin[[#This Row],[1]:[31]],$AJ$5) -> 0 | AK36: =COUNTIF(juin[[#This Row],[1]:[31]],$AK$5) -> 0 | AL36: =COUNTIF(juin[[#This Row],[1]:[31]],$AL$5) -> 9
AH37: =SUM(AH7:AH36) -> 14 | AI37: =SUM(AI7:AI36) -> 60 | AJ37: =SUM(AJ7:AJ36) -> 17 | AK37: =SUM(AK7:AK36) -> 31 | AL37: =SUM(AL7:AL36) -> 9

Sheet Juillet
B1: Calendrier des gardes et absences des employés
B2: Légende | C2: C | D2: Congés | F2: G1 | G2: Gardes 1 | J2: G2 | K2: Gardes 2 | M2: FS | N2: Formations/Stages | R2: A | S2: Absences | X2: Férié | AB2: M | AC2: Maladie
AH3: Année :
B4: Juillet | C4: Dates | AH4: =Janvier!AH4 -> 2023 | AI4: G2
C5: =DATE(AnnéeCalendrier,2,1) -> 44958 | D5: =C5+1 -> 44959 | E5: =D5+1 -> 44960 | F5: =E5+1 -> 44961 | G5: =F5+1 -> 44962 | H5: =G5+1 -> 44963 | I5: =H5+1 -> 44964 | J5: =I5+1 -> 44965 | K5: =J5+1 -> 44966 | ... AG5: =AF5+1 -> 44988 | AH5: C | AI5: G1 | AJ5: FS | AK5: A | AL5: M
B6: Nom de l’employé | C6: 1 | D6: 2 | E6: 3 | F6: 4 | G6: 5 | H6: 6 | I6: 7 | J6: 8 | K6: 9 | L6: 10 | M6: 11 | N6: 12 | O6: 13 | P6: 14 | Q6: 15 | R6: 16 | S6: 17 | T6: 18 | U6: 19 | V6: 20 | W6: 21 | X6: 22 | Y6: 23 | Z6: 24 | AA6: 25 | AB6: 26 | AC6: 27 | AD6: 28 | AE6: 29 | AF6: 30 | AG6: 31 | AH6: Congés | AI6: Gardes | AJ6: Formations Stages | AK6: Absences | AL6: Maladie
B7: BONNEFOND Manon | AH7: =COUNTIF(juillet[[#This Row],[1]:[31]],$AH$5) -> 0 | AI7: =COUNTIF(juillet[[#This Row],[1]:[31]],$AI$4)+COUNTIF(juillet[[#This Row],[1]:[31]],$AI$5) -> 0 | AJ7: =COUNTIF(juillet[[#This Row],[1]:[31]],$AJ$5) -> 0 | AK7: =COUNTIF(juillet[[#This Row],[1]:[31]],$AK$5) -> 0 | AL7: =COUNTIF(juillet[[#This Row],[1]:[31]],$AL$5) -> 0
B8: CABANNES Emile | H8: G1 | I8: G1 | J8: G1 | AC8: G1 | AD8: G1 | AE8: G1 | AH8: =COUNTIF(juillet[[#This Row],[1]:[31]],$AH$5) -> 0 | AI8: =COUNTIF(juillet[[#This Row],[1]:[31]],$AI$4)+COUNTIF(juillet[[#This Row],[1]:[31]],$AI$5) -> 6 | AJ8: =COUNTIF(juillet[[#This Row],[1]:[31]],$AJ$5) -> 0 | AK8: =COUNTIF(juillet[[#This Row],[1]:[31]],$AK$5) -> 0 | AL8: =COUNTIF(juillet[[#This Row],[1]:[31]],$AL$5) -> 0
B9: CHAZEAUD Anita | AH9: =COUNTIF(juillet[[#This Row],[1]:[31]],$AH$5) -> 0 | AI9: =COUNTIF(juillet[[#This Row],[1]:[31]],$AI$4)+COUNTIF(juillet[[#This Row],[1]:[31]],$AI$5) -> 0 | AJ9: =COUNTIF(juillet[[#This Row],[1]:[31]],$AJ$5) -> 0 | AK9: =COUNTIF(juillet[[#This Row],[1]:[31]],$AK$5) -> 0 | AL9: =COUNTIF(juillet[[#This Row],[1]:[31]],$AL$5) -> 0
B10: CASTANG Jean-Claude | AH10: =COUNTIF(juillet[[#This Row],[1]:[31]],$AH$5) -> 0 | AI10: =COUNTIF(juillet[[#This Row],[1]:[31]],$AI$4)+COUNTIF(juillet[[#This Row],[1]:[31]],$AI$5) -> 0 | AJ10: =COUNTIF(juillet[[#This Row],[1]:[31]],$AJ$5) -> 0 | AK10: =COUNTIF(juillet[[#This Row],[1]:[31]],$AK$5) -> 0 | AL10: =COUNTIF(juillet[[#This Row],[1]:[31]],$AL$5) -> 0
B11: DA SILVA Marc | C11: G2 | R11: G1 | S11: G1 | T11: G1 | U11: G1 | V11: G1 | W11: G1 | X11: G1 | AH11: =COUNTIF(juillet[[#This Row],[1]:[31]],$AH$5) -> 0 | AI11: =COUNTIF(juillet[[#This Row],[1]:[31]],$AI$4)+COUNTIF(juillet[[#This Row],[1]:[31]],$AI$5) -> 8 | AJ11: =COUNTIF(juillet[[#This Row],[1]:[31]],$AJ$5) -> 0 | AK11: =COUNTIF(juillet[[#This Row],[1]:[31]],$AK$5) -> 0 | AL11: =COUNTIF(juillet[[#This Row],[1]:[31]],$AL$5) -> 0
B12: DERACO Philippe | O12: G1 | P12: G1 | Q12: G1 | AH12: =COUNTIF(juillet[[#This Row],[1]:[31]],$AH$5) -> 0 | AI12: =COUNTIF(juillet[[#This Row],[1]:[31]],$AI$4)+COUNTIF(juillet[[#This Row],[1]:[31]],$AI$5) -> 3 | AJ12: =COUNTIF(juillet[[#This Row],[1]:[31]],$AJ$5) -> 0 | AK12: =COUNTIF(juillet[[#This Row],[1]:[31]],$AK$5) -> 0 | AL12: =COUNTIF(juillet[[#This Row],[1]:[31]],$AL$5) -> 0
B13: DURAN Alexandre | AH13: =COUNTIF(juillet[[#This Row],[1]:[31]],$AH$5) -> 0 | AI13: =COUNTIF(juillet[[#This Row],[1]:[31]],$AI$4)+COUNTIF(juillet[[#This Row],[1]:[31]],$AI$5) -> 0 | AJ13: =COUNTIF(juillet[[#This Row],[1]:[31]],$AJ$5) -> 0 | AK13: =COUNTIF(juillet[[#This Row],[1]:[31]],$AK$5) -> 0 | AL13: =COUNTIF(juillet[[#This Row],[1]:[31]],$AL$5) -> 0
B14: FAGETTE Philippe | AH14: =COUNTIF(juillet[[#This Row],[1]:[31]],$AH$5) -> 0 | AI14: =COUNTIF(juillet[[#This Row],[1]:[31]],$AI$4)+COUNTIF(juillet[[#This Row],[1]:[31]],$AI$5) -> 0 | AJ14: =COUNTIF(juillet[[#This Row],[1]:[31]],$AJ$5) -> 0 | AK14: =COUNTIF(juillet[[#This Row],[1]:[31]],$AK$5) -> 0 | AL14: =COUNTIF(juillet[[#This Row],[1]:[31]],$AL$5) -> 0
B15: FRANCOIS Jean-Paul | AH15: =COUNTIF(juillet[[#This Row],[1]:[31]],$AH$5) -> 0 | AI15: =COUNTIF(juillet[[#This Row],[1]:[31]],$AI$4)+COUNTIF(juillet[[#This Row],[1]:[31]],$AI$5) -> 0 | AJ15: =COUNTIF(juillet[[#This Row],[1]:[31]],$AJ$5) -> 0 | AK15: =COUNTIF(juillet[[#This Row],[1]:[31]],$AK$5) -> 0 | AL15: =COUNTIF(juillet[[#This Row],[1]:[31]],$AL$5) -> 0
B16: FRANCOIS Mathéo | D16: FS | E16: FS | F16: FS | G16: FS | H16: FS | Y16: FS | Z16: FS | AA16: FS | AB16: FS | AC16: FS | AH16: =COUNTIF(juillet[[#This Row],[1]:[31]],$AH$5) -> 0 | AI16: =COUNTIF(juillet[[#This Row],[1]:[31]],$AI$4)+COUNTIF(juillet[[#This Row],[1]:[31]],$AI$5) -> 0 | AJ16: =COUNTIF(juillet[[#This Row],[1]:[31]],$AJ$5) -> 10 | AK16: =COUNTIF(juillet[[#This Row],[1]:[31]],$AK$5) -> 0 | AL16: =COUNTIF(juillet[[#This Row],[1]:[31]],$AL$5) -> 0
B17: FONDIN Patrice | AH17: =COUNTIF(juillet[[#This Row],[1]:[31]],$AH$5) -> 0 | AI17: =COUNTIF(juillet[[#This Row],[1]:[31]],$AI$4)+COUNTIF(juillet[[#This Row],[1]:[31]],$AI$5) -> 0 | AJ17: =COUNTIF(juillet[[#This Row],[1]:[31]],$AJ$5) -> 0 | AK17: =COUNTIF(juillet[[#This Row],[1]:[31]],$AK$5) -> 0 | AL17: =COUNTIF(juillet[[#This Row],[1]:[31]],$AL$5) -> 0
B18: GRIVOIS Nicolas | C18: G1 | R18: G1 | S18: G1 | T18: G1 | U18: G1 | V18: G1 | W18: G1 | X18: G1 | AH18: =COUNTIF(juillet[[#This Row],[1]:[31]],$AH$5) -> 0 | AI18: =COUNTIF(juillet[[#This Row],[1]:[31]],$AI$4)+COUNTIF(juillet[[#This Row],[1]:[31]],$AI$5) -> 8 | AJ18: =COUNTIF(juillet[[#This Row],[1]:[31]],$AJ$5) -> 0 | AK18: =COUNTIF(juillet[[#This Row],[1]:[31]],$AK$5) -> 0 | AL18: =COUNTIF(juillet[[#This Row],[1]:[31]],$AL$5) -> 0
B19: LAFAYE Marion | C19: A | D19: A | E19: A | F19: A | G19: A | H19: A | I19: A | J19: A | K19: A | L19: A | M19: A | N19: A | O19: A | P19: A | Q19: A | R19: A | S19: A | T19: A | U19: A | V19: A | W19: A | X19: A | Y19: A | Z19: A | AA19: A | AB19: A | AC19: A | AD19: A | AE19: A | AF19: A | AG19: A | AH19: =COUNTIF(juillet[[#This Row],[1]:[31]],$AH$5) -> 0 | AI19: =COUNTIF(juillet[[#This Row],[1]:[31]],$AI$4)+COUNTIF(juillet[[#This Row],[1]:[31]],$AI$5) -> 0 | AJ19: =COUNTIF(juillet[[#This Row],[1]:[31]],$AJ$5) -> 0 | AK19: =COUNTIF(juillet[[#This Row],[1]:[31]],$AK$5) -> 31 | AL19: =COUNTIF(juillet[[#This Row],[1]:[31]],$AL$5) -> 0
B20: MARCHE Philippe | O20: G2 | P20: G2 | Q20: G2 | AF20: FS | AH20: =COUNTIF(juillet[[#This Row],[1]:[31]],$AH$5) -> 0 | AI20: =COUNTIF(juillet[[#This Row],[1]:[31]],$AI$4)+COUNTIF(juillet[[#This Row],[1]:[31]],$AI$5) -> 3 | AJ20: =COUNTIF(juillet[[#This Row],[1]:[31]],$AJ$5) -> 1 | AK20: =COUNTIF(juillet[[#This Row],[1]:[31]],$AK$5) -> 0 | AL20: =COUNTIF(juillet[[#This Row],[1]:[31]],$AL$5) -> 0
B21: MARTIAL Jean-Luc | C21: G1 | D21: C | E21: C | F21: C | G21: C | H21: C | I21: C | J21: C | K21: C | L21: C | M21: C | N21: C | O21: C | P21: C | Q21: C | AH21: =COUNTIF(juillet[[#This Row],[1]:[31]],$AH$5) -> 14 | AI21: =COUNTIF(juillet[[#This Row],[1]:[31]],$AI$4)+COUNTIF(juillet[[#This Row],[1]:[31]],$AI$5) -> 1 | AJ21: =COUNTIF(juillet[[#This Row],[1]:[31]],$AJ$5) -> 0 | AK21: =COUNTIF(juillet[[#This Row],[1]:[31]],$AK$5) -> 0 | AL21: =COUNTIF(juillet[[#This Row],[1]:[31]],$AL$5) -> 0
B22: MENARD Martial | AH22: =COUNTIF(juillet[[#This Row],[1]:[31]],$AH$5) -> 0 | AI22: =COUNTIF(juillet[[#This Row],[1]:[31]],$AI$4)+COUNTIF(juillet[[#This Row],[1]:[31]],$AI$5) -> 0 | AJ22: =COUNTIF(juillet[[#This Row],[1]:[31]],$AJ$5) -> 0 | AK22: =COUNTIF(juillet[[#This Row],[1]:[31]],$AK$5) -> 0 | AL22: =COUNTIF(juillet[[#This Row],[1]:[31]],$AL$5) -> 0
B23: NOEL Didier | AC23: G1 | AD23: G1 | AE23: G1 | AH23: =COUNTIF(juillet[[#This Row],[1]:[31]],$AH$5) -> 0 | AI23: =COUNTIF(juillet[[#This Row],[1]:[31]],$AI$4)+COUNTIF(juillet[[#This Row],[1]:[31]],$AI$5) -> 3 | AJ23: =COUNTIF(juillet[[#This Row],[1]:[31]],$AJ$5) -> 0 | AK23: =COUNTIF(juillet[[#This Row],[1]:[31]],$AK$5) -> 0 | AL23: =COUNTIF(juillet[[#This Row],[1]:[31]],$AL$5) -> 0
B24: NORMAND Christian | AH24: =COUNTIF(juillet[[#This Row],[1]:[31]],$AH$5) -> 0 | AI24: =COUNTIF(juillet[[#This Row],[1]:[31]],$AI$4)+COUNTIF(juillet[[#This Row],[1]:[31]],$AI$5) -> 0 | AJ24: =COUNTIF(juillet[[#This Row],[1]:[31]],$AJ$5) -> 0 | AK24: =COUNTIF(juillet[[#This Row],[1]:[31]],$AK$5) -> 0 | AL24: =COUNTIF(juillet[[#This Row],[1]:[31]],$AL$5) -> 0
B25: PARAT Alex | H25: G1 | I25: G1 | J25: G1 | AH25: =COUNTIF(juillet[[#This Row],[1]:[31]],$AH$5) -> 0 | AI25: =COUNTIF(juillet[[#This Row],[1]:[31]],$AI$4)+COUNTIF(juillet[[#This Row],[1]:[31]],$AI$5) -> 3 | AJ25: =COUNTIF(juillet[[#This Row],[1]:[31]],$AJ$5) -> 0 | AK25: =COUNTIF(juillet[[#This Row],[1]:[31]],$AK$5) -> 0 | AL25: =COUNTIF(juillet[[#This Row],[1]:[31]],$AL$5) -> 0
B26: PICAUD Carine | O26: G1 | P26: G1 | Q26: G1 | AC26: G2 | AD26: G2 | AE26: G2 | AH26: =COUNTIF(juillet[[#This Row],[1]:[31]],$AH$5) -> 0 | AI26: =COUNTIF(juillet[[#This Row],[1]:[31]],$AI$4)+COUNTIF(juillet[[#This Row],[1]:[31]],$AI$5) -> 6 | AJ26: =COUNTIF(juillet[[#This Row],[1]:[31]],$AJ$5) -> 0 | AK26: =COUNTIF(juillet[[#This Row],[1]:[31]],$AK$5) -> 0 | AL26: =COUNTIF(juillet[[#This Row],[1]:[31]],$AL$5) -> 0
B27: RIBEIRO Rui | V27: G2 | W27: G2 | X27: G2 | AH27: =COUNTIF(juillet[[#This Row],[1]:[31]],$AH$5) -> 0 | AI27: =COUNTIF(juillet[[#This Row],[1]:[31]],$AI$4)+COUNTIF(juillet[[#This Row],[1]:[31]],$AI$5) -> 3 | AJ27: =COUNTIF(juillet[[#This Row],[1]:[31]],$AJ$5) -> 0 | AK27: =COUNTIF(juillet[[#This Row],[1]:[31]],$AK$5) -> 0 | AL27: =COUNTIF(juillet[[#This Row],[1]:[31]],$AL$5) -> 0
B28: RIGAL Pauline | O28: G2 | P28: G2 | Q28: G2 | AH28: =COUNTIF(juillet[[#This Row],[1]:[31]],$AH$5) -> 0 | AI28: =COUNTIF(juillet[[#This Row],[1]:[31]],$AI$4)+COUNTIF(juillet[[#This Row],[1]:[31]],$AI$5) -> 3 | AJ28: =COUNTIF(juillet[[#This Row],[1]:[31]],$AJ$5) -> 0 | AK28: =COUNTIF(juillet[[#This Row],[1]:[31]],$AK$5) -> 0 | AL28: =COUNTIF(juillet[[#This Row],[1]:[31]],$AL$5) -> 0
B29: ROUGIER Stéphanie | C29: G2 | V29: G2 | W29: G2 | X29: G2 | AH29: =COUNTIF(juillet[[#This Row],[1]:[31]],$AH$5) -> 0 | AI29: =COUNTIF(juillet[[#This Row],[1]:[31]],$AI$4)+COUNTIF(juillet[[#This Row],[1]:[31]],$AI$5) -> 4 | AJ29: =COUNTIF(juillet[[#This Row],[1]:[31]],$AJ$5) -> 0 | AK29: =COUNTIF(juillet[[#This Row],[1]:[31]],$AK$5) -> 0 | AL29: =COUNTIF(juillet[[#This Row],[1]:[31]],$AL$5) -> 0
B30: SAVARIT André | AC30: G2 | AD30: G2 | AE30: G2 | AH30: =COUNTIF(juillet[[#This Row],[1]:[31]],$AH$5) -> 0 | AI30: =COUNTIF(juillet[[#This Row],[1]:[31]],$AI$4)+COUNTIF(juillet[[#This Row],[1]:[31]],$AI$5) -> 3 | AJ30: =COUNTIF(juillet[[#This Row],[1]:[31]],$AJ$5) -> 0 | AK30: =COUNTIF(juillet[[#This Row],[1]:[31]],$AK$5) -> 0 | AL30: =COUNTIF(juillet[[#This Row],[1]:[31]],$AL$5) -> 0
B31: SAVARIT David | H31: G2 | I31: G2 | J31: G2 | AH31: =COUNTIF(juillet[[#This Row],[1]:[31]],$AH$5) -> 0 | AI31: =COUNTIF(juillet[[#This Row],[1]:[31]],$AI$4)+COUNTIF(juillet[[#This Row],[1]:[31]],$AI$5) -> 3 | AJ31: =COUNTIF(juillet[[#This Row],[1]:[31]],$AJ$5) -> 0 | AK31: =COUNTIF(juillet[[#This Row],[1]:[31]],$AK$5) -> 0 | AL31: =COUNTIF(juillet[[#This Row],[1]:[31]],$AL$5) -> 0
B32: THOMAS Karl | D32: FS | E32: FS | F32: FS | G32: FS | H32: FS | AF32: FS | AH32: =COUNTIF(juillet[[#This Row],[1]:[31]],$AH$5) -> 0 | AI32: =COUNTIF(juillet[[#This Row],[1]:[31]],$AI$4)+COUNTIF(juillet[[#This Row],[1]:[31]],$AI$5) -> 0 | AJ32: =COUNTIF(juillet[[#This Row],[1]:[31]],$AJ$5) -> 6 | AK32: =COUNTIF(juillet[[#This Row],[1]:[31]],$AK$5) -> 0 | AL32: =COUNTIF(juillet[[#This Row],[1]:[31]],$AL$5) -> 0
B33: VAVASSEUR Célia | H33: G2 | I33: G2 | J33: G2 | AH33: =COUNTIF(juillet[[#This Row],[1]:[31]],$AH$5) -> 0 | AI33: =COUNTIF(juillet[[#This Row],[1]:[31]],$AI$4)+COUNTIF(juillet[[#This Row],[1]:[31]],$AI$5) -> 3 | AJ33: =COUNTIF(juillet[[#This Row],[1]:[31]],$AJ$5) -> 0 | AK33: =COUNTIF(juillet[[#This Row],[1]:[31]],$AK$5) -> 0 | AL33: =COUNTIF(juillet[[#This Row],[1]:[31]],$AL$5) -> 0
B34: 28 | AH34: =COUNTIF(juillet[[#This Row],[1]:[31]],$AH$5) -> 0 | AI34: =COUNTIF(juillet[[#This Row],[1]:[31]],$AI$4)+COUNTIF(juillet[[#This Row],[1]:[31]],$AI$5) -> 0 | AJ34: =COUNTIF(juillet[[#This Row],[1]:[31]],$AJ$5) -> 0 | AK34: =COUNTIF(juillet[[#This Row],[1]:[31]],$AK$5) -> 0 | AL34: =COUNTIF(juillet[[#This Row],[1]:[31]],$AL$5) -> 0
B35: 29 | AH35: =COUNTIF(juillet[[#This Row],[1]:[31]],$AH$5) -> 0 | AI35: =COUNTIF(juillet[[#This Row],[1]:[31]],$AI$4)+COUNTIF(juillet[[#This Row],[1]:[31]],$AI$5) -> 0 | AJ35: =COUNTIF(juillet[[#This Row],[1]:[31]],$AJ$5) -> 0 | AK35: =COUNTIF(juillet[[#This Row],[1]:[31]],$AK$5) -> 0 | AL35: =COUNTIF(juillet[[#This Row],[1]:[31]],$AL$5) -> 0
B36: 30 | V36: M | W36: M | X36: M | Y36: M | Z36: M | AA36: M | AB36: M | AC36: M | AD36: M | AH36: =COUNTIF(juillet[[#This Row],[1]:[31]],$AH$5) -> 0 | AI36: =COUNTIF(juillet[[#This Row],[1]:[31]],$AI$4)+COUNTIF(juillet[[#This Row],[1]:[31]],$AI$5) -> 0 | AJ36: =COUNTIF(juillet[[#This Row],[1]:[31]],$AJ$5) -> 0 | AK36: =COUNTIF(juillet[[#This Row],[1]:[31]],$AK$5) -> 0 | AL36: =COUNTIF(juillet[[#This Row],[1]:[31]],$AL$5) -> 9
AH37: =SUM(AH7:AH36) -> 14 | AI37: =SUM(AI7:AI36) -> 60 | AJ37: =SUM(AJ7:AJ36) -> 17 | AK37: =SUM(AK7:AK36) -> 31 | AL37: =SUM(AL7:AL36) -> 9

Sheet Août
B1: Calendrier des gardes et absences des employés
B2: Légende | C2: C | D2: Congés | F2: G1 | G2: Gardes 1 | J2: G2 | K2: Gardes 2 | M2: FS | N2: Formations/Stages | R2: A | S2: Absences | X2: Férié | AB2: M | AC2: Maladie
AH3: Année :
B4: Août | C4: Dates | AH4: =Janvier!AH4 -> 2023 | AI4: G2
C5: =DATE(AnnéeCalendrier,2,1) -> 44958 | D5: =C5+1 -> 44959 | E5: =D5+1 -> 44960 | F5: =E5+1 -> 44961 | G5: =F5+1 -> 44962 | H5: =G5+1 -> 44963 | I5: =H5+1 -> 44964 | J5: =I5+1 -> 44965 | K5: =J5+1 -> 44966 | ... AG5: =AF5+1 -> 44988 | AH5: C | AI5: G1 | AJ5: FS | AK5: A | AL5: M
B6: Nom de l’employé | C6: 1 | D6: 2 | E6: 3 | F6: 4 | G6: 5 | H6: 6 | I6: 7 | J6: 8 | K6: 9 | L6: 10 | M6: 11 | N6: 12 | O6: 13 | P6: 14 | Q6: 15 | R6: 16 | S6: 17 | T6: 18 | U6: 19 | V6: 20 | W6: 21 | X6: 22 | Y6: 23 | Z6: 24 | AA6: 25 | AB6: 26 | AC6: 27 | AD6: 28 | AE6: 29 | AF6: 30 | AG6: 31 | AH6: Congés | AI6: Gardes | AJ6: Formations Stages | AK6: Absences | AL6: Maladie
B7: BONNEFOND Manon | AH7: =COUNTIF(Aout[[#This Row],[1]:[31]],$AH$5) -> 0 | AI7: =COUNTIF(Aout[[#This Row],[1]:[31]],$AI$4)+COUNTIF(Aout[[#This Row],[1]:[31]],$AI$5) -> 0 | AJ7: =COUNTIF(Aout[[#This Row],[1]:[31]],$AJ$5) -> 0 | AK7: =COUNTIF(Aout[[#This Row],[1]:[31]],$AK$5) -> 0 | AL7: =COUNTIF(Aout[[#This Row],[1]:[31]],$AL$5) -> 0
B8: CABANNES Emile | H8: G1 | I8: G1 | J8: G1 | AC8: G1 | AD8: G1 | AE8: G1 | AH8: =COUNTIF(Aout[[#This Row],[1]:[31]],$AH$5) -> 0 | AI8: =COUNTIF(Aout[[#This Row],[1]:[31]],$AI$4)+COUNTIF(Aout[[#This Row],[1]:[31]],$AI$5) -> 6 | AJ8: =COUNTIF(Aout[[#This Row],[1]:[31]],$AJ$5) -> 0 | AK8: =COUNTIF(Aout[[#This Row],[1]:[31]],$AK$5) -> 0 | AL8: =COUNTIF(Aout[[#This Row],[1]:[31]],$AL$5) -> 0
B9: CHAZEAUD Anita | AH9: =COUNTIF(Aout[[#This Row],[1]:[31]],$AH$5) -> 0 | AI9: =COUNTIF(Aout[[#This Row],[1]:[31]],$AI$4)+COUNTIF(Aout[[#This Row],[1]:[31]],$AI$5) -> 0 | AJ9: =COUNTIF(Aout[[#This Row],[1]:[31]],$AJ$5) -> 0 | AK9: =COUNTIF(Aout[[#This Row],[1]:[31]],$AK$5) -> 0 | AL9: =COUNTIF(Aout[[#This Row],[1]:[31]],$AL$5) -> 0
B10: CASTANG Jean-Claude | AH10: =COUNTIF(Aout[[#This Row],[1]:[31]],$AH$5) -> 0 | AI10: =COUNTIF(Aout[[#This Row],[1]:[31]],$AI$4)+COUNTIF(Aout[[#This Row],[1]:[31]],$AI$5) -> 0 | AJ10: =COUNTIF(Aout[[#This Row],[1]:[31]],$AJ$5) -> 0 | AK10: =COUNTIF(Aout[[#This Row],[1]:[31]],$AK$5) -> 0 | AL10: =COUNTIF(Aout[[#This Row],[1]:[31]],$AL$5) -> 0
B11: DA SILVA Marc | C11: G2 | R11: G1 | S11: G1 | T11: G1 | U11: G1 | V11: G1 | W11: G1 | X11: G1 | AH11: =COUNTIF(Aout[[#This Row],[1]:[31]],$AH$5) -> 0 | AI11: =COUNTIF(Aout[[#This Row],[1]:[31]],$AI$4)+COUNTIF(Aout[[#This Row],[1]:[31]],$AI$5) -> 8 | AJ11: =COUNTIF(Aout[[#This Row],[1]:[31]],$AJ$5) -> 0 | AK11: =COUNTIF(Aout[[#This Row],[1]:[31]],$AK$5) -> 0 | AL11: =COUNTIF(Aout[[#This Row],[1]:[31]],$AL$5) -> 0
B12: DERACO Philippe | O12: G1 | P12: G1 | Q12: G1 | AH12: =COUNTIF(Aout[[#This Row],[1]:[31]],$AH$5) -> 0 | AI12: =COUNTIF(Aout[[#This Row],[1]:[31]],$AI$4)+COUNTIF(Aout[[#This Row],[1]:[31]],$AI$5) -> 3 | AJ12: =COUNTIF(Aout[[#This Row],[1]:[31]],$AJ$5) -> 0 | AK12: =COUNTIF(Aout[[#This Row],[1]:[31]],$AK$5) -> 0 | AL12: =COUNTIF(Aout[[#This Row],[1]:[31]],$AL$5) -> 0
B13: DURAN Alexandre | AH13: =COUNTIF(Aout[[#This Row],[1]:[31]],$AH$5) -> 0 | AI13: =COUNTIF(Aout[[#This Row],[1]:[31]],$AI$4)+COUNTIF(Aout[[#This Row],[1]:[31]],$AI$5) -> 0 | AJ13: =COUNTIF(Aout[[#This Row],[1]:[31]],$AJ$5) -> 0 | AK13: =COUNTIF(Aout[[#This Row],[1]:[31]],$AK$5) -> 0 | AL13: =COUNTIF(Aout[[#This Row],[1]:[31]],$AL$5) -> 0
B14: FAGETTE Philippe | AH14: =COUNTIF(Aout[[#This Row],[1]:[31]],$AH$5) -> 0 | AI14: =COUNTIF(Aout[[#This Row],[1]:[31]],$AI$4)+COUNTIF(Aout[[#This Row],[1]:[31]],$AI$5) -> 0 | AJ14: =COUNTIF(Aout[[#This Row],[1]:[31]],$AJ$5) -> 0 | AK14: =COUNTIF(Aout[[#This Row],[1]:[31]],$AK$5) -> 0 | AL14: =COUNTIF(Aout[[#This Row],[1]:[31]],$AL$5) -> 0
B15: FRANCOIS Jean-Paul | AH15: =COUNTIF(Aout[[#This Row],[1]:[31]],$AH$5) -> 0 | AI15: =COUNTIF(Aout[[#This Row],[1]:[31]],$AI$4)+COUNTIF(Aout[[#This Row],[1]:[31]],$AI$5) -> 0 | AJ15: =COUNTIF(Aout[[#This Row],[1]:[31]],$AJ$5) -> 0 | AK15: =COUNTIF(Aout[[#This Row],[1]:[31]],$AK$5) -> 0 | AL15: =COUNTIF(Aout[[#This Row],[1]:[31]],$AL$5) -> 0
B16: FRANCOIS Mathéo | D16: FS | E16: FS | F16: FS | G16: FS | H16: FS | Y16: FS | Z16: FS | AA16: FS | AB16: FS | AC16: FS | AH16: =COUNTIF(Aout[[#This Row],[1]:[31]],$AH$5) -> 0 | AI16: =COUNTIF(Aout[[#This Row],[1]:[31]],$AI$4)+COUNTIF(Aout[[#This Row],[1]:[31]],$AI$5) -> 0 | AJ16: =COUNTIF(Aout[[#This Row],[1]:[31]],$AJ$5) -> 10 | AK16: =COUNTIF(Aout[[#This Row],[1]:[31]],$AK$5) -> 0 | AL16: =COUNTIF(Aout[[#This Row],[1]:[31]],$AL$5) -> 0
B17: FONDIN Patrice | AH17: =COUNTIF(Aout[[#This Row],[1]:[31]],$AH$5) -> 0 | AI17: =COUNTIF(Aout[[#This Row],[1]:[31]],$AI$4)+COUNTIF(Aout[[#This Row],[1]:[31]],$AI$5) -> 0 | AJ17: =COUNTIF(Aout[[#This Row],[1]:[31]],$AJ$5) -> 0 | AK17: =COUNTIF(Aout[[#This Row],[1]:[31]],$AK$5) -> 0 | AL17: =COUNTIF(Aout[[#This Row],[1]:[31]],$AL$5) -> 0
B18: GRIVOIS Nicolas | C18: G1 | R18: G1 | S18: G1 | T18: G1 | U18: G1 | V18: G1 | W18: G1 | X18: G1 | AH18: =COUNTIF(Aout[[#This Row],[1]:[31]],$AH$5) -> 0 | AI18: =COUNTIF(Aout[[#This Row],[1]:[31]],$AI$4)+COUNTIF(Aout[[#This Row],[1]:[31]],$AI$5) -> 8 | AJ18: =COUNTIF(Aout[[#This Row],[1]:[31]],$AJ$5) -> 0 | AK18: =COUNTIF(Aout[[#This Row],[1]:[31]],$AK$5) -> 0 | AL18: =COUNTIF(Aout[[#This Row],[1]:[31]],$AL$5) -> 0
B19: LAFAYE Marion | C19: A | D19: A | E19: A | F19: A | G19: A | H19: A | I19: A | J19: A | K19: A | L19: A | M19: A | N19: A | O19: A | P19: A | Q19: A | R19: A | S19: A | T19: A | U19: A | V19: A | W19: A | X19: A | Y19: A | Z19: A | AA19: A | AB19: A | AC19: A | AD19: A | AE19: A | AF19: A | AG19: A | AH19: =COUNTIF(Aout[[#This Row],[1]:[31]],$AH$5) -> 0 | AI19: =COUNTIF(Aout[[#This Row],[1]:[31]],$AI$4)+COUNTIF(Aout[[#This Row],[1]:[31]],$AI$5) -> 0 | AJ19: =COUNTIF(Aout[[#This Row],[1]:[31]],$AJ$5) -> 0 | AK19: =COUNTIF(Aout[[#This Row],[1]:[31]],$AK$5) -> 31 | AL19: =COUNTIF(Aout[[#This Row],[1]:[31]],$AL$5) -> 0
B20: MARCHE Philippe | O20: G2 | P20: G2 | Q20: G2 | AF20: FS | AH20: =COUNTIF(Aout[[#This Row],[1]:[31]],$AH$5) -> 0 | AI20: =COUNTIF(Aout[[#This Row],[1]:[31]],$AI$4)+COUNTIF(Aout[[#This Row],[1]:[31]],$AI$5) -> 3 | AJ20: =COUNTIF(Aout[[#This Row],[1]:[31]],$AJ$5) -> 1 | AK20: =COUNTIF(Aout[[#This Row],[1]:[31]],$AK$5) -> 0 | AL20: =COUNTIF(Aout[[#This Row],[1]:[31]],$AL$5) -> 0
B21: MARTIAL Jean-Luc | C21: G1 | D21: C | E21: C | F21: C | G21: C | H21: C | I21: C | J21: C | K21: C | L21: C | M21: C | N21: C | O21: C | P21: C | Q21: C | AH21: =COUNTIF(Aout[[#This Row],[1]:[31]],$AH$5) -> 14 | AI21: =COUNTIF(Aout[[#This Row],[1]:[31]],$AI$4)+COUNTIF(Aout[[#This Row],[1]:[31]],$AI$5) -> 1 | AJ21: =COUNTIF(Aout[[#This Row],[1]:[31]],$AJ$5) -> 0 | AK21: =COUNTIF(Aout[[#This Row],[1]:[31]],$AK$5) -> 0 | AL21: =COUNTIF(Aout[[#This Row],[1]:[31]],$AL$5) -> 0
B22: MENARD Martial | AH22: =COUNTIF(Aout[[#This Row],[1]:[31]],$AH$5) -> 0 | AI22: =COUNTIF(Aout[[#This Row],[1]:[31]],$AI$4)+COUNTIF(Aout[[#This Row],[1]:[31]],$AI$5) -> 0 | AJ22: =COUNTIF(Aout[[#This Row],[1]:[31]],$AJ$5) -> 0 | AK22: =COUNTIF(Aout[[#This Row],[1]:[31]],$AK$5) -> 0 | AL22: =COUNTIF(Aout[[#This Row],[1]:[31]],$AL$5) -> 0
B23: NOEL Didier | AC23: G1 | AD23: G1 | AE23: G1 | AH23: =COUNTIF(Aout[[#This Row],[1]:[31]],$AH$5) -> 0 | AI23: =COUNTIF(Aout[[#This Row],[1]:[31]],$AI$4)+COUNTIF(Aout[[#This Row],[1]:[31]],$AI$5) -> 3 | AJ23: =COUNTIF(Aout[[#This Row],[1]:[31]],$AJ$5) -> 0 | AK23: =COUNTIF(Aout[[#This Row],[1]:[31]],$AK$5) -> 0 | AL23: =COUNTIF(Aout[[#This Row],[1]:[31]],$AL$5) -> 0
B24: NORMAND Christian | AH24: =COUNTIF(Aout[[#This Row],[1]:[31]],$AH$5) -> 0 | AI24: =COUNTIF(Aout[[#This Row],[1]:[31]],$AI$4)+COUNTIF(Aout[[#This Row],[1]:[31]],$AI$5) -> 0 | AJ24: =COUNTIF(Aout[[#This Row],[1]:[31]],$AJ$5) -> 0 | AK24: =COUNTIF(Aout[[#This Row],[1]:[31]],$AK$5) -> 0 | AL24: =COUNTIF(Aout[[#This Row],[1]:[31]],$AL$5) -> 0
B25: PARAT Alex | H25: G1 | I25: G1 | J25: G1 | AH25: =COUNTIF(Aout[[#This Row],[1]:[31]],$AH$5) -> 0 | AI25: =COUNTIF(Aout[[#This Row],[1]:[31]],$AI$4)+COUNTIF(Aout[[#This Row],[1]:[31]],$AI$5) -> 3 | AJ25: =COUNTIF(Aout[[#This Row],[1]:[31]],$AJ$5) -> 0 | AK25: =COUNTIF(Aout[[#This Row],[1]:[31]],$AK$5) -> 0 | AL25: =COUNTIF(Aout[[#This Row],[1]:[31]],$AL$5) -> 0
B26: PICAUD Carine | O26: G1 | P26: G1 | Q26: G1 | AC26: G2 | AD26: G2 | AE26: G2 | AH26: =COUNTIF(Aout[[#This Row],[1]:[31]],$AH$5) -> 0 | AI26: =COUNTIF(Aout[[#This Row],[1]:[31]],$AI$4)+COUNTIF(Aout[[#This Row],[1]:[31]],$AI$5) -> 6 | AJ26: =COUNTIF(Aout[[#This Row],[1]:[31]],$AJ$5) -> 0 | AK26: =COUNTIF(Aout[[#This Row],[1]:[31]],$AK$5) -> 0 | AL26: =COUNTIF(Aout[[#This Row],[1]:[31]],$AL$5) -> 0
B27: RIBEIRO Rui | V27: G2 | W27: G2 | X27: G2 | AH27: =COUNTIF(Aout[[#This Row],[1]:[31]],$AH$5) -> 0 | AI27: =COUNTIF(Aout[[#This Row],[1]:[31]],$AI$4)+COUNTIF(Aout[[#This Row],[1]:[31]],$AI$5) -> 3 | AJ27: =COUNTIF(Aout[[#This Row],[1]:[31]],$AJ$5) -> 0 | AK27: =COUNTIF(Aout[[#This Row],[1]:[31]],$AK$5) -> 0 | AL27: =COUNTIF(Aout[[#This Row],[1]:[31]],$AL$5) -> 0
B28: RIGAL Pauline | O28: G2 | P28: G2 | Q28: G2 | AH28: =COUNTIF(Aout[[#This Row],[1]:[31]],$AH$5) -> 0 | AI28: =COUNTIF(Aout[[#This Row],[1]:[31]],$AI$4)+COUNTIF(Aout[[#This Row],[1]:[31]],$AI$5) -> 3 | AJ28: =COUNTIF(Aout[[#This Row],[1]:[31]],$AJ$5) -> 0 | AK28: =COUNTIF(Aout[[#This Row],[1]:[31]],$AK$5) -> 0 | AL28: =COUNTIF(Aout[[#This Row],[1]:[31]],$AL$5) -> 0
B29: ROUGIER Stéphanie | C29: G2 | V29: G2 | W29: G2 | X29: G2 | AH29: =COUNTIF(Aout[[#This Row],[1]:[31]],$AH$5) -> 0 | AI29: =COUNTIF(Aout[[#This Row],[1]:[31]],$AI$4)+COUNTIF(Aout[[#This Row],[1]:[31]],$AI$5) -> 4 | AJ29: =COUNTIF(Aout[[#This Row],[1]:[31]],$AJ$5) -> 0 | AK29: =COUNTIF(Aout[[#This Row],[1]:[31]],$AK$5) -> 0 | AL29: =COUNTIF(Aout[[#This Row],[1]:[31]],$AL$5) -> 0
B30: SAVARIT André | AC30: G2 | AD30: G2 | AE30: G2 | AH30: =COUNTIF(Aout[[#This Row],[1]:[31]],$AH$5) -> 0 | AI30: =COUNTIF(Aout[[#This Row],[1]:[31]],$AI$4)+COUNTIF(Aout[[#This Row],[1]:[31]],$AI$5) -> 3 | AJ30: =COUNTIF(Aout[[#This Row],[1]:[31]],$AJ$5) -> 0 | AK30: =COUNTIF(Aout[[#This Row],[1]:[31]],$AK$5) -> 0 | AL30: =COUNTIF(Aout[[#This Row],[1]:[31]],$AL$5) -> 0
B31: SAVARIT David | H31: G2 | I31: G2 | J31: G2 | AH31: =COUNTIF(Aout[[#This Row],[1]:[31]],$AH$5) -> 0 | AI31: =COUNTIF(Aout[[#This Row],[1]:[31]],$AI$4)+COUNTIF(Aout[[#This Row],[1]:[31]],$AI$5) -> 3 | AJ31: =COUNTIF(Aout[[#This Row],[1]:[31]],$AJ$5) -> 0 | AK31: =COUNTIF(Aout[[#This Row],[1]:[31]],$AK$5) -> 0 | AL31: =COUNTIF(Aout[[#This Row],[1]:[31]],$AL$5) -> 0
B32: THOMAS Karl | D32: FS | E32: FS | F32: FS | G32: FS | H32: FS | AF32: FS | AH32: =COUNTIF(Aout[[#This Row],[1]:[31]],$AH$5) -> 0 | AI32: =COUNTIF(Aout[[#This Row],[1]:[31]],$AI$4)+COUNTIF(Aout[[#This Row],[1]:[31]],$AI$5) -> 0 | AJ32: =COUNTIF(Aout[[#This Row],[1]:[31]],$AJ$5) -> 6 | AK32: =COUNTIF(Aout[[#This Row],[1]:[31]],$AK$5) -> 0 | AL32: =COUNTIF(Aout[[#This Row],[1]:[31]],$AL$5) -> 0
B33: VAVASSEUR Célia | H33: G2 | I33: G2 | J33: G2 | AH33: =COUNTIF(Aout[[#This Row],[1]:[31]],$AH$5) -> 0 | AI33: =COUNTIF(Aout[[#This Row],[1]:[31]],$AI$4)+COUNTIF(Aout[[#This Row],[1]:[31]],$AI$5) -> 3 | AJ33: =COUNTIF(Aout[[#This Row],[1]:[31]],$AJ$5) -> 0 | AK33: =COUNTIF(Aout[[#This Row],[1]:[31]],$AK$5) -> 0 | AL33: =COUNTIF(Aout[[#This Row],[1]:[31]],$AL$5) -> 0
B34: 28 | AH34: =COUNTIF(Aout[[#This Row],[1]:[31]],$AH$5) -> 0 | AI34: =COUNTIF(Aout[[#This Row],[1]:[31]],$AI$4)+COUNTIF(Aout[[#This Row],[1]:[31]],$AI$5) -> 0 | AJ34: =COUNTIF(Aout[[#This Row],[1]:[31]],$AJ$5) -> 0 | AK34: =COUNTIF(Aout[[#This Row],[1]:[31]],$AK$5) -> 0 | AL34: =COUNTIF(Aout[[#This Row],[1]:[31]],$AL$5) -> 0
B35: 29 | AH35: =COUNTIF(Aout[[#This Row],[1]:[31]],$AH$5) -> 0 | AI35: =COUNTIF(Aout[[#This Row],[1]:[31]],$AI$4)+COUNTIF(Aout[[#This Row],[1]:[31]],$AI$5) -> 0 | AJ35: =COUNTIF(Aout[[#This Row],[1]:[31]],$AJ$5) -> 0 | AK35: =COUNTIF(Aout[[#This Row],[1]:[31]],$AK$5) -> 0 | AL35: =COUNTIF(Aout[[#This Row],[1]:[31]],$AL$5) -> 0
B36: 30 | V36: M | W36: M | X36: M | Y36: M | Z36: M | AA36: M | AB36: M | AC36: M | AD36: M | AH36: =COUNTIF(Aout[[#This Row],[1]:[31]],$AH$5) -> 0 | AI36: =COUNTIF(Aout[[#This Row],[1]:[31]],$AI$4)+COUNTIF(Aout[[#This Row],[1]:[31]],$AI$5) -> 0 | AJ36: =COUNTIF(Aout[[#This Row],[1]:[31]],$AJ$5) -> 0 | AK36: =COUNTIF(Aout[[#This Row],[1]:[31]],$AK$5) -> 0 | AL36: =COUNTIF(Aout[[#This Row],[1]:[31]],$AL$5) -> 9
AH37: =SUM(AH7:AH36) -> 14 | AI37: =SUM(AI7:AI36) -> 60 | AJ37: =SUM(AJ7:AJ36) -> 17 | AK37: =SUM(AK7:AK36) -> 31 | AL37: =SUM(AL7:AL36) -> 9

Sheet Septembre
B1: Calendrier des gardes et absences des employés
B2: Légende | C2: C | D2: Congés | F2: G1 | G2: Gardes 1 | J2: G2 | K2: Gardes 2 | M2: FS | N2: Formations/Stages | R2: A | S2: Absences | X2: Férié | AB2: M | AC2: Maladie
AH3: Année :
B4: Septembre | C4: Dates | AH4: =Janvier!AH4 -> 2023 | AI4: G2
C5: =DATE(AnnéeCalendrier,2,1) -> 44958 | D5: =C5+1 -> 44959 | E5: =D5+1 -> 44960 | F5: =E5+1 -> 44961 | G5: =F5+1 -> 44962 | H5: =G5+1 -> 44963 | I5: =H5+1 -> 44964 | J5: =I5+1 -> 44965 | K5: =J5+1 -> 44966 | ... AG5: =AF5+1 -> 44988 | AH5: C | AI5: G1 | AJ5: FS | AK5: A | AL5: M
B6: Nom de l’employé | C6: 1 | D6: 2 | E6: 3 | F6: 4 | G6: 5 | H6: 6 | I6: 7 | J6: 8 | K6: 9 | L6: 10 | M6: 11 | N6: 12 | O6: 13 | P6: 14 | Q6: 15 | R6: 16 | S6: 17 | T6: 18 | U6: 19 | V6: 20 | W6: 21 | X6: 22 | Y6: 23 | Z6: 24 | AA6: 25 | AB6: 26 | AC6: 27 | AD6: 28 | AE6: 29 | AF6: 30 | AG6: 31 | AH6: Congés | AI6: Gardes | AJ6: Formations Stages | AK6: Absences | AL6: Maladie
B7: BONNEFOND Manon | AH7: =COUNTIF(septembre[[#This Row],[1]:[31]],$AH$5) -> 0 | AI7: =COUNTIF(septembre[[#This Row],[1]:[31]],$AI$4)+COUNTIF(septembre[[#This Row],[1]:[31]],$AI$5) -> 0 | AJ7: =COUNTIF(septembre[[#This Row],[1]:[31]],$AJ$5) -> 0 | AK7: =COUNTIF(septembre[[#This Row],[1]:[31]],$AK$5) -> 0 | AL7: =COUNTIF(septembre[[#This Row],[1]:[31]],$AL$5) -> 0
B8: CABANNES Emile | H8: G1 | I8: G1 | J8: G1 | AC8: G1 | AD8: G1 | AE8: G1 | AH8: =COUNTIF(septembre[[#This Row],[1]:[31]],$AH$5) -> 0 | AI8: =COUNTIF(septembre[[#This Row],[1]:[31]],$AI$4)+COUNTIF(septembre[[#This Row],[1]:[31]],$AI$5) -> 6 | AJ8: =COUNTIF(septembre[[#This Row],[1]:[31]],$AJ$5) -> 0 | AK8: =COUNTIF(septembre[[#This Row],[1]:[31]],$AK$5) -> 0 | AL8: =COUNTIF(septembre[[#This Row],[1]:[31]],$AL$5) -> 0
B9: CHAZEAUD Anita | AH9: =COUNTIF(septembre[[#This Row],[1]:[31]],$AH$5) -> 0 | AI9: =COUNTIF(septembre[[#This Row],[1]:[31]],$AI$4)+COUNTIF(septembre[[#This Row],[1]:[31]],$AI$5) -> 0 | AJ9: =COUNTIF(septembre[[#This Row],[1]:[31]],$AJ$5) -> 0 | AK9: =COUNTIF(septembre[[#This Row],[1]:[31]],$AK$5) -> 0 | AL9: =COUNTIF(septembre[[#This Row],[1]:[31]],$AL$5) -> 0
B10: CASTANG Jean-Claude | AH10: =COUNTIF(septembre[[#This Row],[1]:[31]],$AH$5) -> 0 | AI10: =COUNTIF(septembre[[#This Row],[1]:[31]],$AI$4)+COUNTIF(septembre[[#This Row],[1]:[31]],$AI$5) -> 0 | AJ10: =COUNTIF(septembre[[#This Row],[1]:[31]],$AJ$5) -> 0 | AK10: =COUNTIF(septembre[[#This Row],[1]:[31]],$AK$5) -> 0 | AL10: =COUNTIF(septembre[[#This Row],[1]:[31]],$AL$5) -> 0
B11: DA SILVA Marc | C11: G2 | R11: G1 | S11: G1 | T11: G1 | U11: G1 | V11: G1 | W11: G1 | X11: G1 | AH11: =COUNTIF(septembre[[#This Row],[1]:[31]],$AH$5) -> 0 | AI11: =COUNTIF(septembre[[#This Row],[1]:[31]],$AI$4)+COUNTIF(septembre[[#This Row],[1]:[31]],$AI$5) -> 8 | AJ11: =COUNTIF(septembre[[#This Row],[1]:[31]],$AJ$5) -> 0 | AK11: =COUNTIF(septembre[[#This Row],[1]:[31]],$AK$5) -> 0 | AL11: =COUNTIF(septembre[[#This Row],[1]:[31]],$AL$5) -> 0
B12: DERACO Philippe | O12: G1 | P12: G1 | Q12: G1 | AH12: =COUNTIF(septembre[[#This Row],[1]:[31]],$AH$5) -> 0 | AI12: =COUNTIF(septembre[[#This Row],[1]:[31]],$AI$4)+COUNTIF(septembre[[#This Row],[1]:[31]],$AI$5) -> 3 | AJ12: =COUNTIF(septembre[[#This Row],[1]:[31]],$AJ$5) -> 0 | AK12: =COUNTIF(septembre[[#This Row],[1]:[31]],$AK$5) -> 0 | AL12: =COUNTIF(septembre[[#This Row],[1]:[31]],$AL$5) -> 0
B13: DURAN Alexandre | AH13: =COUNTIF(septembre[[#This Row],[1]:[31]],$AH$5) -> 0 | AI13: =COUNTIF(septembre[[#This Row],[1]:[31]],$AI$4)+COUNTIF(septembre[[#This Row],[1]:[31]],$AI$5) -> 0 | AJ13: =COUNTIF(septembre[[#This Row],[1]:[31]],$AJ$5) -> 0 | AK13: =COUNTIF(septembre[[#This Row],[1]:[31]],$AK$5) -> 0 | AL13: =COUNTIF(septembre[[#This Row],[1]:[31]],$AL$5) -> 0
B14: FAGETTE Philippe | AH14: =COUNTIF(septembre[[#This Row],[1]:[31]],$AH$5) -> 0 | AI14: =COUNTIF(septembre[[#This Row],[1]:[31]],$AI$4)+COUNTIF(septembre[[#This Row],[1]:[31]],$AI$5) -> 0 | AJ14: =COUNTIF(septembre[[#This Row],[1]:[31]],$AJ$5) -> 0 | AK14: =COUNTIF(septembre[[#This Row],[1]:[31]],$AK$5) -> 0 | AL14: =COUNTIF(septembre[[#This Row],[1]:[31]],$AL$5) -> 0
B15: FRANCOIS Jean-Paul | AH15: =COUNTIF(septembre[[#This Row],[1]:[31]],$AH$5) -> 0 | AI15: =COUNTIF(septembre[[#This Row],[1]:[31]],$AI$4)+COUNTIF(septembre[[#This Row],[1]:[31]],$AI$5) -> 0 | AJ15: =COUNTIF(septembre[[#This Row],[1]:[31]],$AJ$5) -> 0 | AK15: =COUNTIF(septembre[[#This Row],[1]:[31]],$AK$5) -> 0 | AL15: =COUNTIF(septembre[[#This Row],[1]:[31]],$AL$5) -> 0
B16: FRANCOIS Mathéo | D16: FS | E16: FS | F16: FS | G16: FS | H16: FS | Y16: FS | Z16: FS | AA16: FS | AB16: FS | AC16: FS | AH16: =COUNTIF(septembre[[#This Row],[1]:[31]],$AH$5) -> 0 | AI16: =COUNTIF(septembre[[#This Row],[1]:[31]],$AI$4)+COUNTIF(septembre[[#This Row],[1]:[31]],$AI$5) -> 0 | AJ16: =COUNTIF(septembre[[#This Row],[1]:[31]],$AJ$5) -> 10 | AK16: =COUNTIF(septembre[[#This Row],[1]:[31]],$AK$5) -> 0 | AL16: =COUNTIF(septembre[[#This Row],[1]:[31]],$AL$5) -> 0
B17: FONDIN Patrice | AH17: =COUNTIF(septembre[[#This Row],[1]:[31]],$AH$5) -> 0 | AI17: =COUNTIF(septembre[[#This Row],[1]:[31]],$AI$4)+COUNTIF(septembre[[#This Row],[1]:[31]],$AI$5) -> 0 | AJ17: =COUNTIF(septembre[[#This Row],[1]:[31]],$AJ$5) -> 0 | AK17: =COUNTIF(septembre[[#This Row],[1]:[31]],$AK$5) -> 0 | AL17: =COUNTIF(septembre[[#This Row],[1]:[31]],$AL$5) -> 0
B18: GRIVOIS Nicolas | C18: G1 | R18: G1 | S18: G1 | T18: G1 | U18: G1 | V18: G1 | W18: G1 | X18: G1 | AH18: =COUNTIF(septembre[[#This Row],[1]:[31]],$AH$5) -> 0 | AI18: =COUNTIF(septembre[[#This Row],[1]:[31]],$AI$4)+COUNTIF(septembre[[#This Row],[1]:[31]],$AI$5) -> 8 | AJ18: =COUNTIF(septembre[[#This Row],[1]:[31]],$AJ$5) -> 0 | AK18: =COUNTIF(septembre[[#This Row],[1]:[31]],$AK$5) -> 0 | AL18: =COUNTIF(septembre[[#This Row],[1]:[31]],$AL$5) -> 0
B19: LAFAYE Marion | C19: A | D19: A | E19: A | F19: A | G19: A | H19: A | I19: A | J19: A | K19: A | L19: A | M19: A | N19: A | O19: A | P19: A | Q19: A | R19: A | S19: A | T19: A | U19: A | V19: A | W19: A | X19: A | Y19: A | Z19: A | AA19: A | AB19: A | AC19: A | AD19: A | AE19: A | AF19: A | AG19: A | AH19: =COUNTIF(septembre[[#This Row],[1]:[31]],$AH$5) -> 0 | AI19: =COUNTIF(septembre[[#This Row],[1]:[31]],$AI$4)+COUNTIF(septembre[[#This Row],[1]:[31]],$AI$5) -> 0 | AJ19: =COUNTIF(septembre[[#This Row],[1]:[31]],$AJ$5) -> 0 | AK19: =COUNTIF(septembre[[#This Row],[1]:[31]],$AK$5) -> 31 | AL19: =COUNTIF(septembre[[#This Row],[1]:[31]],$AL$5) -> 0
B20: MARCHE Philippe | O20: G2 | P20: G2 | Q20: G2 | AF20: FS | AH20: =COUNTIF(septembre[[#This Row],[1]:[31]],$AH$5) -> 0 | AI20: =COUNTIF(septembre[[#This Row],[1]:[31]],$AI$4)+COUNTIF(septembre[[#This Row],[1]:[31]],$AI$5) -> 3 | AJ20: =COUNTIF(septembre[[#This Row],[1]:[31]],$AJ$5) -> 1 | AK20: =COUNTIF(septembre[[#This Row],[1]:[31]],$AK$5) -> 0 | AL20: =COUNTIF(septembre[[#This Row],[1]:[31]],$AL$5) -> 0
B21: MARTIAL Jean-Luc | C21: G1 | D21: C | E21: C | F21: C | G21: C | H21: C | I21: C | J21: C | K21: C | L21: C | M21: C | N21: C | O21: C | P21: C | Q21: C | AH21: =COUNTIF(septembre[[#This Row],[1]:[31]],$AH$5) -> 14 | AI21: =COUNTIF(septembre[[#This Row],[1]:[31]],$AI$4)+COUNTIF(septembre[[#This Row],[1]:[31]],$AI$5) -> 1 | AJ21: =COUNTIF(septembre[[#This Row],[1]:[31]],$AJ$5) -> 0 | AK21: =COUNTIF(septembre[[#This Row],[1]:[31]],$AK$5) -> 0 | AL21: =COUNTIF(septembre[[#This Row],[1]:[31]],$AL$5) -> 0
B22: MENARD Martial | AH22: =COUNTIF(septembre[[#This Row],[1]:[31]],$AH$5) -> 0 | AI22: =COUNTIF(septembre[[#This Row],[1]:[31]],$AI$4)+COUNTIF(septembre[[#This Row],[1]:[31]],$AI$5) -> 0 | AJ22: =COUNTIF(septembre[[#This Row],[1]:[31]],$AJ$5) -> 0 | AK22: =COUNTIF(septembre[[#This Row],[1]:[31]],$AK$5) -> 0 | AL22: =COUNTIF(septembre[[#This Row],[1]:[31]],$AL$5) -> 0
B23: NOEL Didier | AC23: G1 | AD23: G1 | AE23: G1 | AH23: =COUNTIF(septembre[[#This Row],[1]:[31]],$AH$5) -> 0 | AI23: =COUNTIF(septembre[[#This Row],[1]:[31]],$AI$4)+COUNTIF(septembre[[#This Row],[1]:[31]],$AI$5) -> 3 | AJ23: =COUNTIF(septembre[[#This Row],[1]:[31]],$AJ$5) -> 0 | AK23: =COUNTIF(septembre[[#This Row],[1]:[31]],$AK$5) -> 0 | AL23: =COUNTIF(septembre[[#This Row],[1]:[31]],$AL$5) -> 0
B24: NORMAND Christian | AH24: =COUNTIF(septembre[[#This Row],[1]:[31]],$AH$5) -> 0 | AI24: =COUNTIF(septembre[[#This Row],[1]:[31]],$AI$4)+COUNTIF(septembre[[#This Row],[1]:[31]],$AI$5) -> 0 | AJ24: =COUNTIF(septembre[[#This Row],[1]:[31]],$AJ$5) -> 0 | AK24: =COUNTIF(septembre[[#This Row],[1]:[31]],$AK$5) -> 0 | AL24: =COUNTIF(septembre[[#This Row],[1]:[31]],$AL$5) -> 0
B25: PARAT Alex | H25: G1 | I25: G1 | J25: G1 | AH25: =COUNTIF(septembre[[#This Row],[1]:[31]],$AH$5) -> 0 | AI25: =COUNTIF(septembre[[#This Row],[1]:[31]],$AI$4)+COUNTIF(septembre[[#This Row],[1]:[31]],$AI$5) -> 3 | AJ25: =COUNTIF(septembre[[#This Row],[1]:[31]],$AJ$5) -> 0 | AK25: =COUNTIF(septembre[[#This Row],[1]:[31]],$AK$5) -> 0 | AL25: =COUNTIF(septembre[[#This Row],[1]:[31]],$AL$5) -> 0
B26: PICAUD Carine | O26: G1 | P26: G1 | Q26: G1 | AC26: G2 | AD26: G2 | AE26: G2 | AH26: =COUNTIF(septembre[[#This Row],[1]:[31]],$AH$5) -> 0 | AI26: =COUNTIF(septembre[[#This Row],[1]:[31]],$AI$4)+COUNTIF(septembre[[#This Row],[1]:[31]],$AI$5) -> 6 | AJ26: =COUNTIF(septembre[[#This Row],[1]:[31]],$AJ$5) -> 0 | AK26: =COUNTIF(septembre[[#This Row],[1]:[31]],$AK$5) -> 0 | AL26: =COUNTIF(septembre[[#This Row],[1]:[31]],$AL$5) -> 0
B27: RIBEIRO Rui | V27: G2 | W27: G2 | X27: G2 | AH27: =COUNTIF(septembre[[#This Row],[1]:[31]],$AH$5) -> 0 | AI27: =COUNTIF(septembre[[#This Row],[1]:[31]],$AI$4)+COUNTIF(septembre[[#This Row],[1]:[31]],$AI$5) -> 3 | AJ27: =COUNTIF(septembre[[#This Row],[1]:[31]],$AJ$5) -> 0 | AK27: =COUNTIF(septembre[[#This Row],[1]:[31]],$AK$5) -> 0 | AL27: =COUNTIF(septembre[[#This Row],[1]:[31]],$AL$5) -> 0
B28: RIGAL Pauline | O28: G2 | P28: G2 | Q28: G2 | AH28: =COUNTIF(septembre[[#This Row],[1]:[31]],$AH$5) -> 0 | AI28: =COUNTIF(septembre[[#This Row],[1]:[31]],$AI$4)+COUNTIF(septembre[[#This Row],[1]:[31]],$AI$5) -> 3 | AJ28: =COUNTIF(septembre[[#This Row],[1]:[31]],$AJ$5) -> 0 | AK28: =COUNTIF(septembre[[#This Row],[1]:[31]],$AK$5) -> 0 | AL28: =COUNTIF(septembre[[#This Row],[1]:[31]],$AL$5) -> 0
B29: ROUGIER Stéphanie | C29: G2 | V29: G2 | W29: G2 | X29: G2 | AH29: =COUNTIF(septembre[[#This Row],[1]:[31]],$AH$5) -> 0 | AI29: =COUNTIF(septembre[[#This Row],[1]:[31]],$AI$4)+COUNTIF(septembre[[#This Row],[1]:[31]],$AI$5) -> 4 | AJ29: =COUNTIF(septembre[[#This Row],[1]:[31]],$AJ$5) -> 0 | AK29: =COUNTIF(septembre[[#This Row],[1]:[31]],$AK$5) -> 0 | AL29: =COUNTIF(septembre[[#This Row],[1]:[31]],$AL$5) -> 0
B30: SAVARIT André | AC30: G2 | AD30: G2 | AE30: G2 | AH30: =COUNTIF(septembre[[#This Row],[1]:[31]],$AH$5) -> 0 | AI30: =COUNTIF(septembre[[#This Row],[1]:[31]],$AI$4)+COUNTIF(septembre[[#This Row],[1]:[31]],$AI$5) -> 3 | AJ30: =COUNTIF(septembre[[#This Row],[1]:[31]],$AJ$5) -> 0 | AK30: =COUNTIF(septembre[[#This Row],[1]:[31]],$AK$5) -> 0 | AL30: =COUNTIF(septembre[[#This Row],[1]:[31]],$AL$5) -> 0
B31: SAVARIT David | H31: G2 | I31: G2 | J31: G2 | AH31: =COUNTIF(septembre[[#This Row],[1]:[31]],$AH$5) -> 0 | AI31: =COUNTIF(septembre[[#This Row],[1]:[31]],$AI$4)+COUNTIF(septembre[[#This Row],[1]:[31]],$AI$5) -> 3 | AJ31: =COUNTIF(septembre[[#This Row],[1]:[31]],$AJ$5) -> 0 | AK31: =COUNTIF(septembre[[#This Row],[1]:[31]],$AK$5) -> 0 | AL31: =COUNTIF(septembre[[#This Row],[1]:[31]],$AL$5) -> 0
B32: THOMAS Karl | D32: FS | E32: FS | F32: FS | G32: FS | H32: FS | AF32: FS | AH32: =COUNTIF(septembre[[#This Row],[1]:[31]],$AH$5) -> 0 | AI32: =COUNTIF(septembre[[#This Row],[1]:[31]],$AI$4)+COUNTIF(septembre[[#This Row],[1]:[31]],$AI$5) -> 0 | AJ32: =COUNTIF(septembre[[#This Row],[1]:[31]],$AJ$5) -> 6 | AK32: =COUNTIF(septembre[[#This Row],[1]:[31]],$AK$5) -> 0 | AL32: =COUNTIF(septembre[[#This Row],[1]:[31]],$AL$5) -> 0
B33: VAVASSEUR Célia | H33: G2 | I33: G2 | J33: G2 | AH33: =COUNTIF(septembre[[#This Row],[1]:[31]],$AH$5) -> 0 | AI33: =COUNTIF(septembre[[#This Row],[1]:[31]],$AI$4)+COUNTIF(septembre[[#This Row],[1]:[31]],$AI$5) -> 3 | AJ33: =COUNTIF(septembre[[#This Row],[1]:[31]],$AJ$5) -> 0 | AK33: =COUNTIF(septembre[[#This Row],[1]:[31]],$AK$5) -> 0 | AL33: =COUNTIF(septembre[[#This Row],[1]:[31]],$AL$5) -> 0
B34: 28 | AH34: =COUNTIF(septembre[[#This Row],[1]:[31]],$AH$5) -> 0 | AI34: =COUNTIF(septembre[[#This Row],[1]:[31]],$AI$4)+COUNTIF(septembre[[#This Row],[1]:[31]],$AI$5) -> 0 | AJ34: =COUNTIF(septembre[[#This Row],[1]:[31]],$AJ$5) -> 0 | AK34: =COUNTIF(septembre[[#This Row],[1]:[31]],$AK$5) -> 0 | AL34: =COUNTIF(septembre[[#This Row],[1]:[31]],$AL$5) -> 0
B35: 29 | AH35: =COUNTIF(septembre[[#This Row],[1]:[31]],$AH$5) -> 0 | AI35: =COUNTIF(septembre[[#This Row],[1]:[31]],$AI$4)+COUNTIF(septembre[[#This Row],[1]:[31]],$AI$5) -> 0 | AJ35: =COUNTIF(septembre[[#This Row],[1]:[31]],$AJ$5) -> 0 | AK35: =COUNTIF(septembre[[#This Row],[1]:[31]],$AK$5) -> 0 | AL35: =COUNTIF(septembre[[#This Row],[1]:[31]],$AL$5) -> 0
B36: 30 | V36: M | W36: M | X36: M | Y36: M | Z36: M | AA36: M | AB36: M | AC36: M | AD36: M | AH36: =COUNTIF(septembre[[#This Row],[1]:[31]],$AH$5) -> 0 | AI36: =COUNTIF(septembre[[#This Row],[1]:[31]],$AI$4)+COUNTIF(septembre[[#This Row],[1]:[31]],$AI$5) -> 0 | AJ36: =COUNTIF(septembre[[#This Row],[1]:[31]],$AJ$5) -> 0 | AK36: =COUNTIF(septembre[[#This Row],[1]:[31]],$AK$5) -> 0 | AL36: =COUNTIF(septembre[[#This Row],[1]:[31]],$AL$5) -> 9
AH37: =SUM(AH7:AH36) -> 14 | AI37: =SUM(AI7:AI36) -> 60 | AJ37: =SUM(AJ7:AJ36) -> 17 | AK37: =SUM(AK7:AK36) -> 31 | AL37: =SUM(AL7:AL36) -> 9

Sheet Octobre
B1: Calendrier des gardes et absences des employés
B2: Légende | C2: C | D2: Congés | F2: G1 | G2: Gardes 1 | J2: G2 | K2: Gardes 2 | M2: FS | N2: Formations/Stages | R2: A | S2: Absences | X2: Férié | AB2: M | AC2: Maladie
AH3: Année :
B4: Octobre | C4: Dates | AH4: =Janvier!AH4 -> 2023 | AI4: G2
C5: =DATE(AnnéeCalendrier,2,1) -> 44958 | D5: =C5+1 -> 44959 | E5: =D5+1 -> 44960 | F5: =E5+1 -> 44961 | G5: =F5+1 -> 44962 | H5: =G5+1 -> 44963 | I5: =H5+1 -> 44964 | J5: =I5+1 -> 44965 | K5: =J5+1 -> 44966 | ... AG5: =AF5+1 -> 44988 | AH5: C | AI5: G1 | AJ5: FS | AK5: A | AL5: M
B6: Nom de l’employé | C6: 1 | D6: 2 | E6: 3 | F6: 4 | G6: 5 | H6: 6 | I6: 7 | J6: 8 | K6: 9 | L6: 10 | M6: 11 | N6: 12 | O6: 13 | P6: 14 | Q6: 15 | R6: 16 | S6: 17 | T6: 18 | U6: 19 | V6: 20 | W6: 21 | X6: 22 | Y6: 23 | Z6: 24 | AA6: 25 | AB6: 26 | AC6: 27 | AD6: 28 | AE6: 29 | AF6: 30 | AG6: 31 | AH6: Congés | AI6: Gardes | AJ6: Formations Stages | AK6: Absences | AL6: Maladie
B7: BONNEFOND Manon | AH7: =COUNTIF(octobre[[#This Row],[1]:[31]],$AH$5) -> 0 | AI7: =COUNTIF(octobre[[#This Row],[1]:[31]],$AI$4)+COUNTIF(octobre[[#This Row],[1]:[31]],$AI$5) -> 0 | AJ7: =COUNTIF(octobre[[#This Row],[1]:[31]],$AJ$5) -> 0 | AK7: =COUNTIF(octobre[[#This Row],[1]:[31]],$AK$5) -> 0 | AL7: =COUNTIF(octobre[[#This Row],[1]:[31]],$AL$5) -> 0
B8: CABANNES Emile | H8: G1 | I8: G1 | J8: G1 | AC8: G1 | AD8: G1 | AE8: G1 | AH8: =COUNTIF(octobre[[#This Row],[1]:[31]],$AH$5) -> 0 | AI8: =COUNTIF(octobre[[#This Row],[1]:[31]],$AI$4)+COUNTIF(octobre[[#This Row],[1]:[31]],$AI$5) -> 6 | AJ8: =COUNTIF(octobre[[#This Row],[1]:[31]],$AJ$5) -> 0 | AK8: =COUNTIF(octobre[[#This Row],[1]:[31]],$AK$5) -> 0 | AL8: =COUNTIF(octobre[[#This Row],[1]:[31]],$AL$5) -> 0
B9: CHAZEAUD Anita | AH9: =COUNTIF(octobre[[#This Row],[1]:[31]],$AH$5) -> 0 | AI9: =COUNTIF(octobre[[#This Row],[1]:[31]],$AI$4)+COUNTIF(octobre[[#This Row],[1]:[31]],$AI$5) -> 0 | AJ9: =COUNTIF(octobre[[#This Row],[1]:[31]],$AJ$5) -> 0 | AK9: =COUNTIF(octobre[[#This Row],[1]:[31]],$AK$5) -> 0 | AL9: =COUNTIF(octobre[[#This Row],[1]:[31]],$AL$5) -> 0
B10: CASTANG Jean-Claude | AH10: =COUNTIF(octobre[[#This Row],[1]:[31]],$AH$5) -> 0 | AI10: =COUNTIF(octobre[[#This Row],[1]:[31]],$AI$4)+COUNTIF(octobre[[#This Row],[1]:[31]],$AI$5) -> 0 | AJ10: =COUNTIF(octobre[[#This Row],[1]:[31]],$AJ$5) -> 0 | AK10: =COUNTIF(octobre[[#This Row],[1]:[31]],$AK$5) -> 0 | AL10: =COUNTIF(octobre[[#This Row],[1]:[31]],$AL$5) -> 0
B11: DA SILVA Marc | C11: G2 | R11: G1 | S11: G1 | T11: G1 | U11: G1 | V11: G1 | W11: G1 | X11: G1 | AH11: =COUNTIF(octobre[[#This Row],[1]:[31]],$AH$5) -> 0 | AI11: =COUNTIF(octobre[[#This Row],[1]:[31]],$AI$4)+COUNTIF(octobre[[#This Row],[1]:[31]],$AI$5) -> 8 | AJ11: =COUNTIF(octobre[[#This Row],[1]:[31]],$AJ$5) -> 0 | AK11: =COUNTIF(octobre[[#This Row],[1]:[31]],$AK$5) -> 0 | AL11: =COUNTIF(octobre[[#This Row],[1]:[31]],$AL$5) -> 0
B12: DERACO Philippe | O12: G1 | P12: G1 | Q12: G1 | AH12: =COUNTIF(octobre[[#This Row],[1]:[31]],$AH$5) -> 0 | AI12: =COUNTIF(octobre[[#This Row],[1]:[31]],$AI$4)+COUNTIF(octobre[[#This Row],[1]:[31]],$AI$5) -> 3 | AJ12: =COUNTIF(octobre[[#This Row],[1]:[31]],$AJ$5) -> 0 | AK12: =COUNTIF(octobre[[#This Row],[1]:[31]],$AK$5) -> 0 | AL12: =COUNTIF(octobre[[#This Row],[1]:[31]],$AL$5) -> 0
B13: DURAN Alexandre | AH13: =COUNTIF(octobre[[#This Row],[1]:[31]],$AH$5) -> 0 | AI13: =COUNTIF(octobre[[#This Row],[1]:[31]],$AI$4)+COUNTIF(octobre[[#This Row],[1]:[31]],$AI$5) -> 0 | AJ13: =COUNTIF(octobre[[#This Row],[1]:[31]],$AJ$5) -> 0 | AK13: =COUNTIF(octobre[[#This Row],[1]:[31]],$AK$5) -> 0 | AL13: =COUNTIF(octobre[[#This Row],[1]:[31]],$AL$5) -> 0
B14: FAGETTE Philippe | AH14: =COUNTIF(octobre[[#This Row],[1]:[31]],$AH$5) -> 0 | AI14: =COUNTIF(octobre[[#This Row],[1]:[31]],$AI$4)+COUNTIF(octobre[[#This Row],[1]:[31]],$AI$5) -> 0 | AJ14: =COUNTIF(octobre[[#This Row],[1]:[31]],$AJ$5) -> 0 | AK14: =COUNTIF(octobre[[#This Row],[1]:[31]],$AK$5) -> 0 | AL14: =COUNTIF(octobre[[#This Row],[1]:[31]],$AL$5) -> 0
B15: FRANCOIS Jean-Paul | AH15: =COUNTIF(octobre[[#This Row],[1]:[31]],$AH$5) -> 0 | AI15: =COUNTIF(octobre[[#This Row],[1]:[31]],$AI$4)+COUNTIF(octobre[[#This Row],[1]:[31]],$AI$5) -> 0 | AJ15: =COUNTIF(octobre[[#This Row],[1]:[31]],$AJ$5) -> 0 | AK15: =COUNTIF(octobre[[#This Row],[1]:[31]],$AK$5) -> 0 | AL15: =COUNTIF(octobre[[#This Row],[1]:[31]],$AL$5) -> 0
B16: FRANCOIS Mathéo | D16: FS | E16: FS | F16: FS | G16: FS | H16: FS | Y16: FS | Z16: FS | AA16: FS | AB16: FS | AC16: FS | AH16: =COUNTIF(octobre[[#This Row],[1]:[31]],$AH$5) -> 0 | AI16: =COUNTIF(octobre[[#This Row],[1]:[31]],$AI$4)+COUNTIF(octobre[[#This Row],[1]:[31]],$AI$5) -> 0 | AJ16: =COUNTIF(octobre[[#This Row],[1]:[31]],$AJ$5) -> 10 | AK16: =COUNTIF(octobre[[#This Row],[1]:[31]],$AK$5) -> 0 | AL16: =COUNTIF(octobre[[#This Row],[1]:[31]],$AL$5) -> 0
B17: FONDIN Patrice | AH17: =COUNTIF(octobre[[#This Row],[1]:[31]],$AH$5) -> 0 | AI17: =COUNTIF(octobre[[#This Row],[1]:[31]],$AI$4)+COUNTIF(octobre[[#This Row],[1]:[31]],$AI$5) -> 0 | AJ17: =COUNTIF(octobre[[#This Row],[1]:[31]],$AJ$5) -> 0 | AK17: =COUNTIF(octobre[[#This Row],[1]:[31]],$AK$5) -> 0 | AL17: =COUNTIF(octobre[[#This Row],[1]:[31]],$AL$5) -> 0
B18: GRIVOIS Nicolas | C18: G1 | R18: G1 | S18: G1 | T18: G1 | U18: G1 | V18: G1 | W18: G1 | X18: G1 | AH18: =COUNTIF(octobre[[#This Row],[1]:[31]],$AH$5) -> 0 | AI18: =COUNTIF(octobre[[#This Row],[1]:[31]],$AI$4)+COUNTIF(octobre[[#This Row],[1]:[31]],$AI$5) -> 8 | AJ18: =COUNTIF(octobre[[#This Row],[1]:[31]],$AJ$5) -> 0 | AK18: =COUNTIF(octobre[[#This Row],[1]:[31]],$AK$5) -> 0 | AL18: =COUNTIF(octobre[[#This Row],[1]:[31]],$AL$5) -> 0
B19: LAFAYE Marion | C19: A | D19: A | E19: A | F19: A | G19: A | H19: A | I19: A | J19: A | K19: A | L19: A | M19: A | N19: A | O19: A | P19: A | Q19: A | R19: A | S19: A | T19: A | U19: A | V19: A | W19: A | X19: A | Y19: A | Z19: A | AA19: A | AB19: A | AC19: A | AD19: A | AE19: A | AF19: A | AG19: A | AH19: =COUNTIF(octobre[[#This Row],[1]:[31]],$AH$5) -> 0 | AI19: =COUNTIF(octobre[[#This Row],[1]:[31]],$AI$4)+COUNTIF(octobre[[#This Row],[1]:[31]],$AI$5) -> 0 | AJ19: =COUNTIF(octobre[[#This Row],[1]:[31]],$AJ$5) -> 0 | AK19: =COUNTIF(octobre[[#This Row],[1]:[31]],$AK$5) -> 31 | AL19: =COUNTIF(octobre[[#This Row],[1]:[31]],$AL$5) -> 0
B20: MARCHE Philippe | O20: G2 | P20: G2 | Q20: G2 | AF20: FS | AH20: =COUNTIF(octobre[[#This Row],[1]:[31]],$AH$5) -> 0 | AI20: =COUNTIF(octobre[[#This Row],[1]:[31]],$AI$4)+COUNTIF(octobre[[#This Row],[1]:[31]],$AI$5) -> 3 | AJ20: =COUNTIF(octobre[[#This Row],[1]:[31]],$AJ$5) -> 1 | AK20: =COUNTIF(octobre[[#This Row],[1]:[31]],$AK$5) -> 0 | AL20: =COUNTIF(octobre[[#This Row],[1]:[31]],$AL$5) -> 0
B21: MARTIAL Jean-Luc | C21: G1 | D21: C | E21: C | F21: C | G21: C | H21: C | I21: C | J21: C | K21: C | L21: C | M21: C | N21: C | O21: C | P21: C | Q21: C | AH21: =COUNTIF(octobre[[#This Row],[1]:[31]],$AH$5) -> 14 | AI21: =COUNTIF(octobre[[#This Row],[1]:[31]],$AI$4)+COUNTIF(octobre[[#This Row],[1]:[31]],$AI$5) -> 1 | AJ21: =COUNTIF(octobre[[#This Row],[1]:[31]],$AJ$5) -> 0 | AK21: =COUNTIF(octobre[[#This Row],[1]:[31]],$AK$5) -> 0 | AL21: =COUNTIF(octobre[[#This Row],[1]:[31]],$AL$5) -> 0
B22: MENARD Martial | AH22: =COUNTIF(octobre[[#This Row],[1]:[31]],$AH$5) -> 0 | AI22: =COUNTIF(octobre[[#This Row],[1]:[31]],$AI$4)+COUNTIF(octobre[[#This Row],[1]:[31]],$AI$5) -> 0 | AJ22: =COUNTIF(octobre[[#This Row],[1]:[31]],$AJ$5) -> 0 | AK22: =COUNTIF(octobre[[#This Row],[1]:[31]],$AK$5) -> 0 | AL22: =COUNTIF(octobre[[#This Row],[1]:[31]],$AL$5) -> 0
B23: NOEL Didier | AC23: G1 | AD23: G1 | AE23: G1 | AH23: =COUNTIF(octobre[[#This Row],[1]:[31]],$AH$5) -> 0 | AI23: =COUNTIF(octobre[[#This Row],[1]:[31]],$AI$4)+COUNTIF(octobre[[#This Row],[1]:[31]],$AI$5) -> 3 | AJ23: =COUNTIF(octobre[[#This Row],[1]:[31]],$AJ$5) -> 0 | AK23: =COUNTIF(octobre[[#This Row],[1]:[31]],$AK$5) -> 0 | AL23: =COUNTIF(octobre[[#This Row],[1]:[31]],$AL$5) -> 0
B24: NORMAND Christian | AH24: =COUNTIF(octobre[[#This Row],[1]:[31]],$AH$5) -> 0 | AI24: =COUNTIF(octobre[[#This Row],[1]:[31]],$AI$4)+COUNTIF(octobre[[#This Row],[1]:[31]],$AI$5) -> 0 | AJ24: =COUNTIF(octobre[[#This Row],[1]:[31]],$AJ$5) -> 0 | AK24: =COUNTIF(octobre[[#This Row],[1]:[31]],$AK$5) -> 0 | AL24: =COUNTIF(octobre[[#This Row],[1]:[31]],$AL$5) -> 0
B25: PARAT Alex | H25: G1 | I25: G1 | J25: G1 | AH25: =COUNTIF(octobre[[#This Row],[1]:[31]],$AH$5) -> 0 | AI25: =COUNTIF(octobre[[#This Row],[1]:[31]],$AI$4)+COUNTIF(octobre[[#This Row],[1]:[31]],$AI$5) -> 3 | AJ25: =COUNTIF(octobre[[#This Row],[1]:[31]],$AJ$5) -> 0 | AK25: =COUNTIF(octobre[[#This Row],[1]:[31]],$AK$5) -> 0 | AL25: =COUNTIF(octobre[[#This Row],[1]:[31]],$AL$5) -> 0
B26: PICAUD Carine | O26: G1 | P26: G1 | Q26: G1 | AC26: G2 | AD26: G2 | AE26: G2 | AH26: =COUNTIF(octobre[[#This Row],[1]:[31]],$AH$5) -> 0 | AI26: =COUNTIF(octobre[[#This Row],[1]:[31]],$AI$4)+COUNTIF(octobre[[#This Row],[1]:[31]],$AI$5) -> 6 | AJ26: =COUNTIF(octobre[[#This Row],[1]:[31]],$AJ$5) -> 0 | AK26: =COUNTIF(octobre[[#This Row],[1]:[31]],$AK$5) -> 0 | AL26: =COUNTIF(octobre[[#This Row],[1]:[31]],$AL$5) -> 0
B27: RIBEIRO Rui | V27: G2 | W27: G2 | X27: G2 | AH27: =COUNTIF(octobre[[#This Row],[1]:[31]],$AH$5) -> 0 | AI27: =COUNTIF(octobre[[#This Row],[1]:[31]],$AI$4)+COUNTIF(octobre[[#This Row],[1]:[31]],$AI$5) -> 3 | AJ27: =COUNTIF(octobre[[#This Row],[1]:[31]],$AJ$5) -> 0 | AK27: =COUNTIF(octobre[[#This Row],[1]:[31]],$AK$5) -> 0 | AL27: =COUNTIF(octobre[[#This Row],[1]:[31]],$AL$5) -> 0
B28: RIGAL Pauline | O28: G2 | P28: G2 | Q28: G2 | AH28: =COUNTIF(octobre[[#This Row],[1]:[31]],$AH$5) -> 0 | AI28: =COUNTIF(octobre[[#This Row],[1]:[31]],$AI$4)+COUNTIF(octobre[[#This Row],[1]:[31]],$AI$5) -> 3 | AJ28: =COUNTIF(octobre[[#This Row],[1]:[31]],$AJ$5) -> 0 | AK28: =COUNTIF(octobre[[#This Row],[1]:[31]],$AK$5) -> 0 | AL28: =COUNTIF(octobre[[#This Row],[1]:[31]],$AL$5) -> 0
B29: ROUGIER Stéphanie | C29: G2 | V29: G2 | W29: G2 | X29: G2 | AH29: =COUNTIF(octobre[[#This Row],[1]:[31]],$AH$5) -> 0 | AI29: =COUNTIF(octobre[[#This Row],[1]:[31]],$AI$4)+COUNTIF(octobre[[#This Row],[1]:[31]],$AI$5) -> 4 | AJ29: =COUNTIF(octobre[[#This Row],[1]:[31]],$AJ$5) -> 0 | AK29: =COUNTIF(octobre[[#This Row],[1]:[31]],$AK$5) -> 0 | AL29: =COUNTIF(octobre[[#This Row],[1]:[31]],$AL$5) -> 0
B30: SAVARIT André | AC30: G2 | AD30: G2 | AE30: G2 | AH30: =COUNTIF(octobre[[#This Row],[1]:[31]],$AH$5) -> 0 | AI30: =COUNTIF(octobre[[#This Row],[1]:[31]],$AI$4)+COUNTIF(octobre[[#This Row],[1]:[31]],$AI$5) -> 3 | AJ30: =COUNTIF(octobre[[#This Row],[1]:[31]],$AJ$5) -> 0 | AK30: =COUNTIF(octobre[[#This Row],[1]:[31]],$AK$5) -> 0 | AL30: =COUNTIF(octobre[[#This Row],[1]:[31]],$AL$5) -> 0
B31: SAVARIT David | H31: G2 | I31: G2 | J31: G2 | AH31: =COUNTIF(octobre[[#This Row],[1]:[31]],$AH$5) -> 0 | AI31: =COUNTIF(octobre[[#This Row],[1]:[31]],$AI$4)+COUNTIF(octobre[[#This Row],[1]:[31]],$AI$5) -> 3 | AJ31: =COUNTIF(octobre[[#This Row],[1]:[31]],$AJ$5) -> 0 | AK31: =COUNTIF(octobre[[#This Row],[1]:[31]],$AK$5) -> 0 | AL31: =COUNTIF(octobre[[#This Row],[1]:[31]],$AL$5) -> 0
B32: THOMAS Karl | D32: FS | E32: FS | F32: FS | G32: FS | H32: FS | AF32: FS | AH32: =COUNTIF(octobre[[#This Row],[1]:[31]],$AH$5) -> 0 | AI32: =COUNTIF(octobre[[#This Row],[1]:[31]],$AI$4)+COUNTIF(octobre[[#This Row],[1]:[31]],$AI$5) -> 0 | AJ32: =COUNTIF(octobre[[#This Row],[1]:[31]],$AJ$5) -> 6 | AK32: =COUNTIF(octobre[[#This Row],[1]:[31]],$AK$5) -> 0 | AL32: =COUNTIF(octobre[[#This Row],[1]:[31]],$AL$5) -> 0
B33: VAVASSEUR Célia | H33: G2 | I33: G2 | J33: G2 | AH33: =COUNTIF(octobre[[#This Row],[1]:[31]],$AH$5) -> 0 | AI33: =COUNTIF(octobre[[#This Row],[1]:[31]],$AI$4)+COUNTIF(octobre[[#This Row],[1]:[31]],$AI$5) -> 3 | AJ33: =COUNTIF(octobre[[#This Row],[1]:[31]],$AJ$5) -> 0 | AK33: =COUNTIF(octobre[[#This Row],[1]:[31]],$AK$5) -> 0 | AL33: =COUNTIF(octobre[[#This Row],[1]:[31]],$AL$5) -> 0
B34: 28 | AH34: =COUNTIF(octobre[[#This Row],[1]:[31]],$AH$5) -> 0 | AI34: =COUNTIF(octobre[[#This Row],[1]:[31]],$AI$4)+COUNTIF(octobre[[#This Row],[1]:[31]],$AI$5) -> 0 | AJ34: =COUNTIF(octobre[[#This Row],[1]:[31]],$AJ$5) -> 0 | AK34: =COUNTIF(octobre[[#This Row],[1]:[31]],$AK$5) -> 0 | AL34: =COUNTIF(octobre[[#This Row],[1]:[31]],$AL$5) -> 0
B35: 29 | AH35: =COUNTIF(octobre[[#This Row],[1]:[31]],$AH$5) -> 0 | AI35: =COUNTIF(octobre[[#This Row],[1]:[31]],$AI$4)+COUNTIF(octobre[[#This Row],[1]:[31]],$AI$5) -> 0 | AJ35: =COUNTIF(octobre[[#This Row],[1]:[31]],$AJ$5) -> 0 | AK35: =COUNTIF(octobre[[#This Row],[1]:[31]],$AK$5) -> 0 | AL35: =COUNTIF(octobre[[#This Row],[1]:[31]],$AL$5) -> 0
B36: 30 | V36: M | W36: M | X36: M | Y36: M | Z36: M | AA36: M | AB36: M | AC36: M | AD36: M | AH36: =COUNTIF(octobre[[#This Row],[1]:[31]],$AH$5) -> 0 | AI36: =COUNTIF(octobre[[#This Row],[1]:[31]],$AI$4)+COUNTIF(octobre[[#This Row],[1]:[31]],$AI$5) -> 0 | AJ36: =COUNTIF(octobre[[#This Row],[1]:[31]],$AJ$5) -> 0 | AK36: =COUNTIF(octobre[[#This Row],[1]:[31]],$AK$5) -> 0 | AL36: =COUNTIF(octobre[[#This Row],[1]:[31]],$AL$5) -> 9
AH37: =SUM(AH7:AH36) -> 14 | AI37: =SUM(AI7:AI36) -> 60 | AJ37: =SUM(AJ7:AJ36) -> 17 | AK37: =SUM(AK7:AK36) -> 31 | AL37: =SUM(AL7:AL36) -> 9

Sheet Novembre
B1: Calendrier des gardes et absences des employés
B2: Légende | C2: C | D2: Congés | F2: G1 | G2: Gardes 1 | J2: G2 | K2: Gardes 2 | M2: FS | N2: Formations/Stages | R2: A | S2: Absences | X2: Férié | AB2: M | AC2: Maladie
AH3: Année :
B4: Novembre | C4: Dates | AH4: =Janvier!AH4 -> 2023 | AI4: G2
C5: =DATE(AnnéeCalendrier,2,1) -> 44958 | D5: =C5+1 -> 44959 | E5: =D5+1 -> 44960 | F5: =E5+1 -> 44961 | G5: =F5+1 -> 44962 | H5: =G5+1 -> 44963 | I5: =H5+1 -> 44964 | J5: =I5+1 -> 44965 | K5: =J5+1 -> 44966 | ... AG5: =AF5+1 -> 44988 | AH5: C | AI5: G1 | AJ5: FS | AK5: A | AL5: M
B6: Nom de l’employé | C6: 1 | D6: 2 | E6: 3 | F6: 4 | G6: 5 | H6: 6 | I6: 7 | J6: 8 | K6: 9 | L6: 10 | M6: 11 | N6: 12 | O6: 13 | P6: 14 | Q6: 15 | R6: 16 | S6: 17 | T6: 18 | U6: 19 | V6: 20 | W6: 21 | X6: 22 | Y6: 23 | Z6: 24 | AA6: 25 | AB6: 26 | AC6: 27 | AD6: 28 | AE6: 29 | AF6: 30 | AG6: 31 | AH6: Congés | AI6: Gardes | AJ6: Formations Stages | AK6: Absences | AL6: Maladie
B7: BONNEFOND Manon | AH7: =COUNTIF(Novembre[[#This Row],[1]:[31]],$AH$5) -> 0 | AI7: =COUNTIF(Novembre[[#This Row],[1]:[31]],$AI$4)+COUNTIF(Novembre[[#This Row],[1]:[31]],$AI$5) -> 0 | AJ7: =COUNTIF(Novembre[[#This Row],[1]:[31]],$AJ$5) -> 0 | AK7: =COUNTIF(Novembre[[#This Row],[1]:[31]],$AK$5) -> 0 | AL7: =COUNTIF(Novembre[[#This Row],[1]:[31]],$AL$5) -> 0
B8: CABANNES Emile | H8: G1 | I8: G1 | J8: G1 | AC8: G1 | AD8: G1 | AE8: G1 | AH8: =COUNTIF(Novembre[[#This Row],[1]:[31]],$AH$5) -> 0 | AI8: =COUNTIF(Novembre[[#This Row],[1]:[31]],$AI$4)+COUNTIF(Novembre[[#This Row],[1]:[31]],$AI$5) -> 6 | AJ8: =COUNTIF(Novembre[[#This Row],[1]:[31]],$AJ$5) -> 0 | AK8: =COUNTIF(Novembre[[#This Row],[1]:[31]],$AK$5) -> 0 | AL8: =COUNTIF(Novembre[[#This Row],[1]:[31]],$AL$5) -> 0
B9: CHAZEAUD Anita | AH9: =COUNTIF(Novembre[[#This Row],[1]:[31]],$AH$5) -> 0 | AI9: =COUNTIF(Novembre[[#This Row],[1]:[31]],$AI$4)+COUNTIF(Novembre[[#This Row],[1]:[31]],$AI$5) -> 0 | AJ9: =COUNTIF(Novembre[[#This Row],[1]:[31]],$AJ$5) -> 0 | AK9: =COUNTIF(Novembre[[#This Row],[1]:[31]],$AK$5) -> 0 | AL9: =COUNTIF(Novembre[[#This Row],[1]:[31]],$AL$5) -> 0
B10: CASTANG Jean-Claude | AH10: =COUNTIF(Novembre[[#This Row],[1]:[31]],$AH$5) -> 0 | AI10: =COUNTIF(Novembre[[#This Row],[1]:[31]],$AI$4)+COUNTIF(Novembre[[#This Row],[1]:[31]],$AI$5) -> 0 | AJ10: =COUNTIF(Novembre[[#This Row],[1]:[31]],$AJ$5) -> 0 | AK10: =COUNTIF(Novembre[[#This Row],[1]:[31]],$AK$5) -> 0 | AL10: =COUNTIF(Novembre[[#This Row],[1]:[31]],$AL$5) -> 0
B11: DA SILVA Marc | C11: G2 | R11: G1 | S11: G1 | T11: G1 | U11: G1 | V11: G1 | W11: G1 | X11: G1 | AH11: =COUNTIF(Novembre[[#This Row],[1]:[31]],$AH$5) -> 0 | AI11: =COUNTIF(Novembre[[#This Row],[1]:[31]],$AI$4)+COUNTIF(Novembre[[#This Row],[1]:[31]],$AI$5) -> 8 | AJ11: =COUNTIF(Novembre[[#This Row],[1]:[31]],$AJ$5) -> 0 | AK11: =COUNTIF(Novembre[[#This Row],[1]:[31]],$AK$5) -> 0 | AL11: =COUNTIF(Novembre[[#This Row],[1]:[31]],$AL$5) -> 0
B12: DERACO Philippe | O12: G1 | P12: G1 | Q12: G1 | AH12: =COUNTIF(Novembre[[#This Row],[1]:[31]],$AH$5) -> 0 | AI12: =COUNTIF(Novembre[[#This Row],[1]:[31]],$AI$4)+COUNTIF(Novembre[[#This Row],[1]:[31]],$AI$5) -> 3 | AJ12: =COUNTIF(Novembre[[#This Row],[1]:[31]],$AJ$5) -> 0 | AK12: =COUNTIF(Novembre[[#This Row],[1]:[31]],$AK$5) -> 0 | AL12: =COUNTIF(Novembre[[#This Row],[1]:[31]],$AL$5) -> 0
B13: DURAN Alexandre | AH13: =COUNTIF(Novembre[[#This Row],[1]:[31]],$AH$5) -> 0 | AI13: =COUNTIF(Novembre[[#This Row],[1]:[31]],$AI$4)+COUNTIF(Novembre[[#This Row],[1]:[31]],$AI$5) -> 0 | AJ13: =COUNTIF(Novembre[[#This Row],[1]:[31]],$AJ$5) -> 0 | AK13: =COUNTIF(Novembre[[#This Row],[1]:[31]],$AK$5) -> 0 | AL13: =COUNTIF(Novembre[[#This Row],[1]:[31]],$AL$5) -> 0
B14: FAGETTE Philippe | AH14: =COUNTIF(Novembre[[#This Row],[1]:[31]],$AH$5) -> 0 | AI14: =COUNTIF(Novembre[[#This Row],[1]:[31]],$AI$4)+COUNTIF(Novembre[[#This Row],[1]:[31]],$AI$5) -> 0 | AJ14: =COUNTIF(Novembre[[#This Row],[1]:[31]],$AJ$5) -> 0 | AK14: =COUNTIF(Novembre[[#This Row],[1]:[31]],$AK$5) -> 0 | AL14: =COUNTIF(Novembre[[#This Row],[1]:[31]],$AL$5) -> 0
B15: FRANCOIS Jean-Paul | AH15: =COUNTIF(Novembre[[#This Row],[1]:[31]],$AH$5) -> 0 | AI15: =COUNTIF(Novembre[[#This Row],[1]:[31]],$AI$4)+COUNTIF(Novembre[[#This Row],[1]:[31]],$AI$5) -> 0 | AJ15: =COUNTIF(Novembre[[#This Row],[1]:[31]],$AJ$5) -> 0 | AK15: =COUNTIF(Novembre[[#This Row],[1]:[31]],$AK$5) -> 0 | AL15: =COUNTIF(Novembre[[#This Row],[1]:[31]],$AL$5) -> 0
B16: FRANCOIS Mathéo | D16: FS | E16: FS | F16: FS | G16: FS | H16: FS | Y16: FS | Z16: FS | AA16: FS | AB16: FS | AC16: FS | AH16: =COUNTIF(Novembre[[#This Row],[1]:[31]],$AH$5) -> 0 | AI16: =COUNTIF(Novembre[[#This Row],[1]:[31]],$AI$4)+COUNTIF(Novembre[[#This Row],[1]:[31]],$AI$5) -> 0 | AJ16: =COUNTIF(Novembre[[#This Row],[1]:[31]],$AJ$5) -> 10 | AK16: =COUNTIF(Novembre[[#This Row],[1]:[31]],$AK$5) -> 0 | AL16: =COUNTIF(Novembre[[#This Row],[1]:[31]],$AL$5) -> 0
B17: FONDIN Patrice | AH17: =COUNTIF(Novembre[[#This Row],[1]:[31]],$AH$5) -> 0 | AI17: =COUNTIF(Novembre[[#This Row],[1]:[31]],$AI$4)+COUNTIF(Novembre[[#This Row],[1]:[31]],$AI$5) -> 0 | AJ17: =COUNTIF(Novembre[[#This Row],[1]:[31]],$AJ$5) -> 0 | AK17: =COUNTIF(Novembre[[#This Row],[1]:[31]],$AK$5) -> 0 | AL17: =COUNTIF(Novembre[[#This Row],[1]:[31]],$AL$5) -> 0
B18: GRIVOIS Nicolas | C18: G1 | R18: G1 | S18: G1 | T18: G1 | U18: G1 | V18: G1 | W18: G1 | X18: G1 | AH18: =COUNTIF(Novembre[[#This Row],[1]:[31]],$AH$5) -> 0 | AI18: =COUNTIF(Novembre[[#This Row],[1]:[31]],$AI$4)+COUNTIF(Novembre[[#This Row],[1]:[31]],$AI$5) -> 8 | AJ18: =COUNTIF(Novembre[[#This Row],[1]:[31]],$AJ$5) -> 0 | AK18: =COUNTIF(Novembre[[#This Row],[1]:[31]],$AK$5) -> 0 | AL18: =COUNTIF(Novembre[[#This Row],[1]:[31]],$AL$5) -> 0
B19: LAFAYE Marion | C19: A | D19: A | E19: A | F19: A | G19: A | H19: A | I19: A | J19: A | K19: A | L19: A | M19: A | N19: A | O19: A | P19: A | Q19: A | R19: A | S19: A | T19: A | U19: A | V19: A | W19: A | X19: A | Y19: A | Z19: A | AA19: A | AB19: A | AC19: A | AD19: A | AE19: A | AF19: A | AG19: A | AH19: =COUNTIF(Novembre[[#This Row],[1]:[31]],$AH$5) -> 0 | AI19: =COUNTIF(Novembre[[#This Row],[1]:[31]],$AI$4)+COUNTIF(Novembre[[#This Row],[1]:[31]],$AI$5) -> 0 | AJ19: =COUNTIF(Novembre[[#This Row],[1]:[31]],$AJ$5) -> 0 | AK19: =COUNTIF(Novembre[[#This Row],[1]:[31]],$AK$5) -> 31 | AL19: =COUNTIF(Novembre[[#This Row],[1]:[31]],$AL$5) -> 0
B20: MARCHE Philippe | O20: G2 | P20: G2 | Q20: G2 | AF20: FS | AH20: =COUNTIF(Novembre[[#This Row],[1]:[31]],$AH$5) -> 0 | AI20: =COUNTIF(Novembre[[#This Row],[1]:[31]],$AI$4)+COUNTIF(Novembre[[#This Row],[1]:[31]],$AI$5) -> 3 | AJ20: =COUNTIF(Novembre[[#This Row],[1]:[31]],$AJ$5) -> 1 | AK20: =COUNTIF(Novembre[[#This Row],[1]:[31]],$AK$5) -> 0 | AL20: =COUNTIF(Novembre[[#This Row],[1]:[31]],$AL$5) -> 0
B21: MARTIAL Jean-Luc | C21: G1 | D21: C | E21: C | F21: C | G21: C | H21: C | I21: C | J21: C | K21: C | L21: C | M21: C | N21: C | O21: C | P21: C | Q21: C | AH21: =COUNTIF(Novembre[[#This Row],[1]:[31]],$AH$5) -> 14 | AI21: =COUNTIF(Novembre[[#This Row],[1]:[31]],$AI$4)+COUNTIF(Novembre[[#This Row],[1]:[31]],$AI$5) -> 1 | AJ21: =COUNTIF(Novembre[[#This Row],[1]:[31]],$AJ$5) -> 0 | AK21: =COUNTIF(Novembre[[#This Row],[1]:[31]],$AK$5) -> 0 | AL21: =COUNTIF(Novembre[[#This Row],[1]:[31]],$AL$5) -> 0
B22: MENARD Martial | AH22: =COUNTIF(Novembre[[#This Row],[1]:[31]],$AH$5) -> 0 | AI22: =COUNTIF(Novembre[[#This Row],[1]:[31]],$AI$4)+COUNTIF(Novembre[[#This Row],[1]:[31]],$AI$5) -> 0 | AJ22: =COUNTIF(Novembre[[#This Row],[1]:[31]],$AJ$5) -> 0 | AK22: =COUNTIF(Novembre[[#This Row],[1]:[31]],$AK$5) -> 0 | AL22: =COUNTIF(Novembre[[#This Row],[1]:[31]],$AL$5) -> 0
B23: NOEL Didier | AC23: G1 | AD23: G1 | AE23: G1 | AH23: =COUNTIF(Novembre[[#This Row],[1]:[31]],$AH$5) -> 0 | AI23: =COUNTIF(Novembre[[#This Row],[1]:[31]],$AI$4)+COUNTIF(Novembre[[#This Row],[1]:[31]],$AI$5) -> 3 | AJ23: =COUNTIF(Novembre[[#This Row],[1]:[31]],$AJ$5) -> 0 | AK23: =COUNTIF(Novembre[[#This Row],[1]:[31]],$AK$5) -> 0 | AL23: =COUNTIF(Novembre[[#This Row],[1]:[31]],$AL$5) -> 0
B24: NORMAND Christian | AH24: =COUNTIF(Novembre[[#This Row],[1]:[31]],$AH$5) -> 0 | AI24: =COUNTIF(Novembre[[#This Row],[1]:[31]],$AI$4)+COUNTIF(Novembre[[#This Row],[1]:[31]],$AI$5) -> 0 | AJ24: =COUNTIF(Novembre[[#This Row],[1]:[31]],$AJ$5) -> 0 | AK24: =COUNTIF(Novembre[[#This Row],[1]:[31]],$AK$5) -> 0 | AL24: =COUNTIF(Novembre[[#This Row],[1]:[31]],$AL$5) -> 0
B25: PARAT Alex | H25: G1 | I25: G1 | J25: G1 | AH25: =COUNTIF(Novembre[[#This Row],[1]:[31]],$AH$5) -> 0 | AI25: =COUNTIF(Novembre[[#This Row],[1]:[31]],$AI$4)+COUNTIF(Novembre[[#This Row],[1]:[31]],$AI$5) -> 3 | AJ25: =COUNTIF(Novembre[[#This Row],[1]:[31]],$AJ$5) -> 0 | AK25: =COUNTIF(Novembre[[#This Row],[1]:[31]],$AK$5) -> 0 | AL25: =COUNTIF(Novembre[[#This Row],[1]:[31]],$AL$5) -> 0
B26: PICAUD Carine | O26: G1 | P26: G1 | Q26: G1 | AC26: G2 | AD26: G2 | AE26: G2 | AH26: =COUNTIF(Novembre[[#This Row],[1]:[31]],$AH$5) -> 0 | AI26: =COUNTIF(Novembre[[#This Row],[1]:[31]],$AI$4)+COUNTIF(Novembre[[#This Row],[1]:[31]],$AI$5) -> 6 | AJ26: =COUNTIF(Novembre[[#This Row],[1]:[31]],$AJ$5) -> 0 | AK26: =COUNTIF(Novembre[[#This Row],[1]:[31]],$AK$5) -> 0 | AL26: =COUNTIF(Novembre[[#This Row],[1]:[31]],$AL$5) -> 0
B27: RIBEIRO Rui | V27: G2 | W27: G2 | X27: G2 | AH27: =COUNTIF(Novembre[[#This Row],[1]:[31]],$AH$5) -> 0 | AI27: =COUNTIF(Novembre[[#This Row],[1]:[31]],$AI$4)+COUNTIF(Novembre[[#This Row],[1]:[31]],$AI$5) -> 3 | AJ27: =COUNTIF(Novembre[[#This Row],[1]:[31]],$AJ$5) -> 0 | AK27: =COUNTIF(Novembre[[#This Row],[1]:[31]],$AK$5) -> 0 | AL27: =COUNTIF(Novembre[[#This Row],[1]:[31]],$AL$5) -> 0
B28: RIGAL Pauline | O28: G2 | P28: G2 | Q28: G2 | AH28: =COUNTIF(Novembre[[#This Row],[1]:[31]],$AH$5) -> 0 | AI28: =COUNTIF(Novembre[[#This Row],[1]:[31]],$AI$4)+COUNTIF(Novembre[[#This Row],[1]:[31]],$AI$5) -> 3 | AJ28: =COUNTIF(Novembre[[#This Row],[1]:[31]],$AJ$5) -> 0 | AK28: =COUNTIF(Novembre[[#This Row],[1]:[31]],$AK$5) -> 0 | AL28: =COUNTIF(Novembre[[#This Row],[1]:[31]],$AL$5) -> 0
B29: ROUGIER Stéphanie | C29: G2 | V29: G2 | W29: G2 | X29: G2 | AH29: =COUNTIF(Novembre[[#This Row],[1]:[31]],$AH$5) -> 0 | AI29: =COUNTIF(Novembre[[#This Row],[1]:[31]],$AI$4)+COUNTIF(Novembre[[#This Row],[1]:[31]],$AI$5) -> 4 | AJ29: =COUNTIF(Novembre[[#This Row],[1]:[31]],$AJ$5) -> 0 | AK29: =COUNTIF(Novembre[[#This Row],[1]:[31]],$AK$5) -> 0 | AL29: =COUNTIF(Novembre[[#This Row],[1]:[31]],$AL$5) -> 0
B30: SAVARIT André | AC30: G2 | AD30: G2 | AE30: G2 | AH30: =COUNTIF(Novembre[[#This Row],[1]:[31]],$AH$5) -> 0 | AI30: =COUNTIF(Novembre[[#This Row],[1]:[31]],$AI$4)+COUNTIF(Novembre[[#This Row],[1]:[31]],$AI$5) -> 3 | AJ30: =COUNTIF(Novembre[[#This Row],[1]:[31]],$AJ$5) -> 0 | AK30: =COUNTIF(Novembre[[#This Row],[1]:[31]],$AK$5) -> 0 | AL30: =COUNTIF(Novembre[[#This Row],[1]:[31]],$AL$5) -> 0
B31: SAVARIT David | H31: G2 | I31: G2 | J31: G2 | AH31: =COUNTIF(Novembre[[#This Row],[1]:[31]],$AH$5) -> 0 | AI31: =COUNTIF(Novembre[[#This Row],[1]:[31]],$AI$4)+COUNTIF(Novembre[[#This Row],[1]:[31]],$AI$5) -> 3 | AJ31: =COUNTIF(Novembre[[#This Row],[1]:[31]],$AJ$5) -> 0 | AK31: =COUNTIF(Novembre[[#This Row],[1]:[31]],$AK$5) -> 0 | AL31: =COUNTIF(Novembre[[#This Row],[1]:[31]],$AL$5) -> 0
B32: THOMAS Karl | D32: FS | E32: FS | F32: FS | G32: FS | H32: FS | AF32: FS | AH32: =COUNTIF(Novembre[[#This Row],[1]:[31]],$AH$5) -> 0 | AI32: =COUNTIF(Novembre[[#This Row],[1]:[31]],$AI$4)+COUNTIF(Novembre[[#This Row],[1]:[31]],$AI$5) -> 0 | AJ32: =COUNTIF(Novembre[[#This Row],[1]:[31]],$AJ$5) -> 6 | AK32: =COUNTIF(Novembre[[#This Row],[1]:[31]],$AK$5) -> 0 | AL32: =COUNTIF(Novembre[[#This Row],[1]:[31]],$AL$5) -> 0
B33: VAVASSEUR Célia | H33: G2 | I33: G2 | J33: G2 | AH33: =COUNTIF(Novembre[[#This Row],[1]:[31]],$AH$5) -> 0 | AI33: =COUNTIF(Novembre[[#This Row],[1]:[31]],$AI$4)+COUNTIF(Novembre[[#This Row],[1]:[31]],$AI$5) -> 3 | AJ33: =COUNTIF(Novembre[[#This Row],[1]:[31]],$AJ$5) -> 0 | AK33: =COUNTIF(Novembre[[#This Row],[1]:[31]],$AK$5) -> 0 | AL33: =COUNTIF(Novembre[[#This Row],[1]:[31]],$AL$5) -> 0
B34: 28 | AH34: =COUNTIF(Novembre[[#This Row],[1]:[31]],$AH$5) -> 0 | AI34: =COUNTIF(Novembre[[#This Row],[1]:[31]],$AI$4)+COUNTIF(Novembre[[#This Row],[1]:[31]],$AI$5) -> 0 | AJ34: =COUNTIF(Novembre[[#This Row],[1]:[31]],$AJ$5) -> 0 | AK34: =COUNTIF(Novembre[[#This Row],[1]:[31]],$AK$5) -> 0 | AL34: =COUNTIF(Novembre[[#This Row],[1]:[31]],$AL$5) -> 0
B35: 29 | AH35: =COUNTIF(Novembre[[#This Row],[1]:[31]],$AH$5) -> 0 | AI35: =COUNTIF(Novembre[[#This Row],[1]:[31]],$AI$4)+COUNTIF(Novembre[[#This Row],[1]:[31]],$AI$5) -> 0 | AJ35: =COUNTIF(Novembre[[#This Row],[1]:[31]],$AJ$5) -> 0 | AK35: =COUNTIF(Novembre[[#This Row],[1]:[31]],$AK$5) -> 0 | AL35: =COUNTIF(Novembre[[#This Row],[1]:[31]],$AL$5) -> 0
B36: 30 | V36: M | W36: M | X36: M | Y36: M | Z36: M | AA36: M | AB36: M | AC36: M | AD36: M | AH36: =COUNTIF(Novembre[[#This Row],[1]:[31]],$AH$5) -> 0 | AI36: =COUNTIF(Novembre[[#This Row],[1]:[31]],$AI$4)+COUNTIF(Novembre[[#This Row],[1]:[31]],$AI$5) -> 0 | AJ36: =COUNTIF(Novembre[[#This Row],[1]:[31]],$AJ$5) -> 0 | AK36: =COUNTIF(Novembre[[#This Row],[1]:[31]],$AK$5) -> 0 | AL36: =COUNTIF(Novembre[[#This Row],[1]:[31]],$AL$5) -> 9
AH37: =SUM(AH7:AH36) -> 14 | AI37: =SUM(AI7:AI36) -> 60 | AJ37: =SUM(AJ7:AJ36) -> 17 | AK37: =SUM(AK7:AK36) -> 31 | AL37: =SUM(AL7:AL36) -> 9

Sheet Décembre
B1: Calendrier des gardes et absences des employés
B2: Légende | C2: C | D2: Congés | F2: G1 | G2: Gardes 1 | J2: G2 | K2: Gardes 2 | M2: FS | N2: Formations/Stages | R2: A | S2: Absences | X2: Férié | AB2: M | AC2: Maladie
AH3: Année :
B4: Décembre | C4: Dates | AH4: =Janvier!AH4 -> 2023 | AI4: G2
C5: =DATE(AnnéeCalendrier,2,1) -> 44958 | D5: =C5+1 -> 44959 | E5: =D5+1 -> 44960 | F5: =E5+1 -> 44961 | G5: =F5+1 -> 44962 | H5: =G5+1 -> 44963 | I5: =H5+1 -> 44964 | J5: =I5+1 -> 44965 | K5: =J5+1 -> 44966 | ... AG5: =AF5+1 -> 44988 | AH5: C | AI5: G1 | AJ5: FS | AK5: A | AL5: M
B6: Nom de l’employé | C6: 1 | D6: 2 | E6: 3 | F6: 4 | G6: 5 | H6: 6 | I6: 7 | J6: 8 | K6: 9 | L6: 10 | M6: 11 | N6: 12 | O6: 13 | P6: 14 | Q6: 15 | R6: 16 | S6: 17 | T6: 18 | U6: 19 | V6: 20 | W6: 21 | X6: 22 | Y6: 23 | Z6: 24 | AA6: 25 | AB6: 26 | AC6: 27 | AD6: 28 | AE6: 29 | AF6: 30 | AG6: 31 | AH6: Congés | AI6: Gardes | AJ6: Formations Stages | AK6: Absences | AL6: Maladie
B7: BONNEFOND Manon | AH7: =COUNTIF(Décembre[[#This Row],[1]:[31]],$AH$5) -> 0 | AI7: =COUNTIF(Décembre[[#This Row],[1]:[31]],$AI$4)+COUNTIF(Décembre[[#This Row],[1]:[31]],$AI$5) -> 0 | AJ7: =COUNTIF(Décembre[[#This Row],[1]:[31]],$AJ$5) -> 0 | AK7: =COUNTIF(Décembre[[#This Row],[1]:[31]],$AK$5) -> 0 | AL7: =COUNTIF(Décembre[[#This Row],[1]:[31]],$AL$5) -> 0
B8: CABANNES Emile | H8: G1 | I8: G1 | J8: G1 | AC8: G1 | AD8: G1 | AE8: G1 | AH8: =COUNTIF(Décembre[[#This Row],[1]:[31]],$AH$5) -> 0 | AI8: =COUNTIF(Décembre[[#This Row],[1]:[31]],$AI$4)+COUNTIF(Décembre[[#This Row],[1]:[31]],$AI$5) -> 6 | AJ8: =COUNTIF(Décembre[[#This Row],[1]:[31]],$AJ$5) -> 0 | AK8: =COUNTIF(Décembre[[#This Row],[1]:[31]],$AK$5) -> 0 | AL8: =COUNTIF(Décembre[[#This Row],[1]:[31]],$AL$5) -> 0
B9: CHAZEAUD Anita | AH9: =COUNTIF(Décembre[[#This Row],[1]:[31]],$AH$5) -> 0 | AI9: =COUNTIF(Décembre[[#This Row],[1]:[31]],$AI$4)+COUNTIF(Décembre[[#This Row],[1]:[31]],$AI$5) -> 0 | AJ9: =COUNTIF(Décembre[[#This Row],[1]:[31]],$AJ$5) -> 0 | AK9: =COUNTIF(Décembre[[#This Row],[1]:[31]],$AK$5) -> 0 | AL9: =COUNTIF(Décembre[[#This Row],[1]:[31]],$AL$5) -> 0
B10: CASTANG Jean-Claude | AH10: =COUNTIF(Décembre[[#This Row],[1]:[31]],$AH$5) -> 0 | AI10: =COUNTIF(Décembre[[#This Row],[1]:[31]],$AI$4)+COUNTIF(Décembre[[#This Row],[1]:[31]],$AI$5) -> 0 | AJ10: =COUNTIF(Décembre[[#This Row],[1]:[31]],$AJ$5) -> 0 | AK10: =COUNTIF(Décembre[[#This Row],[1]:[31]],$AK$5) -> 0 | AL10: =COUNTIF(Décembre[[#This Row],[1]:[31]],$AL$5) -> 0
B11: DA SILVA Marc | C11: G2 | R11: G1 | S11: G1 | T11: G1 | U11: G1 | V11: G1 | W11: G1 | X11: G1 | AH11: =COUNTIF(Décembre[[#This Row],[1]:[31]],$AH$5) -> 0 | AI11: =COUNTIF(Décembre[[#This Row],[1]:[31]],$AI$4)+COUNTIF(Décembre[[#This Row],[1]:[31]],$AI$5) -> 8 | AJ11: =COUNTIF(Décembre[[#This Row],[1]:[31]],$AJ$5) -> 0 | AK11: =COUNTIF(Décembre[[#This Row],[1]:[31]],$AK$5) -> 0 | AL11: =COUNTIF(Décembre[[#This Row],[1]:[31]],$AL$5) -> 0
B12: DERACO Philippe | O12: G1 | P12: G1 | Q12: G1 | AH12: =COUNTIF(Décembre[[#This Row],[1]:[31]],$AH$5) -> 0 | AI12: =COUNTIF(Décembre[[#This Row],[1]:[31]],$AI$4)+COUNTIF(Décembre[[#This Row],[1]:[31]],$AI$5) -> 3 | AJ12: =COUNTIF(Décembre[[#This Row],[1]:[31]],$AJ$5) -> 0 | AK12: =COUNTIF(Décembre[[#This Row],[1]:[31]],$AK$5) -> 0 | AL12: =COUNTIF(Décembre[[#This Row],[1]:[31]],$AL$5) -> 0
B13: DURAN Alexandre | AH13: =COUNTIF(Décembre[[#This Row],[1]:[31]],$AH$5) -> 0 | AI13: =COUNTIF(Décembre[[#This Row],[1]:[31]],$AI$4)+COUNTIF(Décembre[[#This Row],[1]:[31]],$AI$5) -> 0 | AJ13: =COUNTIF(Décembre[[#This Row],[1]:[31]],$AJ$5) -> 0 | AK13: =COUNTIF(Décembre[[#This Row],[1]:[31]],$AK$5) -> 0 | AL13: =COUNTIF(Décembre[[#This Row],[1]:[31]],$AL$5) -> 0
B14: FAGETTE Philippe | AH14: =COUNTIF(Décembre[[#This Row],[1]:[31]],$AH$5) -> 0 | AI14: =COUNTIF(Décembre[[#This Row],[1]:[31]],$AI$4)+COUNTIF(Décembre[[#This Row],[1]:[31]],$AI$5) -> 0 | AJ14: =COUNTIF(Décembre[[#This Row],[1]:[31]],$AJ$5) -> 0 | AK14: =COUNTIF(Décembre[[#This Row],[1]:[31]],$AK$5) -> 0 | AL14: =COUNTIF(Décembre[[#This Row],[1]:[31]],$AL$5) -> 0
B15: FRANCOIS Jean-Paul | AH15: =COUNTIF(Décembre[[#This Row],[1]:[31]],$AH$5) -> 0 | AI15: =COUNTIF(Décembre[[#This Row],[1]:[31]],$AI$4)+COUNTIF(Décembre[[#This Row],[1]:[31]],$AI$5) -> 0 | AJ15: =COUNTIF(Décembre[[#This Row],[1]:[31]],$AJ$5) -> 0 | AK15: =COUNTIF(Décembre[[#This Row],[1]:[31]],$AK$5) -> 0 | AL15: =COUNTIF(Décembre[[#This Row],[1]:[31]],$AL$5) -> 0
B16: FRANCOIS Mathéo | D16: FS | E16: FS | F16: FS | G16: FS | H16: FS | Y16: FS | Z16: FS | AA16: FS | AB16: FS | AC16: FS | AH16: =COUNTIF(Décembre[[#This Row],[1]:[31]],$AH$5) -> 0 | AI16: =COUNTIF(Décembre[[#This Row],[1]:[31]],$AI$4)+COUNTIF(Décembre[[#This Row],[1]:[31]],$AI$5) -> 0 | AJ16: =COUNTIF(Décembre[[#This Row],[1]:[31]],$AJ$5) -> 10 | AK16: =COUNTIF(Décembre[[#This Row],[1]:[31]],$AK$5) -> 0 | AL16: =COUNTIF(Décembre[[#This Row],[1]:[31]],$AL$5) -> 0
B17: FONDIN Patrice | AH17: =COUNTIF(Décembre[[#This Row],[1]:[31]],$AH$5) -> 0 | AI17: =COUNTIF(Décembre[[#This Row],[1]:[31]],$AI$4)+COUNTIF(Décembre[[#This Row],[1]:[31]],$AI$5) -> 0 | AJ17: =COUNTIF(Décembre[[#This Row],[1]:[31]],$AJ$5) -> 0 | AK17: =COUNTIF(Décembre[[#This Row],[1]:[31]],$AK$5) -> 0 | AL17: =COUNTIF(Décembre[[#This Row],[1]:[31]],$AL$5) -> 0
B18: GRIVOIS Nicolas | C18: G1 | R18: G1 | S18: G1 | T18: G1 | U18: G1 | V18: G1 | W18: G1 | X18: G1 | AH18: =COUNTIF(Décembre[[#This Row],[1]:[31]],$AH$5) -> 0 | AI18: =COUNTIF(Décembre[[#This Row],[1]:[31]],$AI$4)+COUNTIF(Décembre[[#This Row],[1]:[31]],$AI$5) -> 8 | AJ18: =COUNTIF(Décembre[[#This Row],[1]:[31]],$AJ$5) -> 0 | AK18: =COUNTIF(Décembre[[#This Row],[1]:[31]],$AK$5) -> 0 | AL18: =COUNTIF(Décembre[[#This Row],[1]:[31]],$AL$5) -> 0
B19: LAFAYE Marion | C19: A | D19: A | E19: A | F19: A | G19: A | H19: A | I19: A | J19: A | K19: A | L19: A | M19: A | N19: A | O19: A | P19: A | Q19: A | R19: A | S19: A | T19: A | U19: A | V19: A | W19: A | X19: A | Y19: A | Z19: A | AA19: A | AB19: A | AC19: A | AD19: A | AE19: A | AF19: A | AG19: A | AH19: =COUNTIF(Décembre[[#This Row],[1]:[31]],$AH$5) -> 0 | AI19: =COUNTIF(Décembre[[#This Row],[1]:[31]],$AI$4)+COUNTIF(Décembre[[#This Row],[1]:[31]],$AI$5) -> 0 | AJ19: =COUNTIF(Décembre[[#This Row],[1]:[31]],$AJ$5) -> 0 | AK19: =COUNTIF(Décembre[[#This Row],[1]:[31]],$AK$5) -> 31 | AL19: =COUNTIF(Décembre[[#This Row],[1]:[31]],$AL$5) -> 0
B20: MARCHE Philippe | O20: G2 | P20: G2 | Q20: G2 | AF20: FS | AH20: =COUNTIF(Décembre[[#This Row],[1]:[31]],$AH$5) -> 0 | AI20: =COUNTIF(Décembre[[#This Row],[1]:[31]],$AI$4)+COUNTIF(Décembre[[#This Row],[1]:[31]],$AI$5) -> 3 | AJ20: =COUNTIF(Décembre[[#This Row],[1]:[31]],$AJ$5) -> 1 | AK20: =COUNTIF(Décembre[[#This Row],[1]:[31]],$AK$5) -> 0 | AL20: =COUNTIF(Décembre[[#This Row],[1]:[31]],$AL$5) -> 0
B21: MARTIAL Jean-Luc | C21: G1 | D21: C | E21: C | F21: C | G21: C | H21: C | I21: C | J21: C | K21: C | L21: C | M21: C | N21: C | O21: C | P21: C | Q21: C | AH21: =COUNTIF(Décembre[[#This Row],[1]:[31]],$AH$5) -> 14 | AI21: =COUNTIF(Décembre[[#This Row],[1]:[31]],$AI$4)+COUNTIF(Décembre[[#This Row],[1]:[31]],$AI$5) -> 1 | AJ21: =COUNTIF(Décembre[[#This Row],[1]:[31]],$AJ$5) -> 0 | AK21: =COUNTIF(Décembre[[#This Row],[1]:[31]],$AK$5) -> 0 | AL21: =COUNTIF(Décembre[[#This Row],[1]:[31]],$AL$5) -> 0
B22: MENARD Martial | AH22: =COUNTIF(Décembre[[#This Row],[1]:[31]],$AH$5) -> 0 | AI22: =COUNTIF(Décembre[[#This Row],[1]:[31]],$AI$4)+COUNTIF(Décembre[[#This Row],[1]:[31]],$AI$5) -> 0 | AJ22: =COUNTIF(Décembre[[#This Row],[1]:[31]],$AJ$5) -> 0 | AK22: =COUNTIF(Décembre[[#This Row],[1]:[31]],$AK$5) -> 0 | AL22: =COUNTIF(Décembre[[#This Row],[1]:[31]],$AL$5) -> 0
B23: NOEL Didier | AC23: G1 | AD23: G1 | AE23: G1 | AH23: =COUNTIF(Décembre[[#This Row],[1]:[31]],$AH$5) -> 0 | AI23: =COUNTIF(Décembre[[#This Row],[1]:[31]],$AI$4)+COUNTIF(Décembre[[#This Row],[1]:[31]],$AI$5) -> 3 | AJ23: =COUNTIF(Décembre[[#This Row],[1]:[31]],$AJ$5) -> 0 | AK23: =COUNTIF(Décembre[[#This Row],[1]:[31]],$AK$5) -> 0 | AL23: =COUNTIF(Décembre[[#This Row],[1]:[31]],$AL$5) -> 0
B24: NORMAND Christian | AH24: =COUNTIF(Décembre[[#This Row],[1]:[31]],$AH$5) -> 0 | AI24: =COUNTIF(Décembre[[#This Row],[1]:[31]],$AI$4)+COUNTIF(Décembre[[#This Row],[1]:[31]],$AI$5) -> 0 | AJ24: =COUNTIF(Décembre[[#This Row],[1]:[31]],$AJ$5) -> 0 | AK24: =COUNTIF(Décembre[[#This Row],[1]:[31]],$AK$5) -> 0 | AL24: =COUNTIF(Décembre[[#This Row],[1]:[31]],$AL$5) -> 0
B25: PARAT Alex | H25: G1 | I25: G1 | J25: G1 | AH25: =COUNTIF(Décembre[[#This Row],[1]:[31]],$AH$5) -> 0 | AI25: =COUNTIF(Décembre[[#This Row],[1]:[31]],$AI$4)+COUNTIF(Décembre[[#This Row],[1]:[31]],$AI$5) -> 3 | AJ25: =COUNTIF(Décembre[[#This Row],[1]:[31]],$AJ$5) -> 0 | AK25: =COUNTIF(Décembre[[#This Row],[1]:[31]],$AK$5) -> 0 | AL25: =COUNTIF(Décembre[[#This Row],[1]:[31]],$AL$5) -> 0
B26: PICAUD Carine | O26: G1 | P26: G1 | Q26: G1 | AC26: G2 | AD26: G2 | AE26: G2 | AH26: =COUNTIF(Décembre[[#This Row],[1]:[31]],$AH$5) -> 0 | AI26: =COUNTIF(Décembre[[#This Row],[1]:[31]],$AI$4)+COUNTIF(Décembre[[#This Row],[1]:[31]],$AI$5) -> 6 | AJ26: =COUNTIF(Décembre[[#This Row],[1]:[31]],$AJ$5) -> 0 | AK26: =COUNTIF(Décembre[[#This Row],[1]:[31]],$AK$5) -> 0 | AL26: =COUNTIF(Décembre[[#This Row],[1]:[31]],$AL$5) -> 0
B27: RIBEIRO Rui | V27: G2 | W27: G2 | X27: G2 | AH27: =COUNTIF(Décembre[[#This Row],[1]:[31]],$AH$5) -> 0 | AI27: =COUNTIF(Décembre[[#This Row],[1]:[31]],$AI$4)+COUNTIF(Décembre[[#This Row],[1]:[31]],$AI$5) -> 3 | AJ27: =COUNTIF(Décembre[[#This Row],[1]:[31]],$AJ$5) -> 0 | AK27: =COUNTIF(Décembre[[#This Row],[1]:[31]],$AK$5) -> 0 | AL27: =COUNTIF(Décembre[[#This Row],[1]:[31]],$AL$5) -> 0
B28: RIGAL Pauline | O28: G2 | P28: G2 | Q28: G2 | AH28: =COUNTIF(Décembre[[#This Row],[1]:[31]],$AH$5) -> 0 | AI28: =COUNTIF(Décembre[[#This Row],[1]:[31]],$AI$4)+COUNTIF(Décembre[[#This Row],[1]:[31]],$AI$5) -> 3 | AJ28: =COUNTIF(Décembre[[#This Row],[1]:[31]],$AJ$5) -> 0 | AK28: =COUNTIF(Décembre[[#This Row],[1]:[31]],$AK$5) -> 0 | AL28: =COUNTIF(Décembre[[#This Row],[1]:[31]],$AL$5) -> 0
B29: ROUGIER Stéphanie | C29: G2 | V29: G2 | W29: G2 | X29: G2 | AH29: =COUNTIF(Décembre[[#This Row],[1]:[31]],$AH$5) -> 0 | AI29: =COUNTIF(Décembre[[#This Row],[1]:[31]],$AI$4)+COUNTIF(Décembre[[#This Row],[1]:[31]],$AI$5) -> 4 | AJ29: =COUNTIF(Décembre[[#This Row],[1]:[31]],$AJ$5) -> 0 | AK29: =COUNTIF(Décembre[[#This Row],[1]:[31]],$AK$5) -> 0 | AL29: =COUNTIF(Décembre[[#This Row],[1]:[31]],$AL$5) -> 0
B30: SAVARIT André | AC30: G2 | AD30: G2 | AE30: G2 | AH30: =COUNTIF(Décembre[[#This Row],[1]:[31]],$AH$5) -> 0 | AI30: =COUNTIF(Décembre[[#This Row],[1]:[31]],$AI$4)+COUNTIF(Décembre[[#This Row],[1]:[31]],$AI$5) -> 3 | AJ30: =COUNTIF(Décembre[[#This Row],[1]:[31]],$AJ$5) -> 0 | AK30: =COUNTIF(Décembre[[#This Row],[1]:[31]],$AK$5) -> 0 | AL30: =COUNTIF(Décembre[[#This Row],[1]:[31]],$AL$5) -> 0
B31: SAVARIT David | H31: G2 | I31: G2 | J31: G2 | AH31: =COUNTIF(Décembre[[#This Row],[1]:[31]],$AH$5) -> 0 | AI31: =COUNTIF(Décembre[[#This Row],[1]:[31]],$AI$4)+COUNTIF(Décembre[[#This Row],[1]:[31]],$AI$5) -> 3 | AJ31: =COUNTIF(Décembre[[#This Row],[1]:[31]],$AJ$5) -> 0 | AK31: =COUNTIF(Décembre[[#This Row],[1]:[31]],$AK$5) -> 0 | AL31: =COUNTIF(Décembre[[#This Row],[1]:[31]],$AL$5) -> 0
B32: THOMAS Karl | D32: FS | E32: FS | F32: FS | G32: FS | H32: FS | AF32: FS | AH32: =COUNTIF(Décembre[[#This Row],[1]:[31]],$AH$5) -> 0 | AI32: =COUNTIF(Décembre[[#This Row],[1]:[31]],$AI$4)+COUNTIF(Décembre[[#This Row],[1]:[31]],$AI$5) -> 0 | AJ32: =COUNTIF(Décembre[[#This Row],[1]:[31]],$AJ$5) -> 6 | AK32: =COUNTIF(Décembre[[#This Row],[1]:[31]],$AK$5) -> 0 | AL32: =COUNTIF(Décembre[[#This Row],[1]:[31]],$AL$5) -> 0
B33: VAVASSEUR Célia | H33: G2 | I33: G2 | J33: G2 | AH33: =COUNTIF(Décembre[[#This Row],[1]:[31]],$AH$5) -> 0 | AI33: =COUNTIF(Décembre[[#This Row],[1]:[31]],$AI$4)+COUNTIF(Décembre[[#This Row],[1]:[31]],$AI$5) -> 3 | AJ33: =COUNTIF(Décembre[[#This Row],[1]:[31]],$AJ$5) -> 0 | AK33: =COUNTIF(Décembre[[#This Row],[1]:[31]],$AK$5) -> 0 | AL33: =COUNTIF(Décembre[[#This Row],[1]:[31]],$AL$5) -> 0
B34: 28 | AH34: =COUNTIF(Décembre[[#This Row],[1]:[31]],$AH$5) -> 0 | AI34: =COUNTIF(Décembre[[#This Row],[1]:[31]],$AI$4)+COUNTIF(Décembre[[#This Row],[1]:[31]],$AI$5) -> 0 | AJ34: =COUNTIF(Décembre[[#This Row],[1]:[31]],$AJ$5) -> 0 | AK34: =COUNTIF(Décembre[[#This Row],[1]:[31]],$AK$5) -> 0 | AL34: =COUNTIF(Décembre[[#This Row],[1]:[31]],$AL$5) -> 0
B35: 29 | AH35: =COUNTIF(Décembre[[#This Row],[1]:[31]],$AH$5) -> 0 | AI35: =COUNTIF(Décembre[[#This Row],[1]:[31]],$AI$4)+COUNTIF(Décembre[[#This Row],[1]:[31]],$AI$5) -> 0 | AJ35: =COUNTIF(Décembre[[#This Row],[1]:[31]],$AJ$5) -> 0 | AK35: =COUNTIF(Décembre[[#This Row],[1]:[31]],$AK$5) -> 0 | AL35: =COUNTIF(Décembre[[#This Row],[1]:[31]],$AL$5) -> 0
B36: 30 | V36: M | W36: M | X36: M | Y36: M | Z36: M | AA36: M | AB36: M | AC36: M | AD36: M | AH36: =COUNTIF(Décembre[[#This Row],[1]:[31]],$AH$5) -> 0 | AI36: =COUNTIF(Décembre[[#This Row],[1]:[31]],$AI$4)+COUNTIF(Décembre[[#This Row],[1]:[31]],$AI$5) -> 0 | AJ36: =COUNTIF(Décembre[[#This Row],[1]:[31]],$AJ$5) -> 0 | AK36: =COUNTIF(Décembre[[#This Row],[1]:[31]],$AK$5) -> 0 | AL36: =COUNTIF(Décembre[[#This Row],[1]:[31]],$AL$5) -> 9
AH37: =SUM(AH7:AH36) -> 14 | AI37: =SUM(AI7:AI36) -> 60 | AJ37: =SUM(AJ7:AJ36) -> 17 | AK37: =SUM(AK7:AK36) -> 31 | AL37: =SUM(AL7:AL36) -> 9

Sheet Noms des employés
B1: Noms des employés | I1: Nouvel An | J1: =DATE(AnnéeCalendrier,1,1) -> 44927 | L1: C
I2: Pâques | J2: =ROUND(DATE(AnnéeCalendrier,4,MOD(234-11*MOD(AnnéeCalendrier,19),30))/7,)*7-6 -> 45025 | L2: G1
B3: Noms des employés | I3: Lundi de Pâques | J3: =SUM(J2+1) -> 45026 | L3: G2
B4: BONNEFOND Manon | I4: Fête Du Travail | J4: =DATE(AnnéeCalendrier,5,1) -> 45047 | L4: FS
B5: CABANNES Emile | I5: Comm. Victoire 1945 | J5: =DATE(AnnéeCalendrier,5,8) -> 45054 | L5: A
B6: CHAZEAUD Anita | I6: Ascension | J6: =J2+39 -> 45064 | L6: M
B7: CASTANG Jean-Claude | I7: Pentecôte | J7: =J2+49 -> 45074
B8: DA SILVA Marc | I8: Lundi de Pentecôte | J8: =J7+1 -> 45075
B9: DERACO Philippe | I9: Fête Nationale | J9: =DATE(AnnéeCalendrier,7,14) -> 45121
B10: DURAN Alexandre | I10: Assomption | J10: =DATE(AnnéeCalendrier,8,15) -> 45153
B11: FAGETTE Philippe | I11: Toussaint | J11: =DATE(AnnéeCalendrier,11,1) -> 45231
B12: FRANCOIS Jean-Paul | I12: Comm. Armistice 1918 | J12: =DATE(AnnéeCalendrier,11,11) -> 45241
B13: FRANCOIS Mathéo | I13: Noël | J13: =DATE(AnnéeCalendrier,12,25) -> 45285
B14: FONDIN Patrice
B15: GRIVOIS Nicolas
B16: LAFAYE Marion
B17: MARCHE Philippe
B18: MARTIAL Jean-Luc
B19: MENARD Martial
B20: NOEL Didier
B21: NORMAND Christian
B22: PARAT Alex
B23: PICAUD Carine
B24: RIBEIRO Rui
B25: RIGAL Pauline
... B30: VAVASSEUR Célia
B31: 28
B32: 29
B33: 30
