Workbook
Name AnnéeCalendrier: Janvier!$AH$4
Name feries: 'Noms des employés'!$J$1:$J$13

Sheet Janvier
B1: Calendrier des gardes et absences des employés
B2: Légende | C2: C | D2: Congés | F2: G1 | G2: Gardes 1 | J2: G2 | K2: Gardes 2 | M2: FS | N2: Formations/Stages | R2: A | S2: Absences | X2: Férié | AB2: M | AC2: Maladie
AH3: Année :
B4: Janvier | C4: Dates | AH4: 2023 | AI4: G2
C5: =DATE(AnnéeCalendrier,2,1) -> 44958 | D5: =C5+1 -> 44959 | E5: =D5+1 -> 44960 | F5: =E5+1 -> 44961 | G5: =F5+1 -> 44962 | H5: =G5+1 -> 44963 | I5: =H5+1 -> 44964 | J5: =I5+1 -> 44965 | K5: =J5+1 -> 44966 | ... AG5: =AF5+1 -> 44988 | AH5: C | AI5: G1 | AJ5: FS | AK5: A | AL5: M
B6: Nom de l’employé | C6: 1 | D6: 2 | E6: 3 | F6: 4 | G6: 5 | H6: 6 | I6: 7 | J6: 8 | K6: 9 | L6: 10 | M6: 11 | N6: 12 | O6: 13 | P6: 14 | Q6: 15 | R6: 16 | S6: 17 | T6: 18 | U6: 19 | V6: 20 | W6: 21 | X6: 22 | Y6: 23 | Z6: 24 | AA6: 25 | AB6: 26 | AC6: 27 | AD6: 28 | AE6: 29 | AF6: 30 | AG6: 31 | AH6: Congés | AI6: Gardes | AJ6: Formations Stages | AK6: Absences | AL6: Maladie
B7: BONNEFOND Manon | AH7: =COUNTIF(Janvier[[#This Row],[1]:[31]],$AH$5) -> 0 | AI7: =COUNTIF(Janvier[[#This Row],[1]:[31]],$AI$4)+COUNTIF(Janvier[[#This Row],[1]:[31]],$AI$5) -> 0 | AJ7: =COUNTIF(Janvier[[#This Row],[1]:[31]],$AJ$5) -> 0 | AK7: =COUNTIF(Janvier[[#This Row],[1]:[31]],$AK$5) -> 0 | AL7: =COUNTIF(Janvier[[#This Row],[1]:[31]],$AL$5) -> 0
B8: CABANNES Emile | H8: G1 | I8: G1 | J8: G1 | AC8: G1 | AD8: G1 | AE8: G1 | AH8: =COUNTIF(Janvier[[#This Row],[1]:[31]],$AH$5) -> 0 | AI8: =COUNTIF(Janvier[[#This Row],[1]:[31]],$AI$4)+COUNTIF(Janvier[[#This Row],[1]:[31]],$AI$5) -> 6 | AJ8: =COUNTIF(Janvier[[#This Row],[1]:[31]],$AJ$5) -> 0 | AK8: =COUNTIF(Janvier[[#This Row],[1]:[31]],$AK$5) -> 0 | AL8: =COUNTIF(Janvier[[#This Row],[1]:[31]],$AL$5) -> 0
B9: CHAZEAUD Anita | AH9: =COUNTIF(Janvier[[#This Row],[1]:[31]],$AH$5) -> 0 | AI9: =COUNTIF(Janvier[[#This Row],[1]:[31]],$AI$4)+COUNTIF(Janvier[[#This Row],[1]:[31]],$AI$5) -> 0 | AJ9: =COUNTIF(Janvier[[#This Row],[1]:[31]],$AJ$5) -> 0 | AK9: =COUNTIF(Janvier[[#This Row],[1]:[31]],$AK$5) -> 0 | AL9: =COUNTIF(Janvier[[#This Row],[1]:[31]],$AL$5) -> 0
B10: CASTANG Jean-Claude | AH10: =COUNTIF(Janvier[[#This Row],[1]:[31]],$AH$5) -> 0 | AI10: =COUNTIF(Janvier[[#This Row],[1]:[31]],$AI$4)+COUNTIF(Janvier[[#This Row],[1]:[31]],$AI$5) -> 0 | AJ10: =COUNTIF(Janvier[[#This Row],[1]:[31]],$AJ$5) -> 0 | AK10: =COUNTIF(Janvier[[#This Row],[1]:[31]],$AK$5) -> 0 | AL10: =COUNTIF(Janvier[[#This Row],[1]:[31]],$AL$5) -> 0
B11: DA SILVA Marc | C11: G2 | R11: G1 | S11: G1 | T11: G1 | U11: G1 | V11: G1 | W11: G1 | X11: G1 | AH11: =COUNTIF(Janvier[[#This Row],[1]:[31]],$AH$5) -> 0 | AI11: =COUNTIF(Janvier[[#This Row],[1]:[31]],$AI$4)+COUNTIF(Janvier[[#This Row],[1]:[31]],$AI$5) -> 8 | AJ11: =COUNTIF(Janvier[[#This Row],[1]:[31]],$AJ$5) -> 0 | AK11: =COUNTIF(Janvier[[#This Row],[1]:[31]],$AK$5) -> 0 | AL11: =COUNTIF(Janvier[[#This Row],[1]:[31]],$AL$5) -> 0
B12: DERACO Philippe | O12: G1 | P12: G1 | Q12: G1 | AH12: =COUNTIF(Janvier[[#This Row],[1]:[31]],$AH$5) -> 0 | AI12: =COUNTIF(Janvier[[#This Row],[1]:[31]],$AI$4)+COUNTIF(Janvier[[#This Row],[1]:[31]],$AI$5) -> 3 | AJ12: =COUNTIF(Janvier[[#This Row],[1]:[31]],$AJ$5) -> 0 | AK12: =COUNTIF(Janvier[[#This Row],[1]:[31]],$AK$5) -> 0 | AL12: =COUNTIF(Janvier[[#This Row],[1]:[31]],$AL$5) -> 0
B13: DURAN Alexandre | AH13: =COUNTIF(Janvier[[#This Row],[1]:[31]],$AH$5) -> 0 | AI13: =COUNTIF(Janvier[[#This Row],[1]:[31]],$AI$4)+COUNTIF(Janvier[[#This Row],[1]:[31]],$AI$5) -> 0 | AJ13: =COUNTIF(Janvier[[#This Row],[1]:[31]],$AJ$5) -> 0 | AK13: =COUNTIF(Janvier[[#This Row],[1]:[31]],$AK$5) -> 0 | AL13: =COUNTIF(Janvier[[#This Row],[1]:[31]],$AL$5) -> 0
B14: FAGETTE Philippe | AH14: =COUNTIF(Janvier[[#This Row],[1]:[31]],$AH$5) -> 0 | AI14: =COUNTIF(Janvier[[#This Row],[1]:[31]],$AI$4)+COUNTIF(Janvier[[#This Row],[1]:[31]],$AI$5) -> 0 | AJ14: =COUNTIF(Janvier[[#This Row],[1]:[31]],$AJ$5) -> 0 | AK14: =COUNTIF(Janvier[[#This Row],[1]:[31]],$AK$5) -> 0 | AL14: =COUNTIF(Janvier[[#This Row],[1]:[31]],$AL$5) -> 0
B15: FRANCOIS Jean-Paul | AH15: =COUNTIF(Janvier[[#This Row],[1]:[31]],$AH$5) -> 0 | AI15: =COUNTIF(Janvier[[#This Row],[1]:[31]],$AI$4)+COUNTIF(Janvier[[#This Row],[1]:[31]],$AI$5) -> 0 | AJ15: =COUNTIF(Janvier[[#This Row],[1]:[31]],$AJ$5) -> 0 | AK15: =COUNTIF(Janvier[[#This Row],[1]:[31]],$AK$5) -> 0 | AL15: =COUNTIF(Janvier[[#This Row],[1]:[31]],$AL$5) -> 0
B16: FRANCOIS Mathéo | D16: FS | E16: FS | F16: FS | G16: FS | H16: FS | Y16: FS | Z16: FS | AA16: FS | AB16: FS | AC16: FS | AH16: =COUNTIF(Janvier[[#This Row],[1]:[31]],$AH$5) -> 0 | AI16: =COUNTIF(Janvier[[#This Row],[1]:[31]],$AI$4)+COUNTIF(Janvier[[#This Row],[1]:[31]],$AI$5) -> 0 | AJ16: =COUNTIF(Janvier[[#This Row],[1]:[31]],$AJ$5) -> 10 | AK16: =COUNTIF(Janvier[[#This Row],[1]:[31]],$AK$5) -> 0 | AL16: =COUNTIF(Janvier[[#This Row],[1]:[31]],$AL$5) -> 0
B17: FONDIN Patrice | AH17: =COUNTIF(Janvier[[#This Row],[1]:[31]],$AH$5) -> 0 | AI17: =COUNTIF(Janvier[[#This Row],[1]:[31]],$AI$4)+COUNTIF(Janvier[[#This Row],[1]:[31]],$AI$5) -> 0 | AJ17: =COUNTIF(Janvier[[#This Row],[1]:[31]],$AJ$5) -> 0 | AK17: =COUNTIF(Janvier[[#This Row],[1]:[31]],$AK$5) -> 0 | AL17: =COUNTIF(Janvier[[#This Row],[1]:[31]],$AL$5) -> 0
B18: GRIVOIS Nicolas | C18: G1 | R18: G1 | S18: G1 | T18: G1 | U18: G1 | V18: G1 | W18: G1 | X18: G1 | AH18: =COUNTIF(Janvier[[#This Row],[1]:[31]],$AH$5) -> 0 | AI18: =COUNTIF(Janvier[[#This Row],[1]:[31]],$AI$4)+COUNTIF(Janvier[[#This Row],[1]:[31]],$AI$5) -> 8 | AJ18: =COUNTIF(Janvier[[#This Row],[1]:[31]],$AJ$5) -> 0 | AK18: =COUNTIF(Janvier[[#This Row],[1]:[31]],$AK$5) -> 0 | AL18: =COUNTIF(Janvier[[#This Row],[1]:[31]],$AL$5) -> 0
B19: LAFAYE Marion | C19: A | D19: A | E19: A | F19: A | G19: A | H19: A | I19: A | J19: A | K19: A | L19: A | M19: A | N19: A | O19: A | P19: A | Q19: A | R19: A | S19: A | T19: A | U19: A | V19: A | W19: A | X19: A | Y19: A | Z19: A | AA19: A | AB19: A | AC19: A | AD19: A | AE19: A | AF19: A | AG19: A | AH19: =COUNTIF(Janvier[[#This Row],[1]:[31]],$AH$5) -> 0 | AI19: =COUNTIF(Janvier[[#This Row],[1]:[31]],$AI$4)+COUNTIF(Janvier[[#This Row],[1]:[31]],$AI$5) -> 0 | AJ19: =COUNTIF(Janvier[[#This Row],[1]:[31]],$AJ$5) -> 0 | AK19: =COUNTIF(Janvier[[#This Row],[1]:[31]],$AK$5) -> 31 | AL19: =COUNTIF(Janvier[[#This Row],[1]:[31]],$AL$5) -> 0
B20: MARCHE Philippe | O20: G2 | P20: G2 | Q20: G2 | AF20: FS | AH20: =COUNTIF(Janvier[[#This Row],[1]:[31]],$AH$5) -> 0 | AI20: =COUNTIF(Janvier[[#This Row],[1]:[31]],$AI$4)+COUNTIF(Janvier[[#This Row],[1]:[31]],$AI$5) -> 3 | AJ20: =COUNTIF(Janvier[[#This Row],[1]:[31]],$AJ$5) -> 1 | AK20: =COUNTIF(Janvier[[#This Row],[1]:[31]],$AK$5) -> 0 | AL20: =COUNTIF(Janvier[[#This Row],[1]:[31]],$AL$5) -> 0
B21: MARTIAL Jean-Luc | C21: G1 | D21: C | E21: C | F21: C | G21: C | H21: C | I21: C | J21: C | K21: C | L21: C | M21: C | N21: C | O21: C | P21: C | Q21: C | AH21: =COUNTIF(Janvier[[#This Row],[1]:[31]],$AH$5) -> 14 | AI21: =COUNTIF(Janvier[[#This Row],[1]:[31]],$AI$4)+COUNTIF(Janvier[[#This Row],[1]:[31]],$AI$5) -> 1 | AJ21: =COUNTIF(Janvier[[#This Row],[1]:[31]],$AJ$5) -> 0 | AK21: =COUNTIF(Janvier[[#This Row],[1]:[31]],$AK$5) -> 0 | AL21: =COUNTIF(Janvier[[#This Row],[1]:[31]],$AL$5) -> 0
B22: MENARD Martial | AH22: =COUNTIF(Janvier[[#This Row],[1]:[31]],$AH$5) -> 0 | AI22: =COUNTIF(Janvier[[#This Row],[1]:[31]],$AI$4)+COUNTIF(Janvier[[#This Row],[1]:[31]],$AI$5) -> 0 | AJ22: =COUNTIF(Janvier[[#This Row],[1]:[31]],$AJ$5) -> 0 | AK22: =COUNTIF(Janvier[[#This Row],[1]:[31]],$AK$5) -> 0 | AL22: =COUNTIF(Janvier[[#This Row],[1]:[31]],$AL$5) -> 0
B23: NOEL Didier | AC23: G1 | AD23: G1 | AE23: G1 | AH23: =COUNTIF(Janvier[[#This Row],[1]:[31]],$AH$5) -> 0 | AI23: =COUNTIF(Janvier[[#This Row],[1]:[31]],$AI$4)+COUNTIF(Janvier[[#This Row],[1]:[31]],$AI$5) -> 3 | AJ23: =COUNTIF(Janvier[[#This Row],[1]:[31]],$AJ$5) -> 0 | AK23: =COUNTIF(Janvier[[#This Row],[1]:[31]],$AK$5) -> 0 | AL23: =COUNTIF(Janvier[[#This Row],[1]:[31]],$AL$5) -> 0
B24: NORMAND Christian | AH24: =COUNTIF(Janvier[[#This Row],[1]:[31]],$AH$5) -> 0 | AI24: =COUNTIF(Janvier[[#This Row],[1]:[31]],$AI$4)+COUNTIF(Janvier[[#This Row],[1]:[31]],$AI$5) -> 0 | AJ24: =COUNTIF(Janvier[[#This Row],[1]:[31]],$AJ$5) -> 0 | AK24: =COUNTIF(Janvier[[#This Row],[1]:[31]],$AK$5) -> 0 | AL24: =COUNTIF(Janvier[[#This Row],[1]:[31]],$AL$5) -> 0
B25: PARAT Alex | H25: G1 | I25: G1 | J25: G1 | AH25: =COUNTIF(Janvier[[#This Row],[1]:[31]],$AH$5) -> 0 | AI25: =COUNTIF(Janvier[[#This Row],[1]:[31]],$AI$4)+COUNTIF(Janvier[[#This Row],[1]:[31]],$AI$5) -> 3 | AJ25: =COUNTIF(Janvier[[#This Row],[1]:[31]],$AJ$5) -> 0 | AK25: =COUNTIF(Janvier[[#This Row],[1]:[31]],$AK$5) -> 0 | AL25: =COUNTIF(Janvier[[#This Row],[1]:[31]],$AL$5) -> 0
B26: PICAUD Carine | O26: G1 | P26: G1 | Q26: G1 | AC26: G2 | AD26: G2 | AE26: G2 | AH26: =COUNTIF(Janvier[[#This Row],[1]:[31]],$AH$5) -> 0 | AI26: =COUNTIF(Janvier[[#This Row],[1]:[31]],$AI$4)+COUNTIF(Janvier[[#This Row],[1]:[31]],$AI$5) -> 6 | AJ26: =COUNTIF(Janvier[[#This Row],[1]:[31]],$AJ$5) -> 0 | AK26: =COUNTIF(Janvier[[#This Row],[1]:[31]],$AK$5) -> 0 | AL26: =COUNTIF(Janvier[[#This Row],[1]:[31]],$AL$5) -> 0
B27: RIBEIRO Rui | V27: G2 | W27: G2 | X27: G2 | AH27: =COUNTIF(Janvier[[#This Row],[1]:[31]],$AH$5) -> 0 | AI27: =COUNTIF(Janvier[[#This Row],[1]:[31]],$AI$4)+COUNTIF(Janvier[[#This Row],[1]:[31]],$AI$5) -> 3 | AJ27: =COUNTIF(Janvier[[#This Row],[1]:[31]],$AJ$5) -> 0 | AK27: =COUNTIF(Janvier[[#This Row],[1]:[31]],$AK$5) -> 0 | AL27: =COUNTIF(Janvier[[#This Row],[1]:[31]],$AL$5) -> 0
B28: RIGAL Pauline | O28: G2 | P28: G2 | Q28: G2 | AH28: =COUNTIF(Janvier[[#This Row],[1]:[31]],$AH$5) -> 0 | AI28: =COUNTIF(Janvier[[#This Row],[1]:[31]],$AI$4)+COUNTIF(Janvier[[#This Row],[1]:[31]],$AI$5) -> 3 | AJ28: =COUNTIF(Janvier[[#This Row],[1]:[31]],$AJ$5) -> 0 | AK28: =COUNTIF(Janvier[[#This Row],[1]:[31]],$AK$5) -> 0 | AL28: =COUNTIF(Janvier[[#This Row],[1]:[31]],$AL$5) -> 0
B29: ROUGIER Stéphanie | C29: G2 | V29: G2 | W29: G2 | X29: G2 | AH29: =COUNTIF(Janvier[[#This Row],[1]:[31]],$AH$5) -> 0 | AI29: =COUNTIF(Janvier[[#This Row],[1]:[31]],$AI$4)+COUNTIF(Janvier[[#This Row],[1]:[31]],$AI$5) -> 4 | AJ29: =COUNTIF(Janvier[[#This Row],[1]:[31]],$AJ$5) -> 0 | AK29: =COUNTIF(Janvier[[#This Row],[1]:[31]],$AK$5) -> 0 | AL29: =COUNTIF(Janvier[[#This Row],[1]:[31]],$AL$5) -> 0
B30: SAVARIT André | AC30: G2 | AD30: G2 | AE30: G2 | AH30: =COUNTIF(Janvier[[#This Row],[1]:[31]],$AH$5) -> 0 | AI30: =COUNTIF(Janvier[[#This Row],[1]:[31]],$AI$4)+COUNTIF(Janvier[[#This Row],[1]:[31]],$AI$5) -> 3 | AJ30: =COUNTIF(Janvier[[#This Row],[1]:[31]],$AJ$5) -> 0 | AK30: =COUNTIF(Janvier[[#This Row],[1]:[31]],$AK$5) -> 0 | AL30: =COUNTIF(Janvier[[#This Row],[1]:[31]],$AL$5) -> 0
B31: SAVARIT David | H31: G2 | I31: G2 | J31: G2 | AH31: =COUNTIF(Janvier[[#This Row],[1]:[31]],$AH$5) -> 0 | AI31: =COUNTIF(Janvier[[#This Row],[1]:[31]],$AI$4)+COUNTIF(Janvier[[#This Row],[1]:[31]],$AI$5) -> 3 | AJ31: =COUNTIF(Janvier[[#This Row],[1]:[31]],$AJ$5) -> 0 | AK31: =COUNTIF(Janvier[[#This Row],[1]:[31]],$AK$5) -> 0 | AL31: =COUNTIF(Janvier[[#This Row],[1]:[31]],$AL$5) -> 0
B32: THOMAS Karl | D32: FS | E32: FS | F32: FS | G32: FS | H32: FS | AF32: FS | AH32: =COUNTIF(Janvier[[#This Row],[1]:[31]],$AH$5) -> 0 | AI32: =COUNTIF(Janvier[[#This Row],[1]:[31]],$AI$4)+COUNTIF(Janvier[[#This Row],[1]:[31]],$AI$5) -> 0 | AJ32: =COUNTIF(Janvier[[#This Row],[1]:[31]],$AJ$5) -> 6 | AK32: =COUNTIF(Janvier[[#This Row],[1]:[31]],$AK$5) -> 0 | AL32: =COUNTIF(Janvier[[#This Row],[1]:[31]],$AL$5) -> 0
B33: VAVASSEUR Célia | H33: G2 | I33: G2 | J33: G2 | AH33: =COUNTIF(Janvier[[#This Row],[1]:[31]],$AH$5) -> 0 | AI33: =COUNTIF(Janvier[[#This Row],[1]:[31]],$AI$4)+COUNTIF(Janvier[[#This Row],[1]:[31]],$AI$5) -> 3 | AJ33: =COUNTIF(Janvier[[#This Row],[1]:[31]],$AJ$5) -> 0 | AK33: =COUNTIF(Janvier[[#This Row],[1]:[31]],$AK$5) -> 0 | AL33: =COUNTIF(Janvier[[#This Row],[1]:[31]],$AL$5) -> 0
B34: 28 | AH34: =COUNTIF(Janvier[[#This Row],[1]:[31]],$AH$5) -> 0 | AI34: =COUNTIF(Janvier[[#This Row],[1]:[31]],$AI$4)+COUNTIF(Janvier[[#This Row],[1]:[31]],$AI$5) -> 0 | AJ34: =COUNTIF(Janvier[[#This Row],[1]:[31]],$AJ$5) -> 0 | AK34: =COUNTIF(Janvier[[#This Row],[1]:[31]],$AK$5) -> 0 | AL34: =COUNTIF(Janvier[[#This Row],[1]:[31]],$AL$5) -> 0
B35: 29 | AH35: =COUNTIF(Janvier[[#This Row],[1]:[31]],$AH$5) -> 0 | AI35: =COUNTIF(Janvier[[#This Row],[1]:[31]],$AI$4)+COUNTIF(Janvier[[#This Row],[1]:[31]],$AI$5) -> 0 | AJ35: =COUNTIF(Janvier[[#This Row],[1]:[31]],$AJ$5) -> 0 | AK35: =COUNTIF(Janvier[[#This Row],[1]:[31]],$AK$5) -> 0 | AL35: =COUNTIF(Janvier[[#This Row],[1]:[31]],$AL$5) -> 0
B36: 30 | V36: M | W36: M | X36: M | Y36: M | Z36: M | AA36: M | AB36: M | AC36: M | AD36: M | AH36: =COUNTIF(Janvier[[#This Row],[1]:[31]],$AH$5) -> 0 | AI36: =COUNTIF(Janvier[[#This Row],[1]:[31]],$AI$4)+COUNTIF(Janvier[[#This Row],[1]:[31]],$AI$5) -> 0 | AJ36: =COUNTIF(Janvier[[#This Row],[1]:[31]],$AJ$5) -> 0 | AK36: =COUNTIF(Janvier[[#This Row],[1]:[31]],$AK$5) -> 0 | AL36: =COUNTIF(Janvier[[#This Row],[1]:[31]],$AL$5) -> 9
AH37: =SUM(AH7:AH36) -> 14 | AI37: =SUM(AI7:AI36) -> 60 | AJ37: =SUM(AJ7:AJ36) -> 17 | AK37: =SUM(AK7:AK36) -> 31 | AL37: =SUM(AL7:AL36) -> 9

Sheet Février
B1: Calendrier des gardes et absences des employés
B2: Légende | C2: C | D2: Congés | F2: G1 | G2: Gardes 1 | J2: G2 | K2: Gardes 2 | M2: FS | N2: Formations/Stages | R2: A | S2: Absences | X2: Férié | AB2: M | AC2: Maladie
AH3: Année :
B4: Février | C4: Dates | AH4: =Janvier!AH4 -> 2023 | AI4: G2
C5: =DATE(AnnéeCalendrier,2,1) -> 44958 | D5: =C5+1 -> 44959 | E5: =D5+1 -> 44960 | F5: =E5+1 -> 44961 | G5: =F5+1 -> 44962 | H5: =G5+1 -> 44963 | I5: =H5+1 -> 44964 | J5: =I5+1 -> 44965 | K5: =J5+1 -> 44966 | ... AD5: =AC5+1 -> 44985 | AE5: =IF(MONTH(AD5+1)=MONTH(AD5),AD5+1,"") | AF5: =AE5+1 -> #VALUE! | AG5: =AF5+1 -> #VALUE! | AH5: C | AI5: G1 | AJ5: FS | AK5: A | AL5: M
B6: Nom de l’employé | C6: 1 | D6: 2 | E6: 3 | F6: 4 | G6: 5 | H6: 6 | I6: 7 | J6: 8 | K6: 9 | L6: 10 | M6: 11 | N6: 12 | O6: 13 | P6: 14 | Q6: 15 | R6: 16 | S6: 17 | T6: 18 | U6: 19 | V6: 20 | W6: 21 | X6: 22 | Y6: 23 | Z6: 24 | AA6: 25 | AB6: 26 | AC6: 27 | AD6: 28 | AE6: 29 | AF6: 30 | AG6: 31 | AH6: Congés | AI6: Gardes | AJ6: Formations Stages | AK6: Absences | AL6: Maladie
B7: BONNEFOND Manon | AH7: =COUNTIF(Fevrier[[#This Row],[1]:[31]],$AH$5) -> 0 | AI7: =COUNTIF(Fevrier[[#This Row],[1]:[31]],$AI$4)+COUNTIF(Fevrier[[#This Row],[1]:[31]],$AI$5) -> 0 | AJ7: =COUNTIF(Fevrier[[#This Row],[1]:[31]],$AJ$5) -> 0 | AK7: =COUNTIF(Fevrier[[#This Row],[1]:[31]],$AK$5) -> 0 | AL7: =COUNTIF(Fevrier[[#This Row],[1]:[31]],$AL$5) -> 0
B8: CABANNES Emile | H8: G1 | I8: G1 | J8: G1 | AC8: G1 | AD8: G1 | AE8: G1 | AH8: =COUNTIF(Fevrier[[#This Row],[1]:[31]],$AH$5) -> 0 | AI8: =COUNTIF(Fevrier[[#This Row],[1]:[31]],$AI$4)+COUNTIF(Fevrier[[#This Row],[1]:[31]],$AI$5) -> 6 | AJ8: =COUNTIF(Fevrier[[#This Row],[1]:[31]],$AJ$5) -> 0 | AK8: =COUNTIF(Fevrier[[#This Row],[1]:[31]],$AK$5) -> 0 | AL8: =COUNTIF(Fevrier[[#This Row],[1]:[31]],$AL$5) -> 0
B9: CHAZEAUD Anita | AH9: =COUNTIF(Fevrier[[#This Row],[1]:[31]],$AH$5) -> 0 | AI9: =COUNTIF(Fevrier[[#This Row],[1]:[31]],$AI$4)+COUNTIF(Fevrier[[#This Row],[1]:[31]],$AI$5) -> 0 | AJ9: =COUNTIF(Fevrier[[#This Row],[1]:[31]],$AJ$5) -> 0 | AK9: =COUNTIF(Fevrier[[#This Row],[1]:[31]],$AK$5) -> 0 | AL9: =COUNTIF(Fevrier[[#This Row],[1]:[31]],$AL$5) -> 0
B10: CASTANG Jean-Claude | AH10: =COUNTIF(Fevrier[[#This Row],[1]:[31]],$AH$5) -> 0 | AI10: =COUNTIF(Fevrier[[#This Row],[1]:[31]],$AI$4)+COUNTIF(Fevrier[[#This Row],[1]:[31]],$AI$5) -> 0 | AJ10: =COUNTIF(Fevrier[[#This Row],[1]:[31]],$AJ$5) -> 0 | AK10: =COUNTIF(Fevrier[[#This Row],[1]:[31]],$AK$5) -> 0 | AL10: =COUNTIF(Fevrier[[#This Row],[1]:[31]],$AL$5) -> 0
B11: DA SILVA Marc | C11: G2 | R11: G1 | S11: G1 | T11: G1 | U11: G1 | V11: G1 | W11: G1 | X11: G1 | AH11: =COUNTIF(Fevrier[[#This Row],[1]:[31]],$AH$5) -> 0 | AI11: =COUNTIF(Fevrier[[#This Row],[1]:[31]],$AI$4)+COUNTIF(Fevrier[[#This Row],[1]:[31]],$AI$5) -> 8 | AJ11: =COUNTIF(Fevrier[[#This Row],[1]:[31]],$AJ$5) -> 0 | AK11: =COUNTIF(Fevrier[[#This Row],[1]:[31]],$AK$5) -> 0 | AL11: =COUNTIF(Fevrier[[#This Row],[1]:[31]],$AL$5) -> 0
B12: DERACO Philippe | O12: G1 | P12: G1 | Q12: G1 | AH12: =COUNTIF(Fevrier[[#This Row],[1]:[31]],$AH$5) -> 0 | AI12: =COUNTIF(Fevrier[[#This Row],[1]:[31]],$AI$4)+COUNTIF(Fevrier[[#This Row],[1]:[31]],$AI$5) -> 3 | AJ12: =COUNTIF(Fevrier[[#This Row],[1]:[31]],$AJ$5) -> 0 | AK12: =COUNTIF(Fevrier[[#This Row],[1]:[31]],$AK$5) -> 0 | AL12: =COUNTIF(Fevrier[[#This Row],[1]:[31]],$AL$5) -> 0
B13: DURAN Alexandre | AH13: =COUNTIF(Fevrier[[#This Row],[1]:[31]],$AH$5) -> 0 | AI13: =COUNTIF(Fevrier[[#This Row],[1]:[31]],$AI$4)+COUNTIF(Fevrier[[#This Row],[1]:[31]],$AI$5) -> 0 | AJ13: =COUNTIF(Fevrier[[#This Row],[1]:[31]],$AJ$5) -> 0 | AK13: =COUNTIF(Fevrier[[#This Row],[1]:[31]],$AK$5) -> 0 | AL13: =COUNTIF(Fevrier[[#This Row],[1]:[31]],$AL$5) -> 0
B14: FAGETTE Philippe | AH14: =COUNTIF(Fevrier[[#This Row],[1]:[31]],$AH$5) -> 0 | AI14: =COUNTIF(Fevrier[[#This Row],[1]:[31]],$AI$4)+COUNTIF(Fevrier[[#This Row],[1]:[31]],$AI$5) -> 0 | AJ14: =COUNTIF(Fevrier[[#This Row],[1]:[31]],$AJ$5) -> 0 | AK14: =COUNTIF(Fevrier[[#This Row],[1]:[31]],$AK$5) -> 0 | AL14: =COUNTIF(Fevrier[[#This Row],[1]:[31]],$AL$5) -> 0
B15: FRANCOIS Jean-Paul | AH15: =COUNTIF(Fevrier[[#This Row],[1]:[31]],$AH$5) -> 0 | AI15: =COUNTIF(Fevrier[[#This Row],[1]:[31]],$AI$4)+COUNTIF(Fevrier[[#This Row],[1]:[31]],$AI$5) -> 0 | AJ15: =COUNTIF(Fevrier[[#This Row],[1]:[31]],$AJ$5) -> 0 | AK15: =COUNTIF(Fevrier[[#This Row],[1]:[31]],$AK$5) -> 0 | AL15: =COUNTIF(Fevrier[[#This Row],[1]:[31]],$AL$5) -> 0
B16: FRANCOIS Mathéo | D16: FS | E16: FS | F16: FS | G16: FS | H16: FS | Y16: FS | Z16: FS | AA16: FS | AB16: FS | AC16: FS | AH16: =COUNTIF(Fevrier[[#This Row],[1]:[31]],$AH$5) -> 0 | AI16: =COUNTIF(Fevrier[[#This Row],[1]:[31]],$AI$4)+COUNTIF(Fevrier[[#This Row],[1]:[31]],$AI$5) -> 0 | AJ16: =COUNTIF(Fevrier[[#This Row],[1]:[31]],$AJ$5) -> 10 | AK16: =COUNTIF(Fevrier[[#This Row],[1]:[31]],$AK$5) -> 0 | AL16: =COUNTIF(Fevrier[[#This Row],[1]:[31]],$AL$5) -> 0
B17: FONDIN Patrice | AH17: =COUNTIF(Fevrier[[#This Row],[1]:[31]],$AH$5) -> 0 | AI17: =COUNTIF(Fevrier[[#This Row],[1]:[31]],$AI$4)+COUNTIF(Fevrier[[#This Row],[1]:[31]],$AI$5) -> 0 | AJ17: =COUNTIF(Fevrier[[#This Row],[1]:[31]],$AJ$5) -> 0 | AK17: =COUNTIF(Fevrier[[#This Row],[1]:[31]],$AK$5) -> 0 | AL17: =COUNTIF(Fevrier[[#This Row],[1]:[31]],$AL$5) -> 0
B18: GRIVOIS Nicolas | C18: G1 | R18: G1 | S18: G1 | T18: G1 | U18: G1 | V18: G1 | W18: G1 | X18: G1 | AH18: =COUNTIF(Fevrier[[#This Row],[1]:[31]],$AH$5) -> 0 | AI18: =COUNTIF(Fevrier[[#This Row],[1]:[31]],$AI$4)+COUNTIF(Fevrier[[#This Row],[1]:[31]],$AI$5) -> 8 | AJ18: =COUNTIF(Fevrier[[#This Row],[1]:[31]],$AJ$5) -> 0 | AK18: =COUNTIF(Fevrier[[#This Row],[1]:[31]],$AK$5) -> 0 | AL18: =COUNTIF(Fevrier[[#This Row],[1]:[31]],$AL$5) -> 0
B19: LAFAYE Marion | C19: A | D19: A | E19: A | F19: A | G19: A | H19: A | I19: A | J19: A | K19: A | L19: A | M19: A | N19: A | O19: A | P19: A | Q19: A | R19: A | S19: A | T19: A | U19: A | V19: A | W19: A | X19: A | Y19: A | Z19: A | AA19: A | AB19: A | AC19: A | AD19: A | AE19: A | AF19: A | AG19: A | AH19: =COUNTIF(Fevrier[[#This Row],[1]:[31]],$AH$5) -> 0 | AI19: =COUNTIF(Fevrier[[#This Row],[1]:[31]],$AI$4)+COUNTIF(Fevrier[[#This Row],[1]:[31]],$AI$5) -> 0 | AJ19: =COUNTIF(Fevrier[[#This Row],[1]:[31]],$AJ$5) -> 0 | AK19: =COUNTIF(Fevrier[[#This Row],[1]:[31]],$AK$5) -> 31 | AL19: =COUNTIF(Fevrier[[#This Row],[1]:[31]],$AL$5) -> 0
B20: MARCHE Philippe | O20: G2 | P20: G2 | Q20: G2 | AF20: FS | AH20: =COUNTIF(Fevrier[[#This Row],[1]:[31]],$AH$5) -> 0 | AI20: =COUNTIF(Fevrier[[#This Row],[1]:[31]],$AI$4)+COUNTIF(Fevrier[[#This Row],[1]:[31]],$AI$5) -> 3 | AJ20: =COUNTIF(Fevrier[[#This Row],[1]:[31]],$AJ$5) -> 1 | AK20: =COUNTIF(Fevrier[[#This Row],[1]:[31]],$AK$5) -> 0 | AL20: =COUNTIF(Fevrier[[#This Row],[1]:[31]],$AL$5) -> 0
B21: MARTIAL Jean-Luc | C21: G1 | D21: C | E21: C | F21: C | G21: C | H21: C | I21: C | J21: C | K21: C | L21: C | M21: C | N21: C | O21: C | P21: C | Q21: C | AH21: =COUNTIF(Fevrier[[#This Row],[1]:[31]],$AH$5) -> 14 | AI21: =COUNTIF(Fevrier[[#This Row],[1]:[31]],$AI$4)+COUNTIF(Fevrier[[#This Row],[1]:[31]],$AI$5) -> 1 | AJ21: =COUNTIF(Fevrier[[#This Row],[1]:[31]],$AJ$5) -> 0 | AK21: =COUNTIF(Fevrier[[#This Row],[1]:[31]],$AK$5) -> 0 | AL21: =COUNTIF(Fevrier[[#This Row],[1]:[31]],$AL$5) -> 0
B22: MENARD Martial | AH22: =COUNTIF(Fevrier[[#This Row],[1]:[31]],$AH$5) -> 0 | AI22: =COUNTIF(Fevrier[[#This Row],[1]:[31]],$AI$4)+COUNTIF(Fevrier[[#This Row],[1]:[31]],$AI$5) -> 0 | AJ22: =COUNTIF(Fevrier[[#This Row],[1]:[31]],$AJ$5) -> 0 | AK22: =COUNTIF(Fevrier[[#This Row],[1]:[31]],$AK$5) -> 0 | AL22: =COUNTIF(Fevrier[[#This Row],[1]:[31]],$AL$5) -> 0
B23: NOEL Didier | AC23: G1 | AD23: G1 | AE23: G1 | AH23: =COUNTIF(Fevrier[[#This Row],[1]:[31]],$AH$5) -> 0 | AI23: =COUNTIF(Fevrier[[#This Row],[1]:[31]],$AI$4)+COUNTIF(Fevrier[[#This Row],[1]:[31]],$AI$5) -> 3 | AJ23: =COUNTIF(Fevrier[[#This Row],[1]:[31]],$AJ$5) -> 0 | AK23: =COUNTIF(Fevrier[[#This Row],[1]:[31]],$AK$5) -> 0 | AL23: =COUNTIF(Fevrier[[#This Row],[1]:[31]],$AL$5) -> 0
B24: NORMAND Christian | AH24: =COUNTIF(Fevrier[[#This Row],[1]:[31]],$AH$5) -> 0 | AI24: =COUNTIF(Fevrier[[#This Row],[1]:[31]],$AI$4)+COUNTIF(Fevrier[[#This Row],[1]:[31]],$AI$5) -> 0 | AJ24: =COUNTIF(Fevrier[[#This Row],[1]:[31]],$AJ$5) -> 0 | AK24: =COUNTIF(Fevrier[[#This Row],[1]:[31]],$AK$5) -> 0 | AL24: =COUNTIF(Fevrier[[#This Row],[1]:[31]],$AL$5) -> 0
B25: PARAT Alex | H25: G1 | I25: G1 | J25: G1 | AH25: =COUNTIF(Fevrier[[#This Row],[1]:[31]],$AH$5) -> 0 | AI25: =COUNTIF(Fevrier[[#This Row],[1]:[31]],$AI$4)+COUNTIF(Fevrier[[#This Row],[1]:[31]],$AI$5) -> 3 | AJ25: =COUNTIF(Fevrier[[#This Row],[1]:[31]],$AJ$5) -> 0 | AK25: =COUNTIF(Fevrier[[#This Row],[1]:[31]],$AK$5) -> 0 | AL25: =COUNTIF(Fevrier[[#This Row],[1]:[31]],$AL$5) -> 0
B26: PICAUD Carine | O26: G1 | P26: G1 | Q26: G1 | AC26: G2 | AD26: G2 | AE26: G2 | AH26: =COUNTIF(Fevrier[[#This Row],[1]:[31]],$AH$5) -> 0 | AI26: =COUNTIF(Fevrier[[#This Row],[1]:[31]],$AI$4)+COUNTIF(Fevrier[[#This Row],[1]:[31]],$AI$5) -> 6 | AJ26: =COUNTIF(Fevrier[[#This Row],[1]:[31]],$AJ$5) -> 0 | AK26: =COUNTIF(Fevrier[[#This Row],[1]:[31]],$AK$5) -> 0 | AL26: =COUNTIF(Fevrier[[#This Row],[1]:[31]],$AL$5) -> 0
B27: RIBEIRO Rui | V27: G2 | W27: G2 | X27: G2 | AH27: =COUNTIF(Fevrier[[#This Row],[1]:[31]],$AH$5) -> 0 | AI27: =COUNTIF(Fevrier[[#This Row],[1]:[31]],$AI$4)+COUNTIF(Fevrier[[#This Row],[1]:[31]],$AI$5) -> 3 | AJ27: =COUNTIF(Fevrier[[#This Row],[1]:[31]],$AJ$5) -> 0 | AK27: =COUNTIF(Fevrier[[#This Row],[1]:[31]],$AK$5) -> 0 | AL27: =COUNTIF(Fevrier[[#This Row],[1]:[31]],$AL$5) -> 0
B28: RIGAL Pauline | O28: G2 | P28: G2 | Q28: G2 | AH28: =COUNTIF(Fevrier[[#This Row],[1]:[31]],$AH$5) -> 0 | AI28: =COUNTIF(Fevrier[[#This Row],[1]:[31]],$AI$4)+COUNTIF(Fevrier[[#This Row],[1]:[31]],$AI$5) -> 3 | AJ28: =COUNTIF(Fevrier[[#This Row],[1]:[31]],$AJ$5) -> 0 | AK28: =COUNTIF(Fevrier[[#This Row],[1]:[31]],$AK$5) -> 0 | AL28: =COUNTIF(Fevrier[[#This Row],[1]:[31]],$AL$5) -> 0
B29: ROUGIER Stéphanie | C29: G2 | V29: G2 | W29: G2 | X29: G2 | AH29: =COUNTIF(Fevrier[[#This Row],[1]:[31]],$AH$5) -> 0 | AI29: =COUNTIF(Fevrier[[#This Row],[1]:[31]],$AI$4)+COUNTIF(Fevrier[[#This Row],[1]:[31]],$AI$5) -> 4 | AJ29: =COUNTIF(Fevrier[[#This Row],[1]:[31]],$AJ$5) -> 0 | AK29: =COUNTIF(Fevrier[[#This Row],[1]:[31]],$AK$5) -> 0 | AL29: =COUNTIF(Fevrier[[#This Row],[1]:[31]],$AL$5) -> 0
B30: SAVARIT André | AC30: G2 | AD30: G2 | AE30: G2 | AH30: =COUNTIF(Fevrier[[#This Row],[1]:[31]],$AH$5) -> 0 | AI30: =COUNTIF(Fevrier[[#This Row],[1]:[31]],$AI$4)+COUNTIF(Fevrier[[#This Row],[1]:[31]],$AI$5) -> 3 | AJ30: =COUNTIF(Fevrier[[#This Row],[1]:[31]],$AJ$5) -> 0 | AK30: =COUNTIF(Fevrier[[#This Row],[1]:[31]],$AK$5) -> 0 | AL30: =COUNTIF(Fevrier[[#This Row],[1]:[31]],$AL$5) -> 0
B31: SAVARIT David | H31: G2 | I31: G2 | J31: G2 | AH31: =COUNTIF(Fevrier[[#This Row],[1]:[31]],$AH$5) -> 0 | AI31: =COUNTIF(Fevrier[[#This Row],[1]:[31]],$AI$4)+COUNTIF(Fevrier[[#This Row],[1]:[31]],$AI$5) -> 3 | AJ31: =COUNTIF(Fevrier[[#This Row],[1]:[31]],$AJ$5) -> 0 | AK31: =COUNTIF(Fevrier[[#This Row],[1]:[31]],$AK$5) -> 0 | AL31: =COUNTIF(Fevrier[[#This Row],[1]:[31]],$AL$5) -> 0
B32: THOMAS Karl | D32: FS | E32: FS | F32: FS | G32: FS | H32: FS | AF32: FS | AH32: =COUNTIF(Fevrier[[#This Row],[1]:[31]],$AH$5) -> 0 | AI32: =COUNTIF(Fevrier[[#This Row],[1]:[31]],$AI$4)+COUNTIF(Fevrier[[#This Row],[1]:[31]],$AI$5) -> 0 | AJ32: =COUNTIF(Fevrier[[#This Row],[1]:[31]],$AJ$5) -> 6 | AK32: =COUNTIF(Fevrier[[#This Row],[1]:[31]],$AK$5) -> 0 | AL32: =COUNTIF(Fevrier[[#This Row],[1]:[31]],$AL$5) -> 0
B33: VAVASSEUR Célia | H33: G2 | I33: G2 | J33: G2 | AH33: =COUNTIF(Fevrier[[#This Row],[1]:[31]],$AH$5) -> 0 | AI33: =COUNTIF(Fevrier[[#This Row],[1]:[31]],$AI$4)+COUNTIF(Fevrier[[#This Row],[1]:[31]],$AI$5) -> 3 | AJ33: =COUNTIF(Fevrier[[#This Row],[1]:[31]],$AJ$5) -> 0 | AK33: =COUNTIF(Fevrier[[#This Row],[1]:[31]],$AK$5) -> 0 | AL33: =COUNTIF(Fevrier[[#This Row],[1]:[31]],$AL$5) -> 0
B34: 28 | AH34: =COUNTIF(Fevrier[[#This Row],[1]:[31]],$AH$5) -> 0 | AI34: =COUNTIF(Fevrier[[#This Row],[1]:[31]],$AI$4)+COUNTIF(Fevrier[[#This Row],[1]:[31]],$AI$5) -> 0 | AJ34: =COUNTIF(Fevrier[[#This Row],[1]:[31]],$AJ$5) -> 0 | AK34: =COUNTIF(Fevrier[[#This Row],[1]:[31]],$AK$5) -> 0 | AL34: =COUNTIF(Fevrier[[#This Row],[1]:[31]],$AL$5) -> 0
B35: 29 | AH35: =COUNTIF(Fevrier[[#This Row],[1]:[31]],$AH$5) -> 0 | AI35: =COUNTIF(Fevrier[[#This Row],[1]:[31]],$AI$4)+COUNTIF(Fevrier[[#This Row],[1]:[31]],$AI$5) -> 0 | AJ35: =COUNTIF(Fevrier[[#This Row],[1]:[31]],$AJ$5) -> 0 | AK35: =COUNTIF(Fevrier[[#This Row],[1]:[31]],$AK$5) -> 0 | AL35: =COUNTIF(Fevrier[[#This Row],[1]:[31]],$AL$5) -> 0
B36: 30 | V36: M | W36: M | X36: M | Y36: M | Z36: M | AA36: M | AB36: M | AC36: M | AD36: M | AH36: =COUNTIF(Fevrier[[#This Row],[1]:[31]],$AH$5) -> 0 | AI36: =COUNTIF(Fevrier[[#This Row],[1]:[31]],$AI$4)+COUNTIF(Fevrier[[#This Row],[1]:[31]],$AI$5) -> 0 | AJ36: =COUNTIF(Fevrier[[#This Row],[1]:[31]],$AJ$5) -> 0 | AK36: =COUNTIF(Fevrier[[#This Row],[1]:[31]],$AK$5) -> 0 | AL36: =COUNTIF(Fevrier[[#This Row],[1]:[31]],$AL$5) -> 9
AH37: =SUM(AH7:AH36) -> 14 | AI37: =SUM(AI7:AI36) -> 60 | AJ37: =SUM(AJ7:AJ36) -> 17 | AK37: =SUM(AK7:AK36) -> 31 | AL37: =SUM(AL7:AL36) -> 9

Sheet Mars
B1: Calendrier des gardes et absences des employés
B2: Légende | C2: C | D2: Congés | F2: G1 | G2: Gardes 1 | J2: G2 | K2: Gardes 2 | M2: FS | N2: Formations/Stages | R2: A | S2: Absences | X2: Férié | AB2: M | AC2: Maladie
AH3: Année :
B4: Mars | C4: Dates | AH4: =Janvier!AH4 -> 2023 | AI4: G2
C5: =DATE(AnnéeCalendrier,2,1) -> 44958 | D5: =C5+1 -> 44959 | E5: =D5+1 -> 44960 | F5: =E5+1 -> 44961 | G5: =F5+1 -> 44962 | H5: =G5+1 -> 44963 | I5: =H5+1 -> 44964 | J5: =I5+1 -> 44965 | K5: =J5+1 -> 44966 | ... AG5: =AF5+1 -> 44988 | AH5: C | AI5: G1 | AJ5: FS | AK5: A | AL5: M
B6: Nom de l’employé | C6: 1 | D6: 2 | E6: 3 | F6: 4 | G6: 5 | H6: 6 | I6: 7 | J6: 8 | K6: 9 | L6: 10 | M6: 11 | N6: 12 | O6: 13 | P6: 14 | Q6: 15 | R6: 16 | S6: 17 | T6: 18 | U6: 19 | V6: 20 | W6: 21 | X6: 22 | Y6: 23 | Z6: 24 | AA6: 25 | AB6: 26 | AC6: 27 | AD6: 28 | AE6: 29 | AF6: 30 | AG6: 31 | AH6: Congés | AI6: Gardes | AJ6: Formations Stages | AK6: Absences | AL6: Maladie
B7: BONNEFOND Manon | AH7: =COUNTIF(Mars[[#This Row],[1]:[31]],$AH$5) -> 0 | AI7: =COUNTIF(Mars[[#This Row],[1]:[31]],$AI$4)+COUNTIF(Mars[[#This Row],[1]:[31]],$AI$5) -> 0 | AJ7: =COUNTIF(Mars[[#This Row],[1]:[31]],$AJ$5) -> 0 | AK7: =COUNTIF(Mars[[#This Row],[1]:[31]],$AK$5) -> 0 | AL7: =COUNTIF(Mars[[#This Row],[1]:[31]],$AL$5) -> 0
B8: CABANNES Emile | H8: G1 | I8: G1 | J8: G1 | AC8: G1 | AD8: G1 | AE8: G1 | AH8: =COUNTIF(Mars[[#This Row],[1]:[31]],$AH$5) -> 0 | AI8: =COUNTIF(Mars[[#This Row],[1]:[31]],$AI$4)+COUNTIF(Mars[[#This Row],[1]:[31]],$AI$5) -> 6 | AJ8: =COUNTIF(Mars[[#This Row],[1]:[31]],$AJ$5) -> 0 | AK8: =COUNTIF(Mars[[#This Row],[1]:[31]],$AK$5) -> 0 | AL8: =COUNTIF(Mars[[#This Row],[1]:[31]],$AL$5) -> 0
B9: CHAZEAUD Anita | AH9: =COUNTIF(Mars[[#This Row],[1]:[31]],$AH$5) -> 0 | AI9: =COUNTIF(Mars[[#This Row],[1]:[31]],$AI$4)+COUNTIF(Mars[[#This Row],[1]:[31]],$AI$5) -> 0 | AJ9: =COUNTIF(Mars[[#This Row],[1]:[31]],$AJ$5) -> 0 | AK9: =COUNTIF(Mars[[#This Row],[1]:[31]],$AK$5) -> 0 | AL9: =COUNTIF(Mars[[#This Row],[1]:[31]],$AL$5) -> 0
B10: CASTANG Jean-Claude | AH10: =COUNTIF(Mars[[#This Row],[1]:[31]],$AH$5) -> 0 | AI10: =COUNTIF(Mars[[#This Row],[1]:[31]],$AI$4)+COUNTIF(Mars[[#This Row],[1]:[31]],$AI$5) -> 0 | AJ10: =COUNTIF(Mars[[#This Row],[1]:[31]],$AJ$5) -> 0 | AK10: =COUNTIF(Mars[[#This Row],[1]:[31]],$AK$5) -> 0 | AL10: =COUNTIF(Mars[[#This Row],[1]:[31]],$AL$5) -> 0
B11: DA SILVA Marc | C11: G2 | R11: G1 | S11: G1 | T11: G1 | U11: G1 | V11: G1 | W11: G1 | X11: G1 | AH11: =COUNTIF(Mars[[#This Row],[1]:[31]],$AH$5) -> 0 | AI11: =COUNTIF(Mars[[#This Row],[1]:[31]],$AI$4)+COUNTIF(Mars[[#This Row],[1]:[31]],$AI$5) -> 8 | AJ11: =COUNTIF(Mars[[#This Row],[1]:[31]],$AJ$5) -> 0 | AK11: =COUNTIF(Mars[[#This Row],[1]:[31]],$AK$5) -> 0 | AL11: =COUNTIF(Mars[[#This Row],[1]:[31]],$AL$5) -> 0
B12: DERACO Philippe | O12: G1 | P12: G1 | Q12: G1 | AH12: =COUNTIF(Mars[[#This Row],[1]:[31]],$AH$5) -> 0 | AI12: =COUNTIF(Mars[[#This Row],[1]:[31]],$AI$4)+COUNTIF(Mars[[#This Row],[1]:[31]],$AI$5) -> 3 | AJ12: =COUNTIF(Mars[[#This Row],[1]:[31]],$AJ$5) -> 0 | AK12: =COUNTIF(Mars[[#This Row],[1]:[31]],$AK$5) -> 0 | AL12: =COUNTIF(Mars[[#This Row],[1]:[31]],$AL$5) -> 0
B13: DURAN Alexandre | AH13: =COUNTIF(Mars[[#This Row],[1]:[31]],$AH$5) -> 0 | AI13: =COUNTIF(Mars[[#This Row],[1]:[31]],$AI$4)+COUNTIF(Mars[[#This Row],[1]:[31]],$AI$5) -> 0 | AJ13: =COUNTIF(Mars[[#This Row],[1]:[31]],$AJ$5) -> 0 | AK13: =COUNTIF(Mars[[#This Row],[1]:[31]],$AK$5) -> 0 | AL13: =COUNTIF(Mars[[#This Row],[1]:[31]],$AL$5) -> 0
B14: FAGETTE Philippe | AH14: =COUNTIF(Mars[[#This Row],[1]:[31]],$AH$5) -> 0 | AI14: =COUNTIF(Mars[[#This Row],[1]:[31]],$AI$4)+COUNTIF(Mars[[#This Row],[1]:[31]],$AI$5) -> 0 | AJ14: =COUNTIF(Mars[[#This Row],[1]:[31]],$AJ$5) -> 0 | AK14: =COUNTIF(Mars[[#This Row],[1]:[31]],$AK$5) -> 0 | AL14: =COUNTIF(Mars[[#This Row],[1]:[31]],$AL$5) -> 0
B15: FRANCOIS Jean-Paul | AH15: =COUNTIF(Mars[[#This Row],[1]:[31]],$AH$5) -> 0 | AI15: =COUNTIF(Mars[[#This Row],[1]:[31]],$AI$4)+COUNTIF(Mars[[#This Row],[1]:[31]],$AI$5) -> 0 | AJ15: =COUNTIF(Mars[[#This Row],[1]:[31]],$AJ$5) -> 0 | AK15: =COUNTIF(Mars[[#This Row],[1]:[31]],$AK$5) -> 0 | AL15: =COUNTIF(Mars[[#This Row],[1]:[31]],$AL$5) -> 0
B16: FRANCOIS Mathéo | D16: FS | E16: FS | F16: FS | G16: FS | H16: FS | Y16: FS | Z16: FS | AA16: FS | AB16: FS | AC16: FS | AH16: =COUNTIF(Mars[[#This Row],[1]:[31]],$AH$5) -> 0 | AI16: =COUNTIF(Mars[[#This Row],[1]:[31]],$AI$4)+COUNTIF(Mars[[#This Row],[1]:[31]],$AI$5) -> 0 | AJ16: =COUNTIF(Mars[[#This Row],[1]:[31]],$AJ$5) -> 10 | AK16: =COUNTIF(Mars[[#This Row],[1]:[31]],$AK$5) -> 0 | AL16: =COUNTIF(Mars[[#This Row],[1]:[31]],$AL$5) -> 0
B17: FONDIN Patrice | AH17: =COUNTIF(Mars[[#This Row],[1]:[31]],$AH$5) -> 0 | AI17: =COUNTIF(Mars[[#This Row],[1]:[31]],$AI$4)+COUNTIF(Mars[[#This Row],[1]:[31]],$AI$5) -> 0 | AJ17: =COUNTIF(Mars[[#This Row],[1]:[31]],$AJ$5) -> 0 | AK17: =COUNTIF(Mars[[#This Row],[1]:[31]],$AK$5) -> 0 | AL17: =COUNTIF(Mars[[#This Row],[1]:[31]],$AL$5) -> 0
B18: GRIVOIS Nicolas | C18: G1 | R18: G1 | S18: G1 | T18: G1 | U18: G1 | V18: G1 | W18: G1 | X18: G1 | AH18: =COUNTIF(Mars[[#This Row],[1]:[31]],$AH$5) -> 0 | AI18: =COUNTIF(Mars[[#This Row],[1]:[31]],$AI$4)+COUNTIF(Mars[[#This Row],[1]:[31]],$AI$5) -> 8 | AJ18: =COUNTIF(Mars[[#This Row],[1]:[31]],$AJ$5) -> 0 | AK18: =COUNTIF(Mars[[#This Row],[1]:[31]],$AK$5) -> 0 | AL18: =COUNTIF(Mars[[#This Row],[1]:[31]],$AL$5) -> 0
B19: LAFAYE Marion | C19: A | D19: A | E19: A | F19: A | G19: A | H19: A | I19: A | J19: A | K19: A | L19: A | M19: A | N19: A | O19: A | P19: A | Q19: A | R19: A | S19: A | T19: A | U19: A | V19: A | W19: A | X19: A | Y19: A | Z19: A | AA19: A | AB19: A | AC19: A | AD19: A | AE19: A | AF19: A | AG19: A | AH19: =COUNTIF(Mars[[#This Row],[1]:[31]],$AH$5) -> 0 | AI19: =COUNTIF(Mars[[#This Row],[1]:[31]],$AI$4)+COUNTIF(Mars[[#This Row],[1]:[31]],$AI$5) -> 0 | AJ19: =COUNTIF(Mars[[#This Row],[1]:[31]],$AJ$5) -> 0 | AK19: =COUNTIF(Mars[[#This Row],[1]:[31]],$AK$5) -> 31 | AL19: =COUNTIF(Mars[[#This Row],[1]:[31]],$AL$5) -> 0
B20: MARCHE Philippe | O20: G2 | P20: G2 | Q20: G2 | AF20: FS | AH20: =COUNTIF(Mars[[#This Row],[1]:[31]],$AH$5) -> 0 | AI20: =COUNTIF(Mars[[#This Row],[1]:[31]],$AI$4)+COUNTIF(Mars[[#This Row],[1]:[31]],$AI$5) -> 3 | AJ20: =COUNTIF(Mars[[#This Row],[1]:[31]],$AJ$5) -> 1 | AK20: =COUNTIF(Mars[[#This Row],[1]:[31]],$AK$5) -> 0 | AL20: =COUNTIF(Mars[[#This Row],[1]:[31]],$AL$5) -> 0
B21: MARTIAL Jean-Luc | C21: G1 | D21: C | E21: C | F21: C | G21: C | H21: C | I21: C | J21: C | K21: C | L21: C | M21: C | N21: C | O21: C | P21: C | Q21: C | AH21: =COUNTIF(Mars[[#This Row],[1]:[31]],$AH$5) -> 14 | AI21: =COUNTIF(Mars[[#This Row],[1]:[31]],$AI$4)+COUNTIF(Mars[[#This Row],[1]:[31]],$AI$5) -> 1 | AJ21: =COUNTIF(Mars[[#This Row],[1]:[31]],$AJ$5) -> 0 | AK21: =COUNTIF(Mars[[#This Row],[1]:[31]],$AK$5) -> 0 | AL21: =COUNTIF(Mars[[#This Row],[1]:[31]],$AL$5) -> 0
B22: MENARD Martial | AH22: =COUNTIF(Mars[[#This Row],[1]:[31]],$AH$5) -> 0 | AI22: =COUNTIF(Mars[[#This Row],[1]:[31]],$AI$4)+COUNTIF(Mars[[#This Row],[1]:[31]],$AI$5) -> 0 | AJ22: =COUNTIF(Mars[[#This Row],[1]:[31]],$AJ$5) -> 0 | AK22: =COUNTIF(Mars[[#This Row],[1]:[31]],$AK$5) -> 0 | AL22: =COUNTIF(Mars[[#This Row],[1]:[31]],$AL$5) -> 0
B23: NOEL Didier | AC23: G1 | AD23: G1 | AE23: G1 | AH23: =COUNTIF(Mars[[#This Row],[1]:[31]],$AH$5) -> 0 | AI23: =COUNTIF(Mars[[#This Row],[1]:[31]],$AI$4)+COUNTIF(Mars[[#This Row],[1]:[31]],$AI$5) -> 3 | AJ23: =COUNTIF(Mars[[#This Row],[1]:[31]],$AJ$5) -> 0 | AK23: =COUNTIF(Mars[[#This Row],[1]:[31]],$AK$5) -> 0 | AL23: =COUNTIF(Mars[[#This Row],[1]:[31]],$AL$5) -> 0
B24: NORMAND Christian | AH24: =COUNTIF(Mars[[#This Row],[1]:[31]],$AH$5) -> 0 | AI24: =COUNTIF(Mars[[#This Row],[1]:[31]],$AI$4)+COUNTIF(Mars[[#This Row],[1]:[31]],$AI$5) -> 0 | AJ24: =COUNTIF(Mars[[#This Row],[1]:[31]],$AJ$5) -> 0 | AK24: =COUNTIF(Mars[[#This Row],[1]:[31]],$AK$5) -> 0 | AL24: =COUNTIF(Mars[[#This Row],[1]:[31]],$AL$5) -> 0
B25: PARAT Alex | H25: G1 | I25: G1 | J25: G1 | AH25: =COUNTIF(Mars[[#This Row],[1]:[31]],$AH$5) -> 0 | AI25: =COUNTIF(Mars[[#This Row],[1]:[31]],$AI$4)+COUNTIF(Mars[[#This Row],[1]:[31]],$AI$5) -> 3 | AJ25: =COUNTIF(Mars[[#This Row],[1]:[31]],$AJ$5) -> 0 | AK25: =COUNTIF(Mars[[#This Row],[1]:[31]],$AK$5) -> 0 | AL25: =COUNTIF(Mars[[#This Row],[1]:[31]],$AL$5) -> 0
B26: PICAUD Carine | O26: G1 | P26: G1 | Q26: G1 | AC26: G2 | AD26: G2 | AE26: G2 | AH26: =COUNTIF(Mars[[#This Row],[1]:[31]],$AH$5) -> 0 | AI26: =COUNTIF(Mars[[#This Row],[1]:[31]],$AI$4)+COUNTIF(Mars[[#This Row],[1]:[31]],$AI$5) -> 6 | AJ26: =COUNTIF(Mars[[#This Row],[1]:[31]],$AJ$5) -> 0 | AK26: =COUNTIF(Mars[[#This Row],[1]:[31]],$AK$5) -> 0 | AL26: =COUNTIF(Mars[[#This Row],[1]:[31]],$AL$5) -> 0
B27: RIBEIRO Rui | V27: G2 | W27: G2 | X27: G2 | AH27: =COUNTIF(Mars[[#This Row],[1]:[31]],$AH$5) -> 0 | AI27: =COUNTIF(Mars[[#This Row],[1]:[31]],$AI$4)+COUNTIF(Mars[[#This Row],[1]:[31]],$AI$5) -> 3 | AJ27: =COUNTIF(Mars[[#This Row],[1]:[31]],$AJ$5) -> 0 | AK27: =COUNTIF(Mars[[#This Row],[1]:[31]],$AK$5) -> 0 | AL27: =COUNTIF(Mars[[#This Row],[1]:[31]],$AL$5) -> 0
B28: RIGAL Pauline | O28: G2 | P28: G2 | Q28: G2 | AH28: =COUNTIF(Mars[[#This Row],[1]:[31]],$AH$5) -> 0 | AI28: =COUNTIF(Mars[[#This Row],[1]:[31]],$AI$4)+COUNTIF(Mars[[#This Row],[1]:[31]],$AI$5) -> 3 | AJ28: =COUNTIF(Mars[[#This Row],[1]:[31]],$AJ$5) -> 0 | AK28: =COUNTIF(Mars[[#This Row],[1]:[31]],$AK$5) -> 0 | AL28: =COUNTIF(Mars[[#This Row],[1]:[31]],$AL$5) -> 0
B29: ROUGIER Stéphanie | C29: G2 | V29: G2 | W29: G2 | X29: G2 | AH29: =COUNTIF(Mars[[#This Row],[1]:[31]],$AH$5) -> 0 | AI29: =COUNTIF(Mars[[#This Row],[1]:[31]],$AI$4)+COUNTIF(Mars[[#This Row],[1]:[31]],$AI$5) -> 4 | AJ29: =COUNTIF(Mars[[#This Row],[1]:[31]],$AJ$5) -> 0 | AK29: =COUNTIF(Mars[[#This Row],[1]:[31]],$AK$5) -> 0 | AL29: =COUNTIF(Mars[[#This Row],[1]:[31]],$AL$5) -> 0
B30: SAVARIT André | AC30: G2 | AD30: G2 | AE30: G2 | AH30: =COUNTIF(Mars[[#This Row],[1]:[31]],$AH$5) -> 0 | AI30: =COUNTIF(Mars[[#This Row],[1]:[31]],$AI$4)+COUNTIF(Mars[[#This Row],[1]:[31]],$AI$5) -> 3 | AJ30: =COUNTIF(Mars[[#This Row],[1]:[31]],$AJ$5) -> 0 | AK30: =COUNTIF(Mars[[#This Row],[1]:[31]],$AK$5) -> 0 | AL30: =COUNTIF(Mars[[#This Row],[1]:[31]],$AL$5) -> 0
B31: SAVARIT David | H31: G2 | I31: G2 | J31: G2 | AH31: =COUNTIF(Mars[[#This Row],[1]:[31]],$AH$5) -> 0 | AI31: =COUNTIF(Mars[[#This Row],[1]:[31]],$AI$4)+COUNTIF(Mars[[#This Row],[1]:[31]],$AI$5) -> 3 | AJ31: =COUNTIF(Mars[[#This Row],[1]:[31]],$AJ$5) -> 0 | AK31: =COUNTIF(Mars[[#This Row],[1]:[31]],$AK$5) -> 0 | AL31: =COUNTIF(Mars[[#This Row],[1]:[31]],$AL$5) -> 0
B32: THOMAS Karl | D32: FS | E32: FS | F32: FS | G32: FS | H32: FS | AF32: FS | AH32: =COUNTIF(Mars[[#This Row],[1]:[31]],$AH$5) -> 0 | AI32: =COUNTIF(Mars[[#This Row],[1]:[31]],$AI$4)+COUNTIF(Mars[[#This Row],[1]:[31]],$AI$5) -> 0 | AJ32: =COUNTIF(Mars[[#This Row],[1]:[31]],$AJ$5) -> 6 | AK32: =COUNTIF(Mars[[#This Row],[1]:[31]],$AK$5) -> 0 | AL32: =COUNTIF(Mars[[#This Row],[1]:[31]],$AL$5) -> 0
B33: VAVASSEUR Célia | H33: G2 | I33: G2 | J33: G2 | AH33: =COUNTIF(Mars[[#This Row],[1]:[31]],$AH$5) -> 0 | AI33: =COUNTIF(Mars[[#This Row],[1]:[31]],$AI$4)+COUNTIF(Mars[[#This Row],[1]:[31]],$AI$5) -> 3 | AJ33: =COUNTIF(Mars[[#This Row],[1]:[31]],$AJ$5) -> 0 | AK33: =COUNTIF(Mars[[#This Row],[1]:[31]],$AK$5) -> 0 | AL33: =COUNTIF(Mars[[#This Row],[1]:[31]],$AL$5) -> 0
B34: 28 | AH34: =COUNTIF(Mars[[#This Row],[1]:[31]],$AH$5) -> 0 | AI34: =COUNTIF(Mars[[#This Row],[1]:[31]],$AI$4)+COUNTIF(Mars[[#This Row],[1]:[31]],$AI$5) -> 0 | AJ34: =COUNTIF(Mars[[#This Row],[1]:[31]],$AJ$5) -> 0 | AK34: =COUNTIF(Mars[[#This Row],[1]:[31]],$AK$5) -> 0 | AL34: =COUNTIF(Mars[[#This Row],[1]:[31]],$AL$5) -> 0
B35: 29 | AH35: =COUNTIF(Mars[[#This Row],[1]:[31]],$AH$5) -> 0 | AI35: =COUNTIF(Mars[[#This Row],[1]:[31]],$AI$4)+COUNTIF(Mars[[#This Row],[1]:[31]],$AI$5) -> 0 | AJ35: =COUNTIF(Mars[[#This Row],[1]:[31]],$AJ$5) -> 0 | AK35: =COUNTIF(Mars[[#This Row],[1]:[31]],$AK$5) -> 0 | AL35: =COUNTIF(Mars[[#This Row],[1]:[31]],$AL$5) -> 0
B36: 30 | V36: M | W36: M | X36: M | Y36: M | Z36: M | AA36: M | AB36: M | AC36: M | AD36: M | AH36: =COUNTIF(Mars[[#This Row],[1]:[31]],$AH$5) -> 0 | AI36: =COUNTIF(Mars[[#This Row],[1]:[31]],$AI$4)+COUNTIF(Mars[[#This Row],[1]:[31]],$AI$5) -> 0 | AJ36: =COUNTIF(Mars[[#This Row],[1]:[31]],$AJ$5) -> 0 | AK36: =COUNTIF(Mars[[#This Row],[1]:[31]],$AK$5) -> 0 | AL36: =COUNTIF(Mars[[#This Row],[1]:[31]],$AL$5) -> 9
AH37: =SUM(AH7:AH36) -> 14 | AI37: =SUM(AI7:AI36) -> 60 | AJ37: =SUM(AJ7:AJ36) -> 17 | AK37: =SUM(AK7:AK36) -> 31 | AL37: =SUM(AL7:AL36) -> 9

Sheet Avril
B1: Calendrier des gardes et absences des employés
B2: Légende | C2: C | D2: Congés | F2: G1 | G2: Gardes 1 | J2: G2 | K2: Gardes 2 | M2: FS | N2: Formations/Stages | R2: A | S2: Absences | X2: Férié | AB2: M | AC2: Maladie
AH3: Année :
B4: Avril | C4: Dates | AH4: =Janvier!AH4 -> 2023 | AI4: G2
C5: =DATE(AnnéeCalendrier,2,1) -> 44958 | D5: =C5+1 -> 44959 | E5: =D5+1 -> 44960 | F5: =E5+1 -> 44961 | G5: =F5+1 -> 44962 | H5: =G5+1 -> 44963 | I5: =H5+1 -> 44964 | J5: =I5+1 -> 44965 | K5: =J5+1 -> 44966 | ... AG5: =AF5+1 -> 44988 | AH5: C | AI5: G1 | AJ5: FS | AK5: A | AL5: M
B6: Nom de l’employé | C6: 1 | D6: 2 | E6: 3 | F6: 4 | G6: 5 | H6: 6 | I6: 7 | J6: 8 | K6: 9 | L6: 10 | M6: 11 | N6: 12 | O6: 13 | P6: 14 | Q6: 15 | R6: 16 | S6: 17 | T6: 18 | U6: 19 | V6: 20 | W6: 21 | X6: 22 | Y6: 23 | Z6: 24 | AA6: 25 | AB6: 26 | AC6: 27 | AD6: 28 | AE6: 29 | AF6: 30 | AG6: 31 | AH6: Congés | AI6: Gardes | AJ6: Formations Stages | AK6: Absences | AL6: Maladie
B7: BONNEFOND Manon | AH7: =COUNTIF(Avril[[#This Row],[1]:[31]],$AH$5) -> 0 | AI7: =COUNTIF(Avril[[#This Row],[1]:[31]],$AI$4)+COUNTIF(Avril[[#This Row],[1]:[31]],$AI$5) -> 0 | AJ7: =COUNTIF(Avril[[#This Row],[1]:[31]],$AJ$5) -> 0 | AK7: =COUNTIF(Avril[[#This Row],[1]:[31]],$AK$5) -> 0 | AL7: =COUNTIF(Avril[[#This Row],[1]:[31]],$AL$5) -> 0
B8: CABANNES Emile | H8: G1 | I8: G1 | J8: G1 | AC8: G1 | AD8: G1 | AE8: G1 | AH8: =COUNTIF(Avril[[#This Row],[1]:[31]],$AH$5) -> 0 | AI8: =COUNTIF(Avril[[#This Row],[1]:[31]],$AI$4)+COUNTIF(Avril[[#This Row],[1]:[31]],$AI$5) -> 6 | AJ8: =COUNTIF(Avril[[#This Row],[1]:[31]],$AJ$5) -> 0 | AK8: =COUNTIF(Avril[[#This Row],[1]:[31]],$AK$5) -> 0 | AL8: =COUNTIF(Avril[[#This Row],[1]:[31]],$AL$5) -> 0
B9: CHAZEAUD Anita | AH9: =COUNTIF(Avril[[#This Row],[1]:[31]],$AH$5) -> 0 | AI9: =COUNTIF(Avril[[#This Row],[1]:[31]],$AI$4)+COUNTIF(Avril[[#This Row],[1]:[31]],$AI$5) -> 0 | AJ9: =COUNTIF(Avril[[#This Row],[1]:[31]],$AJ$5) -> 0 | AK9: =COUNTIF(Avril[[#This Row],[1]:[31]],$AK$5) -> 0 | AL9: =COUNTIF(Avril[[#This Row],[1]:[31]],$AL$5) -> 0
B10: CASTANG Jean-Claude | AH10: =COUNTIF(Avril[[#This Row],[1]:[31]],$AH$5) -> 0 | AI10: =COUNTIF(Avril[[#This Row],[1]:[31]],$AI$4)+COUNTIF(Avril[[#This Row],[1]:[31]],$AI$5) -> 0 | AJ10: =COUNTIF(Avril[[#This Row],[1]:[31]],$AJ$5) -> 0 | AK10: =COUNTIF(Avril[[#This Row],[1]:[31]],$AK$5) -> 0 | AL10: =COUNTIF(Avril[[#This Row],[1]:[31]],$AL$5) -> 0
B11: DA SILVA Marc | C11: G2 | R11: G1 | S11: G1 | T11: G1 | U11: G1 | V11: G1 | W11: G1 | X11: G1 | AH11: =COUNTIF(Avril[[#This Row],[1]:[31]],$AH$5) -> 0 | AI11: =COUNTIF(Avril[[#This Row],[1]:[31]],$AI$4)+COUNTIF(Avril[[#This Row],[1]:[31]],$AI$5) -> 8 | AJ11: =COUNTIF(Avril[[#This Row],[1]:[31]],$AJ$5) -> 0 | AK11: =COUNTIF(Avril[[#This Row],[1]:[31]],$AK$5) -> 0 | AL11: =COUNTIF(Avril[[#This Row],[1]:[31]],$AL$5) -> 0
B12: DERACO Philippe | O12: G1 | P12: G1 | Q12: G1 | AH12: =COUNTIF(Avril[[#This Row],[1]:[31]],$AH$5) -> 0 | AI12: =COUNTIF(Avril[[#This Row],[1]:[31]],$AI$4)+COUNTIF(Avril[[#This Row],[1]:[31]],$AI$5) -> 3 | AJ12: =COUNTIF(Avril[[#This Row],[1]:[31]],$AJ$5) -> 0 | AK12: =COUNTIF(Avril[[#This Row],[1]:[31]],$AK$5) -> 0 | AL12: =COUNTIF(Avril[[#This Row],[1]:[31]],$AL$5) -> 0
B13: DURAN Alexandre | AH13: =COUNTIF(Avril[[#This Row],[1]:[31]],$AH$5) -> 0 | AI13: =COUNTIF(Avril[[#This Row],[1]:[31]],$AI$4)+COUNTIF(Avril[[#This Row],[1]:[31]],$AI$5) -> 0 | AJ13: =COUNTIF(Avril[[#This Row],[1]:[31]],$AJ$5) -> 0 | AK13: =COUNTIF(Avril[[#This Row],[1]:[31]],$AK$5) -> 0 | AL13: =COUNTIF(Avril[[#This Row],[1]:[31]],$AL$5) -> 0
B14: FAGETTE Philippe | AH14: =COUNTIF(Avril[[#This Row],[1]:[31]],$AH$5) -> 0 | AI14: =COUNTIF(Avril[[#This Row],[1]:[31]],$AI$4)+COUNTIF(Avril[[#This Row],[1]:[31]],$AI$5) -> 0 | AJ14: =COUNTIF(Avril[[#This Row],[1]:[31]],$AJ$5) -> 0 | AK14: =COUNTIF(Avril[[#This Row],[1]:[31]],$AK$5) -> 0 | AL14: =COUNTIF(Avril[[#This Row],[1]:[31]],$AL$5) -> 0
B15: FRANCOIS Jean-Paul | AH15: =COUNTIF(Avril[[#This Row],[1]:[31]],$AH$5) -> 0 | AI15: =COUNTIF(Avril[[#This Row],[1]:[31]],$AI$4)+COUNTIF(Avril[[#This Row],[1]:[31]],$AI$5) -> 0 | AJ15: =COUNTIF(Avril[[#This Row],[1]:[31]],$AJ$5) -> 0 | AK15: =COUNTIF(Avril[[#This Row],[1]:[31]],$AK$5) -> 0 | AL15: =COUNTIF(Avril[[#This Row],[1]:[31]],$AL$5) -> 0
B16: FRANCOIS Mathéo | D16: FS | E16: FS | F16: FS | G16: FS | H16: FS | Y16: FS | Z16: FS | AA16: FS | AB16: FS | AC16: FS | AH16: =COUNTIF(Avril[[#This Row],[1]:[31]],$AH$5) -> 0 | AI16: =COUNTIF(Avril[[#This Row],[1]:[31]],$AI$4)+COUNTIF(Avril[[#This Row],[1]:[31]],$AI$5) -> 0 | AJ16: =COUNTIF(Avril[[#This Row],[1]:[31]],$AJ$5) -> 10 | AK16: =COUNTIF(Avril[[#This Row],[1]:[31]],$AK$5) -> 0 | AL16: =COUNTIF(Avril[[#This Row],[1]:[31]],$AL$5) -> 0
B17: FONDIN Patrice | AH17: =COUNTIF(Avril[[#This Row],[1]:[31]],$AH$5) -> 0 | AI17: =COUNTIF(Avril[[#This Row],[1]:[31]],$AI$4)+COUNTIF(Avril[[#This Row],[1]:[31]],$AI$5) -> 0 | AJ17: =COUNTIF(Avril[[#This Row],[1]:[31]],$AJ$5) -> 0 | AK17: =COUNTIF(Avril[[#This Row],[1]:[31]],$AK$5) -> 0 | AL17: =COUNTIF(Avril[[#This Row],[1]:[31]],$AL$5) -> 0
B18: GRIVOIS Nicolas | C18: G1 | R18: G1 | S18: G1 | T18: G1 | U18: G1 | V18: G1 | W18: G1 | X18: G1 | AH18: =COUNTIF(Avril[[#This Row],[1]:[31]],$AH$5) -> 0 | AI18: =COUNTIF(Avril[[#This Row],[1]:[31]],$AI$4)+COUNTIF(Avril[[#This Row],[1]:[31]],$AI$5) -> 8 | AJ18: =COUNTIF(Avril[[#This Row],[1]:[31]],$AJ$5) -> 0 | AK18: =COUNTIF(Avril[[#This Row],[1]:[31]],$AK$5) -> 0 | AL18: =COUNTIF(Avril[[#This Row],[1]:[31]],$AL$5) -> 0
B19: LAFAYE Marion | C19: A | D19: A | E19: A | F19: A | G19: A | H19: A | I19: A | J19: A | K19: A | L19: A | M19: A | N19: A | O19: A | P19: A | Q19: A | R19: A | S19: A | T19: A | U19: A | V19: A | W19: A | X19: A | Y19: A | Z19: A | AA19: A | AB19: A | AC19: A | AD19: A | AE19: A | AF19: A | AG19: A | AH19: =COUNTIF(Avril[[#This Row],[1]:[31]],$AH$5) -> 0 | AI19: =COUNTIF(Avril[[#This Row],[1]:[31]],$AI$4)+COUNTIF(Avril[[#This Row],[1]:[31]],$AI$5) -> 0 | AJ19: =COUNTIF(Avril[[#This Row],[1]:[31]],$AJ$5) -> 0 | AK19: =COUNTIF(Avril[[#This Row],[1]:[31]],$AK$5) -> 31 | AL19: =COUNTIF(Avril[[#This Row],[1]:[31]],$AL$5) -> 0
B20: MARCHE Philippe | O20: G2 | P20: G2 | Q20: G2 | AF20: FS | AH20: =COUNTIF(Avril[[#This Row],[1]:[31]],$AH$5) -> 0 | AI20: =COUNTIF(Avril[[#This Row],[1]:[31]],$AI$4)+COUNTIF(Avril[[#This Row],[1]:[31]],$AI$5) -> 3 | AJ20: =COUNTIF(Avril[[#This Row],[1]:[31]],$AJ$5) -> 1 | AK20: =COUNTIF(Avril[[#This Row],[1]:[31]],$AK$5) -> 0 | AL20: =COUNTIF(Avril[[#This Row],[1]:[31]],$AL$5) -> 0
B21: MARTIAL Jean-Luc | C21: G1 | D21: C | E21: C | F21: C | G21: C | H21: C | I21: C | J21: C | K21: C | L21: C | M21: C | N21: C | O21: C | P21: C | Q21: C | AH21: =COUNTIF(Avril[[#This Row],[1]:[31]],$AH$5) -> 14 | AI21: =COUNTIF(Avril[[#This Row],[1]:[31]],$AI$4)+COUNTIF(Avril[[#This Row],[1]:[31]],$AI$5) -> 1 | AJ21: =COUNTIF(Avril[[#This Row],[1]:[31]],$AJ$5) -> 0 | AK21: =COUNTIF(Avril[[#This Row],[1]:[31]],$AK$5) -> 0 | AL21: =COUNTIF(Avril[[#This Row],[1]:[31]],$AL$5) -> 0
B22: MENARD Martial | AH22: =COUNTIF(Avril[[#This Row],[1]:[31]],$AH$5) -> 0 | AI22: =COUNTIF(Avril[[#This Row],[1]:[31]],$AI$4)+COUNTIF(Avril[[#This Row],[1]:[31]],$AI$5) -> 0 | AJ22: =COUNTIF(Avril[[#This Row],[1]:[31]],$AJ$5) -> 0 | AK22: =COUNTIF(Avril[[#This Row],[1]:[31]],$AK$5) -> 0 | AL22: =COUNTIF(Avril[[#This Row],[1]:[31]],$AL$5) -> 0
B23: NOEL Didier | AC23: G1 | AD23: G1 | AE23: G1 | AH23: =COUNTIF(Avril[[#This Row],[1]:[31]],$AH$5) -> 0 | AI23: =COUNTIF(Avril[[#This Row],[1]:[31]],$AI$4)+COUNTIF(Avril[[#This Row],[1]:[31]],$AI$5) -> 3 | AJ23: =COUNTIF(Avril[[#This Row],[1]:[31]],$AJ$5) -> 0 | AK23: =COUNTIF(Avril[[#This Row],[1]:[31]],$AK$5) -> 0 | AL23: =COUNTIF(Avril[[#This Row],[1]:[31]],$AL$5) -> 0
B24: NORMAND Christian | AH24: =COUNTIF(Avril[[#This Row],[1]:[31]],$AH$5) -> 0 | AI24: =COUNTIF(Avril[[#This Row],[1]:[31]],$AI$4)+COUNTIF(Avril[[#This Row],[1]:[31]],$AI$5) -> 0 | AJ24: =COUNTIF(Avril[[#This Row],[1]:[31]],$AJ$5) -> 0 | AK24: =COUNTIF(Avril[[#This Row],[1]:[31]],$AK$5) -> 0 | AL24: =COUNTIF(Avril[[#This Row],[1]:[31]],$AL$5) -> 0
B25: PARAT Alex | H25: G1 | I25: G1 | J25: G1 | AH25: =COUNTIF(Avril[[#This Row],[1]:[31]],$AH$5) -> 0 | AI25: =COUNTIF(Avril[[#This Row],[1]:[31]],$AI$4)+COUNTIF(Avril[[#This Row],[1]:[31]],$AI$5) -> 3 | AJ25: =COUNTIF(Avril[[#This Row],[1]:[31]],$AJ$5) -> 0 | AK25: =COUNTIF(Avril[[#This Row],[1]:[31]],$AK$5) -> 0 | AL25: =COUNTIF(Avril[[#This Row],[1]:[31]],$AL$5) -> 0
B26: PICAUD Carine | O26: G1 | P26: G1 | Q26: G1 | AC26: G2 | AD26: G2 | AE26: G2 | AH26: =COUNTIF(Avril[[#This Row],[1]:[31]],$AH$5) -> 0 | AI26: =COUNTIF(Avril[[#This Row],[1]:[31]],$AI$4)+COUNTIF(Avril[[#This Row],[1]:[31]],$AI$5) -> 6 | AJ26: =COUNTIF(Avril[[#This Row],[1]:[31]],$AJ$5) -> 0 | AK26: =COUNTIF(Avril[[#This Row],[1]:[31]],$AK$5) -> 0 | AL26: =COUNTIF(Avril[[#This Row],[1]:[31]],$AL$5) -> 0
B27: RIBEIRO Rui | V27: G2 | W27: G2 | X27: G2 | AH27: =COUNTIF(Avril[[#This Row],[1]:[31]],$AH$5) -> 0 | AI27: =COUNTIF(Avril[[#This Row],[1]:[31]],$AI$4)+COUNTIF(Avril[[#This Row],[1]:[31]],$AI$5) -> 3 | AJ27: =COUNTIF(Avril[[#This Row],[1]:[31]],$AJ$5) -> 0 | AK27: =COUNTIF(Avril[[#This Row],[1]:[31]],$AK$5) -> 0 | AL27: =COUNTIF(Avril[[#This Row],[1]:[31]],$AL$5) -> 0
B28: RIGAL Pauline | O28: G2 | P28: G2 | Q28: G2 | AH28: =COUNTIF(Avril[[#This Row],[1]:[31]],$AH$5) -> 0 | AI28: =COUNTIF(Avril[[#This Row],[1]:[31]],$AI$4)+COUNTIF(Avril[[#This Row],[1]:[31]],$AI$5) -> 3 | AJ28: =COUNTIF(Avril[[#This Row],[1]:[31]],$AJ$5) -> 0 | AK28: =COUNTIF(Avril[[#This Row],[1]:[31]],$AK$5) -> 0 | AL28: =COUNTIF(Avril[[#This Row],[1]:[31]],$AL$5) -> 0
B29: ROUGIER Stéphanie | C29: G2 | V29: G2 | W29: G2 | X29: G2 | AH29: =COUNTIF(Avril[[#This Row],[1]:[31]],$AH$5) -> 0 | AI29: =COUNTIF(Avril[[#This Row],[1]:[31]],$AI$4)+COUNTIF(Avril[[#This Row],[1]:[31]],$AI$5) -> 4 | AJ29: =COUNTIF(Avril[[#This Row],[1]:[31]],$AJ$5) -> 0 | AK29: =COUNTIF(Avril[[#This Row],[1]:[31]],$AK$5) -> 0 | AL29: =COUNTIF(Avril[[#This Row],[1]:[31]],$AL$5) -> 0
B30: SAVARIT André | AC30: G2 | AD30: G2 | AE30: G2 | AH30: =COUNTIF(Avril[[#This Row],[1]:[31]],$AH$5) -> 0 | AI30: =COUNTIF(Avril[[#This Row],[1]:[31]],$AI$4)+COUNTIF(Avril[[#This Row],[1]:[31]],$AI$5) -> 3 | AJ30: =COUNTIF(Avril[[#This Row],[1]:[31]],$AJ$5) -> 0 | AK30: =COUNTIF(Avril[[#This Row],[1]:[31]],$AK$5) -> 0 | AL30: =COUNTIF(Avril[[#This Row],[1]:[31]],$AL$5) -> 0
B31: SAVARIT David | H31: G2 | I31: G2 | J31: G2 | AH31: =COUNTIF(Avril[[#This Row],[1]:[31]],$AH$5) -> 0 | AI31: =COUNTIF(Avril[[#This Row],[1]:[31]],$AI$4)+COUNTIF(Avril[[#This Row],[1]:[31]],$AI$5) -> 3 | AJ31: =COUNTIF(Avril[[#This Row],[1]:[31]],$AJ$5) -> 0 | AK31: =COUNTIF(Avril[[#This Row],[1]:[31]],$AK$5) -> 0 | AL31: =COUNTIF(Avril[[#This Row],[1]:[31]],$AL$5) -> 0
B32: THOMAS Karl | D32: FS | E32: FS | F32: FS | G32: FS | H32: FS | AF32: FS | AH32: =COUNTIF(Avril[[#This Row],[1]:[31]],$AH$5) -> 0 | AI32: =COUNTIF(Avril[[#This Row],[1]:[31]],$AI$4)+COUNTIF(Avril[[#This Row],[1]:[31]],$AI$5) -> 0 | AJ32: =COUNTIF(Avril[[#This Row],[1]:[31]],$AJ$5) -> 6 | AK32: =COUNTIF(Avril[[#This Row],[1]:[31]],$AK$5) -> 0 | AL32: =COUNTIF(Avril[[#This Row],[1]:[31]],$AL$5) -> 0
B33: VAVASSEUR Célia | H33: G2 | I33: G2 | J33: G2 | AH33: =COUNTIF(Avril[[#This Row],[1]:[31]],$AH$5) -> 0 | AI33: =COUNTIF(Avril[[#This Row],[1]:[31]],$AI$4)+COUNTIF(Avril[[#This Row],[1]:[31]],$AI$5) -> 3 | AJ33: =COUNTIF(Avril[[#This Row],[1]:[31]],$AJ$5) -> 0 | AK33: =COUNTIF(Avril[[#This Row],[1]:[31]],$AK$5) -> 0 | AL33: =COUNTIF(Avril[[#This Row],[1]:[31]],$AL$5) -> 0
B34: 28 | AH34: =COUNTIF(Avril[[#This Row],[1]:[31]],$AH$5) -> 0 | AI34: =COUNTIF(Avril[[#This Row],[1]:[31]],$AI$4)+COUNTIF(Avril[[#This Row],[1]:[31]],$AI$5) -> 0 | AJ34: =COUNTIF(Avril[[#This Row],[1]:[31]],$AJ$5) -> 0 | AK34: =COUNTIF(Avril[[#This Row],[1]:[31]],$AK$5) -> 0 | AL34: =COUNTIF(Avril[[#This Row],[1]:[31]],$AL$5) -> 0
B35: 29 | AH35: =COUNTIF(Avril[[#This Row],[1]:[31]],$AH$5) -> 0 | AI35: =COUNTIF(Avril[[#This Row],[1]:[31]],$AI$4)+COUNTIF(Avril[[#This Row],[1]:[31]],$AI$5) -> 0 | AJ35: =COUNTIF(Avril[[#This Row],[1]:[31]],$AJ$5) -> 0 | AK35: =COUNTIF(Avril[[#This Row],[1]:[31]],$AK$5) -> 0 | AL35: =COUNTIF(Avril[[#This Row],[1]:[31]],$AL$5) -> 0
B36: 30 | V36: M | W36: M | X36: M | Y36: M | Z36: M | AA36: M | AB36: M | AC36: M | AD36: M | AH36: =COUNTIF(Avril[[#This Row],[1]:[31]],$AH$5) -> 0 | AI36: =COUNTIF(Avril[[#This Row],[1]:[31]],$AI$4)+COUNTIF(Avril[[#This Row],[1]:[31]],$AI$5) -> 0 | AJ36: =COUNTIF(Avril[[#This Row],[1]:[31]],$AJ$5) -> 0 | AK36: =COUNTIF(Avril[[#This Row],[1]:[31]],$AK$5) -> 0 | AL36: =COUNTIF(Avril[[#This Row],[1]:[31]],$AL$5) -> 9
AH37: =SUM(AH7:AH36) -> 14 | AI37: =SUM(AI7:AI36) -> 60 | AJ37: =SUM(AJ7:AJ36) -> 17 | AK37: =SUM(AK7:AK36) -> 31 | AL37: =SUM(AL7:AL36) -> 9

Sheet Mai
B1: Calendrier des gardes et absences des employés
B2: Légende | C2: C | D2: Congés | F2: G1 | G2: Gardes 1 | J2: G2 | K2: Gardes 2 | M2: FS | N2: Formations/Stages | R2: A | S2: Absences | X2: Férié | AB2: M | AC2: Maladie
AH3: Année :
B4: Mai | C4: Dates | AH4: =Janvier!AH4 -> 2023 | AI4: G2
C5: =DATE(AnnéeCalendrier,2,1) -> 44958 | D5: =C5+1 -> 44959 | E5: =D5+1 -> 44960 | F5: =E5+1 -> 44961 | G5: =F5+1 -> 44962 | H5: =G5+1 -> 44963 | I5: =H5+1 -> 44964 | J5: =I5+1 -> 44965 | K5: =J5+1 -> 44966 | ... AG5: =AF5+1 -> 44988 | AH5: C | AI5: G1 | AJ5: FS | AK5: A | AL5: M
B6: Nom de l’employé | C6: 1 | D6: 2 | E6: 3 | F6: 4 | G6: 5 | H6: 6 | I6: 7 | J6: 8 | K6: 9 | L6: 10 | M6: 11 | N6: 12 | O6: 13 | P6: 14 | Q6: 15 | R6: 16 | S6: 17 | T6: 18 | U6: 19 | V6: 20 | W6: 21 | X6: 22 | Y6: 23 | Z6: 24 | AA6: 25 | AB6: 26 | AC6: 27 | AD6: 28 | AE6: 29 | AF6: 30 | AG6: 31 | AH6: Congés | AI6: Gardes | AJ6: Formations Stages | AK6: Absences | AL6: Maladie
B7: BONNEFOND Manon | AH7: =COUNTIF(Mai[[#This Row],[1]:[31]],$AH$5) -> 0 | AI7: =COUNTIF(Mai[[#This Row],[1]:[31]],$AI$4)+COUNTIF(Mai[[#This Row],[1]:[31]],$AI$5) -> 0 | AJ7: =COUNTIF(Mai[[#This Row],[1]:[31]],$AJ$5) -> 0 | AK7: =COUNTIF(Mai[[#This Row],[1]:[31]],$AK$5) -> 0 | AL7: =COUNTIF(Mai[[#This Row],[1]:[31]],$AL$5) -> 0
B8: CABANNES Emile | H8: G1 | I8: G1 | J8: G1 | AC8: G1 | AD8: G1 | AE8: G1 | AH8: =COUNTIF(Mai[[#This Row],[1]:[31]],$AH$5) -> 0 | AI8: =COUNTIF(Mai[[#This Row],[1]:[31]],$AI$4)+COUNTIF(Mai[[#This Row],[1]:[31]],$AI$5) -> 6 | AJ8: =COUNTIF(Mai[[#This Row],[1]:[31]],$AJ$5) -> 0 | AK8: =COUNTIF(Mai[[#This Row],[1]:[31]],$AK$5) -> 0 | AL8: =COUNTIF(Mai[[#This Row],[1]:[31]],$AL$5) -> 0
B9: CHAZEAUD Anita | AH9: =COUNTIF(Mai[[#This Row],[1]:[31]],$AH$5) -> 0 | AI9: =COUNTIF(Mai[[#This Row],[1]:[31]],$AI$4)+COUNTIF(Mai[[#This Row],[1]:[31]],$AI$5) -> 0 | AJ9: =COUNTIF(Mai[[#This Row],[1]:[31]],$AJ$5) -> 0 | AK9: =COUNTIF(Mai[[#This Row],[1]:[31]],$AK$5) -> 0 | AL9: =COUNTIF(Mai[[#This Row],[1]:[31]],$AL$5) -> 0
B10: CASTANG Jean-Claude | AH10: =COUNTIF(Mai[[#This Row],[1]:[31]],$AH$5) -> 0 | AI10: =COUNTIF(Mai[[#This Row],[1]:[31]],$AI$4)+COUNTIF(Mai[[#This Row],[1]:[31]],$AI$5) -> 0 | AJ10: =COUNTIF(Mai[[#This Row],[1]:[31]],$AJ$5) -> 0 | AK10: =COUNTIF(Mai[[#This Row],[1]:[31]],$AK$5) -> 0 | AL10: =COUNTIF(Mai[[#This Row],[1]:[31]],$AL$5) -> 0
B11: DA SILVA Marc | C11: G2 | R11: G1 | S11: G1 | T11: G1 | U11: G1 | V11: G1 | W11: G1 | X11: G1 | AH11: =COUNTIF(Mai[[#This Row],[1]:[31]],$AH$5) -> 0 | AI11: =COUNTIF(Mai[[#This Row],[1]:[31]],$AI$4)+COUNTIF(Mai[[#This Row],[1]:[31]],$AI$5) -> 8 | AJ11: =COUNTIF(Mai[[#This Row],[1]:[31]],$AJ$5) -> 0 | AK11: =COUNTIF(Mai[[#This Row],[1]:[31]],$AK$5) -> 0 | AL11: =COUNTIF(Mai[[#This Row],[1]:[31]],$AL$5) -> 0
B12: DERACO Philippe | O12: G1 | P12: G1 | Q12: G1 | AH12: =COUNTIF(Mai[[#This Row],[1]:[31]],$AH$5) -> 0 | AI12: =COUNTIF(Mai[[#This Row],[1]:[31]],$AI$4)+COUNTIF(Mai[[#This Row],[1]:[31]],$AI$5) -> 3 | AJ12: =COUNTIF(Mai[[#This Row],[1]:[31]],$AJ$5) -> 0 | AK12: =COUNTIF(Mai[[#This Row],[1]:[31]],$AK$5) -> 0 | AL12: =COUNTIF(Mai[[#This Row],[1]:[31]],$AL$5) -> 0
B13: DURAN Alexandre | AH13: =COUNTIF(Mai[[#This Row],[1]:[31]],$AH$5) -> 0 | AI13: =COUNTIF(Mai[[#This Row],[1]:[31]],$AI$4)+COUNTIF(Mai[[#This Row],[1]:[31]],$AI$5) -> 0 | AJ13: =COUNTIF(Mai[[#This Row],[1]:[31]],$AJ$5) -> 0 | AK13: =COUNTIF(Mai[[#This Row],[1]:[31]],$AK$5) -> 0 | AL13: =COUNTIF(Mai[[#This Row],[1]:[31]],$AL$5) -> 0
B14: FAGETTE Philippe | AH14: =COUNTIF(Mai[[#This Row],[1]:[31]],$AH$5) -> 0 | AI14: =COUNTIF(Mai[[#This Row],[1]:[31]],$AI$4)+COUNTIF(Mai[[#This Row],[1]:[31]],$AI$5) -> 0 | AJ14: =COUNTIF(Mai[[#This Row],[1]:[31]],$AJ$5) -> 0 | AK14: =COUNTIF(Mai[[#This Row],[1]:[31]],$AK$5) -> 0 | AL14: =COUNTIF(Mai[[#This Row],[1]:[31]],$AL$5) -> 0
B15: FRANCOIS Jean-Paul | AH15: =COUNTIF(Mai[[#This Row],[1]:[31]],$AH$5) -> 0 | AI15: =COUNTIF(Mai[[#This Row],[1]:[31]],$AI$4)+COUNTIF(Mai[[#This Row],[1]:[31]],$AI$5) -> 0 | AJ15: =COUNTIF(Mai[[#This Row],[1]:[31]],$AJ$5) -> 0 | AK15: =COUNTIF(Mai[[#This Row],[1]:[31]],$AK$5) -> 0 | AL15: =COUNTIF(Mai[[#This Row],[1]:[31]],$AL$5) -> 0
B16: FRANCOIS Mathéo | D16: FS | E16: FS | F16: FS | G16: FS | H16: FS | Y16: FS | Z16: FS | AA16: FS | AB16: FS | AC16: FS | AH16: =COUNTIF(Mai[[#This Row],[1]:[31]],$AH$5) -> 0 | AI16: =COUNTIF(Mai[[#This Row],[1]:[31]],$AI$4)+COUNTIF(Mai[[#This Row],[1]:[31]],$AI$5) -> 0 | AJ16: =COUNTIF(Mai[[#This Row],[1]:[31]],$AJ$5) -> 10 | AK16: =COUNTIF(Mai[[#This Row],[1]:[31]],$AK$5) -> 0 | AL16: =COUNTIF(Mai[[#This Row],[1]:[31]],$AL$5) -> 0
B17: FONDIN Patrice | AH17: =COUNTIF(Mai[[#This Row],[1]:[31]],$AH$5) -> 0 | AI17: =COUNTIF(Mai[[#This Row],[1]:[31]],$AI$4)+COUNTIF(Mai[[#This Row],[1]:[31]],$AI$5) -> 0 | AJ17: =COUNTIF(Mai[[#This Row],[1]:[31]],$AJ$5) -> 0 | AK17: =COUNTIF(Mai[[#This Row],[1]:[31]],$AK$5) -> 0 | AL17: =COUNTIF(Mai[[#This Row],[1]:[31]],$AL$5) -> 0
B18: GRIVOIS Nicolas | C18: G1 | R18: G1 | S18: G1 | T18: G1 | U18: G1 | V18: G1 | W18: G1 | X18: G1 | AH18: =COUNTIF(Mai[[#This Row],[1]:[31]],$AH$5) -> 0 | AI18: =COUNTIF(Mai[[#This Row],[1]:[31]],$AI$4)+COUNTIF(Mai[[#This Row],[1]:[31]],$AI$5) -> 8 | AJ18: =COUNTIF(Mai[[#This Row],[1]:[31]],$AJ$5) -> 0 | AK18: =COUNTIF(Mai[[#This Row],[1]:[31]],$AK$5) -> 0 | AL18: =COUNTIF(Mai[[#This Row],[1]:[31]],$AL$5) -> 0
B19: LAFAYE Marion | C19: A | D19: A | E19: A | F19: A | G19: A | H19: A | I19: A | J19: A | K19: A | L19: A | M19: A | N19: A | O19: A | P19: A | Q19: A | R19: A | S19: A | T19: A | U19: A | V19: A | W19: A | X19: A | Y19: A | Z19: A | AA19: A | AB19: A | AC19: A | AD19: A | AE19: A | AF19: A | AG19: A | AH19: =COUNTIF(Mai[[#This Row],[1]:[31]],$AH$5) -> 0 | AI19: =COUNTIF(Mai[[#This Row],[1]:[31]],$AI$4)+COUNTIF(Mai[[#This Row],[1]:[31]],$AI$5) -> 0 | AJ19: =COUNTIF(Mai[[#This Row],[1]:[31]],$AJ$5) -> 0 | AK19: =COUNTIF(Mai[[#This Row],[1]:[31]],$AK$5) -> 31 | AL19: =COUNTIF(Mai[[#This Row],[1]:[31]],$AL$5) -> 0
B20: MARCHE Philippe | O20: G2 | P20: G2 | Q20: G2 | AF20: FS | AH20: =COUNTIF(Mai[[#This Row],[1]:[31]],$AH$5) -> 0 | AI20: =COUNTIF(Mai[[#This Row],[1]:[31]],$AI$4)+COUNTIF(Mai[[#This Row],[1]:[31]],$AI$5) -> 3 | AJ20: =COUNTIF(Mai[[#This Row],[1]:[31]],$AJ$5) -> 1 | AK20: =COUNTIF(Mai[[#This Row],[1]:[31]],$AK$5) -> 0 | AL20: =COUNTIF(Mai[[#This Row],[1]:[31]],$AL$5) -> 0
B21: MARTIAL Jean-Luc | C21: G1 | D21: C | E21: C | F21: C | G21: C | H21: C | I21: C | J21: C | K21: C | L21: C | M21: C | N21: C | O21: C | P21: C | Q21: C | AH21: =COUNTIF(Mai[[#This Row],[1]:[31]],$AH$5) -> 14 | AI21: =COUNTIF(Mai[[#This Row],[1]:[31]],$AI$4)+COUNTIF(Mai[[#This Row],[1]:[31]],$AI$5) -> 1 | AJ21: =COUNTIF(Mai[[#This Row],[1]:[31]],$AJ$5) -> 0 | AK21: =COUNTIF(Mai[[#This Row],[1]:[31]],$AK$5) -> 0 | AL21: =COUNTIF(Mai[[#This Row],[1]:[31]],$AL$5) -> 0
B22: MENARD Martial | AH22: =COUNTIF(Mai[[#This Row],[1]:[31]],$AH$5) -> 0 | AI22: =COUNTIF(Mai[[#This Row],[1]:[31]],$AI$4)+COUNTIF(Mai[[#This Row],[1]:[31]],$AI$5) -> 0 | AJ22: =COUNTIF(Mai[[#This Row],[1]:[31]],$AJ$5) -> 0 | AK22: =COUNTIF(Mai[[#This Row],[1]:[31]],$AK$5) -> 0 | AL22: =COUNTIF(Mai[[#This Row],[1]:[31]],$AL$5) -> 0
B23: NOEL Didier | AC23: G1 | AD23: G1 | AE23: G1 | AH23: =COUNTIF(Mai[[#This Row],[1]:[31]],$AH$5) -> 0 | AI23: =COUNTIF(Mai[[#This Row],[1]:[31]],$AI$4)+COUNTIF(Mai[[#This Row],[1]:[31]],$AI$5) -> 3 | AJ23: =COUNTIF(Mai[[#This Row],[1]:[31]],$AJ$5) -> 0 | AK23: =COUNTIF(Mai[[#This Row],[1]:[31]],$AK$5) -> 0 | AL23: =COUNTIF(Mai[[#This Row],[1]:[31]],$AL$5) -> 0
B24: NORMAND Christian | AH24: =COUNTIF(Mai[[#This Row],[1]:[31]],$AH$5) -> 0 | AI24: =COUNTIF(Mai[[#This Row],[1]:[31]],$AI$4)+COUNTIF(Mai[[#This Row],[1]:[31]],$AI$5) -> 0 | AJ24: =COUNTIF(Mai[[#This Row],[1]:[31]],$AJ$5) -> 0 | AK24: =COUNTIF(Mai[[#This Row],[1]:[31]],$AK$5) -> 0 | AL24: =COUNTIF(Mai[[#This Row],[1]:[31]],$AL$5) -> 0
