Workbook

Sheet source
A1: =RANDBETWEEN(50.7,55.2) -> 54 | B1: =RANDBETWEEN(50.7,55.2) -> 55 | C1: =RANDBETWEEN(50.7,55.2) -> 51 | D1: =RANDBETWEEN(50.7,55.2) -> 53 | E1: =RANDBETWEEN(50.7,55.2) -> 55 | F1: =RANDBETWEEN(50.7,55.2) -> 53 | G1: =RANDBETWEEN(50.7,55.2) -> 52 | H1: =RANDBETWEEN(50.7,55.2) -> 55 | ... J1: =RANDBETWEEN(50.7,55.2) -> 54
A2: =RANDBETWEEN(50.7,55.2) -> 52 | B2: =RANDBETWEEN(50.7,55.2) -> 53 | C2: =RANDBETWEEN(50.7,55.2) -> 51 | D2: =RANDBETWEEN(50.7,55.2) -> 55 | E2: =RANDBETWEEN(50.7,55.2) -> 54 | F2: =RANDBETWEEN(50.7,55.2) -> 54 | G2: =RANDBETWEEN(50.7,55.2) -> 53 | H2: =RANDBETWEEN(50.7,55.2) -> 52 | ... J2: =RANDBETWEEN(50.7,55.2) -> 54
A3: =RANDBETWEEN(50.7,55.2) -> 55 | B3: =RANDBETWEEN(50.7,55.2) -> 52 | C3: =RANDBETWEEN(50.7,55.2) -> 51 | D3: =RANDBETWEEN(50.7,55.2) -> 55 | E3: =RANDBETWEEN(50.7,55.2) -> 52 | F3: =RANDBETWEEN(50.7,55.2) -> 51 | G3: =RANDBETWEEN(50.7,55.2) -> 52 | H3: =RANDBETWEEN(50.7,55.2) -> 55 | ... J3: =RANDBETWEEN(50.7,55.2) -> 53
A4: =RANDBETWEEN(50.7,55.2) -> 55 | B4: =RANDBETWEEN(50.7,55.2) -> 54 | C4: =RANDBETWEEN(50.7,55.2) -> 54 | D4: =RANDBETWEEN(50.7,55.2) -> 52 | E4: =RANDBETWEEN(50.7,55.2) -> 51 | F4: =RANDBETWEEN(50.7,55.2) -> 55 | G4: =RANDBETWEEN(50.7,55.2) -> 52 | H4: =RANDBETWEEN(50.7,55.2) -> 51 | ... J4: =RANDBETWEEN(50.7,55.2) -> 51

Sheet nouveau 
A1: =RANDBETWEEN(48.2,56.3) -> 54 | B1: =RANDBETWEEN(48.2,56.3) -> 51 | C1: =RANDBETWEEN(48.2,56.3) -> 54 | D1: =RANDBETWEEN(48.2,56.3) -> 54 | E1: =RANDBETWEEN(48.2,56.3) -> 55 | F1: =RANDBETWEEN(48.2,56.3) -> 54 | G1: =RANDBETWEEN(48.2,56.3) -> 51 | H1: =RANDBETWEEN(48.2,56.3) -> 56 | ... J1: =RANDBETWEEN(48.2,56.3) -> 49
A2: =RANDBETWEEN(48.2,56.3) -> 51 | B2: =RANDBETWEEN(48.2,56.3) -> 56 | C2: =RANDBETWEEN(48.2,56.3) -> 56 | D2: =RANDBETWEEN(48.2,56.3) -> 50 | E2: =RANDBETWEEN(48.2,56.3) -> 53 | F2: =RANDBETWEEN(48.2,56.3) -> 51 | G2: =RANDBETWEEN(48.2,56.3) -> 53 | H2: =RANDBETWEEN(48.2,56.3) -> 50 | ... J2: =RANDBETWEEN(48.2,56.3) -> 56
A3: =RANDBETWEEN(48.2,56.3) -> 53 | B3: =RANDBETWEEN(48.2,56.3) -> 56 | C3: =RANDBETWEEN(48.2,56.3) -> 50 | D3: =RANDBETWEEN(48.2,56.3) -> 55 | E3: =RANDBETWEEN(48.2,56.3) -> 56 | F3: =RANDBETWEEN(48.2,56.3) -> 56 | G3: =RANDBETWEEN(48.2,56.3) -> 50 | H3: =RANDBETWEEN(48.2,56.3) -> 50 | ... J3: =RANDBETWEEN(48.2,56.3) -> 54
A4: =RANDBETWEEN(48.2,56.3) -> 50 | B4: =RANDBETWEEN(48.2,56.3) -> 54 | C4: =RANDBETWEEN(48.2,56.3) -> 49 | D4: =RANDBETWEEN(48.2,56.3) -> 55 | E4: =RANDBETWEEN(48.2,56.3) -> 54 | F4: =RANDBETWEEN(48.2,56.3) -> 53 | G4: =RANDBETWEEN(48.2,56.3) -> 53 | H4: =RANDBETWEEN(48.2,56.3) -> 51 | ... J4: =RANDBETWEEN(48.2,56.3) -> 53

Sheet comparaison
A1: =source!A1-'nouveau '!A1 -> 0 | B1: =source!B1-'nouveau '!B1 -> 4 | C1: =source!C1-'nouveau '!C1 -> -3 | D1: =source!D1-'nouveau '!D1 -> -1 | E1: =source!E1-'nouveau '!E1 -> 0 | F1: =source!F1-'nouveau '!F1 -> -1 | G1: =source!G1-'nouveau '!G1 -> 1 | H1: =source!H1-'nouveau '!H1 -> -1 | ... J1: =source!J1-'nouveau '!J1 -> 5 | L1: si valeur depasse le seuil de +ou - 3,8 alors
A2: =source!A2-'nouveau '!A2 -> 1 | B2: =source!B2-'nouveau '!B2 -> -3 | C2: =source!C2-'nouveau '!C2 -> -5 | D2: =source!D2-'nouveau '!D2 -> 5 | E2: =source!E2-'nouveau '!E2 -> 1 | F2: =source!F2-'nouveau '!F2 -> 3 | G2: =source!G2-'nouveau '!G2 -> 0 | H2: =source!H2-'nouveau '!H2 -> 2 | ... J2: =source!J2-'nouveau '!J2 -> -2
A3: =source!A3-'nouveau '!A3 -> 2 | B3: =source!B3-'nouveau '!B3 -> -4 | C3: =source!C3-'nouveau '!C3 -> 1 | D3: =source!D3-'nouveau '!D3 -> 0 | E3: =source!E3-'nouveau '!E3 -> -4 | F3: =source!F3-'nouveau '!F3 -> -5 | G3: =source!G3-'nouveau '!G3 -> 2 | H3: =source!H3-'nouveau '!H3 -> 5 | ... J3: =source!J3-'nouveau '!J3 -> -1
A4: =source!A4-'nouveau '!A4 -> 5 | B4: =source!B4-'nouveau '!B4 -> 0 | C4: =source!C4-'nouveau '!C4 -> 5 | D4: =source!D4-'nouveau '!D4 -> -3 | E4: =source!E4-'nouveau '!E4 -> -3 | F4: =source!F4-'nouveau '!F4 -> 2 | G4: =source!G4-'nouveau '!G4 -> -1 | H4: =source!H4-'nouveau '!H4 -> 0 | ... J4: =source!J4-'nouveau '!J4 -> -2
