Workbook

Sheet Planning EXE
A1: RG | B1: N°PR | C1: Référence chantier | D1: Maître d'Ouvrage | E1: Type d'étude | F1: Remarques | G1: DE Signé | H1: Heure Prévue | I1: Heure Réalisée | L1: 14 | M1: Choix BE | N1: Date Prise en Charge | O1: Temps prévu | P1: Date Butoire | Q1: Statut | R1: à masquer | S1: semaine 1 | X1: semaine 2 | AC1: semaine 3 | AH1: semaine 4 | AM1: semaine 5 | AR1: semaine 6 | AW1: semaine 7 | BB1: semaine 8 | BG1: semaine 9 | BL1: semaine 10 | BQ1: semaine 11 | BV1: semaine 12 | CA1: semaine 13 | CF1: semaine 14 | CK1: semaine 15 | CP1: semaine 16 | CU1: semaine 17 | CZ1: semaine 18 | DE1: semaine 19 | DJ1: semaine 20 | DO1: semaine 21 | DT1: semaine 22 | DY1: semaine 23 | ED1: semaine 24 | EI1: semaine 25 | EN1: semaine 26 | ES1: semaine 27 | EX1: semaine 28 | FC1: semaine 29 | FH1: semaine 30 | FM1: semaine 31 | FR1: semaine 32 | FW1: semaine 33 | GB1: semaine 34 | GG1: semaine 35 | GL1: semaine 36 | GQ1: semaine 37 | GV1: semaine 38 | HA1: semaine 39 | HF1: semaine 40 | HK1: semaine 41 | HP1: semaine 42 | HU1: semaine 43 | HZ1: semaine 44 | IE1: semaine 45 | IJ1: semaine 46 | IO1: semaine 47 | IT1: semaine 48 | IY1: semaine 49 | JD1: semaine 50 | JI1: semaine 51 | JN1: semaine 52 | JS1: Commentaire
I2: OS | J2: AL | K2: IS | L2: Heure Restante | S2: 44564 | T2: =+S2+1 -> 44565 | U2: =+T2+1 -> 44566 | V2: =+U2+1 -> 44567 | W2: =+V2+1 -> 44568 | X2: =+W2+3 -> 44571 | Y2: =+X2+1 -> 44572 | Z2: =+Y2+1 -> 44573 | AA2: =+Z2+1 -> 44574 | AB2: =+AA2+1 -> 44575 | AC2: =+AB2+3 -> 44578 | AD2: =+AC2+1 -> 44579 | AE2: =+AD2+1 -> 44580 | AF2: =+AE2+1 -> 44581 | AG2: =+AF2+1 -> 44582 | AH2: =+AG2+3 -> 44585 | AI2: =+AH2+1 -> 44586 | AJ2: =+AI2+1 -> 44587 | AK2: =+AJ2+1 -> 44588 | AL2: =+AK2+1 -> 44589 | AM2: =+AL2+3 -> 44592 | AN2: =+AM2+1 -> 44593 | AO2: =+AN2+1 -> 44594 | AP2: =+AO2+1 -> 44595 | AQ2: =+AP2+1 -> 44596 | AR2: =+AQ2+3 -> 44599 | AS2: =+AR2+1 -> 44600 | AT2: =+AS2+1 -> 44601 | AU2: =+AT2+1 -> 44602 | AV2: =+AU2+1 -> 44603 | AW2: =+AV2+3 -> 44606 | AX2: =+AW2+1 -> 44607 | AY2: =+AX2+1 -> 44608 | AZ2: =+AY2+1 -> 44609 | BA2: =+AZ2+1 -> 44610 | BB2: =+BA2+3 -> 44613 | BC2: =+BB2+1 -> 44614 | BD2: =+BC2+1 -> 44615 | BE2: =+BD2+1 -> 44616 | BF2: =+BE2+1 -> 44617 | BG2: =+BF2+3 -> 44620 | BH2: =+BG2+1 -> 44621 | BI2: =+BH2+1 -> 44622 | BJ2: =+BI2+1 -> 44623 | BK2: =+BJ2+1 -> 44624 | BL2: =+BK2+3 -> 44627 | BM2: =+BL2+1 -> 44628 | BN2: =+BM2+1 -> 44629 | BO2: =+BN2+1 -> 44630 | BP2: =+BO2+1 -> 44631 | BQ2: =+BP2+3 -> 44634 | BR2: =+BQ2+1 -> 44635 | BS2: =+BR2+1 -> 44636 | BT2: =+BS2+1 -> 44637 | BU2: =+BT2+1 -> 44638 | BV2: =+BU2+3 -> 44641 | BW2: =+BV2+1 -> 44642 | BX2: =+BW2+1 -> 44643 | BY2: =+BX2+1 -> 44644 | BZ2: =+BY2+1 -> 44645 | CA2: =+BZ2+3 -> 44648 | CB2: =+CA2+1 -> 44649 | CC2: =+CB2+1 -> 44650 | CD2: =+CC2+1 -> 44651 | CE2: =+CD2+1 -> 44652 | CF2: =+CE2+3 -> 44655 | CG2: =+CF2+1 -> 44656 | CH2: =+CG2+1 -> 44657 | CI2: =+CH2+1 -> 44658 | CJ2: =+CI2+1 -> 44659 | CK2: =+CJ2+3 -> 44662 | CL2: =+CK2+1 -> 44663 | CM2: =+CL2+1 -> 44664 | CN2: =+CM2+1 -> 44665 | CO2: =+CN2+1 -> 44666 | CP2: =+CO2+3 -> 44669 | CQ2: =+CP2+1 -> 44670 | CR2: =+CQ2+1 -> 44671 | CS2: =+CR2+1 -> 44672 | CT2: =+CS2+1 -> 44673 | CU2: =+CT2+3 -> 44676 | CV2: =+CU2+1 -> 44677 | CW2: =+CV2+1 -> 44678 | CX2: =+CW2+1 -> 44679 | CY2: =+CX2+1 -> 44680 | CZ2: =+CY2+3 -> 44683 | DA2: =+CZ2+1 -> 44684 | DB2: =+DA2+1 -> 44685 | DC2: =+DB2+1 -> 44686 | DD2: =+DC2+1 -> 44687 | DE2: =+DD2+3 -> 44690 | DF2: =+DE2+1 -> 44691 | DG2: =+DF2+1 -> 44692 | DH2: =+DG2+1 -> 44693 | DI2: =+DH2+1 -> 44694 | DJ2: =+DI2+3 -> 44697 | DK2: =+DJ2+1 -> 44698 | DL2: =+DK2+1 -> 44699 | DM2: =+DL2+1 -> 44700 | DN2: =+DM2+1 -> 44701 | DO2: =+DN2+3 -> 44704 | DP2: =+DO2+1 -> 44705 | DQ2: =+DP2+1 -> 44706 | DR2: =+DQ2+1 -> 44707 | DS2: =+DR2+1 -> 44708 | DT2: =+DS2+3 -> 44711 | DU2: =+DT2+1 -> 44712 | DV2: =+DU2+1 -> 44713 | DW2: =+DV2+1 -> 44714 | DX2: =+DW2+1 -> 44715 | DY2: =+DX2+3 -> 44718 | DZ2: =+DY2+1 -> 44719 | EA2: =+DZ2+1 -> 44720 | EB2: =+EA2+1 -> 44721 | EC2: =+EB2+1 -> 44722 | ED2: =+EC2+3 -> 44725 | EE2: =+ED2+1 -> 44726 | EF2: =+EE2+1 -> 44727 | EG2: =+EF2+1 -> 44728 | EH2: =+EG2+1 -> 44729 | EI2: =+EH2+3 -> 44732 | EJ2: =+EI2+1 -> 44733 | EK2: =+EJ2+1 -> 44734 | EL2: =+EK2+1 -> 44735 | EM2: =+EL2+1 -> 44736 | EN2: =+EM2+3 -> 44739 | EO2: =+EN2+1 -> 44740 | EP2: =+EO2+1 -> 44741 | EQ2: =+EP2+1 -> 44742 | ER2: =+EQ2+1 -> 44743 | ES2: =+ER2+3 -> 44746 | ET2: =+ES2+1 -> 44747 | EU2: =+ET2+1 -> 44748 | EV2: =+EU2+1 -> 44749 | EW2: =+EV2+1 -> 44750 | EX2: =+EW2+3 -> 44753 | EY2: =+EX2+1 -> 44754 | EZ2: =+EY2+1 -> 44755 | FA2: =+EZ2+1 -> 44756 | FB2: =+FA2+1 -> 44757 | FC2: =+FB2+3 -> 44760 | FD2: =+FC2+1 -> 44761 | FE2: =+FD2+1 -> 44762 | FF2: =+FE2+1 -> 44763 | FG2: =+FF2+1 -> 44764 | FH2: =+FG2+3 -> 44767 | FI2: =+FH2+1 -> 44768 | FJ2: =+FI2+1 -> 44769 | FK2: =+FJ2+1 -> 44770 | FL2: =+FK2+1 -> 44771 | FM2: =+FL2+3 -> 44774 | FN2: =+FM2+1 -> 44775 | FO2: =+FN2+1 -> 44776 | FP2: =+FO2+1 -> 44777 | FQ2: =+FP2+1 -> 44778 | FR2: =+FQ2+3 -> 44781 | FS2: =+FR2+1 -> 44782 | FT2: =+FS2+1 -> 44783 | FU2: =+FT2+1 -> 44784 | FV2: =+FU2+1 -> 44785 | FW2: =+FV2+3 -> 44788 | FX2: =+FW2+1 -> 44789 | FY2: =+FX2+1 -> 44790 | FZ2: =+FY2+1 -> 44791 | GA2: =+FZ2+1 -> 44792 | GB2: =+GA2+3 -> 44795 | GC2: =+GB2+1 -> 44796 | GD2: =+GC2+1 -> 44797 | GE2: =+GD2+1 -> 44798 | GF2: =+GE2+1 -> 44799 | GG2: =+GF2+3 -> 44802 | GH2: =+GG2+1 -> 44803 | GI2: =+GH2+1 -> 44804 | GJ2: =+GI2+1 -> 44805 | GK2: =+GJ2+1 -> 44806 | GL2: =+GK2+3 -> 44809 | GM2: =+GL2+1 -> 44810 | GN2: =+GM2+1 -> 44811 | GO2: =+GN2+1 -> 44812 | GP2: =+GO2+1 -> 44813 | GQ2: =+GP2+3 -> 44816 | GR2: =+GQ2+1 -> 44817 | GS2: =+GR2+1 -> 44818 | GT2: =+GS2+1 -> 44819 | GU2: =+GT2+1 -> 44820 | GV2: =+GU2+3 -> 44823 | GW2: =+GV2+1 -> 44824 | GX2: =+GW2+1 -> 44825 | GY2: =+GX2+1 -> 44826 | GZ2: =+GY2+1 -> 44827 | HA2: =+GZ2+3 -> 44830 | HB2: =+HA2+1 -> 44831 | HC2: =+HB2+1 -> 44832 | HD2: =+HC2+1 -> 44833 | HE2: =+HD2+1 -> 44834 | HF2: =+HE2+3 -> 44837 | HG2: =+HF2+1 -> 44838 | HH2: =+HG2+1 -> 44839 | HI2: =+HH2+1 -> 44840 | HJ2: =+HI2+1 -> 44841 | HK2: =+HJ2+3 -> 44844 | HL2: =+HK2+1 -> 44845 | HM2: =+HL2+1 -> 44846 | HN2: =+HM2+1 -> 44847 | HO2: =+HN2+1 -> 44848 | HP2: =+HO2+3 -> 44851 | HQ2: =+HP2+1 -> 44852 | HR2: =+HQ2+1 -> 44853 | HS2: =+HR2+1 -> 44854 | HT2: =+HS2+1 -> 44855 | HU2: =+HT2+3 -> 44858 | HV2: =+HU2+1 -> 44859 | HW2: =+HV2+1 -> 44860 | HX2: =+HW2+1 -> 44861 | HY2: =+HX2+1 -> 44862 | HZ2: =+HY2+3 -> 44865 | IA2: =+HZ2+1 -> 44866 | IB2: =+IA2+1 -> 44867 | IC2: =+IB2+1 -> 44868 | ID2: =+IC2+1 -> 44869 | IE2: =+ID2+3 -> 44872 | IF2: =+IE2+1 -> 44873 | IG2: =+IF2+1 -> 44874 | IH2: =+IG2+1 -> 44875 | II2: =+IH2+1 -> 44876 | IJ2: =+II2+3 -> 44879 | IK2: =+IJ2+1 -> 44880 | IL2: =+IK2+1 -> 44881 | IM2: =+IL2+1 -> 44882 | IN2: =+IM2+1 -> 44883 | IO2: =+IN2+3 -> 44886 | IP2: =+IO2+1 -> 44887 | IQ2: =+IP2+1 -> 44888 | IR2: =+IQ2+1 -> 44889 | IS2: =+IR2+1 -> 44890 | IT2: =+IS2+3 -> 44893 | IU2: =+IT2+1 -> 44894 | IV2: =+IU2+1 -> 44895 | IW2: =+IV2+1 -> 44896 | IX2: =+IW2+1 -> 44897 | IY2: =+IX2+3 -> 44900 | IZ2: =+IY2+1 -> 44901 | JA2: =+IZ2+1 -> 44902 | JB2: =+JA2+1 -> 44903 | JC2: =+JB2+1 -> 44904 | JD2: =+JC2+3 -> 44907 | JE2: =+JD2+1 -> 44908 | JF2: =+JE2+1 -> 44909 | JG2: =+JF2+1 -> 44910 | JH2: =+JG2+1 -> 44911 | JI2: =+JH2+3 -> 44914 | JJ2: =+JI2+1 -> 44915 | JK2: =+JJ2+1 -> 44916 | JL2: =+JK2+1 -> 44917 | JM2: =+JL2+1 -> 44918 | JN2: =+JM2+3 -> 44921 | JO2: =+JN2+1 -> 44922 | JP2: =+JO2+1 -> 44923 | JQ2: =+JP2+1 -> 44924 | JR2: =+JQ2+1 -> 44925
C3: =IFERROR(VLOOKUP(B3,Chantier!$A:$C,2,0),"") | D3: =IFERROR(VLOOKUP(B3,Chantier!$A:$C,3,0),"") | L3: =+H3-(I3+J3+K3) -> 0 | Q3: =IF(R3=0,"Non planifié",IF(R3<>0,"En cours",0)) -> Non planifié | R3: =SUM(S3:IX3) -> 0 | S3: =IF(S$2=$N3,IF($O3<=7,$O3,IF($O3>7,7,0))) -> FALSE | T3: =IF(T$2>=$N3,IF($O3-SUM($S3:S3)>7,7,$O3-SUM($S3:S3)),"") -> 0 | U3: =IF(U$2>=$N3,IF($O3-SUM($S3:T3)>7,7,$O3-SUM($S3:T3)),"") -> 0 | V3: =IF(V$2>=$N3,IF($O3-SUM($S3:U3)>7,7,$O3-SUM($S3:U3)),"") -> 0 | W3: =IF(W$2>=$N3,IF($O3-SUM($S3:V3)>7,7,$O3-SUM($S3:V3)),"") -> 0 | X3: =IF(X$2>=$N3,IF($O3-SUM($S3:W3)>7,7,$O3-SUM($S3:W3)),"") -> 0 | Y3: =IF(Y$2>=$N3,IF($O3-SUM($S3:X3)>7,7,$O3-SUM($S3:X3)),"") -> 0 | Z3: =IF(Z$2>=$N3,IF($O3-SUM($S3:Y3)>7,7,$O3-SUM($S3:Y3)),"") -> 0 | AA3: =IF(AA$2>=$N3,IF($O3-SUM($S3:Z3)>7,7,$O3-SUM($S3:Z3)),"") -> 0 | ... JR3: =IF(JR$2>=$N3,IF($O3-SUM($S3:JQ3)>7,7,$O3-SUM($S3:JQ3)),"") -> 0
C4: =IFERROR(VLOOKUP(B4,Chantier!$A:$C,2,0),"") | D4: =IFERROR(VLOOKUP(B4,Chantier!$A:$C,3,0),"") | L4: =+H4-(I4+J4+K4) -> 0 | N4: 44566 | O4: 22 | Q4: =IF(R4=0,"Non planifié",IF(R4<>0,"En cours",0)) -> En cours | R4: =SUM(S4:IX4) -> 22 | S4: =IF(S$2=$N4,IF($O4<=7,$O4,IF($O4>7,7,0))) -> FALSE | T4: =IF(T$2>=$N4,IF($O4-SUM($S4:S4)>7,7,$O4-SUM($S4:S4)),"") | U4: =IF(U$2>=$N4,IF($O4-SUM($S4:T4)>7,7,$O4-SUM($S4:T4)),"") -> 7 | V4: =IF(V$2>=$N4,IF($O4-SUM($S4:U4)>7,7,$O4-SUM($S4:U4)),"") -> 7 | W4: =IF(W$2>=$N4,IF($O4-SUM($S4:V4)>7,7,$O4-SUM($S4:V4)),"") -> 7 | X4: =IF(X$2>=$N4,IF($O4-SUM($S4:W4)>7,7,$O4-SUM($S4:W4)),"") -> 1 | Y4: =IF(Y$2>=$N4,IF($O4-SUM($S4:X4)>7,7,$O4-SUM($S4:X4)),"") -> 0 | Z4: =IF(Z$2>=$N4,IF($O4-SUM($S4:Y4)>7,7,$O4-SUM($S4:Y4)),"") -> 0 | AA4: =IF(AA$2>=$N4,IF($O4-SUM($S4:Z4)>7,7,$O4-SUM($S4:Z4)),"") -> 0 | ... JR4: =IF(JR$2>=$N4,IF($O4-SUM($S4:JQ4)>7,7,$O4-SUM($S4:JQ4)),"") -> 0
C5: =IFERROR(VLOOKUP(B5,Chantier!$A:$C,2,0),"") | D5: =IFERROR(VLOOKUP(B5,Chantier!$A:$C,3,0),"") | L5: =+H5-(I5+J5+K5) -> 0 | N5: 44571 | O5: 15 | Q5: =IF(R5=0,"Non planifié",IF(R5<>0,"En cours",0)) -> Non planifié | S5: =IF(S$2=$N5,IF($O5<=7,$O5,IF($O5>7,7,0))) -> FALSE | T5: =IF(T$2>=$N5,IF($O5-SUM($S5:S5)>7,7,$O5-SUM($S5:S5)),"") | U5: =IF(U$2>=$N5,IF($O5-SUM($S5:T5)>7,7,$O5-SUM($S5:T5)),"") | V5: =IF(V$2>=$N5,IF($O5-SUM($S5:U5)>7,7,$O5-SUM($S5:U5)),"") | W5: =IF(W$2>=$N5,IF($O5-SUM($S5:V5)>7,7,$O5-SUM($S5:V5)),"") | X5: =IF(X$2>=$N5,IF($O5-SUM($S5:W5)>7,7,$O5-SUM($S5:W5)),"") -> 7 | Y5: =IF(Y$2>=$N5,IF($O5-SUM($S5:X5)>7,7,$O5-SUM($S5:X5)),"") -> 7 | Z5: =IF(Z$2>=$N5,IF($O5-SUM($S5:Y5)>7,7,$O5-SUM($S5:Y5)),"") -> 1 | AA5: =IF(AA$2>=$N5,IF($O5-SUM($S5:Z5)>7,7,$O5-SUM($S5:Z5)),"") -> 0 | ... JR5: =IF(JR$2>=$N5,IF($O5-SUM($S5:JQ5)>7,7,$O5-SUM($S5:JQ5)),"") -> 0
C6: =IFERROR(VLOOKUP(B6,Chantier!$A:$C,2,0),"") | D6: =IFERROR(VLOOKUP(B6,Chantier!$A:$C,3,0),"") | L6: =+H6-(I6+J6+K6) -> 0 | Q6: =IF(R6=0,"Non planifié",IF(R6<>0,"En cours",0)) -> Non planifié | S6: =IF(S$2=$N6,IF($O6<=7,$O6,IF($O6>7,7,0))) -> FALSE | T6: =IF(T$2>=$N6,IF($O6-SUM($S6:S6)>7,7,$O6-SUM($S6:S6)),"") -> 0 | U6: =IF(U$2>=$N6,IF($O6-SUM($S6:T6)>7,7,$O6-SUM($S6:T6)),"") -> 0 | V6: =IF(V$2>=$N6,IF($O6-SUM($S6:U6)>7,7,$O6-SUM($S6:U6)),"") -> 0 | W6: =IF(W$2>=$N6,IF($O6-SUM($S6:V6)>7,7,$O6-SUM($S6:V6)),"") -> 0 | X6: =IF(X$2>=$N6,IF($O6-SUM($S6:W6)>7,7,$O6-SUM($S6:W6)),"") -> 0 | Y6: =IF(Y$2>=$N6,IF($O6-SUM($S6:X6)>7,7,$O6-SUM($S6:X6)),"") -> 0 | Z6: =IF(Z$2>=$N6,IF($O6-SUM($S6:Y6)>7,7,$O6-SUM($S6:Y6)),"") -> 0 | AA6: =IF(AA$2>=$N6,IF($O6-SUM($S6:Z6)>7,7,$O6-SUM($S6:Z6)),"") -> 0 | ... JR6: =IF(JR$2>=$N6,IF($O6-SUM($S6:JQ6)>7,7,$O6-SUM($S6:JQ6)),"") -> 0
C7: =IFERROR(VLOOKUP(B7,Chantier!$A:$C,2,0),"") | D7: =IFERROR(VLOOKUP(B7,Chantier!$A:$C,3,0),"") | L7: =+H7-(I7+J7+K7) -> 0 | Q7: =IF(R7=0,"Non planifié",IF(R7<>0,"En cours",0)) -> Non planifié | R7: =SUM(S7:IX7) -> 0 | S7: =IF(S$2=$N7,IF($O7<=7,$O7,IF($O7>7,7,0))) -> FALSE | T7: =IF(T$2>=$N7,IF($O7-SUM($S7:S7)>7,7,$O7-SUM($S7:S7)),"") -> 0 | U7: =IF(U$2>=$N7,IF($O7-SUM($S7:T7)>7,7,$O7-SUM($S7:T7)),"") -> 0 | V7: =IF(V$2>=$N7,IF($O7-SUM($S7:U7)>7,7,$O7-SUM($S7:U7)),"") -> 0 | W7: =IF(W$2>=$N7,IF($O7-SUM($S7:V7)>7,7,$O7-SUM($S7:V7)),"") -> 0 | X7: =IF(X$2>=$N7,IF($O7-SUM($S7:W7)>7,7,$O7-SUM($S7:W7)),"") -> 0 | Y7: =IF(Y$2>=$N7,IF($O7-SUM($S7:X7)>7,7,$O7-SUM($S7:X7)),"") -> 0 | Z7: =IF(Z$2>=$N7,IF($O7-SUM($S7:Y7)>7,7,$O7-SUM($S7:Y7)),"") -> 0 | AA7: =IF(AA$2>=$N7,IF($O7-SUM($S7:Z7)>7,7,$O7-SUM($S7:Z7)),"") -> 0 | ... JR7: =IF(JR$2>=$N7,IF($O7-SUM($S7:JQ7)>7,7,$O7-SUM($S7:JQ7)),"") -> 0
C8: =IFERROR(VLOOKUP(B8,Chantier!$A:$C,2,0),"") | D8: =IFERROR(VLOOKUP(B8,Chantier!$A:$C,3,0),"") | L8: =+H8-(I8+J8+K8) -> 0 | N8: 44910 | O8: 30 | Q8: =IF(R8=0,"Non planifié",IF(R8<>0,"En cours",0)) -> Non planifié | R8: =SUM(S8:IX8) -> 0 | S8: =IF(S$2=$N8,IF($O8<=7,$O8,IF($O8>7,7,0))) -> FALSE | T8: =IF(T$2>=$N8,IF($O8-SUM($S8:S8)>7,7,$O8-SUM($S8:S8)),"") | U8: =IF(U$2>=$N8,IF($O8-SUM($S8:T8)>7,7,$O8-SUM($S8:T8)),"") | V8: =IF(V$2>=$N8,IF($O8-SUM($S8:U8)>7,7,$O8-SUM($S8:U8)),"") | W8: =IF(W$2>=$N8,IF($O8-SUM($S8:V8)>7,7,$O8-SUM($S8:V8)),"") | X8: =IF(X$2>=$N8,IF($O8-SUM($S8:W8)>7,7,$O8-SUM($S8:W8)),"") | Y8: =IF(Y$2>=$N8,IF($O8-SUM($S8:X8)>7,7,$O8-SUM($S8:X8)),"") | Z8: =IF(Z$2>=$N8,IF($O8-SUM($S8:Y8)>7,7,$O8-SUM($S8:Y8)),"") | AA8: =IF(AA$2>=$N8,IF($O8-SUM($S8:Z8)>7,7,$O8-SUM($S8:Z8)),"") | ... JR8: =IF(JR$2>=$N8,IF($O8-SUM($S8:JQ8)>7,7,$O8-SUM($S8:JQ8)),"") -> 0
C9: =IFERROR(VLOOKUP(B9,Chantier!$A:$C,2,0),"") | D9: =IFERROR(VLOOKUP(B9,Chantier!$A:$C,3,0),"") | L9: =+H9-(I9+J9+K9) -> 0 | Q9: =IF(R9=0,"Non planifié",IF(R9<>0,"En cours",0)) -> Non planifié | R9: =SUM(S9:IX9) -> 0 | S9: =IF(S$2=$N9,IF($O9<=7,$O9,IF($O9>7,7,0))) -> FALSE | T9: =IF(T$2>=$N9,IF($O9-SUM($S9:S9)>7,7,$O9-SUM($S9:S9)),"") -> 0 | U9: =IF(U$2>=$N9,IF($O9-SUM($S9:T9)>7,7,$O9-SUM($S9:T9)),"") -> 0 | V9: =IF(V$2>=$N9,IF($O9-SUM($S9:U9)>7,7,$O9-SUM($S9:U9)),"") -> 0 | W9: =IF(W$2>=$N9,IF($O9-SUM($S9:V9)>7,7,$O9-SUM($S9:V9)),"") -> 0 | X9: =IF(X$2>=$N9,IF($O9-SUM($S9:W9)>7,7,$O9-SUM($S9:W9)),"") -> 0 | Y9: =IF(Y$2>=$N9,IF($O9-SUM($S9:X9)>7,7,$O9-SUM($S9:X9)),"") -> 0 | Z9: =IF(Z$2>=$N9,IF($O9-SUM($S9:Y9)>7,7,$O9-SUM($S9:Y9)),"") -> 0 | AA9: =IF(AA$2>=$N9,IF($O9-SUM($S9:Z9)>7,7,$O9-SUM($S9:Z9)),"") -> 0 | ... JR9: =IF(JR$2>=$N9,IF($O9-SUM($S9:JQ9)>7,7,$O9-SUM($S9:JQ9)),"") -> 0
C10: =IFERROR(VLOOKUP(B10,Chantier!$A:$C,2,0),"") | D10: =IFERROR(VLOOKUP(B10,Chantier!$A:$C,3,0),"") | L10: =+H10-(I10+J10+K10) -> 0 | Q10: =IF(R10=0,"Non planifié",IF(R10<>0,"En cours",0)) -> Non planifié | R10: =SUM(S10:IX10) -> 0 | S10: =IF(S$2=$N10,IF($O10<=7,$O10,IF($O10>7,7,0))) -> FALSE | T10: =IF(T$2>=$N10,IF($O10-SUM($S10:S10)>7,7,$O10-SUM($S10:S10)),"") -> 0 | U10: =IF(U$2>=$N10,IF($O10-SUM($S10:T10)>7,7,$O10-SUM($S10:T10)),"") -> 0 | V10: =IF(V$2>=$N10,IF($O10-SUM($S10:U10)>7,7,$O10-SUM($S10:U10)),"") -> 0 | W10: =IF(W$2>=$N10,IF($O10-SUM($S10:V10)>7,7,$O10-SUM($S10:V10)),"") -> 0 | X10: =IF(X$2>=$N10,IF($O10-SUM($S10:W10)>7,7,$O10-SUM($S10:W10)),"") -> 0 | Y10: =IF(Y$2>=$N10,IF($O10-SUM($S10:X10)>7,7,$O10-SUM($S10:X10)),"") -> 0 | Z10: =IF(Z$2>=$N10,IF($O10-SUM($S10:Y10)>7,7,$O10-SUM($S10:Y10)),"") -> 0 | AA10: =IF(AA$2>=$N10,IF($O10-SUM($S10:Z10)>7,7,$O10-SUM($S10:Z10)),"") -> 0 | ... JR10: =IF(JR$2>=$N10,IF($O10-SUM($S10:JQ10)>7,7,$O10-SUM($S10:JQ10)),"") -> 0
C11: =IFERROR(VLOOKUP(B11,Chantier!$A:$C,2,0),"") | D11: =IFERROR(VLOOKUP(B11,Chantier!$A:$C,3,0),"") | L11: =+H11-(I11+J11+K11) -> 0 | Q11: =IF(R11=0,"Non planifié",IF(R11<>0,"En cours",0)) -> Non planifié | R11: =SUM(S11:IX11) -> 0 | S11: =IF(S$2=$N11,IF($O11<=7,$O11,IF($O11>7,7,0))) -> FALSE | T11: =IF(T$2>=$N11,IF($O11-SUM($S11:S11)>7,7,$O11-SUM($S11:S11)),"") -> 0 | U11: =IF(U$2>=$N11,IF($O11-SUM($S11:T11)>7,7,$O11-SUM($S11:T11)),"") -> 0 | V11: =IF(V$2>=$N11,IF($O11-SUM($S11:U11)>7,7,$O11-SUM($S11:U11)),"") -> 0 | W11: =IF(W$2>=$N11,IF($O11-SUM($S11:V11)>7,7,$O11-SUM($S11:V11)),"") -> 0 | X11: =IF(X$2>=$N11,IF($O11-SUM($S11:W11)>7,7,$O11-SUM($S11:W11)),"") -> 0 | Y11: =IF(Y$2>=$N11,IF($O11-SUM($S11:X11)>7,7,$O11-SUM($S11:X11)),"") -> 0 | Z11: =IF(Z$2>=$N11,IF($O11-SUM($S11:Y11)>7,7,$O11-SUM($S11:Y11)),"") -> 0 | AA11: =IF(AA$2>=$N11,IF($O11-SUM($S11:Z11)>7,7,$O11-SUM($S11:Z11)),"") -> 0 | ... JR11: =IF(JR$2>=$N11,IF($O11-SUM($S11:JQ11)>7,7,$O11-SUM($S11:JQ11)),"") -> 0
C12: =IFERROR(VLOOKUP(B12,Chantier!$A:$C,2,0),"") | D12: =IFERROR(VLOOKUP(B12,Chantier!$A:$C,3,0),"") | L12: =+H12-(I12+J12+K12) -> 0 | Q12: =IF(R12=0,"Non planifié",IF(R12<>0,"En cours",0)) -> Non planifié | R12: =SUM(S12:IX12) -> 0 | S12: =IF(S$2=$N12,IF($O12<=7,$O12,IF($O12>7,7,0))) -> FALSE | T12: =IF(T$2>=$N12,IF($O12-SUM($S12:S12)>7,7,$O12-SUM($S12:S12)),"") -> 0 | U12: =IF(U$2>=$N12,IF($O12-SUM($S12:T12)>7,7,$O12-SUM($S12:T12)),"") -> 0 | V12: =IF(V$2>=$N12,IF($O12-SUM($S12:U12)>7,7,$O12-SUM($S12:U12)),"") -> 0 | W12: =IF(W$2>=$N12,IF($O12-SUM($S12:V12)>7,7,$O12-SUM($S12:V12)),"") -> 0 | X12: =IF(X$2>=$N12,IF($O12-SUM($S12:W12)>7,7,$O12-SUM($S12:W12)),"") -> 0 | Y12: =IF(Y$2>=$N12,IF($O12-SUM($S12:X12)>7,7,$O12-SUM($S12:X12)),"") -> 0 | Z12: =IF(Z$2>=$N12,IF($O12-SUM($S12:Y12)>7,7,$O12-SUM($S12:Y12)),"") -> 0 | AA12: =IF(AA$2>=$N12,IF($O12-SUM($S12:Z12)>7,7,$O12-SUM($S12:Z12)),"") -> 0 | ... JR12: =IF(JR$2>=$N12,IF($O12-SUM($S12:JQ12)>7,7,$O12-SUM($S12:JQ12)),"") -> 0
C13: =IFERROR(VLOOKUP(B13,Chantier!$A:$C,2,0),"") | D13: =IFERROR(VLOOKUP(B13,Chantier!$A:$C,3,0),"") | L13: =+H13-(I13+J13+K13) -> 0 | Q13: =IF(R13=0,"Non planifié",IF(R13<>0,"En cours",0)) -> Non planifié | R13: =SUM(S13:IX13) -> 0 | S13: =IF(S$2=$N13,IF($O13<=7,$O13,IF($O13>7,7,0))) -> FALSE | T13: =IF(T$2>=$N13,IF($O13-SUM($S13:S13)>7,7,$O13-SUM($S13:S13)),"") -> 0 | U13: =IF(U$2>=$N13,IF($O13-SUM($S13:T13)>7,7,$O13-SUM($S13:T13)),"") -> 0 | V13: =IF(V$2>=$N13,IF($O13-SUM($S13:U13)>7,7,$O13-SUM($S13:U13)),"") -> 0 | W13: =IF(W$2>=$N13,IF($O13-SUM($S13:V13)>7,7,$O13-SUM($S13:V13)),"") -> 0 | X13: =IF(X$2>=$N13,IF($O13-SUM($S13:W13)>7,7,$O13-SUM($S13:W13)),"") -> 0 | Y13: =IF(Y$2>=$N13,IF($O13-SUM($S13:X13)>7,7,$O13-SUM($S13:X13)),"") -> 0 | Z13: =IF(Z$2>=$N13,IF($O13-SUM($S13:Y13)>7,7,$O13-SUM($S13:Y13)),"") -> 0 | AA13: =IF(AA$2>=$N13,IF($O13-SUM($S13:Z13)>7,7,$O13-SUM($S13:Z13)),"") -> 0 | ... JR13: =IF(JR$2>=$N13,IF($O13-SUM($S13:JQ13)>7,7,$O13-SUM($S13:JQ13)),"") -> 0
C14: =IFERROR(VLOOKUP(B14,Chantier!$A:$C,2,0),"") | D14: =IFERROR(VLOOKUP(B14,Chantier!$A:$C,3,0),"") | L14: =+H14-(I14+J14+K14) -> 0 | Q14: =IF(R14=0,"Non planifié",IF(R14<>0,"En cours",0)) -> Non planifié | R14: =SUM(S14:IX14) -> 0 | S14: =IF(S$2=$N14,IF($O14<=7,$O14,IF($O14>7,7,0))) -> FALSE | T14: =IF(T$2>=$N14,IF($O14-SUM($S14:S14)>7,7,$O14-SUM($S14:S14)),"") -> 0 | U14: =IF(U$2>=$N14,IF($O14-SUM($S14:T14)>7,7,$O14-SUM($S14:T14)),"") -> 0 | V14: =IF(V$2>=$N14,IF($O14-SUM($S14:U14)>7,7,$O14-SUM($S14:U14)),"") -> 0 | W14: =IF(W$2>=$N14,IF($O14-SUM($S14:V14)>7,7,$O14-SUM($S14:V14)),"") -> 0 | X14: =IF(X$2>=$N14,IF($O14-SUM($S14:W14)>7,7,$O14-SUM($S14:W14)),"") -> 0 | Y14: =IF(Y$2>=$N14,IF($O14-SUM($S14:X14)>7,7,$O14-SUM($S14:X14)),"") -> 0 | Z14: =IF(Z$2>=$N14,IF($O14-SUM($S14:Y14)>7,7,$O14-SUM($S14:Y14)),"") -> 0 | AA14: =IF(AA$2>=$N14,IF($O14-SUM($S14:Z14)>7,7,$O14-SUM($S14:Z14)),"") -> 0 | ... JR14: =IF(JR$2>=$N14,IF($O14-SUM($S14:JQ14)>7,7,$O14-SUM($S14:JQ14)),"") -> 0
C15: =IFERROR(VLOOKUP(B15,Chantier!$A:$C,2,0),"") | D15: =IFERROR(VLOOKUP(B15,Chantier!$A:$C,3,0),"") | L15: =+H15-(I15+J15+K15) -> 0 | N15: 44616 | O15: 15 | Q15: =IF(R15=0,"Non planifié",IF(R15<>0,"En cours",0)) -> En cours | R15: =SUM(S15:IX15) -> 15 | S15: =IF(S$2=$N15,IF($O15<=7,$O15,IF($O15>7,7,0))) -> FALSE | T15: =IF(T$2>=$N15,IF($O15-SUM($S15:S15)>7,7,$O15-SUM($S15:S15)),"") | U15: =IF(U$2>=$N15,IF($O15-SUM($S15:T15)>7,7,$O15-SUM($S15:T15)),"") | V15: =IF(V$2>=$N15,IF($O15-SUM($S15:U15)>7,7,$O15-SUM($S15:U15)),"") | W15: =IF(W$2>=$N15,IF($O15-SUM($S15:V15)>7,7,$O15-SUM($S15:V15)),"") | X15: =IF(X$2>=$N15,IF($O15-SUM($S15:W15)>7,7,$O15-SUM($S15:W15)),"") | Y15: =IF(Y$2>=$N15,IF($O15-SUM($S15:X15)>7,7,$O15-SUM($S15:X15)),"") | Z15: =IF(Z$2>=$N15,IF($O15-SUM($S15:Y15)>7,7,$O15-SUM($S15:Y15)),"") | AA15: =IF(AA$2>=$N15,IF($O15-SUM($S15:Z15)>7,7,$O15-SUM($S15:Z15)),"") | ... JR15: =IF(JR$2>=$N15,IF($O15-SUM($S15:JQ15)>7,7,$O15-SUM($S15:JQ15)),"") -> 0
C16: =IFERROR(VLOOKUP(B16,Chantier!$A:$C,2,0),"") | D16: =IFERROR(VLOOKUP(B16,Chantier!$A:$C,3,0),"") | L16: =+H16-(I16+J16+K16) -> 0 | Q16: =IF(R16=0,"Non planifié",IF(R16<>0,"En cours",0)) -> Non planifié | R16: =SUM(S16:IX16) -> 0
C17: =IFERROR(VLOOKUP(B17,Chantier!$A:$C,2,0),"") | D17: =IFERROR(VLOOKUP(B17,Chantier!$A:$C,3,0),"") | L17: =+H17-(I17+J17+K17) -> 0 | Q17: =IF(R17=0,"Non planifié",IF(R17<>0,"En cours",0)) -> Non planifié | R17: =SUM(S17:IX17) -> 0
C18: =IFERROR(VLOOKUP(B18,Chantier!$A:$C,2,0),"") | D18: =IFERROR(VLOOKUP(B18,Chantier!$A:$C,3,0),"") | L18: =+H18-(I18+J18+K18) -> 0 | Q18: =IF(R18=0,"Non planifié",IF(R18<>0,"En cours",0)) -> Non planifié | R18: =SUM(S18:IX18) -> 0
C19: =IFERROR(VLOOKUP(B19,Chantier!$A:$C,2,0),"") | D19: =IFERROR(VLOOKUP(B19,Chantier!$A:$C,3,0),"") | L19: =+H19-(I19+J19+K19) -> 0 | Q19: =IF(R19=0,"Non planifié",IF(R19<>0,"En cours",0)) -> Non planifié | R19: =SUM(S19:IX19) -> 0
C20: =IFERROR(VLOOKUP(B20,Chantier!$A:$C,2,0),"") | D20: =IFERROR(VLOOKUP(B20,Chantier!$A:$C,3,0),"") | L20: =+H20-(I20+J20+K20) -> 0 | Q20: =IF(R20=0,"Non planifié",IF(R20<>0,"En cours",0)) -> Non planifié | R20: =SUM(S20:IX20) -> 0
C21: =IFERROR(VLOOKUP(B21,Chantier!$A:$C,2,0),"") | D21: =IFERROR(VLOOKUP(B21,Chantier!$A:$C,3,0),"") | L21: =+H21-(I21+J21+K21) -> 0 | Q21: =IF(R21=0,"Non planifié",IF(R21<>0,"En cours",0)) -> Non planifié | R21: =SUM(S21:IX21) -> 0
C22: =IFERROR(VLOOKUP(B22,Chantier!$A:$C,2,0),"") | D22: =IFERROR(VLOOKUP(B22,Chantier!$A:$C,3,0),"") | L22: =+H22-(I22+J22+K22) -> 0 | Q22: =IF(R22=0,"Non planifié",IF(R22<>0,"En cours",0)) -> Non planifié | R22: =SUM(S22:IX22) -> 0
C23: =IFERROR(VLOOKUP(B23,Chantier!$A:$C,2,0),"") | D23: =IFERROR(VLOOKUP(B23,Chantier!$A:$C,3,0),"") | L23: =+H23-(I23+J23+K23) -> 0 | Q23: =IF(R23=0,"Non planifié",IF(R23<>0,"En cours",0)) -> Non planifié | R23: =SUM(S23:IX23) -> 0
C24: =IFERROR(VLOOKUP(B24,Chantier!$A:$C,2,0),"") | D24: =IFERROR(VLOOKUP(B24,Chantier!$A:$C,3,0),"") | L24: =+H24-(I24+J24+K24) -> 0 | Q24: =IF(R24=0,"Non planifié",IF(R24<>0,"En cours",0)) -> Non planifié | R24: =SUM(S24:IX24) -> 0
C25: =IFERROR(VLOOKUP(B25,Chantier!$A:$C,2,0),"") | D25: =IFERROR(VLOOKUP(B25,Chantier!$A:$C,3,0),"") | L25: =+H25-(I25+J25+K25) -> 0 | Q25: =IF(R25=0,"Non planifié",IF(R25<>0,"En cours",0)) -> Non planifié | R25: =SUM(S25:IX25) -> 0
C26: =IFERROR(VLOOKUP(B26,Chantier!$A:$C,2,0),"") | D26: =IFERROR(VLOOKUP(B26,Chantier!$A:$C,3,0),"") | L26: =+H26-(I26+J26+K26) -> 0 | Q26: =IF(R26=0,"Non planifié",IF(R26<>0,"En cours",0)) -> Non planifié | R26: =SUM(S26:IX26) -> 0
C27: =IFERROR(VLOOKUP(B27,Chantier!$A:$C,2,0),"") | D27: =IFERROR(VLOOKUP(B27,Chantier!$A:$C,3,0),"") | L27: =+H27-(I27+J27+K27) -> 0 | Q27: =IF(R27=0,"Non planifié",IF(R27<>0,"En cours",0)) -> Non planifié | R27: =SUM(S27:IX27) -> 0
... C250: =IFERROR(VLOOKUP(B250,Chantier!$A:$C,2,0),"") | D250: =IFERROR(VLOOKUP(B250,Chantier!$A:$C,3,0),"") | L250: =+H250-(I250+J250+K250) -> 0 | Q250: =IF(R250=0,"Non planifié",IF(R250<>0,"En cours",0)) -> Non planifié | R250: =SUM(S250:IX250) -> 0

Sheet Chantier
A1: N° du PR | B1: Nom de la Résidence | C1: Maître d'Ouvrage
A3: 8OTO/A0 | B3: Résidence Rouergue Toulouse | C3: Toulouse Métropole Habitat
A4: 8AUD/AC | B4: 4 Résidences Département de l'Aude | C4: Habitat Audois
A5: 8OTO/AX | B5: Résidence les Pradettes Toulouse | C5: Toulouse Métropole Habitat
A6: 8PLM/AA | B6: Réaménagement de 88 lgts Chatou | C6: SAS Promalliance
A7: 8CAR/AS | B7: Résidence les Chênes Montauban | C7: SEG-FAYAT
A8: 8GBM/AE 8GBM/AF | B8: Résidences les Cèdres et les Lilas Toulouse | C8: GBMP
A9: AFMO/AZ | B9: Réaménagement du bureaux et Local activité - Montrouge | C9: EFIDIS (avec BRINT)
A10: JB41/DZ | B10: Réhabilitation de 299 lgts Tranche II Montargis | C10: VALLOGIS
A11: BSA5/S$ | B11: Réhabilitation de 15 bâts Lagord | C11: SGAMI
A12: 8841/MN | B12: Foyer logement Pirmil Nantes | C12: Nantes Métropole Habitat (via André BTP)
A13: DANC/AS | B13: Foyer Parme - 102 chambres Athis-Mons | C13: SA HLM LA Sablière
... A124: 8LOU/HZ | B124: Réhabilitation 105 lgts Les Balcons de la Maine ANGERS | C124: LOGIOUEST

Sheet Donnée
A1: RG | B1: Etudes | C1: Liste TBE | D1: Etudes réalisées | E1: DE | F1: Temps prévu | G1: Statut
A3: JMM | B3: Passat° | C3: OS | D3: A faire | E3: Oui | F3: 1 | G3: Non planifié
A4: OF | B4: Devis DE | C4: AL | D4: Non fait | E4: Non | F4: 2 | G4: En cours
A5: BC | B5: TAMC | C5: IS | D5: Fait | F5: 3 | G5: Réalisé
A6: FM | B6: TD SG | C6: BET EXT | D6: En cours | F6: 4
A7: YT | B7: DT | C7: BET CEN | F7: 5
A8: RF | B8: DE AS400 | F8: 6
B9: Plans Lgts | F9: 7
B10: Plans SG | F10: 8
B11: Plans ENEDIS | F11: 9
B12: Synopt. | F12: 10
B13: Bilan de W | F13: 11
B14: NDC ENEDIS | F14: 12
B15: NDC Canéco | F15: 13
B16: NDC Lms | F16: 14
B17: Visa | F17: 15
B18: Divers | F18: 16
B19: DOE | F19: 17
F20: 18
F21: 19
F22: 20
F23: 21
F24: 22
F25: 23
F26: 24
F27: 25
F28: 26
F29: 27
F30: 28
F31: 29
... F37: 35
