Workbook
Name ADY: 'BDD TRAVAIL'!#REF!
Name ADY: #REF!
Name mc_m: 'BDD TRAVAIL'!#REF!
Name mc_m: #REF!

Sheet LISTING
A1: ALF | C1: PILIERS | E1: RACING | G1: DOMICILE
A2: ADY | C2: TALONS | E2: GRENOBLE | G2: EXTERIEUR
A3: ATN | C3: 2L | E3: CASTRES
A4: BBO | C4: 3L | E4: TOULOUSE
A5: BLD | C5: 9 | E5: BAYONNE (ERCC)
A6: BRG | C6: 10 | E6: CONNACHT (ERCC)
A7: BRQ | C7: CENTRES | E7: CLERMONT
A8: BRS | C8: AILIERS | E8: BRIVE
A9: BTA | C9: ARRIERES | E9: MONTPELLIER
A10: CDR | E10: OYONNAX
A11: CLR | E11: BORDEAUX
A12: CNL | E12: STADE FR
A13: CRB | E13: TOULON
A14: CST | E14: LYON
A15: DJB | E15: RACING 2
A16: DST | E16: BAYONNE
A17: ETN
A18: FRB
A19: FRT
A20: GJN
A21: GLD
A22: GRB
A23: GRD
A24: GRH
A25: GRNC
A26: GRT
A27: GYT
A28: HIN
... A46: VVR

Sheet BDD TRAVAIL
A1: RACING | B1: Atl. | C1: TPS Jeu | D1: TD | E1: ED | F1: D1 | G1: D2 | H1: D3 | I1: D4 | J1: PE | K1: CT | L1: mc/m | N1: Carries | O1: Contest | P1: Soutien | Q1: Plaq | R1: TOT | T1: Tps effectif | U1: Mêlées | V1: Touches | W1: Rucks | X1: TOT
B2: ADY | C2: 21 | D2: 2845 | F2: 1126 | G2: 1154 | H2: 519 | I2: 46 | J2: 44 | K2: =SUM(G2:I2) -> 1719 | L2: =K2/C2 -> 81.857143 | N2: 1 | O2: 0 | P2: 0 | Q2: 3 | R2: =SUM(N2:Q2) -> 4 | T2: 35.02 | U2: 10 | V2: 32 | W2: 167 | X2: =SUM(R2:R24) -> 306
B3: BRQ | C3: 80 | D3: 7297 | F3: 3363 | G3: 2819 | H3: 913 | I3: 203 | J3: 93 | K3: 3935 | L3: =K3/C3 -> 49.1875 | N3: 3 | O3: 0 | P3: 1 | Q3: 5 | R3: =SUM(N3:Q3) -> 9
B4: BRG | C4: 70 | D4: 7262 | F4: 3277 | G4: 2817 | H4: 1080 | I4: 86 | J4: 125 | K4: 3983 | L4: =K4/C4 -> 56.9 | N4: 2 | O4: 0 | P4: 2 | Q4: 5 | R4: =SUM(N4:Q4) -> 9
B5: BBO | C5: 59 | D5: 5406 | F5: 2927 | G5: 1746 | H5: 645 | I5: 88 | J5: 79 | K5: 2479 | L5: =K5/C5 -> 42.016949 | N5: 3 | O5: 0 | P5: 1 | Q5: 1 | R5: =SUM(N5:Q5) -> 5
B6: BTA | C6: 70 | D6: 6112 | F6: 3034 | G6: 2181 | H6: 816 | I6: 81 | J6: 115 | K6: 3078 | L6: =K6/C6 -> 43.971429 | N6: 2 | O6: 5 | P6: 2 | Q6: 9 | R6: =SUM(N6:Q6) -> 18
B7: CDR | C7: 25 | D7: 2349 | F7: 1226 | G7: 1000 | H7: 123 | I7: 0 | J7: 33 | K7: 1123 | L7: =K7/C7 -> 44.92 | N7: 0 | O7: 1 | P7: 1 | Q7: 3 | R7: =SUM(N7:Q7) -> 5
B8: FRT | C8: 63 | D8: 5824 | F8: 3198 | G8: 2175 | H8: 412 | I8: 40 | J8: 63 | K8: 2627 | L8: =K8/C8 -> 41.698413 | N8: 2 | O8: 0 | P8: 0 | Q8: 2 | R8: =SUM(N8:Q8) -> 4
B9: GLD | C9: 55 | D9: 5161 | F9: 2616 | G9: 2325 | H9: 220 | I9: 0 | J9: 55 | K9: 2545 | L9: =K9/C9 -> 46.272727 | N9: 2 | O9: 1 | P9: 7 | Q9: 10 | R9: =SUM(N9:Q9) -> 20
B10: GJN | C10: 55 | D10: 4652 | F10: 2505 | G10: 1841 | H10: 306 | I10: 0 | J10: 55 | K10: 2147 | L10: =K10/C10 -> 39.036364 | N10: 7 | O10: 3 | P10: 3 | Q10: 8 | R10: =SUM(N10:Q10) -> 21
B11: GRD | C11: 80 | D11: 6622 | F11: 3699 | G11: 2463 | H11: 456 | I11: 5 | J11: 77 | K11: 2924 | L11: =K11/C11 -> 36.55 | N11: 9 | O11: 2 | P11: 4 | Q11: 20 | R11: =SUM(N11:Q11) -> 35
B12: LNCL | C12: 72 | D12: 7414 | F12: 3117 | G12: 2784 | H12: 1266 | I12: 248 | J12: 114 | K12: 4298 | L12: =K12/C12 -> 59.694444 | N12: 3 | O12: 0 | P12: 3 | Q12: 2 | R12: =SUM(N12:Q12) -> 8
B13: MRI | C13: 80 | D13: 7120 | F13: 4119 | G13: 2101 | H13: 829 | I13: 72 | J13: 109 | K13: 3002 | L13: =K13/C13 -> 37.525 | N13: 6 | O13: 2 | P13: 6 | Q13: 7 | R13: =SUM(N13:Q13) -> 21
B14: PLO | C14: 59 | D14: 4870 | F14: 2750 | G14: 1873 | H14: 226 | I14: 21 | J14: 48 | K14: 2120 | L14: =K14/C14 -> 35.932203 | N14: 1 | O14: 2 | P14: 10 | Q14: 6 | R14: =SUM(N14:Q14) -> 19
... B16: SZY | C16: 14 | D16: 1859 | F16: 1152 | G16: 618 | H16: 89 | I16: 0 | J16: 14 | K16: 707 | L16: =K16/C16 -> 50.5 | N16: 1 | O16: 0 | P16: 2 | Q16: 1 | R16: =SUM(N16:Q16) -> 4
B17: ATN | C17: 63 | N17: 6 | O17: 1 | P17: 5 | Q17: 7 | R17: =SUM(N17:Q17) -> 19
B18: FRB | C18: 26 | N18: 0 | O18: 0 | P18: 0 | Q18: 8 | R18: =SUM(N18:Q18) -> 8
B19: LKX | C19: 24 | N19: 0 | O19: 3 | P19: 0 | Q19: 9 | R19: =SUM(N19:Q19) -> 12
B20: DJB | C20: 67 | N20: 1 | O20: 4 | P20: 5 | Q20: 12 | R20: =SUM(N20:Q20) -> 22 | T20: MC/TE MOY | U20: CT MOY
B21: GRT | C21: 17 | N21: 1 | O21: 0 | P21: 0 | Q21: 4 | R21: =SUM(N21:Q21) -> 5 | T21: =AVERAGE(K2:K16)/T2 -> 74.70969 | U21: =AVERAGE(K2:K16) -> 2616.3333
B22: HMS | C22: 9 | N22: 0 | O22: 0 | P22: 0 | Q22: 1 | R22: =SUM(N22:Q22) -> 1
B23: BRST | C23: 17 | N23: 0 | O23: 0 | P23: 0 | Q23: 4 | R23: =SUM(N23:Q23) -> 4
B24: ETN | C24: 80 | N24: 0 | O24: 4 | P24: 9 | Q24: 15 | R24: =SUM(N24:Q24) -> 28
A25: GRENOBLE | B25: Atl. | C25: TPS Jeu | D25: TD | E25: ED | F25: D1 | G25: D2 | H25: D3 | I25: D4 | J25: PE | K25: CT | L25: mc/m | N25: Carries | O25: Contest | P25: Soutien | Q25: Plaq | R25: TOT | T25: Tps effectif | U25: Mêlées | V25: Touches | W25: Rucks | X25: TOT
B26: BRG | C26: 70 | D26: 8121 | F26: 3255 | G26: 3606 | H26: 1141 | I26: 120 | J26: 125 | K26: 4867 | L26: =K26/C26 -> 69.528571 | N26: 4 | O26: 0 | P26: 2 | Q26: 10 | R26: =SUM(N26:Q26) -> 16 | T26: 31.47 | U26: 11 | V26: 25 | W26: 153 | X26: =SUM(R26:R48) -> 350
B27: BRQ | C27: 80 | D27: 7828 | F27: 3680 | G27: 3007 | H27: 1000 | I27: 141 | J27: 109 | K27: 4148 | L27: =K27/C27 -> 51.85 | N27: 2 | O27: 0 | P27: 3 | Q27: 8 | R27: =SUM(N27:Q27) -> 13
B28: ALF | C28: 80 | D28: 7074 | F28: 3581 | G28: 2254 | H28: 1036 | I28: 203 | J28: 111 | K28: 3493 | L28: =K28/C28 -> 43.6625 | N28: 4 | O28: 0 | P28: 3 | Q28: 1 | R28: =SUM(N28:Q28) -> 8
B29: MRI | C29: 80 | D29: 6711 | F29: 4285 | G29: 1614 | H29: 691 | I29: 122 | J29: 88 | K29: 2427 | L29: =K29/C29 -> 30.3375 | N29: 11 | O29: 2 | P29: 5 | Q29: 4 | R29: =SUM(N29:Q29) -> 22
B30: GRD | C30: 80 | D30: 6459 | F30: 3671 | G30: 2453 | H30: 330 | I30: 7 | J30: 83 | K30: 2790 | L30: =K30/C30 -> 34.875 | N30: 12 | O30: 3 | P30: 17 | Q30: 20 | R30: =SUM(N30:Q30) -> 52
B31: BTA | C31: 80 | D31: 6432 | F31: 3181 | G31: 2585 | H31: 525 | I31: 141 | J31: 118 | K31: 3251 | L31: =K31/C31 -> 40.6375 | N31: 8 | O31: 4 | P31: 7 | Q31: 7 | R31: =SUM(N31:Q31) -> 26
B32: QVU | C32: 80 | D32: 6263 | F32: 3151 | G32: 2763 | H32: 350 | I32: 0 | J32: 74 | K32: 3113 | L32: =K32/C32 -> 38.9125 | N32: 11 | O32: 2 | P32: 11 | Q32: 6 | R32: =SUM(N32:Q32) -> 30
B33: FRT | C33: 72 | D33: 6268 | F33: 3143 | G33: 2661 | H33: 434 | I33: 31 | J33: 78 | K33: 3126 | L33: =K33/C33 -> 43.416667 | N33: 5 | O33: 0 | P33: 1 | Q33: 2 | R33: =SUM(N33:Q33) -> 8
B34: LKX | C34: 72 | D34: 5710 | F34: 3190 | G34: 2272 | H34: 242 | I34: 7 | J34: 53 | K34: 2521 | L34: =K34/C34 -> 35.013889 | N34: 0 | O34: 2 | P34: 9 | Q34: 3 | R34: =SUM(N34:Q34) -> 14
B35: GJN | C35: 71 | D35: 5817 | F35: 2779 | G35: 2527 | H35: 512 | I35: 0 | J35: 85 | K35: 3039 | L35: =K35/C35 -> 42.802817 | N35: 9 | O35: 0 | P35: 11 | Q35: 12 | R35: =SUM(N35:Q35) -> 32
B36: ATN | C36: 70 | D36: 5463 | F36: 3048 | G36: 2222 | H36: 194 | I36: 0 | J36: 52 | K36: 2416 | L36: =K36/C36 -> 34.514286 | N36: 2 | O36: 3 | P36: 10 | Q36: 7 | R36: =SUM(N36:Q36) -> 22
B37: ADY | C37: 2 | D37: 257 | F37: 170 | G37: 45 | H37: 42 | I37: 0 | J37: 2 | K37: =SUM(G37:I37) -> 87 | L37: =K37/C37 -> 43.5 | N37: 0 | O37: 0 | P37: 0 | Q37: 0 | R37: =SUM(N37:Q37) -> 0
B38: CDR | C38: 9 | D38: 1047 | F38: 473 | G38: 506 | H38: 67 | I38: 0 | J38: 13 | K38: =SUM(G38:I38) -> 573 | L38: =K38/C38 -> 63.666667 | N38: 1 | O38: 0 | P38: 3 | Q38: 0 | R38: =SUM(N38:Q38) -> 4
B39: LUT | C39: 60 | D39: 5429 | F39: 2385 | G39: 1907 | H39: 975 | I39: 162 | J39: 94 | K39: 3044 | L39: =K39/C39 -> 50.733333 | N39: 0 | O39: 0 | P39: 11 | Q39: 1 | R39: =SUM(N39:Q39) -> 12
B40: GLD | C40: 50 | D40: 4668 | F40: 2053 | G40: 2389 | H40: 226 | I40: 0 | J40: 66 | K40: 2615 | L40: =K40/C40 -> 52.3 | N40: 1 | O40: 0 | P40: 6 | Q40: 2 | R40: =SUM(N40:Q40) -> 9
B41: PLO | C41: 8 | N41: 0 | O41: 0 | P41: 2 | Q41: 0 | R41: =SUM(N41:Q41) -> 2
B42: FRB | C42: 30 | N42: 3 | O42: 2 | P42: 6 | Q42: 3 | R42: =SUM(N42:Q42) -> 14
B43: BRST | C43: 10 | N43: 2 | O43: 1 | P43: 2 | Q43: 1 | R43: =SUM(N43:Q43) -> 6
B44: ETN | C44: 80 | N44: 3 | O44: 2 | P44: 13 | Q44: 5 | R44: =SUM(N44:Q44) -> 23 | T44: MC/TE MOY | U44: CT MOY
B45: DJB | C45: 9 | N45: 0 | O45: 0 | P45: 5 | Q45: 4 | R45: =SUM(N45:Q45) -> 9 | T45: =AVERAGE(K26:K40)/T26 -> 87.9356 | U45: =AVERAGE(K26:K40) -> 2767.3333
B46: GRH | C46: 71 | N46: 3 | O46: 3 | P46: 10 | Q46: 4 | R46: =SUM(N46:Q46) -> 20
B47: GRT | C47: 8 | N47: 0 | O47: 0 | P47: 0 | Q47: 2 | R47: =SUM(N47:Q47) -> 2
B48: HIN | C48: 20 | N48: 0 | O48: 3 | P48: 2 | Q48: 1 | R48: =SUM(N48:Q48) -> 6
A49: CASTRES | B49: Atl. | C49: TPS Jeu | D49: TD | E49: ED | F49: D1 | G49: D2 | H49: D3 | I49: D4 | J49: PE | K49: CT | L49: mc/m | N49: Carries | O49: Contest | P49: Soutien | Q49: Plaq | R49: TOT | T49: Tps effectif | U49: Mêlées | V49: Touches | W49: Rucks | X49: TOT
B50: HMS | C50: 80 | D50: 7768 | F50: 3088 | G50: 3653 | H50: 1003 | I50: 23 | J50: 121 | K50: =SUM(G50:I50) -> 4679 | L50: =K50/C50 -> 58.4875 | N50: 4 | O50: 0 | P50: 9 | Q50: 6 | R50: =SUM(N50:Q50) -> 19 | T50: 32.28 | U50: 9 | V50: 22 | W50: 155 | X50: =SUM(R50:R72) -> 394
B51: ALF | C51: 80 | D51: 7639 | F51: 3655 | G51: 3062 | H51: 872 | I51: 50 | J51: 115 | K51: =SUM(G51:I51) -> 3984 | L51: =K51/C51 -> 49.8 | N51: 6 | O51: 0 | P51: 6 | Q51: 3 | R51: =SUM(N51:Q51) -> 15
B52: GRT | C52: 80 | D52: 6925 | F52: 3052 | G52: 3254 | H52: 545 | I52: 74 | J52: 124 | K52: =SUM(G52:I52) -> 3873 | L52: =K52/C52 -> 48.4125 | N52: 8 | O52: 2 | P52: 6 | Q52: 5 | R52: =SUM(N52:Q52) -> 21
B53: BBO | C53: 80 | D53: 6348 | F53: 3455 | G53: 2174 | H53: 539 | I53: 180 | J53: 94 | K53: =SUM(G53:I53) -> 2893 | L53: =K53/C53 -> 36.1625 | N53: 11 | O53: 0 | P53: 12 | Q53: 4 | R53: =SUM(N53:Q53) -> 27
B54: GRD | C54: 75 | D54: 6206 | F54: 3412 | G54: 2398 | H54: 355 | I54: 42 | J54: 87 | K54: =SUM(G54:I54) -> 2795 | L54: =K54/C54 -> 37.266667 | N54: 14 | O54: 3 | P54: 3 | Q54: 12 | R54: =SUM(N54:Q54) -> 32
B55: BTA | C55: 80 | D55: 6020 | F55: 2992 | G55: 2286 | H55: 700 | I55: 42 | J55: 117 | K55: =SUM(G55:I55) -> 3028 | L55: =K55/C55 -> 37.85 | N55: 14 | O55: 6 | P55: 8 | Q55: 5 | R55: =SUM(N55:Q55) -> 33
B56: BRQ | C56: 65 | D56: 5865 | F56: 3210 | G56: 1944 | H56: 633 | I56: 78 | J56: 72 | K56: =SUM(G56:I56) -> 2655 | L56: =K56/C56 -> 40.846154 | N56: 9 | O56: 0 | P56: 5 | Q56: 2 | R56: =SUM(N56:Q56) -> 16
B57: ATN | C57: 64 | D57: 4921 | F57: 2831 | G57: 1894 | H57: 196 | I57: 0 | J57: 55 | K57: =SUM(G57:I57) -> 2090 | L57: =K57/C57 -> 32.65625 | N57: 8 | O57: 2 | P57: 4 | Q57: 3 | R57: =SUM(N57:Q57) -> 17
B58: BRG | C58: 44 | D58: 4858 | F58: 2170 | G58: 1788 | H58: 821 | I58: 79 | J58: 76 | K58: =SUM(G58:I58) -> 2688 | L58: =K58/C58 -> 61.090909 | N58: 3 | O58: 2 | P58: 1 | Q58: 5 | R58: =SUM(N58:Q58) -> 11
B59: ADY | C59: 36 | D59: 3959 | F59: 1527 | G59: 1655 | H59: 758 | I59: 18 | J59: 76 | K59: =SUM(G59:I59) -> 2431 | L59: =K59/C59 -> 67.527778 | N59: 1 | O59: 2 | P59: 2 | Q59: 1 | R59: =SUM(N59:Q59) -> 6
B60: LKX | C60: 46 | D60: 3250 | F60: 1685 | G60: 1378 | H60: 187 | I60: 0 | J60: 40 | K60: =SUM(G60:I60) -> 1565 | L60: =K60/C60 -> 34.021739 | N60: 1 | O60: 0 | P60: 0 | Q60: 5 | R60: =SUM(N60:Q60) -> 6
B61: GYT | C61: 40 | D61: 3246 | F61: 1385 | G61: 1380 | H61: 448 | I61: 34 | J61: 49 | K61: =SUM(G61:I61) -> 1862 | L61: =K61/C61 -> 46.55 | N61: 3 | O61: 2 | P61: 3 | Q61: 1 | R61: =SUM(N61:Q61) -> 9
B62: HIN | C62: 15 | D62: 1556 | F62: 827 | G62: 573 | H62: 132 | I62: 24 | J62: 20 | K62: =SUM(G62:I62) -> 729 | L62: =K62/C62 -> 48.6 | N62: 2 | O62: 1 | P62: 5 | Q62: 0 | R62: =SUM(N62:Q62) -> 8
B63: QVU | C63: 44 | N63: 9 | O63: 1 | P63: 8 | Q63: 2 | R63: =SUM(N63:Q63) -> 20
B64: CDR | C64: 80 | N64: 3 | O64: 1 | P64: 7 | Q64: 5 | R64: =SUM(N64:Q64) -> 16
B65: ETN | C65: 80 | N65: 4 | O65: 4 | P65: 13 | Q65: 9 | R65: =SUM(N65:Q65) -> 30
B66: FRB | C66: 40 | N66: 1 | O66: 1 | P66: 11 | Q66: 8 | R66: =SUM(N66:Q66) -> 21
B67: GJN | C67: 16 | N67: 12 | O67: 2 | P67: 6 | Q67: 4 | R67: =SUM(N67:Q67) -> 24
B68: GLD | C68: 29 | N68: 2 | O68: 0 | P68: 8 | Q68: 4 | R68: =SUM(N68:Q68) -> 14 | T68: MC/TE MOY | U68: CT MOY
B69: GRH | C69: 36 | N69: 7 | O69: 4 | P69: 14 | Q69: 8 | R69: =SUM(N69:Q69) -> 33 | T69: =AVERAGE(K50:K64)/T50 -> 84.052998 | U69: =AVERAGE(K50:K64) -> 2713.2308
B70: PLO | C70: 40 | N70: 3 | O70: 0 | P70: 4 | Q70: 1 | R70: =SUM(N70:Q70) -> 8
B71: SYN | C71: 40 | N71: 3 | O71: 0 | P71: 5 | Q71: 0 | R71: =SUM(N71:Q71) -> 8
A72: TOULOUSE | B72: Atl. | C72: TPS Jeu | D72: TD | E72: ED | F72: D1 | G72: D2 | H72: D3 | I72: D4 | J72: PE | K72: CT | L72: mc/m | N72: Carries | O72: Contest | P72: Soutien | Q72: Plaq | R72: TOT | T72: Tps effectif | U72: Mêlées | V72: Touches | W72: Rucks | X72: TOT
B73: ALF | C73: 80 | D73: 7224 | F73: 3712 | G73: 2637 | H73: 724 | I73: 151 | J73: 91 | K73: =SUM(G73:I73) -> 3512 | L73: =K73/C73 -> 43.9 | N73: 5 | O73: 0 | P73: 4 | Q73: 2 | R73: =SUM(N73:Q73) -> 11 | T73: 31.01 | U73: 8 | V73: 20 | W73: 170 | X73: =SUM(R73:R95) -> 405
B74: ATN | C74: 69 | D74: 5332 | F74: 3021 | G74: 2201 | H74: 110 | I74: 0 | J74: 57 | K74: =SUM(G74:I74) -> 2311 | L74: =K74/C74 -> 33.492754 | N74: 4 | O74: 0 | P74: 8 | Q74: 4 | R74: =SUM(N74:Q74) -> 16
B75: BBO | C75: 69 | D75: 6030 | F75: 3259 | G75: 1934 | H75: 641 | I75: 196 | J75: 95 | K75: =SUM(G75:I75) -> 2771 | L75: =K75/C75 -> 40.15942 | N75: 7 | O75: 0 | P75: 9 | Q75: 4 | R75: =SUM(N75:Q75) -> 20
B76: BRQ | C76: 57 | D76: 5464 | F76: 2474 | G76: 2333 | H76: 600 | I76: 58 | J76: 76 | K76: =SUM(G76:I76) -> 2991 | L76: =K76/C76 -> 52.473684 | N76: 0 | O76: 0 | P76: 6 | Q76: 4 | R76: =SUM(N76:Q76) -> 10
B77: BTA | C77: 80 | D77: 6148 | F77: 3162 | G77: 2359 | H77: 550 | I77: 76 | J77: 99 | K77: =SUM(G77:I77) -> 2985 | L77: =K77/C77 -> 37.3125 | N77: 9 | O77: 8 | P77: 5 | Q77: 13 | R77: =SUM(N77:Q77) -> 35
B78: FRB | C78: 61 | D78: 5135 | F78: 2635 | G78: 2302 | H78: 198 | I78: 0 | J78: 71 | K78: =SUM(G78:I78) -> 2500 | L78: =K78/C78 -> 40.983607 | N78: 7 | O78: 1 | P78: 14 | Q78: 8 | R78: =SUM(N78:Q78) -> 30
B79: GJN | C79: 80 | D79: 6314 | F79: 3061 | G79: 2747 | H79: 500 | I79: 6 | J79: 92 | K79: =SUM(G79:I79) -> 3253 | L79: =K79/C79 -> 40.6625 | N79: 13 | O79: 1 | P79: 13 | Q79: 8 | R79: =SUM(N79:Q79) -> 35
B80: GRD | C80: 80 | D80: 6506 | F80: 3675 | G80: 2561 | H80: 258 | I80: 11 | J80: 85 | K80: =SUM(G80:I80) -> 2830 | L80: =K80/C80 -> 35.375 | N80: 9 | O80: 2 | P80: 13 | Q80: 16 | R80: =SUM(N80:Q80) -> 40
B81: GRT | C81: 80 | D81: 6723 | F81: 2954 | G81: 3222 | H81: 535 | I81: 12 | J81: 106 | K81: =SUM(G81:I81) -> 3769 | L81: =K81/C81 -> 47.1125 | N81: 4 | O81: 0 | P81: 11 | Q81: 8 | R81: =SUM(N81:Q81) -> 23
B82: MUR | C82: 80 | D82: 6275 | F82: 4147 | G82: 1517 | H82: 491 | I82: 119 | J82: 73 | K82: =SUM(G82:I82) -> 2127 | L82: =K82/C82 -> 26.5875 | N82: 16 | O82: 2 | P82: 4 | Q82: 4 | R82: =SUM(N82:Q82) -> 26
B83: QVU | C83: 80 | D83: 5465 | F83: 3285 | G83: 1869 | H83: 289 | I83: 20 | J83: 53 | K83: =SUM(G83:I83) -> 2178 | L83: =K83/C83 -> 27.225 | N83: 9 | O83: 1 | P83: 15 | Q83: 10 | R83: =SUM(N83:Q83) -> 35
B84: PLO | C84: 23 | D84: 1808 | F84: 926 | G84: 834 | H84: 48 | I84: 0 | J84: 23 | K84: =SUM(G84:I84) -> 882 | L84: =K84/C84 -> 38.347826 | N84: 3 | O84: 0 | P84: 3 | Q84: 1 | R84: =SUM(N84:Q84) -> 7
B85: SYN | C85: 57 | N85: 2 | O85: 2 | P85: 11 | Q85: 1 | R85: =SUM(N85:Q85) -> 16
B86: GRH | C86: 46 | N86: 1 | O86: 3 | P86: 6 | Q86: 5 | R86: =SUM(N86:Q86) -> 15
B87: ETN | C87: 80 | N87: 6 | O87: 2 | P87: 15 | Q87: 10 | R87: =SUM(N87:Q87) -> 33
B88: ADY | C88: 80 | N88: 3 | O88: 0 | P88: 4 | Q88: 13 | R88: =SUM(N88:Q88) -> 20
B89: GLD | C89: 19 | N89: 1 | O89: 0 | P89: 3 | Q89: 2 | R89: =SUM(N89:Q89) -> 6
B90: CDR | C90: 34 | N90: 2 | O90: 2 | P90: 6 | Q90: 3 | R90: =SUM(N90:Q90) -> 13
B91: GYT | C91: 0 | N91: 0 | O91: 0 | P91: 0 | Q91: 0 | R91: =SUM(N91:Q91) -> 0 | T91: MC/TE MOY | U91: CT MOY
B92: BRG | C92: 0 | N92: 0 | O92: 0 | P92: 0 | Q92: 0 | R92: =SUM(N92:Q92) -> 0 | T92: =AVERAGE(K73:K84)/T73 -> 86.286682 | U92: =AVERAGE(K73:K87) -> 2675.75
B93: HMS | C93: 11 | N93: 0 | O93: 0 | P93: 2 | Q93: 0 | R93: =SUM(N93:Q93) -> 2
B94: HIN | C94: 23 | N94: 2 | O94: 2 | P94: 2 | Q94: 0 | R94: =SUM(N94:Q94) -> 6
B95: LKX | C95: 11 | N95: 2 | O95: 3 | P95: 1 | Q95: 0 | R95: =SUM(N95:Q95) -> 6
A96: BAYONNE (ERCC) | B96: Atl. | C96: TPS Jeu | D96: TD | E96: ED | F96: D1 | G96: D2 | H96: D3 | I96: D4 | J96: PE | K96: CT | L96: mc/m | N96: Carries | O96: Contest | P96: Soutien | Q96: Plaq | R96: TOT | T96: Tps effectif | U96: Mêlées | V96: Touches | W96: Rucks | X96: TOT
K97: =SUM(G97:I97) -> 0 | L97: =K97/C97 -> #DIV/0! | R97: =SUM(N97:Q97) -> 0 | X97: =SUM(R97:R119) -> 0
K98: =SUM(G98:I98) -> 0 | L98: =K98/C98 -> #DIV/0! | R98: =SUM(N98:Q98) -> 0
K99: =SUM(G99:I99) -> 0 | L99: =K99/C99 -> #DIV/0! | R99: =SUM(N99:Q99) -> 0
K100: =SUM(G100:I100) -> 0 | L100: =K100/C100 -> #DIV/0! | R100: =SUM(N100:Q100) -> 0
K101: =SUM(G101:I101) -> 0 | L101: =K101/C101 -> #DIV/0! | R101: =SUM(N101:Q101) -> 0
...

Sheet Feuil1
C5: RACING | D5: GRENOBLE | E5: CASTRES | F5: TOULOUSE
B6: Tps effectif | C6: =VLOOKUP(A6,'BDD TRAVAIL'!A1:X24,21,0) -> #N/A | D6: =VLOOKUP(B6,'BDD TRAVAIL'!$M$25:$M$29,2,0) -> #N/A | E6: =HLOOKUP(B6,'BDD TRAVAIL'!A49:T71,2,0) -> 32.28 | F6: =HLOOKUP(B6,'BDD TRAVAIL'!A72:T95,2,0) -> 31.01
B7: Mêlées | C7: =VLOOKUP(B7,#REF!,2,0) -> #REF! | D7: =VLOOKUP(B7,'BDD TRAVAIL'!$M$25:$M$29,2,0) -> #N/A | E7: =VLOOKUP(D7,'BDD TRAVAIL'!N2:O6,2,0) -> #N/A | F7: =VLOOKUP(E7,'BDD TRAVAIL'!O2:P6,2,0) -> #N/A
B8: Touches | C8: =VLOOKUP(B8,#REF!,2,0) -> #REF! | D8: =VLOOKUP(B8,'BDD TRAVAIL'!$M$25:$M$29,2,0) -> #N/A | E8: =VLOOKUP(D8,'BDD TRAVAIL'!N3:O7,2,0) -> #N/A | F8: =VLOOKUP(E8,'BDD TRAVAIL'!O3:P7,2,0) -> #N/A
B9: Rucks | C9: =VLOOKUP(B9,#REF!,2,0) -> #REF! | D9: =VLOOKUP(B9,'BDD TRAVAIL'!$M$25:$M$29,2,0) -> #N/A | E9: =VLOOKUP(D9,'BDD TRAVAIL'!N4:O8,2,0) -> #N/A | F9: =VLOOKUP(E9,'BDD TRAVAIL'!O4:P8,2,0) -> #N/A
B10: TOT | C10: =VLOOKUP(B10,#REF!,2,0) -> #REF! | D10: =VLOOKUP(B10,'BDD TRAVAIL'!$M$25:$M$29,2,0) -> #N/A | E10: =VLOOKUP(D10,'BDD TRAVAIL'!N5:O9,2,0) -> #N/A | F10: =VLOOKUP(E10,'BDD TRAVAIL'!O5:P9,2,0) -> #N/A

Sheet BDD INDIV
B2: RACING | D2: GRENOBLE | F2: CASTRES | H2: TOULOUSE
A3: NOM | B3: COURSE | C3: LUTTE | D3: COURSE | E3: LUTTE | F3: COURSE | G3: LUTTE | H3: COURSE | I3: LUTTE
A4: GJN | B4: =VLOOKUP(A4,'BDD TRAVAIL'!B1:R24,11,0) -> 39.036364 | C4: =VLOOKUP(A4,'BDD TRAVAIL'!B1:R24,18,0) -> #REF! | D4: =VLOOKUP(A4,'BDD TRAVAIL'!B25:R48,11,0) -> 42.802817 | E4: =VLOOKUP(A4,'BDD TRAVAIL'!B25:R48,18,0) -> #REF! | F4: =VLOOKUP(Table4[[#This Row],[NOM]],'BDD TRAVAIL'!B49:R71,11,0) -> 0 | G4: =VLOOKUP(Table4[[#This Row],[NOM]],'BDD TRAVAIL'!B49:R71,18,0) -> #REF! | H4: =VLOOKUP(Table4[[#This Row],[NOM]],'BDD TRAVAIL'!$B$72:$R$95,11,0) -> 40.6625 | I4: =VLOOKUP(Table4[[#This Row],[NOM]],'BDD TRAVAIL'!$B$72:$R$95,18,0) -> #REF!
A5: GRD | B5: =VLOOKUP(A5,'BDD TRAVAIL'!B2:R25,11,0) -> 36.55 | C5: =VLOOKUP(A5,'BDD TRAVAIL'!B2:R25,18,0) -> #REF! | D5: =VLOOKUP(A5,'BDD TRAVAIL'!B26:R49,11,0) -> 34.875 | E5: =VLOOKUP(A5,'BDD TRAVAIL'!B26:R49,18,0) -> #REF! | F5: =VLOOKUP(Table4[[#This Row],[NOM]],'BDD TRAVAIL'!B50:R72,11,0) -> 37.266667 | G5: =VLOOKUP(Table4[[#This Row],[NOM]],'BDD TRAVAIL'!B50:R72,18,0) -> #REF! | H5: =VLOOKUP(Table4[[#This Row],[NOM]],'BDD TRAVAIL'!$B$72:$R$95,11,0) -> 35.375 | I5: =VLOOKUP(Table4[[#This Row],[NOM]],'BDD TRAVAIL'!$B$72:$R$95,18,0) -> #REF!
A6: ETN | B6: =VLOOKUP(A6,'BDD TRAVAIL'!B3:R26,11,0) -> 0 | C6: =VLOOKUP(A6,'BDD TRAVAIL'!B3:R26,18,0) -> #REF! | D6: =VLOOKUP(A6,'BDD TRAVAIL'!B27:R50,11,0) -> 0 | E6: =VLOOKUP(A6,'BDD TRAVAIL'!B27:R50,18,0) -> #REF! | F6: =VLOOKUP(Table4[[#This Row],[NOM]],'BDD TRAVAIL'!B51:R73,11,0) -> 0 | G6: =VLOOKUP(Table4[[#This Row],[NOM]],'BDD TRAVAIL'!B51:R73,18,0) -> #REF! | H6: =VLOOKUP(Table4[[#This Row],[NOM]],'BDD TRAVAIL'!$B$72:$R$95,11,0) -> 0 | I6: =VLOOKUP(Table4[[#This Row],[NOM]],'BDD TRAVAIL'!$B$72:$R$95,18,0) -> #REF!
B7: =VLOOKUP(A7,'BDD TRAVAIL'!B4:R27,11,0) -> #N/A | C7: =VLOOKUP(A7,'BDD TRAVAIL'!B4:R27,18,0) -> #N/A | D7: =VLOOKUP(A7,'BDD TRAVAIL'!B28:R51,11,0) -> #N/A | E7: =VLOOKUP(A7,'BDD TRAVAIL'!B28:R51,18,0) -> #N/A | F7: =VLOOKUP(Table4[[#This Row],[NOM]],'BDD TRAVAIL'!B52:R74,11,0) -> #N/A | G7: =VLOOKUP(Table4[[#This Row],[NOM]],'BDD TRAVAIL'!B52:R74,18,0) -> #N/A | H7: =VLOOKUP(Table4[[#This Row],[NOM]],'BDD TRAVAIL'!$B$72:$R$95,11,0) -> #N/A | I7: =VLOOKUP(Table4[[#This Row],[NOM]],'BDD TRAVAIL'!$B$72:$R$95,18,0) -> #N/A
B8: =VLOOKUP(A8,'BDD TRAVAIL'!B5:R28,11,0) -> #N/A | C8: =VLOOKUP(A8,'BDD TRAVAIL'!B5:R28,18,0) -> #N/A | D8: =VLOOKUP(A8,'BDD TRAVAIL'!B29:R52,11,0) -> #N/A | E8: =VLOOKUP(A8,'BDD TRAVAIL'!B29:R52,18,0) -> #N/A | F8: =VLOOKUP(Table4[[#This Row],[NOM]],'BDD TRAVAIL'!B53:R75,11,0) -> #N/A | G8: =VLOOKUP(Table4[[#This Row],[NOM]],'BDD TRAVAIL'!B53:R75,18,0) -> #N/A | H8: =VLOOKUP(Table4[[#This Row],[NOM]],'BDD TRAVAIL'!$B$72:$R$95,11,0) -> #N/A | I8: =VLOOKUP(Table4[[#This Row],[NOM]],'BDD TRAVAIL'!$B$72:$R$95,18,0) -> #N/A
B9: =VLOOKUP(A9,'BDD TRAVAIL'!B6:R29,11,0) -> #N/A | C9: =VLOOKUP(A9,'BDD TRAVAIL'!B6:R29,18,0) -> #N/A | D9: =VLOOKUP(A9,'BDD TRAVAIL'!B30:R53,11,0) -> #N/A | E9: =VLOOKUP(A9,'BDD TRAVAIL'!B30:R53,18,0) -> #N/A | F9: =VLOOKUP(Table4[[#This Row],[NOM]],'BDD TRAVAIL'!B54:R76,11,0) -> #N/A | G9: =VLOOKUP(Table4[[#This Row],[NOM]],'BDD TRAVAIL'!B54:R76,18,0) -> #N/A | H9: =VLOOKUP(Table4[[#This Row],[NOM]],'BDD TRAVAIL'!$B$72:$R$95,11,0) -> #N/A | I9: =VLOOKUP(Table4[[#This Row],[NOM]],'BDD TRAVAIL'!$B$72:$R$95,18,0) -> #N/A
B10: =VLOOKUP(A10,'BDD TRAVAIL'!B7:R30,11,0) -> #N/A | C10: =VLOOKUP(A10,'BDD TRAVAIL'!B7:R30,18,0) -> #N/A | D10: =VLOOKUP(A10,'BDD TRAVAIL'!B31:R54,11,0) -> #N/A | E10: =VLOOKUP(A10,'BDD TRAVAIL'!B31:R54,18,0) -> #N/A | F10: =VLOOKUP(Table4[[#This Row],[NOM]],'BDD TRAVAIL'!B55:R77,11,0) -> #N/A | G10: =VLOOKUP(Table4[[#This Row],[NOM]],'BDD TRAVAIL'!B55:R77,18,0) -> #N/A | H10: =VLOOKUP(Table4[[#This Row],[NOM]],'BDD TRAVAIL'!$B$72:$R$95,11,0) -> #N/A | I10: =VLOOKUP(Table4[[#This Row],[NOM]],'BDD TRAVAIL'!$B$72:$R$95,18,0) -> #N/A
B11: =VLOOKUP(A11,'BDD TRAVAIL'!B8:R31,11,0) -> #N/A | C11: =VLOOKUP(A11,'BDD TRAVAIL'!B8:R31,18,0) -> #N/A | D11: =VLOOKUP(A11,'BDD TRAVAIL'!B32:R55,11,0) -> #N/A | E11: =VLOOKUP(A11,'BDD TRAVAIL'!B32:R55,18,0) -> #N/A | F11: =VLOOKUP(Table4[[#This Row],[NOM]],'BDD TRAVAIL'!B56:R78,11,0) -> #N/A | G11: =VLOOKUP(Table4[[#This Row],[NOM]],'BDD TRAVAIL'!B56:R78,18,0) -> #N/A | H11: =VLOOKUP(Table4[[#This Row],[NOM]],'BDD TRAVAIL'!$B$72:$R$95,11,0) -> #N/A | I11: =VLOOKUP(Table4[[#This Row],[NOM]],'BDD TRAVAIL'!$B$72:$R$95,18,0) -> #N/A
B12: =VLOOKUP(A12,'BDD TRAVAIL'!B9:R32,11,0) -> #N/A | C12: =VLOOKUP(A12,'BDD TRAVAIL'!B9:R32,18,0) -> #N/A | D12: =VLOOKUP(A12,'BDD TRAVAIL'!B33:R56,11,0) -> #N/A | E12: =VLOOKUP(A12,'BDD TRAVAIL'!B33:R56,18,0) -> #N/A | F12: =VLOOKUP(Table4[[#This Row],[NOM]],'BDD TRAVAIL'!B57:R79,11,0) -> #N/A | G12: =VLOOKUP(Table4[[#This Row],[NOM]],'BDD TRAVAIL'!B57:R79,18,0) -> #N/A | H12: =VLOOKUP(Table4[[#This Row],[NOM]],'BDD TRAVAIL'!$B$72:$R$95,11,0) -> #N/A | I12: =VLOOKUP(Table4[[#This Row],[NOM]],'BDD TRAVAIL'!$B$72:$R$95,18,0) -> #N/A
B13: =VLOOKUP(A13,'BDD TRAVAIL'!B10:R33,11,0) -> #N/A | C13: =VLOOKUP(A13,'BDD TRAVAIL'!B10:R33,18,0) -> #N/A | D13: =VLOOKUP(A13,'BDD TRAVAIL'!B34:R57,11,0) -> #N/A | E13: =VLOOKUP(A13,'BDD TRAVAIL'!B34:R57,18,0) -> #N/A | F13: =VLOOKUP(Table4[[#This Row],[NOM]],'BDD TRAVAIL'!B58:R80,11,0) -> #N/A | G13: =VLOOKUP(Table4[[#This Row],[NOM]],'BDD TRAVAIL'!B58:R80,18,0) -> #N/A | H13: =VLOOKUP(Table4[[#This Row],[NOM]],'BDD TRAVAIL'!$B$72:$R$95,11,0) -> #N/A | I13: =VLOOKUP(Table4[[#This Row],[NOM]],'BDD TRAVAIL'!$B$72:$R$95,18,0) -> #N/A
B14: =VLOOKUP(A14,'BDD TRAVAIL'!B11:R34,11,0) -> #N/A | C14: =VLOOKUP(A14,'BDD TRAVAIL'!B11:R34,18,0) -> #N/A | D14: =VLOOKUP(A14,'BDD TRAVAIL'!B35:R58,11,0) -> #N/A | E14: =VLOOKUP(A14,'BDD TRAVAIL'!B35:R58,18,0) -> #N/A | F14: =VLOOKUP(Table4[[#This Row],[NOM]],'BDD TRAVAIL'!B59:R81,11,0) -> #N/A | G14: =VLOOKUP(Table4[[#This Row],[NOM]],'BDD TRAVAIL'!B59:R81,18,0) -> #N/A | H14: =VLOOKUP(Table4[[#This Row],[NOM]],'BDD TRAVAIL'!$B$72:$R$95,11,0) -> #N/A | I14: =VLOOKUP(Table4[[#This Row],[NOM]],'BDD TRAVAIL'!$B$72:$R$95,18,0) -> #N/A
B15: =VLOOKUP(A15,'BDD TRAVAIL'!B12:R35,11,0) -> #N/A | C15: =VLOOKUP(A15,'BDD TRAVAIL'!B12:R35,18,0) -> #N/A | D15: =VLOOKUP(A15,'BDD TRAVAIL'!B36:R59,11,0) -> #N/A | E15: =VLOOKUP(A15,'BDD TRAVAIL'!B36:R59,18,0) -> #N/A | F15: =VLOOKUP(Table4[[#This Row],[NOM]],'BDD TRAVAIL'!B60:R82,11,0) -> #N/A | G15: =VLOOKUP(Table4[[#This Row],[NOM]],'BDD TRAVAIL'!B60:R82,18,0) -> #N/A | H15: =VLOOKUP(Table4[[#This Row],[NOM]],'BDD TRAVAIL'!$B$72:$R$95,11,0) -> #N/A | I15: =VLOOKUP(Table4[[#This Row],[NOM]],'BDD TRAVAIL'!$B$72:$R$95,18,0) -> #N/A
B16: =VLOOKUP(A16,'BDD TRAVAIL'!B13:R36,11,0) -> #N/A | C16: =VLOOKUP(A16,'BDD TRAVAIL'!B13:R36,18,0) -> #N/A | D16: =VLOOKUP(A16,'BDD TRAVAIL'!B37:R60,11,0) -> #N/A | E16: =VLOOKUP(A16,'BDD TRAVAIL'!B37:R60,18,0) -> #N/A | F16: =VLOOKUP(Table4[[#This Row],[NOM]],'BDD TRAVAIL'!B61:R83,11,0) -> #N/A | G16: =VLOOKUP(Table4[[#This Row],[NOM]],'BDD TRAVAIL'!B61:R83,18,0) -> #N/A | H16: =VLOOKUP(Table4[[#This Row],[NOM]],'BDD TRAVAIL'!$B$72:$R$95,11,0) -> #N/A | I16: =VLOOKUP(Table4[[#This Row],[NOM]],'BDD TRAVAIL'!$B$72:$R$95,18,0) -> #N/A
B17: =VLOOKUP(A17,'BDD TRAVAIL'!B14:R37,11,0) -> #N/A | C17: =VLOOKUP(A17,'BDD TRAVAIL'!B14:R37,18,0) -> #N/A | D17: =VLOOKUP(A17,'BDD TRAVAIL'!B38:R61,11,0) -> #N/A | E17: =VLOOKUP(A17,'BDD TRAVAIL'!B38:R61,18,0) -> #N/A | F17: =VLOOKUP(Table4[[#This Row],[NOM]],'BDD TRAVAIL'!B62:R84,11,0) -> #N/A | G17: =VLOOKUP(Table4[[#This Row],[NOM]],'BDD TRAVAIL'!B62:R84,18,0) -> #N/A | H17: =VLOOKUP(Table4[[#This Row],[NOM]],'BDD TRAVAIL'!$B$72:$R$95,11,0) -> #N/A | I17: =VLOOKUP(Table4[[#This Row],[NOM]],'BDD TRAVAIL'!$B$72:$R$95,18,0) -> #N/A
B18: =VLOOKUP(A18,'BDD TRAVAIL'!B15:R38,11,0) -> #N/A | C18: =VLOOKUP(A18,'BDD TRAVAIL'!B15:R38,18,0) -> #N/A | D18: =VLOOKUP(A18,'BDD TRAVAIL'!B39:R62,11,0) -> #N/A | E18: =VLOOKUP(A18,'BDD TRAVAIL'!B39:R62,18,0) -> #N/A | F18: =VLOOKUP(Table4[[#This Row],[NOM]],'BDD TRAVAIL'!B63:R85,11,0) -> #N/A | G18: =VLOOKUP(Table4[[#This Row],[NOM]],'BDD TRAVAIL'!B63:R85,18,0) -> #N/A | H18: =VLOOKUP(Table4[[#This Row],[NOM]],'BDD TRAVAIL'!$B$72:$R$95,11,0) -> #N/A | I18: =VLOOKUP(Table4[[#This Row],[NOM]],'BDD TRAVAIL'!$B$72:$R$95,18,0) -> #N/A
... B20: =VLOOKUP(A20,'BDD TRAVAIL'!B17:R40,11,0) -> #N/A | C20: =VLOOKUP(A20,'BDD TRAVAIL'!B17:R40,18,0) -> #N/A | D20: =VLOOKUP(A20,'BDD TRAVAIL'!B41:R64,11,0) -> #N/A | E20: =VLOOKUP(A20,'BDD TRAVAIL'!B41:R64,18,0) -> #N/A | F20: =VLOOKUP(Table4[[#This Row],[NOM]],'BDD TRAVAIL'!B65:R87,11,0) -> #N/A | G20: =VLOOKUP(Table4[[#This Row],[NOM]],'BDD TRAVAIL'!B65:R87,18,0) -> #N/A | H20: =VLOOKUP(Table4[[#This Row],[NOM]],'BDD TRAVAIL'!$B$72:$R$95,11,0) -> #N/A | I20: =VLOOKUP(Table4[[#This Row],[NOM]],'BDD TRAVAIL'!$B$72:$R$95,18,0) -> #N/A
