Workbook
Name ADY: 'BDD TRAVAIL'!#REF!
Name ADY: #REF!
Name mc_m: 'BDD TRAVAIL'!#REF!
Name mc_m: #REF!

Sheet LISTING
A1: ALF | C1: PILIERS | E1: RACING | G1: DOMICILE
A2: ADY | C2: TALONS | E2: GRENOBLE | G2: EXTERIEUR
A3: ATN | C3: 2L | E3: CASTRES
A4: BBO | C4: 3L | E4: TOULOUSE
A5: BLD | C5: 9 | E5: BAYONNE (ERCC)
A6: BRG | C6: 10 | E6: CONNACHT (ERCC)
A7: BRQ | C7: CENTRES | E7: CLERMONT
A8: BRS | C8: AILIERS | E8: BRIVE
A9: BTA | C9: ARRIERES | E9: MONTPELLIER
A10: CDR | E10: OYONNAX
A11: CLR | E11: BORDEAUX
A12: CNL | E12: STADE FR
A13: CRB | E13: TOULON
A14: CST | E14: LYON
A15: DJB | E15: RACING 2
A16: DST | E16: BAYONNE
A17: ETN
A18: FRB
A19: FRT
A20: GJN
A21: GLD
A22: GRB
A23: GRD
A24: GRH
A25: GRNC
A26: GRT
A27: GYT
A28: HIN
... A46: VVR

Sheet BDD TRAVAIL
A1: RACING | B1: Atl. | C1: TPS Jeu | D1: TD | E1: ED | F1: D1 | G1: D2 | H1: D3 | I1: D4 | J1: PE | K1: CT | L1: mc/m | N1: Carries | O1: Contest | P1: Soutien | Q1: Plaq | R1: TOT | T1: Tps effectif | U1: Mêlées | V1: Touches | W1: Rucks | X1: TOT
B2: ADY | C2: 21 | D2: 2845 | F2: 1126 | G2: 1154 | H2: 519 | I2: 46 | J2: 44 | K2: =SUM(G2:I2) -> 1719 | L2: =K2/C2 -> 81.857143 | N2: 1 | O2: 0 | P2: 0 | Q2: 3 | R2: =SUM(N2:Q2) -> 4 | T2: 35.02 | U2: 10 | V2: 32 | W2: 167 | X2: =SUM(R2:R24) -> 306
B3: BRQ | C3: 80 | D3: 7297 | F3: 3363 | G3: 2819 | H3: 913 | I3: 203 | J3: 93 | K3: 3935 | L3: =K3/C3 -> 49.1875 | N3: 3 | O3: 0 | P3: 1 | Q3: 5 | R3: =SUM(N3:Q3) -> 9
B4: BRG | C4: 70 | D4: 7262 | F4: 3277 | G4: 2817 | H4: 1080 | I4: 86 | J4: 125 | K4: 3983 | L4: =K4/C4 -> 56.9 | N4: 2 | O4: 0 | P4: 2 | Q4: 5 | R4: =SUM(N4:Q4) -> 9
B5: BBO | C5: 59 | D5: 5406 | F5: 2927 | G5: 1746 | H5: 645 | I5: 88 | J5: 79 | K5: 2479 | L5: =K5/C5 -> 42.016949 | N5: 3 | O5: 0 | P5: 1 | Q5: 1 | R5: =SUM(N5:Q5) -> 5
B6: BTA | C6: 70 | D6: 6112 | F6: 3034 | G6: 2181 | H6: 816 | I6: 81 | J6: 115 | K6: 3078 | L6: =K6/C6 -> 43.971429 | N6: 2 | O6: 5 | P6: 2 | Q6: 9 | R6: =SUM(N6:Q6) -> 18
B7: CDR | C7: 25 | D7: 2349 | F7: 1226 | G7: 1000 | H7: 123 | I7: 0 | J7: 33 | K7: 1123 | L7: =K7/C7 -> 44.92 | N7: 0 | O7: 1 | P7: 1 | Q7: 3 | R7: =SUM(N7:Q7) -> 5
B8: FRT | C8: 63 | D8: 5824 | F8: 3198 | G8: 2175 | H8: 412 | I8: 40 | J8: 63 | K8: 2627 | L8: =K8/C8 -> 41.698413 | N8: 2 | O8: 0 | P8: 0 | Q8: 2 | R8: =SUM(N8:Q8) -> 4
B9: GLD | C9: 55 | D9: 5161 | F9: 2616 | G9: 2325 | H9: 220 | I9: 0 | J9: 55 | K9: 2545 | L9: =K9/C9 -> 46.272727 | N9: 2 | O9: 1 | P9: 7 | Q9: 10 | R9: =SUM(N9:Q9) -> 20
B10: GJN | C10: 55 | D10: 4652 | F10: 2505 | G10: 1841 | H10: 306 | I10: 0 | J10: 55 | K10: 2147 | L10: =K10/C10 -> 39.036364 | N10: 7 | O10: 3 | P10: 3 | Q10: 8 | R10: =SUM(N10:Q10) -> 21
B11: GRD | C11: 80 | D11: 6622 | F11: 3699 | G11: 2463 | H11: 456 | I11: 5 | J11: 77 | K11: 2924 | L11: =K11/C11 -> 36.55 | N11: 9 | O11: 2 | P11: 4 | Q11: 20 | R11: =SUM(N11:Q11) -> 35
B12: LNCL | C12: 72 | D12: 7414 | F12: 3117 | G12: 2784 | H12: 1266 | I12: 248 | J12: 114 | K12: 4298 | L12: =K12/C12 -> 59.694444 | N12: 3 | O12: 0 | P12: 3 | Q12: 2 | R12: =SUM(N12:Q12) -> 8
B13: MRI | C13: 80 | D13: 7120 | F13: 4119 | G13: 2101 | H13: 829 | I13: 72 | J13: 109 | K13: 3002 | L13: =K13/C13 -> 37.525 | N13: 6 | O13: 2 | P13: 6 | Q13: 7 | R13: =SUM(N13:Q13) -> 21
B14: PLO | C14: 59 | D14: 4870 | F14: 2750 | G14: 1873 | H14: 226 | I14: 21 | J14: 48 | K14: 2120 | L14: =K14/C14 -> 35.932203 | N14: 1 | O14: 2 | P14: 10 | Q14: 6 | R14: =SUM(N14:Q14) -> 19
... B16: SZY | C16: 14 | D16: 1859 | F16: 1152 | G16: 618 | H16: 89 | I16: 0 | J16: 14 | K16: 707 | L16: =K16/C16 -> 50.5 | N16: 1 | O16: 0 | P16: 2 | Q16: 1 | R16: =SUM(N16:Q16) -> 4
B17: ATN | C17: 63 | N17: 6 | O17: 1 | P17: 5 | Q17: 7 | R17: =SUM(N17:Q17) -> 19
B18: FRB | C18: 26 | N18: 0 | O18: 0 | P18: 0 | Q18: 8 | R18: =SUM(N18:Q18) -> 8
B19: LKX | C19: 24 | N19: 0 | O19: 3 | P19: 0 | Q19: 9 | R19: =SUM(N19:Q19) -> 12
B20: DJB | C20: 67 | N20: 1 | O20: 4 | P20: 5 | Q20: 12 | R20: =SUM(N20:Q20) -> 22 | T20: MC/TE MOY | U20: CT MOY
B21: GRT | C21: 17 | N21: 1 | O21: 0 | P21: 0 | Q21: 4 | R21: =SUM(N21:Q21) -> 5 | T21: =AVERAGE(K2:K16)/T2 -> 74.70969 | U21: =AVERAGE(K2:K16) -> 2616.3333
B22: HMS | C22: 9 | N22: 0 | O22: 0 | P22: 0 | Q22: 1 | R22: =SUM(N22:Q22) -> 1
B23: BRST | C23: 17 | N23: 0 | O23: 0 | P23: 0 | Q23: 4 | R23: =SUM(N23:Q23) -> 4
B24: ETN | C24: 80 | N24: 0 | O24: 4 | P24: 9 | Q24: 15 | R24: =SUM(N24:Q24) -> 28
A25: GRENOBLE | B25: Atl. | C25: TPS Jeu | D25: TD | E25: ED | F25: D1 | G25: D2 | H25: D3 | I25: D4 | J25: PE | K25: CT | L25: mc/m | N25: Carries | O25: Contest | P25: Soutien | Q25: Plaq | R25: TOT | T25: Tps effectif | U25: Mêlées | V25: Touches | W25: Rucks | X25: TOT
B26: BRG | C26: 70 | D26: 8121 | F26: 3255 | G26: 3606 | H26: 1141 | I26: 120 | J26: 125 | K26: 4867 | L26: =K26/C26 -> 69.528571 | N26: 4 | O26: 0 | P26: 2 | Q26: 10 | R26: =SUM(N26:Q26) -> 16 | T26: 31.47 | U26: 11 | V26: 25 | W26: 153 | X26: =SUM(R26:R48) -> 350
B27: BRQ | C27: 80 | D27: 7828 | F27: 3680 | G27: 3007 | H27: 1000 | I27: 141 | J27: 109 | K27: 4148 | L27: =K27/C27 -> 51.85 | N27: 2 | O27: 0 | P27: 3 | Q27: 8 | R27: =SUM(N27:Q27) -> 13
B28: ALF | C28: 80 | D28: 7074 | F28: 3581 | G28: 2254 | H28: 1036 | I28: 203 | J28: 111 | K28: 3493 | L28: =K28/C28 -> 43.6625 | N28: 4 | O28: 0 | P28: 3 | Q28: 1 | R28: =SUM(N28:Q28) -> 8
B29: MRI | C29: 80 | D29: 6711 | F29: 4285 | G29: 1614 | H29: 691 | I29: 122 | J29: 88 | K29: 2427 | L29: =K29/C29 -> 30.3375 | N29: 11 | O29: 2 | P29: 5 | Q29: 4 | R29: =SUM(N29:Q29) -> 22
B30: GRD | C30: 80 | D30: 6459 | F30: 3671 | G30: 2453 | H30: 330 | I30: 7 | J30: 83 | K30: 2790 | L30: =K30/C30 -> 34.875 | N30: 12 | O30: 3 | P30: 17 | Q30: 20 | R30: =SUM(N30:Q30) -> 52
B31: BTA | C31: 80 | D31: 6432 | F31: 3181 | G31: 2585 | H31: 525 | I31: 141 | J31: 118 | K31: 3251 | L31: =K31/C31 -> 40.6375 | N31: 8 | O31: 4 | P31: 7 | Q31: 7 | R31: =SUM(N31:Q31) -> 26
B32: QVU | C32: 80 | D32: 6263 | F32: 3151 | G32: 2763 | H32: 350 | I32: 0 | J32: 74 | K32: 3113 | L32: =K32/C32 -> 38.9125 | N32: 11 | O32: 2 | P32: 11 | Q32: 6 | R32: =SUM(N32:Q32) -> 30
B33: FRT | C33: 72 | D33: 6268 | F33: 3143 | G33: 2661 | H33: 434 | I33: 31 | J33: 78 | K33: 3126 | L33: =K33/C33 -> 43.416667 | N33: 5 | O33: 0 | P33: 1 | Q33: 2 | R33: =SUM(N33:Q33) -> 8
B34: LKX | C34: 72 | D34: 5710 | F34: 3190 | G34: 2272 | H34: 242 | I34: 7 | J34: 53 | K34: 2521 | L34: =K34/C34 -> 35.013889 | N34: 0 | O34: 2 | P34: 9 | Q34: 3 | R34: =SUM(N34:Q34) -> 14
B35: GJN | C35: 71 | D35: 5817 | F35: 2779 | G35: 2527 | H35: 512 | I35: 0 | J35: 85 | K35: 3039 | L35: =K35/C35 -> 42.802817 | N35: 9 | O35: 0 | P35: 11 | Q35: 12 | R35: =SUM(N35:Q35) -> 32
B36: ATN | C36: 70 | D36: 5463 | F36: 3048 | G36: 2222 | H36: 194 | I36: 0 | J36: 52 | K36: 2416 | L36: =K36/C36 -> 34.514286 | N36: 2 | O36: 3 | P36: 10 | Q36: 7 | R36: =SUM(N36:Q36) -> 22
B37: ADY | C37: 2 | D37: 257 | F37: 170 | G37: 45 | H37: 42 | I37: 0 | J37: 2 | K37: =SUM(G37:I37) -> 87 | L37: =K37/C37 -> 43.5 | N37: 0 | O37: 0 | P37: 0 | Q37: 0 | R37: =SUM(N37:Q37) -> 0
B38: CDR | C38: 9 | D38: 1047 | F38: 473 | G38: 506 | H38: 67 | I38: 0 | J38: 13 | K38: =SUM(G38:I38) -> 573 | L38: =K38/C38 -> 63.666667 | N38: 1 | O38: 0 | P38: 3 | Q38: 0 | R38: =SUM(N38:Q38) -> 4
B39: LUT | C39: 60 | D39: 5429 | F39: 2385 | G39: 1907 | H39: 975 | I39: 162 | J39: 94 | K39: 3044 | L39: =K39/C39 -> 50.733333 | N39: 0 | O39: 0 | P39: 11 | Q39: 1 | R39: =SUM(N39:Q39) -> 12
B40: GLD | C40: 50 | D40: 4668 | F40: 2053 | G40: 2389 | H40: 226 | I40: 0 | J40: 66 | K40: 2615 | L40: =K40/C40 -> 52.3 | N40: 1 | O40: 0 | P40: 6 | Q40: 2 | R40: =SUM(N40:Q40) -> 9
B41: PLO | C41: 8 | N41: 0 | O41: 0 | P41: 2 | Q41: 0 | R41: =SUM(N41:Q41) -> 2
...

Sheet Feuil1
C5: RACING | D5: GRENOBLE | E5: CASTRES | F5: TOULOUSE
B6: Tps effectif | C6: =VLOOKUP(A6,'BDD TRAVAIL'!A1:X24,21,0) -> #N/A | D6: =VLOOKUP(B6,'BDD TRAVAIL'!$M$25:$M$29,2,0) -> #N/A | E6: =HLOOKUP(B6,'BDD TRAVAIL'!A49:T71,2,0) -> 32.28 | F6: =HLOOKUP(B6,'BDD TRAVAIL'!A72:T95,2,0) -> 31.01
B7: Mêlées | C7: =VLOOKUP(B7,#REF!,2,0) -> #REF! | D7: =VLOOKUP(B7,'BDD TRAVAIL'!$M$25:$M$29,2,0) -> #N/A | E7: =VLOOKUP(D7,'BDD TRAVAIL'!N2:O6,2,0) -> #N/A | F7: =VLOOKUP(E7,'BDD TRAVAIL'!O2:P6,2,0) -> #N/A
B8: Touches | C8: =VLOOKUP(B8,#REF!,2,0) -> #REF! | D8: =VLOOKUP(B8,'BDD TRAVAIL'!$M$25:$M$29,2,0) -> #N/A | E8: =VLOOKUP(D8,'BDD TRAVAIL'!N3:O7,2,0) -> #N/A | F8: =VLOOKUP(E8,'BDD TRAVAIL'!O3:P7,2,0) -> #N/A
B9: Rucks | C9: =VLOOKUP(B9,#REF!,2,0) -> #REF! | D9: =VLOOKUP(B9,'BDD TRAVAIL'!$M$25:$M$29,2,0) -> #N/A | E9: =VLOOKUP(D9,'BDD TRAVAIL'!N4:O8,2,0) -> #N/A | F9: =VLOOKUP(E9,'BDD TRAVAIL'!O4:P8,2,0) -> #N/A
B10: TOT | C10: =VLOOKUP(B10,#REF!,2,0) -> #REF! | D10: =VLOOKUP(B10,'BDD TRAVAIL'!$M$25:$M$29,2,0) -> #N/A | E10: =VLOOKUP(D10,'BDD TRAVAIL'!N5:O9,2,0) -> #N/A | F10: =VLOOKUP(E10,'BDD TRAVAIL'!O5:P9,2,0) -> #N/A

Sheet BDD INDIV
B2: RACING | D2: GRENOBLE | F2: CASTRES | H2: TOULOUSE
A3: NOM | B3: COURSE | C3: LUTTE | D3: COURSE | E3: LUTTE | F3: COURSE | G3: LUTTE | H3: COURSE | I3: LUTTE
A4: GJN | B4: =VLOOKUP(A4,'BDD TRAVAIL'!B1:R24,11,0) -> 39.036364 | C4: =VLOOKUP(A4,'BDD TRAVAIL'!B1:R24,18,0) -> #REF! | D4: =VLOOKUP(A4,'BDD TRAVAIL'!B25:R48,11,0) -> 42.802817 | E4: =VLOOKUP(A4,'BDD TRAVAIL'!B25:R48,18,0) -> #REF! | F4: =VLOOKUP(Table4[[#This Row],[NOM]],'BDD TRAVAIL'!B49:R71,11,0) -> 0 | G4: =VLOOKUP(Table4[[#This Row],[NOM]],'BDD TRAVAIL'!B49:R71,18,0) -> #REF! | H4: =VLOOKUP(Table4[[#This Row],[NOM]],'BDD TRAVAIL'!$B$72:$R$95,11,0) -> 40.6625 | I4: =VLOOKUP(Table4[[#This Row],[NOM]],'BDD TRAVAIL'!$B$72:$R$95,18,0) -> #REF!
A5: GRD | B5: =VLOOKUP(A5,'BDD TRAVAIL'!B2:R25,11,0) -> 36.55 | C5: =VLOOKUP(A5,'BDD TRAVAIL'!B2:R25,18,0) -> #REF! | D5: =VLOOKUP(A5,'BDD TRAVAIL'!B26:R49,11,0) -> 34.875 | E5: =VLOOKUP(A5,'BDD TRAVAIL'!B26:R49,18,0) -> #REF! | F5: =VLOOKUP(Table4[[#This Row],[NOM]],'BDD TRAVAIL'!B50:R72,11,0) -> 37.266667 | G5: =VLOOKUP(Table4[[#This Row],[NOM]],'BDD TRAVAIL'!B50:R72,18,0) -> #REF! | H5: =VLOOKUP(Table4[[#This Row],[NOM]],'BDD TRAVAIL'!$B$72:$R$95,11,0) -> 35.375 | I5: =VLOOKUP(Table4[[#This Row],[NOM]],'BDD TRAVAIL'!$B$72:$R$95,18,0) -> #REF!
A6: ETN | B6: =VLOOKUP(A6,'BDD TRAVAIL'!B3:R26,11,0) -> 0 | C6: =VLOOKUP(A6,'BDD TRAVAIL'!B3:R26,18,0) -> #REF! | D6: =VLOOKUP(A6,'BDD TRAVAIL'!B27:R50,11,0) -> 0 | E6: =VLOOKUP(A6,'BDD TRAVAIL'!B27:R50,18,0) -> #REF! | F6: =VLOOKUP(Table4[[#This Row],[NOM]],'BDD TRAVAIL'!B51:R73,11,0) -> 0 | G6: =VLOOKUP(Table4[[#This Row],[NOM]],'BDD TRAVAIL'!B51:R73,18,0) -> #REF! | H6: =VLOOKUP(Table4[[#This Row],[NOM]],'BDD TRAVAIL'!$B$72:$R$95,11,0) -> 0 | I6: =VLOOKUP(Table4[[#This Row],[NOM]],'BDD TRAVAIL'!$B$72:$R$95,18,0) -> #REF!
B7: =VLOOKUP(A7,'BDD TRAVAIL'!B4:R27,11,0) -> #N/A | C7: =VLOOKUP(A7,'BDD TRAVAIL'!B4:R27,18,0) -> #N/A | D7: =VLOOKUP(A7,'BDD TRAVAIL'!B28:R51,11,0) -> #N/A | E7: =VLOOKUP(A7,'BDD TRAVAIL'!B28:R51,18,0) -> #N/A | F7: =VLOOKUP(Table4[[#This Row],[NOM]],'BDD TRAVAIL'!B52:R74,11,0) -> #N/A | G7: =VLOOKUP(Table4[[#This Row],[NOM]],'BDD TRAVAIL'!B52:R74,18,0) -> #N/A | H7: =VLOOKUP(Table4[[#This Row],[NOM]],'BDD TRAVAIL'!$B$72:$R$95,11,0) -> #N/A | I7: =VLOOKUP(Table4[[#This Row],[NOM]],'BDD TRAVAIL'!$B$72:$R$95,18,0) -> #N/A
B8: =VLOOKUP(A8,'BDD TRAVAIL'!B5:R28,11,0) -> #N/A | C8: =VLOOKUP(A8,'BDD TRAVAIL'!B5:R28,18,0) -> #N/A | D8: =VLOOKUP(A8,'BDD TRAVAIL'!B29:R52,11,0) -> #N/A | E8: =VLOOKUP(A8,'BDD TRAVAIL'!B29:R52,18,0) -> #N/A | F8: =VLOOKUP(Table4[[#This Row],[NOM]],'BDD TRAVAIL'!B53:R75,11,0) -> #N/A | G8: =VLOOKUP(Table4[[#This Row],[NOM]],'BDD TRAVAIL'!B53:R75,18,0) -> #N/A | H8: =VLOOKUP(Table4[[#This Row],[NOM]],'BDD TRAVAIL'!$B$72:$R$95,11,0) -> #N/A | I8: =VLOOKUP(Table4[[#This Row],[NOM]],'BDD TRAVAIL'!$B$72:$R$95,18,0) -> #N/A
B9: =VLOOKUP(A9,'BDD TRAVAIL'!B6:R29,11,0) -> #N/A | C9: =VLOOKUP(A9,'BDD TRAVAIL'!B6:R29,18,0) -> #N/A | D9: =VLOOKUP(A9,'BDD TRAVAIL'!B30:R53,11,0) -> #N/A | E9: =VLOOKUP(A9,'BDD TRAVAIL'!B30:R53,18,0) -> #N/A | F9: =VLOOKUP(Table4[[#This Row],[NOM]],'BDD TRAVAIL'!B54:R76,11,0) -> #N/A | G9: =VLOOKUP(Table4[[#This Row],[NOM]],'BDD TRAVAIL'!B54:R76,18,0) -> #N/A | H9: =VLOOKUP(Table4[[#This Row],[NOM]],'BDD TRAVAIL'!$B$72:$R$95,11,0) -> #N/A | I9: =VLOOKUP(Table4[[#This Row],[NOM]],'BDD TRAVAIL'!$B$72:$R$95,18,0) -> #N/A
B10: =VLOOKUP(A10,'BDD TRAVAIL'!B7:R30,11,0) -> #N/A | C10: =VLOOKUP(A10,'BDD TRAVAIL'!B7:R30,18,0) -> #N/A | D10: =VLOOKUP(A10,'BDD TRAVAIL'!B31:R54,11,0) -> #N/A | E10: =VLOOKUP(A10,'BDD TRAVAIL'!B31:R54,18,0) -> #N/A | F10: =VLOOKUP(Table4[[#This Row],[NOM]],'BDD TRAVAIL'!B55:R77,11,0) -> #N/A | G10: =VLOOKUP(Table4[[#This Row],[NOM]],'BDD TRAVAIL'!B55:R77,18,0) -> #N/A | H10: =VLOOKUP(Table4[[#This Row],[NOM]],'BDD TRAVAIL'!$B$72:$R$95,11,0) -> #N/A | I10: =VLOOKUP(Table4[[#This Row],[NOM]],'BDD TRAVAIL'!$B$72:$R$95,18,0) -> #N/A
B11: =VLOOKUP(A11,'BDD TRAVAIL'!B8:R31,11,0) -> #N/A | C11: =VLOOKUP(A11,'BDD TRAVAIL'!B8:R31,18,0) -> #N/A | D11: =VLOOKUP(A11,'BDD TRAVAIL'!B32:R55,11,0) -> #N/A | E11: =VLOOKUP(A11,'BDD TRAVAIL'!B32:R55,18,0) -> #N/A | F11: =VLOOKUP(Table4[[#This Row],[NOM]],'BDD TRAVAIL'!B56:R78,11,0) -> #N/A | G11: =VLOOKUP(Table4[[#This Row],[NOM]],'BDD TRAVAIL'!B56:R78,18,0) -> #N/A | H11: =VLOOKUP(Table4[[#This Row],[NOM]],'BDD TRAVAIL'!$B$72:$R$95,11,0) -> #N/A | I11: =VLOOKUP(Table4[[#This Row],[NOM]],'BDD TRAVAIL'!$B$72:$R$95,18,0) -> #N/A
B12: =VLOOKUP(A12,'BDD TRAVAIL'!B9:R32,11,0) -> #N/A | C12: =VLOOKUP(A12,'BDD TRAVAIL'!B9:R32,18,0) -> #N/A | D12: =VLOOKUP(A12,'BDD TRAVAIL'!B33:R56,11,0) -> #N/A | E12: =VLOOKUP(A12,'BDD TRAVAIL'!B33:R56,18,0) -> #N/A | F12: =VLOOKUP(Table4[[#This Row],[NOM]],'BDD TRAVAIL'!B57:R79,11,0) -> #N/A | G12: =VLOOKUP(Table4[[#This Row],[NOM]],'BDD TRAVAIL'!B57:R79,18,0) -> #N/A | H12: =VLOOKUP(Table4[[#This Row],[NOM]],'BDD TRAVAIL'!$B$72:$R$95,11,0) -> #N/A | I12: =VLOOKUP(Table4[[#This Row],[NOM]],'BDD TRAVAIL'!$B$72:$R$95,18,0) -> #N/A
B13: =VLOOKUP(A13,'BDD TRAVAIL'!B10:R33,11,0) -> #N/A | C13: =VLOOKUP(A13,'BDD TRAVAIL'!B10:R33,18,0) -> #N/A | D13: =VLOOKUP(A13,'BDD TRAVAIL'!B34:R57,11,0) -> #N/A | E13: =VLOOKUP(A13,'BDD TRAVAIL'!B34:R57,18,0) -> #N/A | F13: =VLOOKUP(Table4[[#This Row],[NOM]],'BDD TRAVAIL'!B58:R80,11,0) -> #N/A | G13: =VLOOKUP(Table4[[#This Row],[NOM]],'BDD TRAVAIL'!B58:R80,18,0) -> #N/A | H13: =VLOOKUP(Table4[[#This Row],[NOM]],'BDD TRAVAIL'!$B$72:$R$95,11,0) -> #N/A | I13: =VLOOKUP(Table4[[#This Row],[NOM]],'BDD TRAVAIL'!$B$72:$R$95,18,0) -> #N/A
B14: =VLOOKUP(A14,'BDD TRAVAIL'!B11:R34,11,0) -> #N/A | C14: =VLOOKUP(A14,'BDD TRAVAIL'!B11:R34,18,0) -> #N/A | D14: =VLOOKUP(A14,'BDD TRAVAIL'!B35:R58,11,0) -> #N/A | E14: =VLOOKUP(A14,'BDD TRAVAIL'!B35:R58,18,0) -> #N/A | F14: =VLOOKUP(Table4[[#This Row],[NOM]],'BDD TRAVAIL'!B59:R81,11,0) -> #N/A | G14: =VLOOKUP(Table4[[#This Row],[NOM]],'BDD TRAVAIL'!B59:R81,18,0) -> #N/A | H14: =VLOOKUP(Table4[[#This Row],[NOM]],'BDD TRAVAIL'!$B$72:$R$95,11,0) -> #N/A | I14: =VLOOKUP(Table4[[#This Row],[NOM]],'BDD TRAVAIL'!$B$72:$R$95,18,0) -> #N/A
B15: =VLOOKUP(A15,'BDD TRAVAIL'!B12:R35,11,0) -> #N/A | C15: =VLOOKUP(A15,'BDD TRAVAIL'!B12:R35,18,0) -> #N/A | D15: =VLOOKUP(A15,'BDD TRAVAIL'!B36:R59,11,0) -> #N/A | E15: =VLOOKUP(A15,'BDD TRAVAIL'!B36:R59,18,0) -> #N/A | F15: =VLOOKUP(Table4[[#This Row],[NOM]],'BDD TRAVAIL'!B60:R82,11,0) -> #N/A | G15: =VLOOKUP(Table4[[#This Row],[NOM]],'BDD TRAVAIL'!B60:R82,18,0) -> #N/A | H15: =VLOOKUP(Table4[[#This Row],[NOM]],'BDD TRAVAIL'!$B$72:$R$95,11,0) -> #N/A | I15: =VLOOKUP(Table4[[#This Row],[NOM]],'BDD TRAVAIL'!$B$72:$R$95,18,0) -> #N/A
B16: =VLOOKUP(A16,'BDD TRAVAIL'!B13:R36,11,0) -> #N/A | C16: =VLOOKUP(A16,'BDD TRAVAIL'!B13:R36,18,0) -> #N/A | D16: =VLOOKUP(A16,'BDD TRAVAIL'!B37:R60,11,0) -> #N/A | E16: =VLOOKUP(A16,'BDD TRAVAIL'!B37:R60,18,0) -> #N/A | F16: =VLOOKUP(Table4[[#This Row],[NOM]],'BDD TRAVAIL'!B61:R83,11,0) -> #N/A | G16: =VLOOKUP(Table4[[#This Row],[NOM]],'BDD TRAVAIL'!B61:R83,18,0) -> #N/A | H16: =VLOOKUP(Table4[[#This Row],[NOM]],'BDD TRAVAIL'!$B$72:$R$95,11,0) -> #N/A | I16: =VLOOKUP(Table4[[#This Row],[NOM]],'BDD TRAVAIL'!$B$72:$R$95,18,0) -> #N/A
B17: =VLOOKUP(A17,'BDD TRAVAIL'!B14:R37,11,0) -> #N/A | C17: =VLOOKUP(A17,'BDD TRAVAIL'!B14:R37,18,0) -> #N/A | D17: =VLOOKUP(A17,'BDD TRAVAIL'!B38:R61,11,0) -> #N/A | E17: =VLOOKUP(A17,'BDD TRAVAIL'!B38:R61,18,0) -> #N/A | F17: =VLOOKUP(Table4[[#This Row],[NOM]],'BDD TRAVAIL'!B62:R84,11,0) -> #N/A | G17: =VLOOKUP(Table4[[#This Row],[NOM]],'BDD TRAVAIL'!B62:R84,18,0) -> #N/A | H17: =VLOOKUP(Table4[[#This Row],[NOM]],'BDD TRAVAIL'!$B$72:$R$95,11,0) -> #N/A | I17: =VLOOKUP(Table4[[#This Row],[NOM]],'BDD TRAVAIL'!$B$72:$R$95,18,0) -> #N/A
B18: =VLOOKUP(A18,'BDD TRAVAIL'!B15:R38,11,0) -> #N/A | C18: =VLOOKUP(A18,'BDD TRAVAIL'!B15:R38,18,0) -> #N/A | D18: =VLOOKUP(A18,'BDD TRAVAIL'!B39:R62,11,0) -> #N/A | E18: =VLOOKUP(A18,'BDD TRAVAIL'!B39:R62,18,0) -> #N/A | F18: =VLOOKUP(Table4[[#This Row],[NOM]],'BDD TRAVAIL'!B63:R85,11,0) -> #N/A | G18: =VLOOKUP(Table4[[#This Row],[NOM]],'BDD TRAVAIL'!B63:R85,18,0) -> #N/A | H18: =VLOOKUP(Table4[[#This Row],[NOM]],'BDD TRAVAIL'!$B$72:$R$95,11,0) -> #N/A | I18: =VLOOKUP(Table4[[#This Row],[NOM]],'BDD TRAVAIL'!$B$72:$R$95,18,0) -> #N/A
... B20: =VLOOKUP(A20,'BDD TRAVAIL'!B17:R40,11,0) -> #N/A | C20: =VLOOKUP(A20,'BDD TRAVAIL'!B17:R40,18,0) -> #N/A | D20: =VLOOKUP(A20,'BDD TRAVAIL'!B41:R64,11,0) -> #N/A | E20: =VLOOKUP(A20,'BDD TRAVAIL'!B41:R64,18,0) -> #N/A | F20: =VLOOKUP(Table4[[#This Row],[NOM]],'BDD TRAVAIL'!B65:R87,11,0) -> #N/A | G20: =VLOOKUP(Table4[[#This Row],[NOM]],'BDD TRAVAIL'!B65:R87,18,0) -> #N/A | H20: =VLOOKUP(Table4[[#This Row],[NOM]],'BDD TRAVAIL'!$B$72:$R$95,11,0) -> #N/A | I20: =VLOOKUP(Table4[[#This Row],[NOM]],'BDD TRAVAIL'!$B$72:$R$95,18,0) -> #N/A
