Workbook

Sheet Niveau 1
C1: 0.4375 | D1: 0.44791667 | E1: 0.45833333 | F1: 0.46875 | G1: 0.47916667 | H1: 0.48958333 | I1: 0.5 | J1: 0.51041667 | K1: 0.52083333 | L1: 0.53125 | M1: 0.54166667 | N1: 0.55208333 | O1: 0.5625 | P1: 0.57291667 | Q1: 0.58333333 | R1: 0.59375 | S1: 0.60416667 | T1: 0.61458333 | U1: 0.625 | V1: 0.63541667 | W1: 0.64583333 | X1: 0.65625 | Y1: 0.66666667 | Z1: 0.67708333 | AA1: 0.6875 | AB1: 0.69791667 | AC1: 0.70833333 | AD1: 0.71875 | AE1: 0.72916667 | AF1: 0.73958333 | AG1: 0.75 | AH1: 0.76041667 | AI1: 0.77083333 | AJ1: 0.78125
A2: Wednesday | Q2: Pause animateur
B3: B0 | E3: -
A4: 1 | B4: B1 | L4: S | M4: S | N4: S | O4: S | P4: B | Q4: A | R4: A | S4: A | T4: A | AK4: Animateur 1 | AL4: 5h15 | AM4: B | AN4: Briefing
A5: 2 | B5: B2 | T5: B | U5: A | V5: A | W5: A | X5: A | Y5: S | Z5: S | AA5: S | AM5: S | AN5: Snack
A6: 3 | B6: B3 | AB6: B | AC6: A | AD6: A | AE6: A | AF6: A | AG6: S | AH6: S | AI6: S
A7: 4 | B7: B4 | X7: B | Y7: A | Z7: A | AA7: A | AB7: A | AC7: S | AD7: S | AE7: S
A9: Saturday
A10: 5 | B10: B0 | C10: B | D10: A | E10: A | F10: A | G10: A | H10: S | I10: S | J10: S | K10: S
A11: 6 | B11: B1 | L11: S | M11: S | N11: S | O11: S | P11: B | Q11: A | R11: A | S11: A | T11: A | AK11: Animateur 1 | AL11: 6h15 | AM11: B | AN11: Briefing
A12: 7 | B12: B2 | T12: B | U12: A | V12: A | W12: A | X12: A | Y12: S | Z12: S | AA12: S | AM12: S | AN12: Snack
A13: 8 | B13: B3 | AB13: B | AC13: A | AD13: A | AE13: A | AF13: A | AG13: S | AH13: S | AI13: S
A14: 9 | B14: B4 | X14: B | Y14: A | Z14: A | AA14: A | AB14: A | AC14: S | AD14: S | AE14: S
B15: B0bis | E15: -
B16: B1bis | E16: -
A17: 10 | B17: B2bis | R17: B | S17: A | T17: A | U17: A | V17: A | W17: S | X17: S | Y17: S | AK17: Animateur 2 | AL17: 4h00 | AM17: B
A18: 11 | B18: B3bis | Z18: B | AA18: A | AB18: A | AC18: A | AD18: A | AE18: S | AF18: S | AG18: S | AM18: S
A19: 12 | B19: B4bis | V19: B | W19: A | X19: A | Y19: A | Z19: A | AA19: S | AB19: S | AC19: S
AK20: Moniteur sup | AL20: 3h00
A22: Sunday
A23: 13 | B23: B0 | C23: B | D23: A | E23: A | F23: A | G23: A | H23: S | I23: S | J23: S | K23: S
A24: 14 | B24: B1 | L24: S | M24: S | N24: S | O24: S | P24: B | Q24: A | R24: A | S24: A | T24: A | AK24: Animateur 1 | AL24: 6h15 | AM24: B | AN24: Briefing
A25: 15 | B25: B2 | T25: B | U25: A | V25: A | W25: A | X25: A | Y25: S | Z25: S | AA25: S | AM25: S | AN25: Snack
A26: 16 | B26: B3 | AB26: B | AC26: A | AD26: A | AE26: A | AF26: A | AG26: S | AH26: S | AI26: S
A27: 17 | B27: B4 | X27: B | Y27: A | Z27: A | AA27: A | AB27: A | AC27: S | AD27: S | AE27: S
A31: CA | B31: =+C32*C33*C34 -> 3094
B32: Nb anniversaire | C32: 17
B33: Nb moy. Enfants | C33: 13
B34: Prix moyen | C34: 14
B36: Animateur 1 | C36: =5.25+6.25+6.25 -> 17.75
B37: Animateur 2 | C37: 2
B38: Moniteur sup | C38: 3

Sheet Niveau 2
C1: 0.4375 | D1: 0.44791667 | E1: 0.45833333 | F1: 0.46875 | G1: 0.47916667 | H1: 0.48958333 | I1: 0.5 | J1: 0.51041667 | K1: 0.52083333 | L1: 0.53125 | M1: 0.54166667 | N1: 0.55208333 | O1: 0.5625 | P1: 0.57291667 | Q1: 0.58333333 | R1: 0.59375 | S1: 0.60416667 | T1: 0.61458333 | U1: 0.625 | V1: 0.63541667 | W1: 0.64583333 | X1: 0.65625 | Y1: 0.66666667 | Z1: 0.67708333 | AA1: 0.6875 | AB1: 0.69791667 | AC1: 0.70833333 | AD1: 0.71875 | AE1: 0.72916667 | AF1: 0.73958333 | AG1: 0.75 | AH1: 0.76041667 | AI1: 0.77083333 | AJ1: 0.78125
A2: Wednesday | Q2: Pause animateur
B3: B0 | E3: -
A4: 1 | B4: B1 | L4: S | M4: S | N4: S | O4: S | P4: B | Q4: A | R4: A | S4: A | T4: A | AK4: Animateur 1 | AL4: 5h15 | AM4: B | AN4: Briefing
A5: 2 | B5: B2 | T5: B | U5: A | V5: A | W5: A | X5: A | Y5: S | Z5: S | AA5: S | AM5: S | AN5: Snack
A6: 3 | B6: B3 | AB6: B | AC6: A | AD6: A | AE6: A | AF6: A | AG6: S | AH6: S | AI6: S
A7: 4 | B7: B4 | X7: B | Y7: A | Z7: A | AA7: A | AB7: A | AC7: S | AD7: S | AE7: S
B8: B1bis | C8: -
A9: 5 | B9: B2bis | T9: B | U9: A | V9: A | W9: A | X9: A | Y9: S | Z9: S | AA9: S | AK9: Animateur 2 | AL9: 4h00 | AM9: B | AN9: Briefing
A10: 6 | B10: B3bis | AB10: B | AC10: A | AD10: A | AE10: A | AF10: A | AG10: S | AH10: S | AI10: S | AM10: S | AN10: Snack
A11: 7 | B11: B4bis | X11: B | Y11: A | Z11: A | AA11: A | AB11: A | AC11: S | AD11: S | AE11: S
AK12: Moniteur sup | AL12: 3h30
A14: Saturday
A15: 8 | B15: B0 | C15: B | D15: A | E15: A | F15: A | G15: A | H15: S | I15: S | J15: S | K15: S | AK15: Animateur 1 | AL15: 6h15 | AM15: B | AN15: Briefing
A16: 9 | B16: B1 | L16: S | M16: S | N16: S | O16: S | P16: B | Q16: A | R16: A | S16: A | T16: A | AM16: S | AN16: Snack
A17: 10 | B17: B2 | T17: B | U17: A | V17: A | W17: A | X17: A | Y17: S | Z17: S | AA17: S
A18: 11 | B18: B3 | AB18: B | AC18: A | AD18: A | AE18: A | AF18: A | AG18: S | AH18: S | AI18: S
A19: 12 | B19: B4 | X19: B | Y19: A | Z19: A | AA19: A | AB19: A | AC19: S | AD19: S | AE19: S
B20: B0bis | C20: -
B21: B1bis | C21: -
A22: 13 | B22: B2bis | T22: B | U22: A | V22: A | W22: A | X22: A | Y22: S | Z22: S | AA22: S | AK22: Animateur 2 | AL22: 4h00 | AM22: B | AN22: Briefing
A23: 14 | B23: B3bis | AB23: B | AC23: A | AD23: A | AE23: A | AF23: A | AG23: S | AH23: S | AI23: S | AM23: S | AN23: Snack
A24: 15 | B24: B4bis | X24: B | Y24: A | Z24: A | AA24: A | AB24: A | AC24: S | AD24: S | AE24: S
AK25: Moniteur sup | AL25: 4h00
A27: Sunday
A28: 16 | B28: B0 | C28: B | D28: A | E28: A | F28: A | G28: A | H28: S | I28: S | J28: S | K28: S | AK28: Animateur 1 | AL28: 6h15 | AM28: B | AN28: Briefing
A29: 17 | B29: B1 | L29: S | M29: S | N29: S | O29: S | P29: B | Q29: A | R29: A | S29: A | T29: A | AM29: S | AN29: Snack
A30: 18 | B30: B2 | T30: B | U30: A | V30: A | W30: A | X30: A | Y30: S | Z30: S | AA30: S
A31: 19 | B31: B3 | AB31: B | AC31: A | AD31: A | AE31: A | AF31: A | AG31: S | AH31: S | AI31: S
A32: 20 | B32: B4 | X32: B | Y32: A | Z32: A | AA32: A | AB32: A | AC32: S | AD32: S | AE32: S
B33: B0bis | C33: -
B34: B1bis | C34: -
A35: 21 | B35: B2bis | T35: B | U35: A | V35: A | W35: A | X35: A | Y35: S | Z35: S | AA35: S | AK35: Animateur 2 | AL35: 4h00 | AM35: B | AN35: Briefing
A36: 22 | B36: B3bis | AB36: B | AC36: A | AD36: A | AE36: A | AF36: A | AG36: S | AH36: S | AI36: S | AM36: S | AN36: Snack
A37: 23 | B37: B4bis | X37: B | Y37: A | Z37: A | AA37: A | AB37: A | AC37: S | AD37: S | AE37: S
AK38: Moniteur sup | AL38: 4h00
A41: CA | B41: =+C42*C43*C44 -> 4186
B42: Nb anniversaire | C42: 23
B43: Nb moy. Enfants | C43: 13
B44: Prix moyen | C44: 14
B46: Animateur 1 | C46: =5.25+6.25+6.25 -> 17.75
B47: Animateur 2 | C47: =4+4+4 -> 12
B48: Moniteur sup | C48: =3.5+4+4 -> 11.5

Sheet Niveau 3
C1: 0.4375 | D1: 0.44791667 | E1: 0.45833333 | F1: 0.46875 | G1: 0.47916667 | H1: 0.48958333 | I1: 0.5 | J1: 0.51041667 | K1: 0.52083333 | L1: 0.53125 | M1: 0.54166667 | N1: 0.55208333 | O1: 0.5625 | P1: 0.57291667 | Q1: 0.58333333 | R1: 0.59375 | S1: 0.60416667 | T1: 0.61458333 | U1: 0.625 | V1: 0.63541667 | W1: 0.64583333 | X1: 0.65625 | Y1: 0.66666667 | Z1: 0.67708333 | AA1: 0.6875 | AB1: 0.69791667 | AC1: 0.70833333 | AD1: 0.71875 | AE1: 0.72916667 | AF1: 0.73958333 | AG1: 0.75 | AH1: 0.76041667 | AI1: 0.77083333 | AJ1: 0.78125
A2: Wednesday | Q2: Pause animateur
B3: B0 | E3: -
A4: 1 | B4: B1 | L4: S | M4: S | N4: S | O4: S | P4: B | Q4: A | R4: A | S4: A | T4: A | AK4: Animateur 1 | AL4: 5h15 | AM4: B | AN4: Briefing
A5: 2 | B5: B2 | T5: B | U5: A | V5: A | W5: A | X5: A | Y5: S | Z5: S | AA5: S | AM5: S | AN5: Snack
A6: 3 | B6: B3 | AB6: S | AC6: S | AD6: S | AE6: B | AF6: A | AG6: A | AH6: A | AI6: A
A7: 4 | B7: B4 | Z7: B | AA7: A | AB7: A | AC7: A | AD7: A | AE7: S | AF7: S | AG7: S
A8: 5 | B8: B1bis | L8: S | M8: S | N8: S | O8: S | P8: B | Q8: A | R8: A | S8: A | T8: A
A9: 6 | B9: B2bis | R9: B | S9: A | T9: A | U9: A | V9: A | W9: S | X9: S | Y9: S | AK9: Animateur 2 | AL9: 5h00 | AM9: B | AN9: Briefing
A10: 7 | B10: B3bis | Z10: B | AA10: A | AB10: A | AC10: A | AD10: A | AE10: S | AF10: S | AG10: S | AM10: S | AN10: Snack
A11: 8 | B11: B4bis | W11: B | X11: A | Y11: A | Z11: A | AA11: A | AB11: S | AC11: S | AD11: S
AK12: Moniteur sup | AL12: 4h00
A14: Saturday
A15: 9 | B15: B0 | C15: B | D15: A | E15: A | F15: A | G15: A | H15: S | I15: S | J15: S | K15: S | AK15: Animateur 1 | AL15: 6h15 | AM15: B | AN15: Briefing
A16: 10 | B16: B1 | L16: S | M16: S | N16: S | O16: S | P16: B | Q16: A | R16: A | S16: A | T16: A | AM16: S | AN16: Snack
A17: 11 | B17: B2 | T17: B | U17: A | V17: A | W17: A | X17: A | Y17: S | Z17: S | AA17: S
A18: 12 | B18: B3 | AB18: B | AC18: A | AD18: A | AE18: A | AF18: A | AG18: S | AH18: S | AI18: S
A19: 13 | B19: B4 | X19: B | Y19: A | Z19: A | AA19: A | AB19: A | AC19: S | AD19: S | AE19: S
A20: 14 | B20: B0bis | C20: B | D20: A | E20: A | F20: A | G20: A | H20: S | I20: S | J20: S | K20: S | AK20: Animateur 2 | AL20: 6H00 | AM20: B | AN20: Briefing
A21: 15 | B21: B1bis | L21: S | M21: S | N21: S | O21: S | P21: B | Q21: A | R21: A | S21: A | T21: A | AM21: S | AN21: Snack
A22: 16 | B22: B2bis | S22: B | T22: A | U22: A | V22: A | W22: A | X22: S | Y22: S | Z22: S
A23: 17 | B23: B3bis | AA23: B | AB23: A | AC23: A | AD23: A | AE23: A | AF23: S | AG23: S | AH23: S
A24: 18 | B24: B4bis | W24: B | X24: A | Y24: A | Z24: A | AA24: A | AB24: S | AC24: S | AD24: S
AK25: Moniteur sup | AL25: 4h00
A27: Sunday
A28: 19 | B28: B0 | C28: B | D28: A | E28: A | F28: A | G28: A | H28: S | I28: S | J28: S | K28: S | AK28: Animateur 1 | AM28: B | AN28: Briefing
A29: 20 | B29: B1 | L29: S | M29: S | N29: S | O29: S | P29: B | Q29: A | R29: A | S29: A | T29: A | AL29: 6h15 | AM29: S | AN29: Snack
A30: 21 | B30: B2 | T30: B | U30: A | V30: A | W30: A | X30: A | Y30: S | Z30: S | AA30: S
A31: 22 | B31: B3 | AB31: B | AC31: A | AD31: A | AE31: A | AF31: A | AG31: S | AH31: S | AI31: S
A32: 23 | B32: B4 | X32: B | Y32: A | Z32: A | AA32: A | AB32: A | AC32: S | AD32: S | AE32: S
A33: 24 | B33: B0bis | C33: B | D33: A | E33: A | F33: A | G33: A | H33: S | I33: S | J33: S | K33: S | AK33: Animateur 2 | AL33: 6h00 | AM33: B | AN33: Briefing
A34: 25 | B34: B1bis | L34: S | M34: S | N34: S | O34: S | P34: B | Q34: A | R34: A | S34: A | T34: A | AM34: S | AN34: Snack
A35: 26 | B35: B2bis | S35: B | T35: A | U35: A | V35: A | W35: A | X35: S | Y35: S | Z35: S
A36: 27 | B36: B3bis | AA36: B | AB36: A | AC36: A | AD36: A | AE36: A | AF36: S | AG36: S | AH36: S
A37: 28 | B37: B4bis | W37: B | X37: A | Y37: A | Z37: A | AA37: A | AB37: S | AC37: S | AD37: S
AK38: Moniteur sup | AL38: 4h00
A41: CA | B41: =+C42*C43*C44 -> 5096
B42: Nb anniversaire | C42: 28
B43: Nb moy. Enfants | C43: 13
B44: Prix moyen | C44: 14
B46: Animateur 1 | C46: =5.25+6.25+6.25 -> 17.75
B47: Animateur 2 | C47: =5+6+6 -> 17
B48: Moniteur sup | C48: =4+4+4 -> 12

Sheet Horaires pers.
B4: Nivel 1 | C4: Nivel 2 | D4: Nivel 3 | E4: Moyenne ponderé selon agenda du 141215
A5: Animateur 1 | B5: =+'Niveau 1'!C36 -> 17.75 | C5: =+'Niveau 2'!C46 -> 17.75 | D5: =+'Niveau 3'!C46 -> 17.75 | E5: =(+((B5*20)+(C5*9)+(D5*6))/35) -> 17.75
A6: Animateur 2 | B6: =+'Niveau 1'!C37 -> 2 | C6: =+'Niveau 2'!C47 -> 12 | D6: =+'Niveau 3'!C47 -> 17 | E6: =(+((B6*20)+(C6*9)+(D6*6))/35) -> 7.1428571
A7: Moniteur sup | B7: =+'Niveau 1'!C38 -> 3 | C7: =+'Niveau 2'!C48 -> 11.5 | D7: =+'Niveau 3'!C48 -> 12 | E7: =(+((B7*20)+(C7*9)+(D7*6))/35) -> 6.7285714
