Workbook
Name Resultat: Feuil1!$M$8:$M$255

Sheet Feuil1
L1: Couper Gaz | M1: Abonné à Payer
L2: Couper Elec | M2: Abonné échéancier
L3: Detendeur Retirer | M3: Abonné non payer
L4: Compteur Elec retirer
L5: Compteur Gaz retirer
L6: A11
L7: A13
A8: Lien client | C8: Date coupure | D8: Equipe de coupure | E8: Reference | F8: Nom | G8: Adresse | H8: Elec | I8: Gaz | J8: Nbre | K8: Montant | L8: Action | M8: Résultat
A9: =HYPERLINK(B9) -> http://10.108.32.5/sgcnew/ab_btbp/Abonne.asp?xref=317261200202141 | B9: =CONCATENATE("http://10.108.32.5/sgcnew/ab_btbp/Abonne.asp?xref=",E9) -> http://10.108.32.5/sgcnew/ab_btbp/Abonne.asp?xref=317261200202141 | C9: 41657 | D9: Equipe 1 | E9: 317261200202141 | F9: AOUICHAT AMAR | G9: CHEHAIRIA | H9: 003805 | I9: 151951 | J9: 2 | K9: 25790.72 | M9: Abonné échéancier
C10: =C9 -> 41657 | D10: =D9 -> Equipe 1
C11: =C10 -> 41657 | D11: =D10 -> Equipe 1
C12: =C11 -> 41657 | D12: =D11 -> Equipe 1
C13: =C12 -> 41657 | D13: =D12 -> Equipe 1
C14: =C13 -> 41657 | D14: =D13 -> Equipe 1
C15: =C14 -> 41657 | D15: =D14 -> Equipe 1
C16: =C15 -> 41657 | D16: =D15 -> Equipe 1
C17: =C16 -> 41657 | D17: =D16 -> Equipe 1
C18: =C17 -> 41657 | D18: =D17 -> Equipe 1
C19: =C18 -> 41657 | D19: =D18 -> Equipe 1
C20: =C19 -> 41657 | D20: =D19 -> Equipe 1
C21: =C20 -> 41657 | D21: =D20 -> Equipe 1
... C254: =C253 -> 41657 | D254: =D253 -> Equipe 1

Sheet Feuil2
G6: Durée
B7: Lien client | C7: Reference | D7: Nom | E7: Nbre | F7: Montant
A8: Abonné échéancier | B8: =IF(A8=Feuil1!M9,Feuil1!A9) -> http://10.108.32.5/sgcnew/ab_btbp/Abonne.asp?xref=317261200202141 | C8: =IF(A8=Feuil1!M9,Feuil1!E9) -> 317261200202141 | D8: =IF(A8=Feuil1!M9,Feuil1!F9) -> AOUICHAT AMAR | E8: =IF(A8=Feuil1!M9,Feuil1!J9) -> 2 | F8: =IF(A8=Feuil1!M9,Feuil1!K9) -> 25790.72
A9: =A8 -> Abonné échéancier | B9: =IF(A9=Feuil1!M10,Feuil1!A10) -> FALSE | C9: =IF(A9=Feuil1!M10,Feuil1!E10) -> FALSE | D9: =IF(A9=Feuil1!M10,Feuil1!F10) -> FALSE | E9: =IF(A9=Feuil1!M10,Feuil1!J10) -> FALSE | F9: =IF(A9=Feuil1!M10,Feuil1!K10) -> FALSE
A10: =A9 -> Abonné échéancier | B10: =IF(A10=Feuil1!M11,Feuil1!A11) -> FALSE | C10: =IF(A10=Feuil1!M11,Feuil1!E11) -> FALSE | D10: =IF(A10=Feuil1!M11,Feuil1!F11) -> FALSE | E10: =IF(A10=Feuil1!M11,Feuil1!J11) -> FALSE | F10: =IF(A10=Feuil1!M11,Feuil1!K11) -> FALSE
A11: =A10 -> Abonné échéancier | B11: =IF(A11=Feuil1!M12,Feuil1!A12) -> FALSE | C11: =IF(A11=Feuil1!M12,Feuil1!E12) -> FALSE | D11: =IF(A11=Feuil1!M12,Feuil1!F12) -> FALSE | E11: =IF(A11=Feuil1!M12,Feuil1!J12) -> FALSE | F11: =IF(A11=Feuil1!M12,Feuil1!K12) -> FALSE
A12: =A11 -> Abonné échéancier | B12: =IF(A12=Feuil1!M13,Feuil1!A13) -> FALSE | C12: =IF(A12=Feuil1!M13,Feuil1!E13) -> FALSE | D12: =IF(A12=Feuil1!M13,Feuil1!F13) -> FALSE | E12: =IF(A12=Feuil1!M13,Feuil1!J13) -> FALSE | F12: =IF(A12=Feuil1!M13,Feuil1!K13) -> FALSE
A13: =A12 -> Abonné échéancier | B13: =IF(A13=Feuil1!M14,Feuil1!A14) -> FALSE | C13: =IF(A13=Feuil1!M14,Feuil1!E14) -> FALSE | D13: =IF(A13=Feuil1!M14,Feuil1!F14) -> FALSE | E13: =IF(A13=Feuil1!M14,Feuil1!J14) -> FALSE | F13: =IF(A13=Feuil1!M14,Feuil1!K14) -> FALSE
A14: =A13 -> Abonné échéancier | B14: =IF(A14=Feuil1!M15,Feuil1!A15) -> FALSE | C14: =IF(A14=Feuil1!M15,Feuil1!E15) -> FALSE | D14: =IF(A14=Feuil1!M15,Feuil1!F15) -> FALSE | E14: =IF(A14=Feuil1!M15,Feuil1!J15) -> FALSE | F14: =IF(A14=Feuil1!M15,Feuil1!K15) -> FALSE
A15: =A14 -> Abonné échéancier | B15: =IF(A15=Feuil1!M16,Feuil1!A16) -> FALSE | C15: =IF(A15=Feuil1!M16,Feuil1!E16) -> FALSE | D15: =IF(A15=Feuil1!M16,Feuil1!F16) -> FALSE | E15: =IF(A15=Feuil1!M16,Feuil1!J16) -> FALSE | F15: =IF(A15=Feuil1!M16,Feuil1!K16) -> FALSE
A16: =A15 -> Abonné échéancier | B16: =IF(A16=Feuil1!M17,Feuil1!A17) -> FALSE | C16: =IF(A16=Feuil1!M17,Feuil1!E17) -> FALSE | D16: =IF(A16=Feuil1!M17,Feuil1!F17) -> FALSE | E16: =IF(A16=Feuil1!M17,Feuil1!J17) -> FALSE | F16: =IF(A16=Feuil1!M17,Feuil1!K17) -> FALSE
A17: =A16 -> Abonné échéancier | B17: =IF(A17=Feuil1!M18,Feuil1!A18) -> FALSE | C17: =IF(A17=Feuil1!M18,Feuil1!E18) -> FALSE | D17: =IF(A17=Feuil1!M18,Feuil1!F18) -> FALSE | E17: =IF(A17=Feuil1!M18,Feuil1!J18) -> FALSE | F17: =IF(A17=Feuil1!M18,Feuil1!K18) -> FALSE
A18: =A17 -> Abonné échéancier | B18: =IF(A18=Feuil1!M19,Feuil1!A19) -> FALSE | C18: =IF(A18=Feuil1!M19,Feuil1!E19) -> FALSE | D18: =IF(A18=Feuil1!M19,Feuil1!F19) -> FALSE | E18: =IF(A18=Feuil1!M19,Feuil1!J19) -> FALSE | F18: =IF(A18=Feuil1!M19,Feuil1!K19) -> FALSE
A19: =A18 -> Abonné échéancier | B19: =IF(A19=Feuil1!M20,Feuil1!A20) -> FALSE | C19: =IF(A19=Feuil1!M20,Feuil1!E20) -> FALSE | D19: =IF(A19=Feuil1!M20,Feuil1!F20) -> FALSE | E19: =IF(A19=Feuil1!M20,Feuil1!J20) -> FALSE | F19: =IF(A19=Feuil1!M20,Feuil1!K20) -> FALSE
A20: =A19 -> Abonné échéancier | B20: =IF(A20=Feuil1!M21,Feuil1!A21) -> FALSE | C20: =IF(A20=Feuil1!M21,Feuil1!E21) -> FALSE | D20: =IF(A20=Feuil1!M21,Feuil1!F21) -> FALSE | E20: =IF(A20=Feuil1!M21,Feuil1!J21) -> FALSE | F20: =IF(A20=Feuil1!M21,Feuil1!K21) -> FALSE
... A37: =A36 -> Abonné échéancier | B37: =IF(A37=Feuil1!M38,Feuil1!A38) -> FALSE | C37: =IF(A37=Feuil1!M38,Feuil1!E38) -> FALSE | D37: =IF(A37=Feuil1!M38,Feuil1!F38) -> FALSE | E37: =IF(A37=Feuil1!M38,Feuil1!J38) -> FALSE | F37: =IF(A37=Feuil1!M38,Feuil1!K38) -> FALSE
D38: =IF(A38=Feuil1!M39,Feuil1!F39) -> 0 | E38: =IF(A38=Feuil1!M39,Feuil1!J39) -> 0 | F38: =IF(A38=Feuil1!M39,Feuil1!K39) -> 0
D39: =IF(A39=Feuil1!M40,Feuil1!F40) -> 0 | E39: =IF(A39=Feuil1!M40,Feuil1!J40) -> 0 | F39: =IF(A39=Feuil1!M40,Feuil1!K40) -> 0
D40: =IF(A40=Feuil1!M41,Feuil1!F41) -> 0 | E40: =IF(A40=Feuil1!M41,Feuil1!J41) -> 0 | F40: =IF(A40=Feuil1!M41,Feuil1!K41) -> 0
D41: =IF(A41=Feuil1!M42,Feuil1!F42) -> 0 | E41: =IF(A41=Feuil1!M42,Feuil1!J42) -> 0 | F41: =IF(A41=Feuil1!M42,Feuil1!K42) -> 0
D42: =IF(A42=Feuil1!M43,Feuil1!F43) -> 0 | E42: =IF(A42=Feuil1!M43,Feuil1!J43) -> 0 | F42: =IF(A42=Feuil1!M43,Feuil1!K43) -> 0
D43: =IF(A43=Feuil1!M44,Feuil1!F44) -> 0 | E43: =IF(A43=Feuil1!M44,Feuil1!J44) -> 0 | F43: =IF(A43=Feuil1!M44,Feuil1!K44) -> 0
