Workbook

Sheet Données
A1: Numero | B1: NOM Prénom | C1: Service | D1: Date début | E1: Date fin | F1: Nombre jours | G1: Nombre heures | H1: Code | I1: Fin de Bloc | J1: Cumul | K1: Résultats Escomptés
A2: XXXX | B2: Nathalie | C2: xxx | D2: 41305 | E2: 41305 | F2: 1 | G2: 0.25138889 | H2: CMO | I2: =IF(B3<>B2,"Fin de Bloc",IF(I1="Fin de Bloc","D"&ROW(),IF(D3<>"",IF(D3-E2>=3,"Fin de Bloc",""),"Fin de Bloc"))) -> 0 | J2: =IF(LEFT(I2,1)="D",SUM(F2:F2(F2:$F$20000,MATCH(1,(I2:$I$20000="Fin de Bloc"),0))),"") -> #VALUE! | K2: 39
A3: XXXX | B3: Nathalie | C3: xxx | D3: 41306 | E3: 41308 | F3: 3 | G3: 0 | H3: CMO | I3: =IF(B4<>B3,"Fin de Bloc",IF(I2="Fin de Bloc","D"&ROW(),IF(D4<>"",IF(D4-E3>=3,"Fin de Bloc",""),"Fin de Bloc"))) -> 0 | J3: =IF(LEFT(I3,1)="D",SUM(F3:F3(F3:$F$20000,MATCH(1,(I3:$I$20000="Fin de Bloc"),0))),"") -> #VALUE!
A4: XXXX | B4: Nathalie | C4: xxx | D4: 41309 | E4: 41312 | F4: 4 | G4: 1.3138889 | H4: CMO | I4: =IF(B5<>B4,"Fin de Bloc",IF(I3="Fin de Bloc","D"&ROW(),IF(D5<>"",IF(D5-E4>=3,"Fin de Bloc",""),"Fin de Bloc"))) -> 0 | J4: =IF(LEFT(I4,1)="D",SUM(F4:F4(F4:$F$20000,MATCH(1,(I4:$I$20000="Fin de Bloc"),0))),"") -> #VALUE!
A5: XXXX | B5: Nathalie | C5: xxx | D5: 41313 | E5: 41315 | F5: 3 | G5: 0 | H5: CMO | I5: =IF(B6<>B5,"Fin de Bloc",IF(I4="Fin de Bloc","D"&ROW(),IF(D6<>"",IF(D6-E5>=3,"Fin de Bloc",""),"Fin de Bloc"))) -> 0 | J5: =IF(LEFT(I5,1)="D",SUM(F5:F5(F5:$F$20000,MATCH(1,(I5:$I$20000="Fin de Bloc"),0))),"") -> #VALUE!
A6: XXXX | B6: Nathalie | C6: xxx | D6: 41316 | E6: 41319 | F6: 4 | G6: 1.3138889 | H6: CMO | I6: =IF(B7<>B6,"Fin de Bloc",IF(I5="Fin de Bloc","D"&ROW(),IF(D7<>"",IF(D7-E6>=3,"Fin de Bloc",""),"Fin de Bloc"))) -> 0 | J6: =IF(LEFT(I6,1)="D",SUM(F6:F6(F6:$F$20000,MATCH(1,(I6:$I$20000="Fin de Bloc"),0))),"") -> #VALUE!
A7: XXXX | B7: Nathalie | C7: xxx | D7: 41320 | E7: 41322 | F7: 3 | G7: 0 | H7: CMO | I7: =IF(B8<>B7,"Fin de Bloc",IF(I6="Fin de Bloc","D"&ROW(),IF(D8<>"",IF(D8-E7>=3,"Fin de Bloc",""),"Fin de Bloc"))) -> 0 | J7: =IF(LEFT(I7,1)="D",SUM(F7:F7(F7:$F$20000,MATCH(1,(I7:$I$20000="Fin de Bloc"),0))),"") -> #VALUE!
A8: XXXX | B8: Nathalie | C8: xxx | D8: 41323 | E8: 41326 | F8: 4 | G8: 1.3138889 | H8: CMO | I8: =IF(B9<>B8,"Fin de Bloc",IF(I7="Fin de Bloc","D"&ROW(),IF(D9<>"",IF(D9-E8>=3,"Fin de Bloc",""),"Fin de Bloc"))) -> 0 | J8: =IF(LEFT(I8,1)="D",SUM(F8:F8(F8:$F$20000,MATCH(1,(I8:$I$20000="Fin de Bloc"),0))),"") -> #VALUE!
A9: XXXX | B9: Nathalie | C9: xxx | D9: 41327 | E9: 41329 | F9: 3 | G9: 0 | H9: CMO | I9: =IF(B10<>B9,"Fin de Bloc",IF(I8="Fin de Bloc","D"&ROW(),IF(D10<>"",IF(D10-E9>=3,"Fin de Bloc",""),"Fin de Bloc"))) -> 0 | J9: =IF(LEFT(I9,1)="D",SUM(F9:F9(F9:$F$20000,MATCH(1,(I9:$I$20000="Fin de Bloc"),0))),"") -> #VALUE!
A10: XXXX | B10: Nathalie | C10: xxx | D10: 41330 | E10: 41333 | F10: 4 | G10: 1.3138889 | H10: CMO | I10: =IF(B11<>B10,"Fin de Bloc",IF(I9="Fin de Bloc","D"&ROW(),IF(D11<>"",IF(D11-E10>=3,"Fin de Bloc",""),"Fin de Bloc"))) -> 0 | J10: =IF(LEFT(I10,1)="D",SUM(F10:F10(F10:$F$20000,MATCH(1,(I10:$I$20000="Fin de Bloc"),0))),"") -> #VALUE!
A11: XXXX | B11: Nathalie | C11: xxx | D11: 41334 | E11: 41336 | F11: 3 | G11: 0 | H11: CMO | I11: =IF(B12<>B11,"Fin de Bloc",IF(I10="Fin de Bloc","D"&ROW(),IF(D12<>"",IF(D12-E11>=3,"Fin de Bloc",""),"Fin de Bloc"))) -> 0 | J11: =IF(LEFT(I11,1)="D",SUM(F11:F11(F11:$F$20000,MATCH(1,(I11:$I$20000="Fin de Bloc"),0))),"") -> #VALUE!
A12: XXXX | B12: Nathalie | C12: xxx | D12: 41337 | E12: 41340 | F12: 4 | G12: 1.3138889 | H12: CMO | I12: =IF(B13<>B12,"Fin de Bloc",IF(I11="Fin de Bloc","D"&ROW(),IF(D13<>"",IF(D13-E12>=3,"Fin de Bloc",""),"Fin de Bloc"))) -> 0 | J12: =IF(LEFT(I12,1)="D",SUM(F12:F12(F12:$F$20000,MATCH(1,(I12:$I$20000="Fin de Bloc"),0))),"") -> #VALUE!
A13: XXXX | B13: Nathalie | C13: xxx | D13: 41341 | E13: 41343 | F13: 3 | G13: 0 | H13: CMO | I13: =IF(B14<>B13,"Fin de Bloc",IF(I12="Fin de Bloc","D"&ROW(),IF(D14<>"",IF(D14-E13>=3,"Fin de Bloc",""),"Fin de Bloc"))) -> 0 | J13: =IF(LEFT(I13,1)="D",SUM(F13:F13(F13:$F$20000,MATCH(1,(I13:$I$20000="Fin de Bloc"),0))),"") -> #VALUE!
A14: XXXX | B14: Nathalie | C14: xxx | D14: 41388 | E14: 41388 | F14: 1 | G14: 0 | H14: CMO | I14: =IF(B15<>B14,"Fin de Bloc",IF(I13="Fin de Bloc","D"&ROW(),IF(D15<>"",IF(D15-E14>=3,"Fin de Bloc",""),"Fin de Bloc"))) -> 0 | J14: =IF(LEFT(I14,1)="D",SUM(F14:F14(F14:$F$20000,MATCH(1,(I14:$I$20000="Fin de Bloc"),0))),"") -> #VALUE! | K14: =SUM(F14:F17) -> 8
A15: XXXX | B15: Nathalie | C15: xxx | D15: 41388 | E15: 41389 | F15: 2 | G15: 0.60555556 | H15: CMO | I15: =IF(B16<>B15,"Fin de Bloc",IF(I14="Fin de Bloc","D"&ROW(),IF(D16<>"",IF(D16-E15>=3,"Fin de Bloc",""),"Fin de Bloc"))) -> 0 | J15: =IF(LEFT(I15,1)="D",SUM(F15:F15(F15:$F$20000,MATCH(1,(I15:$I$20000="Fin de Bloc"),0))),"") -> #VALUE!
A16: XXXX | B16: Nathalie | C16: xxx | D16: 41390 | E16: 41392 | F16: 3 | G16: 0 | H16: CMO | I16: =IF(B17<>B16,"Fin de Bloc",IF(I15="Fin de Bloc","D"&ROW(),IF(D17<>"",IF(D17-E16>=3,"Fin de Bloc",""),"Fin de Bloc"))) -> 0 | J16: =IF(LEFT(I16,1)="D",SUM(F16:F16(F16:$F$20000,MATCH(1,(I16:$I$20000="Fin de Bloc"),0))),"") -> #VALUE!
A17: XXXX | B17: Nathalie | C17: xxx | D17: 41393 | E17: 41394 | F17: 2 | G17: 0.70833333 | H17: CMO | I17: =IF(B18<>B17,"Fin de Bloc",IF(I16="Fin de Bloc","D"&ROW(),IF(D18<>"",IF(D18-E17>=3,"Fin de Bloc",""),"Fin de Bloc"))) -> 0 | J17: =IF(LEFT(I17,1)="D",SUM(F17:F17(F17:$F$20000,MATCH(1,(I17:$I$20000="Fin de Bloc"),0))),"") -> #VALUE!
A18: XXXX | B18: Nathalie | C18: xxx | D18: 41451 | E18: 41452 | F18: 2 | G18: 0.60555556 | H18: CMO | I18: =IF(B19<>B18,"Fin de Bloc",IF(I17="Fin de Bloc","D"&ROW(),IF(D19<>"",IF(D19-E18>=3,"Fin de Bloc",""),"Fin de Bloc"))) -> 0 | J18: =IF(LEFT(I18,1)="D",SUM(F18:F18(F18:$F$20000,MATCH(1,(I18:$I$20000="Fin de Bloc"),0))),"") -> #VALUE! | K18: =SUM(F18:F28) -> 37
A19: XXXX | B19: Nathalie | C19: xxx | D19: 41453 | E19: 41455 | F19: 3 | G19: 0 | H19: CMO | I19: =IF(B20<>B19,"Fin de Bloc",IF(I18="Fin de Bloc","D"&ROW(),IF(D20<>"",IF(D20-E19>=3,"Fin de Bloc",""),"Fin de Bloc"))) -> 0 | J19: =IF(LEFT(I19,1)="D",SUM(F19:F19(F19:$F$20000,MATCH(1,(I19:$I$20000="Fin de Bloc"),0))),"") -> #VALUE!
A20: XXXX | B20: Nathalie | C20: xxx | D20: 41456 | E20: 41459 | F20: 4 | G20: 1.3138889 | H20: CMO | I20: =IF(B21<>B20,"Fin de Bloc",IF(I19="Fin de Bloc","D"&ROW(),IF(D21<>"",IF(D21-E20>=3,"Fin de Bloc",""),"Fin de Bloc"))) -> 0 | J20: =IF(LEFT(I20,1)="D",SUM(F20:F20(F20:$F$20000,MATCH(1,(I20:$I$20000="Fin de Bloc"),0))),"") -> #VALUE!
A21: XXXX | B21: Nathalie | C21: xxx | D21: 41460 | E21: 41462 | F21: 3 | G21: 0 | H21: CMO | I21: =IF(B22<>B21,"Fin de Bloc",IF(I20="Fin de Bloc","D"&ROW(),IF(D22<>"",IF(D22-E21>=3,"Fin de Bloc",""),"Fin de Bloc"))) -> 0 | J21: =IF(LEFT(I21,1)="D",SUM(F21:F21(F21:$F$20000,MATCH(1,(I21:$I$20000="Fin de Bloc"),0))),"") -> #VALUE!
A22: XXXX | B22: Nathalie | C22: xxx | D22: 41463 | E22: 41466 | F22: 4 | G22: 1.3138889 | H22: CMO | I22: =IF(B23<>B22,"Fin de Bloc",IF(I21="Fin de Bloc","D"&ROW(),IF(D23<>"",IF(D23-E22>=3,"Fin de Bloc",""),"Fin de Bloc"))) -> 0 | J22: =IF(LEFT(I22,1)="D",SUM(F22:F22(F22:$F$20000,MATCH(1,(I22:$I$20000="Fin de Bloc"),0))),"") -> #VALUE!
A23: XXXX | B23: Nathalie | C23: xxx | D23: 41467 | E23: 41469 | F23: 3 | G23: 0 | H23: CMO | I23: =IF(B24<>B23,"Fin de Bloc",IF(I22="Fin de Bloc","D"&ROW(),IF(D24<>"",IF(D24-E23>=3,"Fin de Bloc",""),"Fin de Bloc"))) -> 0 | J23: =IF(LEFT(I23,1)="D",SUM(F23:F23(F23:$F$20000,MATCH(1,(I23:$I$20000="Fin de Bloc"),0))),"") -> #VALUE!
A24: XXXX | B24: Nathalie | C24: xxx | D24: 41470 | E24: 41473 | F24: 4 | G24: 1.3138889 | H24: CMO | I24: =IF(B25<>B24,"Fin de Bloc",IF(I23="Fin de Bloc","D"&ROW(),IF(D25<>"",IF(D25-E24>=3,"Fin de Bloc",""),"Fin de Bloc"))) -> 0 | J24: =IF(LEFT(I24,1)="D",SUM(F24:F24(F24:$F$20000,MATCH(1,(I24:$I$20000="Fin de Bloc"),0))),"") -> #VALUE!
A25: XXXX | B25: Nathalie | C25: xxx | D25: 41474 | E25: 41476 | F25: 3 | G25: 0 | H25: CMO | I25: =IF(B26<>B25,"Fin de Bloc",IF(I24="Fin de Bloc","D"&ROW(),IF(D26<>"",IF(D26-E25>=3,"Fin de Bloc",""),"Fin de Bloc"))) -> 0 | J25: =IF(LEFT(I25,1)="D",SUM(F25:F25(F25:$F$20000,MATCH(1,(I25:$I$20000="Fin de Bloc"),0))),"") -> #VALUE!
A26: XXXX | B26: Nathalie | C26: xxx | D26: 41477 | E26: 41480 | F26: 4 | G26: 1.3138889 | H26: CMO | I26: =IF(B27<>B26,"Fin de Bloc",IF(I25="Fin de Bloc","D"&ROW(),IF(D27<>"",IF(D27-E26>=3,"Fin de Bloc",""),"Fin de Bloc"))) -> 0 | J26: =IF(LEFT(I26,1)="D",SUM(F26:F26(F26:$F$20000,MATCH(1,(I26:$I$20000="Fin de Bloc"),0))),"") -> #VALUE!
A27: XXXX | B27: Nathalie | C27: xxx | D27: 41481 | E27: 41483 | F27: 3 | G27: 0 | H27: CMO | I27: =IF(B28<>B27,"Fin de Bloc",IF(I26="Fin de Bloc","D"&ROW(),IF(D28<>"",IF(D28-E27>=3,"Fin de Bloc",""),"Fin de Bloc"))) -> 0 | J27: =IF(LEFT(I27,1)="D",SUM(F27:F27(F27:$F$20000,MATCH(1,(I27:$I$20000="Fin de Bloc"),0))),"") -> #VALUE!
A28: XXXX | B28: Nathalie | C28: xxx | D28: 41484 | E28: 41487 | F28: 4 | G28: 1.3138889 | H28: CMO | I28: =IF(B29<>B28,"Fin de Bloc",IF(I27="Fin de Bloc","D"&ROW(),IF(D29<>"",IF(D29-E28>=3,"Fin de Bloc",""),"Fin de Bloc"))) -> Fin de Bloc | J28: =IF(LEFT(I28,1)="D",SUM(F28:F28(F28:$F$20000,MATCH(1,(I28:$I$20000="Fin de Bloc"),0))),"") -> #VALUE!
A29: XXXX | B29: Sébastien | C29: xxx | D29: 41287 | E29: 41287 | F29: 1 | G29: 0 | H29: CMO | I29: =IF(B30<>B29,"Fin de Bloc",IF(I28="Fin de Bloc","D"&ROW(),IF(D30<>"",IF(D30-E29>=3,"Fin de Bloc",""),"Fin de Bloc"))) -> 0 | J29: =IF(LEFT(I29,1)="D",SUM(F29:F29(F29:$F$20000,MATCH(1,(I29:$I$20000="Fin de Bloc"),0))),"") -> #VALUE! | K29: =SUM(F29:F36) -> 23
A30: XXXX | B30: Sébastien | C30: xxx | D30: 41288 | E30: 41292 | F30: 5 | G30: 1.625 | H30: CMO | I30: =IF(B31<>B30,"Fin de Bloc",IF(I29="Fin de Bloc","D"&ROW(),IF(D31<>"",IF(D31-E30>=3,"Fin de Bloc",""),"Fin de Bloc"))) -> 0 | J30: =IF(LEFT(I30,1)="D",SUM(F30:F30(F30:$F$20000,MATCH(1,(I30:$I$20000="Fin de Bloc"),0))),"") -> #VALUE!
A31: XXXX | B31: Sébastien | C31: xxx | D31: 41293 | E31: 41294 | F31: 2 | G31: 0 | H31: CMO | I31: =IF(B32<>B31,"Fin de Bloc",IF(I30="Fin de Bloc","D"&ROW(),IF(D32<>"",IF(D32-E31>=3,"Fin de Bloc",""),"Fin de Bloc"))) -> 0 | J31: =IF(LEFT(I31,1)="D",SUM(F31:F31(F31:$F$20000,MATCH(1,(I31:$I$20000="Fin de Bloc"),0))),"") -> #VALUE! | L31: Par exemple … Pourquoi …?
A32: XXXX | B32: Sébastien | C32: xxx | D32: 41295 | E32: 41297 | F32: 3 | G32: 1 | H32: CMO | I32: =IF(#ref !<>B32,"Fin de Bloc",IF(I31="Fin de Bloc","D"&ROW(),IF(#ref !<>"",IF(#ref !-E32>=3,"Fin de Bloc",""),"Fin de Bloc"))) -> #VALUE! | J32: =IF(LEFT(I32,1)="D",SUM(F32:F32(F32:$F$20000,MATCH(1,(I32:$I$20000="Fin de Bloc"),0))),"") -> #VALUE!
A33: XXXX | B33: Sébastien | C33: xxx | D33: 41300 | E33: 41301 | F33: 2 | G33: 0 | H33: CMO | I33: =IF(B34<>B33,"Fin de Bloc",IF(#ref !="Fin de Bloc","D"&ROW(),IF(D34<>"",IF(D34-E33>=3,"Fin de Bloc",""),"Fin de Bloc"))) -> #VALUE! | J33: =IF(AND(I33="Fin de Bloc",I32="Fin de Bloc"),F33,IF(LEFT(I33,1)="D",SUM(F33:F33(F33:$F$20000,MATCH(1,(I33:$I$20000="Fin de Bloc"),0))),"")) -> #VALUE!
A34: XXXX | B34: Sébastien | C34: xxx | D34: 41302 | E34: 41306 | F34: 5 | G34: 1.625 | H34: CMO | I34: =IF(B35<>B34,"Fin de Bloc",IF(I33="Fin de Bloc","D"&ROW(),IF(D35<>"",IF(D35-E34>=3,"Fin de Bloc",""),"Fin de Bloc"))) -> #VALUE! | J34: =IF(AND(I34="Fin de Bloc",I33="Fin de Bloc"),F34,IF(LEFT(I34,1)="D",SUM(F34:F34(F34:$F$20000,MATCH(1,(I34:$I$20000="Fin de Bloc"),0))),"")) -> #VALUE!
A35: XXXX | B35: Sébastien | C35: xxx | D35: 41307 | E35: 41308 | F35: 2 | G35: 0 | H35: CMO | I35: =IF(B36<>B35,"Fin de Bloc",IF(I34="Fin de Bloc","D"&ROW(),IF(D36<>"",IF(D36-E35>=3,"Fin de Bloc",""),"Fin de Bloc"))) -> #VALUE! | J35: =IF(AND(I35="Fin de Bloc",I34="Fin de Bloc"),F35,IF(LEFT(I35,1)="D",SUM(F35:F35(F35:$F$20000,MATCH(1,(I35:$I$20000="Fin de Bloc"),0))),"")) -> #VALUE!
A36: XXXX | B36: Sébastien | C36: xxx | D36: 41309 | E36: 41311 | F36: 3 | G36: 1 | H36: CMO | I36: =IF(B37<>B36,"Fin de Bloc",IF(I35="Fin de Bloc","D"&ROW(),IF(D37<>"",IF(D37-E36>=3,"Fin de Bloc",""),"Fin de Bloc"))) -> #VALUE! | J36: =IF(AND(I36="Fin de Bloc",I35="Fin de Bloc"),F36,IF(LEFT(I36,1)="D",SUM(F36:F36(F36:$F$20000,MATCH(1,(I36:$I$20000="Fin de Bloc"),0))),"")) -> #VALUE!
A37: XXXX | B37: Sébastien | C37: xxx | D37: 41344 | E37: 41345 | F37: 2 | G37: 0.66666667 | H37: CMO | I37: =IF(B38<>B37,"Fin de Bloc",IF(I36="Fin de Bloc","D"&ROW(),IF(D38<>"",IF(D38-E37>=3,"Fin de Bloc",""),"Fin de Bloc"))) -> 0 | J37: =IF(AND(I37="Fin de Bloc",I36="Fin de Bloc"),F37,IF(LEFT(I37,1)="D",SUM(F37:F37(F37:$F$20000,MATCH(1,(I37:$I$20000="Fin de Bloc"),0))),"")) -> #VALUE! | K37: =SUM(F37) -> 2
A38: XXXX | B38: Nicole | C38: xxx | D38: 41303 | E38: 41304 | F38: 2 | G38: 0.66666667 | H38: CMO | I38: =IF(B39<>B38,"Fin de Bloc",IF(I37="Fin de Bloc","D"&ROW(),IF(D39<>"",IF(D39-E38>=3,"Fin de Bloc",""),"Fin de Bloc"))) -> 0 | J38: =IF(AND(I38="Fin de Bloc",I37="Fin de Bloc"),F38,IF(LEFT(I38,1)="D",SUM(F38:F38(F38:$F$20000,MATCH(1,(I38:$I$20000="Fin de Bloc"),0))),"")) -> #VALUE! | K38: =SUM(F38) -> 2
A39: XXXX | B39: Béatrice | C39: xxx | D39: 41291 | E39: 41292 | F39: 2 | G39: 0.68333333 | H39: CMO | I39: =IF(B40<>B39,"Fin de Bloc",IF(I38="Fin de Bloc","D"&ROW(),IF(D40<>"",IF(D40-E39>=3,"Fin de Bloc",""),"Fin de Bloc"))) -> 0 | J39: =IF(AND(I39="Fin de Bloc",I38="Fin de Bloc"),F39,IF(LEFT(I39,1)="D",SUM(F39:F39(F39:$F$20000,MATCH(1,(I39:$I$20000="Fin de Bloc"),0))),"")) -> #VALUE! | K39: =SUM(F39) -> 2
A40: XXXX | B40: Béatrice | C40: xxx | D40: 41361 | E40: 41362 | F40: 2 | G40: 0.6 | H40: CMO | I40: =IF(B41<>B40,"Fin de Bloc",IF(I39="Fin de Bloc","D"&ROW(),IF(D41<>"",IF(D41-E40>=3,"Fin de Bloc",""),"Fin de Bloc"))) -> 0 | J40: =IF(AND(I40="Fin de Bloc",I39="Fin de Bloc"),F40,IF(LEFT(I40,1)="D",SUM(F40:F40(F40:$F$20000,MATCH(1,(I40:$I$20000="Fin de Bloc"),0))),"")) -> #VALUE! | K40: =SUM(F40) -> 2
...

Sheet Infos
A1: =SUMPRODUCT(1/COUNTIF(colnoms,colnoms)) -> 24 | B1: # Records | C1: a | D1: z
A2: =IF(ROW(A1)>$A$1,"",INDEX(colnoms,MIN(IF(COUNTIF(A$1:A1,colnoms)=0,ROW(colnoms)-1)))) -> Nathalie | B2: =COUNTIF(Données!$B$1:$B$289,Infos!A2) -> 27 | C2: =MATCH(A2,Données!B$1:B$1048573,0) -> 2 | D2: =B2+C2-1 -> 28
A3: =IF(ROW(A2)>$A$1,"",INDEX(colnoms,MIN(IF(COUNTIF(A$1:A2,colnoms)=0,ROW(colnoms)-1)))) -> Nathalie | B3: =COUNTIF(Données!$B$1:$B$289,Infos!A3) -> 27 | C3: =MATCH(A3,Données!B$1:B$1048573,0) -> 2 | D3: =B3+C3-1 -> 28
A4: =IF(ROW(A3)>$A$1,"",INDEX(colnoms,MIN(IF(COUNTIF(A$1:A3,colnoms)=0,ROW(colnoms)-1)))) -> Nathalie | B4: =COUNTIF(Données!$B$1:$B$289,Infos!A4) -> 27 | C4: =MATCH(A4,Données!B$1:B$1048573,0) -> 2 | D4: =B4+C4-1 -> 28
A5: =IF(ROW(A4)>$A$1,"",INDEX(colnoms,MIN(IF(COUNTIF(A$1:A4,colnoms)=0,ROW(colnoms)-1)))) -> Nathalie | B5: =COUNTIF(Données!$B$1:$B$289,Infos!A5) -> 27 | C5: =MATCH(A5,Données!B$1:B$1048573,0) -> 2 | D5: =B5+C5-1 -> 28
A6: =IF(ROW(A5)>$A$1,"",INDEX(colnoms,MIN(IF(COUNTIF(A$1:A5,colnoms)=0,ROW(colnoms)-1)))) -> Nathalie | B6: =COUNTIF(Données!$B$1:$B$289,Infos!A6) -> 27 | C6: =MATCH(A6,Données!B$1:B$1048573,0) -> 2 | D6: =B6+C6-1 -> 28
A7: =IF(ROW(A6)>$A$1,"",INDEX(colnoms,MIN(IF(COUNTIF(A$1:A6,colnoms)=0,ROW(colnoms)-1)))) -> Nathalie | B7: =COUNTIF(Données!$B$1:$B$289,Infos!A7) -> 27 | C7: =MATCH(A7,Données!B$1:B$1048573,0) -> 2 | D7: =B7+C7-1 -> 28
A8: =IF(ROW(A7)>$A$1,"",INDEX(colnoms,MIN(IF(COUNTIF(A$1:A7,colnoms)=0,ROW(colnoms)-1)))) -> Nathalie | B8: =COUNTIF(Données!$B$1:$B$289,Infos!A8) -> 27 | C8: =MATCH(A8,Données!B$1:B$1048573,0) -> 2 | D8: =B8+C8-1 -> 28
A9: =IF(ROW(A8)>$A$1,"",INDEX(colnoms,MIN(IF(COUNTIF(A$1:A8,colnoms)=0,ROW(colnoms)-1)))) -> Nathalie | B9: =COUNTIF(Données!$B$1:$B$289,Infos!A9) -> 27 | C9: =MATCH(A9,Données!B$1:B$1048573,0) -> 2 | D9: =B9+C9-1 -> 28
A10: =IF(ROW(A9)>$A$1,"",INDEX(colnoms,MIN(IF(COUNTIF(A$1:A9,colnoms)=0,ROW(colnoms)-1)))) -> Nathalie | B10: =COUNTIF(Données!$B$1:$B$289,Infos!A10) -> 27 | C10: =MATCH(A10,Données!B$1:B$1048573,0) -> 2 | D10: =B10+C10-1 -> 28
A11: =IF(ROW(A10)>$A$1,"",INDEX(colnoms,MIN(IF(COUNTIF(A$1:A10,colnoms)=0,ROW(colnoms)-1)))) -> Nathalie | B11: =COUNTIF(Données!$B$1:$B$289,Infos!A11) -> 27 | C11: =MATCH(A11,Données!B$1:B$1048573,0) -> 2 | D11: =B11+C11-1 -> 28
A12: =IF(ROW(A11)>$A$1,"",INDEX(colnoms,MIN(IF(COUNTIF(A$1:A11,colnoms)=0,ROW(colnoms)-1)))) -> Nathalie | B12: =COUNTIF(Données!$B$1:$B$289,Infos!A12) -> 27 | C12: =MATCH(A12,Données!B$1:B$1048573,0) -> 2 | D12: =B12+C12-1 -> 28
A13: =IF(ROW(A12)>$A$1,"",INDEX(colnoms,MIN(IF(COUNTIF(A$1:A12,colnoms)=0,ROW(colnoms)-1)))) -> Nathalie | B13: =COUNTIF(Données!$B$1:$B$289,Infos!A13) -> 27 | C13: =MATCH(A13,Données!B$1:B$1048573,0) -> 2 | D13: =B13+C13-1 -> 28
... A25: =IF(ROW(A24)>$A$1,"",INDEX(colnoms,MIN(IF(COUNTIF(A$1:A24,colnoms)=0,ROW(colnoms)-1)))) -> Nathalie | B25: =COUNTIF(Données!$B$1:$B$289,Infos!A25) -> 27 | C25: =MATCH(A25,Données!B$1:B$1048573,0) -> 2 | D25: =B25+C25-1 -> 28
