Workbook

Sheet Données
A1: Numero | B1: NOM Prénom | C1: Service | D1: Date début | E1: Date fin | F1: Nombre jours | G1: Nombre heures | H1: Code | I1: Fin de Bloc | J1: Cumul | K1: Résultats Escomptés
A2: XXXX | B2: Nathalie | C2: xxx | D2: 41305 | E2: 41305 | F2: 1 | G2: 0.25138889 | H2: CMO | I2: =IF(B3<>B2,"Fin de Bloc",IF(I1="Fin de Bloc","D"&ROW(),IF(D3<>"",IF(D3-E2>=3,"Fin de Bloc",""),"Fin de Bloc"))) -> 0 | J2: =IF(LEFT(I2,1)="D",SUM(F2:F2(F2:$F$20000,MATCH(1,(I2:$I$20000="Fin de Bloc"),0))),"") -> #VALUE! | K2: 39
A3: XXXX | B3: Nathalie | C3: xxx | D3: 41306 | E3: 41308 | F3: 3 | G3: 0 | H3: CMO | I3: =IF(B4<>B3,"Fin de Bloc",IF(I2="Fin de Bloc","D"&ROW(),IF(D4<>"",IF(D4-E3>=3,"Fin de Bloc",""),"Fin de Bloc"))) -> 0 | J3: =IF(LEFT(I3,1)="D",SUM(F3:F3(F3:$F$20000,MATCH(1,(I3:$I$20000="Fin de Bloc"),0))),"") -> #VALUE!
A4: XXXX | B4: Nathalie | C4: xxx | D4: 41309 | E4: 41312 | F4: 4 | G4: 1.3138889 | H4: CMO | I4: =IF(B5<>B4,"Fin de Bloc",IF(I3="Fin de Bloc","D"&ROW(),IF(D5<>"",IF(D5-E4>=3,"Fin de Bloc",""),"Fin de Bloc"))) -> 0 | J4: =IF(LEFT(I4,1)="D",SUM(F4:F4(F4:$F$20000,MATCH(1,(I4:$I$20000="Fin de Bloc"),0))),"") -> #VALUE!
A5: XXXX | B5: Nathalie | C5: xxx | D5: 41313 | E5: 41315 | F5: 3 | G5: 0 | H5: CMO | I5: =IF(B6<>B5,"Fin de Bloc",IF(I4="Fin de Bloc","D"&ROW(),IF(D6<>"",IF(D6-E5>=3,"Fin de Bloc",""),"Fin de Bloc"))) -> 0 | J5: =IF(LEFT(I5,1)="D",SUM(F5:F5(F5:$F$20000,MATCH(1,(I5:$I$20000="Fin de Bloc"),0))),"") -> #VALUE!
A6: XXXX | B6: Nathalie | C6: xxx | D6: 41316 | E6: 41319 | F6: 4 | G6: 1.3138889 | H6: CMO | I6: =IF(B7<>B6,"Fin de Bloc",IF(I5="Fin de Bloc","D"&ROW(),IF(D7<>"",IF(D7-E6>=3,"Fin de Bloc",""),"Fin de Bloc"))) -> 0 | J6: =IF(LEFT(I6,1)="D",SUM(F6:F6(F6:$F$20000,MATCH(1,(I6:$I$20000="Fin de Bloc"),0))),"") -> #VALUE!
A7: XXXX | B7: Nathalie | C7: xxx | D7: 41320 | E7: 41322 | F7: 3 | G7: 0 | H7: CMO | I7: =IF(B8<>B7,"Fin de Bloc",IF(I6="Fin de Bloc","D"&ROW(),IF(D8<>"",IF(D8-E7>=3,"Fin de Bloc",""),"Fin de Bloc"))) -> 0 | J7: =IF(LEFT(I7,1)="D",SUM(F7:F7(F7:$F$20000,MATCH(1,(I7:$I$20000="Fin de Bloc"),0))),"") -> #VALUE!
A8: XXXX | B8: Nathalie | C8: xxx | D8: 41323 | E8: 41326 | F8: 4 | G8: 1.3138889 | H8: CMO | I8: =IF(B9<>B8,"Fin de Bloc",IF(I7="Fin de Bloc","D"&ROW(),IF(D9<>"",IF(D9-E8>=3,"Fin de Bloc",""),"Fin de Bloc"))) -> 0 | J8: =IF(LEFT(I8,1)="D",SUM(F8:F8(F8:$F$20000,MATCH(1,(I8:$I$20000="Fin de Bloc"),0))),"") -> #VALUE!
A9: XXXX | B9: Nathalie | C9: xxx | D9: 41327 | E9: 41329 | F9: 3 | G9: 0 | H9: CMO | I9: =IF(B10<>B9,"Fin de Bloc",IF(I8="Fin de Bloc","D"&ROW(),IF(D10<>"",IF(D10-E9>=3,"Fin de Bloc",""),"Fin de Bloc"))) -> 0 | J9: =IF(LEFT(I9,1)="D",SUM(F9:F9(F9:$F$20000,MATCH(1,(I9:$I$20000="Fin de Bloc"),0))),"") -> #VALUE!
A10: XXXX | B10: Nathalie | C10: xxx | D10: 41330 | E10: 41333 | F10: 4 | G10: 1.3138889 | H10: CMO | I10: =IF(B11<>B10,"Fin de Bloc",IF(I9="Fin de Bloc","D"&ROW(),IF(D11<>"",IF(D11-E10>=3,"Fin de Bloc",""),"Fin de Bloc"))) -> 0 | J10: =IF(LEFT(I10,1)="D",SUM(F10:F10(F10:$F$20000,MATCH(1,(I10:$I$20000="Fin de Bloc"),0))),"") -> #VALUE!
A11: XXXX | B11: Nathalie | C11: xxx | D11: 41334 | E11: 41336 | F11: 3 | G11: 0 | H11: CMO | I11: =IF(B12<>B11,"Fin de Bloc",IF(I10="Fin de Bloc","D"&ROW(),IF(D12<>"",IF(D12-E11>=3,"Fin de Bloc",""),"Fin de Bloc"))) -> 0 | J11: =IF(LEFT(I11,1)="D",SUM(F11:F11(F11:$F$20000,MATCH(1,(I11:$I$20000="Fin de Bloc"),0))),"") -> #VALUE!
A12: XXXX | B12: Nathalie | C12: xxx | D12: 41337 | E12: 41340 | F12: 4 | G12: 1.3138889 | H12: CMO | I12: =IF(B13<>B12,"Fin de Bloc",IF(I11="Fin de Bloc","D"&ROW(),IF(D13<>"",IF(D13-E12>=3,"Fin de Bloc",""),"Fin de Bloc"))) -> 0 | J12: =IF(LEFT(I12,1)="D",SUM(F12:F12(F12:$F$20000,MATCH(1,(I12:$I$20000="Fin de Bloc"),0))),"") -> #VALUE!
A13: XXXX | B13: Nathalie | C13: xxx | D13: 41341 | E13: 41343 | F13: 3 | G13: 0 | H13: CMO | I13: =IF(B14<>B13,"Fin de Bloc",IF(I12="Fin de Bloc","D"&ROW(),IF(D14<>"",IF(D14-E13>=3,"Fin de Bloc",""),"Fin de Bloc"))) -> 0 | J13: =IF(LEFT(I13,1)="D",SUM(F13:F13(F13:$F$20000,MATCH(1,(I13:$I$20000="Fin de Bloc"),0))),"") -> #VALUE!
A14: XXXX | B14: Nathalie | C14: xxx | D14: 41388 | E14: 41388 | F14: 1 | G14: 0 | H14: CMO | I14: =IF(B15<>B14,"Fin de Bloc",IF(I13="Fin de Bloc","D"&ROW(),IF(D15<>"",IF(D15-E14>=3,"Fin de Bloc",""),"Fin de Bloc"))) -> 0 | J14: =IF(LEFT(I14,1)="D",SUM(F14:F14(F14:$F$20000,MATCH(1,(I14:$I$20000="Fin de Bloc"),0))),"") -> #VALUE! | K14: =SUM(F14:F17) -> 8
A15: XXXX | B15: Nathalie | C15: xxx | D15: 41388 | E15: 41389 | F15: 2 | G15: 0.60555556 | H15: CMO | I15: =IF(B16<>B15,"Fin de Bloc",IF(I14="Fin de Bloc","D"&ROW(),IF(D16<>"",IF(D16-E15>=3,"Fin de Bloc",""),"Fin de Bloc"))) -> 0 | J15: =IF(LEFT(I15,1)="D",SUM(F15:F15(F15:$F$20000,MATCH(1,(I15:$I$20000="Fin de Bloc"),0))),"") -> #VALUE!
A16: XXXX | B16: Nathalie | C16: xxx | D16: 41390 | E16: 41392 | F16: 3 | G16: 0 | H16: CMO | I16: =IF(B17<>B16,"Fin de Bloc",IF(I15="Fin de Bloc","D"&ROW(),IF(D17<>"",IF(D17-E16>=3,"Fin de Bloc",""),"Fin de Bloc"))) -> 0 | J16: =IF(LEFT(I16,1)="D",SUM(F16:F16(F16:$F$20000,MATCH(1,(I16:$I$20000="Fin de Bloc"),0))),"") -> #VALUE!
A17: XXXX | B17: Nathalie | C17: xxx | D17: 41393 | E17: 41394 | F17: 2 | G17: 0.70833333 | H17: CMO | I17: =IF(B18<>B17,"Fin de Bloc",IF(I16="Fin de Bloc","D"&ROW(),IF(D18<>"",IF(D18-E17>=3,"Fin de Bloc",""),"Fin de Bloc"))) -> 0 | J17: =IF(LEFT(I17,1)="D",SUM(F17:F17(F17:$F$20000,MATCH(1,(I17:$I$20000="Fin de Bloc"),0))),"") -> #VALUE!
A18: XXXX | B18: Nathalie | C18: xxx | D18: 41451 | E18: 41452 | F18: 2 | G18: 0.60555556 | H18: CMO | I18: =IF(B19<>B18,"Fin de Bloc",IF(I17="Fin de Bloc","D"&ROW(),IF(D19<>"",IF(D19-E18>=3,"Fin de Bloc",""),"Fin de Bloc"))) -> 0 | J18: =IF(LEFT(I18,1)="D",SUM(F18:F18(F18:$F$20000,MATCH(1,(I18:$I$20000="Fin de Bloc"),0))),"") -> #VALUE! | K18: =SUM(F18:F28) -> 37
A19: XXXX | B19: Nathalie | C19: xxx | D19: 41453 | E19: 41455 | F19: 3 | G19: 0 | H19: CMO | I19: =IF(B20<>B19,"Fin de Bloc",IF(I18="Fin de Bloc","D"&ROW(),IF(D20<>"",IF(D20-E19>=3,"Fin de Bloc",""),"Fin de Bloc"))) -> 0 | J19: =IF(LEFT(I19,1)="D",SUM(F19:F19(F19:$F$20000,MATCH(1,(I19:$I$20000="Fin de Bloc"),0))),"") -> #VALUE!
A20: XXXX | B20: Nathalie | C20: xxx | D20: 41456 | E20: 41459 | F20: 4 | G20: 1.3138889 | H20: CMO | I20: =IF(B21<>B20,"Fin de Bloc",IF(I19="Fin de Bloc","D"&ROW(),IF(D21<>"",IF(D21-E20>=3,"Fin de Bloc",""),"Fin de Bloc"))) -> 0 | J20: =IF(LEFT(I20,1)="D",SUM(F20:F20(F20:$F$20000,MATCH(1,(I20:$I$20000="Fin de Bloc"),0))),"") -> #VALUE!
A21: XXXX | B21: Nathalie | C21: xxx | D21: 41460 | E21: 41462 | F21: 3 | G21: 0 | H21: CMO | I21: =IF(B22<>B21,"Fin de Bloc",IF(I20="Fin de Bloc","D"&ROW(),IF(D22<>"",IF(D22-E21>=3,"Fin de Bloc",""),"Fin de Bloc"))) -> 0 | J21: =IF(LEFT(I21,1)="D",SUM(F21:F21(F21:$F$20000,MATCH(1,(I21:$I$20000="Fin de Bloc"),0))),"") -> #VALUE!
A22: XXXX | B22: Nathalie | C22: xxx | D22: 41463 | E22: 41466 | F22: 4 | G22: 1.3138889 | H22: CMO | I22: =IF(B23<>B22,"Fin de Bloc",IF(I21="Fin de Bloc","D"&ROW(),IF(D23<>"",IF(D23-E22>=3,"Fin de Bloc",""),"Fin de Bloc"))) -> 0 | J22: =IF(LEFT(I22,1)="D",SUM(F22:F22(F22:$F$20000,MATCH(1,(I22:$I$20000="Fin de Bloc"),0))),"") -> #VALUE!
A23: XXXX | B23: Nathalie | C23: xxx | D23: 41467 | E23: 41469 | F23: 3 | G23: 0 | H23: CMO | I23: =IF(B24<>B23,"Fin de Bloc",IF(I22="Fin de Bloc","D"&ROW(),IF(D24<>"",IF(D24-E23>=3,"Fin de Bloc",""),"Fin de Bloc"))) -> 0 | J23: =IF(LEFT(I23,1)="D",SUM(F23:F23(F23:$F$20000,MATCH(1,(I23:$I$20000="Fin de Bloc"),0))),"") -> #VALUE!
A24: XXXX | B24: Nathalie | C24: xxx | D24: 41470 | E24: 41473 | F24: 4 | G24: 1.3138889 | H24: CMO | I24: =IF(B25<>B24,"Fin de Bloc",IF(I23="Fin de Bloc","D"&ROW(),IF(D25<>"",IF(D25-E24>=3,"Fin de Bloc",""),"Fin de Bloc"))) -> 0 | J24: =IF(LEFT(I24,1)="D",SUM(F24:F24(F24:$F$20000,MATCH(1,(I24:$I$20000="Fin de Bloc"),0))),"") -> #VALUE!
A25: XXXX | B25: Nathalie | C25: xxx | D25: 41474 | E25: 41476 | F25: 3 | G25: 0 | H25: CMO | I25: =IF(B26<>B25,"Fin de Bloc",IF(I24="Fin de Bloc","D"&ROW(),IF(D26<>"",IF(D26-E25>=3,"Fin de Bloc",""),"Fin de Bloc"))) -> 0 | J25: =IF(LEFT(I25,1)="D",SUM(F25:F25(F25:$F$20000,MATCH(1,(I25:$I$20000="Fin de Bloc"),0))),"") -> #VALUE!
A26: XXXX | B26: Nathalie | C26: xxx | D26: 41477 | E26: 41480 | F26: 4 | G26: 1.3138889 | H26: CMO | I26: =IF(B27<>B26,"Fin de Bloc",IF(I25="Fin de Bloc","D"&ROW(),IF(D27<>"",IF(D27-E26>=3,"Fin de Bloc",""),"Fin de Bloc"))) -> 0 | J26: =IF(LEFT(I26,1)="D",SUM(F26:F26(F26:$F$20000,MATCH(1,(I26:$I$20000="Fin de Bloc"),0))),"") -> #VALUE!
A27: XXXX | B27: Nathalie | C27: xxx | D27: 41481 | E27: 41483 | F27: 3 | G27: 0 | H27: CMO | I27: =IF(B28<>B27,"Fin de Bloc",IF(I26="Fin de Bloc","D"&ROW(),IF(D28<>"",IF(D28-E27>=3,"Fin de Bloc",""),"Fin de Bloc"))) -> 0 | J27: =IF(LEFT(I27,1)="D",SUM(F27:F27(F27:$F$20000,MATCH(1,(I27:$I$20000="Fin de Bloc"),0))),"") -> #VALUE!
A28: XXXX | B28: Nathalie | C28: xxx | D28: 41484 | E28: 41487 | F28: 4 | G28: 1.3138889 | H28: CMO | I28: =IF(B29<>B28,"Fin de Bloc",IF(I27="Fin de Bloc","D"&ROW(),IF(D29<>"",IF(D29-E28>=3,"Fin de Bloc",""),"Fin de Bloc"))) -> Fin de Bloc | J28: =IF(LEFT(I28,1)="D",SUM(F28:F28(F28:$F$20000,MATCH(1,(I28:$I$20000="Fin de Bloc"),0))),"") -> #VALUE!
A29: XXXX | B29: Sébastien | C29: xxx | D29: 41287 | E29: 41287 | F29: 1 | G29: 0 | H29: CMO | I29: =IF(B30<>B29,"Fin de Bloc",IF(I28="Fin de Bloc","D"&ROW(),IF(D30<>"",IF(D30-E29>=3,"Fin de Bloc",""),"Fin de Bloc"))) -> 0 | J29: =IF(LEFT(I29,1)="D",SUM(F29:F29(F29:$F$20000,MATCH(1,(I29:$I$20000="Fin de Bloc"),0))),"") -> #VALUE! | K29: =SUM(F29:F36) -> 23
A30: XXXX | B30: Sébastien | C30: xxx | D30: 41288 | E30: 41292 | F30: 5 | G30: 1.625 | H30: CMO | I30: =IF(B31<>B30,"Fin de Bloc",IF(I29="Fin de Bloc","D"&ROW(),IF(D31<>"",IF(D31-E30>=3,"Fin de Bloc",""),"Fin de Bloc"))) -> 0 | J30: =IF(LEFT(I30,1)="D",SUM(F30:F30(F30:$F$20000,MATCH(1,(I30:$I$20000="Fin de Bloc"),0))),"") -> #VALUE!
A31: XXXX | B31: Sébastien | C31: xxx | D31: 41293 | E31: 41294 | F31: 2 | G31: 0 | H31: CMO | I31: =IF(B32<>B31,"Fin de Bloc",IF(I30="Fin de Bloc","D"&ROW(),IF(D32<>"",IF(D32-E31>=3,"Fin de Bloc",""),"Fin de Bloc"))) -> 0 | J31: =IF(LEFT(I31,1)="D",SUM(F31:F31(F31:$F$20000,MATCH(1,(I31:$I$20000="Fin de Bloc"),0))),"") -> #VALUE! | L31: Par exemple … Pourquoi …?
A32: XXXX | B32: Sébastien | C32: xxx | D32: 41295 | E32: 41297 | F32: 3 | G32: 1 | H32: CMO | I32: =IF(#ref !<>B32,"Fin de Bloc",IF(I31="Fin de Bloc","D"&ROW(),IF(#ref !<>"",IF(#ref !-E32>=3,"Fin de Bloc",""),"Fin de Bloc"))) -> #VALUE! | J32: =IF(LEFT(I32,1)="D",SUM(F32:F32(F32:$F$20000,MATCH(1,(I32:$I$20000="Fin de Bloc"),0))),"") -> #VALUE!
A33: XXXX | B33: Sébastien | C33: xxx | D33: 41300 | E33: 41301 | F33: 2 | G33: 0 | H33: CMO | I33: =IF(B34<>B33,"Fin de Bloc",IF(#ref !="Fin de Bloc","D"&ROW(),IF(D34<>"",IF(D34-E33>=3,"Fin de Bloc",""),"Fin de Bloc"))) -> #VALUE! | J33: =IF(AND(I33="Fin de Bloc",I32="Fin de Bloc"),F33,IF(LEFT(I33,1)="D",SUM(F33:F33(F33:$F$20000,MATCH(1,(I33:$I$20000="Fin de Bloc"),0))),"")) -> #VALUE!
A34: XXXX | B34: Sébastien | C34: xxx | D34: 41302 | E34: 41306 | F34: 5 | G34: 1.625 | H34: CMO | I34: =IF(B35<>B34,"Fin de Bloc",IF(I33="Fin de Bloc","D"&ROW(),IF(D35<>"",IF(D35-E34>=3,"Fin de Bloc",""),"Fin de Bloc"))) -> #VALUE! | J34: =IF(AND(I34="Fin de Bloc",I33="Fin de Bloc"),F34,IF(LEFT(I34,1)="D",SUM(F34:F34(F34:$F$20000,MATCH(1,(I34:$I$20000="Fin de Bloc"),0))),"")) -> #VALUE!
A35: XXXX | B35: Sébastien | C35: xxx | D35: 41307 | E35: 41308 | F35: 2 | G35: 0 | H35: CMO | I35: =IF(B36<>B35,"Fin de Bloc",IF(I34="Fin de Bloc","D"&ROW(),IF(D36<>"",IF(D36-E35>=3,"Fin de Bloc",""),"Fin de Bloc"))) -> #VALUE! | J35: =IF(AND(I35="Fin de Bloc",I34="Fin de Bloc"),F35,IF(LEFT(I35,1)="D",SUM(F35:F35(F35:$F$20000,MATCH(1,(I35:$I$20000="Fin de Bloc"),0))),"")) -> #VALUE!
A36: XXXX | B36: Sébastien | C36: xxx | D36: 41309 | E36: 41311 | F36: 3 | G36: 1 | H36: CMO | I36: =IF(B37<>B36,"Fin de Bloc",IF(I35="Fin de Bloc","D"&ROW(),IF(D37<>"",IF(D37-E36>=3,"Fin de Bloc",""),"Fin de Bloc"))) -> #VALUE! | J36: =IF(AND(I36="Fin de Bloc",I35="Fin de Bloc"),F36,IF(LEFT(I36,1)="D",SUM(F36:F36(F36:$F$20000,MATCH(1,(I36:$I$20000="Fin de Bloc"),0))),"")) -> #VALUE!
A37: XXXX | B37: Sébastien | C37: xxx | D37: 41344 | E37: 41345 | F37: 2 | G37: 0.66666667 | H37: CMO | I37: =IF(B38<>B37,"Fin de Bloc",IF(I36="Fin de Bloc","D"&ROW(),IF(D38<>"",IF(D38-E37>=3,"Fin de Bloc",""),"Fin de Bloc"))) -> 0 | J37: =IF(AND(I37="Fin de Bloc",I36="Fin de Bloc"),F37,IF(LEFT(I37,1)="D",SUM(F37:F37(F37:$F$20000,MATCH(1,(I37:$I$20000="Fin de Bloc"),0))),"")) -> #VALUE! | K37: =SUM(F37) -> 2
A38: XXXX | B38: Nicole | C38: xxx | D38: 41303 | E38: 41304 | F38: 2 | G38: 0.66666667 | H38: CMO | I38: =IF(B39<>B38,"Fin de Bloc",IF(I37="Fin de Bloc","D"&ROW(),IF(D39<>"",IF(D39-E38>=3,"Fin de Bloc",""),"Fin de Bloc"))) -> 0 | J38: =IF(AND(I38="Fin de Bloc",I37="Fin de Bloc"),F38,IF(LEFT(I38,1)="D",SUM(F38:F38(F38:$F$20000,MATCH(1,(I38:$I$20000="Fin de Bloc"),0))),"")) -> #VALUE! | K38: =SUM(F38) -> 2
A39: XXXX | B39: Béatrice | C39: xxx | D39: 41291 | E39: 41292 | F39: 2 | G39: 0.68333333 | H39: CMO | I39: =IF(B40<>B39,"Fin de Bloc",IF(I38="Fin de Bloc","D"&ROW(),IF(D40<>"",IF(D40-E39>=3,"Fin de Bloc",""),"Fin de Bloc"))) -> 0 | J39: =IF(AND(I39="Fin de Bloc",I38="Fin de Bloc"),F39,IF(LEFT(I39,1)="D",SUM(F39:F39(F39:$F$20000,MATCH(1,(I39:$I$20000="Fin de Bloc"),0))),"")) -> #VALUE! | K39: =SUM(F39) -> 2
A40: XXXX | B40: Béatrice | C40: xxx | D40: 41361 | E40: 41362 | F40: 2 | G40: 0.6 | H40: CMO | I40: =IF(B41<>B40,"Fin de Bloc",IF(I39="Fin de Bloc","D"&ROW(),IF(D41<>"",IF(D41-E40>=3,"Fin de Bloc",""),"Fin de Bloc"))) -> 0 | J40: =IF(AND(I40="Fin de Bloc",I39="Fin de Bloc"),F40,IF(LEFT(I40,1)="D",SUM(F40:F40(F40:$F$20000,MATCH(1,(I40:$I$20000="Fin de Bloc"),0))),"")) -> #VALUE! | K40: =SUM(F40) -> 2
A41: XXXX | B41: Béatrice | C41: xxx | D41: 41421 | E41: 41425 | F41: 5 | G41: 1.625 | H41: CMO | I41: =IF(B42<>B41,"Fin de Bloc",IF(I40="Fin de Bloc","D"&ROW(),IF(D42<>"",IF(D42-E41>=3,"Fin de Bloc",""),"Fin de Bloc"))) -> 0 | J41: =IF(AND(I41="Fin de Bloc",I40="Fin de Bloc"),F41,IF(LEFT(I41,1)="D",SUM(F41:F41(F41:$F$20000,MATCH(1,(I41:$I$20000="Fin de Bloc"),0))),"")) -> #VALUE! | K41: =SUM(F41) -> 5
A42: XXXX | B42: Béatrice | C42: xxx | D42: 41437 | E42: 41439 | F42: 3 | G42: 1.025 | H42: CMO | I42: =IF(B43<>B42,"Fin de Bloc",IF(I41="Fin de Bloc","D"&ROW(),IF(D43<>"",IF(D43-E42>=3,"Fin de Bloc",""),"Fin de Bloc"))) -> 0 | J42: =IF(AND(I42="Fin de Bloc",I41="Fin de Bloc"),F42,IF(LEFT(I42,1)="D",SUM(F42:F42(F42:$F$20000,MATCH(1,(I42:$I$20000="Fin de Bloc"),0))),"")) -> #VALUE! | K42: =SUM(F42:F43) -> 4
A43: XXXX | B43: Béatrice | C43: xxx | D43: 41442 | E43: 41442 | F43: 1 | G43: 0.34166667 | H43: CMO | I43: =IF(B44<>B43,"Fin de Bloc",IF(I42="Fin de Bloc","D"&ROW(),IF(D44<>"",IF(D44-E43>=3,"Fin de Bloc",""),"Fin de Bloc"))) -> 0 | J43: =IF(AND(I43="Fin de Bloc",I42="Fin de Bloc"),F43,IF(LEFT(I43,1)="D",SUM(F43:F43(F43:$F$20000,MATCH(1,(I43:$I$20000="Fin de Bloc"),0))),"")) -> #VALUE!
A44: XXXX | B44: Béatrice | C44: xxx | D44: 41450 | E44: 41453 | F44: 4 | G44: 1.3666667 | H44: CMO | I44: =IF(B45<>B44,"Fin de Bloc",IF(I43="Fin de Bloc","D"&ROW(),IF(D45<>"",IF(D45-E44>=3,"Fin de Bloc",""),"Fin de Bloc"))) -> 0 | J44: =IF(AND(I44="Fin de Bloc",I43="Fin de Bloc"),F44,IF(LEFT(I44,1)="D",SUM(F44:F44(F44:$F$20000,MATCH(1,(I44:$I$20000="Fin de Bloc"),0))),"")) -> #VALUE! | K44: 18
A45: XXXX | B45: Béatrice | C45: xxx | D45: 41456 | E45: 41460 | F45: 5 | G45: 1.625 | H45: CMO | I45: =IF(B46<>B45,"Fin de Bloc",IF(I44="Fin de Bloc","D"&ROW(),IF(D46<>"",IF(D46-E45>=3,"Fin de Bloc",""),"Fin de Bloc"))) -> 0 | J45: =IF(AND(I45="Fin de Bloc",I44="Fin de Bloc"),F45,IF(LEFT(I45,1)="D",SUM(F45:F45(F45:$F$20000,MATCH(1,(I45:$I$20000="Fin de Bloc"),0))),"")) -> #VALUE!
A46: XXXX | B46: Béatrice | C46: xxx | D46: 41463 | E46: 41467 | F46: 5 | G46: 1.625 | H46: CMO | I46: =IF(B47<>B46,"Fin de Bloc",IF(I45="Fin de Bloc","D"&ROW(),IF(D47<>"",IF(D47-E46>=3,"Fin de Bloc",""),"Fin de Bloc"))) -> 0 | J46: =IF(AND(I46="Fin de Bloc",I45="Fin de Bloc"),F46,IF(LEFT(I46,1)="D",SUM(F46:F46(F46:$F$20000,MATCH(1,(I46:$I$20000="Fin de Bloc"),0))),"")) -> #VALUE!
A47: XXXX | B47: Béatrice | C47: xxx | D47: 41470 | E47: 41470 | F47: 1 | G47: 0.25833333 | H47: CMO | I47: =IF(B48<>B47,"Fin de Bloc",IF(I46="Fin de Bloc","D"&ROW(),IF(D48<>"",IF(D48-E47>=3,"Fin de Bloc",""),"Fin de Bloc"))) -> 0 | J47: =IF(AND(I47="Fin de Bloc",I46="Fin de Bloc"),F47,IF(LEFT(I47,1)="D",SUM(F47:F47(F47:$F$20000,MATCH(1,(I47:$I$20000="Fin de Bloc"),0))),"")) -> #VALUE!
A48: XXXX | B48: Béatrice | C48: xxx | D48: 41549 | E48: 41551 | F48: 3 | G48: 0.94166667 | H48: CMO | I48: =IF(B49<>B48,"Fin de Bloc",IF(I47="Fin de Bloc","D"&ROW(),IF(D49<>"",IF(D49-E48>=3,"Fin de Bloc",""),"Fin de Bloc"))) -> 0 | J48: =IF(AND(I48="Fin de Bloc",I47="Fin de Bloc"),F48,IF(LEFT(I48,1)="D",SUM(F48:F48(F48:$F$20000,MATCH(1,(I48:$I$20000="Fin de Bloc"),0))),"")) -> #VALUE!
A49: XXXX | B49: Béatrice | C49: xxx | D49: 41561 | E49: 41565 | F49: 5 | G49: 1.625 | H49: CMO | I49: =IF(B50<>B49,"Fin de Bloc",IF(I48="Fin de Bloc","D"&ROW(),IF(D50<>"",IF(D50-E49>=3,"Fin de Bloc",""),"Fin de Bloc"))) -> 0 | J49: =IF(AND(I49="Fin de Bloc",I48="Fin de Bloc"),F49,IF(LEFT(I49,1)="D",SUM(F49:F49(F49:$F$20000,MATCH(1,(I49:$I$20000="Fin de Bloc"),0))),"")) -> #VALUE! | K49: =SUM(F49) -> 5
A50: XXXX | B50: Béatrice | C50: xxx | D50: 41568 | E50: 41572 | F50: 5 | G50: 1.625 | H50: CMO | I50: =IF(B51<>B50,"Fin de Bloc",IF(I49="Fin de Bloc","D"&ROW(),IF(D51<>"",IF(D51-E50>=3,"Fin de Bloc",""),"Fin de Bloc"))) -> 0 | J50: =IF(AND(I50="Fin de Bloc",I49="Fin de Bloc"),F50,IF(LEFT(I50,1)="D",SUM(F50:F50(F50:$F$20000,MATCH(1,(I50:$I$20000="Fin de Bloc"),0))),"")) -> #VALUE! | K50: =SUM(F50) -> 5
A51: XXXX | B51: Franck | C51: xxx | D51: 41281 | E51: 41285 | F51: 5 | G51: 1.6423611 | H51: CMO | I51: =IF(B52<>B51,"Fin de Bloc",IF(I50="Fin de Bloc","D"&ROW(),IF(D52<>"",IF(D52-E51>=3,"Fin de Bloc",""),"Fin de Bloc"))) -> 0 | J51: =IF(AND(I51="Fin de Bloc",I50="Fin de Bloc"),F51,IF(LEFT(I51,1)="D",SUM(F51:F51(F51:$F$20000,MATCH(1,(I51:$I$20000="Fin de Bloc"),0))),"")) -> #VALUE! | K51: =SUM(F51:F54) -> 13
A52: XXXX | B52: Franck | C52: xxx | D52: 41286 | E52: 41287 | F52: 2 | G52: 0 | H52: CMO | I52: =IF(B53<>B52,"Fin de Bloc",IF(I51="Fin de Bloc","D"&ROW(),IF(D53<>"",IF(D53-E52>=3,"Fin de Bloc",""),"Fin de Bloc"))) -> 0 | J52: =IF(AND(I52="Fin de Bloc",I51="Fin de Bloc"),F52,IF(LEFT(I52,1)="D",SUM(F52:F52(F52:$F$20000,MATCH(1,(I52:$I$20000="Fin de Bloc"),0))),"")) -> #VALUE!
A53: XXXX | B53: Franck | C53: xxx | D53: 41288 | E53: 41292 | F53: 5 | G53: 1.6423611 | H53: CMO | I53: =IF(B54<>B53,"Fin de Bloc",IF(I52="Fin de Bloc","D"&ROW(),IF(D54<>"",IF(D54-E53>=3,"Fin de Bloc",""),"Fin de Bloc"))) -> 0 | J53: =IF(AND(I53="Fin de Bloc",I52="Fin de Bloc"),F53,IF(LEFT(I53,1)="D",SUM(F53:F53(F53:$F$20000,MATCH(1,(I53:$I$20000="Fin de Bloc"),0))),"")) -> #VALUE!
A54: XXXX | B54: Franck | C54: xxx | D54: 41295 | E54: 41295 | F54: 1 | G54: 0.33333333 | H54: CMO | I54: =IF(B55<>B54,"Fin de Bloc",IF(I53="Fin de Bloc","D"&ROW(),IF(D55<>"",IF(D55-E54>=3,"Fin de Bloc",""),"Fin de Bloc"))) -> 0 | J54: =IF(AND(I54="Fin de Bloc",I53="Fin de Bloc"),F54,IF(LEFT(I54,1)="D",SUM(F54:F54(F54:$F$20000,MATCH(1,(I54:$I$20000="Fin de Bloc"),0))),"")) -> #VALUE!
A55: XXXX | B55: Franck | C55: xxx | D55: 41421 | E55: 41425 | F55: 5 | G55: 1.6423611 | H55: CMO | I55: =IF(B56<>B55,"Fin de Bloc",IF(I54="Fin de Bloc","D"&ROW(),IF(D56<>"",IF(D56-E55>=3,"Fin de Bloc",""),"Fin de Bloc"))) -> 0 | J55: =IF(AND(I55="Fin de Bloc",I54="Fin de Bloc"),F55,IF(LEFT(I55,1)="D",SUM(F55:F55(F55:$F$20000,MATCH(1,(I55:$I$20000="Fin de Bloc"),0))),"")) -> #VALUE! | K55: =SUM(F55:F60) -> 26
A56: XXXX | B56: Franck | C56: xxx | D56: 41428 | E56: 41432 | F56: 5 | G56: 1.6423611 | H56: CMO | I56: =IF(B57<>B56,"Fin de Bloc",IF(I55="Fin de Bloc","D"&ROW(),IF(D57<>"",IF(D57-E56>=3,"Fin de Bloc",""),"Fin de Bloc"))) -> 0 | J56: =IF(AND(I56="Fin de Bloc",I55="Fin de Bloc"),F56,IF(LEFT(I56,1)="D",SUM(F56:F56(F56:$F$20000,MATCH(1,(I56:$I$20000="Fin de Bloc"),0))),"")) -> #VALUE!
A57: XXXX | B57: Franck | C57: xxx | D57: 41435 | E57: 41439 | F57: 5 | G57: 1.6423611 | H57: CMO | I57: =IF(B58<>B57,"Fin de Bloc",IF(I56="Fin de Bloc","D"&ROW(),IF(D58<>"",IF(D58-E57>=3,"Fin de Bloc",""),"Fin de Bloc"))) -> 0 | J57: =IF(AND(I57="Fin de Bloc",I56="Fin de Bloc"),F57,IF(LEFT(I57,1)="D",SUM(F57:F57(F57:$F$20000,MATCH(1,(I57:$I$20000="Fin de Bloc"),0))),"")) -> #VALUE!
A58: XXXX | B58: Franck | C58: xxx | D58: 41442 | E58: 41446 | F58: 5 | G58: 1.6423611 | H58: CMO | I58: =IF(B59<>B58,"Fin de Bloc",IF(I57="Fin de Bloc","D"&ROW(),IF(D59<>"",IF(D59-E58>=3,"Fin de Bloc",""),"Fin de Bloc"))) -> 0 | J58: =IF(AND(I58="Fin de Bloc",I57="Fin de Bloc"),F58,IF(LEFT(I58,1)="D",SUM(F58:F58(F58:$F$20000,MATCH(1,(I58:$I$20000="Fin de Bloc"),0))),"")) -> #VALUE!
A59: XXXX | B59: Franck | C59: xxx | D59: 41509 | E59: 41509 | F59: 1 | G59: 0.30902778 | H59: CMO | I59: =IF(B60<>B59,"Fin de Bloc",IF(I58="Fin de Bloc","D"&ROW(),IF(D60<>"",IF(D60-E59>=3,"Fin de Bloc",""),"Fin de Bloc"))) -> 0 | J59: =IF(AND(I59="Fin de Bloc",I58="Fin de Bloc"),F59,IF(LEFT(I59,1)="D",SUM(F59:F59(F59:$F$20000,MATCH(1,(I59:$I$20000="Fin de Bloc"),0))),"")) -> #VALUE!
A60: XXXX | B60: Franck | C60: xxx | D60: 41512 | E60: 41516 | F60: 5 | G60: 1.6423611 | H60: CMO | I60: =IF(B61<>B60,"Fin de Bloc",IF(I59="Fin de Bloc","D"&ROW(),IF(D61<>"",IF(D61-E60>=3,"Fin de Bloc",""),"Fin de Bloc"))) -> 0 | J60: =IF(AND(I60="Fin de Bloc",I59="Fin de Bloc"),F60,IF(LEFT(I60,1)="D",SUM(F60:F60(F60:$F$20000,MATCH(1,(I60:$I$20000="Fin de Bloc"),0))),"")) -> #VALUE!
A61: XXXX | B61: Franck | C61: xxx | D61: 41543 | E61: 41544 | F61: 2 | G61: 0.64236111 | H61: CMO | I61: =IF(B62<>B61,"Fin de Bloc",IF(I60="Fin de Bloc","D"&ROW(),IF(D62<>"",IF(D62-E61>=3,"Fin de Bloc",""),"Fin de Bloc"))) -> 0 | J61: =IF(AND(I61="Fin de Bloc",I60="Fin de Bloc"),F61,IF(LEFT(I61,1)="D",SUM(F61:F61(F61:$F$20000,MATCH(1,(I61:$I$20000="Fin de Bloc"),0))),"")) -> #VALUE! | K61: =SUM(F61:F67) -> 23
A62: XXXX | B62: Franck | C62: xxx | D62: 41545 | E62: 41546 | F62: 2 | G62: 0 | H62: CMO | I62: =IF(B63<>B62,"Fin de Bloc",IF(I61="Fin de Bloc","D"&ROW(),IF(D63<>"",IF(D63-E62>=3,"Fin de Bloc",""),"Fin de Bloc"))) -> 0 | J62: =IF(AND(I62="Fin de Bloc",I61="Fin de Bloc"),F62,IF(LEFT(I62,1)="D",SUM(F62:F62(F62:$F$20000,MATCH(1,(I62:$I$20000="Fin de Bloc"),0))),"")) -> #VALUE!
A63: XXXX | B63: Franck | C63: xxx | D63: 41547 | E63: 41551 | F63: 5 | G63: 1.6423611 | H63: CMO | I63: =IF(B64<>B63,"Fin de Bloc",IF(I62="Fin de Bloc","D"&ROW(),IF(D64<>"",IF(D64-E63>=3,"Fin de Bloc",""),"Fin de Bloc"))) -> 0 | J63: =IF(AND(I63="Fin de Bloc",I62="Fin de Bloc"),F63,IF(LEFT(I63,1)="D",SUM(F63:F63(F63:$F$20000,MATCH(1,(I63:$I$20000="Fin de Bloc"),0))),"")) -> #VALUE!
A64: XXXX | B64: Franck | C64: xxx | D64: 41552 | E64: 41553 | F64: 2 | G64: 0 | H64: CMO | I64: =IF(B65<>B64,"Fin de Bloc",IF(I63="Fin de Bloc","D"&ROW(),IF(D65<>"",IF(D65-E64>=3,"Fin de Bloc",""),"Fin de Bloc"))) -> 0 | J64: =IF(AND(I64="Fin de Bloc",I63="Fin de Bloc"),F64,IF(LEFT(I64,1)="D",SUM(F64:F64(F64:$F$20000,MATCH(1,(I64:$I$20000="Fin de Bloc"),0))),"")) -> #VALUE!
A65: XXXX | B65: Franck | C65: xxx | D65: 41554 | E65: 41558 | F65: 5 | G65: 1.6423611 | H65: CMO | I65: =IF(B66<>B65,"Fin de Bloc",IF(I64="Fin de Bloc","D"&ROW(),IF(D66<>"",IF(D66-E65>=3,"Fin de Bloc",""),"Fin de Bloc"))) -> 0 | J65: =IF(AND(I65="Fin de Bloc",I64="Fin de Bloc"),F65,IF(LEFT(I65,1)="D",SUM(F65:F65(F65:$F$20000,MATCH(1,(I65:$I$20000="Fin de Bloc"),0))),"")) -> #VALUE!
A66: XXXX | B66: Franck | C66: xxx | D66: 41559 | E66: 41560 | F66: 2 | G66: 0 | H66: CMO | I66: =IF(B67<>B66,"Fin de Bloc",IF(I65="Fin de Bloc","D"&ROW(),IF(D67<>"",IF(D67-E66>=3,"Fin de Bloc",""),"Fin de Bloc"))) -> 0 | J66: =IF(AND(I66="Fin de Bloc",I65="Fin de Bloc"),F66,IF(LEFT(I66,1)="D",SUM(F66:F66(F66:$F$20000,MATCH(1,(I66:$I$20000="Fin de Bloc"),0))),"")) -> #VALUE!
A67: XXXX | B67: Franck | C67: xxx | D67: 41561 | E67: 41565 | F67: 5 | G67: 1.6423611 | H67: CMO | I67: =IF(B68<>B67,"Fin de Bloc",IF(I66="Fin de Bloc","D"&ROW(),IF(D68<>"",IF(D68-E67>=3,"Fin de Bloc",""),"Fin de Bloc"))) -> 0 | J67: =IF(AND(I67="Fin de Bloc",I66="Fin de Bloc"),F67,IF(LEFT(I67,1)="D",SUM(F67:F67(F67:$F$20000,MATCH(1,(I67:$I$20000="Fin de Bloc"),0))),"")) -> #VALUE!
A68: XXXX | B68: Franck | C68: xxx | D68: 41618 | E68: 41621 | F68: 4 | G68: 1.3090278 | H68: CMO | I68: =IF(B69<>B68,"Fin de Bloc",IF(I67="Fin de Bloc","D"&ROW(),IF(D69<>"",IF(D69-E68>=3,"Fin de Bloc",""),"Fin de Bloc"))) -> 0 | J68: =IF(AND(I68="Fin de Bloc",I67="Fin de Bloc"),F68,IF(LEFT(I68,1)="D",SUM(F68:F68(F68:$F$20000,MATCH(1,(I68:$I$20000="Fin de Bloc"),0))),"")) -> #VALUE! | K68: =SUM(F68:F70) -> 9
A69: XXXX | B69: Franck | C69: xxx | D69: 41622 | E69: 41623 | F69: 2 | G69: 0 | H69: CMO | I69: =IF(B70<>B69,"Fin de Bloc",IF(I68="Fin de Bloc","D"&ROW(),IF(D70<>"",IF(D70-E69>=3,"Fin de Bloc",""),"Fin de Bloc"))) -> 0 | J69: =IF(AND(I69="Fin de Bloc",I68="Fin de Bloc"),F69,IF(LEFT(I69,1)="D",SUM(F69:F69(F69:$F$20000,MATCH(1,(I69:$I$20000="Fin de Bloc"),0))),"")) -> #VALUE!
A70: XXXX | B70: Franck | C70: xxx | D70: 41624 | E70: 41626 | F70: 3 | G70: 1 | H70: CMO | I70: =IF(B71<>B70,"Fin de Bloc",IF(I69="Fin de Bloc","D"&ROW(),IF(D71<>"",IF(D71-E70>=3,"Fin de Bloc",""),"Fin de Bloc"))) -> 0 | J70: =IF(AND(I70="Fin de Bloc",I69="Fin de Bloc"),F70,IF(LEFT(I70,1)="D",SUM(F70:F70(F70:$F$20000,MATCH(1,(I70:$I$20000="Fin de Bloc"),0))),"")) -> #VALUE!
A71: XXXX | B71: Solange | C71: xxx | D71: 41498 | E71: 41500 | F71: 3 | G71: 1 | H71: CMO | I71: =IF(B72<>B71,"Fin de Bloc",IF(I70="Fin de Bloc","D"&ROW(),IF(D72<>"",IF(D72-E71>=3,"Fin de Bloc",""),"Fin de Bloc"))) -> 0 | J71: =IF(AND(I71="Fin de Bloc",I70="Fin de Bloc"),F71,IF(LEFT(I71,1)="D",SUM(F71:F71(F71:$F$20000,MATCH(1,(I71:$I$20000="Fin de Bloc"),0))),"")) -> #VALUE! | K71: =SUM(F71:F78) -> 30
A72: XXXX | B72: Solange | C72: xxx | D72: 41502 | E72: 41502 | F72: 1 | G72: 0.29166667 | H72: CMO | I72: =IF(B73<>B72,"Fin de Bloc",IF(I71="Fin de Bloc","D"&ROW(),IF(D73<>"",IF(D73-E72>=3,"Fin de Bloc",""),"Fin de Bloc"))) -> 0 | J72: =IF(AND(I72="Fin de Bloc",I71="Fin de Bloc"),F72,IF(LEFT(I72,1)="D",SUM(F72:F72(F72:$F$20000,MATCH(1,(I72:$I$20000="Fin de Bloc"),0))),"")) -> #VALUE!
A73: XXXX | B73: Solange | C73: xxx | D73: 41505 | E73: 41509 | F73: 5 | G73: 1.625 | H73: CMO | I73: =IF(B74<>B73,"Fin de Bloc",IF(I72="Fin de Bloc","D"&ROW(),IF(D74<>"",IF(D74-E73>=3,"Fin de Bloc",""),"Fin de Bloc"))) -> 0 | J73: =IF(AND(I73="Fin de Bloc",I72="Fin de Bloc"),F73,IF(LEFT(I73,1)="D",SUM(F73:F73(F73:$F$20000,MATCH(1,(I73:$I$20000="Fin de Bloc"),0))),"")) -> #VALUE!
A74: XXXX | B74: Solange | C74: xxx | D74: 41512 | E74: 41516 | F74: 5 | G74: 1.625 | H74: CMO | I74: =IF(B75<>B74,"Fin de Bloc",IF(I73="Fin de Bloc","D"&ROW(),IF(D75<>"",IF(D75-E74>=3,"Fin de Bloc",""),"Fin de Bloc"))) -> 0 | J74: =IF(AND(I74="Fin de Bloc",I73="Fin de Bloc"),F74,IF(LEFT(I74,1)="D",SUM(F74:F74(F74:$F$20000,MATCH(1,(I74:$I$20000="Fin de Bloc"),0))),"")) -> #VALUE!
A75: XXXX | B75: Solange | C75: xxx | D75: 41519 | E75: 41523 | F75: 5 | G75: 1.625 | H75: CMO | I75: =IF(B76<>B75,"Fin de Bloc",IF(I74="Fin de Bloc","D"&ROW(),IF(D76<>"",IF(D76-E75>=3,"Fin de Bloc",""),"Fin de Bloc"))) -> 0 | J75: =IF(AND(I75="Fin de Bloc",I74="Fin de Bloc"),F75,IF(LEFT(I75,1)="D",SUM(F75:F75(F75:$F$20000,MATCH(1,(I75:$I$20000="Fin de Bloc"),0))),"")) -> #VALUE!
A76: XXXX | B76: Solange | C76: xxx | D76: 41526 | E76: 41530 | F76: 5 | G76: 1.625 | H76: CMO | I76: =IF(B77<>B76,"Fin de Bloc",IF(I75="Fin de Bloc","D"&ROW(),IF(D77<>"",IF(D77-E76>=3,"Fin de Bloc",""),"Fin de Bloc"))) -> 0 | J76: =IF(AND(I76="Fin de Bloc",I75="Fin de Bloc"),F76,IF(LEFT(I76,1)="D",SUM(F76:F76(F76:$F$20000,MATCH(1,(I76:$I$20000="Fin de Bloc"),0))),"")) -> #VALUE!
A77: XXXX | B77: Solange | C77: xxx | D77: 41533 | E77: 41537 | F77: 5 | G77: 1.625 | H77: CMO | I77: =IF(B78<>B77,"Fin de Bloc",IF(I76="Fin de Bloc","D"&ROW(),IF(D78<>"",IF(D78-E77>=3,"Fin de Bloc",""),"Fin de Bloc"))) -> 0 | J77: =IF(AND(I77="Fin de Bloc",I76="Fin de Bloc"),F77,IF(LEFT(I77,1)="D",SUM(F77:F77(F77:$F$20000,MATCH(1,(I77:$I$20000="Fin de Bloc"),0))),"")) -> #VALUE!
A78: XXXX | B78: Solange | C78: xxx | D78: 41540 | E78: 41540 | F78: 1 | G78: 0.33333333 | H78: CMO | I78: =IF(B79<>B78,"Fin de Bloc",IF(I77="Fin de Bloc","D"&ROW(),IF(D79<>"",IF(D79-E78>=3,"Fin de Bloc",""),"Fin de Bloc"))) -> 0 | J78: =IF(AND(I78="Fin de Bloc",I77="Fin de Bloc"),F78,IF(LEFT(I78,1)="D",SUM(F78:F78(F78:$F$20000,MATCH(1,(I78:$I$20000="Fin de Bloc"),0))),"")) -> #VALUE!
A79: XXXX | B79: Erica | C79: xxx | D79: 41377 | E79: 41378 | F79: 2 | G79: 0 | H79: CMO | I79: =IF(B80<>B79,"Fin de Bloc",IF(I78="Fin de Bloc","D"&ROW(),IF(D80<>"",IF(D80-E79>=3,"Fin de Bloc",""),"Fin de Bloc"))) -> 0 | J79: =IF(AND(I79="Fin de Bloc",I78="Fin de Bloc"),F79,IF(LEFT(I79,1)="D",SUM(F79:F79(F79:$F$20000,MATCH(1,(I79:$I$20000="Fin de Bloc"),0))),"")) -> #VALUE! | K79: =SUM(F79:F81) -> 9
A80: XXXX | B80: Erica | C80: xxx | D80: 41379 | E80: 41383 | F80: 5 | G80: 1.6423611 | H80: CMO | I80: =IF(B81<>B80,"Fin de Bloc",IF(I79="Fin de Bloc","D"&ROW(),IF(D81<>"",IF(D81-E80>=3,"Fin de Bloc",""),"Fin de Bloc"))) -> 0 | J80: =IF(AND(I80="Fin de Bloc",I79="Fin de Bloc"),F80,IF(LEFT(I80,1)="D",SUM(F80:F80(F80:$F$20000,MATCH(1,(I80:$I$20000="Fin de Bloc"),0))),"")) -> #VALUE!
A81: XXXX | B81: Erica | C81: xxx | D81: 41384 | E81: 41385 | F81: 2 | G81: 0 | H81: CMO | I81: =IF(#ref !<>B81,"Fin de Bloc",IF(I80="Fin de Bloc","D"&ROW(),IF(#ref !<>"",IF(#ref !-E81>=3,"Fin de Bloc",""),"Fin de Bloc"))) -> #VALUE! | J81: =IF(AND(I81="Fin de Bloc",I80="Fin de Bloc"),F81,IF(LEFT(I81,1)="D",SUM(F81:F81(F81:$F$20000,MATCH(1,(I81:$I$20000="Fin de Bloc"),0))),"")) -> #VALUE!
A82: XXXX | B82: Erica | C82: xxx | D82: 41484 | E82: 41488 | F82: 5 | G82: 1.6423611 | H82: CMO | I82: =IF(B83<>B82,"Fin de Bloc",IF(#ref !="Fin de Bloc","D"&ROW(),IF(D83<>"",IF(D83-E82>=3,"Fin de Bloc",""),"Fin de Bloc"))) -> #VALUE! | J82: =IF(AND(I82="Fin de Bloc",I81="Fin de Bloc"),F82,IF(LEFT(I82,1)="D",SUM(F82:F82(F82:$F$20000,MATCH(1,(I82:$I$20000="Fin de Bloc"),0))),"")) -> #VALUE!
A83: XXXX | B83: Erica | C83: xxx | D83: 41489 | E83: 41489 | F83: 1 | G83: 0 | H83: CMO | I83: =IF(B84<>B83,"Fin de Bloc",IF(I82="Fin de Bloc","D"&ROW(),IF(D84<>"",IF(D84-E83>=3,"Fin de Bloc",""),"Fin de Bloc"))) -> 0 | J83: =IF(AND(I83="Fin de Bloc",I82="Fin de Bloc"),F83,IF(LEFT(I83,1)="D",SUM(F83:F83(F83:$F$20000,MATCH(1,(I83:$I$20000="Fin de Bloc"),0))),"")) -> #VALUE!
A84: XXXX | B84: Karine | C84: xxx | D84: 41591 | E84: 41593 | F84: 3 | G84: 0.975 | H84: CMO | I84: =IF(B85<>B84,"Fin de Bloc",IF(I83="Fin de Bloc","D"&ROW(),IF(D85<>"",IF(D85-E84>=3,"Fin de Bloc",""),"Fin de Bloc"))) -> 0 | J84: =IF(AND(I84="Fin de Bloc",I83="Fin de Bloc"),F84,IF(LEFT(I84,1)="D",SUM(F84:F84(F84:$F$20000,MATCH(1,(I84:$I$20000="Fin de Bloc"),0))),"")) -> #VALUE! | K84: =SUM(F84) -> 3
A85: XXXX | B85: Ludovic | C85: xxx | D85: 41331 | E85: 41334 | F85: 4 | G85: 1.3090278 | H85: CMO | I85: =IF(B86<>B85,"Fin de Bloc",IF(I84="Fin de Bloc","D"&ROW(),IF(D86<>"",IF(D86-E85>=3,"Fin de Bloc",""),"Fin de Bloc"))) -> 0 | J85: =IF(AND(I85="Fin de Bloc",I84="Fin de Bloc"),F85,IF(LEFT(I85,1)="D",SUM(F85:F85(F85:$F$20000,MATCH(1,(I85:$I$20000="Fin de Bloc"),0))),"")) -> #VALUE! | K85: =SUM(F85) -> 4
A86: XXXX | B86: Ludovic | C86: xxx | D86: 41344 | E86: 41348 | F86: 5 | G86: 1.6423611 | H86: CMO | I86: =IF(B87<>B86,"Fin de Bloc",IF(I85="Fin de Bloc","D"&ROW(),IF(D87<>"",IF(D87-E86>=3,"Fin de Bloc",""),"Fin de Bloc"))) -> 0 | J86: =IF(AND(I86="Fin de Bloc",I85="Fin de Bloc"),F86,IF(LEFT(I86,1)="D",SUM(F86:F86(F86:$F$20000,MATCH(1,(I86:$I$20000="Fin de Bloc"),0))),"")) -> #VALUE! | K86: =SUM(F86) -> 5
A87: XXXX | B87: Ludovic | C87: xxx | D87: 41415 | E87: 41418 | F87: 4 | G87: 1.3090278 | H87: CMO | I87: =IF(B88<>B87,"Fin de Bloc",IF(I86="Fin de Bloc","D"&ROW(),IF(D88<>"",IF(D88-E87>=3,"Fin de Bloc",""),"Fin de Bloc"))) -> 0 | J87: =IF(AND(I87="Fin de Bloc",I86="Fin de Bloc"),F87,IF(LEFT(I87,1)="D",SUM(F87:F87(F87:$F$20000,MATCH(1,(I87:$I$20000="Fin de Bloc"),0))),"")) -> #VALUE! | K87: =SUM(F87) -> 4
A88: XXXX | B88: Ludovic | C88: xxx | D88: 41625 | E88: 41628 | F88: 4 | G88: 1.3090278 | H88: CMO | I88: =IF(B89<>B88,"Fin de Bloc",IF(I87="Fin de Bloc","D"&ROW(),IF(D89<>"",IF(D89-E88>=3,"Fin de Bloc",""),"Fin de Bloc"))) -> 0 | J88: =IF(AND(I88="Fin de Bloc",I87="Fin de Bloc"),F88,IF(LEFT(I88,1)="D",SUM(F88:F88(F88:$F$20000,MATCH(1,(I88:$I$20000="Fin de Bloc"),0))),"")) -> #VALUE! | K88: =SUM(F88) -> 4
A89: XXXX | B89: Rwanda | C89: xxx | D89: 41505 | E89: 41507 | F89: 3 | G89: 1 | H89: CMO | I89: =IF(B90<>B89,"Fin de Bloc",IF(I88="Fin de Bloc","D"&ROW(),IF(D90<>"",IF(D90-E89>=3,"Fin de Bloc",""),"Fin de Bloc"))) -> 0 | J89: =IF(AND(I89="Fin de Bloc",I88="Fin de Bloc"),F89,IF(LEFT(I89,1)="D",SUM(F89:F89(F89:$F$20000,MATCH(1,(I89:$I$20000="Fin de Bloc"),0))),"")) -> #VALUE! | K89: =SUM(F89) -> 3
A90: XXXX | B90: Henri | C90: xxx | D90: 41485 | E90: 41488 | F90: 4 | G90: 1.2916667 | H90: CMO | I90: =IF(B91<>B90,"Fin de Bloc",IF(I89="Fin de Bloc","D"&ROW(),IF(D91<>"",IF(D91-E90>=3,"Fin de Bloc",""),"Fin de Bloc"))) -> 0 | J90: =IF(AND(I90="Fin de Bloc",I89="Fin de Bloc"),F90,IF(LEFT(I90,1)="D",SUM(F90:F90(F90:$F$20000,MATCH(1,(I90:$I$20000="Fin de Bloc"),0))),"")) -> #VALUE! | K90: =SUM(F90) -> 4
A91: XXXX | B91: Henri | C91: xxx | D91: 41491 | E91: 41495 | F91: 5 | G91: 1.625 | H91: CMO | I91: =IF(B92<>B91,"Fin de Bloc",IF(I90="Fin de Bloc","D"&ROW(),IF(D92<>"",IF(D92-E91>=3,"Fin de Bloc",""),"Fin de Bloc"))) -> 0 | J91: =IF(AND(I91="Fin de Bloc",I90="Fin de Bloc"),F91,IF(LEFT(I91,1)="D",SUM(F91:F91(F91:$F$20000,MATCH(1,(I91:$I$20000="Fin de Bloc"),0))),"")) -> #VALUE! | K91: =SUM(F91:F93) -> 9
A92: XXXX | B92: Henri | C92: xxx | D92: 41498 | E92: 41500 | F92: 3 | G92: 1 | H92: CMO | I92: =IF(B93<>B92,"Fin de Bloc",IF(I91="Fin de Bloc","D"&ROW(),IF(D93<>"",IF(D93-E92>=3,"Fin de Bloc",""),"Fin de Bloc"))) -> 0 | J92: =IF(AND(I92="Fin de Bloc",I91="Fin de Bloc"),F92,IF(LEFT(I92,1)="D",SUM(F92:F92(F92:$F$20000,MATCH(1,(I92:$I$20000="Fin de Bloc"),0))),"")) -> #VALUE!
A93: XXXX | B93: Henri | C93: xxx | D93: 41502 | E93: 41502 | F93: 1 | G93: 0.29166667 | H93: CMO | I93: =IF(B94<>B93,"Fin de Bloc",IF(I92="Fin de Bloc","D"&ROW(),IF(D94<>"",IF(D94-E93>=3,"Fin de Bloc",""),"Fin de Bloc"))) -> 0 | J93: =IF(AND(I93="Fin de Bloc",I92="Fin de Bloc"),F93,IF(LEFT(I93,1)="D",SUM(F93:F93(F93:$F$20000,MATCH(1,(I93:$I$20000="Fin de Bloc"),0))),"")) -> #VALUE!
A94: XXXX | B94: Jean | C94: xxx | D94: 41464 | E94: 41467 | F94: 4 | G94: 1.2916667 | H94: CMO | I94: =IF(B95<>B94,"Fin de Bloc",IF(I93="Fin de Bloc","D"&ROW(),IF(D95<>"",IF(D95-E94>=3,"Fin de Bloc",""),"Fin de Bloc"))) -> 0 | J94: =IF(AND(I94="Fin de Bloc",I93="Fin de Bloc"),F94,IF(LEFT(I94,1)="D",SUM(F94:F94(F94:$F$20000,MATCH(1,(I94:$I$20000="Fin de Bloc"),0))),"")) -> #VALUE! | K94: =SUM(F94) -> 4
A95: XXXX | B95: Jean | C95: xxx | D95: 41493 | E95: 41495 | F95: 3 | G95: 0.95833333 | H95: CMO | I95: =IF(B96<>B95,"Fin de Bloc",IF(I94="Fin de Bloc","D"&ROW(),IF(D96<>"",IF(D96-E95>=3,"Fin de Bloc",""),"Fin de Bloc"))) -> 0 | J95: =IF(AND(I95="Fin de Bloc",I94="Fin de Bloc"),F95,IF(LEFT(I95,1)="D",SUM(F95:F95(F95:$F$20000,MATCH(1,(I95:$I$20000="Fin de Bloc"),0))),"")) -> #VALUE! | K95: =SUM(F95:F97) -> 7
A96: XXXX | B96: Jean | C96: xxx | D96: 41498 | E96: 41500 | F96: 3 | G96: 1 | H96: CMO | I96: =IF(B97<>B96,"Fin de Bloc",IF(I95="Fin de Bloc","D"&ROW(),IF(D97<>"",IF(D97-E96>=3,"Fin de Bloc",""),"Fin de Bloc"))) -> 0 | J96: =IF(AND(I96="Fin de Bloc",I95="Fin de Bloc"),F96,IF(LEFT(I96,1)="D",SUM(F96:F96(F96:$F$20000,MATCH(1,(I96:$I$20000="Fin de Bloc"),0))),"")) -> #VALUE!
A97: XXXX | B97: Jean | C97: xxx | D97: 41502 | E97: 41502 | F97: 1 | G97: 0.29166667 | H97: CMO | I97: =IF(B98<>B97,"Fin de Bloc",IF(I96="Fin de Bloc","D"&ROW(),IF(D98<>"",IF(D98-E97>=3,"Fin de Bloc",""),"Fin de Bloc"))) -> 0 | J97: =IF(AND(I97="Fin de Bloc",I96="Fin de Bloc"),F97,IF(LEFT(I97,1)="D",SUM(F97:F97(F97:$F$20000,MATCH(1,(I97:$I$20000="Fin de Bloc"),0))),"")) -> #VALUE!
A98: XXXX | B98: Jean | C98: xxx | D98: 41513 | E98: 41513 | F98: 1 | G98: 0.33333333 | H98: CMO | I98: =IF(B99<>B98,"Fin de Bloc",IF(I97="Fin de Bloc","D"&ROW(),IF(D99<>"",IF(D99-E98>=3,"Fin de Bloc",""),"Fin de Bloc"))) -> 0 | J98: =IF(AND(I98="Fin de Bloc",I97="Fin de Bloc"),F98,IF(LEFT(I98,1)="D",SUM(F98:F98(F98:$F$20000,MATCH(1,(I98:$I$20000="Fin de Bloc"),0))),"")) -> #VALUE! | K98: =SUM(F98) -> 1
A99: XXXX | B99: Jean | C99: xxx | D99: 41520 | E99: 41523 | F99: 4 | G99: 1.2916667 | H99: CMO | I99: =IF(B100<>B99,"Fin de Bloc",IF(I98="Fin de Bloc","D"&ROW(),IF(D100<>"",IF(D100-E99>=3,"Fin de Bloc",""),"Fin de Bloc"))) -> 0 | J99: =IF(AND(I99="Fin de Bloc",I98="Fin de Bloc"),F99,IF(LEFT(I99,1)="D",SUM(F99:F99(F99:$F$20000,MATCH(1,(I99:$I$20000="Fin de Bloc"),0))),"")) -> #VALUE! | K99: =SUM(F99:F125) -> 92
A100: XXXX | B100: Jean | C100: xxx | D100: 41526 | E100: 41528 | F100: 3 | G100: 1 | H100: CMO | I100: =IF(B101<>B100,"Fin de Bloc",IF(I99="Fin de Bloc","D"&ROW(),IF(D101<>"",IF(D101-E100>=3,"Fin de Bloc",""),"Fin de Bloc"))) -> 0 | J100: =IF(AND(I100="Fin de Bloc",I99="Fin de Bloc"),F100,IF(LEFT(I100,1)="D",SUM(F100:F100(F100:$F$20000,MATCH(1,(I100:$I$20000="Fin de Bloc"),0))),"")) -> #VALUE!
...

Sheet Infos
A1: =SUMPRODUCT(1/COUNTIF(colnoms,colnoms)) -> 24 | B1: # Records | C1: a | D1: z
A2: =IF(ROW(A1)>$A$1,"",INDEX(colnoms,MIN(IF(COUNTIF(A$1:A1,colnoms)=0,ROW(colnoms)-1)))) -> Nathalie | B2: =COUNTIF(Données!$B$1:$B$289,Infos!A2) -> 27 | C2: =MATCH(A2,Données!B$1:B$1048573,0) -> 2 | D2: =B2+C2-1 -> 28
A3: =IF(ROW(A2)>$A$1,"",INDEX(colnoms,MIN(IF(COUNTIF(A$1:A2,colnoms)=0,ROW(colnoms)-1)))) -> Nathalie | B3: =COUNTIF(Données!$B$1:$B$289,Infos!A3) -> 27 | C3: =MATCH(A3,Données!B$1:B$1048573,0) -> 2 | D3: =B3+C3-1 -> 28
A4: =IF(ROW(A3)>$A$1,"",INDEX(colnoms,MIN(IF(COUNTIF(A$1:A3,colnoms)=0,ROW(colnoms)-1)))) -> Nathalie | B4: =COUNTIF(Données!$B$1:$B$289,Infos!A4) -> 27 | C4: =MATCH(A4,Données!B$1:B$1048573,0) -> 2 | D4: =B4+C4-1 -> 28
A5: =IF(ROW(A4)>$A$1,"",INDEX(colnoms,MIN(IF(COUNTIF(A$1:A4,colnoms)=0,ROW(colnoms)-1)))) -> Nathalie | B5: =COUNTIF(Données!$B$1:$B$289,Infos!A5) -> 27 | C5: =MATCH(A5,Données!B$1:B$1048573,0) -> 2 | D5: =B5+C5-1 -> 28
A6: =IF(ROW(A5)>$A$1,"",INDEX(colnoms,MIN(IF(COUNTIF(A$1:A5,colnoms)=0,ROW(colnoms)-1)))) -> Nathalie | B6: =COUNTIF(Données!$B$1:$B$289,Infos!A6) -> 27 | C6: =MATCH(A6,Données!B$1:B$1048573,0) -> 2 | D6: =B6+C6-1 -> 28
A7: =IF(ROW(A6)>$A$1,"",INDEX(colnoms,MIN(IF(COUNTIF(A$1:A6,colnoms)=0,ROW(colnoms)-1)))) -> Nathalie | B7: =COUNTIF(Données!$B$1:$B$289,Infos!A7) -> 27 | C7: =MATCH(A7,Données!B$1:B$1048573,0) -> 2 | D7: =B7+C7-1 -> 28
A8: =IF(ROW(A7)>$A$1,"",INDEX(colnoms,MIN(IF(COUNTIF(A$1:A7,colnoms)=0,ROW(colnoms)-1)))) -> Nathalie | B8: =COUNTIF(Données!$B$1:$B$289,Infos!A8) -> 27 | C8: =MATCH(A8,Données!B$1:B$1048573,0) -> 2 | D8: =B8+C8-1 -> 28
A9: =IF(ROW(A8)>$A$1,"",INDEX(colnoms,MIN(IF(COUNTIF(A$1:A8,colnoms)=0,ROW(colnoms)-1)))) -> Nathalie | B9: =COUNTIF(Données!$B$1:$B$289,Infos!A9) -> 27 | C9: =MATCH(A9,Données!B$1:B$1048573,0) -> 2 | D9: =B9+C9-1 -> 28
A10: =IF(ROW(A9)>$A$1,"",INDEX(colnoms,MIN(IF(COUNTIF(A$1:A9,colnoms)=0,ROW(colnoms)-1)))) -> Nathalie | B10: =COUNTIF(Données!$B$1:$B$289,Infos!A10) -> 27 | C10: =MATCH(A10,Données!B$1:B$1048573,0) -> 2 | D10: =B10+C10-1 -> 28
A11: =IF(ROW(A10)>$A$1,"",INDEX(colnoms,MIN(IF(COUNTIF(A$1:A10,colnoms)=0,ROW(colnoms)-1)))) -> Nathalie | B11: =COUNTIF(Données!$B$1:$B$289,Infos!A11) -> 27 | C11: =MATCH(A11,Données!B$1:B$1048573,0) -> 2 | D11: =B11+C11-1 -> 28
A12: =IF(ROW(A11)>$A$1,"",INDEX(colnoms,MIN(IF(COUNTIF(A$1:A11,colnoms)=0,ROW(colnoms)-1)))) -> Nathalie | B12: =COUNTIF(Données!$B$1:$B$289,Infos!A12) -> 27 | C12: =MATCH(A12,Données!B$1:B$1048573,0) -> 2 | D12: =B12+C12-1 -> 28
A13: =IF(ROW(A12)>$A$1,"",INDEX(colnoms,MIN(IF(COUNTIF(A$1:A12,colnoms)=0,ROW(colnoms)-1)))) -> Nathalie | B13: =COUNTIF(Données!$B$1:$B$289,Infos!A13) -> 27 | C13: =MATCH(A13,Données!B$1:B$1048573,0) -> 2 | D13: =B13+C13-1 -> 28
... A25: =IF(ROW(A24)>$A$1,"",INDEX(colnoms,MIN(IF(COUNTIF(A$1:A24,colnoms)=0,ROW(colnoms)-1)))) -> Nathalie | B25: =COUNTIF(Données!$B$1:$B$289,Infos!A25) -> 27 | C25: =MATCH(A25,Données!B$1:B$1048573,0) -> 2 | D25: =B25+C25-1 -> 28
