Workbook
Name cocktail: A!$B$507
Name cocktail_a1: A!$B$1
Name cocktail_a10: A!$B$208
Name cocktail_a11: A!$B$231
Name cocktail_a12: A!$B$254
Name cocktail_a13: A!$B$277
Name cocktail_a14: A!$B$300
Name cocktail_a15: A!$B$323
Name cocktail_a16: A!$B$346
Name cocktail_a17: A!$B$369
Name cocktail_a18: A!$B$392
Name cocktail_a19: A!$B$415
Name cocktail_a2: A!$B$24
Name cocktail_a20: A!$B$438
Name cocktail_a21: A!$B$461
Name cocktail_a22: A!$B$484
Name cocktail_a23: A!$B$507
Name cocktail_a24: A!$B$530
Name cocktail_a25: A!$B$553
Name cocktail_a26: A!$B$576
Name cocktail_a27: A!$B$599
Name cocktail_a28: A!$B$622
Name cocktail_a29: A!$B$645
Name cocktail_a3: A!$B$47
Name cocktail_a30: A!$B$668
Name cocktail_a31: A!$B$691
Name cocktail_a32: A!$B$714
Name cocktail_a33: A!$B$737
Name cocktail_a34: A!$B$760
Name cocktail_a35: A!$B$783
Name cocktail_a36: A!$B$806
Name cocktail_a37: A!$B$829
Name cocktail_a38: A!$B$852
Name cocktail_a39: A!$B$875
Name cocktail_a4: A!$B$70
Name cocktail_a40: A!$B$898
Name cocktail_a41: A!$B$921
Name cocktail_a42: A!$B$944
Name cocktail_a43: A!$B$967
Name cocktail_a44: A!$B$1036
Name cocktail_a5: A!$B$93
Name cocktail_a6: A!$B$116
Name cocktail_a7: A!$B$139
Name cocktail_a8: A!$B$162
Name cocktail_a9: A!$B$185
Name conditionnement1: liste!$C$1:$C$20
Name conditionnement2: liste!$D$1:$D$20
Name données: inventaire!$A$2:$A$700
Name fabrication: liste!$G$1:$G$8
Name famille1: liste!$A$1:$A$20
Name famille2: liste!$B$1:$B$20
Name famille3: liste!$E$1:$E$21
Name verre: liste!$F$1:$F$14

Sheet inventaire
A1: Alcools / produits | B1: famille 1 | C1: famille 2 | D1: conditionnement | E1: Cl | F1: prix unitaire | G1: prix cL
A2: angostura bitters | B2: bitter | C2: aromatique | D2: bouteille | E2: 20 | G2: =IF(F2="","",E2/F2)
A3: biére blonde | B3: bierre | C3: alcool | D3: bouteille | E3: 33 | G3: =IF(F3="","",E3/F3)
A4: branche de céleri | B4: légumes | C4: decoration | D4: branche | E4: pièce | G4: =IF(F4="","",E4/F4)
A5: menthe | B5: herbes | C5: decoration | G5: =IF(F5="","",E5/F5)
A6: café expresso | G6: =IF(F6="","",E6/F6)
A7: campari | G7: =IF(F7="","",E7/F7)
A8: cerise | G8: =IF(F8="","",E8/F8)
A9: cola | G9: =IF(F9="","",E9/F9)
A10: comcombre | G10: =IF(F10="","",E10/F10)
A11: confiture d'orange | G11: =IF(F11="","",E11/F11)
A12: copeaux de chocolat noir | G12: =IF(F12="","",E12/F12)
A13: créme de banane | G13: =IF(F13="","",E13/F13)
A14: créme de cacao blanche | G14: =IF(F14="","",E14/F14)
A15: créme de cacao brune | G15: =IF(F15="","",E15/F15)
A16: créme de cassis | G16: =IF(F16="","",E16/F16)
A17: créme de coco | G17: =IF(F17="","",E17/F17)
... A92: zeste d'orange | G92: =IF(F92="","",E92/F92)
G93: =IF(F93="","",E93/F93)
G94: =IF(F94="","",E94/F94)
G95: =IF(F95="","",E95/F95)
G96: =IF(F96="","",E96/F96)
G97: =IF(F97="","",E97/F97)
G98: =IF(F98="","",E98/F98)
G99: =IF(F99="","",E99/F99)
G100: =IF(F100="","",E100/F100)
G101: =IF(F101="","",E101/F101)
G102: =IF(F102="","",E102/F102)
G103: =IF(F103="","",E103/F103)
G104: =IF(F104="","",E104/F104)
... G700: =IF(F700="","",E700/F700)

Sheet liste
A1: anisette | B1: alcool | C1: boite | D1: 200 | E1: bucks | F1: chope | G1: au verre
A2: bierre | B2: additif aromatique | C2: bouteille | D2: 150 | E2: Cobbers | F2: cocktail | G2: au shaker
A3: bitter | B3: champagne | C3: branche | D3: 100 | E3: Coiadas | F3: collins | G3: verre mél
A4: eau de vie grain | B4: decoration | C4: cubi | D4: 75 | E4: collins | F4: coupe
A5: eau-de vie fruit | B5: jus de fruits | C5: entier | D5: 70 | E5: coolers | F5: degustation
A6: liqueur | B6: soda | C6: quartier | D6: 50 | E6: Crustas | F6: flute
A7: triple sec | C7: rondelle | D7: 37.5 | E7: Daisies | F7: highballs
A8: vermouth | C8: baton | D8: 33 | E8: Egg nogs | F8: hurricane
A9: vin | C9: morceau | D9: 25 | E9: Fixes | F9: irish café
A10: fruits | C10: feuille | D10: 20 | E10: Fizzes | F10: margarita
A11: légumes | D11: 15 | E11: Flips | F11: pichet
A12: aromate | D12: 12 | E12: Highballs | F12: Rocks
A13: herbes | D13: pièce | E13: Juleps | F13: shooter
A14: épices | E14: Pousse café | F14: tasse
E15: Puffs
E16: Rickeys
E17: Sangarees
E18: Shooters
E19: Slings
E20: Sours
E21: Toddies

Sheet index
A2: =A!B1 -> cocktail_a1 | B2: =A!$A8 -> vodka | C2: =A!A9 -> campari | G2: 1 | H2: 8
A3: =A!B24 -> cocktail_a2 | B3: =A!A31 -> 0 | C3: =A!A31 -> 0 | G3: =G2+23 -> 24 | H3: =H2+23 -> 31
A4: =A!B47 -> cocktail_a3 | B4: =A!A54 -> 0 | C4: =A!A54 -> 0 | G4: =G3+23 -> 47 | H4: =H3+23 -> 54
A5: =A!B70 -> cocktail_a4 | B5: =A!A77 -> 0 | C5: =A!A77 -> 0 | G5: =G4+23 -> 70 | H5: =H4+23 -> 77
A6: =A!B93 -> cocktail_a5 | B6: =A!A100 -> 0 | C6: =A!A13 -> 0 | G6: =G5+23 -> 93 | H6: =H5+23 -> 100
A7: =A!B116 -> cocktail_a6 | B7: =A!A123 -> 0 | C7: =A!A14 -> 0 | G7: =G6+23 -> 116 | H7: =H6+23 -> 123
A8: =A!B139 -> cocktail_a7 | B8: =A!A146 -> 0 | C8: =A!A15 -> 0 | G8: =G7+23 -> 139 | H8: =H7+23 -> 146
A9: =A!B162 -> cocktail_a8 | B9: =A!A169 -> 0 | C9: =A!A16 -> 0 | G9: =G8+23 -> 162 | H9: =H8+23 -> 169
A10: =A!B185 -> cocktail_a9 | B10: =A!A192 -> 0 | C10: =A!A17 -> 0 | G10: =G9+23 -> 185 | H10: =H9+23 -> 192
A11: =A!B208 -> cocktail_a10 | B11: =A!A215 -> 0 | C11: =A!A18 -> 0 | G11: =G10+23 -> 208 | H11: =H10+23 -> 215
A12: =A!B231 -> cocktail_a11 | B12: =A!A238 -> 0 | C12: =A!A19 -> 0 | G12: =G11+23 -> 231 | H12: =H11+23 -> 238
A13: =A!B254 -> cocktail_a12 | B13: =A!A261 -> 0 | C13: =A!A20 -> 0 | G13: =G12+23 -> 254 | H13: =H12+23 -> 261
A14: =A!B277 -> cocktail_a13 | B14: =A!A284 -> 0 | C14: =A!A21 -> 0 | G14: =G13+23 -> 277 | H14: =H13+23 -> 284
A15: =A!B300 -> cocktail_a14 | B15: =A!A307 -> 0 | C15: =A!A22 -> 0 | G15: =G14+23 -> 300 | H15: =H14+23 -> 307
A16: =A!B323 -> cocktail_a15 | B16: =A!A330 -> 0 | C16: =A!A23 -> 0 | G16: =G15+23 -> 323 | H16: =H15+23 -> 330
A17: =A!B346 -> cocktail_a16 | B17: =A!A353 -> 0 | C17: =A!A24 -> 0 | G17: =G16+23 -> 346 | H17: =H16+23 -> 353
A18: =A!B369 -> cocktail_a17 | B18: =A!A376 -> 0 | C18: =A!A25 -> 0 | G18: =G17+23 -> 369 | H18: =H17+23 -> 376
A19: =A!B392 -> cocktail_a18 | B19: =A!A399 -> 0 | C19: =A!A26 -> 0 | G19: =G18+23 -> 392 | H19: =H18+23 -> 399
A20: =A!B415 -> cocktail_a19 | B20: =A!A422 -> 0 | C20: =A!A27 -> 0 | G20: =G19+23 -> 415 | H20: =H19+23 -> 422
A21: =A!B438 -> cocktail_a20 | B21: =A!A445 -> 0 | G21: =G20+23 -> 438 | H21: =H20+23 -> 445
A22: =A!B461 -> cocktail_a21 | B22: =A!A468 -> 0 | G22: =G21+23 -> 461 | H22: =H21+23 -> 468
A23: =A!B484 -> cocktail_a22 | B23: =A!A491 -> 0 | G23: =G22+23 -> 484 | H23: =H22+23 -> 491
A24: =A!B507 -> cocktail_a23 | B24: =A!A514 -> 0 | G24: =G23+23 -> 507 | H24: =H23+23 -> 514
A25: =A!B530 -> cocktail_a24 | B25: =A!A537 -> 0 | G25: =G24+23 -> 530 | H25: =H24+23 -> 537
A26: =A!B553 -> cocktail_a25 | B26: =A!A560 -> 0 | G26: =G25+23 -> 553 | H26: =H25+23 -> 560
A27: =A!B576 -> cocktail_a26 | B27: =A!A583 -> 0 | G27: =G26+23 -> 576 | H27: =H26+23 -> 583
A28: =A!B599 -> cocktail_a27 | B28: =A!A606 -> 0 | G28: =G27+23 -> 599 | H28: =H27+23 -> 606
A29: =A!B622 -> cocktail_a28 | B29: =A!A629 -> 0 | G29: =G28+23 -> 622 | H29: =H28+23 -> 629
A30: =A!B645 -> cocktail_a29 | B30: =A!A652 -> 0 | G30: =G29+23 -> 645 | H30: =H29+23 -> 652
A31: =A!B668 -> cocktail_a30 | B31: =A!A675 -> 0 | G31: =G30+23 -> 668 | H31: =H30+23 -> 675
A32: =A!B691 -> cocktail_a31 | B32: =A!A698 -> 0 | G32: =G31+23 -> 691 | H32: =H31+23 -> 698
A33: =A!B714 -> cocktail_a32 | B33: =A!A721 -> 0 | G33: =G32+23 -> 714 | H33: =H32+23 -> 721
A34: =A!B737 -> cocktail_a33 | B34: =A!A744 -> 0 | G34: =G33+23 -> 737 | H34: =H33+23 -> 744
A35: =A!B760 -> cocktail_a34 | B35: =A!A767 -> 0 | G35: =G34+23 -> 760 | H35: =H34+23 -> 767
A36: =A!B783 -> cocktail_a35 | B36: =A!A790 -> 0 | G36: =G35+23 -> 783 | H36: =H35+23 -> 790
A37: =A!B806 -> cocktail_a36 | B37: =A!A813 -> 0 | G37: =G36+23 -> 806 | H37: =H36+23 -> 813
A38: =A!B829 -> cocktail_a37 | B38: =A!A836 -> 0 | G38: =G37+23 -> 829 | H38: =H37+23 -> 836
A39: =A!B852 -> cocktail_a38 | B39: =A!A859 -> 0 | G39: =G38+23 -> 852 | H39: =H38+23 -> 859
A40: =A!B875 -> cocktail_a39 | B40: =A!A882 -> 0 | G40: =G39+23 -> 875 | H40: =H39+23 -> 882
A41: =A!B898 -> cocktail_a40 | B41: =A!A905 -> 0 | G41: =G40+23 -> 898 | H41: =H40+23 -> 905
...

Sheet A
B1: cocktail_a1
E2: Ratio : | G2: =G3/G5*100 -> 0
B3: Type de Cocktail : | C3: Juleps | E3: prix de revien : | G3: =SUM(H8:H18)/C6 -> 0
B4: Type de verre : | E4: Prix de vente ttc : | G4: 9
B5: Fabrication : | E5: Prix de vente HT : | G5: =G4/1.2 -> 7.5
B6: Portion : | C6: 1
B7: Produits | C7: famille | D7: utilisation | E7: conditionnement | F7: prix unitaire | G7: quantité | H7: montant
A8: vodka | H8: =IF(G8="","",F8*G8)
A9: campari | H9: =IF(G9="","",F9*G9)
H10: =IF(G10="","",F10*G10)
H12: =IF(G12="","",F12*G12)
H13: =IF(G13="","",F13*G13)
H14: =IF(G14="","",F14*G14)
H15: =IF(G15="","",F15*G15)
H16: =IF(G16="","",F16*G16)
H17: =IF(G17="","",F17*G17)
H18: =IF(G18="","",F18*G18)
B24: cocktail_a2
E25: Ratio : | G25: =G26/G28*100 -> 0
B26: Type de Cocktail : | C26: Juleps | E26: prix de revien : | G26: =SUM(H31:H41)/C29 -> 0
B27: Type de verre : | C27: collins | E27: Prix de vente ttc : | G27: 8
B28: Fabrication : | C28: verre mél | E28: Prix de vente HT : | G28: =G27/1.2 -> 6.6666667
B29: Portion : | C29: 1
B30: Produits | C30: famille | D30: utilisation | E30: conditionnement | F30: prix unitaire | G30: quantité | H30: montant
H31: =IF(G31="","",F31*G31)
H32: =IF(G32="","",F32*G32)
H33: =IF(G33="","",F33*G33)
H34: =IF(G34="","",F34*G34)
H35: =IF(G35="","",F35*G35)
H36: =IF(G36="","",F36*G36)
H38: =IF(G38="","",F38*G38)
H39: =IF(G39="","",F39*G39)
H40: =IF(G40="","",F40*G40)
H41: =IF(G41="","",F41*G41)
A42: =IF(G42="","",F42*G42)
B47: cocktail_a3
E48: Ratio : | G48: =G49/G51*100 -> 0
B49: Type de Cocktail : | C49: Juleps | E49: prix de revien : | G49: =SUM(H54:H64)/C52 -> 0
B50: Type de verre : | E50: Prix de vente ttc : | G50: 9
B51: Fabrication : | E51: Prix de vente HT : | G51: =G50/1.2 -> 7.5
...
