Workbook

Sheet Pollen
A1: Date prélèvement | B1: Viabilité pollinique (%) | C1: T°c moyenne pas de tps 3 jours
A2: 41155 | B2: 91.891892 | C2: =ROUND(SUMPRODUCT( ('Météo '!A2:A732>=Pollen!A2-3) * ('Météo '!A2:A732<Pollen!A2) * ('Météo '!B2:B732) ) / SUMPRODUCT( ('Météo '!A2:A732>=Pollen!A2-3) * ('Météo '!A2:A732<Pollen!A2) ),2) -> #VALUE!
A3: 41155 | B3: 87.272727
A4: 41155 | B4: 79.850746
A5: 41155 | B5: 83.103448
A6: 41155 | B6: 87.815126
A7: 41164 | B7: 87.762238
A8: 41164 | B8: 84.789644
A9: 41164 | B9: 92.436975
A10: 41164 | B10: 82.4
A11: 41164 | B11: 83.482143
A12: 41185 | B12: 82.464455
A13: 41185 | B13: 84.030418
A14: 41185 | B14: 81.683168
... A540: 41208 | B540: 91.5
A541: 41208 | B541: NA
A542: 41192 | B542: 56.585366
A543: 41192 | B543: 56.796117
A544: 41192 | B544: 61.728395
A545: 41192 | B545: 39.76834
A546: 41192 | B546: 61.883408
A547: 41205 | B547: 95.622896
A548: 41205 | B548: 83.168317
A549: 41205 | B549: 94.761905
A550: 41205 | B550: 92.561983
A551: 41205 | B551: 92.79661
A552: 41158 | B552: 93.488372
A553: 41158 | B553: 93.043478
... A1241: 41184 | B1241: 94.859813
A1242: 41334 | B1242: 67.924528 | C1242: =ROUND(SUMPRODUCT( (#REF!>=Pollen!A1242-3)*(#REF!<Pollen!A1242)*(#REF!) ) / SUMPRODUCT( (#REF!>=Pollen!A1242-3)*(#REF!<Pollen!A1242) ),2) -> #REF!
A1243: 41334 | B1243: 78.037383 | C1243: =ROUND(SUMPRODUCT( (#REF!>=Pollen!A1243-3)*(#REF!<Pollen!A1243)*(#REF!) ) / SUMPRODUCT( (#REF!>=Pollen!A1243-3)*(#REF!<Pollen!A1243) ),2) -> #REF!
A1244: 41334 | B1244: 77.777778 | C1244: =ROUND(SUMPRODUCT( (#REF!>=Pollen!A1244-3)*(#REF!<Pollen!A1244)*(#REF!) ) / SUMPRODUCT( (#REF!>=Pollen!A1244-3)*(#REF!<Pollen!A1244) ),2) -> #REF!
A1245: 41334 | B1245: 84.390244 | C1245: =ROUND(SUMPRODUCT( (#REF!>=Pollen!A1245-3)*(#REF!<Pollen!A1245)*(#REF!) ) / SUMPRODUCT( (#REF!>=Pollen!A1245-3)*(#REF!<Pollen!A1245) ),2) -> #REF!
A1246: 41334 | B1246: 82.758621 | C1246: =ROUND(SUMPRODUCT( (#REF!>=Pollen!A1246-3)*(#REF!<Pollen!A1246)*(#REF!) ) / SUMPRODUCT( (#REF!>=Pollen!A1246-3)*(#REF!<Pollen!A1246) ),2) -> #REF!
A1247: 41338 | B1247: 78.199052 | C1247: =ROUND(SUMPRODUCT( (#REF!>=Pollen!A1247-3)*(#REF!<Pollen!A1247)*(#REF!) ) / SUMPRODUCT( (#REF!>=Pollen!A1247-3)*(#REF!<Pollen!A1247) ),2) -> #REF!
A1248: 41338 | B1248: 83.950617 | C1248: =ROUND(SUMPRODUCT( (#REF!>=Pollen!A1248-3)*(#REF!<Pollen!A1248)*(#REF!) ) / SUMPRODUCT( (#REF!>=Pollen!A1248-3)*(#REF!<Pollen!A1248) ),2) -> #REF!
A1249: 41338 | B1249: 83.64486 | C1249: =ROUND(SUMPRODUCT( (#REF!>=Pollen!A1249-3)*(#REF!<Pollen!A1249)*(#REF!) ) / SUMPRODUCT( (#REF!>=Pollen!A1249-3)*(#REF!<Pollen!A1249) ),2) -> #REF!
A1250: 41338 | B1250: 79.847909 | C1250: =ROUND(SUMPRODUCT( (#REF!>=Pollen!A1250-3)*(#REF!<Pollen!A1250)*(#REF!) ) / SUMPRODUCT( (#REF!>=Pollen!A1250-3)*(#REF!<Pollen!A1250) ),2) -> #REF!
A1251: 41338 | B1251: 77.826087 | C1251: =ROUND(SUMPRODUCT( (#REF!>=Pollen!A1251-3)*(#REF!<Pollen!A1251)*(#REF!) ) / SUMPRODUCT( (#REF!>=Pollen!A1251-3)*(#REF!<Pollen!A1251) ),2) -> #REF!
A1252: 41344 | B1252: 68.899522 | C1252: =ROUND(SUMPRODUCT( (#REF!>=Pollen!A1252-3)*(#REF!<Pollen!A1252)*(#REF!) ) / SUMPRODUCT( (#REF!>=Pollen!A1252-3)*(#REF!<Pollen!A1252) ),2) -> #REF!
A1253: 41344 | B1253: 66.504854 | C1253: =ROUND(SUMPRODUCT( (#REF!>=Pollen!A1253-3)*(#REF!<Pollen!A1253)*(#REF!) ) / SUMPRODUCT( (#REF!>=Pollen!A1253-3)*(#REF!<Pollen!A1253) ),2) -> #REF!
... A1278: 41316 | B1278: 77.5 | C1278: =ROUND(SUMPRODUCT( (#REF!>=Pollen!A1278-3)*(#REF!<Pollen!A1278)*(#REF!) ) / SUMPRODUCT( (#REF!>=Pollen!A1278-3)*(#REF!<Pollen!A1278) ),2) -> #REF!
A1279: 41316 | B1279: 77.722772 | C1279: =ROUND(SUMPRODUCT( (#REF!>=Pollen!A1279-3)*(#REF!<Pollen!A1279)*(#REF!) ) / SUMPRODUCT( (#REF!>=Pollen!A1279-3)*(#REF!<Pollen!A1279) ),2) -> #REF! | E1279: =A1279-3 -> 41313
A1280: 41316 | B1280: 78.403756 | C1280: =ROUND(SUMPRODUCT( (#REF!>=Pollen!A1280-3)*(#REF!<Pollen!A1280)*(#REF!) ) / SUMPRODUCT( (#REF!>=Pollen!A1280-3)*(#REF!<Pollen!A1280) ),2) -> #REF!
A1281: 41316 | B1281: 82.089552 | C1281: =ROUND(SUMPRODUCT( (#REF!>=Pollen!A1281-3)*(#REF!<Pollen!A1281)*(#REF!) ) / SUMPRODUCT( (#REF!>=Pollen!A1281-3)*(#REF!<Pollen!A1281) ),2) -> #REF!
A1282: 41325 | B1282: 90.825688 | C1282: =ROUND(SUMPRODUCT( (#REF!>=Pollen!A1282-3)*(#REF!<Pollen!A1282)*(#REF!) ) / SUMPRODUCT( (#REF!>=Pollen!A1282-3)*(#REF!<Pollen!A1282) ),2) -> #REF!
A1283: 41325 | B1283: 90.808824 | C1283: =ROUND(SUMPRODUCT( (#REF!>=Pollen!A1283-3)*(#REF!<Pollen!A1283)*(#REF!) ) / SUMPRODUCT( (#REF!>=Pollen!A1283-3)*(#REF!<Pollen!A1283) ),2) -> #REF!
A1284: 41325 | B1284: 87.453875 | C1284: =ROUND(SUMPRODUCT( (#REF!>=Pollen!A1284-3)*(#REF!<Pollen!A1284)*(#REF!) ) / SUMPRODUCT( (#REF!>=Pollen!A1284-3)*(#REF!<Pollen!A1284) ),2) -> #REF!
A1285: 41325 | B1285: 88.72549 | C1285: =ROUND(SUMPRODUCT( (#REF!>=Pollen!A1285-3)*(#REF!<Pollen!A1285)*(#REF!) ) / SUMPRODUCT( (#REF!>=Pollen!A1285-3)*(#REF!<Pollen!A1285) ),2) -> #REF!
A1286: 41325 | B1286: 86.046512 | C1286: =ROUND(SUMPRODUCT( (#REF!>=Pollen!A1286-3)*(#REF!<Pollen!A1286)*(#REF!) ) / SUMPRODUCT( (#REF!>=Pollen!A1286-3)*(#REF!<Pollen!A1286) ),2) -> #REF!
A1287: 41334 | B1287: 34.803922 | C1287: =ROUND(SUMPRODUCT( (#REF!>=Pollen!A1287-3)*(#REF!<Pollen!A1287)*(#REF!) ) / SUMPRODUCT( (#REF!>=Pollen!A1287-3)*(#REF!<Pollen!A1287) ),2) -> #REF!
A1288: 41334 | B1288: 38.325991 | C1288: =ROUND(SUMPRODUCT( (#REF!>=Pollen!A1288-3)*(#REF!<Pollen!A1288)*(#REF!) ) / SUMPRODUCT( (#REF!>=Pollen!A1288-3)*(#REF!<Pollen!A1288) ),2) -> #REF!
A1289: 41334 | B1289: 41.255605 | C1289: =ROUND(SUMPRODUCT( (#REF!>=Pollen!A1289-3)*(#REF!<Pollen!A1289)*(#REF!) ) / SUMPRODUCT( (#REF!>=Pollen!A1289-3)*(#REF!<Pollen!A1289) ),2) -> #REF!
A1290: 41334 | B1290: 40.686275 | C1290: =ROUND(SUMPRODUCT( (#REF!>=Pollen!A1290-3)*(#REF!<Pollen!A1290)*(#REF!) ) / SUMPRODUCT( (#REF!>=Pollen!A1290-3)*(#REF!<Pollen!A1290) ),2) -> #REF!
A1291: 41334 | B1291: 36.744186 | C1291: =ROUND(SUMPRODUCT( (#REF!>=Pollen!A1291-3)*(#REF!<Pollen!A1291)*(#REF!) ) / SUMPRODUCT( (#REF!>=Pollen!A1291-3)*(#REF!<Pollen!A1291) ),2) -> #REF!
... A1711: 41347 | B1711: 99.50495 | C1711: =ROUND(SUMPRODUCT( (#REF!>=Pollen!A1711-3)*(#REF!<Pollen!A1711)*(#REF!) ) / SUMPRODUCT( (#REF!>=Pollen!A1711-3)*(#REF!<Pollen!A1711) ),2) -> #REF!
A1712: 41310 | B1712: 81.974249
A1713: 41310 | B1713: 79.52381
A1714: 41310 | B1714: 69.047619
A1715: 41310 | B1715: 76.855895
A1716: 41310 | B1716: 81.927711
A1717: 41324 | B1717: 69.957082
A1718: 41324 | B1718: 72.844828
A1719: 41324 | B1719: 78.26087
A1720: 41324 | B1720: 75.348837
A1721: 41324 | B1721: 74.891775
A1722: 41333 | B1722: 89.705882
A1723: 41333 | B1723: 81.881533
... A2756: 41374 | B2756: 99.502488

Sheet Météo 
A1: Jour/Mois/Année | B1: Température moyenne (°C) | C1: Température minimale (°C) | D1: Température maximale (°C)
A2: 40909 | B2: 25.1 | C2: 22.1 | D2: 28.7
A3: 40910 | B3: 25.6 | C3: 22.3 | D3: 28.5
A4: 40911 | B4: 25.8 | C4: 23.4 | D4: 28.8
A5: 40912 | B5: 24.8 | C5: 20.9 | D5: 28.8
A6: 40913 | B6: 24.6 | C6: 21.3 | D6: 28.2
A7: 40914 | B7: 24.3 | C7: 21.1 | D7: 28.8
A8: 40915 | B8: 24.9 | C8: 20.7 | D8: 28.5
A9: 40916 | B9: 24.7 | C9: 21.7 | D9: 28.5
A10: 40917 | B10: 24.3 | C10: 22.2 | D10: 28.1
A11: 40918 | B11: 23.7 | C11: 19.7 | D11: 28.2
A12: 40919 | B12: 23.8 | C12: 20.2 | D12: 28.5
A13: 40920 | B13: 25.1 | C13: 21.8 | D13: 28.8
... A711: 41618 | B711: 28.5 | C711: 24.5 | D711: 29
A712: 41619 | B712: 25.9 | D712: 29.1
A713: 41620 | C713: 7.3 | D713: 27.8
A714: 41621 | B714: 27 | D714: 29.2
A715: 41622 | B715: 26.7 | C715: 23.5 | D715: 29.4
A716: 41623 | B716: 26 | C716: 23.3 | D716: 29.1
A717: 41624 | B717: 25.9 | C717: 22.9 | D717: 28.8
A718: 41625 | B718: 26.2 | C718: 23 | D718: 29.3
A719: 41626 | B719: 25.9 | C719: 23.2 | D719: 29.2
A720: 41627 | B720: 26.2 | C720: 22.9 | D720: 29.4
A721: 41628 | B721: 25.9 | C721: 22.9 | D721: 28.8
A722: 41629 | B722: 25.5 | C722: 22.8 | D722: 28.7
A723: 41630 | B723: 25.2 | C723: 22.3 | D723: 28.2
A724: 41631 | B724: 25.1 | C724: 23 | D724: 28
A725: 41632 | B725: 23.6 | C725: 21.8 | D725: 27.8
A726: 41633 | B726: 24.5 | C726: 21.8 | D726: 29
... A732: 41639 | B732: 25.7 | C732: 23.9 | D732: 29.2
