Workbook
Name an: [1]Fériés!$A$2
Name fériés: [1]Fériés!$A$10:$A$20

Sheet Planning Général
A1: Planning des astreintes DFCI
B4: Septembre | F4: Octobre | O4: Novembre | Y4: Décembre | AE4: Total | AF4: Total réel
A5: NORD | B5: 42266 | C5: 42267 | D5: 42273 | E5: 42274 | F5: 42280 | G5: 42281 | H5: 42287 | I5: 42288 | J5: 42294 | K5: 42295 | L5: 42301 | M5: 42302 | N5: 42308 | O5: 42309 | P5: 42315 | Q5: 42316 | R5: 42319 | S5: 42322 | T5: 42323 | U5: 42329 | V5: 42330 | W5: 42336 | X5: 42337 | Y5: 42343 | Z5: 42344 | AA5: 42350 | AB5: 42351 | AC5: 42357 | AD5: 42358
A6: ='Planning DFCI Nord'!A6 -> G | B6: =IF('Planning DFCI Nord'!B6<>1,"",INDEX('Planning DFCI Nord'!B6,1,1)) | C6: =IF('Planning DFCI Nord'!C6<>1,"",INDEX('Planning DFCI Nord'!C6,1,1)) | D6: =IF('Planning DFCI Nord'!D6<>1,"",INDEX('Planning DFCI Nord'!D6,1,1)) | E6: =IF('Planning DFCI Nord'!E6<>1,"",INDEX('Planning DFCI Nord'!E6,1,1)) | F6: =IF('Planning DFCI Nord'!F6<>1,"",INDEX('Planning DFCI Nord'!F6,1,1)) | G6: =IF('Planning DFCI Nord'!G6<>1,"",INDEX('Planning DFCI Nord'!G6,1,1)) | H6: =IF('Planning DFCI Nord'!H6<>1,"",INDEX('Planning DFCI Nord'!H6,1,1)) | I6: =IF('Planning DFCI Nord'!I6<>1,"",INDEX('Planning DFCI Nord'!I6,1,1)) | ... AD6: =IF('Planning DFCI Nord'!AD6<>1,"",INDEX('Planning DFCI Nord'!AD6,1,1)) | AE6: =SUM(B6:AD6) -> 0
A7: ='Planning DFCI Nord'!A7 -> H | B7: =IF('Planning DFCI Nord'!B7<>1,"",INDEX('Planning DFCI Nord'!B7,1,1)) | C7: =IF('Planning DFCI Nord'!C7<>1,"",INDEX('Planning DFCI Nord'!C7,1,1)) | D7: =IF('Planning DFCI Nord'!D7<>1,"",INDEX('Planning DFCI Nord'!D7,1,1)) | E7: =IF('Planning DFCI Nord'!E7<>1,"",INDEX('Planning DFCI Nord'!E7,1,1)) | F7: =IF('Planning DFCI Nord'!F7<>1,"",INDEX('Planning DFCI Nord'!F7,1,1)) | G7: =IF('Planning DFCI Nord'!G7<>1,"",INDEX('Planning DFCI Nord'!G7,1,1)) | H7: =IF('Planning DFCI Nord'!H7<>1,"",INDEX('Planning DFCI Nord'!H7,1,1)) | I7: =IF('Planning DFCI Nord'!I7<>1,"",INDEX('Planning DFCI Nord'!I7,1,1)) | ... AD7: =IF('Planning DFCI Nord'!AD7<>1,"",INDEX('Planning DFCI Nord'!AD7,1,1)) | AE7: =SUM(B7:AD7) -> 0
A8: ='Planning DFCI Nord'!A8 -> I | B8: =IF('Planning DFCI Nord'!B8<>1,"",INDEX('Planning DFCI Nord'!B8,1,1)) | C8: =IF('Planning DFCI Nord'!C8<>1,"",INDEX('Planning DFCI Nord'!C8,1,1)) | D8: =IF('Planning DFCI Nord'!D8<>1,"",INDEX('Planning DFCI Nord'!D8,1,1)) | E8: =IF('Planning DFCI Nord'!E8<>1,"",INDEX('Planning DFCI Nord'!E8,1,1)) | F8: =IF('Planning DFCI Nord'!F8<>1,"",INDEX('Planning DFCI Nord'!F8,1,1)) | G8: =IF('Planning DFCI Nord'!G8<>1,"",INDEX('Planning DFCI Nord'!G8,1,1)) | H8: =IF('Planning DFCI Nord'!H8<>1,"",INDEX('Planning DFCI Nord'!H8,1,1)) | I8: =IF('Planning DFCI Nord'!I8<>1,"",INDEX('Planning DFCI Nord'!I8,1,1)) | ... AD8: =IF('Planning DFCI Nord'!AD8<>1,"",INDEX('Planning DFCI Nord'!AD8,1,1)) | AE8: =SUM(B8:AD8) -> 0
A9: ='Planning DFCI Nord'!A9 -> J | B9: =IF('Planning DFCI Nord'!B9<>1,"",INDEX('Planning DFCI Nord'!B9,1,1)) | C9: =IF('Planning DFCI Nord'!C9<>1,"",INDEX('Planning DFCI Nord'!C9,1,1)) | D9: =IF('Planning DFCI Nord'!D9<>1,"",INDEX('Planning DFCI Nord'!D9,1,1)) | E9: =IF('Planning DFCI Nord'!E9<>1,"",INDEX('Planning DFCI Nord'!E9,1,1)) | F9: =IF('Planning DFCI Nord'!F9<>1,"",INDEX('Planning DFCI Nord'!F9,1,1)) | G9: =IF('Planning DFCI Nord'!G9<>1,"",INDEX('Planning DFCI Nord'!G9,1,1)) | H9: =IF('Planning DFCI Nord'!H9<>1,"",INDEX('Planning DFCI Nord'!H9,1,1)) | I9: =IF('Planning DFCI Nord'!I9<>1,"",INDEX('Planning DFCI Nord'!I9,1,1)) -> 1 | ... AD9: =IF('Planning DFCI Nord'!AD9<>1,"",INDEX('Planning DFCI Nord'!AD9,1,1)) | AE9: =SUM(B9:AD9) -> 1
A10: ='Planning DFCI Nord'!A10 -> K | B10: =IF('Planning DFCI Nord'!B10<>1,"",INDEX('Planning DFCI Nord'!B10,1,1)) | C10: =IF('Planning DFCI Nord'!C10<>1,"",INDEX('Planning DFCI Nord'!C10,1,1)) | D10: =IF('Planning DFCI Nord'!D10<>1,"",INDEX('Planning DFCI Nord'!D10,1,1)) | E10: =IF('Planning DFCI Nord'!E10<>1,"",INDEX('Planning DFCI Nord'!E10,1,1)) | F10: =IF('Planning DFCI Nord'!F10<>1,"",INDEX('Planning DFCI Nord'!F10,1,1)) | G10: =IF('Planning DFCI Nord'!G10<>1,"",INDEX('Planning DFCI Nord'!G10,1,1)) | H10: =IF('Planning DFCI Nord'!H10<>1,"",INDEX('Planning DFCI Nord'!H10,1,1)) | I10: =IF('Planning DFCI Nord'!I10<>1,"",INDEX('Planning DFCI Nord'!I10,1,1)) | ... AD10: =IF('Planning DFCI Nord'!AD10<>1,"",INDEX('Planning DFCI Nord'!AD10,1,1)) | AE10: =SUM(B10:AD10) -> 0
A11: ='Planning DFCI Nord'!A11 -> L | B11: =IF('Planning DFCI Nord'!B11<>1,"",INDEX('Planning DFCI Nord'!B11,1,1)) | C11: =IF('Planning DFCI Nord'!C11<>1,"",INDEX('Planning DFCI Nord'!C11,1,1)) | D11: =IF('Planning DFCI Nord'!D11<>1,"",INDEX('Planning DFCI Nord'!D11,1,1)) | E11: =IF('Planning DFCI Nord'!E11<>1,"",INDEX('Planning DFCI Nord'!E11,1,1)) | F11: =IF('Planning DFCI Nord'!F11<>1,"",INDEX('Planning DFCI Nord'!F11,1,1)) | G11: =IF('Planning DFCI Nord'!G11<>1,"",INDEX('Planning DFCI Nord'!G11,1,1)) | H11: =IF('Planning DFCI Nord'!H11<>1,"",INDEX('Planning DFCI Nord'!H11,1,1)) | I11: =IF('Planning DFCI Nord'!I11<>1,"",INDEX('Planning DFCI Nord'!I11,1,1)) | ... AD11: =IF('Planning DFCI Nord'!AD11<>1,"",INDEX('Planning DFCI Nord'!AD11,1,1)) | AE11: =SUM(B11:AD11) -> 0
A12: ='Planning DFCI Nord'!A12 -> M | B12: =IF('Planning DFCI Nord'!B12<>1,"",INDEX('Planning DFCI Nord'!B12,1,1)) | C12: =IF('Planning DFCI Nord'!C12<>1,"",INDEX('Planning DFCI Nord'!C12,1,1)) | D12: =IF('Planning DFCI Nord'!D12<>1,"",INDEX('Planning DFCI Nord'!D12,1,1)) | E12: =IF('Planning DFCI Nord'!E12<>1,"",INDEX('Planning DFCI Nord'!E12,1,1)) | F12: =IF('Planning DFCI Nord'!F12<>1,"",INDEX('Planning DFCI Nord'!F12,1,1)) | G12: =IF('Planning DFCI Nord'!G12<>1,"",INDEX('Planning DFCI Nord'!G12,1,1)) | H12: =IF('Planning DFCI Nord'!H12<>1,"",INDEX('Planning DFCI Nord'!H12,1,1)) | I12: =IF('Planning DFCI Nord'!I12<>1,"",INDEX('Planning DFCI Nord'!I12,1,1)) -> 1 | ... AD12: =IF('Planning DFCI Nord'!AD12<>1,"",INDEX('Planning DFCI Nord'!AD12,1,1)) | AE12: =SUM(B12:AD12) -> 1
A13: ='Planning DFCI Nord'!A13 -> N | B13: =IF('Planning DFCI Nord'!B13<>1,"",INDEX('Planning DFCI Nord'!B13,1,1)) | C13: =IF('Planning DFCI Nord'!C13<>1,"",INDEX('Planning DFCI Nord'!C13,1,1)) | D13: =IF('Planning DFCI Nord'!D13<>1,"",INDEX('Planning DFCI Nord'!D13,1,1)) | E13: =IF('Planning DFCI Nord'!E13<>1,"",INDEX('Planning DFCI Nord'!E13,1,1)) | F13: =IF('Planning DFCI Nord'!F13<>1,"",INDEX('Planning DFCI Nord'!F13,1,1)) | G13: =IF('Planning DFCI Nord'!G13<>1,"",INDEX('Planning DFCI Nord'!G13,1,1)) | H13: =IF('Planning DFCI Nord'!H13<>1,"",INDEX('Planning DFCI Nord'!H13,1,1)) | I13: =IF('Planning DFCI Nord'!I13<>1,"",INDEX('Planning DFCI Nord'!I13,1,1)) | ... AD13: =IF('Planning DFCI Nord'!AD13<>1,"",INDEX('Planning DFCI Nord'!AD13,1,1)) | AE13: =SUM(B13:AD13) -> 0
A14: ='Planning DFCI Nord'!A14 -> 0 | B14: =IF('Planning DFCI Nord'!B14<>1,"",INDEX('Planning DFCI Nord'!B14,1,1)) | C14: =IF('Planning DFCI Nord'!C14<>1,"",INDEX('Planning DFCI Nord'!C14,1,1)) | D14: =IF('Planning DFCI Nord'!D14<>1,"",INDEX('Planning DFCI Nord'!D14,1,1)) | E14: =IF('Planning DFCI Nord'!E14<>1,"",INDEX('Planning DFCI Nord'!E14,1,1)) | F14: =IF('Planning DFCI Nord'!F14<>1,"",INDEX('Planning DFCI Nord'!F14,1,1)) | G14: =IF('Planning DFCI Nord'!G14<>1,"",INDEX('Planning DFCI Nord'!G14,1,1)) | H14: =IF('Planning DFCI Nord'!H14<>1,"",INDEX('Planning DFCI Nord'!H14,1,1)) | I14: =IF('Planning DFCI Nord'!I14<>1,"",INDEX('Planning DFCI Nord'!I14,1,1)) | ... AD14: =IF('Planning DFCI Nord'!AD14<>1,"",INDEX('Planning DFCI Nord'!AD14,1,1)) | AE14: =SUM(B14:AD14) -> 0
A15: ='Planning DFCI Nord'!A15 -> P | B15: =IF('Planning DFCI Nord'!B15<>1,"",INDEX('Planning DFCI Nord'!B15,1,1)) | C15: =IF('Planning DFCI Nord'!C15<>1,"",INDEX('Planning DFCI Nord'!C15,1,1)) | D15: =IF('Planning DFCI Nord'!D15<>1,"",INDEX('Planning DFCI Nord'!D15,1,1)) | E15: =IF('Planning DFCI Nord'!E15<>1,"",INDEX('Planning DFCI Nord'!E15,1,1)) | F15: =IF('Planning DFCI Nord'!F15<>1,"",INDEX('Planning DFCI Nord'!F15,1,1)) | G15: =IF('Planning DFCI Nord'!G15<>1,"",INDEX('Planning DFCI Nord'!G15,1,1)) | H15: =IF('Planning DFCI Nord'!H15<>1,"",INDEX('Planning DFCI Nord'!H15,1,1)) | I15: =IF('Planning DFCI Nord'!I15<>1,"",INDEX('Planning DFCI Nord'!I15,1,1)) | ... AD15: =IF('Planning DFCI Nord'!AD15<>1,"",INDEX('Planning DFCI Nord'!AD15,1,1)) | AE15: =SUM(B15:AD15) -> 0
A16: ='Planning DFCI Nord'!A16 -> Q | B16: =IF('Planning DFCI Nord'!B16<>1,"",INDEX('Planning DFCI Nord'!B16,1,1)) | C16: =IF('Planning DFCI Nord'!C16<>1,"",INDEX('Planning DFCI Nord'!C16,1,1)) | D16: =IF('Planning DFCI Nord'!D16<>1,"",INDEX('Planning DFCI Nord'!D16,1,1)) | E16: =IF('Planning DFCI Nord'!E16<>1,"",INDEX('Planning DFCI Nord'!E16,1,1)) | F16: =IF('Planning DFCI Nord'!F16<>1,"",INDEX('Planning DFCI Nord'!F16,1,1)) | G16: =IF('Planning DFCI Nord'!G16<>1,"",INDEX('Planning DFCI Nord'!G16,1,1)) | H16: =IF('Planning DFCI Nord'!H16<>1,"",INDEX('Planning DFCI Nord'!H16,1,1)) | I16: =IF('Planning DFCI Nord'!I16<>1,"",INDEX('Planning DFCI Nord'!I16,1,1)) | ... AD16: =IF('Planning DFCI Nord'!AD16<>1,"",INDEX('Planning DFCI Nord'!AD16,1,1)) | AE16: =SUM(B16:AD16) -> 0
A17: ='Planning DFCI Nord'!A17 -> R | B17: =IF('Planning DFCI Nord'!B17<>1,"",INDEX('Planning DFCI Nord'!B17,1,1)) | C17: =IF('Planning DFCI Nord'!C17<>1,"",INDEX('Planning DFCI Nord'!C17,1,1)) | D17: =IF('Planning DFCI Nord'!D17<>1,"",INDEX('Planning DFCI Nord'!D17,1,1)) | E17: =IF('Planning DFCI Nord'!E17<>1,"",INDEX('Planning DFCI Nord'!E17,1,1)) | F17: =IF('Planning DFCI Nord'!F17<>1,"",INDEX('Planning DFCI Nord'!F17,1,1)) | G17: =IF('Planning DFCI Nord'!G17<>1,"",INDEX('Planning DFCI Nord'!G17,1,1)) | H17: =IF('Planning DFCI Nord'!H17<>1,"",INDEX('Planning DFCI Nord'!H17,1,1)) | I17: =IF('Planning DFCI Nord'!I17<>1,"",INDEX('Planning DFCI Nord'!I17,1,1)) | ... AD17: =IF('Planning DFCI Nord'!AD17<>1,"",INDEX('Planning DFCI Nord'!AD17,1,1)) | AE17: =SUM(B17:AD17) -> 0
A18: OUEST | B18: 42266 | C18: 42267 | D18: 42273 | E18: 42274 | F18: 42280 | G18: 42281 | H18: 42287 | I18: 42288 | J18: 42294 | K18: 42295 | L18: 42301 | M18: 42302 | N18: 42308 | O18: 42309 | P18: 42315 | Q18: 42316 | R18: 42319 | S18: 42322 | T18: 42323 | U18: 42329 | V18: 42330 | W18: 42336 | X18: 42337 | Y18: 42343 | Z18: 42344 | AA18: 42350 | AB18: 42351 | AC18: 42357 | AD18: 42358 | AE18: Total | AF18: Total réel
A19: ='Planning DFCI OUEST'!A6 -> A | B19: =IF('Planning DFCI OUEST'!B6<>1,"",INDEX('Planning DFCI OUEST'!B6:AD11,1,1)) -> 1 | C19: =IF('Planning DFCI OUEST'!C6<>1,"",INDEX('Planning DFCI OUEST'!C6:AE11,1,1)) | D19: =IF('Planning DFCI OUEST'!D6<>1,"",INDEX('Planning DFCI OUEST'!D6:AF11,1,1)) | E19: =IF('Planning DFCI OUEST'!E6<>1,"",INDEX('Planning DFCI OUEST'!E6:AG11,1,1)) | F19: =IF('Planning DFCI OUEST'!F6<>1,"",INDEX('Planning DFCI OUEST'!F6:AH11,1,1)) | G19: =IF('Planning DFCI OUEST'!G6<>1,"",INDEX('Planning DFCI OUEST'!G6:AI11,1,1)) | H19: =IF('Planning DFCI OUEST'!H6<>1,"",INDEX('Planning DFCI OUEST'!H6:AJ11,1,1)) | I19: =IF('Planning DFCI OUEST'!I6<>1,"",INDEX('Planning DFCI OUEST'!I6:AK11,1,1)) | ... AD19: =IF('Planning DFCI OUEST'!AD6<>1,"",INDEX('Planning DFCI OUEST'!AD6:BF11,1,1)) | AE19: =SUM(B19:AD19) -> 1
A20: ='Planning DFCI OUEST'!A7 -> B | B20: =IF('Planning DFCI OUEST'!B7<>1,"",INDEX('Planning DFCI OUEST'!B7:AD12,1,1)) | C20: =IF('Planning DFCI OUEST'!C7<>1,"",INDEX('Planning DFCI OUEST'!C7:AE12,1,1)) -> 1 | D20: =IF('Planning DFCI OUEST'!D7<>1,"",INDEX('Planning DFCI OUEST'!D7:AF12,1,1)) | E20: =IF('Planning DFCI OUEST'!E7<>1,"",INDEX('Planning DFCI OUEST'!E7:AG12,1,1)) | F20: =IF('Planning DFCI OUEST'!F7<>1,"",INDEX('Planning DFCI OUEST'!F7:AH12,1,1)) | G20: =IF('Planning DFCI OUEST'!G7<>1,"",INDEX('Planning DFCI OUEST'!G7:AI12,1,1)) | H20: =IF('Planning DFCI OUEST'!H7<>1,"",INDEX('Planning DFCI OUEST'!H7:AJ12,1,1)) | I20: =IF('Planning DFCI OUEST'!I7<>1,"",INDEX('Planning DFCI OUEST'!I7:AK12,1,1)) | ... AD20: =IF('Planning DFCI OUEST'!AD7<>1,"",INDEX('Planning DFCI OUEST'!AD7:BF12,1,1)) | AE20: =SUM(B20:AD20) -> 1
A21: ='Planning DFCI OUEST'!A8 -> C | B21: =IF('Planning DFCI OUEST'!B8<>1,"",INDEX('Planning DFCI OUEST'!B8:AD13,1,1)) -> 1 | C21: =IF('Planning DFCI OUEST'!C8<>1,"",INDEX('Planning DFCI OUEST'!C8:AE13,1,1)) | D21: =IF('Planning DFCI OUEST'!D8<>1,"",INDEX('Planning DFCI OUEST'!D8:AF13,1,1)) | E21: =IF('Planning DFCI OUEST'!E8<>1,"",INDEX('Planning DFCI OUEST'!E8:AG13,1,1)) | F21: =IF('Planning DFCI OUEST'!F8<>1,"",INDEX('Planning DFCI OUEST'!F8:AH13,1,1)) | G21: =IF('Planning DFCI OUEST'!G8<>1,"",INDEX('Planning DFCI OUEST'!G8:AI13,1,1)) | H21: =IF('Planning DFCI OUEST'!H8<>1,"",INDEX('Planning DFCI OUEST'!H8:AJ13,1,1)) | I21: =IF('Planning DFCI OUEST'!I8<>1,"",INDEX('Planning DFCI OUEST'!I8:AK13,1,1)) | ... AD21: =IF('Planning DFCI OUEST'!AD8<>1,"",INDEX('Planning DFCI OUEST'!AD8:BF13,1,1)) | AE21: =SUM(B21:AD21) -> 1
A22: ='Planning DFCI OUEST'!A9 -> D | B22: =IF('Planning DFCI OUEST'!B9<>1,"",INDEX('Planning DFCI OUEST'!B9:AD14,1,1)) | C22: =IF('Planning DFCI OUEST'!C9<>1,"",INDEX('Planning DFCI OUEST'!C9:AE14,1,1)) -> 1 | D22: =IF('Planning DFCI OUEST'!D9<>1,"",INDEX('Planning DFCI OUEST'!D9:AF14,1,1)) | E22: =IF('Planning DFCI OUEST'!E9<>1,"",INDEX('Planning DFCI OUEST'!E9:AG14,1,1)) | F22: =IF('Planning DFCI OUEST'!F9<>1,"",INDEX('Planning DFCI OUEST'!F9:AH14,1,1)) | G22: =IF('Planning DFCI OUEST'!G9<>1,"",INDEX('Planning DFCI OUEST'!G9:AI14,1,1)) | H22: =IF('Planning DFCI OUEST'!H9<>1,"",INDEX('Planning DFCI OUEST'!H9:AJ14,1,1)) | I22: =IF('Planning DFCI OUEST'!I9<>1,"",INDEX('Planning DFCI OUEST'!I9:AK14,1,1)) | ... AD22: =IF('Planning DFCI OUEST'!AD9<>1,"",INDEX('Planning DFCI OUEST'!AD9:BF14,1,1)) | AE22: =SUM(B22:AD22) -> 1
A23: ='Planning DFCI OUEST'!A10 -> E | B23: =IF('Planning DFCI OUEST'!B10<>1,"",INDEX('Planning DFCI OUEST'!B10:AD15,1,1)) | C23: =IF('Planning DFCI OUEST'!C10<>1,"",INDEX('Planning DFCI OUEST'!C10:AE15,1,1)) | D23: =IF('Planning DFCI OUEST'!D10<>1,"",INDEX('Planning DFCI OUEST'!D10:AF15,1,1)) | E23: =IF('Planning DFCI OUEST'!E10<>1,"",INDEX('Planning DFCI OUEST'!E10:AG15,1,1)) | F23: =IF('Planning DFCI OUEST'!F10<>1,"",INDEX('Planning DFCI OUEST'!F10:AH15,1,1)) | G23: =IF('Planning DFCI OUEST'!G10<>1,"",INDEX('Planning DFCI OUEST'!G10:AI15,1,1)) | H23: =IF('Planning DFCI OUEST'!H10<>1,"",INDEX('Planning DFCI OUEST'!H10:AJ15,1,1)) | I23: =IF('Planning DFCI OUEST'!I10<>1,"",INDEX('Planning DFCI OUEST'!I10:AK15,1,1)) | ... AD23: =IF('Planning DFCI OUEST'!AD10<>1,"",INDEX('Planning DFCI OUEST'!AD10:BF15,1,1)) | AE23: =SUM(B23:AD23) -> 0
A24: ='Planning DFCI OUEST'!A11 -> F | B24: =IF('Planning DFCI OUEST'!B11<>1,"",INDEX('Planning DFCI OUEST'!B11:AD16,1,1)) | C24: =IF('Planning DFCI OUEST'!C11<>1,"",INDEX('Planning DFCI OUEST'!C11:AE16,1,1)) | D24: =IF('Planning DFCI OUEST'!D11<>1,"",INDEX('Planning DFCI OUEST'!D11:AF16,1,1)) | E24: =IF('Planning DFCI OUEST'!E11<>1,"",INDEX('Planning DFCI OUEST'!E11:AG16,1,1)) | F24: =IF('Planning DFCI OUEST'!F11<>1,"",INDEX('Planning DFCI OUEST'!F11:AH16,1,1)) | G24: =IF('Planning DFCI OUEST'!G11<>1,"",INDEX('Planning DFCI OUEST'!G11:AI16,1,1)) | H24: =IF('Planning DFCI OUEST'!H11<>1,"",INDEX('Planning DFCI OUEST'!H11:AJ16,1,1)) | I24: =IF('Planning DFCI OUEST'!I11<>1,"",INDEX('Planning DFCI OUEST'!I11:AK16,1,1)) | ... AD24: =IF('Planning DFCI OUEST'!AD11<>1,"",INDEX('Planning DFCI OUEST'!AD11:BF16,1,1)) | AE24: =SUM(B24:AD24) -> 0
A25: SUD | B25: 42266 | C25: 42267 | D25: 42273 | E25: 42274 | F25: 42280 | G25: 42281 | H25: 42287 | I25: 42288 | J25: 42294 | K25: 42295 | L25: 42301 | M25: 42302 | N25: 42308 | O25: 42309 | P25: 42315 | Q25: 42316 | R25: 42319 | S25: 42322 | T25: 42323 | U25: 42329 | V25: 42330 | W25: 42336 | X25: 42337 | Y25: 42343 | Z25: 42344 | AA25: 42350 | AB25: 42351 | AC25: 42357 | AD25: 42358 | AE25: Total | AF25: Total réel
A26: ='Planning DFCI Sud'!A6 -> S | B26: =IF('Planning DFCI Sud'!B6<>1,"",INDEX('Planning DFCI Sud'!B6,1,1)) | C26: =IF('Planning DFCI Sud'!C6<>1,"",INDEX('Planning DFCI Sud'!C6,1,1)) | D26: =IF('Planning DFCI Sud'!D6<>1,"",INDEX('Planning DFCI Sud'!D6,1,1)) | E26: =IF('Planning DFCI Sud'!E6<>1,"",INDEX('Planning DFCI Sud'!E6,1,1)) | F26: =IF('Planning DFCI Sud'!F6<>1,"",INDEX('Planning DFCI Sud'!F6,1,1)) | G26: =IF('Planning DFCI Sud'!G6<>1,"",INDEX('Planning DFCI Sud'!G6,1,1)) | H26: =IF('Planning DFCI Sud'!H6<>1,"",INDEX('Planning DFCI Sud'!H6,1,1)) | I26: =IF('Planning DFCI Sud'!I6<>1,"",INDEX('Planning DFCI Sud'!I6,1,1)) | ... AD26: =IF('Planning DFCI Sud'!AD6<>1,"",INDEX('Planning DFCI Sud'!AD6,1,1)) | AE26: =SUM(B26:AD26) -> 0
A27: ='Planning DFCI Sud'!A7 -> T | B27: =IF('Planning DFCI Sud'!B7<>1,"",INDEX('Planning DFCI Sud'!B7,1,1)) | C27: =IF('Planning DFCI Sud'!C7<>1,"",INDEX('Planning DFCI Sud'!C7,1,1)) | D27: =IF('Planning DFCI Sud'!D7<>1,"",INDEX('Planning DFCI Sud'!D7,1,1)) | E27: =IF('Planning DFCI Sud'!E7<>1,"",INDEX('Planning DFCI Sud'!E7,1,1)) | F27: =IF('Planning DFCI Sud'!F7<>1,"",INDEX('Planning DFCI Sud'!F7,1,1)) | G27: =IF('Planning DFCI Sud'!G7<>1,"",INDEX('Planning DFCI Sud'!G7,1,1)) | H27: =IF('Planning DFCI Sud'!H7<>1,"",INDEX('Planning DFCI Sud'!H7,1,1)) | I27: =IF('Planning DFCI Sud'!I7<>1,"",INDEX('Planning DFCI Sud'!I7,1,1)) | ... AD27: =IF('Planning DFCI Sud'!AD7<>1,"",INDEX('Planning DFCI Sud'!AD7,1,1)) | AE27: =SUM(B27:AD27) -> 0
A28: ='Planning DFCI Sud'!A8 -> U | B28: =IF('Planning DFCI Sud'!B8<>1,"",INDEX('Planning DFCI Sud'!B8,1,1)) | C28: =IF('Planning DFCI Sud'!C8<>1,"",INDEX('Planning DFCI Sud'!C8,1,1)) | D28: =IF('Planning DFCI Sud'!D8<>1,"",INDEX('Planning DFCI Sud'!D8,1,1)) | E28: =IF('Planning DFCI Sud'!E8<>1,"",INDEX('Planning DFCI Sud'!E8,1,1)) | F28: =IF('Planning DFCI Sud'!F8<>1,"",INDEX('Planning DFCI Sud'!F8,1,1)) | G28: =IF('Planning DFCI Sud'!G8<>1,"",INDEX('Planning DFCI Sud'!G8,1,1)) | H28: =IF('Planning DFCI Sud'!H8<>1,"",INDEX('Planning DFCI Sud'!H8,1,1)) | I28: =IF('Planning DFCI Sud'!I8<>1,"",INDEX('Planning DFCI Sud'!I8,1,1)) | ... AD28: =IF('Planning DFCI Sud'!AD8<>1,"",INDEX('Planning DFCI Sud'!AD8,1,1)) | AE28: =SUM(B28:AD28) -> 0
A29: ='Planning DFCI Sud'!A9 -> V | B29: =IF('Planning DFCI Sud'!B9<>1,"",INDEX('Planning DFCI Sud'!B9,1,1)) | C29: =IF('Planning DFCI Sud'!C9<>1,"",INDEX('Planning DFCI Sud'!C9,1,1)) | D29: =IF('Planning DFCI Sud'!D9<>1,"",INDEX('Planning DFCI Sud'!D9,1,1)) | E29: =IF('Planning DFCI Sud'!E9<>1,"",INDEX('Planning DFCI Sud'!E9,1,1)) | F29: =IF('Planning DFCI Sud'!F9<>1,"",INDEX('Planning DFCI Sud'!F9,1,1)) | G29: =IF('Planning DFCI Sud'!G9<>1,"",INDEX('Planning DFCI Sud'!G9,1,1)) | H29: =IF('Planning DFCI Sud'!H9<>1,"",INDEX('Planning DFCI Sud'!H9,1,1)) | I29: =IF('Planning DFCI Sud'!I9<>1,"",INDEX('Planning DFCI Sud'!I9,1,1)) | ... AD29: =IF('Planning DFCI Sud'!AD9<>1,"",INDEX('Planning DFCI Sud'!AD9,1,1)) | AE29: =SUM(B29:AD29) -> 1
A30: ='Planning DFCI Sud'!A10 -> W | B30: =IF('Planning DFCI Sud'!B10<>1,"",INDEX('Planning DFCI Sud'!B10,1,1)) | C30: =IF('Planning DFCI Sud'!C10<>1,"",INDEX('Planning DFCI Sud'!C10,1,1)) | D30: =IF('Planning DFCI Sud'!D10<>1,"",INDEX('Planning DFCI Sud'!D10,1,1)) | E30: =IF('Planning DFCI Sud'!E10<>1,"",INDEX('Planning DFCI Sud'!E10,1,1)) | F30: =IF('Planning DFCI Sud'!F10<>1,"",INDEX('Planning DFCI Sud'!F10,1,1)) | G30: =IF('Planning DFCI Sud'!G10<>1,"",INDEX('Planning DFCI Sud'!G10,1,1)) | H30: =IF('Planning DFCI Sud'!H10<>1,"",INDEX('Planning DFCI Sud'!H10,1,1)) | I30: =IF('Planning DFCI Sud'!I10<>1,"",INDEX('Planning DFCI Sud'!I10,1,1)) | ... AD30: =IF('Planning DFCI Sud'!AD10<>1,"",INDEX('Planning DFCI Sud'!AD10,1,1)) | AE30: =SUM(B30:AD30) -> 0
A31: ='Planning DFCI Sud'!A11 -> X | B31: =IF('Planning DFCI Sud'!B11<>1,"",INDEX('Planning DFCI Sud'!B11,1,1)) | C31: =IF('Planning DFCI Sud'!C11<>1,"",INDEX('Planning DFCI Sud'!C11,1,1)) | D31: =IF('Planning DFCI Sud'!D11<>1,"",INDEX('Planning DFCI Sud'!D11,1,1)) | E31: =IF('Planning DFCI Sud'!E11<>1,"",INDEX('Planning DFCI Sud'!E11,1,1)) | F31: =IF('Planning DFCI Sud'!F11<>1,"",INDEX('Planning DFCI Sud'!F11,1,1)) | G31: =IF('Planning DFCI Sud'!G11<>1,"",INDEX('Planning DFCI Sud'!G11,1,1)) | H31: =IF('Planning DFCI Sud'!H11<>1,"",INDEX('Planning DFCI Sud'!H11,1,1)) | I31: =IF('Planning DFCI Sud'!I11<>1,"",INDEX('Planning DFCI Sud'!I11,1,1)) | ... AD31: =IF('Planning DFCI Sud'!AD11<>1,"",INDEX('Planning DFCI Sud'!AD11,1,1)) | AE31: =SUM(B31:AD31) -> 0
A32: ='Planning DFCI Sud'!A12 -> Y | B32: =IF('Planning DFCI Sud'!B12<>1,"",INDEX('Planning DFCI Sud'!B12,1,1)) | C32: =IF('Planning DFCI Sud'!C12<>1,"",INDEX('Planning DFCI Sud'!C12,1,1)) | D32: =IF('Planning DFCI Sud'!D12<>1,"",INDEX('Planning DFCI Sud'!D12,1,1)) | E32: =IF('Planning DFCI Sud'!E12<>1,"",INDEX('Planning DFCI Sud'!E12,1,1)) | F32: =IF('Planning DFCI Sud'!F12<>1,"",INDEX('Planning DFCI Sud'!F12,1,1)) | G32: =IF('Planning DFCI Sud'!G12<>1,"",INDEX('Planning DFCI Sud'!G12,1,1)) | H32: =IF('Planning DFCI Sud'!H12<>1,"",INDEX('Planning DFCI Sud'!H12,1,1)) | I32: =IF('Planning DFCI Sud'!I12<>1,"",INDEX('Planning DFCI Sud'!I12,1,1)) | ... AD32: =IF('Planning DFCI Sud'!AD12<>1,"",INDEX('Planning DFCI Sud'!AD12,1,1)) | AE32: =SUM(B32:AD32) -> 1
A33: ='Planning DFCI Sud'!A13 -> Z | B33: =IF('Planning DFCI Sud'!B13<>1,"",INDEX('Planning DFCI Sud'!B13,1,1)) | C33: =IF('Planning DFCI Sud'!C13<>1,"",INDEX('Planning DFCI Sud'!C13,1,1)) | D33: =IF('Planning DFCI Sud'!D13<>1,"",INDEX('Planning DFCI Sud'!D13,1,1)) | E33: =IF('Planning DFCI Sud'!E13<>1,"",INDEX('Planning DFCI Sud'!E13,1,1)) | F33: =IF('Planning DFCI Sud'!F13<>1,"",INDEX('Planning DFCI Sud'!F13,1,1)) | G33: =IF('Planning DFCI Sud'!G13<>1,"",INDEX('Planning DFCI Sud'!G13,1,1)) | H33: =IF('Planning DFCI Sud'!H13<>1,"",INDEX('Planning DFCI Sud'!H13,1,1)) | I33: =IF('Planning DFCI Sud'!I13<>1,"",INDEX('Planning DFCI Sud'!I13,1,1)) | ... AD33: =IF('Planning DFCI Sud'!AD13<>1,"",INDEX('Planning DFCI Sud'!AD13,1,1)) | AE33: =SUM(B33:AD33) -> 0
A34: ='Planning DFCI Sud'!A14 -> AA | B34: =IF('Planning DFCI Sud'!B14<>1,"",INDEX('Planning DFCI Sud'!B14,1,1)) | C34: =IF('Planning DFCI Sud'!C14<>1,"",INDEX('Planning DFCI Sud'!C14,1,1)) | D34: =IF('Planning DFCI Sud'!D14<>1,"",INDEX('Planning DFCI Sud'!D14,1,1)) | E34: =IF('Planning DFCI Sud'!E14<>1,"",INDEX('Planning DFCI Sud'!E14,1,1)) | F34: =IF('Planning DFCI Sud'!F14<>1,"",INDEX('Planning DFCI Sud'!F14,1,1)) | G34: =IF('Planning DFCI Sud'!G14<>1,"",INDEX('Planning DFCI Sud'!G14,1,1)) | H34: =IF('Planning DFCI Sud'!H14<>1,"",INDEX('Planning DFCI Sud'!H14,1,1)) | I34: =IF('Planning DFCI Sud'!I14<>1,"",INDEX('Planning DFCI Sud'!I14,1,1)) | ... AD34: =IF('Planning DFCI Sud'!AD14<>1,"",INDEX('Planning DFCI Sud'!AD14,1,1)) | AE34: =SUM(B34:AD34) -> 0
A35: ='Planning DFCI Sud'!A15 -> AB | B35: =IF('Planning DFCI Sud'!B15<>1,"",INDEX('Planning DFCI Sud'!B15,1,1)) | C35: =IF('Planning DFCI Sud'!C15<>1,"",INDEX('Planning DFCI Sud'!C15,1,1)) | D35: =IF('Planning DFCI Sud'!D15<>1,"",INDEX('Planning DFCI Sud'!D15,1,1)) | E35: =IF('Planning DFCI Sud'!E15<>1,"",INDEX('Planning DFCI Sud'!E15,1,1)) | F35: =IF('Planning DFCI Sud'!F15<>1,"",INDEX('Planning DFCI Sud'!F15,1,1)) | G35: =IF('Planning DFCI Sud'!G15<>1,"",INDEX('Planning DFCI Sud'!G15,1,1)) | H35: =IF('Planning DFCI Sud'!H15<>1,"",INDEX('Planning DFCI Sud'!H15,1,1)) | I35: =IF('Planning DFCI Sud'!I15<>1,"",INDEX('Planning DFCI Sud'!I15,1,1)) | ... AD35: =IF('Planning DFCI Sud'!AD15<>1,"",INDEX('Planning DFCI Sud'!AD15,1,1)) | AE35: =SUM(B35:AD35) -> 0
A36: ='Planning DFCI Sud'!A16 -> AC | B36: =IF('Planning DFCI Sud'!B16<>1,"",INDEX('Planning DFCI Sud'!B16,1,1)) | C36: =IF('Planning DFCI Sud'!C16<>1,"",INDEX('Planning DFCI Sud'!C16,1,1)) | D36: =IF('Planning DFCI Sud'!D16<>1,"",INDEX('Planning DFCI Sud'!D16,1,1)) | E36: =IF('Planning DFCI Sud'!E16<>1,"",INDEX('Planning DFCI Sud'!E16,1,1)) | F36: =IF('Planning DFCI Sud'!F16<>1,"",INDEX('Planning DFCI Sud'!F16,1,1)) | G36: =IF('Planning DFCI Sud'!G16<>1,"",INDEX('Planning DFCI Sud'!G16,1,1)) | H36: =IF('Planning DFCI Sud'!H16<>1,"",INDEX('Planning DFCI Sud'!H16,1,1)) | I36: =IF('Planning DFCI Sud'!I16<>1,"",INDEX('Planning DFCI Sud'!I16,1,1)) | ... AD36: =IF('Planning DFCI Sud'!AD16<>1,"",INDEX('Planning DFCI Sud'!AD16,1,1)) | AE36: =SUM(B36:AD36) -> 0
A37: ='Planning DFCI Sud'!A17 -> AD | B37: =IF('Planning DFCI Sud'!B17<>1,"",INDEX('Planning DFCI Sud'!B17,1,1)) | C37: =IF('Planning DFCI Sud'!C17<>1,"",INDEX('Planning DFCI Sud'!C17,1,1)) | D37: =IF('Planning DFCI Sud'!D17<>1,"",INDEX('Planning DFCI Sud'!D17,1,1)) | E37: =IF('Planning DFCI Sud'!E17<>1,"",INDEX('Planning DFCI Sud'!E17,1,1)) | F37: =IF('Planning DFCI Sud'!F17<>1,"",INDEX('Planning DFCI Sud'!F17,1,1)) | G37: =IF('Planning DFCI Sud'!G17<>1,"",INDEX('Planning DFCI Sud'!G17,1,1)) | H37: =IF('Planning DFCI Sud'!H17<>1,"",INDEX('Planning DFCI Sud'!H17,1,1)) | I37: =IF('Planning DFCI Sud'!I17<>1,"",INDEX('Planning DFCI Sud'!I17,1,1)) | ... AD37: =IF('Planning DFCI Sud'!AD17<>1,"",INDEX('Planning DFCI Sud'!AD17,1,1)) | AE37: =SUM(B37:AD37) -> 0
A38: ='Planning DFCI Sud'!A18 -> AE | B38: =IF('Planning DFCI Sud'!B18<>1,"",INDEX('Planning DFCI Sud'!B18,1,1)) | C38: =IF('Planning DFCI Sud'!C18<>1,"",INDEX('Planning DFCI Sud'!C18,1,1)) | D38: =IF('Planning DFCI Sud'!D18<>1,"",INDEX('Planning DFCI Sud'!D18,1,1)) | E38: =IF('Planning DFCI Sud'!E18<>1,"",INDEX('Planning DFCI Sud'!E18,1,1)) | F38: =IF('Planning DFCI Sud'!F18<>1,"",INDEX('Planning DFCI Sud'!F18,1,1)) | G38: =IF('Planning DFCI Sud'!G18<>1,"",INDEX('Planning DFCI Sud'!G18,1,1)) | H38: =IF('Planning DFCI Sud'!H18<>1,"",INDEX('Planning DFCI Sud'!H18,1,1)) | I38: =IF('Planning DFCI Sud'!I18<>1,"",INDEX('Planning DFCI Sud'!I18,1,1)) | ... AD38: =IF('Planning DFCI Sud'!AD18<>1,"",INDEX('Planning DFCI Sud'!AD18,1,1)) | AE38: =SUM(B38:AD38) -> 0

Sheet Planning DFCI OUEST
A1: Planning des astreintes DFCI de l'UT OUEST Saison FDF 2015
B4: Septembre | F4: Octobre | O4: Novembre | Y4: Décembre
A5: UT OUEST | B5: 42266 | C5: 42267 | D5: 42273 | E5: 42274 | F5: 42280 | G5: 42281 | H5: 42287 | I5: 42288 | J5: 42294 | K5: 42295 | L5: 42301 | M5: 42302 | N5: 42308 | O5: 42309 | P5: 42315 | Q5: 42316 | R5: 42319 | S5: 42322 | T5: 42323 | U5: 42329 | V5: 42330 | W5: 42336 | X5: 42337 | Y5: 42343 | Z5: 42344 | AA5: 42350 | AB5: 42351 | AC5: 42357 | AD5: 42358 | AE5: Total | AF5: Total réel
A6: A | B6: 1 | AE6: =SUM(B6:AD6) -> 1
A7: B | C7: 1 | AE7: =SUM(B7:AD7) -> 1
A8: C | B8: 1 | AE8: =SUM(B8:AD8) -> 1
A9: D | C9: 1 | AE9: =SUM(B9:AD9) -> 1
A10: E | AE10: =SUM(B10:AD10) -> 0
A11: F | AE11: =SUM(B11:AD11) -> 0
A12: Total | B12: =SUBTOTAL(109,'Planning DFCI OUEST'!$B$6:$B$11) -> 2 | C12: =SUBTOTAL(109,'Planning DFCI OUEST'!$C$6:$C$11) -> 2 | D12: =SUBTOTAL(109,'Planning DFCI OUEST'!$D$6:$D$11) -> 0 | E12: =SUBTOTAL(109,'Planning DFCI OUEST'!$E$6:$E$11) -> 0 | F12: =SUBTOTAL(109,'Planning DFCI OUEST'!$F$6:$F$11) -> 0 | G12: =SUBTOTAL(109,'Planning DFCI OUEST'!$G$6:$G$11) -> 0 | H12: =SUBTOTAL(109,'Planning DFCI OUEST'!$H$6:$H$11) -> 0 | I12: =SUBTOTAL(109,'Planning DFCI OUEST'!$I$6:$I$11) -> 0 | J12: =SUBTOTAL(109,'Planning DFCI OUEST'!$J$6:$J$11) -> 0 | K12: =SUBTOTAL(109,'Planning DFCI OUEST'!$K$6:$K$11) -> 0 | L12: =SUBTOTAL(109,'Planning DFCI OUEST'!$L$6:$L$11) -> 0 | M12: =SUBTOTAL(109,'Planning DFCI OUEST'!$M$6:$M$11) -> 0 | N12: =SUBTOTAL(109,'Planning DFCI OUEST'!$N$6:$N$11) -> 0 | O12: =SUBTOTAL(109,'Planning DFCI OUEST'!$O$6:$O$11) -> 0 | P12: =SUBTOTAL(109,'Planning DFCI OUEST'!$P$6:$P$11) -> 0 | Q12: =SUBTOTAL(109,'Planning DFCI OUEST'!$Q$6:$Q$11) -> 0 | R12: =SUBTOTAL(109,'Planning DFCI OUEST'!$R$6:$R$11) -> 0 | S12: =SUBTOTAL(109,'Planning DFCI OUEST'!$S$6:$S$11) -> 0 | T12: =SUBTOTAL(109,'Planning DFCI OUEST'!$T$6:$T$11) -> 0 | U12: =SUBTOTAL(109,'Planning DFCI OUEST'!$U$6:$U$11) -> 0 | V12: =SUBTOTAL(109,'Planning DFCI OUEST'!$V$6:$V$11) -> 0 | W12: =SUBTOTAL(109,'Planning DFCI OUEST'!$W$6:$W$11) -> 0 | X12: =SUBTOTAL(109,'Planning DFCI OUEST'!$X$6:$X$11) -> 0 | Y12: =SUBTOTAL(109,'Planning DFCI OUEST'!$Y$6:$Y$11) -> 0 | Z12: =SUBTOTAL(109,'Planning DFCI OUEST'!$Z$6:$Z$11) -> 0 | AA12: =SUBTOTAL(109,'Planning DFCI OUEST'!$AA$6:$AA$11) -> 0 | AB12: =SUBTOTAL(109,'Planning DFCI OUEST'!$AB$6:$AB$11) -> 0 | AC12: =SUBTOTAL(109,'Planning DFCI OUEST'!$AC$6:$AC$11) -> 0 | AD12: =SUBTOTAL(109,'Planning DFCI OUEST'!$AC$6:$AC$11) -> 0
H14: Jours patrouillés
A20: Date des jours réels patrouillés:

Sheet Planning DFCI Nord
A1: Planning des astreintes DFCI de l'UT Nord Saison FDF 2015
B4: Septembre | F4: Octobre | O4: Novembre | Y4: Décembre | AE4: Total | AF4: Total réel
A5: UT NORD | B5: 42266 | C5: 42267 | D5: 42273 | E5: 42274 | F5: 42280 | G5: 42281 | H5: 42287 | I5: 42288 | J5: 42294 | K5: 42295 | L5: 42301 | M5: 42302 | N5: 42308 | O5: 42309 | P5: 42315 | Q5: 42316 | R5: 42319 | S5: 42322 | T5: 42323 | U5: 42329 | V5: 42330 | W5: 42336 | X5: 42337 | Y5: 42343 | Z5: 42344 | AA5: 42350 | AB5: 42351 | AC5: 42357 | AD5: 42358
A6: G | AE6: =SUM(B6:AD6) -> 0
A7: H | AE7: =SUM(B7:AD7) -> 0
A8: I | AE8: =SUM(B8:AD8) -> 0
A9: J | I9: 1 | AE9: =SUM(B9:AD9) -> 1
A10: K | AE10: =SUM(B10:AD10) -> 0
A11: L | AE11: =SUM(B11:AD11) -> 0
A12: M | I12: 1 | AE12: =SUM(B12:AD12) -> 1
A13: N | AE13: =SUM(B13:AD13) -> 0
A14: 0 | AE14: =SUM(B14:AD14) -> 0
A15: P | AE15: =SUM(B15:AD15) -> 0
A16: Q | AE16: =SUM(B16:AD16) -> 0
A17: R | AE17: =SUM(B17:AD17) -> 0
A18: Total | B18: =SUBTOTAL(109,'Planning DFCI Nord'!$B$6:$B$17) -> 0 | C18: =SUBTOTAL(109,'Planning DFCI Nord'!$C$6:$C$17) -> 0 | D18: =SUBTOTAL(109,'Planning DFCI Nord'!$D$6:$D$17) -> 0 | E18: =SUBTOTAL(109,'Planning DFCI Nord'!$E$6:$E$17) -> 0 | F18: =SUBTOTAL(109,'Planning DFCI Nord'!$F$6:$F$17) -> 0 | G18: =SUBTOTAL(109,'Planning DFCI Nord'!$G$6:$G$17) -> 0 | H18: =SUBTOTAL(109,'Planning DFCI Nord'!$H$6:$H$17) -> 0 | I18: =SUBTOTAL(109,'Planning DFCI Nord'!$I$6:$I$17) -> 2 | J18: =SUBTOTAL(109,'Planning DFCI Nord'!$J$6:$J$17) -> 0 | K18: =SUBTOTAL(109,'Planning DFCI Nord'!$K$6:$K$17) -> 0 | L18: =SUBTOTAL(109,'Planning DFCI Nord'!$L$6:$L$17) -> 0 | M18: =SUBTOTAL(109,'Planning DFCI Nord'!$M$6:$M$17) -> 0 | N18: =SUBTOTAL(109,'Planning DFCI Nord'!$N$6:$N$17) -> 0 | O18: =SUBTOTAL(109,'Planning DFCI Nord'!$O$6:$O$17) -> 0 | P18: =SUBTOTAL(109,'Planning DFCI Nord'!$P$6:$P$17) -> 0 | Q18: =SUBTOTAL(109,'Planning DFCI Nord'!$Q$6:$Q$17) -> 0 | R18: =SUBTOTAL(109,'Planning DFCI Nord'!$R$6:$R$17) -> 0 | S18: =SUBTOTAL(109,'Planning DFCI Nord'!$S$6:$S$17) -> 0 | T18: =SUBTOTAL(109,'Planning DFCI Nord'!$T$6:$T$17) -> 0 | U18: =SUBTOTAL(109,'Planning DFCI Nord'!$U$6:$U$17) -> 0 | V18: =SUBTOTAL(109,'Planning DFCI Nord'!$V$6:$V$17) -> 0 | W18: =SUBTOTAL(109,'Planning DFCI Nord'!$W$6:$W$17) -> 0 | X18: =SUBTOTAL(109,'Planning DFCI Nord'!$X$6:$X$17) -> 0 | Y18: =SUBTOTAL(109,'Planning DFCI Nord'!$Y$6:$Y$17) -> 0 | Z18: =SUBTOTAL(109,'Planning DFCI Nord'!$Z$6:$Z$17) -> 0 | AA18: =SUBTOTAL(109,'Planning DFCI Nord'!$AA$6:$AA$17) -> 0 | AB18: =SUBTOTAL(109,'Planning DFCI Nord'!$AB$6:$AB$17) -> 0 | AC18: =SUBTOTAL(109,'Planning DFCI Nord'!$AC$6:$AC$17) -> 0 | AD18: =SUM('Planning DFCI Nord'!$B$18:$AC$18) -> 2
H20: Jours patrouillés | M20: Ouvriers
A24: Date des jours réels patrouillés:

Sheet Planning DFCI Sud
A1: Planning des astreintes DFCI de l'UT Sud Saison FDF 2015
B4: Septembre | F4: Octobre | O4: Novembre | Y4: Décembre
A5: UT SUD | B5: 42266 | C5: 42267 | D5: 42273 | E5: 42274 | F5: 42280 | G5: 42281 | H5: 42287 | I5: 42288 | J5: 42294 | K5: 42295 | L5: 42301 | M5: 42302 | N5: 42308 | O5: 42309 | P5: 42315 | Q5: 42316 | R5: 42319 | S5: 42322 | T5: 42323 | U5: 42329 | V5: 42330 | W5: 42336 | X5: 42337 | Y5: 42343 | Z5: 42344 | AA5: 42350 | AB5: 42351 | AC5: 42357 | AD5: 42358 | AE5: Total | AF5: Total réel
A6: S
A7: T
A8: U
A9: V | K9: 1
A10: W
A11: X
A12: Y | K12: 1
A13: Z
A14: AA
A15: AB
A16: AC
A17: AD
A18: AE
A19: Total | B19: =SUBTOTAL(109,'Planning DFCI Sud'!$B$6:$B$18) -> 0 | C19: =SUBTOTAL(109,'Planning DFCI Sud'!$C$6:$C$18) -> 0 | D19: =SUBTOTAL(109,'Planning DFCI Sud'!$D$6:$D$18) -> 0 | E19: =SUBTOTAL(109,'Planning DFCI Sud'!$E$6:$E$18) -> 0 | F19: =SUBTOTAL(109,'Planning DFCI Sud'!$F$6:$F$18) -> 0 | G19: =SUBTOTAL(109,'Planning DFCI Sud'!$G$6:$G$18) -> 0 | H19: =SUBTOTAL(109,'Planning DFCI Sud'!$H$6:$H$18) -> 0 | I19: =SUBTOTAL(109,'Planning DFCI Sud'!$I$6:$I$18) -> 0 | J19: =SUBTOTAL(109,'Planning DFCI Sud'!$J$6:$J$18) -> 0 | K19: =SUBTOTAL(109,'Planning DFCI Sud'!$K$6:$K$18) -> 2 | L19: =SUBTOTAL(109,'Planning DFCI Sud'!$L$6:$L$18) -> 0 | M19: =SUBTOTAL(109,'Planning DFCI Sud'!$M$6:$M$18) -> 0 | N19: =SUBTOTAL(109,'Planning DFCI Sud'!$N$6:$N$18) -> 0 | O19: =SUBTOTAL(109,'Planning DFCI Sud'!$O$6:$O$18) -> 0 | P19: =SUBTOTAL(109,'Planning DFCI Sud'!$P$6:$P$18) -> 0 | Q19: =SUBTOTAL(109,'Planning DFCI Sud'!$Q$6:$Q$18) -> 0 | R19: =SUBTOTAL(109,'Planning DFCI Sud'!$R$6:$R$18) -> 0 | S19: =SUBTOTAL(109,'Planning DFCI Sud'!$S$6:$S$18) -> 0 | T19: =SUBTOTAL(109,'Planning DFCI Sud'!$T$6:$T$18) -> 0 | U19: =SUBTOTAL(109,'Planning DFCI Sud'!$U$6:$U$18) -> 0 | V19: =SUBTOTAL(109,'Planning DFCI Sud'!$V$6:$V$18) -> 0 | W19: =SUBTOTAL(109,'Planning DFCI Sud'!$W$6:$W$18) -> 0 | X19: =SUBTOTAL(109,'Planning DFCI Sud'!$X$6:$X$18) -> 0 | Y19: =SUBTOTAL(109,'Planning DFCI Sud'!$Y$6:$Y$18) -> 0 | Z19: =SUBTOTAL(109,'Planning DFCI Sud'!$Z$6:$Z$18) -> 0 | AA19: =SUBTOTAL(109,'Planning DFCI Sud'!$AA$6:$AA$18) -> 0 | AB19: =SUBTOTAL(109,'Planning DFCI Sud'!$AB$6:$AB$18) -> 0 | AC19: =SUBTOTAL(109,'Planning DFCI Sud'!$AC$6:$AC$18) -> 0 | AD19: =SUM('Planning DFCI Sud'!$B$19:$AC$19) -> 2
F21: Jours patrouillés | I21: Ouvriers
A26: Date des jours réels patrouillés:

Sheet Planning R OUEST
C2: Agent | D2: Agent
A3: Septembre | B3: 42266 | C3: =INDEX('Planning DFCI OUEST'!$A$6:$A$11,MATCH(1,OFFSET('Planning DFCI OUEST'!$A$6:$A$11,0,MATCH(B3,'Planning DFCI OUEST'!$B5:$AD$5,0)),0),0) -> A | D3: {=INDEX('Planning DFCI OUEST'!$A$6:$A$11,MAX((OFFSET('Planning DFCI OUEST'!$A$5:$A$11,0,MATCH(B3,'Planning DFCI OUEST'!$B$5:$AD$5,0))=1)*ROW(OFFSET('Planning DFCI OUEST'!$A$5:$A$11,0,MATCH(B3,'Planning DFCI OUEST'!$B$5:$AD$5,0))))-5)} -> C
B4: 42267 | C4: =INDEX('Planning DFCI OUEST'!$A$6:$A$11,MATCH(1,OFFSET('Planning DFCI OUEST'!$A$6:$A$11,0,MATCH(B4,'Planning DFCI OUEST'!$B$5:$AD$5,0)),0),0) -> B | D4: {=INDEX('Planning DFCI OUEST'!$A$6:$A$11,MAX((OFFSET('Planning DFCI OUEST'!$A$5:$A$11,0,MATCH(B4,'Planning DFCI OUEST'!$B$5:$AD$5,0))=1)*ROW(OFFSET('Planning DFCI OUEST'!$A$5:$A$11,0,MATCH(B4,'Planning DFCI OUEST'!$B$5:$AD$5,0))))-5)} -> D
B5: 42273 | C5: =INDEX('Planning DFCI OUEST'!$A$6:$A$11,MATCH(1,OFFSET('Planning DFCI OUEST'!$A$6:$A$11,0,MATCH(B5,'Planning DFCI OUEST'!$B$5:$AD$5,0)),0),0) -> #N/A | D5: {=INDEX('Planning DFCI OUEST'!$A$6:$A$11,MAX((OFFSET('Planning DFCI OUEST'!$A$5:$A$11,0,MATCH(B5,'Planning DFCI OUEST'!$B$5:$AD$5,0))=1)*ROW(OFFSET('Planning DFCI OUEST'!$A$5:$A$11,0,MATCH(B5,'Planning DFCI OUEST'!$B$5:$AD$5,0))))-5)} -> #VALUE!
B6: 42274 | C6: =INDEX('Planning DFCI OUEST'!$A$6:$A$11,MATCH(1,OFFSET('Planning DFCI OUEST'!$A$6:$A$11,0,MATCH(B6,'Planning DFCI OUEST'!$B$5:$AD$5,0)),0),0) -> #N/A | D6: {=INDEX('Planning DFCI OUEST'!$A$6:$A$11,MAX((OFFSET('Planning DFCI OUEST'!$A$5:$A$11,0,MATCH(B6,'Planning DFCI OUEST'!$B$5:$AD$5,0))=1)*ROW(OFFSET('Planning DFCI OUEST'!$A$5:$A$11,0,MATCH(B6,'Planning DFCI OUEST'!$B$5:$AD$5,0))))-5)} -> #VALUE!
A7: Octobre | B7: 42280 | C7: =INDEX('Planning DFCI OUEST'!$A$6:$A$11,MATCH(1,OFFSET('Planning DFCI OUEST'!$A$6:$A$11,0,MATCH(B7,'Planning DFCI OUEST'!$B$5:$AD$5,0)),0),0) -> #N/A | D7: {=INDEX('Planning DFCI OUEST'!$A$6:$A$11,MAX((OFFSET('Planning DFCI OUEST'!$A$5:$A$11,0,MATCH(B7,'Planning DFCI OUEST'!$B$5:$AD$5,0))=1)*ROW(OFFSET('Planning DFCI OUEST'!$A$5:$A$11,0,MATCH(B7,'Planning DFCI OUEST'!$B$5:$AD$5,0))))-5)} -> #VALUE!
B8: 42281 | C8: =INDEX('Planning DFCI OUEST'!$A$6:$A$11,MATCH(1,OFFSET('Planning DFCI OUEST'!$A$6:$A$11,0,MATCH(B8,'Planning DFCI OUEST'!$B$5:$AD$5,0)),0),0) -> #N/A | D8: {=INDEX('Planning DFCI OUEST'!$A$6:$A$11,MAX((OFFSET('Planning DFCI OUEST'!$A$5:$A$11,0,MATCH(B8,'Planning DFCI OUEST'!$B$5:$AD$5,0))=1)*ROW(OFFSET('Planning DFCI OUEST'!$A$5:$A$11,0,MATCH(B8,'Planning DFCI OUEST'!$B$5:$AD$5,0))))-5)} -> #VALUE!
B9: 42287 | C9: =INDEX('Planning DFCI OUEST'!$A$6:$A$11,MATCH(1,OFFSET('Planning DFCI OUEST'!$A$6:$A$11,0,MATCH(B9,'Planning DFCI OUEST'!$B$5:$AD$5,0)),0),0) -> #N/A | D9: {=INDEX('Planning DFCI OUEST'!$A$6:$A$11,MAX((OFFSET('Planning DFCI OUEST'!$A$5:$A$11,0,MATCH(B9,'Planning DFCI OUEST'!$B$5:$AD$5,0))=1)*ROW(OFFSET('Planning DFCI OUEST'!$A$5:$A$11,0,MATCH(B9,'Planning DFCI OUEST'!$B$5:$AD$5,0))))-5)} -> #VALUE!
B10: 42288 | C10: =INDEX('Planning DFCI OUEST'!$A$6:$A$11,MATCH(1,OFFSET('Planning DFCI OUEST'!$A$6:$A$11,0,MATCH(B10,'Planning DFCI OUEST'!$B$5:$AD$5,0)),0),0) -> #N/A | D10: {=INDEX('Planning DFCI OUEST'!$A$6:$A$11,MAX((OFFSET('Planning DFCI OUEST'!$A$5:$A$11,0,MATCH(B10,'Planning DFCI OUEST'!$B$5:$AD$5,0))=1)*ROW(OFFSET('Planning DFCI OUEST'!$A$5:$A$11,0,MATCH(B10,'Planning DFCI OUEST'!$B$5:$AD$5,0))))-5)} -> #VALUE!
B11: 42294 | C11: =INDEX('Planning DFCI OUEST'!$A$6:$A$11,MATCH(1,OFFSET('Planning DFCI OUEST'!$A$6:$A$11,0,MATCH(B11,'Planning DFCI OUEST'!$B$5:$AD$5,0)),0),0) -> #N/A | D11: {=INDEX('Planning DFCI OUEST'!$A$6:$A$11,MAX((OFFSET('Planning DFCI OUEST'!$A$5:$A$11,0,MATCH(B11,'Planning DFCI OUEST'!$B$5:$AD$5,0))=1)*ROW(OFFSET('Planning DFCI OUEST'!$A$5:$A$11,0,MATCH(B11,'Planning DFCI OUEST'!$B$5:$AD$5,0))))-5)} -> #VALUE!
B12: 42295 | C12: =INDEX('Planning DFCI OUEST'!$A$6:$A$11,MATCH(1,OFFSET('Planning DFCI OUEST'!$A$6:$A$11,0,MATCH(B12,'Planning DFCI OUEST'!$B$5:$AD$5,0)),0),0) -> #N/A | D12: {=INDEX('Planning DFCI OUEST'!$A$6:$A$11,MAX((OFFSET('Planning DFCI OUEST'!$A$5:$A$11,0,MATCH(B12,'Planning DFCI OUEST'!$B$5:$AD$5,0))=1)*ROW(OFFSET('Planning DFCI OUEST'!$A$5:$A$11,0,MATCH(B12,'Planning DFCI OUEST'!$B$5:$AD$5,0))))-5)} -> #VALUE!
B13: 42301 | C13: =INDEX('Planning DFCI OUEST'!$A$6:$A$11,MATCH(1,OFFSET('Planning DFCI OUEST'!$A$6:$A$11,0,MATCH(B13,'Planning DFCI OUEST'!$B$5:$AD$5,0)),0),0) -> #N/A | D13: {=INDEX('Planning DFCI OUEST'!$A$6:$A$11,MAX((OFFSET('Planning DFCI OUEST'!$A$5:$A$11,0,MATCH(B13,'Planning DFCI OUEST'!$B$5:$AD$5,0))=1)*ROW(OFFSET('Planning DFCI OUEST'!$A$5:$A$11,0,MATCH(B13,'Planning DFCI OUEST'!$B$5:$AD$5,0))))-5)} -> #VALUE!
B14: 42302 | C14: =INDEX('Planning DFCI OUEST'!$A$6:$A$11,MATCH(1,OFFSET('Planning DFCI OUEST'!$A$6:$A$11,0,MATCH(B14,'Planning DFCI OUEST'!$B$5:$AD$5,0)),0),0) -> #N/A | D14: {=INDEX('Planning DFCI OUEST'!$A$6:$A$11,MAX((OFFSET('Planning DFCI OUEST'!$A$5:$A$11,0,MATCH(B14,'Planning DFCI OUEST'!$B$5:$AD$5,0))=1)*ROW(OFFSET('Planning DFCI OUEST'!$A$5:$A$11,0,MATCH(B14,'Planning DFCI OUEST'!$B$5:$AD$5,0))))-5)} -> #VALUE!
B15: 42308 | C15: =INDEX('Planning DFCI OUEST'!$A$6:$A$11,MATCH(1,OFFSET('Planning DFCI OUEST'!$A$6:$A$11,0,MATCH(B15,'Planning DFCI OUEST'!$B$5:$AD$5,0)),0),0) -> #N/A | D15: {=INDEX('Planning DFCI OUEST'!$A$6:$A$11,MAX((OFFSET('Planning DFCI OUEST'!$A$5:$A$11,0,MATCH(B15,'Planning DFCI OUEST'!$B$5:$AD$5,0))=1)*ROW(OFFSET('Planning DFCI OUEST'!$A$5:$A$11,0,MATCH(B15,'Planning DFCI OUEST'!$B$5:$AD$5,0))))-5)} -> #VALUE!
A16: Novembre | B16: 42309 | C16: =INDEX('Planning DFCI OUEST'!$A$6:$A$11,MATCH(1,OFFSET('Planning DFCI OUEST'!$A$6:$A$11,0,MATCH(B16,'Planning DFCI OUEST'!$B$5:$AD$5,0)),0),0) -> #N/A | D16: {=INDEX('Planning DFCI OUEST'!$A$6:$A$11,MAX((OFFSET('Planning DFCI OUEST'!$A$5:$A$11,0,MATCH(B16,'Planning DFCI OUEST'!$B$5:$AD$5,0))=1)*ROW(OFFSET('Planning DFCI OUEST'!$A$5:$A$11,0,MATCH(B16,'Planning DFCI OUEST'!$B$5:$AD$5,0))))-5)} -> #VALUE!
B17: 42315 | C17: =INDEX('Planning DFCI OUEST'!$A$6:$A$11,MATCH(1,OFFSET('Planning DFCI OUEST'!$A$6:$A$11,0,MATCH(B17,'Planning DFCI OUEST'!$B$5:$AD$5,0)),0),0) -> #N/A | D17: {=INDEX('Planning DFCI OUEST'!$A$6:$A$11,MAX((OFFSET('Planning DFCI OUEST'!$A$5:$A$11,0,MATCH(B17,'Planning DFCI OUEST'!$B$5:$AD$5,0))=1)*ROW(OFFSET('Planning DFCI OUEST'!$A$5:$A$11,0,MATCH(B17,'Planning DFCI OUEST'!$B$5:$AD$5,0))))-5)} -> #VALUE!
B18: 42316 | C18: =INDEX('Planning DFCI OUEST'!$A$6:$A$11,MATCH(1,OFFSET('Planning DFCI OUEST'!$A$6:$A$11,0,MATCH(B18,'Planning DFCI OUEST'!$B$5:$AD$5,0)),0),0) -> #N/A | D18: {=INDEX('Planning DFCI OUEST'!$A$6:$A$11,MAX((OFFSET('Planning DFCI OUEST'!$A$5:$A$11,0,MATCH(B18,'Planning DFCI OUEST'!$B$5:$AD$5,0))=1)*ROW(OFFSET('Planning DFCI OUEST'!$A$5:$A$11,0,MATCH(B18,'Planning DFCI OUEST'!$B$5:$AD$5,0))))-5)} -> #VALUE!
B19: 42319 | C19: =INDEX('Planning DFCI OUEST'!$A$6:$A$11,MATCH(1,OFFSET('Planning DFCI OUEST'!$A$6:$A$11,0,MATCH(B19,'Planning DFCI OUEST'!$B$5:$AD$5,0)),0),0) -> #N/A | D19: {=INDEX('Planning DFCI OUEST'!$A$6:$A$11,MAX((OFFSET('Planning DFCI OUEST'!$A$5:$A$11,0,MATCH(B19,'Planning DFCI OUEST'!$B$5:$AD$5,0))=1)*ROW(OFFSET('Planning DFCI OUEST'!$A$5:$A$11,0,MATCH(B19,'Planning DFCI OUEST'!$B$5:$AD$5,0))))-5)} -> #VALUE!
B20: 42322 | C20: =INDEX('Planning DFCI OUEST'!$A$6:$A$11,MATCH(1,OFFSET('Planning DFCI OUEST'!$A$6:$A$11,0,MATCH(B20,'Planning DFCI OUEST'!$B$5:$AD$5,0)),0),0) -> #N/A | D20: {=INDEX('Planning DFCI OUEST'!$A$6:$A$11,MAX((OFFSET('Planning DFCI OUEST'!$A$5:$A$11,0,MATCH(B20,'Planning DFCI OUEST'!$B$5:$AD$5,0))=1)*ROW(OFFSET('Planning DFCI OUEST'!$A$5:$A$11,0,MATCH(B20,'Planning DFCI OUEST'!$B$5:$AD$5,0))))-5)} -> #VALUE!
B21: 42323 | C21: =INDEX('Planning DFCI OUEST'!$A$6:$A$11,MATCH(1,OFFSET('Planning DFCI OUEST'!$A$6:$A$11,0,MATCH(B21,'Planning DFCI OUEST'!$B$5:$AD$5,0)),0),0) -> #N/A | D21: {=INDEX('Planning DFCI OUEST'!$A$6:$A$11,MAX((OFFSET('Planning DFCI OUEST'!$A$5:$A$11,0,MATCH(B21,'Planning DFCI OUEST'!$B$5:$AD$5,0))=1)*ROW(OFFSET('Planning DFCI OUEST'!$A$5:$A$11,0,MATCH(B21,'Planning DFCI OUEST'!$B$5:$AD$5,0))))-5)} -> #VALUE!
B22: 42329 | C22: =INDEX('Planning DFCI OUEST'!$A$6:$A$11,MATCH(1,OFFSET('Planning DFCI OUEST'!$A$6:$A$11,0,MATCH(B22,'Planning DFCI OUEST'!$B$5:$AD$5,0)),0),0) -> #N/A | D22: {=INDEX('Planning DFCI OUEST'!$A$6:$A$11,MAX((OFFSET('Planning DFCI OUEST'!$A$5:$A$11,0,MATCH(B22,'Planning DFCI OUEST'!$B$5:$AD$5,0))=1)*ROW(OFFSET('Planning DFCI OUEST'!$A$5:$A$11,0,MATCH(B22,'Planning DFCI OUEST'!$B$5:$AD$5,0))))-5)} -> #VALUE!
B23: 42330 | C23: =INDEX('Planning DFCI OUEST'!$A$6:$A$11,MATCH(1,OFFSET('Planning DFCI OUEST'!$A$6:$A$11,0,MATCH(B23,'Planning DFCI OUEST'!$B$5:$AD$5,0)),0),0) -> #N/A | D23: {=INDEX('Planning DFCI OUEST'!$A$6:$A$11,MAX((OFFSET('Planning DFCI OUEST'!$A$5:$A$11,0,MATCH(B23,'Planning DFCI OUEST'!$B$5:$AD$5,0))=1)*ROW(OFFSET('Planning DFCI OUEST'!$A$5:$A$11,0,MATCH(B23,'Planning DFCI OUEST'!$B$5:$AD$5,0))))-5)} -> #VALUE!
B24: 42336 | C24: =INDEX('Planning DFCI OUEST'!$A$6:$A$11,MATCH(1,OFFSET('Planning DFCI OUEST'!$A$6:$A$11,0,MATCH(B24,'Planning DFCI OUEST'!$B$5:$AD$5,0)),0),0) -> #N/A | D24: {=INDEX('Planning DFCI OUEST'!$A$6:$A$11,MAX((OFFSET('Planning DFCI OUEST'!$A$5:$A$11,0,MATCH(B24,'Planning DFCI OUEST'!$B$5:$AD$5,0))=1)*ROW(OFFSET('Planning DFCI OUEST'!$A$5:$A$11,0,MATCH(B24,'Planning DFCI OUEST'!$B$5:$AD$5,0))))-5)} -> #VALUE!
B25: 42337 | C25: =INDEX('Planning DFCI OUEST'!$A$6:$A$11,MATCH(1,OFFSET('Planning DFCI OUEST'!$A$6:$A$11,0,MATCH(B25,'Planning DFCI OUEST'!$B$5:$AD$5,0)),0),0) -> #N/A | D25: {=INDEX('Planning DFCI OUEST'!$A$6:$A$11,MAX((OFFSET('Planning DFCI OUEST'!$A$5:$A$11,0,MATCH(B25,'Planning DFCI OUEST'!$B$5:$AD$5,0))=1)*ROW(OFFSET('Planning DFCI OUEST'!$A$5:$A$11,0,MATCH(B25,'Planning DFCI OUEST'!$B$5:$AD$5,0))))-5)} -> #VALUE!
A26: Décembre | B26: 42343 | C26: =INDEX('Planning DFCI OUEST'!$A$6:$A$11,MATCH(1,OFFSET('Planning DFCI OUEST'!$A$6:$A$11,0,MATCH(B26,'Planning DFCI OUEST'!$B$5:$AD$5,0)),0),0) -> #N/A | D26: {=INDEX('Planning DFCI OUEST'!$A$6:$A$11,MAX((OFFSET('Planning DFCI OUEST'!$A$5:$A$11,0,MATCH(B26,'Planning DFCI OUEST'!$B$5:$AD$5,0))=1)*ROW(OFFSET('Planning DFCI OUEST'!$A$5:$A$11,0,MATCH(B26,'Planning DFCI OUEST'!$B$5:$AD$5,0))))-5)} -> #VALUE!
B27: 42344 | C27: =INDEX('Planning DFCI OUEST'!$A$6:$A$11,MATCH(1,OFFSET('Planning DFCI OUEST'!$A$6:$A$11,0,MATCH(B27,'Planning DFCI OUEST'!$B$5:$AD$5,0)),0),0) -> #N/A | D27: {=INDEX('Planning DFCI OUEST'!$A$6:$A$11,MAX((OFFSET('Planning DFCI OUEST'!$A$5:$A$11,0,MATCH(B27,'Planning DFCI OUEST'!$B$5:$AD$5,0))=1)*ROW(OFFSET('Planning DFCI OUEST'!$A$5:$A$11,0,MATCH(B27,'Planning DFCI OUEST'!$B$5:$AD$5,0))))-5)} -> #VALUE!
B28: 42350 | C28: =INDEX('Planning DFCI OUEST'!$A$6:$A$11,MATCH(1,OFFSET('Planning DFCI OUEST'!$A$6:$A$11,0,MATCH(B28,'Planning DFCI OUEST'!$B$5:$AD$5,0)),0),0) -> #N/A | D28: {=INDEX('Planning DFCI OUEST'!$A$6:$A$11,MAX((OFFSET('Planning DFCI OUEST'!$A$5:$A$11,0,MATCH(B28,'Planning DFCI OUEST'!$B$5:$AD$5,0))=1)*ROW(OFFSET('Planning DFCI OUEST'!$A$5:$A$11,0,MATCH(B28,'Planning DFCI OUEST'!$B$5:$AD$5,0))))-5)} -> #VALUE!
B29: 42351 | C29: =INDEX('Planning DFCI OUEST'!$A$6:$A$11,MATCH(1,OFFSET('Planning DFCI OUEST'!$A$6:$A$11,0,MATCH(B29,'Planning DFCI OUEST'!$B$5:$AD$5,0)),0),0) -> #N/A | D29: {=INDEX('Planning DFCI OUEST'!$A$6:$A$11,MAX((OFFSET('Planning DFCI OUEST'!$A$5:$A$11,0,MATCH(B29,'Planning DFCI OUEST'!$B$5:$AD$5,0))=1)*ROW(OFFSET('Planning DFCI OUEST'!$A$5:$A$11,0,MATCH(B29,'Planning DFCI OUEST'!$B$5:$AD$5,0))))-5)} -> #VALUE!
B30: 42357 | C30: =INDEX('Planning DFCI OUEST'!$A$6:$A$11,MATCH(1,OFFSET('Planning DFCI OUEST'!$A$6:$A$11,0,MATCH(B30,'Planning DFCI OUEST'!$B$5:$AD$5,0)),0),0) -> #N/A | D30: {=INDEX('Planning DFCI OUEST'!$A$6:$A$11,MAX((OFFSET('Planning DFCI OUEST'!$A$5:$A$11,0,MATCH(B30,'Planning DFCI OUEST'!$B$5:$AD$5,0))=1)*ROW(OFFSET('Planning DFCI OUEST'!$A$5:$A$11,0,MATCH(B30,'Planning DFCI OUEST'!$B$5:$AD$5,0))))-5)} -> #VALUE!
B31: 42358 | C31: =INDEX('Planning DFCI OUEST'!$A$6:$A$11,MATCH(1,OFFSET('Planning DFCI OUEST'!$A$6:$A$11,0,MATCH(B31,'Planning DFCI OUEST'!$B$5:$AD$5,0)),0),0) -> #N/A | D31: {=INDEX('Planning DFCI OUEST'!$A$6:$A$11,MAX((OFFSET('Planning DFCI OUEST'!$A$5:$A$11,0,MATCH(B31,'Planning DFCI OUEST'!$B$5:$AD$5,0))=1)*ROW(OFFSET('Planning DFCI OUEST'!$A$5:$A$11,0,MATCH(B31,'Planning DFCI OUEST'!$B$5:$AD$5,0))))-5)} -> #VALUE!

Sheet Planning R Nord
C2: Agent | D2: Agent
A3: Septembre | B3: 42266 | C3: =INDEX('Planning DFCI Nord'!$A$6:$A$17,MATCH(1,OFFSET('Planning DFCI Nord'!$A$6:$A$17,0,MATCH(B3,'Planning DFCI Nord'!$B5:$AD$5,0)),0),0) -> #N/A | D3: {=INDEX('Planning DFCI Nord'!$A$6:$A$17,MAX((OFFSET('Planning DFCI Nord'!$A$6:$A$17,0,MATCH(B3,'Planning DFCI Nord'!$B$5:$AD$5,0))=1)*ROW(OFFSET('Planning DFCI Nord'!$A$6:$A$17,0,MATCH(B3,'Planning DFCI Nord'!$B$5:$AD$5,0))))-5)} -> #VALUE!
B4: 42267 | C4: =INDEX('Planning DFCI Nord'!$A$6:$A$17,MATCH(1,OFFSET('Planning DFCI Nord'!$A$6:$A$17,0,MATCH(B4,'Planning DFCI Nord'!$B$5:$AD$5,0)),0),0) -> #N/A | D4: {=INDEX('Planning DFCI Nord'!$A$6:$A$17,MAX((OFFSET('Planning DFCI Nord'!$A$6:$A$17,0,MATCH(B4,'Planning DFCI Nord'!$B$5:$AD$5,0))=1)*ROW(OFFSET('Planning DFCI Nord'!$A$6:$A$17,0,MATCH(B4,'Planning DFCI Nord'!$B$5:$AD$5,0))))-5)} -> #VALUE!
B5: 42273 | C5: =INDEX('Planning DFCI Nord'!$A$6:$A$17,MATCH(1,OFFSET('Planning DFCI Nord'!$A$6:$A$17,0,MATCH(B5,'Planning DFCI Nord'!$B$5:$AD$5,0)),0),0) -> #N/A | D5: {=INDEX('Planning DFCI Nord'!$A$6:$A$17,MAX((OFFSET('Planning DFCI Nord'!$A$6:$A$17,0,MATCH(B5,'Planning DFCI Nord'!$B$5:$AD$5,0))=1)*ROW(OFFSET('Planning DFCI Nord'!$A$6:$A$17,0,MATCH(B5,'Planning DFCI Nord'!$B$5:$AD$5,0))))-5)} -> #VALUE!
B6: 42274 | C6: =INDEX('Planning DFCI Nord'!$A$6:$A$17,MATCH(1,OFFSET('Planning DFCI Nord'!$A$6:$A$17,0,MATCH(B6,'Planning DFCI Nord'!$B$5:$AD$5,0)),0),0) -> #N/A | D6: {=INDEX('Planning DFCI Nord'!$A$6:$A$17,MAX((OFFSET('Planning DFCI Nord'!$A$6:$A$17,0,MATCH(B6,'Planning DFCI Nord'!$B$5:$AD$5,0))=1)*ROW(OFFSET('Planning DFCI Nord'!$A$6:$A$17,0,MATCH(B6,'Planning DFCI Nord'!$B$5:$AD$5,0))))-5)} -> #VALUE!
A7: Octobre | B7: 42280 | C7: =INDEX('Planning DFCI Nord'!$A$6:$A$17,MATCH(1,OFFSET('Planning DFCI Nord'!$A$6:$A$17,0,MATCH(B7,'Planning DFCI Nord'!$B$5:$AD$5,0)),0),0) -> #N/A | D7: {=INDEX('Planning DFCI Nord'!$A$6:$A$17,MAX((OFFSET('Planning DFCI Nord'!$A$6:$A$17,0,MATCH(B7,'Planning DFCI Nord'!$B$5:$AD$5,0))=1)*ROW(OFFSET('Planning DFCI Nord'!$A$6:$A$17,0,MATCH(B7,'Planning DFCI Nord'!$B$5:$AD$5,0))))-5)} -> #VALUE!
B8: 42281 | C8: =INDEX('Planning DFCI Nord'!$A$6:$A$17,MATCH(1,OFFSET('Planning DFCI Nord'!$A$6:$A$17,0,MATCH(B8,'Planning DFCI Nord'!$B$5:$AD$5,0)),0),0) -> #N/A | D8: {=INDEX('Planning DFCI Nord'!$A$6:$A$17,MAX((OFFSET('Planning DFCI Nord'!$A$6:$A$17,0,MATCH(B8,'Planning DFCI Nord'!$B$5:$AD$5,0))=1)*ROW(OFFSET('Planning DFCI Nord'!$A$6:$A$17,0,MATCH(B8,'Planning DFCI Nord'!$B$5:$AD$5,0))))-5)} -> #VALUE!
B9: 42287 | C9: =INDEX('Planning DFCI Nord'!$A$6:$A$17,MATCH(1,OFFSET('Planning DFCI Nord'!$A$6:$A$17,0,MATCH(B9,'Planning DFCI Nord'!$B$5:$AD$5,0)),0),0) -> #N/A | D9: {=INDEX('Planning DFCI Nord'!$A$6:$A$17,MAX((OFFSET('Planning DFCI Nord'!$A$6:$A$17,0,MATCH(B9,'Planning DFCI Nord'!$B$5:$AD$5,0))=1)*ROW(OFFSET('Planning DFCI Nord'!$A$6:$A$17,0,MATCH(B9,'Planning DFCI Nord'!$B$5:$AD$5,0))))-5)} -> #VALUE!
B10: 42288 | C10: =INDEX('Planning DFCI Nord'!$A$6:$A$17,MATCH(1,OFFSET('Planning DFCI Nord'!$A$6:$A$17,0,MATCH(B10,'Planning DFCI Nord'!$B$5:$AD$5,0)),0),0) -> J | D10: {=INDEX('Planning DFCI Nord'!$A$6:$A$17,MAX((OFFSET('Planning DFCI Nord'!$A$6:$A$17,0,MATCH(B10,'Planning DFCI Nord'!$B$5:$AD$5,0))=1)*ROW(OFFSET('Planning DFCI Nord'!$A$6:$A$17,0,MATCH(B10,'Planning DFCI Nord'!$B$5:$AD$5,0))))-5)} -> M
B11: 42294 | C11: =INDEX('Planning DFCI Nord'!$A$6:$A$17,MATCH(1,OFFSET('Planning DFCI Nord'!$A$6:$A$17,0,MATCH(B11,'Planning DFCI Nord'!$B$5:$AD$5,0)),0),0) -> #N/A | D11: {=INDEX('Planning DFCI Nord'!$A$6:$A$17,MAX((OFFSET('Planning DFCI Nord'!$A$6:$A$17,0,MATCH(B11,'Planning DFCI Nord'!$B$5:$AD$5,0))=1)*ROW(OFFSET('Planning DFCI Nord'!$A$6:$A$17,0,MATCH(B11,'Planning DFCI Nord'!$B$5:$AD$5,0))))-5)} -> #VALUE!
B12: 42295 | C12: =INDEX('Planning DFCI Nord'!$A$6:$A$17,MATCH(1,OFFSET('Planning DFCI Nord'!$A$6:$A$17,0,MATCH(B12,'Planning DFCI Nord'!$B$5:$AD$5,0)),0),0) -> #N/A | D12: {=INDEX('Planning DFCI Nord'!$A$6:$A$17,MAX((OFFSET('Planning DFCI Nord'!$A$6:$A$17,0,MATCH(B12,'Planning DFCI Nord'!$B$5:$AD$5,0))=1)*ROW(OFFSET('Planning DFCI Nord'!$A$6:$A$17,0,MATCH(B12,'Planning DFCI Nord'!$B$5:$AD$5,0))))-5)} -> #VALUE!
B13: 42301 | C13: =INDEX('Planning DFCI Nord'!$A$6:$A$17,MATCH(1,OFFSET('Planning DFCI Nord'!$A$6:$A$17,0,MATCH(B13,'Planning DFCI Nord'!$B$5:$AD$5,0)),0),0) -> #N/A | D13: {=INDEX('Planning DFCI Nord'!$A$6:$A$17,MAX((OFFSET('Planning DFCI Nord'!$A$6:$A$17,0,MATCH(B13,'Planning DFCI Nord'!$B$5:$AD$5,0))=1)*ROW(OFFSET('Planning DFCI Nord'!$A$6:$A$17,0,MATCH(B13,'Planning DFCI Nord'!$B$5:$AD$5,0))))-5)} -> #VALUE!
B14: 42302 | C14: =INDEX('Planning DFCI Nord'!$A$6:$A$17,MATCH(1,OFFSET('Planning DFCI Nord'!$A$6:$A$17,0,MATCH(B14,'Planning DFCI Nord'!$B$5:$AD$5,0)),0),0) -> #N/A | D14: {=INDEX('Planning DFCI Nord'!$A$6:$A$17,MAX((OFFSET('Planning DFCI Nord'!$A$6:$A$17,0,MATCH(B14,'Planning DFCI Nord'!$B$5:$AD$5,0))=1)*ROW(OFFSET('Planning DFCI Nord'!$A$6:$A$17,0,MATCH(B14,'Planning DFCI Nord'!$B$5:$AD$5,0))))-5)} -> #VALUE!
B15: 42308 | C15: =INDEX('Planning DFCI Nord'!$A$6:$A$17,MATCH(1,OFFSET('Planning DFCI Nord'!$A$6:$A$17,0,MATCH(B15,'Planning DFCI Nord'!$B$5:$AD$5,0)),0),0) -> #N/A | D15: {=INDEX('Planning DFCI Nord'!$A$6:$A$17,MAX((OFFSET('Planning DFCI Nord'!$A$6:$A$17,0,MATCH(B15,'Planning DFCI Nord'!$B$5:$AD$5,0))=1)*ROW(OFFSET('Planning DFCI Nord'!$A$6:$A$17,0,MATCH(B15,'Planning DFCI Nord'!$B$5:$AD$5,0))))-5)} -> #VALUE!
A16: Novembre | B16: 42309 | C16: =INDEX('Planning DFCI Nord'!$A$6:$A$17,MATCH(1,OFFSET('Planning DFCI Nord'!$A$6:$A$17,0,MATCH(B16,'Planning DFCI Nord'!$B$5:$AD$5,0)),0),0) -> #N/A | D16: {=INDEX('Planning DFCI Nord'!$A$6:$A$17,MAX((OFFSET('Planning DFCI Nord'!$A$6:$A$17,0,MATCH(B16,'Planning DFCI Nord'!$B$5:$AD$5,0))=1)*ROW(OFFSET('Planning DFCI Nord'!$A$6:$A$17,0,MATCH(B16,'Planning DFCI Nord'!$B$5:$AD$5,0))))-5)} -> #VALUE!
B17: 42315 | C17: =INDEX('Planning DFCI Nord'!$A$6:$A$17,MATCH(1,OFFSET('Planning DFCI Nord'!$A$6:$A$17,0,MATCH(B17,'Planning DFCI Nord'!$B$5:$AD$5,0)),0),0) -> #N/A | D17: {=INDEX('Planning DFCI Nord'!$A$6:$A$17,MAX((OFFSET('Planning DFCI Nord'!$A$6:$A$17,0,MATCH(B17,'Planning DFCI Nord'!$B$5:$AD$5,0))=1)*ROW(OFFSET('Planning DFCI Nord'!$A$6:$A$17,0,MATCH(B17,'Planning DFCI Nord'!$B$5:$AD$5,0))))-5)} -> #VALUE!
B18: 42316 | C18: =INDEX('Planning DFCI Nord'!$A$6:$A$17,MATCH(1,OFFSET('Planning DFCI Nord'!$A$6:$A$17,0,MATCH(B18,'Planning DFCI Nord'!$B$5:$AD$5,0)),0),0) -> #N/A | D18: {=INDEX('Planning DFCI Nord'!$A$6:$A$17,MAX((OFFSET('Planning DFCI Nord'!$A$6:$A$17,0,MATCH(B18,'Planning DFCI Nord'!$B$5:$AD$5,0))=1)*ROW(OFFSET('Planning DFCI Nord'!$A$6:$A$17,0,MATCH(B18,'Planning DFCI Nord'!$B$5:$AD$5,0))))-5)} -> #VALUE!
B19: 42319 | C19: =INDEX('Planning DFCI Nord'!$A$6:$A$17,MATCH(1,OFFSET('Planning DFCI Nord'!$A$6:$A$17,0,MATCH(B19,'Planning DFCI Nord'!$B$5:$AD$5,0)),0),0) -> #N/A | D19: {=INDEX('Planning DFCI Nord'!$A$6:$A$17,MAX((OFFSET('Planning DFCI Nord'!$A$6:$A$17,0,MATCH(B19,'Planning DFCI Nord'!$B$5:$AD$5,0))=1)*ROW(OFFSET('Planning DFCI Nord'!$A$6:$A$17,0,MATCH(B19,'Planning DFCI Nord'!$B$5:$AD$5,0))))-5)} -> #VALUE!
B20: 42322 | C20: =INDEX('Planning DFCI Nord'!$A$6:$A$17,MATCH(1,OFFSET('Planning DFCI Nord'!$A$6:$A$17,0,MATCH(B20,'Planning DFCI Nord'!$B$5:$AD$5,0)),0),0) -> #N/A | D20: {=INDEX('Planning DFCI Nord'!$A$6:$A$17,MAX((OFFSET('Planning DFCI Nord'!$A$6:$A$17,0,MATCH(B20,'Planning DFCI Nord'!$B$5:$AD$5,0))=1)*ROW(OFFSET('Planning DFCI Nord'!$A$6:$A$17,0,MATCH(B20,'Planning DFCI Nord'!$B$5:$AD$5,0))))-5)} -> #VALUE!
B21: 42323 | C21: =INDEX('Planning DFCI Nord'!$A$6:$A$17,MATCH(1,OFFSET('Planning DFCI Nord'!$A$6:$A$17,0,MATCH(B21,'Planning DFCI Nord'!$B$5:$AD$5,0)),0),0) -> #N/A | D21: {=INDEX('Planning DFCI Nord'!$A$6:$A$17,MAX((OFFSET('Planning DFCI Nord'!$A$6:$A$17,0,MATCH(B21,'Planning DFCI Nord'!$B$5:$AD$5,0))=1)*ROW(OFFSET('Planning DFCI Nord'!$A$6:$A$17,0,MATCH(B21,'Planning DFCI Nord'!$B$5:$AD$5,0))))-5)} -> #VALUE!
B22: 42329 | C22: =INDEX('Planning DFCI Nord'!$A$6:$A$17,MATCH(1,OFFSET('Planning DFCI Nord'!$A$6:$A$17,0,MATCH(B22,'Planning DFCI Nord'!$B$5:$AD$5,0)),0),0) -> #N/A | D22: {=INDEX('Planning DFCI Nord'!$A$6:$A$17,MAX((OFFSET('Planning DFCI Nord'!$A$6:$A$17,0,MATCH(B22,'Planning DFCI Nord'!$B$5:$AD$5,0))=1)*ROW(OFFSET('Planning DFCI Nord'!$A$6:$A$17,0,MATCH(B22,'Planning DFCI Nord'!$B$5:$AD$5,0))))-5)} -> #VALUE!
B23: 42330 | C23: =INDEX('Planning DFCI Nord'!$A$6:$A$17,MATCH(1,OFFSET('Planning DFCI Nord'!$A$6:$A$17,0,MATCH(B23,'Planning DFCI Nord'!$B$5:$AD$5,0)),0),0) -> #N/A | D23: {=INDEX('Planning DFCI Nord'!$A$6:$A$17,MAX((OFFSET('Planning DFCI Nord'!$A$6:$A$17,0,MATCH(B23,'Planning DFCI Nord'!$B$5:$AD$5,0))=1)*ROW(OFFSET('Planning DFCI Nord'!$A$6:$A$17,0,MATCH(B23,'Planning DFCI Nord'!$B$5:$AD$5,0))))-5)} -> #VALUE!
B24: 42336 | C24: =INDEX('Planning DFCI Nord'!$A$6:$A$17,MATCH(1,OFFSET('Planning DFCI Nord'!$A$6:$A$17,0,MATCH(B24,'Planning DFCI Nord'!$B$5:$AD$5,0)),0),0) -> #N/A | D24: {=INDEX('Planning DFCI Nord'!$A$6:$A$17,MAX((OFFSET('Planning DFCI Nord'!$A$6:$A$17,0,MATCH(B24,'Planning DFCI Nord'!$B$5:$AD$5,0))=1)*ROW(OFFSET('Planning DFCI Nord'!$A$6:$A$17,0,MATCH(B24,'Planning DFCI Nord'!$B$5:$AD$5,0))))-5)} -> #VALUE!
B25: 42337 | C25: =INDEX('Planning DFCI Nord'!$A$6:$A$17,MATCH(1,OFFSET('Planning DFCI Nord'!$A$6:$A$17,0,MATCH(B25,'Planning DFCI Nord'!$B$5:$AD$5,0)),0),0) -> #N/A | D25: {=INDEX('Planning DFCI Nord'!$A$6:$A$17,MAX((OFFSET('Planning DFCI Nord'!$A$6:$A$17,0,MATCH(B25,'Planning DFCI Nord'!$B$5:$AD$5,0))=1)*ROW(OFFSET('Planning DFCI Nord'!$A$6:$A$17,0,MATCH(B25,'Planning DFCI Nord'!$B$5:$AD$5,0))))-5)} -> #VALUE!
A26: Décembre | B26: 42343 | C26: =INDEX('Planning DFCI Nord'!$A$6:$A$17,MATCH(1,OFFSET('Planning DFCI Nord'!$A$6:$A$17,0,MATCH(B26,'Planning DFCI Nord'!$B$5:$AD$5,0)),0),0) -> #N/A | D26: {=INDEX('Planning DFCI Nord'!$A$6:$A$17,MAX((OFFSET('Planning DFCI Nord'!$A$6:$A$17,0,MATCH(B26,'Planning DFCI Nord'!$B$5:$AD$5,0))=1)*ROW(OFFSET('Planning DFCI Nord'!$A$6:$A$17,0,MATCH(B26,'Planning DFCI Nord'!$B$5:$AD$5,0))))-5)} -> #VALUE!
B27: 42344 | C27: =INDEX('Planning DFCI Nord'!$A$6:$A$17,MATCH(1,OFFSET('Planning DFCI Nord'!$A$6:$A$17,0,MATCH(B27,'Planning DFCI Nord'!$B$5:$AD$5,0)),0),0) -> #N/A | D27: {=INDEX('Planning DFCI Nord'!$A$6:$A$17,MAX((OFFSET('Planning DFCI Nord'!$A$6:$A$17,0,MATCH(B27,'Planning DFCI Nord'!$B$5:$AD$5,0))=1)*ROW(OFFSET('Planning DFCI Nord'!$A$6:$A$17,0,MATCH(B27,'Planning DFCI Nord'!$B$5:$AD$5,0))))-5)} -> #VALUE!
B28: 42350 | C28: =INDEX('Planning DFCI Nord'!$A$6:$A$17,MATCH(1,OFFSET('Planning DFCI Nord'!$A$6:$A$17,0,MATCH(B28,'Planning DFCI Nord'!$B$5:$AD$5,0)),0),0) -> #N/A | D28: {=INDEX('Planning DFCI Nord'!$A$6:$A$17,MAX((OFFSET('Planning DFCI Nord'!$A$6:$A$17,0,MATCH(B28,'Planning DFCI Nord'!$B$5:$AD$5,0))=1)*ROW(OFFSET('Planning DFCI Nord'!$A$6:$A$17,0,MATCH(B28,'Planning DFCI Nord'!$B$5:$AD$5,0))))-5)} -> #VALUE!
B29: 42351 | C29: =INDEX('Planning DFCI Nord'!$A$6:$A$17,MATCH(1,OFFSET('Planning DFCI Nord'!$A$6:$A$17,0,MATCH(B29,'Planning DFCI Nord'!$B$5:$AD$5,0)),0),0) -> #N/A | D29: {=INDEX('Planning DFCI Nord'!$A$6:$A$17,MAX((OFFSET('Planning DFCI Nord'!$A$6:$A$17,0,MATCH(B29,'Planning DFCI Nord'!$B$5:$AD$5,0))=1)*ROW(OFFSET('Planning DFCI Nord'!$A$6:$A$17,0,MATCH(B29,'Planning DFCI Nord'!$B$5:$AD$5,0))))-5)} -> #VALUE!
B30: 42357 | C30: =INDEX('Planning DFCI Nord'!$A$6:$A$17,MATCH(1,OFFSET('Planning DFCI Nord'!$A$6:$A$17,0,MATCH(B30,'Planning DFCI Nord'!$B$5:$AD$5,0)),0),0) -> #N/A | D30: {=INDEX('Planning DFCI Nord'!$A$6:$A$17,MAX((OFFSET('Planning DFCI Nord'!$A$6:$A$17,0,MATCH(B30,'Planning DFCI Nord'!$B$5:$AD$5,0))=1)*ROW(OFFSET('Planning DFCI Nord'!$A$6:$A$17,0,MATCH(B30,'Planning DFCI Nord'!$B$5:$AD$5,0))))-5)} -> #VALUE!
B31: 42358 | C31: =INDEX('Planning DFCI Nord'!$A$6:$A$17,MATCH(1,OFFSET('Planning DFCI Nord'!$A$6:$A$17,0,MATCH(B31,'Planning DFCI Nord'!$B$5:$AD$5,0)),0),0) -> #N/A | D31: {=INDEX('Planning DFCI Nord'!$A$6:$A$17,MAX((OFFSET('Planning DFCI Nord'!$A$6:$A$17,0,MATCH(B31,'Planning DFCI Nord'!$B$5:$AD$5,0))=1)*ROW(OFFSET('Planning DFCI Nord'!$A$6:$A$17,0,MATCH(B31,'Planning DFCI Nord'!$B$5:$AD$5,0))))-5)} -> #VALUE!

Sheet Planning R SUD
C2: Agent | D2: Agent
A3: Septembre | B3: 42266 | C3: {=INDEX('Planning DFCI Sud'!$A$6:$A$18,MATCH(1,OFFSET('Planning DFCI Sud'!$A$6:$A$18,0,MATCH(B3,'Planning DFCI Sud'!$B5:$AD$5,0)),0),0)} -> #N/A | D3: {=INDEX('Planning DFCI Sud'!$A$6:$A$18,MAX((OFFSET('Planning DFCI Sud'!$A$6:$A$18,0,MATCH(B3,'Planning DFCI Sud'!$B$5:$AD$5,0))=1)*ROW(OFFSET('Planning DFCI Sud'!$A$6:$A$18,0,MATCH(B3,'Planning DFCI Sud'!$B$5:$AD$5,0))))-5)} -> #VALUE!
B4: 42267 | C4: =INDEX('Planning DFCI Sud'!$A$6:$A$18,MATCH(1,OFFSET('Planning DFCI Sud'!$A$6:$A$18,0,MATCH(B4,'Planning DFCI Sud'!$B$5:$AD$5,0)),0),0) -> #N/A | D4: {=INDEX('Planning DFCI Sud'!$A$6:$A$18,MAX((OFFSET('Planning DFCI Sud'!$A$6:$A$18,0,MATCH(B4,'Planning DFCI Sud'!$B$5:$AD$5,0))=1)*ROW(OFFSET('Planning DFCI Sud'!$A$6:$A$18,0,MATCH(B4,'Planning DFCI Sud'!$B$5:$AD$5,0))))-5)} -> #VALUE!
B5: 42273 | C5: =INDEX('Planning DFCI Sud'!$A$6:$A$18,MATCH(1,OFFSET('Planning DFCI Sud'!$A$6:$A$18,0,MATCH(B5,'Planning DFCI Sud'!$B$5:$AD$5,0)),0),0) -> #N/A | D5: {=INDEX('Planning DFCI Sud'!$A$6:$A$18,MAX((OFFSET('Planning DFCI Sud'!$A$6:$A$18,0,MATCH(B5,'Planning DFCI Sud'!$B$5:$AD$5,0))=1)*ROW(OFFSET('Planning DFCI Sud'!$A$6:$A$18,0,MATCH(B5,'Planning DFCI Sud'!$B$5:$AD$5,0))))-5)} -> #VALUE!
B6: 42274 | C6: =INDEX('Planning DFCI Sud'!$A$6:$A$18,MATCH(1,OFFSET('Planning DFCI Sud'!$A$6:$A$18,0,MATCH(B6,'Planning DFCI Sud'!$B$5:$AD$5,0)),0),0) -> #N/A | D6: {=INDEX('Planning DFCI Sud'!$A$6:$A$18,MAX((OFFSET('Planning DFCI Sud'!$A$6:$A$18,0,MATCH(B6,'Planning DFCI Sud'!$B$5:$AD$5,0))=1)*ROW(OFFSET('Planning DFCI Sud'!$A$6:$A$18,0,MATCH(B6,'Planning DFCI Sud'!$B$5:$AD$5,0))))-5)} -> #VALUE!
A7: Octobre | B7: 42280 | C7: =INDEX('Planning DFCI Sud'!$A$6:$A$18,MATCH(1,OFFSET('Planning DFCI Sud'!$A$6:$A$18,0,MATCH(B7,'Planning DFCI Sud'!$B$5:$AD$5,0)),0),0) -> #N/A | D7: {=INDEX('Planning DFCI Sud'!$A$6:$A$18,MAX((OFFSET('Planning DFCI Sud'!$A$6:$A$18,0,MATCH(B7,'Planning DFCI Sud'!$B$5:$AD$5,0))=1)*ROW(OFFSET('Planning DFCI Sud'!$A$6:$A$18,0,MATCH(B7,'Planning DFCI Sud'!$B$5:$AD$5,0))))-5)} -> #VALUE!
B8: 42281 | C8: =INDEX('Planning DFCI Sud'!$A$6:$A$18,MATCH(1,OFFSET('Planning DFCI Sud'!$A$6:$A$18,0,MATCH(B8,'Planning DFCI Sud'!$B$5:$AD$5,0)),0),0) -> #N/A | D8: {=INDEX('Planning DFCI Sud'!$A$6:$A$18,MAX((OFFSET('Planning DFCI Sud'!$A$6:$A$18,0,MATCH(B8,'Planning DFCI Sud'!$B$5:$AD$5,0))=1)*ROW(OFFSET('Planning DFCI Sud'!$A$6:$A$18,0,MATCH(B8,'Planning DFCI Sud'!$B$5:$AD$5,0))))-5)} -> #VALUE!
B9: 42287 | C9: =INDEX('Planning DFCI Sud'!$A$6:$A$18,MATCH(1,OFFSET('Planning DFCI Sud'!$A$6:$A$18,0,MATCH(B9,'Planning DFCI Sud'!$B$5:$AD$5,0)),0),0) -> #N/A | D9: {=INDEX('Planning DFCI Sud'!$A$6:$A$18,MAX((OFFSET('Planning DFCI Sud'!$A$6:$A$18,0,MATCH(B9,'Planning DFCI Sud'!$B$5:$AD$5,0))=1)*ROW(OFFSET('Planning DFCI Sud'!$A$6:$A$18,0,MATCH(B9,'Planning DFCI Sud'!$B$5:$AD$5,0))))-5)} -> #VALUE!
B10: 42288 | C10: =INDEX('Planning DFCI Sud'!$A$6:$A$18,MATCH(1,OFFSET('Planning DFCI Sud'!$A$6:$A$18,0,MATCH(B10,'Planning DFCI Sud'!$B$5:$AD$5,0)),0),0) -> #N/A | D10: {=INDEX('Planning DFCI Sud'!$A$6:$A$18,MAX((OFFSET('Planning DFCI Sud'!$A$6:$A$18,0,MATCH(B10,'Planning DFCI Sud'!$B$5:$AD$5,0))=1)*ROW(OFFSET('Planning DFCI Sud'!$A$6:$A$18,0,MATCH(B10,'Planning DFCI Sud'!$B$5:$AD$5,0))))-5)} -> #VALUE!
B11: 42294 | C11: =INDEX('Planning DFCI Sud'!$A$6:$A$18,MATCH(1,OFFSET('Planning DFCI Sud'!$A$6:$A$18,0,MATCH(B11,'Planning DFCI Sud'!$B$5:$AD$5,0)),0),0) -> #N/A | D11: {=INDEX('Planning DFCI Sud'!$A$6:$A$18,MAX((OFFSET('Planning DFCI Sud'!$A$6:$A$18,0,MATCH(B11,'Planning DFCI Sud'!$B$5:$AD$5,0))=1)*ROW(OFFSET('Planning DFCI Sud'!$A$6:$A$18,0,MATCH(B11,'Planning DFCI Sud'!$B$5:$AD$5,0))))-5)} -> #VALUE!
B12: 42295 | C12: =INDEX('Planning DFCI Sud'!$A$6:$A$18,MATCH(1,OFFSET('Planning DFCI Sud'!$A$6:$A$18,0,MATCH(B12,'Planning DFCI Sud'!$B$5:$AD$5,0)),0),0) -> V | D12: {=INDEX('Planning DFCI Sud'!$A$6:$A$18,MAX((OFFSET('Planning DFCI Sud'!$A$6:$A$18,0,MATCH(B12,'Planning DFCI Sud'!$B$5:$AD$5,0))=1)*ROW(OFFSET('Planning DFCI Sud'!$A$6:$A$18,0,MATCH(B12,'Planning DFCI Sud'!$B$5:$AD$5,0))))-5)} -> Y
B13: 42301 | C13: =INDEX('Planning DFCI Sud'!$A$6:$A$18,MATCH(1,OFFSET('Planning DFCI Sud'!$A$6:$A$18,0,MATCH(B13,'Planning DFCI Sud'!$B$5:$AD$5,0)),0),0) -> #N/A | D13: {=INDEX('Planning DFCI Sud'!$A$6:$A$18,MAX((OFFSET('Planning DFCI Sud'!$A$6:$A$18,0,MATCH(B13,'Planning DFCI Sud'!$B$5:$AD$5,0))=1)*ROW(OFFSET('Planning DFCI Sud'!$A$6:$A$18,0,MATCH(B13,'Planning DFCI Sud'!$B$5:$AD$5,0))))-5)} -> #VALUE!
B14: 42302 | C14: =INDEX('Planning DFCI Sud'!$A$6:$A$18,MATCH(1,OFFSET('Planning DFCI Sud'!$A$6:$A$18,0,MATCH(B14,'Planning DFCI Sud'!$B$5:$AD$5,0)),0),0) -> #N/A | D14: {=INDEX('Planning DFCI Sud'!$A$6:$A$18,MAX((OFFSET('Planning DFCI Sud'!$A$6:$A$18,0,MATCH(B14,'Planning DFCI Sud'!$B$5:$AD$5,0))=1)*ROW(OFFSET('Planning DFCI Sud'!$A$6:$A$18,0,MATCH(B14,'Planning DFCI Sud'!$B$5:$AD$5,0))))-5)} -> #VALUE!
B15: 42308 | C15: =INDEX('Planning DFCI Sud'!$A$6:$A$18,MATCH(1,OFFSET('Planning DFCI Sud'!$A$6:$A$18,0,MATCH(B15,'Planning DFCI Sud'!$B$5:$AD$5,0)),0),0) -> #N/A | D15: {=INDEX('Planning DFCI Sud'!$A$6:$A$18,MAX((OFFSET('Planning DFCI Sud'!$A$6:$A$18,0,MATCH(B15,'Planning DFCI Sud'!$B$5:$AD$5,0))=1)*ROW(OFFSET('Planning DFCI Sud'!$A$6:$A$18,0,MATCH(B15,'Planning DFCI Sud'!$B$5:$AD$5,0))))-5)} -> #VALUE!
A16: Novembre | B16: 42309 | C16: =INDEX('Planning DFCI Sud'!$A$6:$A$18,MATCH(1,OFFSET('Planning DFCI Sud'!$A$6:$A$18,0,MATCH(B16,'Planning DFCI Sud'!$B$5:$AD$5,0)),0),0) -> #N/A | D16: {=INDEX('Planning DFCI Sud'!$A$6:$A$18,MAX((OFFSET('Planning DFCI Sud'!$A$6:$A$18,0,MATCH(B16,'Planning DFCI Sud'!$B$5:$AD$5,0))=1)*ROW(OFFSET('Planning DFCI Sud'!$A$6:$A$18,0,MATCH(B16,'Planning DFCI Sud'!$B$5:$AD$5,0))))-5)} -> #VALUE!
B17: 42315 | C17: =INDEX('Planning DFCI Sud'!$A$6:$A$18,MATCH(1,OFFSET('Planning DFCI Sud'!$A$6:$A$18,0,MATCH(B17,'Planning DFCI Sud'!$B$5:$AD$5,0)),0),0) -> #N/A | D17: {=INDEX('Planning DFCI Sud'!$A$6:$A$18,MAX((OFFSET('Planning DFCI Sud'!$A$6:$A$18,0,MATCH(B17,'Planning DFCI Sud'!$B$5:$AD$5,0))=1)*ROW(OFFSET('Planning DFCI Sud'!$A$6:$A$18,0,MATCH(B17,'Planning DFCI Sud'!$B$5:$AD$5,0))))-5)} -> #VALUE!
B18: 42316 | C18: =INDEX('Planning DFCI Sud'!$A$6:$A$18,MATCH(1,OFFSET('Planning DFCI Sud'!$A$6:$A$18,0,MATCH(B18,'Planning DFCI Sud'!$B$5:$AD$5,0)),0),0) -> #N/A | D18: {=INDEX('Planning DFCI Sud'!$A$6:$A$18,MAX((OFFSET('Planning DFCI Sud'!$A$6:$A$18,0,MATCH(B18,'Planning DFCI Sud'!$B$5:$AD$5,0))=1)*ROW(OFFSET('Planning DFCI Sud'!$A$6:$A$18,0,MATCH(B18,'Planning DFCI Sud'!$B$5:$AD$5,0))))-5)} -> #VALUE!
B19: 42319 | C19: =INDEX('Planning DFCI Sud'!$A$6:$A$18,MATCH(1,OFFSET('Planning DFCI Sud'!$A$6:$A$18,0,MATCH(B19,'Planning DFCI Sud'!$B$5:$AD$5,0)),0),0) -> #N/A | D19: {=INDEX('Planning DFCI Sud'!$A$6:$A$18,MAX((OFFSET('Planning DFCI Sud'!$A$6:$A$18,0,MATCH(B19,'Planning DFCI Sud'!$B$5:$AD$5,0))=1)*ROW(OFFSET('Planning DFCI Sud'!$A$6:$A$18,0,MATCH(B19,'Planning DFCI Sud'!$B$5:$AD$5,0))))-5)} -> #VALUE!
B20: 42322 | C20: =INDEX('Planning DFCI Sud'!$A$6:$A$18,MATCH(1,OFFSET('Planning DFCI Sud'!$A$6:$A$18,0,MATCH(B20,'Planning DFCI Sud'!$B$5:$AD$5,0)),0),0) -> #N/A | D20: {=INDEX('Planning DFCI Sud'!$A$6:$A$18,MAX((OFFSET('Planning DFCI Sud'!$A$6:$A$18,0,MATCH(B20,'Planning DFCI Sud'!$B$5:$AD$5,0))=1)*ROW(OFFSET('Planning DFCI Sud'!$A$6:$A$18,0,MATCH(B20,'Planning DFCI Sud'!$B$5:$AD$5,0))))-5)} -> #VALUE!
B21: 42323 | C21: =INDEX('Planning DFCI Sud'!$A$6:$A$18,MATCH(1,OFFSET('Planning DFCI Sud'!$A$6:$A$18,0,MATCH(B21,'Planning DFCI Sud'!$B$5:$AD$5,0)),0),0) -> #N/A | D21: {=INDEX('Planning DFCI Sud'!$A$6:$A$18,MAX((OFFSET('Planning DFCI Sud'!$A$6:$A$18,0,MATCH(B21,'Planning DFCI Sud'!$B$5:$AD$5,0))=1)*ROW(OFFSET('Planning DFCI Sud'!$A$6:$A$18,0,MATCH(B21,'Planning DFCI Sud'!$B$5:$AD$5,0))))-5)} -> #VALUE!
B22: 42329 | C22: =INDEX('Planning DFCI Sud'!$A$6:$A$18,MATCH(1,OFFSET('Planning DFCI Sud'!$A$6:$A$18,0,MATCH(B22,'Planning DFCI Sud'!$B$5:$AD$5,0)),0),0) -> #N/A | D22: {=INDEX('Planning DFCI Sud'!$A$6:$A$18,MAX((OFFSET('Planning DFCI Sud'!$A$6:$A$18,0,MATCH(B22,'Planning DFCI Sud'!$B$5:$AD$5,0))=1)*ROW(OFFSET('Planning DFCI Sud'!$A$6:$A$18,0,MATCH(B22,'Planning DFCI Sud'!$B$5:$AD$5,0))))-5)} -> #VALUE!
B23: 42330 | C23: =INDEX('Planning DFCI Sud'!$A$6:$A$18,MATCH(1,OFFSET('Planning DFCI Sud'!$A$6:$A$18,0,MATCH(B23,'Planning DFCI Sud'!$B$5:$AD$5,0)),0),0) -> #N/A | D23: {=INDEX('Planning DFCI Sud'!$A$6:$A$18,MAX((OFFSET('Planning DFCI Sud'!$A$6:$A$18,0,MATCH(B23,'Planning DFCI Sud'!$B$5:$AD$5,0))=1)*ROW(OFFSET('Planning DFCI Sud'!$A$6:$A$18,0,MATCH(B23,'Planning DFCI Sud'!$B$5:$AD$5,0))))-5)} -> #VALUE!
B24: 42336 | C24: =INDEX('Planning DFCI Sud'!$A$6:$A$18,MATCH(1,OFFSET('Planning DFCI Sud'!$A$6:$A$18,0,MATCH(B24,'Planning DFCI Sud'!$B$5:$AD$5,0)),0),0) -> #N/A | D24: {=INDEX('Planning DFCI Sud'!$A$6:$A$18,MAX((OFFSET('Planning DFCI Sud'!$A$6:$A$18,0,MATCH(B24,'Planning DFCI Sud'!$B$5:$AD$5,0))=1)*ROW(OFFSET('Planning DFCI Sud'!$A$6:$A$18,0,MATCH(B24,'Planning DFCI Sud'!$B$5:$AD$5,0))))-5)} -> #VALUE!
B25: 42337 | C25: =INDEX('Planning DFCI Sud'!$A$6:$A$18,MATCH(1,OFFSET('Planning DFCI Sud'!$A$6:$A$18,0,MATCH(B25,'Planning DFCI Sud'!$B$5:$AD$5,0)),0),0) -> #N/A | D25: {=INDEX('Planning DFCI Sud'!$A$6:$A$18,MAX((OFFSET('Planning DFCI Sud'!$A$6:$A$18,0,MATCH(B25,'Planning DFCI Sud'!$B$5:$AD$5,0))=1)*ROW(OFFSET('Planning DFCI Sud'!$A$6:$A$18,0,MATCH(B25,'Planning DFCI Sud'!$B$5:$AD$5,0))))-5)} -> #VALUE!
A26: Décembre | B26: 42343 | C26: =INDEX('Planning DFCI Sud'!$A$6:$A$18,MATCH(1,OFFSET('Planning DFCI Sud'!$A$6:$A$18,0,MATCH(B26,'Planning DFCI Sud'!$B$5:$AD$5,0)),0),0) -> #N/A | D26: {=INDEX('Planning DFCI Sud'!$A$6:$A$18,MAX((OFFSET('Planning DFCI Sud'!$A$6:$A$18,0,MATCH(B26,'Planning DFCI Sud'!$B$5:$AD$5,0))=1)*ROW(OFFSET('Planning DFCI Sud'!$A$6:$A$18,0,MATCH(B26,'Planning DFCI Sud'!$B$5:$AD$5,0))))-5)} -> #VALUE!
B27: 42344 | C27: =INDEX('Planning DFCI Sud'!$A$6:$A$18,MATCH(1,OFFSET('Planning DFCI Sud'!$A$6:$A$18,0,MATCH(B27,'Planning DFCI Sud'!$B$5:$AD$5,0)),0),0) -> #N/A | D27: {=INDEX('Planning DFCI Sud'!$A$6:$A$18,MAX((OFFSET('Planning DFCI Sud'!$A$6:$A$18,0,MATCH(B27,'Planning DFCI Sud'!$B$5:$AD$5,0))=1)*ROW(OFFSET('Planning DFCI Sud'!$A$6:$A$18,0,MATCH(B27,'Planning DFCI Sud'!$B$5:$AD$5,0))))-5)} -> #VALUE!
B28: 42350 | C28: =INDEX('Planning DFCI Sud'!$A$6:$A$18,MATCH(1,OFFSET('Planning DFCI Sud'!$A$6:$A$18,0,MATCH(B28,'Planning DFCI Sud'!$B$5:$AD$5,0)),0),0) -> #N/A | D28: {=INDEX('Planning DFCI Sud'!$A$6:$A$18,MAX((OFFSET('Planning DFCI Sud'!$A$6:$A$18,0,MATCH(B28,'Planning DFCI Sud'!$B$5:$AD$5,0))=1)*ROW(OFFSET('Planning DFCI Sud'!$A$6:$A$18,0,MATCH(B28,'Planning DFCI Sud'!$B$5:$AD$5,0))))-5)} -> #VALUE!
B29: 42351 | C29: =INDEX('Planning DFCI Sud'!$A$6:$A$18,MATCH(1,OFFSET('Planning DFCI Sud'!$A$6:$A$18,0,MATCH(B29,'Planning DFCI Sud'!$B$5:$AD$5,0)),0),0) -> #N/A | D29: {=INDEX('Planning DFCI Sud'!$A$6:$A$18,MAX((OFFSET('Planning DFCI Sud'!$A$6:$A$18,0,MATCH(B29,'Planning DFCI Sud'!$B$5:$AD$5,0))=1)*ROW(OFFSET('Planning DFCI Sud'!$A$6:$A$18,0,MATCH(B29,'Planning DFCI Sud'!$B$5:$AD$5,0))))-5)} -> #VALUE!
B30: 42357 | C30: =INDEX('Planning DFCI Sud'!$A$6:$A$18,MATCH(1,OFFSET('Planning DFCI Sud'!$A$6:$A$18,0,MATCH(B30,'Planning DFCI Sud'!$B$5:$AD$5,0)),0),0) -> #N/A | D30: {=INDEX('Planning DFCI Sud'!$A$6:$A$18,MAX((OFFSET('Planning DFCI Sud'!$A$6:$A$18,0,MATCH(B30,'Planning DFCI Sud'!$B$5:$AD$5,0))=1)*ROW(OFFSET('Planning DFCI Sud'!$A$6:$A$18,0,MATCH(B30,'Planning DFCI Sud'!$B$5:$AD$5,0))))-5)} -> #VALUE!
B31: 42358 | C31: =INDEX('Planning DFCI Sud'!$A$6:$A$18,MATCH(1,OFFSET('Planning DFCI Sud'!$A$6:$A$18,0,MATCH(B31,'Planning DFCI Sud'!$B$5:$AD$5,0)),0),0) -> #N/A | D31: {=INDEX('Planning DFCI Sud'!$A$6:$A$18,MAX((OFFSET('Planning DFCI Sud'!$A$6:$A$18,0,MATCH(B31,'Planning DFCI Sud'!$B$5:$AD$5,0))=1)*ROW(OFFSET('Planning DFCI Sud'!$A$6:$A$18,0,MATCH(B31,'Planning DFCI Sud'!$B$5:$AD$5,0))))-5)} -> #VALUE!
