Workbook
Name An: Janvier!$A$2
Name Fériés: Fériés!$D$4:$D$16
Name HMBase: Fériés!$M$2
Name Jours: DAY(DATE(YEAR(Janvier!$B$8),MONTH(Janvier!$B$8)+1,0))
Name Salaries: OFFSET(Fériés!$L$2,,,COUNTA(Fériés!$L:$L)-1)

Sheet Récap
A6: PIERRE
A7: MOIS | B7: Heures travaillées | C7: Heures de base | D7: Heures de nuit | E7: Heures dimanche | F7: Heure jour Fériés | G7: Heures sup. | H7: J de Récupération
A8: Janvier | B8: =HLOOKUP($A$6,INDIRECT($A8 &"!$FX$5:$GF$39"),35,0)*24 -> 0 | C8: =HMBase -> 151.67 | D8: =(SUMPRODUCT((INDIRECT($A8 & "!E8:E38")<>"")*(INDIRECT($A8 & "!E8:E38")<TIMEVALUE("05:00")))*5)-(SUMPRODUCT((INDIRECT($A8 & "!E8:E38")<TIMEVALUE("05:00"))*(INDIRECT($A8 & "!E8:E38"))))*24 -> 0 | E8: =SUMPRODUCT((WEEKDAY(INDIRECT(A8&"!FW$8:FW$"&J8))=1)*(INDIRECT(A8&"!FY$5:GB$5")=$A$6)*(INDIRECT(A8&"!FY$8:GB$"&J8)))*24 -> 0 | F8: =SUMPRODUCT((COUNTIF(Fériés,(OFFSET(INDIRECT($A8 &"!FW$8"),,,Jours-1,)))*(OFFSET(INDIRECT($A8 &"!FZ$8"),,,Jours-1,))))*24 -> 0 | G8: =(B8-C8)-(H8*7) -> -151.67 | J8: =COUNT(INDIRECT(A8&"!fw8:fw38")) -> 31
A9: Février | B9: =HLOOKUP($A$6,INDIRECT($A9 &"!$FX$5:$GF$39"),35,0)*24 -> 0 | C9: =HMBase -> 151.67 | D9: =(SUMPRODUCT((INDIRECT($A9 & "!E8:E38")<>"")*(INDIRECT($A9 & "!E8:E38")<TIMEVALUE("05:00")))*5)-(SUMPRODUCT((INDIRECT($A9 & "!E8:E38")<TIMEVALUE("05:00"))*(INDIRECT($A9 & "!E8:E38")))*24) -> 0 | E9: =SUMPRODUCT((WEEKDAY(INDIRECT(A9&"!FW$8:FW$"&J9))=1)*(INDIRECT(A9&"!FY$5:GB$5")=$A$6)*(INDIRECT(A9&"!FY$8:GB$"&J9)))*24 -> 0 | F9: =SUMPRODUCT((COUNTIF(Fériés,(OFFSET(INDIRECT($A9 &"!FW$8"),,,Jours-1,)))*(OFFSET(INDIRECT($A9 &"!FZ$8"),,,Jours-1,))))*24 -> 0 | G9: =(B9-C9)-(H9*7) -> -151.67 | J9: =COUNT(INDIRECT(A9&"!fw8:fw38")) -> 29
A10: Mars | B10: =HLOOKUP($A$6,INDIRECT($A10 &"!$FX$5:$GF$39"),35,0)*24 -> 0 | C10: =HMBase -> 151.67 | D10: =(SUMPRODUCT((INDIRECT($A10 & "!E8:E38")<>"")*(INDIRECT($A10 & "!E8:E38")<TIMEVALUE("05:00")))*5)-(SUMPRODUCT((INDIRECT($A10 & "!E8:E38")<TIMEVALUE("05:00"))*(INDIRECT($A10 & "!E8:E38")))*24) -> 0 | E10: =SUMPRODUCT((WEEKDAY(INDIRECT(A10&"!FW$8:FW$"&J10))=1)*(INDIRECT(A10&"!FY$5:GB$5")=$A$6)*(INDIRECT(A10&"!FY$8:GB$"&J10)))*24 -> 0 | F10: =SUMPRODUCT((COUNTIF(Fériés,(OFFSET(INDIRECT($A10 &"!FW$8"),,,Jours-1,)))*(OFFSET(INDIRECT($A10 &"!FZ$8"),,,Jours-1,))))*24 -> 0 | G10: =(B10-C10)-(H10*7) -> -151.67 | J10: =COUNT(INDIRECT(A10&"!fw8:fw38")) -> 31
A11: Avril | B11: =HLOOKUP($A$6,INDIRECT($A11 &"!$FX$5:$GF$39"),35,0)*24 -> 0 | C11: =HMBase -> 151.67 | D11: =(SUMPRODUCT((INDIRECT($A11 & "!E8:E38")<>"")*(INDIRECT($A11 & "!E8:E38")<TIMEVALUE("05:00")))*5)-(SUMPRODUCT((INDIRECT($A11 & "!E8:E38")<TIMEVALUE("05:00"))*(INDIRECT($A11 & "!E8:E38")))*24) -> 0 | E11: =SUMPRODUCT((WEEKDAY(INDIRECT(A11&"!FW$8:FW$"&J11))=1)*(INDIRECT(A11&"!FY$5:GB$5")=$A$6)*(INDIRECT(A11&"!FY$8:GB$"&J11)))*24 -> 0 | F11: =SUMPRODUCT((COUNTIF(Fériés,(OFFSET(INDIRECT($A11 &"!FW$8"),,,Jours-1,)))*(OFFSET(INDIRECT($A11 &"!FZ$8"),,,Jours-1,))))*24 -> 0 | G11: =(B11-C11)-(H11*7) -> -151.67 | J11: =COUNT(INDIRECT(A11&"!fw8:fw38")) -> 30
A12: Mai | B12: =HLOOKUP($A$6,INDIRECT($A12 &"!$FX$5:$GF$39"),35,0)*24 -> 0 | C12: =HMBase -> 151.67 | D12: =(SUMPRODUCT((INDIRECT($A12 & "!E8:E38")<>"")*(INDIRECT($A12 & "!E8:E38")<TIMEVALUE("05:00")))*5)-(SUMPRODUCT((INDIRECT($A12 & "!E8:E38")<TIMEVALUE("05:00"))*(INDIRECT($A12 & "!E8:E38")))*24) -> 0 | E12: =SUMPRODUCT((WEEKDAY(INDIRECT(A12&"!FW$8:FW$"&J12))=1)*(INDIRECT(A12&"!FY$5:GB$5")=$A$6)*(INDIRECT(A12&"!FY$8:GB$"&J12)))*24 -> 0 | F12: =SUMPRODUCT((COUNTIF(Fériés,(OFFSET(INDIRECT($A12 &"!FW$8"),,,Jours-1,)))*(OFFSET(INDIRECT($A12 &"!FZ$8"),,,Jours-1,))))*24 -> 0 | G12: =(B12-C12)-(H12*7) -> -151.67 | J12: =COUNT(INDIRECT(A12&"!fw8:fw38")) -> 31
A13: Juin | B13: =HLOOKUP($A$6,INDIRECT($A13 &"!$FX$5:$GF$39"),35,0)*24 -> 0 | C13: =HMBase -> 151.67 | D13: =(SUMPRODUCT((INDIRECT($A13 & "!E8:E38")<>"")*(INDIRECT($A13 & "!E8:E38")<TIMEVALUE("05:00")))*5)-(SUMPRODUCT((INDIRECT($A13 & "!E8:E38")<TIMEVALUE("05:00"))*(INDIRECT($A13 & "!E8:E38")))*24) -> 0 | E13: =SUMPRODUCT((WEEKDAY(INDIRECT(A13&"!FW$8:FW$"&J13))=1)*(INDIRECT(A13&"!FY$5:GB$5")=$A$6)*(INDIRECT(A13&"!FY$8:GB$"&J13)))*24 -> 0 | F13: =SUMPRODUCT((COUNTIF(Fériés,(OFFSET(INDIRECT($A13 &"!FW$8"),,,Jours-1,)))*(OFFSET(INDIRECT($A13 &"!FZ$8"),,,Jours-1,))))*24 -> 0 | G13: =(B13-C13)-(H13*7) -> -151.67 | J13: =COUNT(INDIRECT(A13&"!fw8:fw38")) -> 30
A14: Juillet | B14: =HLOOKUP($A$6,INDIRECT($A14 &"!$FX$5:$GF$39"),35,0)*24 -> 0 | C14: =HMBase -> 151.67 | D14: =(SUMPRODUCT((INDIRECT($A14 & "!E8:E38")<>"")*(INDIRECT($A14 & "!E8:E38")<TIMEVALUE("05:00")))*5)-(SUMPRODUCT((INDIRECT($A14 & "!E8:E38")<TIMEVALUE("05:00"))*(INDIRECT($A14 & "!E8:E38")))*24) -> 0 | E14: =SUMPRODUCT((WEEKDAY(INDIRECT(A14&"!FW$8:FW$"&J14))=1)*(INDIRECT(A14&"!FY$5:GB$5")=$A$6)*(INDIRECT(A14&"!FY$8:GB$"&J14)))*24 -> 0 | F14: =SUMPRODUCT((COUNTIF(Fériés,(OFFSET(INDIRECT($A14 &"!FW$8"),,,Jours-1,)))*(OFFSET(INDIRECT($A14 &"!FZ$8"),,,Jours-1,))))*24 -> 0 | G14: =(B14-C14)-(H14*7) -> -151.67 | J14: =COUNT(INDIRECT(A14&"!fw8:fw38")) -> 31
A15: Août | B15: =HLOOKUP($A$6,INDIRECT($A15 &"!$FX$5:$GF$39"),35,0)*24 -> 0 | C15: =HMBase -> 151.67 | D15: =(SUMPRODUCT((INDIRECT($A15 & "!E8:E38")<>"")*(INDIRECT($A15 & "!E8:E38")<TIMEVALUE("05:00")))*5)-(SUMPRODUCT((INDIRECT($A15 & "!E8:E38")<TIMEVALUE("05:00"))*(INDIRECT($A15 & "!E8:E38")))*24) -> 0 | E15: =SUMPRODUCT((WEEKDAY(INDIRECT(A15&"!FW$8:FW$"&J15))=1)*(INDIRECT(A15&"!FY$5:GB$5")=$A$6)*(INDIRECT(A15&"!FY$8:GB$"&J15)))*24 -> 0 | F15: =SUMPRODUCT((COUNTIF(Fériés,(OFFSET(INDIRECT($A15 &"!FW$8"),,,Jours-1,)))*(OFFSET(INDIRECT($A15 &"!FZ$8"),,,Jours-1,))))*24 -> 0 | G15: =(B15-C15)-(H15*7) -> -151.67 | J15: =COUNT(INDIRECT(A15&"!fw8:fw38")) -> 31
A16: Septembre | B16: =HLOOKUP($A$6,INDIRECT($A16 &"!$FX$5:$GF$39"),35,0)*24 -> 0 | C16: =HMBase -> 151.67 | D16: =(SUMPRODUCT((INDIRECT($A16 & "!E8:E38")<>"")*(INDIRECT($A16 & "!E8:E38")<TIMEVALUE("05:00")))*5)-(SUMPRODUCT((INDIRECT($A16 & "!E8:E38")<TIMEVALUE("05:00"))*(INDIRECT($A16 & "!E8:E38")))*24) -> 0 | E16: =SUMPRODUCT((WEEKDAY(INDIRECT(A16&"!FW$8:FW$"&J16))=1)*(INDIRECT(A16&"!FY$5:GB$5")=$A$6)*(INDIRECT(A16&"!FY$8:GB$"&J16)))*24 -> 0 | F16: =SUMPRODUCT((COUNTIF(Fériés,(OFFSET(INDIRECT($A16 &"!FW$8"),,,Jours-1,)))*(OFFSET(INDIRECT($A16 &"!FZ$8"),,,Jours-1,))))*24 -> 0 | G16: =(B16-C16)-(H16*7) -> -151.67 | J16: =COUNT(INDIRECT(A16&"!fw8:fw38")) -> 30
A17: Octobre | B17: =HLOOKUP($A$6,INDIRECT($A17 &"!$FX$5:$GF$39"),35,0)*24 -> 0 | C17: =HMBase -> 151.67 | D17: =(SUMPRODUCT((INDIRECT($A17 & "!E8:E38")<>"")*(INDIRECT($A17 & "!E8:E38")<TIMEVALUE("05:00")))*5)-(SUMPRODUCT((INDIRECT($A17 & "!E8:E38")<TIMEVALUE("05:00"))*(INDIRECT($A17 & "!E8:E38")))*24) -> 0 | E17: =SUMPRODUCT((WEEKDAY(INDIRECT(A17&"!FW$8:FW$"&J17))=1)*(INDIRECT(A17&"!FY$5:GB$5")=$A$6)*(INDIRECT(A17&"!FY$8:GB$"&J17)))*24 -> 0 | F17: =SUMPRODUCT((COUNTIF(Fériés,(OFFSET(INDIRECT($A17 &"!FW$8"),,,Jours-1,)))*(OFFSET(INDIRECT($A17 &"!FZ$8"),,,Jours-1,))))*24 -> 0 | G17: =(B17-C17)-(H17*7) -> -151.67 | J17: =COUNT(INDIRECT(A17&"!fw8:fw38")) -> 31
A18: Novembre | B18: =HLOOKUP($A$6,INDIRECT($A18 &"!$FX$5:$GF$39"),35,0)*24 -> 0 | C18: =HMBase -> 151.67 | D18: =(SUMPRODUCT((INDIRECT($A18 & "!E8:E38")<>"")*(INDIRECT($A18 & "!E8:E38")<TIMEVALUE("05:00")))*5)-(SUMPRODUCT((INDIRECT($A18 & "!E8:E38")<TIMEVALUE("05:00"))*(INDIRECT($A18 & "!E8:E38")))*24) -> 0 | E18: =SUMPRODUCT((WEEKDAY(INDIRECT(A18&"!FW$8:FW$"&J18))=1)*(INDIRECT(A18&"!FY$5:GB$5")=$A$6)*(INDIRECT(A18&"!FY$8:GB$"&J18)))*24 -> 0 | F18: =SUMPRODUCT((COUNTIF(Fériés,(OFFSET(INDIRECT($A18 &"!FW$8"),,,Jours-1,)))*(OFFSET(INDIRECT($A18 &"!FZ$8"),,,Jours-1,))))*24 -> 0 | G18: =(B18-C18)-(H18*7) -> -151.67 | J18: =COUNT(INDIRECT(A18&"!fw8:fw38")) -> 30
A19: Décembre | B19: =HLOOKUP($A$6,INDIRECT($A19 &"!$FX$5:$GF$39"),35,0)*24 -> 0 | C19: =HMBase -> 151.67 | D19: =(SUMPRODUCT((INDIRECT($A19 & "!E8:E38")<>"")*(INDIRECT($A19 & "!E8:E38")<TIMEVALUE("05:00")))*5)-(SUMPRODUCT((INDIRECT($A19 & "!E8:E38")<TIMEVALUE("05:00"))*(INDIRECT($A19 & "!E8:E38")))*24) -> 0 | E19: =SUMPRODUCT((WEEKDAY(INDIRECT(A19&"!FW$8:FW$"&J19))=1)*(INDIRECT(A19&"!FY$5:GB$5")=$A$6)*(INDIRECT(A19&"!FY$8:GB$"&J19)))*24 -> 0 | F19: =SUMPRODUCT((COUNTIF(Fériés,(OFFSET(INDIRECT($A19 &"!FW$8"),,,Jours-1,)))*(OFFSET(INDIRECT($A19 &"!FZ$8"),,,Jours-1,))))*24 -> 0 | G19: =(B19-C19)-(H19*7) -> -151.67 | J19: =COUNT(INDIRECT(A19&"!fw8:fw38")) -> 31

Sheet Janvier
A1: Année
A2: 2016 | C2: =MID(CELL("nomfichier",A1),FIND("]",CELL("nomfichier",A1))+1,12) -> Janvier | D2: =An -> 2016 | L2: =MID(CELL("nomfichier",J1),FIND("]",CELL("nomfichier",J1))+1,12) -> Janvier | M2: =An -> 2016 | U2: =MID(CELL("nomfichier",S1),FIND("]",CELL("nomfichier",S1))+1,12) -> Janvier | V2: =An -> 2016 | FO2: =MID(CELL("nomfichier",FM2),FIND("]",CELL("nomfichier",FM2))+1,12) -> Janvier | FP2: =An -> 2016
C5: PIERRE | L5: PAUL | U5: MARTIN | FO5: DUBOIS | FW5: =MID(CELL("nomfichier",FU4),FIND("]",CELL("nomfichier",FU4))+1,12) -> Janvier | FY5: =C5 -> PIERRE | FZ5: =L5 -> PAUL | GA5: =U5 -> MARTIN | GB5: =FO5 -> DUBOIS
FW6: =An -> 2016
B7: Jours | C7: Date | D7: H.déb. | E7: H. Fin | F7: H.déb. | G7: H. Fin | H7: Total H | K7: Jours | L7: Date | M7: H.déb. | N7: H. Fin | O7: H.déb. | P7: H. Fin | Q7: Total H | T7: Jours | U7: Date | V7: H.déb. | W7: H. Fin | X7: H.déb. | Y7: H. Fin | Z7: Total H | FN7: Jours | FO7: Date | FP7: H.déb. | FQ7: H. Fin | FR7: H.déb. | FS7: H. Fin | FT7: Total H | FW7: Jours | FX7: Date | FY7: Total H | FZ7: Total H | GA7: Total H | GB7: Total H
B8: =DATE(An,MONTH("1/"&$C$2),1) -> 42370 | C8: =B8 -> 42370 | H8: =SUM(E8-D8,G8-F8) -> 0 | K8: =B8 -> 42370 | L8: =$C8 -> 42370 | Q8: =SUM(N8-M8,P8-O8) -> 0 | T8: =B8 -> 42370 | U8: =$C8 -> 42370 | Z8: =SUM(W8-V8,Y8-X8) -> 0 | FN8: =B8 -> 42370 | FO8: =FN8 -> 42370 | FT8: =SUM(FQ8-FP8,FS8-FR8) -> 0 | FW8: =B8 -> 42370 | FX8: =FW8 -> 42370 | FY8: =H8 -> 0 | FZ8: =Q8 -> 0 | GA8: =Z8 -> 0 | GB8: =FT8 -> 0
B9: =B8+1 -> 42371 | C9: =B9 -> 42371 | H9: =SUM(E9-D9,G9-F9) -> 0 | K9: =K8+1 -> 42371 | L9: =$C9 -> 42371 | Q9: =SUM(N9-M9,P9-O9) -> 0 | T9: =T8+1 -> 42371 | U9: =$C9 -> 42371 | Z9: =SUM(W9-V9,Y9-X9) -> 0 | FN9: =FN8+1 -> 42371 | FO9: =FN9 -> 42371 | FT9: =SUM(FQ9-FP9,FS9-FR9) -> 0 | FW9: =FW8+1 -> 42371 | FX9: =FW9 -> 42371 | FY9: =H9 -> 0 | FZ9: =Q9 -> 0 | GA9: =Z9 -> 0 | GB9: =FT9 -> 0
B10: =B9+1 -> 42372 | C10: =B10 -> 42372 | H10: =SUM(E10-D10,G10-F10) -> 0 | K10: =K9+1 -> 42372 | L10: =$C10 -> 42372 | Q10: =SUM(N10-M10,P10-O10) -> 0 | T10: =T9+1 -> 42372 | U10: =$C10 -> 42372 | Z10: =SUM(W10-V10,Y10-X10) -> 0 | FN10: =FN9+1 -> 42372 | FO10: =FN10 -> 42372 | FT10: =SUM(FQ10-FP10,FS10-FR10) -> 0 | FW10: =FW9+1 -> 42372 | FX10: =FW10 -> 42372 | FY10: =H10 -> 0 | FZ10: =Q10 -> 0 | GA10: =Z10 -> 0 | GB10: =FT10 -> 0
B11: =B10+1 -> 42373 | C11: =B11 -> 42373 | H11: =SUM(E11-D11,G11-F11) -> 0 | K11: =K10+1 -> 42373 | L11: =$C11 -> 42373 | Q11: =SUM(N11-M11,P11-O11) -> 0 | T11: =T10+1 -> 42373 | U11: =$C11 -> 42373 | Z11: =SUM(W11-V11,Y11-X11) -> 0 | FN11: =FN10+1 -> 42373 | FO11: =FN11 -> 42373 | FT11: =SUM(FQ11-FP11,FS11-FR11) -> 0 | FW11: =FW10+1 -> 42373 | FX11: =FW11 -> 42373 | FY11: =H11 -> 0 | FZ11: =Q11 -> 0 | GA11: =Z11 -> 0 | GB11: =FT11 -> 0
B12: =B11+1 -> 42374 | C12: =B12 -> 42374 | H12: =SUM(E12-D12,G12-F12) -> 0 | K12: =K11+1 -> 42374 | L12: =$C12 -> 42374 | Q12: =SUM(N12-M12,P12-O12) -> 0 | T12: =T11+1 -> 42374 | U12: =$C12 -> 42374 | Z12: =SUM(W12-V12,Y12-X12) -> 0 | FN12: =FN11+1 -> 42374 | FO12: =FN12 -> 42374 | FT12: =SUM(FQ12-FP12,FS12-FR12) -> 0 | FW12: =FW11+1 -> 42374 | FX12: =FW12 -> 42374 | FY12: =H12 -> 0 | FZ12: =Q12 -> 0 | GA12: =Z12 -> 0 | GB12: =FT12 -> 0
B13: =B12+1 -> 42375 | C13: =B13 -> 42375 | H13: =SUM(E13-D13,G13-F13) -> 0 | K13: =K12+1 -> 42375 | L13: =$C13 -> 42375 | Q13: =SUM(N13-M13,P13-O13) -> 0 | T13: =T12+1 -> 42375 | U13: =$C13 -> 42375 | Z13: =SUM(W13-V13,Y13-X13) -> 0 | FN13: =FN12+1 -> 42375 | FO13: =FN13 -> 42375 | FT13: =SUM(FQ13-FP13,FS13-FR13) -> 0 | FW13: =FW12+1 -> 42375 | FX13: =FW13 -> 42375 | FY13: =H13 -> 0 | FZ13: =Q13 -> 0 | GA13: =Z13 -> 0 | GB13: =FT13 -> 0
B14: =B13+1 -> 42376 | C14: =B14 -> 42376 | H14: =SUM(E14-D14,G14-F14) -> 0 | K14: =K13+1 -> 42376 | L14: =$C14 -> 42376 | Q14: =SUM(N14-M14,P14-O14) -> 0 | T14: =T13+1 -> 42376 | U14: =$C14 -> 42376 | Z14: =SUM(W14-V14,Y14-X14) -> 0 | FN14: =FN13+1 -> 42376 | FO14: =FN14 -> 42376 | FT14: =SUM(FQ14-FP14,FS14-FR14) -> 0 | FW14: =FW13+1 -> 42376 | FX14: =FW14 -> 42376 | FY14: =H14 -> 0 | FZ14: =Q14 -> 0 | GA14: =Z14 -> 0 | GB14: =FT14 -> 0
B15: =B14+1 -> 42377 | C15: =B15 -> 42377 | H15: =SUM(E15-D15,G15-F15) -> 0 | K15: =K14+1 -> 42377 | L15: =$C15 -> 42377 | Q15: =SUM(N15-M15,P15-O15) -> 0 | T15: =T14+1 -> 42377 | U15: =$C15 -> 42377 | Z15: =SUM(W15-V15,Y15-X15) -> 0 | FN15: =FN14+1 -> 42377 | FO15: =FN15 -> 42377 | FT15: =SUM(FQ15-FP15,FS15-FR15) -> 0 | FW15: =FW14+1 -> 42377 | FX15: =FW15 -> 42377 | FY15: =H15 -> 0 | FZ15: =Q15 -> 0 | GA15: =Z15 -> 0 | GB15: =FT15 -> 0
B16: =B15+1 -> 42378 | C16: =B16 -> 42378 | H16: =SUM(E16-D16,G16-F16) -> 0 | K16: =K15+1 -> 42378 | L16: =$C16 -> 42378 | Q16: =SUM(N16-M16,P16-O16) -> 0 | T16: =T15+1 -> 42378 | U16: =$C16 -> 42378 | Z16: =SUM(W16-V16,Y16-X16) -> 0 | FN16: =FN15+1 -> 42378 | FO16: =FN16 -> 42378 | FT16: =SUM(FQ16-FP16,FS16-FR16) -> 0 | FW16: =FW15+1 -> 42378 | FX16: =FW16 -> 42378 | FY16: =H16 -> 0 | FZ16: =Q16 -> 0 | GA16: =Z16 -> 0 | GB16: =FT16 -> 0
B17: =B16+1 -> 42379 | C17: =B17 -> 42379 | H17: =SUM(E17-D17,G17-F17) -> 0 | K17: =K16+1 -> 42379 | L17: =$C17 -> 42379 | Q17: =SUM(N17-M17,P17-O17) -> 0 | T17: =T16+1 -> 42379 | U17: =$C17 -> 42379 | Z17: =SUM(W17-V17,Y17-X17) -> 0 | FN17: =FN16+1 -> 42379 | FO17: =FN17 -> 42379 | FT17: =SUM(FQ17-FP17,FS17-FR17) -> 0 | FW17: =FW16+1 -> 42379 | FX17: =FW17 -> 42379 | FY17: =H17 -> 0 | FZ17: =Q17 -> 0 | GA17: =Z17 -> 0 | GB17: =FT17 -> 0
B18: =B17+1 -> 42380 | C18: =B18 -> 42380 | H18: =SUM(E18-D18,G18-F18) -> 0 | K18: =K17+1 -> 42380 | L18: =$C18 -> 42380 | Q18: =SUM(N18-M18,P18-O18) -> 0 | T18: =T17+1 -> 42380 | U18: =$C18 -> 42380 | Z18: =SUM(W18-V18,Y18-X18) -> 0 | FN18: =FN17+1 -> 42380 | FO18: =FN18 -> 42380 | FT18: =SUM(FQ18-FP18,FS18-FR18) -> 0 | FW18: =FW17+1 -> 42380 | FX18: =FW18 -> 42380 | FY18: =H18 -> 0 | FZ18: =Q18 -> 0 | GA18: =Z18 -> 0 | GB18: =FT18 -> 0
B19: =B18+1 -> 42381 | C19: =B19 -> 42381 | H19: =SUM(E19-D19,G19-F19) -> 0 | K19: =K18+1 -> 42381 | L19: =$C19 -> 42381 | Q19: =SUM(N19-M19,P19-O19) -> 0 | T19: =T18+1 -> 42381 | U19: =$C19 -> 42381 | Z19: =SUM(W19-V19,Y19-X19) -> 0 | FN19: =FN18+1 -> 42381 | FO19: =FN19 -> 42381 | FT19: =SUM(FQ19-FP19,FS19-FR19) -> 0 | FW19: =FW18+1 -> 42381 | FX19: =FW19 -> 42381 | FY19: =H19 -> 0 | FZ19: =Q19 -> 0 | GA19: =Z19 -> 0 | GB19: =FT19 -> 0
B20: =B19+1 -> 42382 | C20: =B20 -> 42382 | H20: =SUM(E20-D20,G20-F20) -> 0 | K20: =K19+1 -> 42382 | L20: =$C20 -> 42382 | Q20: =SUM(N20-M20,P20-O20) -> 0 | T20: =T19+1 -> 42382 | U20: =$C20 -> 42382 | Z20: =SUM(W20-V20,Y20-X20) -> 0 | FN20: =FN19+1 -> 42382 | FO20: =FN20 -> 42382 | FT20: =SUM(FQ20-FP20,FS20-FR20) -> 0 | FW20: =FW19+1 -> 42382 | FX20: =FW20 -> 42382 | FY20: =H20 -> 0 | FZ20: =Q20 -> 0 | GA20: =Z20 -> 0 | GB20: =FT20 -> 0
... B35: =B34+1 -> 42397 | C35: =B35 -> 42397 | H35: =SUM(E35-D35,G35-F35) -> 0 | K35: =K34+1 -> 42397 | L35: =$C35 -> 42397 | Q35: =SUM(N35-M35,P35-O35) -> 0 | T35: =T34+1 -> 42397 | U35: =$C35 -> 42397 | Z35: =SUM(W35-V35,Y35-X35) -> 0 | FN35: =FN34+1 -> 42397 | FO35: =FN35 -> 42397 | FT35: =SUM(FQ35-FP35,FS35-FR35) -> 0 | FW35: =FW34+1 -> 42397 | FX35: =FW35 -> 42397 | FY35: =H35 -> 0 | FZ35: =Q35 -> 0 | GA35: =Z35 -> 0 | GB35: =FT35 -> 0
B36: =IF(MONTH($B$35+1)=MONTH($B$35),$B$35+1,"") -> 42398 | C36: =IF(B36="","",C35+1) -> 42398 | H36: =SUM(E36-D36,G36-F36) -> 0 | K36: =IF(MONTH($B$35+1)=MONTH($B$35),$B$35+1,"") -> 42398 | L36: =$C36 -> 42398 | Q36: =SUM(N36-M36,P36-O36) -> 0 | T36: =IF(MONTH($B$35+1)=MONTH($B$35),$B$35+1,"") -> 42398 | U36: =$C36 -> 42398 | Z36: =SUM(W36-V36,Y36-X36) -> 0 | FN36: =IF(MONTH($B$35+1)=MONTH($B$35),$B$35+1,"") -> 42398 | FO36: =IF(FN36="","",FO35+1) -> 42398 | FT36: =SUM(FQ36-FP36,FS36-FR36) -> 0 | FW36: =IF(MONTH($B$35+1)=MONTH($B$35),$B$35+1,"") -> 42398 | FX36: =IF(FW36="","",FX35+1) -> 42398 | FY36: =H36 -> 0 | FZ36: =Q36 -> 0 | GA36: =Z36 -> 0 | GB36: =FT36 -> 0
B37: =IF(MONTH($B$35+2)=MONTH($B$35),$B$35+2,"") -> 42399 | C37: =IF(B37="","",C36+1) -> 42399 | H37: =SUM(E37-D37,G37-F37) -> 0 | K37: =IF(MONTH($B$35+2)=MONTH($B$35),$B$35+2,"") -> 42399 | L37: =$C37 -> 42399 | Q37: =SUM(N37-M37,P37-O37) -> 0 | T37: =IF(MONTH($B$35+2)=MONTH($B$35),$B$35+2,"") -> 42399 | U37: =$C37 -> 42399 | Z37: =SUM(W37-V37,Y37-X37) -> 0 | FN37: =IF(MONTH($B$35+2)=MONTH($B$35),$B$35+2,"") -> 42399 | FO37: =IF(FN37="","",FO36+1) -> 42399 | FT37: =SUM(FQ37-FP37,FS37-FR37) -> 0 | FW37: =IF(MONTH($B$35+2)=MONTH($B$35),$B$35+2,"") -> 42399 | FX37: =IF(FW37="","",FX36+1) -> 42399 | FY37: =H37 -> 0 | FZ37: =Q37 -> 0 | GA37: =Z37 -> 0 | GB37: =FT37 -> 0
B38: =IF(MONTH($B$35+3)=MONTH($B$35),$B$35+3,"") -> 42400 | C38: =IF(B38="","",C37+1) -> 42400 | H38: =SUM(E38-D38,G38-F38) -> 0 | K38: =IF(MONTH($B$35+3)=MONTH($B$35),$B$35+3,"") -> 42400 | L38: =$C38 -> 42400 | Q38: =SUM(N38-M38,P38-O38) -> 0 | T38: =IF(MONTH($B$35+3)=MONTH($B$35),$B$35+3,"") -> 42400 | U38: =$C38 -> 42400 | Z38: =SUM(W38-V38,Y38-X38) -> 0 | FN38: =IF(MONTH($B$35+3)=MONTH($B$35),$B$35+3,"") -> 42400 | FO38: =IF(FN38="","",FO37+1) -> 42400 | FT38: =SUM(FQ38-FP38,FS38-FR38) -> 0 | FW38: =IF(MONTH($B$35+3)=MONTH($B$35),$B$35+3,"") -> 42400 | FX38: =IF(FW38="","",FX37+1) -> 42400 | FY38: =H38 -> 0 | FZ38: =Q38 -> 0 | GA38: =Z38 -> 0 | GB38: =FT38 -> 0
G39: Total | H39: =SUM(H8:H38) -> 0 | P39: Total | Q39: =SUM(Q8:Q38) -> 0 | Y39: Total | Z39: =SUM(Z8:Z38) -> 0 | FS39: Total | FT39: =SUM(FT8:FT38) -> 0 | FY39: =H39 -> 0 | FZ39: =Q39 -> 0 | GA39: =Z39 -> 0 | GB39: =FT39 -> 0

Sheet Février
C2: =MID(CELL("nomfichier",A1),FIND("]",CELL("nomfichier",A1))+1,12) -> Février | D2: =An -> 2016 | L2: =MID(CELL("nomfichier",A1),FIND("]",CELL("nomfichier",A1))+1,12) -> Février | M2: =An -> 2016 | U2: =MID(CELL("nomfichier",A1),FIND("]",CELL("nomfichier",A1))+1,12) -> Février | V2: =An -> 2016 | FO2: =MID(CELL("nomfichier",A1),FIND("]",CELL("nomfichier",A1))+1,12) -> Février | FP2: =An -> 2016
C5: =Janvier!C5 -> PIERRE | L5: =Janvier!L5 -> PAUL | U5: =Janvier!U5 -> MARTIN | FO5: =Janvier!FO5 -> DUBOIS | FW5: =MID(CELL("nomfichier",A1),FIND("]",CELL("nomfichier",A1))+1,12) -> Février | FY5: =C5 -> PIERRE | FZ5: =L5 -> PAUL | GA5: =U5 -> MARTIN | GB5: =FO5 -> DUBOIS
FW6: =An -> 2016
B7: Jours | C7: Date | D7: H.déb. | E7: H. Fin | F7: H.déb. | G7: H. Fin | H7: Total H | K7: Jours | L7: Date | M7: H.déb. | N7: H. Fin | O7: H.déb. | P7: H. Fin | Q7: Total H | T7: Jours | U7: Date | V7: H.déb. | W7: H. Fin | X7: H.déb. | Y7: H. Fin | Z7: Total H | FN7: Jours | FO7: Date | FP7: H.déb. | FQ7: H. Fin | FR7: H.déb. | FS7: H. Fin | FT7: Total H | FW7: Jours | FX7: Date | FY7: Total H | FZ7: Total H | GA7: Total H | GB7: Total H
B8: =DATE(An,MONTH("1/"&$C$2),1) -> 42401 | C8: =B8 -> 42401 | H8: =SUM(E8-D8,G8-F8) -> 0 | K8: =B8 -> 42401 | L8: =$C8 -> 42401 | Q8: =SUM(N8-M8,P8-O8) -> 0 | T8: =B8 -> 42401 | U8: =$C8 -> 42401 | Z8: =SUM(W8-V8,Y8-X8) -> 0 | FN8: =B8 -> 42401 | FO8: =FN8 -> 42401 | FT8: =SUM(FQ8-FP8,FS8-FR8) -> 0 | FW8: =B8 -> 42401 | FX8: =FW8 -> 42401 | FY8: =H8 -> 0 | FZ8: =Q8 -> 0 | GA8: =Z8 -> 0 | GB8: =FT8 -> 0
B9: =B8+1 -> 42402 | C9: =B9 -> 42402 | H9: =SUM(E9-D9,G9-F9) -> 0 | K9: =K8+1 -> 42402 | L9: =$C9 -> 42402 | Q9: =SUM(N9-M9,P9-O9) -> 0 | T9: =T8+1 -> 42402 | U9: =$C9 -> 42402 | Z9: =SUM(W9-V9,Y9-X9) -> 0 | FN9: =FN8+1 -> 42402 | FO9: =FN9 -> 42402 | FT9: =SUM(FQ9-FP9,FS9-FR9) -> 0 | FW9: =FW8+1 -> 42402 | FX9: =FW9 -> 42402 | FY9: =H9 -> 0 | FZ9: =Q9 -> 0 | GA9: =Z9 -> 0 | GB9: =FT9 -> 0
B10: =B9+1 -> 42403 | C10: =B10 -> 42403 | H10: =SUM(E10-D10,G10-F10) -> 0 | K10: =K9+1 -> 42403 | L10: =$C10 -> 42403 | Q10: =SUM(N10-M10,P10-O10) -> 0 | T10: =T9+1 -> 42403 | U10: =$C10 -> 42403 | Z10: =SUM(W10-V10,Y10-X10) -> 0 | FN10: =FN9+1 -> 42403 | FO10: =FN10 -> 42403 | FT10: =SUM(FQ10-FP10,FS10-FR10) -> 0 | FW10: =FW9+1 -> 42403 | FX10: =FW10 -> 42403 | FY10: =H10 -> 0 | FZ10: =Q10 -> 0 | GA10: =Z10 -> 0 | GB10: =FT10 -> 0
B11: =B10+1 -> 42404 | C11: =B11 -> 42404 | H11: =SUM(E11-D11,G11-F11) -> 0 | K11: =K10+1 -> 42404 | L11: =$C11 -> 42404 | Q11: =SUM(N11-M11,P11-O11) -> 0 | T11: =T10+1 -> 42404 | U11: =$C11 -> 42404 | Z11: =SUM(W11-V11,Y11-X11) -> 0 | FN11: =FN10+1 -> 42404 | FO11: =FN11 -> 42404 | FT11: =SUM(FQ11-FP11,FS11-FR11) -> 0 | FW11: =FW10+1 -> 42404 | FX11: =FW11 -> 42404 | FY11: =H11 -> 0 | FZ11: =Q11 -> 0 | GA11: =Z11 -> 0 | GB11: =FT11 -> 0
B12: =B11+1 -> 42405 | C12: =B12 -> 42405 | H12: =SUM(E12-D12,G12-F12) -> 0 | K12: =K11+1 -> 42405 | L12: =$C12 -> 42405 | Q12: =SUM(N12-M12,P12-O12) -> 0 | T12: =T11+1 -> 42405 | U12: =$C12 -> 42405 | Z12: =SUM(W12-V12,Y12-X12) -> 0 | FN12: =FN11+1 -> 42405 | FO12: =FN12 -> 42405 | FT12: =SUM(FQ12-FP12,FS12-FR12) -> 0 | FW12: =FW11+1 -> 42405 | FX12: =FW12 -> 42405 | FY12: =H12 -> 0 | FZ12: =Q12 -> 0 | GA12: =Z12 -> 0 | GB12: =FT12 -> 0
B13: =B12+1 -> 42406 | C13: =B13 -> 42406 | H13: =SUM(E13-D13,G13-F13) -> 0 | K13: =K12+1 -> 42406 | L13: =$C13 -> 42406 | Q13: =SUM(N13-M13,P13-O13) -> 0 | T13: =T12+1 -> 42406 | U13: =$C13 -> 42406 | Z13: =SUM(W13-V13,Y13-X13) -> 0 | FN13: =FN12+1 -> 42406 | FO13: =FN13 -> 42406 | FT13: =SUM(FQ13-FP13,FS13-FR13) -> 0 | FW13: =FW12+1 -> 42406 | FX13: =FW13 -> 42406 | FY13: =H13 -> 0 | FZ13: =Q13 -> 0 | GA13: =Z13 -> 0 | GB13: =FT13 -> 0
B14: =B13+1 -> 42407 | C14: =B14 -> 42407 | H14: =SUM(E14-D14,G14-F14) -> 0 | K14: =K13+1 -> 42407 | L14: =$C14 -> 42407 | Q14: =SUM(N14-M14,P14-O14) -> 0 | T14: =T13+1 -> 42407 | U14: =$C14 -> 42407 | Z14: =SUM(W14-V14,Y14-X14) -> 0 | FN14: =FN13+1 -> 42407 | FO14: =FN14 -> 42407 | FT14: =SUM(FQ14-FP14,FS14-FR14) -> 0 | FW14: =FW13+1 -> 42407 | FX14: =FW14 -> 42407 | FY14: =H14 -> 0 | FZ14: =Q14 -> 0 | GA14: =Z14 -> 0 | GB14: =FT14 -> 0
B15: =B14+1 -> 42408 | C15: =B15 -> 42408 | H15: =SUM(E15-D15,G15-F15) -> 0 | K15: =K14+1 -> 42408 | L15: =$C15 -> 42408 | Q15: =SUM(N15-M15,P15-O15) -> 0 | T15: =T14+1 -> 42408 | U15: =$C15 -> 42408 | Z15: =SUM(W15-V15,Y15-X15) -> 0 | FN15: =FN14+1 -> 42408 | FO15: =FN15 -> 42408 | FT15: =SUM(FQ15-FP15,FS15-FR15) -> 0 | FW15: =FW14+1 -> 42408 | FX15: =FW15 -> 42408 | FY15: =H15 -> 0 | FZ15: =Q15 -> 0 | GA15: =Z15 -> 0 | GB15: =FT15 -> 0
B16: =B15+1 -> 42409 | C16: =B16 -> 42409 | H16: =SUM(E16-D16,G16-F16) -> 0 | K16: =K15+1 -> 42409 | L16: =$C16 -> 42409 | Q16: =SUM(N16-M16,P16-O16) -> 0 | T16: =T15+1 -> 42409 | U16: =$C16 -> 42409 | Z16: =SUM(W16-V16,Y16-X16) -> 0 | FN16: =FN15+1 -> 42409 | FO16: =FN16 -> 42409 | FT16: =SUM(FQ16-FP16,FS16-FR16) -> 0 | FW16: =FW15+1 -> 42409 | FX16: =FW16 -> 42409 | FY16: =H16 -> 0 | FZ16: =Q16 -> 0 | GA16: =Z16 -> 0 | GB16: =FT16 -> 0
B17: =B16+1 -> 42410 | C17: =B17 -> 42410 | H17: =SUM(E17-D17,G17-F17) -> 0 | K17: =K16+1 -> 42410 | L17: =$C17 -> 42410 | Q17: =SUM(N17-M17,P17-O17) -> 0 | T17: =T16+1 -> 42410 | U17: =$C17 -> 42410 | Z17: =SUM(W17-V17,Y17-X17) -> 0 | FN17: =FN16+1 -> 42410 | FO17: =FN17 -> 42410 | FT17: =SUM(FQ17-FP17,FS17-FR17) -> 0 | FW17: =FW16+1 -> 42410 | FX17: =FW17 -> 42410 | FY17: =H17 -> 0 | FZ17: =Q17 -> 0 | GA17: =Z17 -> 0 | GB17: =FT17 -> 0
B18: =B17+1 -> 42411 | C18: =B18 -> 42411 | H18: =SUM(E18-D18,G18-F18) -> 0 | K18: =K17+1 -> 42411 | L18: =$C18 -> 42411 | Q18: =SUM(N18-M18,P18-O18) -> 0 | T18: =T17+1 -> 42411 | U18: =$C18 -> 42411 | Z18: =SUM(W18-V18,Y18-X18) -> 0 | FN18: =FN17+1 -> 42411 | FO18: =FN18 -> 42411 | FT18: =SUM(FQ18-FP18,FS18-FR18) -> 0 | FW18: =FW17+1 -> 42411 | FX18: =FW18 -> 42411 | FY18: =H18 -> 0 | FZ18: =Q18 -> 0 | GA18: =Z18 -> 0 | GB18: =FT18 -> 0
B19: =B18+1 -> 42412 | C19: =B19 -> 42412 | H19: =SUM(E19-D19,G19-F19) -> 0 | K19: =K18+1 -> 42412 | L19: =$C19 -> 42412 | Q19: =SUM(N19-M19,P19-O19) -> 0 | T19: =T18+1 -> 42412 | U19: =$C19 -> 42412 | Z19: =SUM(W19-V19,Y19-X19) -> 0 | FN19: =FN18+1 -> 42412 | FO19: =FN19 -> 42412 | FT19: =SUM(FQ19-FP19,FS19-FR19) -> 0 | FW19: =FW18+1 -> 42412 | FX19: =FW19 -> 42412 | FY19: =H19 -> 0 | FZ19: =Q19 -> 0 | GA19: =Z19 -> 0 | GB19: =FT19 -> 0
B20: =B19+1 -> 42413 | C20: =B20 -> 42413 | H20: =SUM(E20-D20,G20-F20) -> 0 | K20: =K19+1 -> 42413 | L20: =$C20 -> 42413 | Q20: =SUM(N20-M20,P20-O20) -> 0 | T20: =T19+1 -> 42413 | U20: =$C20 -> 42413 | Z20: =SUM(W20-V20,Y20-X20) -> 0 | FN20: =FN19+1 -> 42413 | FO20: =FN20 -> 42413 | FT20: =SUM(FQ20-FP20,FS20-FR20) -> 0 | FW20: =FW19+1 -> 42413 | FX20: =FW20 -> 42413 | FY20: =H20 -> 0 | FZ20: =Q20 -> 0 | GA20: =Z20 -> 0 | GB20: =FT20 -> 0
... B35: =B34+1 -> 42428 | C35: =B35 -> 42428 | H35: =SUM(E35-D35,G35-F35) -> 0 | K35: =K34+1 -> 42428 | L35: =$C35 -> 42428 | Q35: =SUM(N35-M35,P35-O35) -> 0 | T35: =T34+1 -> 42428 | U35: =$C35 -> 42428 | Z35: =SUM(W35-V35,Y35-X35) -> 0 | FN35: =FN34+1 -> 42428 | FO35: =FN35 -> 42428 | FT35: =SUM(FQ35-FP35,FS35-FR35) -> 0 | FW35: =FW34+1 -> 42428 | FX35: =FW35 -> 42428 | FY35: =H35 -> 0 | FZ35: =Q35 -> 0 | GA35: =Z35 -> 0 | GB35: =FT35 -> 0
B36: =IF(MONTH($B$35+1)=MONTH($B$35),$B$35+1,"") -> 42429 | C36: =IF(B36="","",C35+1) -> 42429 | H36: =SUM(E36-D36,G36-F36) -> 0 | K36: =IF(MONTH($B$35+1)=MONTH($B$35),$B$35+1,"") -> 42429 | L36: =$C36 -> 42429 | Q36: =SUM(N36-M36,P36-O36) -> 0 | T36: =IF(MONTH($B$35+1)=MONTH($B$35),$B$35+1,"") -> 42429 | U36: =$C36 -> 42429 | Z36: =SUM(W36-V36,Y36-X36) -> 0 | FN36: =IF(MONTH($B$35+1)=MONTH($B$35),$B$35+1,"") -> 42429 | FO36: =IF(FN36="","",FO35+1) -> 42429 | FT36: =SUM(FQ36-FP36,FS36-FR36) -> 0 | FW36: =IF(MONTH($B$35+1)=MONTH($B$35),$B$35+1,"") -> 42429 | FX36: =IF(FW36="","",FX35+1) -> 42429 | FY36: =H36 -> 0 | FZ36: =Q36 -> 0 | GA36: =Z36 -> 0 | GB36: =FT36 -> 0
B37: =IF(MONTH($B$35+2)=MONTH($B$35),$B$35+2,"") | C37: =IF(B37="","",C36+1) | H37: =SUM(E37-D37,G37-F37) -> 0 | K37: =IF(MONTH($B$35+2)=MONTH($B$35),$B$35+2,"") | L37: =$C37 | Q37: =SUM(N37-M37,P37-O37) -> 0 | T37: =IF(MONTH($B$35+2)=MONTH($B$35),$B$35+2,"") | U37: =$C37 | Z37: =SUM(W37-V37,Y37-X37) -> 0 | FN37: =IF(MONTH($B$35+2)=MONTH($B$35),$B$35+2,"") | FO37: =IF(FN37="","",FO36+1) | FT37: =SUM(FQ37-FP37,FS37-FR37) -> 0 | FW37: =IF(MONTH($B$35+2)=MONTH($B$35),$B$35+2,"") | FX37: =IF(FW37="","",FX36+1) | FY37: =H37 -> 0 | FZ37: =Q37 -> 0 | GA37: =Z37 -> 0 | GB37: =FT37 -> 0
B38: =IF(MONTH($B$35+3)=MONTH($B$35),$B$35+3,"") | C38: =IF(B38="","",C37+1) | H38: =SUM(E38-D38,G38-F38) -> 0 | K38: =IF(MONTH($B$35+3)=MONTH($B$35),$B$35+3,"") | L38: =$C38 | Q38: =SUM(N38-M38,P38-O38) -> 0 | T38: =IF(MONTH($B$35+3)=MONTH($B$35),$B$35+3,"") | U38: =$C38 | Z38: =SUM(W38-V38,Y38-X38) -> 0 | FN38: =IF(MONTH($B$35+3)=MONTH($B$35),$B$35+3,"") | FO38: =IF(FN38="","",FO37+1) | FT38: =SUM(FQ38-FP38,FS38-FR38) -> 0 | FW38: =IF(MONTH($B$35+3)=MONTH($B$35),$B$35+3,"") | FX38: =IF(FW38="","",FX37+1) | FY38: =H38 -> 0 | FZ38: =Q38 -> 0 | GA38: =Z38 -> 0 | GB38: =FT38 -> 0
G39: Total | H39: =SUM(H8:H38) -> 0 | P39: Total | Q39: =SUM(Q8:Q38) -> 0 | Y39: Total | Z39: =SUM(Z8:Z38) -> 0 | FS39: Total | FT39: =SUM(FT8:FT38) -> 0 | FY39: =H39 -> 0 | FZ39: =Q39 -> 0 | GA39: =Z39 -> 0 | GB39: =FT39 -> 0

Sheet Mars
C2: =MID(CELL("nomfichier",A1),FIND("]",CELL("nomfichier",A1))+1,12) -> Mars | D2: =An -> 2016 | L2: =MID(CELL("nomfichier",A1),FIND("]",CELL("nomfichier",A1))+1,12) -> Mars | M2: =An -> 2016 | U2: =MID(CELL("nomfichier",A1),FIND("]",CELL("nomfichier",A1))+1,12) -> Mars | V2: =An -> 2016 | FO2: =MID(CELL("nomfichier",A1),FIND("]",CELL("nomfichier",A1))+1,12) -> Mars | FP2: =An -> 2016
C5: =Janvier!C5 -> PIERRE | L5: =Janvier!L5 -> PAUL | U5: =Janvier!U5 -> MARTIN | FO5: =Janvier!FO5 -> DUBOIS | FW5: =MID(CELL("nomfichier",A1),FIND("]",CELL("nomfichier",A1))+1,12) -> Mars | FY5: =C5 -> PIERRE | FZ5: =L5 -> PAUL | GA5: =U5 -> MARTIN | GB5: =FO5 -> DUBOIS
FW6: =An -> 2016
B7: Jours | C7: Date | D7: H.déb. | E7: H. Fin | F7: H.déb. | G7: H. Fin | H7: Total H | K7: Jours | L7: Date | M7: H.déb. | N7: H. Fin | O7: H.déb. | P7: H. Fin | Q7: Total H | T7: Jours | U7: Date | V7: H.déb. | W7: H. Fin | X7: H.déb. | Y7: H. Fin | Z7: Total H | FN7: Jours | FO7: Date | FP7: H.déb. | FQ7: H. Fin | FR7: H.déb. | FS7: H. Fin | FT7: Total H | FW7: Jours | FX7: Date | FY7: Total H | FZ7: Total H | GA7: Total H | GB7: Total H
B8: =DATE(An,MONTH("1/"&$C$2),1) -> 42430 | C8: =B8 -> 42430 | H8: =SUM(E8-D8,G8-F8) -> 0 | K8: =B8 -> 42430 | L8: =$C8 -> 42430 | Q8: =SUM(N8-M8,P8-O8) -> 0 | T8: =B8 -> 42430 | U8: =$C8 -> 42430 | Z8: =SUM(W8-V8,Y8-X8) -> 0 | FN8: =B8 -> 42430 | FO8: =FN8 -> 42430 | FT8: =SUM(FQ8-FP8,FS8-FR8) -> 0 | FW8: =B8 -> 42430 | FX8: =FW8 -> 42430 | FY8: =H8 -> 0 | FZ8: =Q8 -> 0 | GA8: =Z8 -> 0 | GB8: =FT8 -> 0
B9: =B8+1 -> 42431 | C9: =B9 -> 42431 | H9: =SUM(E9-D9,G9-F9) -> 0 | K9: =K8+1 -> 42431 | L9: =$C9 -> 42431 | Q9: =SUM(N9-M9,P9-O9) -> 0 | T9: =T8+1 -> 42431 | U9: =$C9 -> 42431 | Z9: =SUM(W9-V9,Y9-X9) -> 0 | FN9: =FN8+1 -> 42431 | FO9: =FN9 -> 42431 | FT9: =SUM(FQ9-FP9,FS9-FR9) -> 0 | FW9: =FW8+1 -> 42431 | FX9: =FW9 -> 42431 | FY9: =H9 -> 0 | FZ9: =Q9 -> 0 | GA9: =Z9 -> 0 | GB9: =FT9 -> 0
B10: =B9+1 -> 42432 | C10: =B10 -> 42432 | H10: =SUM(E10-D10,G10-F10) -> 0 | K10: =K9+1 -> 42432 | L10: =$C10 -> 42432 | Q10: =SUM(N10-M10,P10-O10) -> 0 | T10: =T9+1 -> 42432 | U10: =$C10 -> 42432 | Z10: =SUM(W10-V10,Y10-X10) -> 0 | FN10: =FN9+1 -> 42432 | FO10: =FN10 -> 42432 | FT10: =SUM(FQ10-FP10,FS10-FR10) -> 0 | FW10: =FW9+1 -> 42432 | FX10: =FW10 -> 42432 | FY10: =H10 -> 0 | FZ10: =Q10 -> 0 | GA10: =Z10 -> 0 | GB10: =FT10 -> 0
B11: =B10+1 -> 42433 | C11: =B11 -> 42433 | H11: =SUM(E11-D11,G11-F11) -> 0 | K11: =K10+1 -> 42433 | L11: =$C11 -> 42433 | Q11: =SUM(N11-M11,P11-O11) -> 0 | T11: =T10+1 -> 42433 | U11: =$C11 -> 42433 | Z11: =SUM(W11-V11,Y11-X11) -> 0 | FN11: =FN10+1 -> 42433 | FO11: =FN11 -> 42433 | FT11: =SUM(FQ11-FP11,FS11-FR11) -> 0 | FW11: =FW10+1 -> 42433 | FX11: =FW11 -> 42433 | FY11: =H11 -> 0 | FZ11: =Q11 -> 0 | GA11: =Z11 -> 0 | GB11: =FT11 -> 0
B12: =B11+1 -> 42434 | C12: =B12 -> 42434 | H12: =SUM(E12-D12,G12-F12) -> 0 | K12: =K11+1 -> 42434 | L12: =$C12 -> 42434 | Q12: =SUM(N12-M12,P12-O12) -> 0 | T12: =T11+1 -> 42434 | U12: =$C12 -> 42434 | Z12: =SUM(W12-V12,Y12-X12) -> 0 | FN12: =FN11+1 -> 42434 | FO12: =FN12 -> 42434 | FT12: =SUM(FQ12-FP12,FS12-FR12) -> 0 | FW12: =FW11+1 -> 42434 | FX12: =FW12 -> 42434 | FY12: =H12 -> 0 | FZ12: =Q12 -> 0 | GA12: =Z12 -> 0 | GB12: =FT12 -> 0
B13: =B12+1 -> 42435 | C13: =B13 -> 42435 | H13: =SUM(E13-D13,G13-F13) -> 0 | K13: =K12+1 -> 42435 | L13: =$C13 -> 42435 | Q13: =SUM(N13-M13,P13-O13) -> 0 | T13: =T12+1 -> 42435 | U13: =$C13 -> 42435 | Z13: =SUM(W13-V13,Y13-X13) -> 0 | FN13: =FN12+1 -> 42435 | FO13: =FN13 -> 42435 | FT13: =SUM(FQ13-FP13,FS13-FR13) -> 0 | FW13: =FW12+1 -> 42435 | FX13: =FW13 -> 42435 | FY13: =H13 -> 0 | FZ13: =Q13 -> 0 | GA13: =Z13 -> 0 | GB13: =FT13 -> 0
B14: =B13+1 -> 42436 | C14: =B14 -> 42436 | H14: =SUM(E14-D14,G14-F14) -> 0 | K14: =K13+1 -> 42436 | L14: =$C14 -> 42436 | Q14: =SUM(N14-M14,P14-O14) -> 0 | T14: =T13+1 -> 42436 | U14: =$C14 -> 42436 | Z14: =SUM(W14-V14,Y14-X14) -> 0 | FN14: =FN13+1 -> 42436 | FO14: =FN14 -> 42436 | FT14: =SUM(FQ14-FP14,FS14-FR14) -> 0 | FW14: =FW13+1 -> 42436 | FX14: =FW14 -> 42436 | FY14: =H14 -> 0 | FZ14: =Q14 -> 0 | GA14: =Z14 -> 0 | GB14: =FT14 -> 0
B15: =B14+1 -> 42437 | C15: =B15 -> 42437 | H15: =SUM(E15-D15,G15-F15) -> 0 | K15: =K14+1 -> 42437 | L15: =$C15 -> 42437 | Q15: =SUM(N15-M15,P15-O15) -> 0 | T15: =T14+1 -> 42437 | U15: =$C15 -> 42437 | Z15: =SUM(W15-V15,Y15-X15) -> 0 | FN15: =FN14+1 -> 42437 | FO15: =FN15 -> 42437 | FT15: =SUM(FQ15-FP15,FS15-FR15) -> 0 | FW15: =FW14+1 -> 42437 | FX15: =FW15 -> 42437 | FY15: =H15 -> 0 | FZ15: =Q15 -> 0 | GA15: =Z15 -> 0 | GB15: =FT15 -> 0
B16: =B15+1 -> 42438 | C16: =B16 -> 42438 | H16: =SUM(E16-D16,G16-F16) -> 0 | K16: =K15+1 -> 42438 | L16: =$C16 -> 42438 | Q16: =SUM(N16-M16,P16-O16) -> 0 | T16: =T15+1 -> 42438 | U16: =$C16 -> 42438 | Z16: =SUM(W16-V16,Y16-X16) -> 0 | FN16: =FN15+1 -> 42438 | FO16: =FN16 -> 42438 | FT16: =SUM(FQ16-FP16,FS16-FR16) -> 0 | FW16: =FW15+1 -> 42438 | FX16: =FW16 -> 42438 | FY16: =H16 -> 0 | FZ16: =Q16 -> 0 | GA16: =Z16 -> 0 | GB16: =FT16 -> 0
B17: =B16+1 -> 42439 | C17: =B17 -> 42439 | H17: =SUM(E17-D17,G17-F17) -> 0 | K17: =K16+1 -> 42439 | L17: =$C17 -> 42439 | Q17: =SUM(N17-M17,P17-O17) -> 0 | T17: =T16+1 -> 42439 | U17: =$C17 -> 42439 | Z17: =SUM(W17-V17,Y17-X17) -> 0 | FN17: =FN16+1 -> 42439 | FO17: =FN17 -> 42439 | FT17: =SUM(FQ17-FP17,FS17-FR17) -> 0 | FW17: =FW16+1 -> 42439 | FX17: =FW17 -> 42439 | FY17: =H17 -> 0 | FZ17: =Q17 -> 0 | GA17: =Z17 -> 0 | GB17: =FT17 -> 0
B18: =B17+1 -> 42440 | C18: =B18 -> 42440 | H18: =SUM(E18-D18,G18-F18) -> 0 | K18: =K17+1 -> 42440 | L18: =$C18 -> 42440 | Q18: =SUM(N18-M18,P18-O18) -> 0 | T18: =T17+1 -> 42440 | U18: =$C18 -> 42440 | Z18: =SUM(W18-V18,Y18-X18) -> 0 | FN18: =FN17+1 -> 42440 | FO18: =FN18 -> 42440 | FT18: =SUM(FQ18-FP18,FS18-FR18) -> 0 | FW18: =FW17+1 -> 42440 | FX18: =FW18 -> 42440 | FY18: =H18 -> 0 | FZ18: =Q18 -> 0 | GA18: =Z18 -> 0 | GB18: =FT18 -> 0
B19: =B18+1 -> 42441 | C19: =B19 -> 42441 | H19: =SUM(E19-D19,G19-F19) -> 0 | K19: =K18+1 -> 42441 | L19: =$C19 -> 42441 | Q19: =SUM(N19-M19,P19-O19) -> 0 | T19: =T18+1 -> 42441 | U19: =$C19 -> 42441 | Z19: =SUM(W19-V19,Y19-X19) -> 0 | FN19: =FN18+1 -> 42441 | FO19: =FN19 -> 42441 | FT19: =SUM(FQ19-FP19,FS19-FR19) -> 0 | FW19: =FW18+1 -> 42441 | FX19: =FW19 -> 42441 | FY19: =H19 -> 0 | FZ19: =Q19 -> 0 | GA19: =Z19 -> 0 | GB19: =FT19 -> 0
B20: =B19+1 -> 42442 | C20: =B20 -> 42442 | H20: =SUM(E20-D20,G20-F20) -> 0 | K20: =K19+1 -> 42442 | L20: =$C20 -> 42442 | Q20: =SUM(N20-M20,P20-O20) -> 0 | T20: =T19+1 -> 42442 | U20: =$C20 -> 42442 | Z20: =SUM(W20-V20,Y20-X20) -> 0 | FN20: =FN19+1 -> 42442 | FO20: =FN20 -> 42442 | FT20: =SUM(FQ20-FP20,FS20-FR20) -> 0 | FW20: =FW19+1 -> 42442 | FX20: =FW20 -> 42442 | FY20: =H20 -> 0 | FZ20: =Q20 -> 0 | GA20: =Z20 -> 0 | GB20: =FT20 -> 0
... B35: =B34+1 -> 42457 | C35: =B35 -> 42457 | H35: =SUM(E35-D35,G35-F35) -> 0 | K35: =K34+1 -> 42457 | L35: =$C35 -> 42457 | Q35: =SUM(N35-M35,P35-O35) -> 0 | T35: =T34+1 -> 42457 | U35: =$C35 -> 42457 | Z35: =SUM(W35-V35,Y35-X35) -> 0 | FN35: =FN34+1 -> 42457 | FO35: =FN35 -> 42457 | FT35: =SUM(FQ35-FP35,FS35-FR35) -> 0 | FW35: =FW34+1 -> 42457 | FX35: =FW35 -> 42457 | FY35: =H35 -> 0 | FZ35: =Q35 -> 0 | GA35: =Z35 -> 0 | GB35: =FT35 -> 0
B36: =IF(MONTH($B$35+1)=MONTH($B$35),$B$35+1,"") -> 42458 | C36: =IF(B36="","",C35+1) -> 42458 | H36: =SUM(E36-D36,G36-F36) -> 0 | K36: =IF(MONTH($B$35+1)=MONTH($B$35),$B$35+1,"") -> 42458 | L36: =$C36 -> 42458 | Q36: =SUM(N36-M36,P36-O36) -> 0 | T36: =IF(MONTH($B$35+1)=MONTH($B$35),$B$35+1,"") -> 42458 | U36: =$C36 -> 42458 | Z36: =SUM(W36-V36,Y36-X36) -> 0 | FN36: =IF(MONTH($B$35+1)=MONTH($B$35),$B$35+1,"") -> 42458 | FO36: =IF(FN36="","",FO35+1) -> 42458 | FT36: =SUM(FQ36-FP36,FS36-FR36) -> 0 | FW36: =IF(MONTH($B$35+1)=MONTH($B$35),$B$35+1,"") -> 42458 | FX36: =IF(FW36="","",FX35+1) -> 42458 | FY36: =H36 -> 0 | FZ36: =Q36 -> 0 | GA36: =Z36 -> 0 | GB36: =FT36 -> 0
B37: =IF(MONTH($B$35+2)=MONTH($B$35),$B$35+2,"") -> 42459 | C37: =IF(B37="","",C36+1) -> 42459 | H37: =SUM(E37-D37,G37-F37) -> 0 | K37: =IF(MONTH($B$35+2)=MONTH($B$35),$B$35+2,"") -> 42459 | L37: =$C37 -> 42459 | Q37: =SUM(N37-M37,P37-O37) -> 0 | T37: =IF(MONTH($B$35+2)=MONTH($B$35),$B$35+2,"") -> 42459 | U37: =$C37 -> 42459 | Z37: =SUM(W37-V37,Y37-X37) -> 0 | FN37: =IF(MONTH($B$35+2)=MONTH($B$35),$B$35+2,"") -> 42459 | FO37: =IF(FN37="","",FO36+1) -> 42459 | FT37: =SUM(FQ37-FP37,FS37-FR37) -> 0 | FW37: =IF(MONTH($B$35+2)=MONTH($B$35),$B$35+2,"") -> 42459 | FX37: =IF(FW37="","",FX36+1) -> 42459 | FY37: =H37 -> 0 | FZ37: =Q37 -> 0 | GA37: =Z37 -> 0 | GB37: =FT37 -> 0
B38: =IF(MONTH($B$35+3)=MONTH($B$35),$B$35+3,"") -> 42460 | C38: =IF(B38="","",C37+1) -> 42460 | H38: =SUM(E38-D38,G38-F38) -> 0 | K38: =IF(MONTH($B$35+3)=MONTH($B$35),$B$35+3,"") -> 42460 | L38: =$C38 -> 42460 | Q38: =SUM(N38-M38,P38-O38) -> 0 | T38: =IF(MONTH($B$35+3)=MONTH($B$35),$B$35+3,"") -> 42460 | U38: =$C38 -> 42460 | Z38: =SUM(W38-V38,Y38-X38) -> 0 | FN38: =IF(MONTH($B$35+3)=MONTH($B$35),$B$35+3,"") -> 42460 | FO38: =IF(FN38="","",FO37+1) -> 42460 | FT38: =SUM(FQ38-FP38,FS38-FR38) -> 0 | FW38: =IF(MONTH($B$35+3)=MONTH($B$35),$B$35+3,"") -> 42460 | FX38: =IF(FW38="","",FX37+1) -> 42460 | FY38: =H38 -> 0 | FZ38: =Q38 -> 0 | GA38: =Z38 -> 0 | GB38: =FT38 -> 0
G39: Total | H39: =SUM(H8:H38) -> 0 | P39: Total | Q39: =SUM(Q8:Q38) -> 0 | Y39: Total | Z39: =SUM(Z8:Z38) -> 0 | FS39: Total | FT39: =SUM(FT8:FT38) -> 0 | FY39: =H39 -> 0 | FZ39: =Q39 -> 0 | GA39: =Z39 -> 0 | GB39: =FT39 -> 0

Sheet Avril
C2: =MID(CELL("nomfichier",A1),FIND("]",CELL("nomfichier",A1))+1,12) -> Avril | D2: =An -> 2016 | L2: =MID(CELL("nomfichier",A1),FIND("]",CELL("nomfichier",A1))+1,12) -> Avril | M2: =An -> 2016 | U2: =MID(CELL("nomfichier",A1),FIND("]",CELL("nomfichier",A1))+1,12) -> Avril | V2: =An -> 2016 | FO2: =MID(CELL("nomfichier",A1),FIND("]",CELL("nomfichier",A1))+1,12) -> Avril | FP2: =An -> 2016
C5: =Janvier!C5 -> PIERRE | L5: =Janvier!L5 -> PAUL | U5: =Janvier!U5 -> MARTIN | FO5: =Janvier!FO5 -> DUBOIS | FW5: =MID(CELL("nomfichier",A1),FIND("]",CELL("nomfichier",A1))+1,12) -> Avril | FY5: =C5 -> PIERRE | FZ5: =L5 -> PAUL | GA5: =U5 -> MARTIN | GB5: =FO5 -> DUBOIS
FW6: =An -> 2016
B7: Jours | C7: Date | D7: H.déb. | E7: H. Fin | F7: H.déb. | G7: H. Fin | H7: Total H | K7: Jours | L7: Date | M7: H.déb. | N7: H. Fin | O7: H.déb. | P7: H. Fin | Q7: Total H | T7: Jours | U7: Date | V7: H.déb. | W7: H. Fin | X7: H.déb. | Y7: H. Fin | Z7: Total H | FN7: Jours | FO7: Date | FP7: H.déb. | FQ7: H. Fin | FR7: H.déb. | FS7: H. Fin | FT7: Total H | FW7: Jours | FX7: Date | FY7: Total H | FZ7: Total H | GA7: Total H | GB7: Total H
B8: =DATE(An,MONTH("1/"&$C$2),1) -> 42461 | C8: =B8 -> 42461 | H8: =SUM(E8-D8,G8-F8) -> 0 | K8: =B8 -> 42461 | L8: =$C8 -> 42461 | Q8: =SUM(N8-M8,P8-O8) -> 0 | T8: =B8 -> 42461 | U8: =$C8 -> 42461 | Z8: =SUM(W8-V8,Y8-X8) -> 0 | FN8: =B8 -> 42461 | FO8: =FN8 -> 42461 | FT8: =SUM(FQ8-FP8,FS8-FR8) -> 0 | FW8: =B8 -> 42461 | FX8: =FW8 -> 42461 | FY8: =H8 -> 0 | FZ8: =Q8 -> 0 | GA8: =Z8 -> 0 | GB8: =FT8 -> 0
B9: =B8+1 -> 42462 | C9: =B9 -> 42462 | H9: =SUM(E9-D9,G9-F9) -> 0 | K9: =K8+1 -> 42462 | L9: =$C9 -> 42462 | Q9: =SUM(N9-M9,P9-O9) -> 0 | T9: =T8+1 -> 42462 | U9: =$C9 -> 42462 | Z9: =SUM(W9-V9,Y9-X9) -> 0 | FN9: =FN8+1 -> 42462 | FO9: =FN9 -> 42462 | FT9: =SUM(FQ9-FP9,FS9-FR9) -> 0 | FW9: =FW8+1 -> 42462 | FX9: =FW9 -> 42462 | FY9: =H9 -> 0 | FZ9: =Q9 -> 0 | GA9: =Z9 -> 0 | GB9: =FT9 -> 0
B10: =B9+1 -> 42463 | C10: =B10 -> 42463 | H10: =SUM(E10-D10,G10-F10) -> 0 | K10: =K9+1 -> 42463 | L10: =$C10 -> 42463 | Q10: =SUM(N10-M10,P10-O10) -> 0 | T10: =T9+1 -> 42463 | U10: =$C10 -> 42463 | Z10: =SUM(W10-V10,Y10-X10) -> 0 | FN10: =FN9+1 -> 42463 | FO10: =FN10 -> 42463 | FT10: =SUM(FQ10-FP10,FS10-FR10) -> 0 | FW10: =FW9+1 -> 42463 | FX10: =FW10 -> 42463 | FY10: =H10 -> 0 | FZ10: =Q10 -> 0 | GA10: =Z10 -> 0 | GB10: =FT10 -> 0
B11: =B10+1 -> 42464 | C11: =B11 -> 42464 | H11: =SUM(E11-D11,G11-F11) -> 0 | K11: =K10+1 -> 42464 | L11: =$C11 -> 42464 | Q11: =SUM(N11-M11,P11-O11) -> 0 | T11: =T10+1 -> 42464 | U11: =$C11 -> 42464 | Z11: =SUM(W11-V11,Y11-X11) -> 0 | FN11: =FN10+1 -> 42464 | FO11: =FN11 -> 42464 | FT11: =SUM(FQ11-FP11,FS11-FR11) -> 0 | FW11: =FW10+1 -> 42464 | FX11: =FW11 -> 42464 | FY11: =H11 -> 0 | FZ11: =Q11 -> 0 | GA11: =Z11 -> 0 | GB11: =FT11 -> 0
B12: =B11+1 -> 42465 | C12: =B12 -> 42465 | H12: =SUM(E12-D12,G12-F12) -> 0 | K12: =K11+1 -> 42465 | L12: =$C12 -> 42465 | Q12: =SUM(N12-M12,P12-O12) -> 0 | T12: =T11+1 -> 42465 | U12: =$C12 -> 42465 | Z12: =SUM(W12-V12,Y12-X12) -> 0 | FN12: =FN11+1 -> 42465 | FO12: =FN12 -> 42465 | FT12: =SUM(FQ12-FP12,FS12-FR12) -> 0 | FW12: =FW11+1 -> 42465 | FX12: =FW12 -> 42465 | FY12: =H12 -> 0 | FZ12: =Q12 -> 0 | GA12: =Z12 -> 0 | GB12: =FT12 -> 0
B13: =B12+1 -> 42466 | C13: =B13 -> 42466 | H13: =SUM(E13-D13,G13-F13) -> 0 | K13: =K12+1 -> 42466 | L13: =$C13 -> 42466 | Q13: =SUM(N13-M13,P13-O13) -> 0 | T13: =T12+1 -> 42466 | U13: =$C13 -> 42466 | Z13: =SUM(W13-V13,Y13-X13) -> 0 | FN13: =FN12+1 -> 42466 | FO13: =FN13 -> 42466 | FT13: =SUM(FQ13-FP13,FS13-FR13) -> 0 | FW13: =FW12+1 -> 42466 | FX13: =FW13 -> 42466 | FY13: =H13 -> 0 | FZ13: =Q13 -> 0 | GA13: =Z13 -> 0 | GB13: =FT13 -> 0
B14: =B13+1 -> 42467 | C14: =B14 -> 42467 | H14: =SUM(E14-D14,G14-F14) -> 0 | K14: =K13+1 -> 42467 | L14: =$C14 -> 42467 | Q14: =SUM(N14-M14,P14-O14) -> 0 | T14: =T13+1 -> 42467 | U14: =$C14 -> 42467 | Z14: =SUM(W14-V14,Y14-X14) -> 0 | FN14: =FN13+1 -> 42467 | FO14: =FN14 -> 42467 | FT14: =SUM(FQ14-FP14,FS14-FR14) -> 0 | FW14: =FW13+1 -> 42467 | FX14: =FW14 -> 42467 | FY14: =H14 -> 0 | FZ14: =Q14 -> 0 | GA14: =Z14 -> 0 | GB14: =FT14 -> 0
B15: =B14+1 -> 42468 | C15: =B15 -> 42468 | H15: =SUM(E15-D15,G15-F15) -> 0 | K15: =K14+1 -> 42468 | L15: =$C15 -> 42468 | Q15: =SUM(N15-M15,P15-O15) -> 0 | T15: =T14+1 -> 42468 | U15: =$C15 -> 42468 | Z15: =SUM(W15-V15,Y15-X15) -> 0 | FN15: =FN14+1 -> 42468 | FO15: =FN15 -> 42468 | FT15: =SUM(FQ15-FP15,FS15-FR15) -> 0 | FW15: =FW14+1 -> 42468 | FX15: =FW15 -> 42468 | FY15: =H15 -> 0 | FZ15: =Q15 -> 0 | GA15: =Z15 -> 0 | GB15: =FT15 -> 0
B16: =B15+1 -> 42469 | C16: =B16 -> 42469 | H16: =SUM(E16-D16,G16-F16) -> 0 | K16: =K15+1 -> 42469 | L16: =$C16 -> 42469 | Q16: =SUM(N16-M16,P16-O16) -> 0 | T16: =T15+1 -> 42469 | U16: =$C16 -> 42469 | Z16: =SUM(W16-V16,Y16-X16) -> 0 | FN16: =FN15+1 -> 42469 | FO16: =FN16 -> 42469 | FT16: =SUM(FQ16-FP16,FS16-FR16) -> 0 | FW16: =FW15+1 -> 42469 | FX16: =FW16 -> 42469 | FY16: =H16 -> 0 | FZ16: =Q16 -> 0 | GA16: =Z16 -> 0 | GB16: =FT16 -> 0
B17: =B16+1 -> 42470 | C17: =B17 -> 42470 | H17: =SUM(E17-D17,G17-F17) -> 0 | K17: =K16+1 -> 42470 | L17: =$C17 -> 42470 | Q17: =SUM(N17-M17,P17-O17) -> 0 | T17: =T16+1 -> 42470 | U17: =$C17 -> 42470 | Z17: =SUM(W17-V17,Y17-X17) -> 0 | FN17: =FN16+1 -> 42470 | FO17: =FN17 -> 42470 | FT17: =SUM(FQ17-FP17,FS17-FR17) -> 0 | FW17: =FW16+1 -> 42470 | FX17: =FW17 -> 42470 | FY17: =H17 -> 0 | FZ17: =Q17 -> 0 | GA17: =Z17 -> 0 | GB17: =FT17 -> 0
B18: =B17+1 -> 42471 | C18: =B18 -> 42471 | H18: =SUM(E18-D18,G18-F18) -> 0 | K18: =K17+1 -> 42471 | L18: =$C18 -> 42471 | Q18: =SUM(N18-M18,P18-O18) -> 0 | T18: =T17+1 -> 42471 | U18: =$C18 -> 42471 | Z18: =SUM(W18-V18,Y18-X18) -> 0 | FN18: =FN17+1 -> 42471 | FO18: =FN18 -> 42471 | FT18: =SUM(FQ18-FP18,FS18-FR18) -> 0 | FW18: =FW17+1 -> 42471 | FX18: =FW18 -> 42471 | FY18: =H18 -> 0 | FZ18: =Q18 -> 0 | GA18: =Z18 -> 0 | GB18: =FT18 -> 0
B19: =B18+1 -> 42472 | C19: =B19 -> 42472 | H19: =SUM(E19-D19,G19-F19) -> 0 | K19: =K18+1 -> 42472 | L19: =$C19 -> 42472 | Q19: =SUM(N19-M19,P19-O19) -> 0 | T19: =T18+1 -> 42472 | U19: =$C19 -> 42472 | Z19: =SUM(W19-V19,Y19-X19) -> 0 | FN19: =FN18+1 -> 42472 | FO19: =FN19 -> 42472 | FT19: =SUM(FQ19-FP19,FS19-FR19) -> 0 | FW19: =FW18+1 -> 42472 | FX19: =FW19 -> 42472 | FY19: =H19 -> 0 | FZ19: =Q19 -> 0 | GA19: =Z19 -> 0 | GB19: =FT19 -> 0
B20: =B19+1 -> 42473 | C20: =B20 -> 42473 | H20: =SUM(E20-D20,G20-F20) -> 0 | K20: =K19+1 -> 42473 | L20: =$C20 -> 42473 | Q20: =SUM(N20-M20,P20-O20) -> 0 | T20: =T19+1 -> 42473 | U20: =$C20 -> 42473 | Z20: =SUM(W20-V20,Y20-X20) -> 0 | FN20: =FN19+1 -> 42473 | FO20: =FN20 -> 42473 | FT20: =SUM(FQ20-FP20,FS20-FR20) -> 0 | FW20: =FW19+1 -> 42473 | FX20: =FW20 -> 42473 | FY20: =H20 -> 0 | FZ20: =Q20 -> 0 | GA20: =Z20 -> 0 | GB20: =FT20 -> 0
... B35: =B34+1 -> 42488 | C35: =B35 -> 42488 | H35: =SUM(E35-D35,G35-F35) -> 0 | K35: =K34+1 -> 42488 | L35: =$C35 -> 42488 | Q35: =SUM(N35-M35,P35-O35) -> 0 | T35: =T34+1 -> 42488 | U35: =$C35 -> 42488 | Z35: =SUM(W35-V35,Y35-X35) -> 0 | FN35: =FN34+1 -> 42488 | FO35: =FN35 -> 42488 | FT35: =SUM(FQ35-FP35,FS35-FR35) -> 0 | FW35: =FW34+1 -> 42488 | FX35: =FW35 -> 42488 | FY35: =H35 -> 0 | FZ35: =Q35 -> 0 | GA35: =Z35 -> 0 | GB35: =FT35 -> 0
B36: =IF(MONTH($B$35+1)=MONTH($B$35),$B$35+1,"") -> 42489 | C36: =IF(B36="","",C35+1) -> 42489 | H36: =SUM(E36-D36,G36-F36) -> 0 | K36: =IF(MONTH($B$35+1)=MONTH($B$35),$B$35+1,"") -> 42489 | L36: =$C36 -> 42489 | Q36: =SUM(N36-M36,P36-O36) -> 0 | T36: =IF(MONTH($B$35+1)=MONTH($B$35),$B$35+1,"") -> 42489 | U36: =$C36 -> 42489 | Z36: =SUM(W36-V36,Y36-X36) -> 0 | FN36: =IF(MONTH($B$35+1)=MONTH($B$35),$B$35+1,"") -> 42489 | FO36: =IF(FN36="","",FO35+1) -> 42489 | FT36: =SUM(FQ36-FP36,FS36-FR36) -> 0 | FW36: =IF(MONTH($B$35+1)=MONTH($B$35),$B$35+1,"") -> 42489 | FX36: =IF(FW36="","",FX35+1) -> 42489 | FY36: =H36 -> 0 | FZ36: =Q36 -> 0 | GA36: =Z36 -> 0 | GB36: =FT36 -> 0
B37: =IF(MONTH($B$35+2)=MONTH($B$35),$B$35+2,"") -> 42490 | C37: =IF(B37="","",C36+1) -> 42490 | H37: =SUM(E37-D37,G37-F37) -> 0 | K37: =IF(MONTH($B$35+2)=MONTH($B$35),$B$35+2,"") -> 42490 | L37: =$C37 -> 42490 | Q37: =SUM(N37-M37,P37-O37) -> 0 | T37: =IF(MONTH($B$35+2)=MONTH($B$35),$B$35+2,"") -> 42490 | U37: =$C37 -> 42490 | Z37: =SUM(W37-V37,Y37-X37) -> 0 | FN37: =IF(MONTH($B$35+2)=MONTH($B$35),$B$35+2,"") -> 42490 | FO37: =IF(FN37="","",FO36+1) -> 42490 | FT37: =SUM(FQ37-FP37,FS37-FR37) -> 0 | FW37: =IF(MONTH($B$35+2)=MONTH($B$35),$B$35+2,"") -> 42490 | FX37: =IF(FW37="","",FX36+1) -> 42490 | FY37: =H37 -> 0 | FZ37: =Q37 -> 0 | GA37: =Z37 -> 0 | GB37: =FT37 -> 0
B38: =IF(MONTH($B$35+3)=MONTH($B$35),$B$35+3,"") | C38: =IF(B38="","",C37+1) | H38: =SUM(E38-D38,G38-F38) -> 0 | K38: =IF(MONTH($B$35+3)=MONTH($B$35),$B$35+3,"") | L38: =$C38 | Q38: =SUM(N38-M38,P38-O38) -> 0 | T38: =IF(MONTH($B$35+3)=MONTH($B$35),$B$35+3,"") | U38: =$C38 | Z38: =SUM(W38-V38,Y38-X38) -> 0 | FN38: =IF(MONTH($B$35+3)=MONTH($B$35),$B$35+3,"") | FO38: =IF(FN38="","",FO37+1) | FT38: =SUM(FQ38-FP38,FS38-FR38) -> 0 | FW38: =IF(MONTH($B$35+3)=MONTH($B$35),$B$35+3,"") | FX38: =IF(FW38="","",FX37+1) | FY38: =H38 -> 0 | FZ38: =Q38 -> 0 | GA38: =Z38 -> 0 | GB38: =FT38 -> 0
G39: Total | H39: =SUM(H8:H38) -> 0 | P39: Total | Q39: =SUM(Q8:Q38) -> 0 | Y39: Total | Z39: =SUM(Z8:Z38) -> 0 | FS39: Total | FT39: =SUM(FT8:FT38) -> 0 | FY39: =H39 -> 0 | FZ39: =Q39 -> 0 | GA39: =Z39 -> 0 | GB39: =FT39 -> 0

Sheet Mai
C2: =MID(CELL("nomfichier",A1),FIND("]",CELL("nomfichier",A1))+1,12) -> Mai | D2: =An -> 2016 | L2: =MID(CELL("nomfichier",A1),FIND("]",CELL("nomfichier",A1))+1,12) -> Mai | M2: =An -> 2016 | U2: =MID(CELL("nomfichier",A1),FIND("]",CELL("nomfichier",A1))+1,12) -> Mai | V2: =An -> 2016 | FO2: =MID(CELL("nomfichier",A1),FIND("]",CELL("nomfichier",A1))+1,12) -> Mai | FP2: =An -> 2016
C5: =Janvier!C5 -> PIERRE | L5: =Janvier!L5 -> PAUL | U5: =Janvier!U5 -> MARTIN | FO5: =Janvier!FO5 -> DUBOIS | FW5: =MID(CELL("nomfichier",A1),FIND("]",CELL("nomfichier",A1))+1,12) -> Mai | FY5: =C5 -> PIERRE | FZ5: =L5 -> PAUL | GA5: =U5 -> MARTIN | GB5: =FO5 -> DUBOIS
FW6: =An -> 2016
B7: Jours | C7: Date | D7: H.déb. | E7: H. Fin | F7: H.déb. | G7: H. Fin | H7: Total H | K7: Jours | L7: Date | M7: H.déb. | N7: H. Fin | O7: H.déb. | P7: H. Fin | Q7: Total H | T7: Jours | U7: Date | V7: H.déb. | W7: H. Fin | X7: H.déb. | Y7: H. Fin | Z7: Total H | FN7: Jours | FO7: Date | FP7: H.déb. | FQ7: H. Fin | FR7: H.déb. | FS7: H. Fin | FT7: Total H | FW7: Jours | FX7: Date | FY7: Total H | FZ7: Total H | GA7: Total H | GB7: Total H
B8: =DATE(An,MONTH("1/"&$C$2),1) -> 42491 | C8: =B8 -> 42491 | H8: =SUM(E8-D8,G8-F8) -> 0 | K8: =B8 -> 42491 | L8: =$C8 -> 42491 | Q8: =SUM(N8-M8,P8-O8) -> 0 | T8: =B8 -> 42491 | U8: =$C8 -> 42491 | Z8: =SUM(W8-V8,Y8-X8) -> 0 | FN8: =B8 -> 42491 | FO8: =FN8 -> 42491 | FT8: =SUM(FQ8-FP8,FS8-FR8) -> 0 | FW8: =B8 -> 42491 | FX8: =FW8 -> 42491 | FY8: =H8 -> 0 | FZ8: =Q8 -> 0 | GA8: =Z8 -> 0 | GB8: =FT8 -> 0
B9: =B8+1 -> 42492 | C9: =B9 -> 42492 | H9: =SUM(E9-D9,G9-F9) -> 0 | K9: =K8+1 -> 42492 | L9: =$C9 -> 42492 | Q9: =SUM(N9-M9,P9-O9) -> 0 | T9: =T8+1 -> 42492 | U9: =$C9 -> 42492 | Z9: =SUM(W9-V9,Y9-X9) -> 0 | FN9: =FN8+1 -> 42492 | FO9: =FN9 -> 42492 | FT9: =SUM(FQ9-FP9,FS9-FR9) -> 0 | FW9: =FW8+1 -> 42492 | FX9: =FW9 -> 42492 | FY9: =H9 -> 0 | FZ9: =Q9 -> 0 | GA9: =Z9 -> 0 | GB9: =FT9 -> 0
B10: =B9+1 -> 42493 | C10: =B10 -> 42493 | H10: =SUM(E10-D10,G10-F10) -> 0 | K10: =K9+1 -> 42493 | L10: =$C10 -> 42493 | Q10: =SUM(N10-M10,P10-O10) -> 0 | T10: =T9+1 -> 42493 | U10: =$C10 -> 42493 | Z10: =SUM(W10-V10,Y10-X10) -> 0 | FN10: =FN9+1 -> 42493 | FO10: =FN10 -> 42493 | FT10: =SUM(FQ10-FP10,FS10-FR10) -> 0 | FW10: =FW9+1 -> 42493 | FX10: =FW10 -> 42493 | FY10: =H10 -> 0 | FZ10: =Q10 -> 0 | GA10: =Z10 -> 0 | GB10: =FT10 -> 0
B11: =B10+1 -> 42494 | C11: =B11 -> 42494 | H11: =SUM(E11-D11,G11-F11) -> 0 | K11: =K10+1 -> 42494 | L11: =$C11 -> 42494 | Q11: =SUM(N11-M11,P11-O11) -> 0 | T11: =T10+1 -> 42494 | U11: =$C11 -> 42494 | Z11: =SUM(W11-V11,Y11-X11) -> 0 | FN11: =FN10+1 -> 42494 | FO11: =FN11 -> 42494 | FT11: =SUM(FQ11-FP11,FS11-FR11) -> 0 | FW11: =FW10+1 -> 42494 | FX11: =FW11 -> 42494 | FY11: =H11 -> 0 | FZ11: =Q11 -> 0 | GA11: =Z11 -> 0 | GB11: =FT11 -> 0
B12: =B11+1 -> 42495 | C12: =B12 -> 42495 | H12: =SUM(E12-D12,G12-F12) -> 0 | K12: =K11+1 -> 42495 | L12: =$C12 -> 42495 | Q12: =SUM(N12-M12,P12-O12) -> 0 | T12: =T11+1 -> 42495 | U12: =$C12 -> 42495 | Z12: =SUM(W12-V12,Y12-X12) -> 0 | FN12: =FN11+1 -> 42495 | FO12: =FN12 -> 42495 | FT12: =SUM(FQ12-FP12,FS12-FR12) -> 0 | FW12: =FW11+1 -> 42495 | FX12: =FW12 -> 42495 | FY12: =H12 -> 0 | FZ12: =Q12 -> 0 | GA12: =Z12 -> 0 | GB12: =FT12 -> 0
B13: =B12+1 -> 42496 | C13: =B13 -> 42496 | H13: =SUM(E13-D13,G13-F13) -> 0 | K13: =K12+1 -> 42496 | L13: =$C13 -> 42496 | Q13: =SUM(N13-M13,P13-O13) -> 0 | T13: =T12+1 -> 42496 | U13: =$C13 -> 42496 | Z13: =SUM(W13-V13,Y13-X13) -> 0 | FN13: =FN12+1 -> 42496 | FO13: =FN13 -> 42496 | FT13: =SUM(FQ13-FP13,FS13-FR13) -> 0 | FW13: =FW12+1 -> 42496 | FX13: =FW13 -> 42496 | FY13: =H13 -> 0 | FZ13: =Q13 -> 0 | GA13: =Z13 -> 0 | GB13: =FT13 -> 0
B14: =B13+1 -> 42497 | C14: =B14 -> 42497 | H14: =SUM(E14-D14,G14-F14) -> 0 | K14: =K13+1 -> 42497 | L14: =$C14 -> 42497 | Q14: =SUM(N14-M14,P14-O14) -> 0 | T14: =T13+1 -> 42497 | U14: =$C14 -> 42497 | Z14: =SUM(W14-V14,Y14-X14) -> 0 | FN14: =FN13+1 -> 42497 | FO14: =FN14 -> 42497 | FT14: =SUM(FQ14-FP14,FS14-FR14) -> 0 | FW14: =FW13+1 -> 42497 | FX14: =FW14 -> 42497 | FY14: =H14 -> 0 | FZ14: =Q14 -> 0 | GA14: =Z14 -> 0 | GB14: =FT14 -> 0
B15: =B14+1 -> 42498 | C15: =B15 -> 42498 | H15: =SUM(E15-D15,G15-F15) -> 0 | K15: =K14+1 -> 42498 | L15: =$C15 -> 42498 | Q15: =SUM(N15-M15,P15-O15) -> 0 | T15: =T14+1 -> 42498 | U15: =$C15 -> 42498 | Z15: =SUM(W15-V15,Y15-X15) -> 0 | FN15: =FN14+1 -> 42498 | FO15: =FN15 -> 42498 | FT15: =SUM(FQ15-FP15,FS15-FR15) -> 0 | FW15: =FW14+1 -> 42498 | FX15: =FW15 -> 42498 | FY15: =H15 -> 0 | FZ15: =Q15 -> 0 | GA15: =Z15 -> 0 | GB15: =FT15 -> 0
B16: =B15+1 -> 42499 | C16: =B16 -> 42499 | H16: =SUM(E16-D16,G16-F16) -> 0 | K16: =K15+1 -> 42499 | L16: =$C16 -> 42499 | Q16: =SUM(N16-M16,P16-O16) -> 0 | T16: =T15+1 -> 42499 | U16: =$C16 -> 42499 | Z16: =SUM(W16-V16,Y16-X16) -> 0 | FN16: =FN15+1 -> 42499 | FO16: =FN16 -> 42499 | FT16: =SUM(FQ16-FP16,FS16-FR16) -> 0 | FW16: =FW15+1 -> 42499 | FX16: =FW16 -> 42499 | FY16: =H16 -> 0 | FZ16: =Q16 -> 0 | GA16: =Z16 -> 0 | GB16: =FT16 -> 0
B17: =B16+1 -> 42500 | C17: =B17 -> 42500 | H17: =SUM(E17-D17,G17-F17) -> 0 | K17: =K16+1 -> 42500 | L17: =$C17 -> 42500 | Q17: =SUM(N17-M17,P17-O17) -> 0 | T17: =T16+1 -> 42500 | U17: =$C17 -> 42500 | Z17: =SUM(W17-V17,Y17-X17) -> 0 | FN17: =FN16+1 -> 42500 | FO17: =FN17 -> 42500 | FT17: =SUM(FQ17-FP17,FS17-FR17) -> 0 | FW17: =FW16+1 -> 42500 | FX17: =FW17 -> 42500 | FY17: =H17 -> 0 | FZ17: =Q17 -> 0 | GA17: =Z17 -> 0 | GB17: =FT17 -> 0
B18: =B17+1 -> 42501 | C18: =B18 -> 42501 | H18: =SUM(E18-D18,G18-F18) -> 0 | K18: =K17+1 -> 42501 | L18: =$C18 -> 42501 | Q18: =SUM(N18-M18,P18-O18) -> 0 | T18: =T17+1 -> 42501 | U18: =$C18 -> 42501 | Z18: =SUM(W18-V18,Y18-X18) -> 0 | FN18: =FN17+1 -> 42501 | FO18: =FN18 -> 42501 | FT18: =SUM(FQ18-FP18,FS18-FR18) -> 0 | FW18: =FW17+1 -> 42501 | FX18: =FW18 -> 42501 | FY18: =H18 -> 0 | FZ18: =Q18 -> 0 | GA18: =Z18 -> 0 | GB18: =FT18 -> 0
B19: =B18+1 -> 42502 | C19: =B19 -> 42502 | H19: =SUM(E19-D19,G19-F19) -> 0 | K19: =K18+1 -> 42502 | L19: =$C19 -> 42502 | Q19: =SUM(N19-M19,P19-O19) -> 0 | T19: =T18+1 -> 42502 | U19: =$C19 -> 42502 | Z19: =SUM(W19-V19,Y19-X19) -> 0 | FN19: =FN18+1 -> 42502 | FO19: =FN19 -> 42502 | FT19: =SUM(FQ19-FP19,FS19-FR19) -> 0 | FW19: =FW18+1 -> 42502 | FX19: =FW19 -> 42502 | FY19: =H19 -> 0 | FZ19: =Q19 -> 0 | GA19: =Z19 -> 0 | GB19: =FT19 -> 0
B20: =B19+1 -> 42503 | C20: =B20 -> 42503 | H20: =SUM(E20-D20,G20-F20) -> 0 | K20: =K19+1 -> 42503 | L20: =$C20 -> 42503 | Q20: =SUM(N20-M20,P20-O20) -> 0 | T20: =T19+1 -> 42503 | U20: =$C20 -> 42503 | Z20: =SUM(W20-V20,Y20-X20) -> 0 | FN20: =FN19+1 -> 42503 | FO20: =FN20 -> 42503 | FT20: =SUM(FQ20-FP20,FS20-FR20) -> 0 | FW20: =FW19+1 -> 42503 | FX20: =FW20 -> 42503 | FY20: =H20 -> 0 | FZ20: =Q20 -> 0 | GA20: =Z20 -> 0 | GB20: =FT20 -> 0
... B35: =B34+1 -> 42518 | C35: =B35 -> 42518 | H35: =SUM(E35-D35,G35-F35) -> 0 | K35: =K34+1 -> 42518 | L35: =$C35 -> 42518 | Q35: =SUM(N35-M35,P35-O35) -> 0 | T35: =T34+1 -> 42518 | U35: =$C35 -> 42518 | Z35: =SUM(W35-V35,Y35-X35) -> 0 | FN35: =FN34+1 -> 42518 | FO35: =FN35 -> 42518 | FT35: =SUM(FQ35-FP35,FS35-FR35) -> 0 | FW35: =FW34+1 -> 42518 | FX35: =FW35 -> 42518 | FY35: =H35 -> 0 | FZ35: =Q35 -> 0 | GA35: =Z35 -> 0 | GB35: =FT35 -> 0
B36: =IF(MONTH($B$35+1)=MONTH($B$35),$B$35+1,"") -> 42519 | C36: =IF(B36="","",C35+1) -> 42519 | H36: =SUM(E36-D36,G36-F36) -> 0 | K36: =IF(MONTH($B$35+1)=MONTH($B$35),$B$35+1,"") -> 42519 | L36: =$C36 -> 42519 | Q36: =SUM(N36-M36,P36-O36) -> 0 | T36: =IF(MONTH($B$35+1)=MONTH($B$35),$B$35+1,"") -> 42519 | U36: =$C36 -> 42519 | Z36: =SUM(W36-V36,Y36-X36) -> 0 | FN36: =IF(MONTH($B$35+1)=MONTH($B$35),$B$35+1,"") -> 42519 | FO36: =IF(FN36="","",FO35+1) -> 42519 | FT36: =SUM(FQ36-FP36,FS36-FR36) -> 0 | FW36: =IF(MONTH($B$35+1)=MONTH($B$35),$B$35+1,"") -> 42519 | FX36: =IF(FW36="","",FX35+1) -> 42519 | FY36: =H36 -> 0 | FZ36: =Q36 -> 0 | GA36: =Z36 -> 0 | GB36: =FT36 -> 0
B37: =IF(MONTH($B$35+2)=MONTH($B$35),$B$35+2,"") -> 42520 | C37: =IF(B37="","",C36+1) -> 42520 | H37: =SUM(E37-D37,G37-F37) -> 0 | K37: =IF(MONTH($B$35+2)=MONTH($B$35),$B$35+2,"") -> 42520 | L37: =$C37 -> 42520 | Q37: =SUM(N37-M37,P37-O37) -> 0 | T37: =IF(MONTH($B$35+2)=MONTH($B$35),$B$35+2,"") -> 42520 | U37: =$C37 -> 42520 | Z37: =SUM(W37-V37,Y37-X37) -> 0 | FN37: =IF(MONTH($B$35+2)=MONTH($B$35),$B$35+2,"") -> 42520 | FO37: =IF(FN37="","",FO36+1) -> 42520 | FT37: =SUM(FQ37-FP37,FS37-FR37) -> 0 | FW37: =IF(MONTH($B$35+2)=MONTH($B$35),$B$35+2,"") -> 42520 | FX37: =IF(FW37="","",FX36+1) -> 42520 | FY37: =H37 -> 0 | FZ37: =Q37 -> 0 | GA37: =Z37 -> 0 | GB37: =FT37 -> 0
B38: =IF(MONTH($B$35+3)=MONTH($B$35),$B$35+3,"") -> 42521 | C38: =IF(B38="","",C37+1) -> 42521 | H38: =SUM(E38-D38,G38-F38) -> 0 | K38: =IF(MONTH($B$35+3)=MONTH($B$35),$B$35+3,"") -> 42521 | L38: =$C38 -> 42521 | Q38: =SUM(N38-M38,P38-O38) -> 0 | T38: =IF(MONTH($B$35+3)=MONTH($B$35),$B$35+3,"") -> 42521 | U38: =$C38 -> 42521 | Z38: =SUM(W38-V38,Y38-X38) -> 0 | FN38: =IF(MONTH($B$35+3)=MONTH($B$35),$B$35+3,"") -> 42521 | FO38: =IF(FN38="","",FO37+1) -> 42521 | FT38: =SUM(FQ38-FP38,FS38-FR38) -> 0 | FW38: =IF(MONTH($B$35+3)=MONTH($B$35),$B$35+3,"") -> 42521 | FX38: =IF(FW38="","",FX37+1) -> 42521 | FY38: =H38 -> 0 | FZ38: =Q38 -> 0 | GA38: =Z38 -> 0 | GB38: =FT38 -> 0
G39: Total | H39: =SUM(H8:H38) -> 0 | P39: Total | Q39: =SUM(Q8:Q38) -> 0 | Y39: Total | Z39: =SUM(Z8:Z38) -> 0 | FS39: Total | FT39: =SUM(FT8:FT38) -> 0 | FY39: =H39 -> 0 | FZ39: =Q39 -> 0 | GA39: =Z39 -> 0 | GB39: =FT39 -> 0

Sheet Juin
C2: =MID(CELL("nomfichier",A1),FIND("]",CELL("nomfichier",A1))+1,12) -> Juin | D2: =An -> 2016 | L2: =MID(CELL("nomfichier",A1),FIND("]",CELL("nomfichier",A1))+1,12) -> Juin | M2: =An -> 2016 | U2: =MID(CELL("nomfichier",A1),FIND("]",CELL("nomfichier",A1))+1,12) -> Juin | V2: =An -> 2016 | FO2: =MID(CELL("nomfichier",A1),FIND("]",CELL("nomfichier",A1))+1,12) -> Juin | FP2: =An -> 2016
C5: =Janvier!C5 -> PIERRE | L5: =Janvier!L5 -> PAUL | U5: =Janvier!U5 -> MARTIN | FO5: =Janvier!FO5 -> DUBOIS | FW5: =MID(CELL("nomfichier",A1),FIND("]",CELL("nomfichier",A1))+1,12) -> Juin | FY5: =C5 -> PIERRE | FZ5: =L5 -> PAUL | GA5: =U5 -> MARTIN | GB5: =FO5 -> DUBOIS
FW6: =An -> 2016
B7: Jours | C7: Date | D7: H.déb. | E7: H. Fin | F7: H.déb. | G7: H. Fin | H7: Total H | K7: Jours | L7: Date | M7: H.déb. | N7: H. Fin | O7: H.déb. | P7: H. Fin | Q7: Total H | T7: Jours | U7: Date | V7: H.déb. | W7: H. Fin | X7: H.déb. | Y7: H. Fin | Z7: Total H | FN7: Jours | FO7: Date | FP7: H.déb. | FQ7: H. Fin | FR7: H.déb. | FS7: H. Fin | FT7: Total H | FW7: Jours | FX7: Date | FY7: Total H | FZ7: Total H | GA7: Total H | GB7: Total H
B8: =DATE(An,MONTH("1/"&$C$2),1) -> 42522 | C8: =B8 -> 42522 | H8: =SUM(E8-D8,G8-F8) -> 0 | K8: =B8 -> 42522 | L8: =$C8 -> 42522 | Q8: =SUM(N8-M8,P8-O8) -> 0 | T8: =B8 -> 42522 | U8: =$C8 -> 42522 | Z8: =SUM(W8-V8,Y8-X8) -> 0 | FN8: =B8 -> 42522 | FO8: =FN8 -> 42522 | FT8: =SUM(FQ8-FP8,FS8-FR8) -> 0 | FW8: =B8 -> 42522 | FX8: =FW8 -> 42522 | FY8: =H8 -> 0 | FZ8: =Q8 -> 0 | GA8: =Z8 -> 0 | GB8: =FT8 -> 0
B9: =B8+1 -> 42523 | C9: =B9 -> 42523 | H9: =SUM(E9-D9,G9-F9) -> 0 | K9: =K8+1 -> 42523 | L9: =$C9 -> 42523 | Q9: =SUM(N9-M9,P9-O9) -> 0 | T9: =T8+1 -> 42523 | U9: =$C9 -> 42523 | Z9: =SUM(W9-V9,Y9-X9) -> 0 | FN9: =FN8+1 -> 42523 | FO9: =FN9 -> 42523 | FT9: =SUM(FQ9-FP9,FS9-FR9) -> 0 | FW9: =FW8+1 -> 42523 | FX9: =FW9 -> 42523 | FY9: =H9 -> 0 | FZ9: =Q9 -> 0 | GA9: =Z9 -> 0 | GB9: =FT9 -> 0
B10: =B9+1 -> 42524 | C10: =B10 -> 42524 | H10: =SUM(E10-D10,G10-F10) -> 0 | K10: =K9+1 -> 42524 | L10: =$C10 -> 42524 | Q10: =SUM(N10-M10,P10-O10) -> 0 | T10: =T9+1 -> 42524 | U10: =$C10 -> 42524 | Z10: =SUM(W10-V10,Y10-X10) -> 0 | FN10: =FN9+1 -> 42524 | FO10: =FN10 -> 42524 | FT10: =SUM(FQ10-FP10,FS10-FR10) -> 0 | FW10: =FW9+1 -> 42524 | FX10: =FW10 -> 42524 | FY10: =H10 -> 0 | FZ10: =Q10 -> 0 | GA10: =Z10 -> 0 | GB10: =FT10 -> 0
B11: =B10+1 -> 42525 | C11: =B11 -> 42525 | H11: =SUM(E11-D11,G11-F11) -> 0 | K11: =K10+1 -> 42525 | L11: =$C11 -> 42525 | Q11: =SUM(N11-M11,P11-O11) -> 0 | T11: =T10+1 -> 42525 | U11: =$C11 -> 42525 | Z11: =SUM(W11-V11,Y11-X11) -> 0 | FN11: =FN10+1 -> 42525 | FO11: =FN11 -> 42525 | FT11: =SUM(FQ11-FP11,FS11-FR11) -> 0 | FW11: =FW10+1 -> 42525 | FX11: =FW11 -> 42525 | FY11: =H11 -> 0 | FZ11: =Q11 -> 0 | GA11: =Z11 -> 0 | GB11: =FT11 -> 0
B12: =B11+1 -> 42526 | C12: =B12 -> 42526 | H12: =SUM(E12-D12,G12-F12) -> 0 | K12: =K11+1 -> 42526 | L12: =$C12 -> 42526 | Q12: =SUM(N12-M12,P12-O12) -> 0 | T12: =T11+1 -> 42526 | U12: =$C12 -> 42526 | Z12: =SUM(W12-V12,Y12-X12) -> 0 | FN12: =FN11+1 -> 42526 | FO12: =FN12 -> 42526 | FT12: =SUM(FQ12-FP12,FS12-FR12) -> 0 | FW12: =FW11+1 -> 42526 | FX12: =FW12 -> 42526 | FY12: =H12 -> 0 | FZ12: =Q12 -> 0 | GA12: =Z12 -> 0 | GB12: =FT12 -> 0
B13: =B12+1 -> 42527 | C13: =B13 -> 42527 | H13: =SUM(E13-D13,G13-F13) -> 0 | K13: =K12+1 -> 42527 | L13: =$C13 -> 42527 | Q13: =SUM(N13-M13,P13-O13) -> 0 | T13: =T12+1 -> 42527 | U13: =$C13 -> 42527 | Z13: =SUM(W13-V13,Y13-X13) -> 0 | FN13: =FN12+1 -> 42527 | FO13: =FN13 -> 42527 | FT13: =SUM(FQ13-FP13,FS13-FR13) -> 0 | FW13: =FW12+1 -> 42527 | FX13: =FW13 -> 42527 | FY13: =H13 -> 0 | FZ13: =Q13 -> 0 | GA13: =Z13 -> 0 | GB13: =FT13 -> 0
B14: =B13+1 -> 42528 | C14: =B14 -> 42528 | H14: =SUM(E14-D14,G14-F14) -> 0 | K14: =K13+1 -> 42528 | L14: =$C14 -> 42528 | Q14: =SUM(N14-M14,P14-O14) -> 0 | T14: =T13+1 -> 42528 | U14: =$C14 -> 42528 | Z14: =SUM(W14-V14,Y14-X14) -> 0 | FN14: =FN13+1 -> 42528 | FO14: =FN14 -> 42528 | FT14: =SUM(FQ14-FP14,FS14-FR14) -> 0 | FW14: =FW13+1 -> 42528 | FX14: =FW14 -> 42528 | FY14: =H14 -> 0 | FZ14: =Q14 -> 0 | GA14: =Z14 -> 0 | GB14: =FT14 -> 0
