Workbook
Name Chauff: OFFSET(PLANNING!$O$2,,,COUNTA(PLANNING!$O:$O)-1)

Sheet PLANNING
E1: TABLEAU GENERAL DE TRANSPORT AVANT REPARTITION | O1: Chauffeurs
C2: Date: | D2: =TODAY() -> 43954 | E2: AGENCE du MURET | O2: PL MUR
B3: Client | C3: Matériel | D3: Adresse départ | E3: Adresse arrivé | F3: Ordre | G3: N° BL | H3: Observation | I3: Chauffeur | J3: K | O3: PL GAG
B4: MACHIN | C4: PORTE CHAR | D4: MURET | E4: LIBOURNE | F4: O | G4: 12 | H4: RAS | I4: PL MUR | J4: =IF(CHAUFFEURS!$G$1=I4,MAX(J$3:$J3)+1,"") -> 1 | L4: =IF(CHAUFFEURS!$G$1=J4,MAX($L$3:L3)+1,"") | O4: PORTE C
B5: TRUC | C5: SEMI | D5: BORDEAUX | E5: MURET | F5: O | G5: 14 | H5: RAS | I5: PL MUR | J5: =IF(CHAUFFEURS!$G$1=I5,MAX(J$3:$J4)+1,"") -> 2 | L5: =IF(CHAUFFEURS!$G$1=J5,MAX($L$3:L4)+1,"")
B6: GENET | C6: PORTE CHAR | D6: COGNAC | E6: ANGOULEME | G6: 456 | H6: LE MATIN | I6: PL GAG | J6: =IF(CHAUFFEURS!$G$1=I6,MAX(J$3:$J5)+1,"") | L6: =IF(CHAUFFEURS!$G$1=J6,MAX($L$3:L5)+1,"")
B7: CHENE | C7: SEMI | D7: ANGOULEME | E7: COGNAC | F7: N | G7: 457 | H7: L'APRES MIDI | I7: PORTE C | J7: =IF(CHAUFFEURS!$G$1=I7,MAX(J$3:$J6)+1,"") | L7: =IF(CHAUFFEURS!$G$1=J7,MAX($L$3:L6)+1,"")
B8: DORE | C8: BENNE | D8: PAU | E8: BAYONNE | F8: O | G8: 458 | H8: SEMAINE | I8: PL MUR | J8: =IF(CHAUFFEURS!$G$1=I8,MAX(J$3:$J7)+1,"") -> 3 | L8: =IF(CHAUFFEURS!$G$1=J8,MAX($L$3:L7)+1,"")
B9: LEBLOND | C9: SEMI | D9: CONFOLENS | E9: ANGOULEME | F9: O | G9: 460 | H9: DEUX JOURS | I9: PL GAG | J9: =IF(CHAUFFEURS!$G$1=I9,MAX(J$3:$J8)+1,"") | L9: =IF(CHAUFFEURS!$G$1=J9,MAX($L$3:L8)+1,"")
B10: RENE | C10: PORTE CHAR | D10: MURET | E10: LIBOURNE | H10: RETOUR | I10: PORTE C | J10: =IF(CHAUFFEURS!$G$1=I10,MAX(J$3:$J9)+1,"")
J11: =IF(CHAUFFEURS!$G$1=I11,MAX(J$3:$J10)+1,"")

Sheet CHAUFFEURS
E1: TABLEAU DE TRANSPORT | G1: PL MUR
C2: DATE: | D2: =TODAY() -> 43954 | E2: AGENCE: MURET
B3: Client | C3: Matériel | D3: Adresse départ | E3: Adresse arrivé | F3: Ordre | G3: N° BL | H3: Observation
B4: =IFERROR(IF(INDEX(PLANNING!$B$4:$I$11,MATCH(ROW(A1),PLANNING!$J$4:$J$11,0),COLUMN(A1))=0,"",INDEX(PLANNING!$B$4:$I$11,MATCH(ROW(A1),PLANNING!$J$4:$J$11,0),COLUMN(A1))),"") -> MACHIN | C4: =IFERROR(IF(INDEX(PLANNING!$B$4:$I$11,MATCH(ROW(B1),PLANNING!$J$4:$J$11,0),COLUMN(B1))=0,"",INDEX(PLANNING!$B$4:$I$11,MATCH(ROW(B1),PLANNING!$J$4:$J$11,0),COLUMN(B1))),"") -> PORTE CHAR | D4: =IFERROR(IF(INDEX(PLANNING!$B$4:$I$11,MATCH(ROW(C1),PLANNING!$J$4:$J$11,0),COLUMN(C1))=0,"",INDEX(PLANNING!$B$4:$I$11,MATCH(ROW(C1),PLANNING!$J$4:$J$11,0),COLUMN(C1))),"") -> MURET | E4: =IFERROR(IF(INDEX(PLANNING!$B$4:$I$11,MATCH(ROW(D1),PLANNING!$J$4:$J$11,0),COLUMN(D1))=0,"",INDEX(PLANNING!$B$4:$I$11,MATCH(ROW(D1),PLANNING!$J$4:$J$11,0),COLUMN(D1))),"") -> LIBOURNE | F4: =IFERROR(IF(INDEX(PLANNING!$B$4:$I$11,MATCH(ROW(E1),PLANNING!$J$4:$J$11,0),COLUMN(E1))=0,"",INDEX(PLANNING!$B$4:$I$11,MATCH(ROW(E1),PLANNING!$J$4:$J$11,0),COLUMN(E1))),"") -> O | G4: =IFERROR(IF(INDEX(PLANNING!$B$4:$I$11,MATCH(ROW(F1),PLANNING!$J$4:$J$11,0),COLUMN(F1))=0,"",INDEX(PLANNING!$B$4:$I$11,MATCH(ROW(F1),PLANNING!$J$4:$J$11,0),COLUMN(F1))),"") -> 12 | H4: =IFERROR(IF(INDEX(PLANNING!$B$4:$I$11,MATCH(ROW(G1),PLANNING!$J$4:$J$11,0),COLUMN(G1))=0,"",INDEX(PLANNING!$B$4:$I$11,MATCH(ROW(G1),PLANNING!$J$4:$J$11,0),COLUMN(G1))),"") -> RAS
B5: =IFERROR(IF(INDEX(PLANNING!$B$4:$I$11,MATCH(ROW(A2),PLANNING!$J$4:$J$11,0),COLUMN(A2))=0,"",INDEX(PLANNING!$B$4:$I$11,MATCH(ROW(A2),PLANNING!$J$4:$J$11,0),COLUMN(A2))),"") -> TRUC | C5: =IFERROR(IF(INDEX(PLANNING!$B$4:$I$11,MATCH(ROW(B2),PLANNING!$J$4:$J$11,0),COLUMN(B2))=0,"",INDEX(PLANNING!$B$4:$I$11,MATCH(ROW(B2),PLANNING!$J$4:$J$11,0),COLUMN(B2))),"") -> SEMI | D5: =IFERROR(IF(INDEX(PLANNING!$B$4:$I$11,MATCH(ROW(C2),PLANNING!$J$4:$J$11,0),COLUMN(C2))=0,"",INDEX(PLANNING!$B$4:$I$11,MATCH(ROW(C2),PLANNING!$J$4:$J$11,0),COLUMN(C2))),"") -> BORDEAUX | E5: =IFERROR(IF(INDEX(PLANNING!$B$4:$I$11,MATCH(ROW(D2),PLANNING!$J$4:$J$11,0),COLUMN(D2))=0,"",INDEX(PLANNING!$B$4:$I$11,MATCH(ROW(D2),PLANNING!$J$4:$J$11,0),COLUMN(D2))),"") -> MURET | F5: =IFERROR(IF(INDEX(PLANNING!$B$4:$I$11,MATCH(ROW(E2),PLANNING!$J$4:$J$11,0),COLUMN(E2))=0,"",INDEX(PLANNING!$B$4:$I$11,MATCH(ROW(E2),PLANNING!$J$4:$J$11,0),COLUMN(E2))),"") -> O | G5: =IFERROR(IF(INDEX(PLANNING!$B$4:$I$11,MATCH(ROW(F2),PLANNING!$J$4:$J$11,0),COLUMN(F2))=0,"",INDEX(PLANNING!$B$4:$I$11,MATCH(ROW(F2),PLANNING!$J$4:$J$11,0),COLUMN(F2))),"") -> 14 | H5: =IFERROR(IF(INDEX(PLANNING!$B$4:$I$11,MATCH(ROW(G2),PLANNING!$J$4:$J$11,0),COLUMN(G2))=0,"",INDEX(PLANNING!$B$4:$I$11,MATCH(ROW(G2),PLANNING!$J$4:$J$11,0),COLUMN(G2))),"") -> RAS
B6: =IFERROR(IF(INDEX(PLANNING!$B$4:$I$11,MATCH(ROW(A3),PLANNING!$J$4:$J$11,0),COLUMN(A3))=0,"",INDEX(PLANNING!$B$4:$I$11,MATCH(ROW(A3),PLANNING!$J$4:$J$11,0),COLUMN(A3))),"") -> DORE | C6: =IFERROR(IF(INDEX(PLANNING!$B$4:$I$11,MATCH(ROW(B3),PLANNING!$J$4:$J$11,0),COLUMN(B3))=0,"",INDEX(PLANNING!$B$4:$I$11,MATCH(ROW(B3),PLANNING!$J$4:$J$11,0),COLUMN(B3))),"") -> BENNE | D6: =IFERROR(IF(INDEX(PLANNING!$B$4:$I$11,MATCH(ROW(C3),PLANNING!$J$4:$J$11,0),COLUMN(C3))=0,"",INDEX(PLANNING!$B$4:$I$11,MATCH(ROW(C3),PLANNING!$J$4:$J$11,0),COLUMN(C3))),"") -> PAU | E6: =IFERROR(IF(INDEX(PLANNING!$B$4:$I$11,MATCH(ROW(D3),PLANNING!$J$4:$J$11,0),COLUMN(D3))=0,"",INDEX(PLANNING!$B$4:$I$11,MATCH(ROW(D3),PLANNING!$J$4:$J$11,0),COLUMN(D3))),"") -> BAYONNE | F6: =IFERROR(IF(INDEX(PLANNING!$B$4:$I$11,MATCH(ROW(E3),PLANNING!$J$4:$J$11,0),COLUMN(E3))=0,"",INDEX(PLANNING!$B$4:$I$11,MATCH(ROW(E3),PLANNING!$J$4:$J$11,0),COLUMN(E3))),"") -> O | G6: =IFERROR(IF(INDEX(PLANNING!$B$4:$I$11,MATCH(ROW(F3),PLANNING!$J$4:$J$11,0),COLUMN(F3))=0,"",INDEX(PLANNING!$B$4:$I$11,MATCH(ROW(F3),PLANNING!$J$4:$J$11,0),COLUMN(F3))),"") -> 458 | H6: =IFERROR(IF(INDEX(PLANNING!$B$4:$I$11,MATCH(ROW(G3),PLANNING!$J$4:$J$11,0),COLUMN(G3))=0,"",INDEX(PLANNING!$B$4:$I$11,MATCH(ROW(G3),PLANNING!$J$4:$J$11,0),COLUMN(G3))),"") -> SEMAINE
B7: =IFERROR(IF(INDEX(PLANNING!$B$4:$I$11,MATCH(ROW(A4),PLANNING!$J$4:$J$11,0),COLUMN(A4))=0,"",INDEX(PLANNING!$B$4:$I$11,MATCH(ROW(A4),PLANNING!$J$4:$J$11,0),COLUMN(A4))),"") | C7: =IFERROR(IF(INDEX(PLANNING!$B$4:$I$11,MATCH(ROW(B4),PLANNING!$J$4:$J$11,0),COLUMN(B4))=0,"",INDEX(PLANNING!$B$4:$I$11,MATCH(ROW(B4),PLANNING!$J$4:$J$11,0),COLUMN(B4))),"") | D7: =IFERROR(IF(INDEX(PLANNING!$B$4:$I$11,MATCH(ROW(C4),PLANNING!$J$4:$J$11,0),COLUMN(C4))=0,"",INDEX(PLANNING!$B$4:$I$11,MATCH(ROW(C4),PLANNING!$J$4:$J$11,0),COLUMN(C4))),"") | E7: =IFERROR(IF(INDEX(PLANNING!$B$4:$I$11,MATCH(ROW(D4),PLANNING!$J$4:$J$11,0),COLUMN(D4))=0,"",INDEX(PLANNING!$B$4:$I$11,MATCH(ROW(D4),PLANNING!$J$4:$J$11,0),COLUMN(D4))),"") | F7: =IFERROR(IF(INDEX(PLANNING!$B$4:$I$11,MATCH(ROW(E4),PLANNING!$J$4:$J$11,0),COLUMN(E4))=0,"",INDEX(PLANNING!$B$4:$I$11,MATCH(ROW(E4),PLANNING!$J$4:$J$11,0),COLUMN(E4))),"") | G7: =IFERROR(IF(INDEX(PLANNING!$B$4:$I$11,MATCH(ROW(F4),PLANNING!$J$4:$J$11,0),COLUMN(F4))=0,"",INDEX(PLANNING!$B$4:$I$11,MATCH(ROW(F4),PLANNING!$J$4:$J$11,0),COLUMN(F4))),"") | H7: =IFERROR(IF(INDEX(PLANNING!$B$4:$I$11,MATCH(ROW(G4),PLANNING!$J$4:$J$11,0),COLUMN(G4))=0,"",INDEX(PLANNING!$B$4:$I$11,MATCH(ROW(G4),PLANNING!$J$4:$J$11,0),COLUMN(G4))),"")
B8: =IFERROR(IF(INDEX(PLANNING!$B$4:$I$11,MATCH(ROW(A5),PLANNING!$J$4:$J$11,0),COLUMN(A5))=0,"",INDEX(PLANNING!$B$4:$I$11,MATCH(ROW(A5),PLANNING!$J$4:$J$11,0),COLUMN(A5))),"") | C8: =IFERROR(IF(INDEX(PLANNING!$B$4:$I$11,MATCH(ROW(B5),PLANNING!$J$4:$J$11,0),COLUMN(B5))=0,"",INDEX(PLANNING!$B$4:$I$11,MATCH(ROW(B5),PLANNING!$J$4:$J$11,0),COLUMN(B5))),"") | D8: =IFERROR(IF(INDEX(PLANNING!$B$4:$I$11,MATCH(ROW(C5),PLANNING!$J$4:$J$11,0),COLUMN(C5))=0,"",INDEX(PLANNING!$B$4:$I$11,MATCH(ROW(C5),PLANNING!$J$4:$J$11,0),COLUMN(C5))),"") | E8: =IFERROR(IF(INDEX(PLANNING!$B$4:$I$11,MATCH(ROW(D5),PLANNING!$J$4:$J$11,0),COLUMN(D5))=0,"",INDEX(PLANNING!$B$4:$I$11,MATCH(ROW(D5),PLANNING!$J$4:$J$11,0),COLUMN(D5))),"") | F8: =IFERROR(IF(INDEX(PLANNING!$B$4:$I$11,MATCH(ROW(E5),PLANNING!$J$4:$J$11,0),COLUMN(E5))=0,"",INDEX(PLANNING!$B$4:$I$11,MATCH(ROW(E5),PLANNING!$J$4:$J$11,0),COLUMN(E5))),"") | G8: =IFERROR(IF(INDEX(PLANNING!$B$4:$I$11,MATCH(ROW(F5),PLANNING!$J$4:$J$11,0),COLUMN(F5))=0,"",INDEX(PLANNING!$B$4:$I$11,MATCH(ROW(F5),PLANNING!$J$4:$J$11,0),COLUMN(F5))),"") | H8: =IFERROR(IF(INDEX(PLANNING!$B$4:$I$11,MATCH(ROW(G5),PLANNING!$J$4:$J$11,0),COLUMN(G5))=0,"",INDEX(PLANNING!$B$4:$I$11,MATCH(ROW(G5),PLANNING!$J$4:$J$11,0),COLUMN(G5))),"")
B9: =IFERROR(IF(INDEX(PLANNING!$B$4:$I$11,MATCH(ROW(A6),PLANNING!$J$4:$J$11,0),COLUMN(A6))=0,"",INDEX(PLANNING!$B$4:$I$11,MATCH(ROW(A6),PLANNING!$J$4:$J$11,0),COLUMN(A6))),"") | C9: =IFERROR(IF(INDEX(PLANNING!$B$4:$I$11,MATCH(ROW(B6),PLANNING!$J$4:$J$11,0),COLUMN(B6))=0,"",INDEX(PLANNING!$B$4:$I$11,MATCH(ROW(B6),PLANNING!$J$4:$J$11,0),COLUMN(B6))),"") | D9: =IFERROR(IF(INDEX(PLANNING!$B$4:$I$11,MATCH(ROW(C6),PLANNING!$J$4:$J$11,0),COLUMN(C6))=0,"",INDEX(PLANNING!$B$4:$I$11,MATCH(ROW(C6),PLANNING!$J$4:$J$11,0),COLUMN(C6))),"") | E9: =IFERROR(IF(INDEX(PLANNING!$B$4:$I$11,MATCH(ROW(D6),PLANNING!$J$4:$J$11,0),COLUMN(D6))=0,"",INDEX(PLANNING!$B$4:$I$11,MATCH(ROW(D6),PLANNING!$J$4:$J$11,0),COLUMN(D6))),"") | F9: =IFERROR(IF(INDEX(PLANNING!$B$4:$I$11,MATCH(ROW(E6),PLANNING!$J$4:$J$11,0),COLUMN(E6))=0,"",INDEX(PLANNING!$B$4:$I$11,MATCH(ROW(E6),PLANNING!$J$4:$J$11,0),COLUMN(E6))),"") | G9: =IFERROR(IF(INDEX(PLANNING!$B$4:$I$11,MATCH(ROW(F6),PLANNING!$J$4:$J$11,0),COLUMN(F6))=0,"",INDEX(PLANNING!$B$4:$I$11,MATCH(ROW(F6),PLANNING!$J$4:$J$11,0),COLUMN(F6))),"") | H9: =IFERROR(IF(INDEX(PLANNING!$B$4:$I$11,MATCH(ROW(G6),PLANNING!$J$4:$J$11,0),COLUMN(G6))=0,"",INDEX(PLANNING!$B$4:$I$11,MATCH(ROW(G6),PLANNING!$J$4:$J$11,0),COLUMN(G6))),"")
B10: =IFERROR(IF(INDEX(PLANNING!$B$4:$I$11,MATCH(ROW(A7),PLANNING!$J$4:$J$11,0),COLUMN(A7))=0,"",INDEX(PLANNING!$B$4:$I$11,MATCH(ROW(A7),PLANNING!$J$4:$J$11,0),COLUMN(A7))),"") | C10: =IFERROR(IF(INDEX(PLANNING!$B$4:$I$11,MATCH(ROW(B7),PLANNING!$J$4:$J$11,0),COLUMN(B7))=0,"",INDEX(PLANNING!$B$4:$I$11,MATCH(ROW(B7),PLANNING!$J$4:$J$11,0),COLUMN(B7))),"") | D10: =IFERROR(IF(INDEX(PLANNING!$B$4:$I$11,MATCH(ROW(C7),PLANNING!$J$4:$J$11,0),COLUMN(C7))=0,"",INDEX(PLANNING!$B$4:$I$11,MATCH(ROW(C7),PLANNING!$J$4:$J$11,0),COLUMN(C7))),"") | E10: =IFERROR(IF(INDEX(PLANNING!$B$4:$I$11,MATCH(ROW(D7),PLANNING!$J$4:$J$11,0),COLUMN(D7))=0,"",INDEX(PLANNING!$B$4:$I$11,MATCH(ROW(D7),PLANNING!$J$4:$J$11,0),COLUMN(D7))),"") | F10: =IFERROR(IF(INDEX(PLANNING!$B$4:$I$11,MATCH(ROW(E7),PLANNING!$J$4:$J$11,0),COLUMN(E7))=0,"",INDEX(PLANNING!$B$4:$I$11,MATCH(ROW(E7),PLANNING!$J$4:$J$11,0),COLUMN(E7))),"") | G10: =IFERROR(IF(INDEX(PLANNING!$B$4:$I$11,MATCH(ROW(F7),PLANNING!$J$4:$J$11,0),COLUMN(F7))=0,"",INDEX(PLANNING!$B$4:$I$11,MATCH(ROW(F7),PLANNING!$J$4:$J$11,0),COLUMN(F7))),"") | H10: =IFERROR(IF(INDEX(PLANNING!$B$4:$I$11,MATCH(ROW(G7),PLANNING!$J$4:$J$11,0),COLUMN(G7))=0,"",INDEX(PLANNING!$B$4:$I$11,MATCH(ROW(G7),PLANNING!$J$4:$J$11,0),COLUMN(G7))),"")
B11: =IFERROR(IF(INDEX(PLANNING!$B$4:$I$11,MATCH(ROW(A8),PLANNING!$J$4:$J$11,0),COLUMN(A8))=0,"",INDEX(PLANNING!$B$4:$I$11,MATCH(ROW(A8),PLANNING!$J$4:$J$11,0),COLUMN(A8))),"") | C11: =IFERROR(IF(INDEX(PLANNING!$B$4:$I$11,MATCH(ROW(B8),PLANNING!$J$4:$J$11,0),COLUMN(B8))=0,"",INDEX(PLANNING!$B$4:$I$11,MATCH(ROW(B8),PLANNING!$J$4:$J$11,0),COLUMN(B8))),"") | D11: =IFERROR(IF(INDEX(PLANNING!$B$4:$I$11,MATCH(ROW(C8),PLANNING!$J$4:$J$11,0),COLUMN(C8))=0,"",INDEX(PLANNING!$B$4:$I$11,MATCH(ROW(C8),PLANNING!$J$4:$J$11,0),COLUMN(C8))),"") | E11: =IFERROR(IF(INDEX(PLANNING!$B$4:$I$11,MATCH(ROW(D8),PLANNING!$J$4:$J$11,0),COLUMN(D8))=0,"",INDEX(PLANNING!$B$4:$I$11,MATCH(ROW(D8),PLANNING!$J$4:$J$11,0),COLUMN(D8))),"") | F11: =IFERROR(IF(INDEX(PLANNING!$B$4:$I$11,MATCH(ROW(E8),PLANNING!$J$4:$J$11,0),COLUMN(E8))=0,"",INDEX(PLANNING!$B$4:$I$11,MATCH(ROW(E8),PLANNING!$J$4:$J$11,0),COLUMN(E8))),"") | G11: =IFERROR(IF(INDEX(PLANNING!$B$4:$I$11,MATCH(ROW(F8),PLANNING!$J$4:$J$11,0),COLUMN(F8))=0,"",INDEX(PLANNING!$B$4:$I$11,MATCH(ROW(F8),PLANNING!$J$4:$J$11,0),COLUMN(F8))),"") | H11: =IFERROR(IF(INDEX(PLANNING!$B$4:$I$11,MATCH(ROW(G8),PLANNING!$J$4:$J$11,0),COLUMN(G8))=0,"",INDEX(PLANNING!$B$4:$I$11,MATCH(ROW(G8),PLANNING!$J$4:$J$11,0),COLUMN(G8))),"")
B12: =IFERROR(IF(INDEX(PLANNING!$B$4:$I$11,MATCH(ROW(A9),PLANNING!$J$4:$J$11,0),COLUMN(A9))=0,"",INDEX(PLANNING!$B$4:$I$11,MATCH(ROW(A9),PLANNING!$J$4:$J$11,0),COLUMN(A9))),"") | C12: =IFERROR(IF(INDEX(PLANNING!$B$4:$I$11,MATCH(ROW(B9),PLANNING!$J$4:$J$11,0),COLUMN(B9))=0,"",INDEX(PLANNING!$B$4:$I$11,MATCH(ROW(B9),PLANNING!$J$4:$J$11,0),COLUMN(B9))),"") | D12: =IFERROR(IF(INDEX(PLANNING!$B$4:$I$11,MATCH(ROW(C9),PLANNING!$J$4:$J$11,0),COLUMN(C9))=0,"",INDEX(PLANNING!$B$4:$I$11,MATCH(ROW(C9),PLANNING!$J$4:$J$11,0),COLUMN(C9))),"") | E12: =IFERROR(IF(INDEX(PLANNING!$B$4:$I$11,MATCH(ROW(D9),PLANNING!$J$4:$J$11,0),COLUMN(D9))=0,"",INDEX(PLANNING!$B$4:$I$11,MATCH(ROW(D9),PLANNING!$J$4:$J$11,0),COLUMN(D9))),"") | F12: =IFERROR(IF(INDEX(PLANNING!$B$4:$I$11,MATCH(ROW(E9),PLANNING!$J$4:$J$11,0),COLUMN(E9))=0,"",INDEX(PLANNING!$B$4:$I$11,MATCH(ROW(E9),PLANNING!$J$4:$J$11,0),COLUMN(E9))),"") | G12: =IFERROR(IF(INDEX(PLANNING!$B$4:$I$11,MATCH(ROW(F9),PLANNING!$J$4:$J$11,0),COLUMN(F9))=0,"",INDEX(PLANNING!$B$4:$I$11,MATCH(ROW(F9),PLANNING!$J$4:$J$11,0),COLUMN(F9))),"") | H12: =IFERROR(IF(INDEX(PLANNING!$B$4:$I$11,MATCH(ROW(G9),PLANNING!$J$4:$J$11,0),COLUMN(G9))=0,"",INDEX(PLANNING!$B$4:$I$11,MATCH(ROW(G9),PLANNING!$J$4:$J$11,0),COLUMN(G9))),"")
B13: =IFERROR(IF(INDEX(PLANNING!$B$4:$I$11,MATCH(ROW(A10),PLANNING!$J$4:$J$11,0),COLUMN(A10))=0,"",INDEX(PLANNING!$B$4:$I$11,MATCH(ROW(A10),PLANNING!$J$4:$J$11,0),COLUMN(A10))),"") | C13: =IFERROR(IF(INDEX(PLANNING!$B$4:$I$11,MATCH(ROW(B10),PLANNING!$J$4:$J$11,0),COLUMN(B10))=0,"",INDEX(PLANNING!$B$4:$I$11,MATCH(ROW(B10),PLANNING!$J$4:$J$11,0),COLUMN(B10))),"") | D13: =IFERROR(IF(INDEX(PLANNING!$B$4:$I$11,MATCH(ROW(C10),PLANNING!$J$4:$J$11,0),COLUMN(C10))=0,"",INDEX(PLANNING!$B$4:$I$11,MATCH(ROW(C10),PLANNING!$J$4:$J$11,0),COLUMN(C10))),"") | E13: =IFERROR(IF(INDEX(PLANNING!$B$4:$I$11,MATCH(ROW(D10),PLANNING!$J$4:$J$11,0),COLUMN(D10))=0,"",INDEX(PLANNING!$B$4:$I$11,MATCH(ROW(D10),PLANNING!$J$4:$J$11,0),COLUMN(D10))),"") | F13: =IFERROR(IF(INDEX(PLANNING!$B$4:$I$11,MATCH(ROW(E10),PLANNING!$J$4:$J$11,0),COLUMN(E10))=0,"",INDEX(PLANNING!$B$4:$I$11,MATCH(ROW(E10),PLANNING!$J$4:$J$11,0),COLUMN(E10))),"") | G13: =IFERROR(IF(INDEX(PLANNING!$B$4:$I$11,MATCH(ROW(F10),PLANNING!$J$4:$J$11,0),COLUMN(F10))=0,"",INDEX(PLANNING!$B$4:$I$11,MATCH(ROW(F10),PLANNING!$J$4:$J$11,0),COLUMN(F10))),"") | H13: =IFERROR(IF(INDEX(PLANNING!$B$4:$I$11,MATCH(ROW(G10),PLANNING!$J$4:$J$11,0),COLUMN(G10))=0,"",INDEX(PLANNING!$B$4:$I$11,MATCH(ROW(G10),PLANNING!$J$4:$J$11,0),COLUMN(G10))),"")
B14: =IFERROR(IF(INDEX(PLANNING!$B$4:$I$11,MATCH(ROW(A11),PLANNING!$J$4:$J$11,0),COLUMN(A11))=0,"",INDEX(PLANNING!$B$4:$I$11,MATCH(ROW(A11),PLANNING!$J$4:$J$11,0),COLUMN(A11))),"") | C14: =IFERROR(IF(INDEX(PLANNING!$B$4:$I$11,MATCH(ROW(B11),PLANNING!$J$4:$J$11,0),COLUMN(B11))=0,"",INDEX(PLANNING!$B$4:$I$11,MATCH(ROW(B11),PLANNING!$J$4:$J$11,0),COLUMN(B11))),"") | D14: =IFERROR(IF(INDEX(PLANNING!$B$4:$I$11,MATCH(ROW(C11),PLANNING!$J$4:$J$11,0),COLUMN(C11))=0,"",INDEX(PLANNING!$B$4:$I$11,MATCH(ROW(C11),PLANNING!$J$4:$J$11,0),COLUMN(C11))),"") | E14: =IFERROR(IF(INDEX(PLANNING!$B$4:$I$11,MATCH(ROW(D11),PLANNING!$J$4:$J$11,0),COLUMN(D11))=0,"",INDEX(PLANNING!$B$4:$I$11,MATCH(ROW(D11),PLANNING!$J$4:$J$11,0),COLUMN(D11))),"") | F14: =IFERROR(IF(INDEX(PLANNING!$B$4:$I$11,MATCH(ROW(E11),PLANNING!$J$4:$J$11,0),COLUMN(E11))=0,"",INDEX(PLANNING!$B$4:$I$11,MATCH(ROW(E11),PLANNING!$J$4:$J$11,0),COLUMN(E11))),"") | G14: =IFERROR(IF(INDEX(PLANNING!$B$4:$I$11,MATCH(ROW(F11),PLANNING!$J$4:$J$11,0),COLUMN(F11))=0,"",INDEX(PLANNING!$B$4:$I$11,MATCH(ROW(F11),PLANNING!$J$4:$J$11,0),COLUMN(F11))),"") | H14: =IFERROR(IF(INDEX(PLANNING!$B$4:$I$11,MATCH(ROW(G11),PLANNING!$J$4:$J$11,0),COLUMN(G11))=0,"",INDEX(PLANNING!$B$4:$I$11,MATCH(ROW(G11),PLANNING!$J$4:$J$11,0),COLUMN(G11))),"")
B15: =IFERROR(IF(INDEX(PLANNING!$B$4:$I$11,MATCH(ROW(A12),PLANNING!$J$4:$J$11,0),COLUMN(A12))=0,"",INDEX(PLANNING!$B$4:$I$11,MATCH(ROW(A12),PLANNING!$J$4:$J$11,0),COLUMN(A12))),"") | C15: =IFERROR(IF(INDEX(PLANNING!$B$4:$I$11,MATCH(ROW(B12),PLANNING!$J$4:$J$11,0),COLUMN(B12))=0,"",INDEX(PLANNING!$B$4:$I$11,MATCH(ROW(B12),PLANNING!$J$4:$J$11,0),COLUMN(B12))),"") | D15: =IFERROR(IF(INDEX(PLANNING!$B$4:$I$11,MATCH(ROW(C12),PLANNING!$J$4:$J$11,0),COLUMN(C12))=0,"",INDEX(PLANNING!$B$4:$I$11,MATCH(ROW(C12),PLANNING!$J$4:$J$11,0),COLUMN(C12))),"") | E15: =IFERROR(IF(INDEX(PLANNING!$B$4:$I$11,MATCH(ROW(D12),PLANNING!$J$4:$J$11,0),COLUMN(D12))=0,"",INDEX(PLANNING!$B$4:$I$11,MATCH(ROW(D12),PLANNING!$J$4:$J$11,0),COLUMN(D12))),"") | F15: =IFERROR(IF(INDEX(PLANNING!$B$4:$I$11,MATCH(ROW(E12),PLANNING!$J$4:$J$11,0),COLUMN(E12))=0,"",INDEX(PLANNING!$B$4:$I$11,MATCH(ROW(E12),PLANNING!$J$4:$J$11,0),COLUMN(E12))),"") | G15: =IFERROR(IF(INDEX(PLANNING!$B$4:$I$11,MATCH(ROW(F12),PLANNING!$J$4:$J$11,0),COLUMN(F12))=0,"",INDEX(PLANNING!$B$4:$I$11,MATCH(ROW(F12),PLANNING!$J$4:$J$11,0),COLUMN(F12))),"") | H15: =IFERROR(IF(INDEX(PLANNING!$B$4:$I$11,MATCH(ROW(G12),PLANNING!$J$4:$J$11,0),COLUMN(G12))=0,"",INDEX(PLANNING!$B$4:$I$11,MATCH(ROW(G12),PLANNING!$J$4:$J$11,0),COLUMN(G12))),"")
... B20: =IFERROR(IF(INDEX(PLANNING!$B$4:$I$11,MATCH(ROW(A17),PLANNING!$J$4:$J$11,0),COLUMN(A17))=0,"",INDEX(PLANNING!$B$4:$I$11,MATCH(ROW(A17),PLANNING!$J$4:$J$11,0),COLUMN(A17))),"") | C20: =IFERROR(IF(INDEX(PLANNING!$B$4:$I$11,MATCH(ROW(B17),PLANNING!$J$4:$J$11,0),COLUMN(B17))=0,"",INDEX(PLANNING!$B$4:$I$11,MATCH(ROW(B17),PLANNING!$J$4:$J$11,0),COLUMN(B17))),"") | D20: =IFERROR(IF(INDEX(PLANNING!$B$4:$I$11,MATCH(ROW(C17),PLANNING!$J$4:$J$11,0),COLUMN(C17))=0,"",INDEX(PLANNING!$B$4:$I$11,MATCH(ROW(C17),PLANNING!$J$4:$J$11,0),COLUMN(C17))),"") | E20: =IFERROR(IF(INDEX(PLANNING!$B$4:$I$11,MATCH(ROW(D17),PLANNING!$J$4:$J$11,0),COLUMN(D17))=0,"",INDEX(PLANNING!$B$4:$I$11,MATCH(ROW(D17),PLANNING!$J$4:$J$11,0),COLUMN(D17))),"") | F20: =IFERROR(IF(INDEX(PLANNING!$B$4:$I$11,MATCH(ROW(E17),PLANNING!$J$4:$J$11,0),COLUMN(E17))=0,"",INDEX(PLANNING!$B$4:$I$11,MATCH(ROW(E17),PLANNING!$J$4:$J$11,0),COLUMN(E17))),"") | G20: =IFERROR(IF(INDEX(PLANNING!$B$4:$I$11,MATCH(ROW(F17),PLANNING!$J$4:$J$11,0),COLUMN(F17))=0,"",INDEX(PLANNING!$B$4:$I$11,MATCH(ROW(F17),PLANNING!$J$4:$J$11,0),COLUMN(F17))),"") | H20: =IFERROR(IF(INDEX(PLANNING!$B$4:$I$11,MATCH(ROW(G17),PLANNING!$J$4:$J$11,0),COLUMN(G17))=0,"",INDEX(PLANNING!$B$4:$I$11,MATCH(ROW(G17),PLANNING!$J$4:$J$11,0),COLUMN(G17))),"")
