Workbook

Sheet Échéancier
A1: # | B1: Corp de métier | C1: Sous-traitant | D1: Date Début travaux | E1: # jour | F1: Date fin travaux | G1: Écart de jour
A2: 1 | B2: Mise en place du chantier | D2: 44029 | E2: 1 | F2: =IF(WORKDAY.INTL(Table1[[#This Row],[Date Début travaux]],Table1[[#This Row],['# jour]],1,Férié!A3:D42)=0,"",WORKDAY.INTL(Table1[[#This Row],[Date Début travaux]],Table1[[#This Row],['# jour]],1,Férié!A3:D42)) -> 44046 | G2: =IFERROR(IF(NETWORKDAYS.INTL(Table1[[#This Row],[Date Début travaux]],Table1[[#This Row],[Date fin travaux]],2,Férié!A3:D41)>1,NETWORKDAYS.INTL(Table1[[#This Row],[Date Début travaux]],Table1[[#This Row],[Date fin travaux]],2,Férié!A3:D41),""),"") -> 2
A3: 3 | B3: Excavation | D3: 44027 | E3: 3 | F3: =IF(WORKDAY.INTL(Table1[[#This Row],[Date Début travaux]],Table1[[#This Row],['# jour]],1,Férié!A4:D43)=0,"",WORKDAY.INTL(Table1[[#This Row],[Date Début travaux]],Table1[[#This Row],['# jour]],1,Férié!A4:D43)) -> 44046 | G3: =IFERROR(IF(NETWORKDAYS.INTL(Table1[[#This Row],[Date Début travaux]],Table1[[#This Row],[Date fin travaux]],2,Férié!A4:D42)>1,NETWORKDAYS.INTL(Table1[[#This Row],[Date Début travaux]],Table1[[#This Row],[Date fin travaux]],2,Férié!A4:D42),""),"") -> 4
A4: 2 | B4: Fondation | D4: 44028 | E4: 2 | F4: =IF(WORKDAY.INTL(Table1[[#This Row],[Date Début travaux]],Table1[[#This Row],['# jour]],1,Férié!A5:D44)=0,"",WORKDAY.INTL(Table1[[#This Row],[Date Début travaux]],Table1[[#This Row],['# jour]],1,Férié!A5:D44)) -> 44046 | G4: =IFERROR(IF(NETWORKDAYS.INTL(Table1[[#This Row],[Date Début travaux]],Table1[[#This Row],[Date fin travaux]],2,Férié!A5:D43)>1,NETWORKDAYS.INTL(Table1[[#This Row],[Date Début travaux]],Table1[[#This Row],[Date fin travaux]],2,Férié!A5:D43),""),"") -> 3
A5: 5 | B5: Remblai | F5: =IF(WORKDAY.INTL(Table1[[#This Row],[Date Début travaux]],Table1[[#This Row],['# jour]],1,Férié!A6:D45)=0,"",WORKDAY.INTL(Table1[[#This Row],[Date Début travaux]],Table1[[#This Row],['# jour]],1,Férié!A6:D45)) | G5: =IFERROR(IF(NETWORKDAYS.INTL(Table1[[#This Row],[Date Début travaux]],Table1[[#This Row],[Date fin travaux]],2,Férié!A6:D44)>1,NETWORKDAYS.INTL(Table1[[#This Row],[Date Début travaux]],Table1[[#This Row],[Date fin travaux]],2,Férié!A6:D44),""),"")
A6: 4 | B6: Structure | F6: =IF(WORKDAY.INTL(Table1[[#This Row],[Date Début travaux]],Table1[[#This Row],['# jour]],1,Férié!A7:D46)=0,"",WORKDAY.INTL(Table1[[#This Row],[Date Début travaux]],Table1[[#This Row],['# jour]],1,Férié!A7:D46)) | G6: =IFERROR(IF(NETWORKDAYS.INTL(Table1[[#This Row],[Date Début travaux]],Table1[[#This Row],[Date fin travaux]],2,Férié!A7:D45)>1,NETWORKDAYS.INTL(Table1[[#This Row],[Date Début travaux]],Table1[[#This Row],[Date fin travaux]],2,Férié!A7:D45),""),"")
B7: Toit | F7: =IF(WORKDAY.INTL(Table1[[#This Row],[Date Début travaux]],Table1[[#This Row],['# jour]],1,Férié!A8:D47)=0,"",WORKDAY.INTL(Table1[[#This Row],[Date Début travaux]],Table1[[#This Row],['# jour]],1,Férié!A8:D47)) | G7: =IFERROR(IF(NETWORKDAYS.INTL(Table1[[#This Row],[Date Début travaux]],Table1[[#This Row],[Date fin travaux]],2,Férié!A8:D46)>1,NETWORKDAYS.INTL(Table1[[#This Row],[Date Début travaux]],Table1[[#This Row],[Date fin travaux]],2,Férié!A8:D46),""),"")
B8: Fenetre et porte | F8: =IF(WORKDAY.INTL(Table1[[#This Row],[Date Début travaux]],Table1[[#This Row],['# jour]],1,Férié!A9:D48)=0,"",WORKDAY.INTL(Table1[[#This Row],[Date Début travaux]],Table1[[#This Row],['# jour]],1,Férié!A9:D48)) | G8: =IFERROR(IF(NETWORKDAYS.INTL(Table1[[#This Row],[Date Début travaux]],Table1[[#This Row],[Date fin travaux]],2,Férié!A9:D47)>1,NETWORKDAYS.INTL(Table1[[#This Row],[Date Début travaux]],Table1[[#This Row],[Date fin travaux]],2,Férié!A9:D47),""),"")
B9: Division | F9: =IF(WORKDAY.INTL(Table1[[#This Row],[Date Début travaux]],Table1[[#This Row],['# jour]],1,Férié!A10:D49)=0,"",WORKDAY.INTL(Table1[[#This Row],[Date Début travaux]],Table1[[#This Row],['# jour]],1,Férié!A10:D49)) | G9: =IFERROR(IF(NETWORKDAYS.INTL(Table1[[#This Row],[Date Début travaux]],Table1[[#This Row],[Date fin travaux]],2,Férié!A10:D48)>1,NETWORKDAYS.INTL(Table1[[#This Row],[Date Début travaux]],Table1[[#This Row],[Date fin travaux]],2,Férié!A10:D48),""),"")
B10: Plomberie | F10: =IF(WORKDAY.INTL(Table1[[#This Row],[Date Début travaux]],Table1[[#This Row],['# jour]],1,Férié!A11:D50)=0,"",WORKDAY.INTL(Table1[[#This Row],[Date Début travaux]],Table1[[#This Row],['# jour]],1,Férié!A11:D50)) | G10: =IFERROR(IF(NETWORKDAYS.INTL(Table1[[#This Row],[Date Début travaux]],Table1[[#This Row],[Date fin travaux]],2,Férié!A11:D49)>1,NETWORKDAYS.INTL(Table1[[#This Row],[Date Début travaux]],Table1[[#This Row],[Date fin travaux]],2,Férié!A11:D49),""),"")
B11: Ventilation | F11: =IF(WORKDAY.INTL(Table1[[#This Row],[Date Début travaux]],Table1[[#This Row],['# jour]],1,Férié!A12:D51)=0,"",WORKDAY.INTL(Table1[[#This Row],[Date Début travaux]],Table1[[#This Row],['# jour]],1,Férié!A12:D51)) | G11: =IFERROR(IF(NETWORKDAYS.INTL(Table1[[#This Row],[Date Début travaux]],Table1[[#This Row],[Date fin travaux]],2,Férié!A12:D50)>1,NETWORKDAYS.INTL(Table1[[#This Row],[Date Début travaux]],Table1[[#This Row],[Date fin travaux]],2,Férié!A12:D50),""),"")
B12: Électricité | F12: =IF(WORKDAY.INTL(Table1[[#This Row],[Date Début travaux]],Table1[[#This Row],['# jour]],1,Férié!A13:D52)=0,"",WORKDAY.INTL(Table1[[#This Row],[Date Début travaux]],Table1[[#This Row],['# jour]],1,Férié!A13:D52)) | G12: =IFERROR(IF(NETWORKDAYS.INTL(Table1[[#This Row],[Date Début travaux]],Table1[[#This Row],[Date fin travaux]],2,Férié!A13:D51)>1,NETWORKDAYS.INTL(Table1[[#This Row],[Date Début travaux]],Table1[[#This Row],[Date fin travaux]],2,Férié!A13:D51),""),"")
B13: Gypse | F13: =IF(WORKDAY.INTL(Table1[[#This Row],[Date Début travaux]],Table1[[#This Row],['# jour]],1,Férié!A14:D53)=0,"",WORKDAY.INTL(Table1[[#This Row],[Date Début travaux]],Table1[[#This Row],['# jour]],1,Férié!A14:D53)) | G13: =IFERROR(IF(NETWORKDAYS.INTL(Table1[[#This Row],[Date Début travaux]],Table1[[#This Row],[Date fin travaux]],2,Férié!A14:D52)>1,NETWORKDAYS.INTL(Table1[[#This Row],[Date Début travaux]],Table1[[#This Row],[Date fin travaux]],2,Férié!A14:D52),""),"")
B14: Peinture | F14: =IF(WORKDAY.INTL(Table1[[#This Row],[Date Début travaux]],Table1[[#This Row],['# jour]],1,Férié!A15:D54)=0,"",WORKDAY.INTL(Table1[[#This Row],[Date Début travaux]],Table1[[#This Row],['# jour]],1,Férié!A15:D54)) | G14: =IFERROR(IF(NETWORKDAYS.INTL(Table1[[#This Row],[Date Début travaux]],Table1[[#This Row],[Date fin travaux]],2,Férié!A15:D53)>1,NETWORKDAYS.INTL(Table1[[#This Row],[Date Début travaux]],Table1[[#This Row],[Date fin travaux]],2,Férié!A15:D53),""),"")
B15: Menuiserie | F15: =IF(WORKDAY.INTL(Table1[[#This Row],[Date Début travaux]],Table1[[#This Row],['# jour]],1,Férié!A16:D55)=0,"",WORKDAY.INTL(Table1[[#This Row],[Date Début travaux]],Table1[[#This Row],['# jour]],1,Férié!A16:D55)) | G15: =IFERROR(IF(NETWORKDAYS.INTL(Table1[[#This Row],[Date Début travaux]],Table1[[#This Row],[Date fin travaux]],2,Férié!A16:D54)>1,NETWORKDAYS.INTL(Table1[[#This Row],[Date Début travaux]],Table1[[#This Row],[Date fin travaux]],2,Férié!A16:D54),""),"")
B16: Finition | F16: =IF(WORKDAY.INTL(Table1[[#This Row],[Date Début travaux]],Table1[[#This Row],['# jour]],1,Férié!A17:D56)=0,"",WORKDAY.INTL(Table1[[#This Row],[Date Début travaux]],Table1[[#This Row],['# jour]],1,Férié!A17:D56)) | G16: =IFERROR(IF(NETWORKDAYS.INTL(Table1[[#This Row],[Date Début travaux]],Table1[[#This Row],[Date fin travaux]],2,Férié!A17:D55)>1,NETWORKDAYS.INTL(Table1[[#This Row],[Date Début travaux]],Table1[[#This Row],[Date fin travaux]],2,Férié!A17:D55),""),"")
B17: Retouche Électricien | F17: =IF(WORKDAY.INTL(Table1[[#This Row],[Date Début travaux]],Table1[[#This Row],['# jour]],1,Férié!A18:D57)=0,"",WORKDAY.INTL(Table1[[#This Row],[Date Début travaux]],Table1[[#This Row],['# jour]],1,Férié!A18:D57)) | G17: =IFERROR(IF(NETWORKDAYS.INTL(Table1[[#This Row],[Date Début travaux]],Table1[[#This Row],[Date fin travaux]],2,Férié!A18:D56)>1,NETWORKDAYS.INTL(Table1[[#This Row],[Date Début travaux]],Table1[[#This Row],[Date fin travaux]],2,Férié!A18:D56),""),"")
B18: Terrassement | F18: =IF(WORKDAY.INTL(Table1[[#This Row],[Date Début travaux]],Table1[[#This Row],['# jour]],1,Férié!A19:D58)=0,"",WORKDAY.INTL(Table1[[#This Row],[Date Début travaux]],Table1[[#This Row],['# jour]],1,Férié!A19:D58)) | G18: =IFERROR(IF(NETWORKDAYS.INTL(Table1[[#This Row],[Date Début travaux]],Table1[[#This Row],[Date fin travaux]],2,Férié!A19:D57)>1,NETWORKDAYS.INTL(Table1[[#This Row],[Date Début travaux]],Table1[[#This Row],[Date fin travaux]],2,Férié!A19:D57),""),"")
B19: Ménage | F19: =IF(WORKDAY.INTL(Table1[[#This Row],[Date Début travaux]],Table1[[#This Row],['# jour]],1,Férié!A20:D59)=0,"",WORKDAY.INTL(Table1[[#This Row],[Date Début travaux]],Table1[[#This Row],['# jour]],1,Férié!A20:D59)) | G19: =IFERROR(IF(NETWORKDAYS.INTL(Table1[[#This Row],[Date Début travaux]],Table1[[#This Row],[Date fin travaux]],2,Férié!A20:D58)>1,NETWORKDAYS.INTL(Table1[[#This Row],[Date Début travaux]],Table1[[#This Row],[Date fin travaux]],2,Férié!A20:D58),""),"")
F20: =IF(WORKDAY.INTL(Table1[[#This Row],[Date Début travaux]],Table1[[#This Row],['# jour]],1,Férié!A21:D60)=0,"",WORKDAY.INTL(Table1[[#This Row],[Date Début travaux]],Table1[[#This Row],['# jour]],1,Férié!A21:D60)) | G20: =IFERROR(IF(NETWORKDAYS.INTL(Table1[[#This Row],[Date Début travaux]],Table1[[#This Row],[Date fin travaux]],2,Férié!A21:D59)>1,NETWORKDAYS.INTL(Table1[[#This Row],[Date Début travaux]],Table1[[#This Row],[Date fin travaux]],2,Férié!A21:D59),""),"")
F21: =IF(WORKDAY.INTL(Table1[[#This Row],[Date Début travaux]],Table1[[#This Row],['# jour]],1,Férié!A22:D61)=0,"",WORKDAY.INTL(Table1[[#This Row],[Date Début travaux]],Table1[[#This Row],['# jour]],1,Férié!A22:D61)) | G21: =IFERROR(IF(NETWORKDAYS.INTL(Table1[[#This Row],[Date Début travaux]],Table1[[#This Row],[Date fin travaux]],2,Férié!A22:D60)>1,NETWORKDAYS.INTL(Table1[[#This Row],[Date Début travaux]],Table1[[#This Row],[Date fin travaux]],2,Férié!A22:D60),""),"")
F22: =IF(WORKDAY.INTL(Table1[[#This Row],[Date Début travaux]],Table1[[#This Row],['# jour]],1,Férié!A23:D62)=0,"",WORKDAY.INTL(Table1[[#This Row],[Date Début travaux]],Table1[[#This Row],['# jour]],1,Férié!A23:D62)) | G22: =IFERROR(IF(NETWORKDAYS.INTL(Table1[[#This Row],[Date Début travaux]],Table1[[#This Row],[Date fin travaux]],2,Férié!A23:D61)>1,NETWORKDAYS.INTL(Table1[[#This Row],[Date Début travaux]],Table1[[#This Row],[Date fin travaux]],2,Férié!A23:D61),""),"")
F23: =IF(WORKDAY.INTL(Table1[[#This Row],[Date Début travaux]],Table1[[#This Row],['# jour]],1,Férié!A24:D63)=0,"",WORKDAY.INTL(Table1[[#This Row],[Date Début travaux]],Table1[[#This Row],['# jour]],1,Férié!A24:D63)) | G23: =IFERROR(IF(NETWORKDAYS.INTL(Table1[[#This Row],[Date Début travaux]],Table1[[#This Row],[Date fin travaux]],2,Férié!A24:D62)>1,NETWORKDAYS.INTL(Table1[[#This Row],[Date Début travaux]],Table1[[#This Row],[Date fin travaux]],2,Férié!A24:D62),""),"")
F24: =IF(WORKDAY.INTL(Table1[[#This Row],[Date Début travaux]],Table1[[#This Row],['# jour]],1,Férié!A25:D64)=0,"",WORKDAY.INTL(Table1[[#This Row],[Date Début travaux]],Table1[[#This Row],['# jour]],1,Férié!A25:D64)) | G24: =IFERROR(IF(NETWORKDAYS.INTL(Table1[[#This Row],[Date Début travaux]],Table1[[#This Row],[Date fin travaux]],2,Férié!A25:D63)>1,NETWORKDAYS.INTL(Table1[[#This Row],[Date Début travaux]],Table1[[#This Row],[Date fin travaux]],2,Férié!A25:D63),""),"")
F25: =IF(WORKDAY.INTL(Table1[[#This Row],[Date Début travaux]],Table1[[#This Row],['# jour]],1,Férié!A26:D65)=0,"",WORKDAY.INTL(Table1[[#This Row],[Date Début travaux]],Table1[[#This Row],['# jour]],1,Férié!A26:D65)) | G25: =IFERROR(IF(NETWORKDAYS.INTL(Table1[[#This Row],[Date Début travaux]],Table1[[#This Row],[Date fin travaux]],2,Férié!A26:D64)>1,NETWORKDAYS.INTL(Table1[[#This Row],[Date Début travaux]],Table1[[#This Row],[Date fin travaux]],2,Férié!A26:D64),""),"")
F26: =IF(WORKDAY.INTL(Table1[[#This Row],[Date Début travaux]],Table1[[#This Row],['# jour]],1,Férié!A27:D66)=0,"",WORKDAY.INTL(Table1[[#This Row],[Date Début travaux]],Table1[[#This Row],['# jour]],1,Férié!A27:D66)) | G26: =IFERROR(IF(NETWORKDAYS.INTL(Table1[[#This Row],[Date Début travaux]],Table1[[#This Row],[Date fin travaux]],2,Férié!A27:D65)>1,NETWORKDAYS.INTL(Table1[[#This Row],[Date Début travaux]],Table1[[#This Row],[Date fin travaux]],2,Férié!A27:D65),""),"")
F27: =IF(WORKDAY.INTL(Table1[[#This Row],[Date Début travaux]],Table1[[#This Row],['# jour]],1,Férié!A28:D67)=0,"",WORKDAY.INTL(Table1[[#This Row],[Date Début travaux]],Table1[[#This Row],['# jour]],1,Férié!A28:D67)) | G27: =IFERROR(IF(NETWORKDAYS.INTL(Table1[[#This Row],[Date Début travaux]],Table1[[#This Row],[Date fin travaux]],2,Férié!A28:D66)>1,NETWORKDAYS.INTL(Table1[[#This Row],[Date Début travaux]],Table1[[#This Row],[Date fin travaux]],2,Férié!A28:D66),""),"")
F28: =IF(WORKDAY.INTL(Table1[[#This Row],[Date Début travaux]],Table1[[#This Row],['# jour]],1,Férié!A29:D68)=0,"",WORKDAY.INTL(Table1[[#This Row],[Date Début travaux]],Table1[[#This Row],['# jour]],1,Férié!A29:D68)) | G28: =IFERROR(IF(NETWORKDAYS.INTL(Table1[[#This Row],[Date Début travaux]],Table1[[#This Row],[Date fin travaux]],2,Férié!A29:D67)>1,NETWORKDAYS.INTL(Table1[[#This Row],[Date Début travaux]],Table1[[#This Row],[Date fin travaux]],2,Férié!A29:D67),""),"")
F29: =IF(WORKDAY.INTL(Table1[[#This Row],[Date Début travaux]],Table1[[#This Row],['# jour]],1,Férié!A30:D69)=0,"",WORKDAY.INTL(Table1[[#This Row],[Date Début travaux]],Table1[[#This Row],['# jour]],1,Férié!A30:D69)) | G29: =IFERROR(IF(NETWORKDAYS.INTL(Table1[[#This Row],[Date Début travaux]],Table1[[#This Row],[Date fin travaux]],2,Férié!A30:D68)>1,NETWORKDAYS.INTL(Table1[[#This Row],[Date Début travaux]],Table1[[#This Row],[Date fin travaux]],2,Férié!A30:D68),""),"")
B30: Fin travaux | E30: =SUBTOTAL(109,E2:E29) -> 6 | F30: =F3 -> 44046 | G30: =Table1[[#Totals],[Date fin travaux]]-D2 -> 17

Sheet Férié
A1: Jour Férié
A2: 2019 | B2: 2020 | C2: 2021 | D2: 2022
A3: 43466 | B3: 43831
A4: =A3+1 -> 43467 | B4: 43832
A5: =A3+2 -> 43468 | B5: 43833
A6: =A4+2 -> 43469 | B6: 43834
A7: =A5+2 -> 43470 | B7: 43931
A8: 43574 | B8: 43934
A9: 43577 | B9: 43969
A10: 43605 | B10: 44006
A11: 43640 | B11: 44015
A12: 43647 | B12: 44031
A13: 43667 | B13: 44032
A14: 43668 | B14: 44033
A15: 43669 | B15: 44034
A16: 43670 | B16: 44035
A17: 43671 | B17: 44036
A18: 43672 | B18: 44037
A19: 43673 | B19: 44038
... A41: 43832 | B41: 44197
B42: 44198
