Workbook
Name _R1C1C1: IF([1]Graph!$B$1=TRUE,[1]Graph!$B$2,[1]Graph!$B$100)
Name _R1C1C10: IF([1]Graph!$K$1=TRUE,[1]Graph!$K$2,[1]Graph!$K$100)
Name _R1C1C11: IF([1]Graph!$L$1=TRUE,[1]Graph!$L$2,[1]Graph!$L$100)
Name _R1C1C12: IF([1]Graph!$M$1=TRUE,[1]Graph!$M$2,[1]Graph!$M$100)
Name _R1C1C13: IF([1]Graph!$N$1=TRUE,[1]Graph!$N$2,[1]Graph!$N$100)
Name _R1C1C14: IF([1]Graph!$O$1=TRUE,[1]Graph!$O$2,[1]Graph!$O$100)
Name _R1C1C15: IF([1]Graph!$P$1=TRUE,[1]Graph!$P$2,[1]Graph!$P$100)
Name _R1C1C16: IF([1]Graph!$Q$1=TRUE,[1]Graph!$Q$2,[1]Graph!$Q$100)
Name _R1C1C17: IF([1]Graph!$R$1=TRUE,[1]Graph!$R$2,[1]Graph!$R$100)
Name _R1C1C18: IF([1]Graph!$S$1=TRUE,[1]Graph!$S$2,[1]Graph!$S$100)
Name _R1C1C19: IF([1]Graph!$T$1=TRUE,[1]Graph!$T$2,[1]Graph!$T$100)
Name _R1C1C2: IF([1]Graph!$C$1=TRUE,[1]Graph!$C$2,[1]Graph!$C$100)
Name _R1C1C20: IF([1]Graph!$U$1=TRUE,[1]Graph!$U$2,[1]Graph!$U$100)
Name _R1C1C3: IF([1]Graph!$D$1=TRUE,[1]Graph!$D$2,[1]Graph!$D$100)
Name _R1C1C4: IF([1]Graph!$E$1=TRUE,[1]Graph!$E$2,[1]Graph!$E$100)
Name _R1C1C5: IF([1]Graph!$F$1=TRUE,[1]Graph!$F$2,[1]Graph!$F$100)
Name _R1C1C6: IF([1]Graph!$G$1=TRUE,[1]Graph!$G$2,[1]Graph!$G$100)
Name _R1C1C7: IF([1]Graph!$H$1=TRUE,[1]Graph!$H$2,[1]Graph!$H$100)
Name _R1C1C8: IF([1]Graph!$I$1=TRUE,[1]Graph!$I$2,[1]Graph!$I$100)
Name _R1C1C9: IF([1]Graph!$J$1=TRUE,[1]Graph!$J$2,[1]Graph!$J$100)
Name _R1COURSE1C1: IF([1]Graph!$B$1=TRUE,[1]Graph!$B$3:$B$62,[1]Graph!$B$100:$H$100)
Name _R1COURSE1C10: IF([1]Graph!$K$1=TRUE,[1]Graph!$K$3:$K$62,[1]Graph!$A$100:$I$100)
Name _R1COURSE1C11: IF([1]Graph!$L$1=TRUE,[1]Graph!$L$3:$L$62,[1]Graph!$A$100:$I$100)
Name _R1COURSE1C12: IF([1]Graph!$M$1=TRUE,[1]Graph!$M$3:$M$62,[1]Graph!$A$100:$I$100)
Name _R1COURSE1C13: IF([1]Graph!$N$1=TRUE,[1]Graph!$N$3:$N$62,[1]Graph!$A$100:$I$100)
Name _R1COURSE1C14: IF([1]Graph!$O$1=TRUE,[1]Graph!$O$3:$O$62,[1]Graph!$A$100:$I$100)
Name _R1COURSE1C15: IF([1]Graph!$P$1=TRUE,[1]Graph!$P$3:$P$62,[1]Graph!$A$100:$I$100)
Name _R1COURSE1C16: IF([1]Graph!$Q$1=TRUE,[1]Graph!$Q$3:$Q$62,[1]Graph!$A$100:$I$100)
Name _R1COURSE1C17: IF([1]Graph!$R$1=TRUE,[1]Graph!$R$3:$R$62,[1]Graph!$A$100:$I$100)
Name _R1COURSE1C18: IF([1]Graph!$S$1=TRUE,[1]Graph!$S$3:$S$62,[1]Graph!$A$100:$I$100)
Name _R1COURSE1C19: IF([1]Graph!$T$1=TRUE,[1]Graph!$T$3:$T$62,[1]Graph!$A$100:$I$100)
Name _R1COURSE1C2: IF([1]Graph!$C$1=TRUE,[1]Graph!$C$3:$C$62,[1]Graph!$A$100:$I$100)
Name _R1COURSE1C20: IF([1]Graph!$U$1=TRUE,[1]Graph!$U$3:$U$62,[1]Graph!$A$100:$I$100)
Name _R1COURSE1C3: IF([1]Graph!$D$1=TRUE,[1]Graph!$D$3:$D$62,[1]Graph!$D$100:$H$100)
Name _R1COURSE1C4: IF([1]Graph!$E$1=TRUE,[1]Graph!$E$3:$E$62,[1]Graph!$E$100:$H$100)
Name _R1COURSE1C5: IF([1]Graph!$F$1=TRUE,[1]Graph!$F$3:$F$62,[1]Graph!$F$100:$H$100)
Name _R1COURSE1C6: IF([1]Graph!$G$1=TRUE,[1]Graph!$G$3:$G$62,[1]Graph!$G$100:$H$100)
Name _R1COURSE1C7: IF([1]Graph!$H$1=TRUE,[1]Graph!$H$3:$H$62,[1]Graph!$H$100:$I$100)
Name _R1COURSE1C8: IF([1]Graph!$I$1=TRUE,[1]Graph!$I$3:$I$62,[1]Graph!$A$100:$I$100)
Name _R1COURSE1C9: IF([1]Graph!$J$1=TRUE,[1]Graph!$J$3:$J$62,[1]Graph!$A$100:$I$100)

Sheet R1
A2: N° | B2: 1 | C2: 2 | D2: 3 | E2: 4 | F2: 5 | G2: 6 | H2: 7 | I2: 8 | J2: 9 | K2: 10 | L2: 11 | M2: 12 | N2: 13 | O2: 14 | P2: 15 | Q2: 16 | R2: 17 | S2: 18 | T2: 19 | U2: 20
B3: 10 | C3: 12 | D3: 5 | E3: 6 | F3: 8 | G3: 30 | H3: 40 | I3: 10
B4: 11 | C4: 12 | D4: 4 | E4: 5 | F4: 7 | G4: 32 | H4: 42 | I4: 11
B5: 14 | C5: 10 | D5: 4 | E5: 5 | F5: 6 | G5: 33 | H5: 44 | I5: 9
B6: 12 | C6: 9 | D6: 3 | E6: 4 | F6: 6 | G6: 33 | H6: 45 | I6: 8

Sheet Masse
A1: C 1
B2: 40000
B3: 50000
B4: 60000
B5: 70000

Sheet Principal
C6: =IF(C8="","",1) -> 1 | D6: =IF(D8="","",2) -> 2 | E6: =IF(E8="","",3) -> 3 | F6: =IF(F8="","",4) -> 4 | G6: =IF(G8="","",5) -> 5 | H6: =IF(H8="","",6) -> 6 | I6: =IF(I8="","",7) -> 7 | J6: =IF(J8="","",8) -> 8 | K6: =IF(K8="","",9) | L6: =IF(L8="","",10) | M6: =IF(M8="","",11) | N6: =IF(N8="","",12) | O6: =IF(O8="","",13) | P6: =IF(P8="","",14) | Q6: =IF(Q8="","",15) | R6: =IF(R8="","",16) | S6: =IF(S8="","",17) | T6: =IF(T8="","",18) | U6: =IF(U8="","",19) | V6: =IF(V8="","",20)
A7: =TRANSPOSE('R1'!A3) -> 0 | C7: =IF(TRANSPOSE('R1'!B3)=0,"",TRANSPOSE('R1'!B3)) -> 10 | D7: =IF(TRANSPOSE('R1'!C3)=0,"",TRANSPOSE('R1'!C3)) -> 12 | E7: =IF(TRANSPOSE('R1'!D3)=0,"",TRANSPOSE('R1'!D3)) -> 5 | F7: =IF(TRANSPOSE('R1'!E3)=0,"",TRANSPOSE('R1'!E3)) -> 6 | G7: =IF(TRANSPOSE('R1'!F3)=0,"",TRANSPOSE('R1'!F3)) -> 8 | H7: =IF(TRANSPOSE('R1'!G3)=0,"",TRANSPOSE('R1'!G3)) -> 30 | I7: =IF(TRANSPOSE('R1'!H3)=0,"",TRANSPOSE('R1'!H3)) -> 40 | J7: =IF(TRANSPOSE('R1'!I3)=0,"",TRANSPOSE('R1'!I3)) -> 10 | ... V7: =IF(TRANSPOSE('R1'!U3)=0,"",TRANSPOSE('R1'!U3)) | W7: =IF(TRANSPOSE(Masse!B2)=0,"",TRANSPOSE(Masse!B2)) -> 40000 | X7: =IFERROR(SUM(W7*0.8495),"") -> 33980
C8: =IFERROR(($X$7/C7),"") -> 3398 | D8: =IFERROR(($X$7/D7),"") -> 2831.6667 | E8: =IFERROR(($X$7/E7),"") -> 6796 | F8: =IFERROR(($X$7/F7),"") -> 5663.3333 | G8: =IFERROR(($X$7/G7),"") -> 4247.5 | H8: =IFERROR(($X$7/H7),"") -> 1132.6667 | I8: =IFERROR(($X$7/I7),"") -> 849.5 | J8: =IFERROR(($X$7/J7),"") -> 3398 | ... V8: =IFERROR(($X$7/V7),"")
A10: =TRANSPOSE('R1'!A4) -> 0 | C10: =IF(TRANSPOSE('R1'!B4)=0,"",TRANSPOSE('R1'!B4)) -> 11 | D10: =IF(TRANSPOSE('R1'!C4)=0,"",TRANSPOSE('R1'!C4)) -> 12 | E10: =IF(TRANSPOSE('R1'!D4)=0,"",TRANSPOSE('R1'!D4)) -> 4 | F10: =IF(TRANSPOSE('R1'!E4)=0,"",TRANSPOSE('R1'!E4)) -> 5 | G10: =IF(TRANSPOSE('R1'!F4)=0,"",TRANSPOSE('R1'!F4)) -> 7 | H10: =IF(TRANSPOSE('R1'!G4)=0,"",TRANSPOSE('R1'!G4)) -> 32 | I10: =IF(TRANSPOSE('R1'!H4)=0,"",TRANSPOSE('R1'!H4)) -> 42 | J10: =IF(TRANSPOSE('R1'!I4)=0,"",TRANSPOSE('R1'!I4)) -> 11 | ... V10: =IF(TRANSPOSE('R1'!U4)=0,"",TRANSPOSE('R1'!U4)) | W10: =IF(TRANSPOSE(Masse!B3)=0,"",TRANSPOSE(Masse!B3)) -> 50000 | X10: =IFERROR(SUM(W10*0.8495),"") -> 42475
C11: =IFERROR(($X10/C10),"") -> 3861.3636 | D11: =IFERROR(($X10/D10),"") -> 3539.5833 | E11: =IFERROR(($X10/E10),"") -> 10618.75 | F11: =IFERROR(($X10/F10),"") -> 8495 | G11: =IFERROR(($X10/G10),"") -> 6067.8571 | H11: =IFERROR(($X10/H10),"") -> 1327.3438 | I11: =IFERROR(($X10/I10),"") -> 1011.3095 | J11: =IFERROR(($X10/J10),"") -> 3861.3636 | ... V11: =IFERROR(($X10/V10),"")
C12: =IFERROR((C10-C7),"") -> 1 | D12: =IFERROR((D10-D7),"") -> 0 | E12: =IFERROR((E10-E7),"") -> -1 | F12: =IFERROR((F10-F7),"") -> -1 | G12: =IFERROR((G10-G7),"") -> -1 | H12: =IFERROR((H10-H7),"") -> 2 | I12: =IFERROR((I10-I7),"") -> 2 | J12: =IFERROR((J10-J7),"") -> 1 | ... V12: =IFERROR((V10-V7),"")
C13: =IFERROR((C11-C8),"") -> 463.36364 | D13: =IFERROR((D11-D8),"") -> 707.91667 | E13: =IFERROR((E11-E8),"") -> 3822.75 | F13: =IFERROR((F11-F8),"") -> 2831.6667 | G13: =IFERROR((G11-G8),"") -> 1820.3571 | H13: =IFERROR((H11-H8),"") -> 194.67708 | I13: =IFERROR((I11-I8),"") -> 161.80952 | J13: =IFERROR((J11-J8),"") -> 463.36364 | ... V13: =IFERROR((V11-V8),"")
C15: =IF(C17="","",1) -> 1 | D15: =IF(D17="","",2) -> 2 | E15: =IF(E17="","",3) -> 3 | F15: =IF(F17="","",4) -> 4 | G15: =IF(G17="","",5) -> 5 | H15: =IF(H17="","",6) -> 6 | I15: =IF(I17="","",7) -> 7 | J15: =IF(J17="","",8) -> 8 | K15: =IF(K17="","",9) | L15: =IF(L17="","",10) | M15: =IF(M17="","",11) | N15: =IF(N17="","",12) | O15: =IF(O17="","",13) | P15: =IF(P17="","",14) | Q15: =IF(Q17="","",15) | R15: =IF(R17="","",16) | S15: =IF(S17="","",17) | T15: =IF(T17="","",18) | U15: =IF(U17="","",19) | V15: =IF(V17="","",20)
A16: =TRANSPOSE('R1'!A5) -> 0 | C16: =IF(TRANSPOSE('R1'!B5)=0,"",TRANSPOSE('R1'!B5)) -> 14 | D16: =IF(TRANSPOSE('R1'!C5)=0,"",TRANSPOSE('R1'!C5)) -> 10 | E16: =IF(TRANSPOSE('R1'!D5)=0,"",TRANSPOSE('R1'!D5)) -> 4 | F16: =IF(TRANSPOSE('R1'!E5)=0,"",TRANSPOSE('R1'!E5)) -> 5 | G16: =IF(TRANSPOSE('R1'!F5)=0,"",TRANSPOSE('R1'!F5)) -> 6 | H16: =IF(TRANSPOSE('R1'!G5)=0,"",TRANSPOSE('R1'!G5)) -> 33 | I16: =IF(TRANSPOSE('R1'!H5)=0,"",TRANSPOSE('R1'!H5)) -> 44 | J16: =IF(TRANSPOSE('R1'!I5)=0,"",TRANSPOSE('R1'!I5)) -> 9 | ... V16: =IF(TRANSPOSE('R1'!U5)=0,"",TRANSPOSE('R1'!U5)) | W16: =IF(TRANSPOSE(Masse!B4)=0,"",TRANSPOSE(Masse!B4)) -> 60000 | X16: =IFERROR(SUM(W16*0.8495),"") -> 50970
C17: =IFERROR(($X16/C16),"") -> 3640.7143 | D17: =IFERROR(($X16/D16),"") -> 5097 | E17: =IFERROR(($X16/E16),"") -> 12742.5 | F17: =IFERROR(($X16/F16),"") -> 10194 | G17: =IFERROR(($X16/G16),"") -> 8495 | H17: =IFERROR(($X16/H16),"") -> 1544.5455 | I17: =IFERROR(($X16/I16),"") -> 1158.4091 | J17: =IFERROR(($X16/J16),"") -> 5663.3333 | ... V17: =IFERROR(($X16/V16),"")
C18: =IFERROR((C16-C10),"") -> 3 | D18: =IFERROR((D16-D10),"") -> -2 | E18: =IFERROR((E16-E10),"") -> 0 | F18: =IFERROR((F16-F10),"") -> 0 | G18: =IFERROR((G16-G10),"") -> -1 | H18: =IFERROR((H16-H10),"") -> 1 | I18: =IFERROR((I16-I10),"") -> 2 | J18: =IFERROR((J16-J10),"") -> -2 | ... V18: =IFERROR((V16-V10),"")
C19: =IFERROR((C17-C11),"") -> -220.64935 | D19: =IFERROR((D17-D11),"") -> 1557.4167 | E19: =IFERROR((E17-E11),"") -> 2123.75 | F19: =IFERROR((F17-F11),"") -> 1699 | G19: =IFERROR((G17-G11),"") -> 2427.1429 | H19: =IFERROR((H17-H11),"") -> 217.2017 | I19: =IFERROR((I17-I11),"") -> 147.09957 | J19: =IFERROR((J17-J11),"") -> 1801.9697 | ... V19: =IFERROR((V17-V11),"")
C21: =IF(C23="","",1) -> 1 | D21: =IF(D23="","",2) -> 2 | E21: =IF(E23="","",3) -> 3 | F21: =IF(F23="","",4) -> 4 | G21: =IF(G23="","",5) -> 5 | H21: =IF(H23="","",6) -> 6 | I21: =IF(I23="","",7) -> 7 | J21: =IF(J23="","",8) -> 8 | K21: =IF(K23="","",9) | L21: =IF(L23="","",10) | M21: =IF(M23="","",11) | N21: =IF(N23="","",12) | O21: =IF(O23="","",13) | P21: =IF(P23="","",14) | Q21: =IF(Q23="","",15) | R21: =IF(R23="","",16) | S21: =IF(S23="","",17) | T21: =IF(T23="","",18) | U21: =IF(U23="","",19) | V21: =IF(V23="","",20)
A22: =TRANSPOSE('R1'!A6) -> 0 | C22: =IF(TRANSPOSE('R1'!B6)=0,"",TRANSPOSE('R1'!B6)) -> 12 | D22: =IF(TRANSPOSE('R1'!C6)=0,"",TRANSPOSE('R1'!C6)) -> 9 | E22: =IF(TRANSPOSE('R1'!D6)=0,"",TRANSPOSE('R1'!D6)) -> 3 | F22: =IF(TRANSPOSE('R1'!E6)=0,"",TRANSPOSE('R1'!E6)) -> 4 | G22: =IF(TRANSPOSE('R1'!F6)=0,"",TRANSPOSE('R1'!F6)) -> 6 | H22: =IF(TRANSPOSE('R1'!G6)=0,"",TRANSPOSE('R1'!G6)) -> 33 | I22: =IF(TRANSPOSE('R1'!H6)=0,"",TRANSPOSE('R1'!H6)) -> 45 | J22: =IF(TRANSPOSE('R1'!I6)=0,"",TRANSPOSE('R1'!I6)) -> 8 | ... V22: =IF(TRANSPOSE('R1'!U6)=0,"",TRANSPOSE('R1'!U6)) | W22: =IF(TRANSPOSE(Masse!B5)=0,"",TRANSPOSE(Masse!B5)) -> 70000 | X22: =IFERROR(SUM(W22*0.8495),"") -> 59465
C23: =IFERROR(($X22/C22),"") -> 4955.4167 | D23: =IFERROR(($X22/D22),"") -> 6607.2222 | E23: =IFERROR(($X22/E22),"") -> 19821.667 | F23: =IFERROR(($X22/F22),"") -> 14866.25 | G23: =IFERROR(($X22/G22),"") -> 9910.8333 | H23: =IFERROR(($X22/H22),"") -> 1801.9697 | I23: =IFERROR(($X22/I22),"") -> 1321.4444 | J23: =IFERROR(($X22/J22),"") -> 7433.125 | ... V23: =IFERROR(($X22/V22),"")
C24: =IFERROR((C22-C16),"") -> -2 | D24: =IFERROR((D22-D16),"") -> -1 | E24: =IFERROR((E22-E16),"") -> -1 | F24: =IFERROR((F22-F16),"") -> -1 | G24: =IFERROR((G22-G16),"") -> 0 | H24: =IFERROR((H22-H16),"") -> 0 | I24: =IFERROR((I22-I16),"") -> 1 | J24: =IFERROR((J22-J16),"") -> -1 | ... V24: =IFERROR((V22-V16),"")
C25: =IFERROR((C23-C17),"") -> 1314.7024 | D25: =IFERROR((D23-D17),"") -> 1510.2222 | E25: =IFERROR((E23-E17),"") -> 7079.1667 | F25: =IFERROR((F23-F17),"") -> 4672.25 | G25: =IFERROR((G23-G17),"") -> 1415.8333 | H25: =IFERROR((H23-H17),"") -> 257.42424 | I25: =IFERROR((I23-I17),"") -> 163.03535 | J25: =IFERROR((J23-J17),"") -> 1769.7917 | ... V25: =IFERROR((V23-V17),"")
C27: =IF(C29="","",1) | D27: =IF(D29="","",2) | E27: =IF(E29="","",3) | F27: =IF(F29="","",4) | G27: =IF(G29="","",5) | H27: =IF(H29="","",6) | I27: =IF(I29="","",7) | J27: =IF(J29="","",8) | K27: =IF(K29="","",9) | L27: =IF(L29="","",10) | M27: =IF(M29="","",11) | N27: =IF(N29="","",12) | O27: =IF(O29="","",13) | P27: =IF(P29="","",14) | Q27: =IF(Q29="","",15) | R27: =IF(R29="","",16) | S27: =IF(S29="","",17) | T27: =IF(T29="","",18) | U27: =IF(U29="","",19) | V27: =IF(V29="","",20)
A28: =TRANSPOSE('R1'!A7) -> 0 | C28: =IF(TRANSPOSE('R1'!B7)=0,"",TRANSPOSE('R1'!B7)) | D28: =IF(TRANSPOSE('R1'!C7)=0,"",TRANSPOSE('R1'!C7)) | E28: =IF(TRANSPOSE('R1'!D7)=0,"",TRANSPOSE('R1'!D7)) | F28: =IF(TRANSPOSE('R1'!E7)=0,"",TRANSPOSE('R1'!E7)) | G28: =IF(TRANSPOSE('R1'!F7)=0,"",TRANSPOSE('R1'!F7)) | H28: =IF(TRANSPOSE('R1'!G7)=0,"",TRANSPOSE('R1'!G7)) | I28: =IF(TRANSPOSE('R1'!H7)=0,"",TRANSPOSE('R1'!H7)) | J28: =IF(TRANSPOSE('R1'!I7)=0,"",TRANSPOSE('R1'!I7)) | ... V28: =IF(TRANSPOSE('R1'!U7)=0,"",TRANSPOSE('R1'!U7)) | W28: =IF(TRANSPOSE(Masse!B6)=0,"",TRANSPOSE(Masse!B6)) | X28: =IFERROR(SUM(W28*0.8495),"")
C29: =IFERROR(($X28/C28),"") | D29: =IFERROR(($X28/D28),"") | E29: =IFERROR(($X28/E28),"") | F29: =IFERROR(($X28/F28),"") | G29: =IFERROR(($X28/G28),"") | H29: =IFERROR(($X28/H28),"") | I29: =IFERROR(($X28/I28),"") | J29: =IFERROR(($X28/J28),"") | ... V29: =IFERROR(($X28/V28),"")
C30: =IFERROR((C28-C22),"") | D30: =IFERROR((D28-D22),"") | E30: =IFERROR((E28-E22),"") | F30: =IFERROR((F28-F22),"") | G30: =IFERROR((G28-G22),"") | H30: =IFERROR((H28-H22),"") | I30: =IFERROR((I28-I22),"") | J30: =IFERROR((J28-J22),"") | ... V30: =IFERROR((V28-V22),"")
C31: =IFERROR((C29-C23),"") | D31: =IFERROR((D29-D23),"") | E31: =IFERROR((E29-E23),"") | F31: =IFERROR((F29-F23),"") | G31: =IFERROR((G29-G23),"") | H31: =IFERROR((H29-H23),"") | I31: =IFERROR((I29-I23),"") | J31: =IFERROR((J29-J23),"") | ... V31: =IFERROR((V29-V23),"")
A33: collage ici
