Workbook

Sheet LISTE PATIENT
A1: LISTE 1 | I1: Imprimé le : | K1: =TODAY() -> 40324
A2: NOM | B2: PRENOM | C2: MOTIF 1 | D2: MOTIF 2 | E2: TEMPS | F2: SECTEUR | H2: PASSAGE | L2: T2A
F3: Hénin | G3: Liévin | H3: IDE | I3: 13H | J3: ASD | K3: 13H
A4: A | H4: MATIN / SOIR
A5: B
A6: C | H6: X 3
A7: D
A8: E | H8: SOIR
A9: F
A10: G
A11: H | H11: MIDI / SOIR
A12: I
A13: J
A15: Commentaires :
A16: LISTE 2 | I16: Imprimé le : | K16: =TODAY() -> 40324
A17: NOM | B17: PRENOM | C17: MOTIF 1 | D17: MOTIF 2 | E17: TEMPS | F17: SECTEUR | H17: PASSAGE | L17: T2A
F18: Hénin | G18: Liévin | H18: IDE | I18: 13H | J18: ASD | K18: 13H
A19: A
A20: B
A21: C
A22: D
A23: E
A24: F
A25: G
A26: H
A27: I
A28: J
A30: Commentaires :
A31: LISTE 3 | I31: Imprimé le : | K31: =TODAY() -> 40324
A32: NOM | B32: PRENOM | C32: MOTIF 1 | D32: MOTIF 2 | E32: TEMPS | F32: SECTEUR | H32: PASSAGE | L32: T2A
F33: Hénin | G33: Liévin | H33: IDE | I33: 13H | J33: ASD | K33: 13H
A34: A
A35: B
A36: C
A37: D
A38: E
A39: F
A40: G
A41: H
A42: I
...

Sheet SOIR IDE
C3: X3
C4: =IF(ROWS($3:3)<=SUMPRODUCT(([1]Feuil1!$H$5:$H$14=B$3)*1),INDEX([1]Feuil1!$A$1:$A$14,MIN(IF([1]Feuil1!$H$5:$H$14=B$3,IF(COUNTIF(B$3:B3,[1]Feuil1!$A$5:$A$14)=0,ROW([1]Feuil1!$H$5:$H$14))))),"") -> #REF!
C5: =IF(ROWS($3:4)<=SUMPRODUCT(([1]Feuil1!$H$5:$H$14=B$3)*1),INDEX([1]Feuil1!$A$1:$A$14,MIN(IF([1]Feuil1!$H$5:$H$14=B$3,IF(COUNTIF(B$3:B4,[1]Feuil1!$A$5:$A$14)=0,ROW([1]Feuil1!$H$5:$H$14))))),"") -> #REF!
C6: =IF(ROWS($3:5)<=SUMPRODUCT(([1]Feuil1!$H$5:$H$14=B$3)*1),INDEX([1]Feuil1!$A$1:$A$14,MIN(IF([1]Feuil1!$H$5:$H$14=B$3,IF(COUNTIF(B$3:B5,[1]Feuil1!$A$5:$A$14)=0,ROW([1]Feuil1!$H$5:$H$14))))),"") -> #REF!
C7: =IF(ROWS($3:6)<=SUMPRODUCT(([1]Feuil1!$H$5:$H$14=B$3)*1),INDEX([1]Feuil1!$A$1:$A$14,MIN(IF([1]Feuil1!$H$5:$H$14=B$3,IF(COUNTIF(B$3:B6,[1]Feuil1!$A$5:$A$14)=0,ROW([1]Feuil1!$H$5:$H$14))))),"") -> #REF!
C8: =IF(ROWS($3:7)<=SUMPRODUCT(([1]Feuil1!$H$5:$H$14=B$3)*1),INDEX([1]Feuil1!$A$1:$A$14,MIN(IF([1]Feuil1!$H$5:$H$14=B$3,IF(COUNTIF(B$3:B7,[1]Feuil1!$A$5:$A$14)=0,ROW([1]Feuil1!$H$5:$H$14))))),"") -> #REF!
C9: =IF(ROWS($3:8)<=SUMPRODUCT(([1]Feuil1!$H$5:$H$14=B$3)*1),INDEX([1]Feuil1!$A$1:$A$14,MIN(IF([1]Feuil1!$H$5:$H$14=B$3,IF(COUNTIF(B$3:B8,[1]Feuil1!$A$5:$A$14)=0,ROW([1]Feuil1!$H$5:$H$14))))),"") -> #REF!
C10: =IF(ROWS($3:9)<=SUMPRODUCT(([1]Feuil1!$H$5:$H$14=B$3)*1),INDEX([1]Feuil1!$A$1:$A$14,MIN(IF([1]Feuil1!$H$5:$H$14=B$3,IF(COUNTIF(B$3:B9,[1]Feuil1!$A$5:$A$14)=0,ROW([1]Feuil1!$H$5:$H$14))))),"") -> #REF!
C11: =IF(ROWS($3:10)<=SUMPRODUCT(([1]Feuil1!$H$5:$H$14=B$3)*1),INDEX([1]Feuil1!$A$1:$A$14,MIN(IF([1]Feuil1!$H$5:$H$14=B$3,IF(COUNTIF(B$3:B10,[1]Feuil1!$A$5:$A$14)=0,ROW([1]Feuil1!$H$5:$H$14))))),"") -> #REF!
C12: =IF(ROWS($3:11)<=SUMPRODUCT(([1]Feuil1!$H$5:$H$14=B$3)*1),INDEX([1]Feuil1!$A$1:$A$14,MIN(IF([1]Feuil1!$H$5:$H$14=B$3,IF(COUNTIF(B$3:B11,[1]Feuil1!$A$5:$A$14)=0,ROW([1]Feuil1!$H$5:$H$14))))),"") -> #REF!
C13: =IF(ROWS($3:12)<=SUMPRODUCT(([1]Feuil1!$H$5:$H$14=B$3)*1),INDEX([1]Feuil1!$A$1:$A$14,MIN(IF([1]Feuil1!$H$5:$H$14=B$3,IF(COUNTIF(B$3:B12,[1]Feuil1!$A$5:$A$14)=0,ROW([1]Feuil1!$H$5:$H$14))))),"") -> #REF!
C14: =IF(ROWS($3:13)<=SUMPRODUCT(([1]Feuil1!$H$5:$H$14=B$3)*1),INDEX([1]Feuil1!$A$1:$A$14,MIN(IF([1]Feuil1!$H$5:$H$14=B$3,IF(COUNTIF(B$3:B13,[1]Feuil1!$A$5:$A$14)=0,ROW([1]Feuil1!$H$5:$H$14))))),"") -> #REF!
C15: =IF(ROWS($3:14)<=SUMPRODUCT(([1]Feuil1!$H$5:$H$14=B$3)*1),INDEX([1]Feuil1!$A$1:$A$14,MIN(IF([1]Feuil1!$H$5:$H$14=B$3,IF(COUNTIF(B$3:B14,[1]Feuil1!$A$5:$A$14)=0,ROW([1]Feuil1!$H$5:$H$14))))),"") -> #REF!
C16: =IF(ROWS($3:15)<=SUMPRODUCT(([1]Feuil1!$H$5:$H$14=B$3)*1),INDEX([1]Feuil1!$A$1:$A$14,MIN(IF([1]Feuil1!$H$5:$H$14=B$3,IF(COUNTIF(B$3:B15,[1]Feuil1!$A$5:$A$14)=0,ROW([1]Feuil1!$H$5:$H$14))))),"") -> #REF!

Sheet SOIR ASD
C3: X3
C4: {=IF(ROWS($3:3)<=SUMPRODUCT(('LISTE PATIENT'!$H$4:$H$13=C$3)*1),INDEX('LISTE PATIENT'!$A$1:$A$13,MIN(IF('LISTE PATIENT'!$H$4:$H$13=C$3,IF(COUNTIF(C$3:C3,'LISTE PATIENT'!$A$4:$A$13)=0,ROW('LISTE PATIENT'!$H$4:$H$13))))),"")}
C5: {=IF(ROWS($3:4)<=SUMPRODUCT(('LISTE PATIENT'!$H$4:$H$13=C$3)*1),INDEX('LISTE PATIENT'!$A$1:$A$13,MIN(IF('LISTE PATIENT'!$H$4:$H$13=C$3,IF(COUNTIF(C$3:C4,'LISTE PATIENT'!$A$4:$A$13)=0,ROW('LISTE PATIENT'!$H$4:$H$13))))),"")}
C6: {=IF(ROWS($3:5)<=SUMPRODUCT(('LISTE PATIENT'!$H$4:$H$13=C$3)*1),INDEX('LISTE PATIENT'!$A$1:$A$13,MIN(IF('LISTE PATIENT'!$H$4:$H$13=C$3,IF(COUNTIF(C$3:C5,'LISTE PATIENT'!$A$4:$A$13)=0,ROW('LISTE PATIENT'!$H$4:$H$13))))),"")}
C7: {=IF(ROWS($3:6)<=SUMPRODUCT(('LISTE PATIENT'!$H$4:$H$13=C$3)*1),INDEX('LISTE PATIENT'!$A$1:$A$13,MIN(IF('LISTE PATIENT'!$H$4:$H$13=C$3,IF(COUNTIF(C$3:C6,'LISTE PATIENT'!$A$4:$A$13)=0,ROW('LISTE PATIENT'!$H$4:$H$13))))),"")}
C8: {=IF(ROWS($3:7)<=SUMPRODUCT(('LISTE PATIENT'!$H$4:$H$13=C$3)*1),INDEX('LISTE PATIENT'!$A$1:$A$13,MIN(IF('LISTE PATIENT'!$H$4:$H$13=C$3,IF(COUNTIF(C$3:C7,'LISTE PATIENT'!$A$4:$A$13)=0,ROW('LISTE PATIENT'!$H$4:$H$13))))),"")}
C9: {=IF(ROWS($3:8)<=SUMPRODUCT(('LISTE PATIENT'!$H$4:$H$13=C$3)*1),INDEX('LISTE PATIENT'!$A$1:$A$13,MIN(IF('LISTE PATIENT'!$H$4:$H$13=C$3,IF(COUNTIF(C$3:C8,'LISTE PATIENT'!$A$4:$A$13)=0,ROW('LISTE PATIENT'!$H$4:$H$13))))),"")}
C10: {=IF(ROWS($3:9)<=SUMPRODUCT(('LISTE PATIENT'!$H$4:$H$13=C$3)*1),INDEX('LISTE PATIENT'!$A$1:$A$13,MIN(IF('LISTE PATIENT'!$H$4:$H$13=C$3,IF(COUNTIF(C$3:C9,'LISTE PATIENT'!$A$4:$A$13)=0,ROW('LISTE PATIENT'!$H$4:$H$13))))),"")}
C11: {=IF(ROWS($3:10)<=SUMPRODUCT(('LISTE PATIENT'!$H$4:$H$13=C$3)*1),INDEX('LISTE PATIENT'!$A$1:$A$13,MIN(IF('LISTE PATIENT'!$H$4:$H$13=C$3,IF(COUNTIF(C$3:C10,'LISTE PATIENT'!$A$4:$A$13)=0,ROW('LISTE PATIENT'!$H$4:$H$13))))),"")}
C12: {=IF(ROWS($3:11)<=SUMPRODUCT(('LISTE PATIENT'!$H$4:$H$13=C$3)*1),INDEX('LISTE PATIENT'!$A$1:$A$13,MIN(IF('LISTE PATIENT'!$H$4:$H$13=C$3,IF(COUNTIF(C$3:C11,'LISTE PATIENT'!$A$4:$A$13)=0,ROW('LISTE PATIENT'!$H$4:$H$13))))),"")}
C13: {=IF(ROWS($3:12)<=SUMPRODUCT(('LISTE PATIENT'!$H$4:$H$13=C$3)*1),INDEX('LISTE PATIENT'!$A$1:$A$13,MIN(IF('LISTE PATIENT'!$H$4:$H$13=C$3,IF(COUNTIF(C$3:C12,'LISTE PATIENT'!$A$4:$A$13)=0,ROW('LISTE PATIENT'!$H$4:$H$13))))),"")}
