Workbook

Sheet LISTE PATIENT
A1: LISTE 1 | I1: Imprimé le : | K1: =TODAY() -> 40324
A2: NOM | B2: PRENOM | C2: MOTIF 1 | D2: MOTIF 2 | E2: TEMPS | F2: SECTEUR | H2: PASSAGE | L2: T2A
F3: Hénin | G3: Liévin | H3: IDE | I3: 13H | J3: ASD | K3: 13H
A4: A | H4: MATIN / SOIR
A5: B
A6: C | H6: X 3
A7: D
A8: E | H8: SOIR
A9: F
A10: G
A11: H | H11: MIDI / SOIR
A12: I
A13: J
A15: Commentaires :
A16: LISTE 2 | I16: Imprimé le : | K16: =TODAY() -> 40324
A17: NOM | B17: PRENOM | C17: MOTIF 1 | D17: MOTIF 2 | E17: TEMPS | F17: SECTEUR | H17: PASSAGE | L17: T2A
F18: Hénin | G18: Liévin | H18: IDE | I18: 13H | J18: ASD | K18: 13H
A19: A
A20: B
A21: C
A22: D
A23: E
A24: F
A25: G
A26: H
A27: I
A28: J
A30: Commentaires :
A31: LISTE 3 | I31: Imprimé le : | K31: =TODAY() -> 40324
A32: NOM | B32: PRENOM | C32: MOTIF 1 | D32: MOTIF 2 | E32: TEMPS | F32: SECTEUR | H32: PASSAGE | L32: T2A
F33: Hénin | G33: Liévin | H33: IDE | I33: 13H | J33: ASD | K33: 13H
A34: A
A35: B
A36: C
A37: D
A38: E
A39: F
A40: G
A41: H
A42: I
A43: J
A45: Commentaires :
A46: LISTE 4 | I46: Imprimé le : | K46: =TODAY() -> 40324
A47: NOM | B47: PRENOM | C47: MOTIF 1 | D47: MOTIF 2 | E47: TEMPS | F47: SECTEUR | H47: PASSAGE | L47: T2A
F48: Hénin | G48: Liévin | H48: IDE | I48: 13H | J48: ASD | K48: 13H
A49: A
A50: B
A51: C
A52: D
A53: E
A54: F
A55: G
A56: H
A57: I
A58: J
A60: Commentaires :
A61: LISTE 5 | I61: Imprimé le : | K61: =TODAY() -> 40324
A62: NOM | B62: PRENOM | C62: MOTIF 1 | D62: MOTIF 2 | E62: TEMPS | F62: SECTEUR | H62: PASSAGE | L62: T2A
F63: Hénin | G63: Liévin | H63: IDE | I63: 13H | J63: ASD | K63: 13H
A64: A
A65: B
A66: C
A67: D
A68: E
A69: F
A70: G
A71: H
A72: I
A73: J
A75: Commentaires :
A76: LISTE 6 | I76: Imprimé le : | K76: =TODAY() -> 40324
A77: NOM | B77: PRENOM | C77: MOTIF 1 | D77: MOTIF 2 | E77: TEMPS | F77: SECTEUR | H77: PASSAGE | L77: T2A
F78: Hénin | G78: Liévin | H78: IDE | I78: 13H | J78: ASD | K78: 13H
A79: A
A80: B
A81: C
A82: D
A83: E
A84: F
A85: G
A86: H
A87: I
A88: J
A90: Commentaires :
A91: LISTE 7 | I91: Imprimé le : | K91: =TODAY() -> 40324
A92: NOM | B92: PRENOM | C92: MOTIF 1 | D92: MOTIF 2 | E92: TEMPS | F92: SECTEUR | H92: PASSAGE | L92: T2A
F93: Hénin | G93: Liévin | H93: IDE | I93: 13H | J93: ASD | K93: 13H
A94: A
A95: B
A96: C
A97: D
A98: E
A99: F
A100: G
A101: H
A102: I
A103: J
A105: Commentaires :
A106: LISTE 8 | I106: Imprimé le : | K106: =TODAY() -> 40324
A107: NOM | B107: PRENOM | C107: MOTIF 1 | D107: MOTIF 2 | E107: TEMPS | F107: SECTEUR | H107: PASSAGE | L107: T2A
...

Sheet SOIR IDE
C3: X3
C4: =IF(ROWS($3:3)<=SUMPRODUCT(([1]Feuil1!$H$5:$H$14=B$3)*1),INDEX([1]Feuil1!$A$1:$A$14,MIN(IF([1]Feuil1!$H$5:$H$14=B$3,IF(COUNTIF(B$3:B3,[1]Feuil1!$A$5:$A$14)=0,ROW([1]Feuil1!$H$5:$H$14))))),"") -> #REF!
C5: =IF(ROWS($3:4)<=SUMPRODUCT(([1]Feuil1!$H$5:$H$14=B$3)*1),INDEX([1]Feuil1!$A$1:$A$14,MIN(IF([1]Feuil1!$H$5:$H$14=B$3,IF(COUNTIF(B$3:B4,[1]Feuil1!$A$5:$A$14)=0,ROW([1]Feuil1!$H$5:$H$14))))),"") -> #REF!
C6: =IF(ROWS($3:5)<=SUMPRODUCT(([1]Feuil1!$H$5:$H$14=B$3)*1),INDEX([1]Feuil1!$A$1:$A$14,MIN(IF([1]Feuil1!$H$5:$H$14=B$3,IF(COUNTIF(B$3:B5,[1]Feuil1!$A$5:$A$14)=0,ROW([1]Feuil1!$H$5:$H$14))))),"") -> #REF!
C7: =IF(ROWS($3:6)<=SUMPRODUCT(([1]Feuil1!$H$5:$H$14=B$3)*1),INDEX([1]Feuil1!$A$1:$A$14,MIN(IF([1]Feuil1!$H$5:$H$14=B$3,IF(COUNTIF(B$3:B6,[1]Feuil1!$A$5:$A$14)=0,ROW([1]Feuil1!$H$5:$H$14))))),"") -> #REF!
C8: =IF(ROWS($3:7)<=SUMPRODUCT(([1]Feuil1!$H$5:$H$14=B$3)*1),INDEX([1]Feuil1!$A$1:$A$14,MIN(IF([1]Feuil1!$H$5:$H$14=B$3,IF(COUNTIF(B$3:B7,[1]Feuil1!$A$5:$A$14)=0,ROW([1]Feuil1!$H$5:$H$14))))),"") -> #REF!
C9: =IF(ROWS($3:8)<=SUMPRODUCT(([1]Feuil1!$H$5:$H$14=B$3)*1),INDEX([1]Feuil1!$A$1:$A$14,MIN(IF([1]Feuil1!$H$5:$H$14=B$3,IF(COUNTIF(B$3:B8,[1]Feuil1!$A$5:$A$14)=0,ROW([1]Feuil1!$H$5:$H$14))))),"") -> #REF!
C10: =IF(ROWS($3:9)<=SUMPRODUCT(([1]Feuil1!$H$5:$H$14=B$3)*1),INDEX([1]Feuil1!$A$1:$A$14,MIN(IF([1]Feuil1!$H$5:$H$14=B$3,IF(COUNTIF(B$3:B9,[1]Feuil1!$A$5:$A$14)=0,ROW([1]Feuil1!$H$5:$H$14))))),"") -> #REF!
C11: =IF(ROWS($3:10)<=SUMPRODUCT(([1]Feuil1!$H$5:$H$14=B$3)*1),INDEX([1]Feuil1!$A$1:$A$14,MIN(IF([1]Feuil1!$H$5:$H$14=B$3,IF(COUNTIF(B$3:B10,[1]Feuil1!$A$5:$A$14)=0,ROW([1]Feuil1!$H$5:$H$14))))),"") -> #REF!
C12: =IF(ROWS($3:11)<=SUMPRODUCT(([1]Feuil1!$H$5:$H$14=B$3)*1),INDEX([1]Feuil1!$A$1:$A$14,MIN(IF([1]Feuil1!$H$5:$H$14=B$3,IF(COUNTIF(B$3:B11,[1]Feuil1!$A$5:$A$14)=0,ROW([1]Feuil1!$H$5:$H$14))))),"") -> #REF!
C13: =IF(ROWS($3:12)<=SUMPRODUCT(([1]Feuil1!$H$5:$H$14=B$3)*1),INDEX([1]Feuil1!$A$1:$A$14,MIN(IF([1]Feuil1!$H$5:$H$14=B$3,IF(COUNTIF(B$3:B12,[1]Feuil1!$A$5:$A$14)=0,ROW([1]Feuil1!$H$5:$H$14))))),"") -> #REF!
C14: =IF(ROWS($3:13)<=SUMPRODUCT(([1]Feuil1!$H$5:$H$14=B$3)*1),INDEX([1]Feuil1!$A$1:$A$14,MIN(IF([1]Feuil1!$H$5:$H$14=B$3,IF(COUNTIF(B$3:B13,[1]Feuil1!$A$5:$A$14)=0,ROW([1]Feuil1!$H$5:$H$14))))),"") -> #REF!
C15: =IF(ROWS($3:14)<=SUMPRODUCT(([1]Feuil1!$H$5:$H$14=B$3)*1),INDEX([1]Feuil1!$A$1:$A$14,MIN(IF([1]Feuil1!$H$5:$H$14=B$3,IF(COUNTIF(B$3:B14,[1]Feuil1!$A$5:$A$14)=0,ROW([1]Feuil1!$H$5:$H$14))))),"") -> #REF!
C16: =IF(ROWS($3:15)<=SUMPRODUCT(([1]Feuil1!$H$5:$H$14=B$3)*1),INDEX([1]Feuil1!$A$1:$A$14,MIN(IF([1]Feuil1!$H$5:$H$14=B$3,IF(COUNTIF(B$3:B15,[1]Feuil1!$A$5:$A$14)=0,ROW([1]Feuil1!$H$5:$H$14))))),"") -> #REF!

Sheet SOIR ASD
C3: X3
C4: {=IF(ROWS($3:3)<=SUMPRODUCT(('LISTE PATIENT'!$H$4:$H$13=C$3)*1),INDEX('LISTE PATIENT'!$A$1:$A$13,MIN(IF('LISTE PATIENT'!$H$4:$H$13=C$3,IF(COUNTIF(C$3:C3,'LISTE PATIENT'!$A$4:$A$13)=0,ROW('LISTE PATIENT'!$H$4:$H$13))))),"")}
C5: {=IF(ROWS($3:4)<=SUMPRODUCT(('LISTE PATIENT'!$H$4:$H$13=C$3)*1),INDEX('LISTE PATIENT'!$A$1:$A$13,MIN(IF('LISTE PATIENT'!$H$4:$H$13=C$3,IF(COUNTIF(C$3:C4,'LISTE PATIENT'!$A$4:$A$13)=0,ROW('LISTE PATIENT'!$H$4:$H$13))))),"")}
C6: {=IF(ROWS($3:5)<=SUMPRODUCT(('LISTE PATIENT'!$H$4:$H$13=C$3)*1),INDEX('LISTE PATIENT'!$A$1:$A$13,MIN(IF('LISTE PATIENT'!$H$4:$H$13=C$3,IF(COUNTIF(C$3:C5,'LISTE PATIENT'!$A$4:$A$13)=0,ROW('LISTE PATIENT'!$H$4:$H$13))))),"")}
C7: {=IF(ROWS($3:6)<=SUMPRODUCT(('LISTE PATIENT'!$H$4:$H$13=C$3)*1),INDEX('LISTE PATIENT'!$A$1:$A$13,MIN(IF('LISTE PATIENT'!$H$4:$H$13=C$3,IF(COUNTIF(C$3:C6,'LISTE PATIENT'!$A$4:$A$13)=0,ROW('LISTE PATIENT'!$H$4:$H$13))))),"")}
C8: {=IF(ROWS($3:7)<=SUMPRODUCT(('LISTE PATIENT'!$H$4:$H$13=C$3)*1),INDEX('LISTE PATIENT'!$A$1:$A$13,MIN(IF('LISTE PATIENT'!$H$4:$H$13=C$3,IF(COUNTIF(C$3:C7,'LISTE PATIENT'!$A$4:$A$13)=0,ROW('LISTE PATIENT'!$H$4:$H$13))))),"")}
C9: {=IF(ROWS($3:8)<=SUMPRODUCT(('LISTE PATIENT'!$H$4:$H$13=C$3)*1),INDEX('LISTE PATIENT'!$A$1:$A$13,MIN(IF('LISTE PATIENT'!$H$4:$H$13=C$3,IF(COUNTIF(C$3:C8,'LISTE PATIENT'!$A$4:$A$13)=0,ROW('LISTE PATIENT'!$H$4:$H$13))))),"")}
C10: {=IF(ROWS($3:9)<=SUMPRODUCT(('LISTE PATIENT'!$H$4:$H$13=C$3)*1),INDEX('LISTE PATIENT'!$A$1:$A$13,MIN(IF('LISTE PATIENT'!$H$4:$H$13=C$3,IF(COUNTIF(C$3:C9,'LISTE PATIENT'!$A$4:$A$13)=0,ROW('LISTE PATIENT'!$H$4:$H$13))))),"")}
C11: {=IF(ROWS($3:10)<=SUMPRODUCT(('LISTE PATIENT'!$H$4:$H$13=C$3)*1),INDEX('LISTE PATIENT'!$A$1:$A$13,MIN(IF('LISTE PATIENT'!$H$4:$H$13=C$3,IF(COUNTIF(C$3:C10,'LISTE PATIENT'!$A$4:$A$13)=0,ROW('LISTE PATIENT'!$H$4:$H$13))))),"")}
C12: {=IF(ROWS($3:11)<=SUMPRODUCT(('LISTE PATIENT'!$H$4:$H$13=C$3)*1),INDEX('LISTE PATIENT'!$A$1:$A$13,MIN(IF('LISTE PATIENT'!$H$4:$H$13=C$3,IF(COUNTIF(C$3:C11,'LISTE PATIENT'!$A$4:$A$13)=0,ROW('LISTE PATIENT'!$H$4:$H$13))))),"")}
C13: {=IF(ROWS($3:12)<=SUMPRODUCT(('LISTE PATIENT'!$H$4:$H$13=C$3)*1),INDEX('LISTE PATIENT'!$A$1:$A$13,MIN(IF('LISTE PATIENT'!$H$4:$H$13=C$3,IF(COUNTIF(C$3:C12,'LISTE PATIENT'!$A$4:$A$13)=0,ROW('LISTE PATIENT'!$H$4:$H$13))))),"")}
