Workbook
Name JF: JF!$B$3:$B$15
Name Paques: JF!$A$4:$B$4

Sheet JF
A2: Entrer l'année ==> | B2: =BASE!C1 -> 2018
A3: Jour de l'an | B3: =DATE(B2,1,1) -> 41639
A4: Pâques | B4: =DATE(B2,3,29.56+0.979*MOD(204-11*MOD(B2,19),30)- WEEKDAY(DATE(B2,3,28.56+0.979*MOD(204-11*MOD(B2,19),30)))) -> 41729
A5: Lundi de Pâques | B5: =Paques+1 -> 41730
A6: Fête du travail | B6: =DATE(B2,5,1) -> 41759
A7: Armistice 1945 | B7: =DATE(B2,5,8) -> 41766
A8: Ascension | B8: =Paques+39 -> 41768
A9: Pentecôte | B9: =Paques+49 -> 41778
A10: Lundi de Pentecôte | B10: =Paques+50 -> 41779
A11: Fête Nationale | B11: =DATE(B2,7,14) -> 41833
A12: Assomption | B12: =DATE(B2,8,15) -> 41865
A13: Toussaint | B13: =DATE(B2,11,1) -> 41943
A14: Armistice 1914 | B14: =DATE(B2,11,11) -> 41953
A15: Noël | B15: =DATE(B2,12,25) -> 41997
A17: Année bisextile | B17: =IF(MOD(B2,400)=0,"bissextile",(IF(MOD(B2,100)=0,"commune",(IF(MOD(B2,4)=0,"bissextile","commune"))))) -> commune

Sheet BASE
C1: 2018
A2: 0.20833333 | C2: 41639
A3: 0.875 | D3: PLANNING SERVICE | AL3: - | AM3: =UPPER(TEXT(C2,"mmmm aaaa")) -> JANVIER 2018
A4: 0 | D4: "susceptible de changement pour cas de force majeur et besoin au bon fonctionnement de la société"
D5: =IF(COUNTIFS($I$8:$I$69,"<"&11/24,$I$8:$I$69,"<>0"),"ATTENTION REPOS QUOTIDIEN","") | O5: =IF(COUNTIFS($T$8:$T$69,"<"&11/24,$T$8:$T$69,"<>0"),"ATTENTION REPOS QUOTIDIEN","") | Z5: =IF(COUNTIFS($AE$8:$AE$69,"<"&11/24,$AE$8:$AE$69,"<>0"),"ATTENTION REPOS QUOTIDIEN","") | AK5: =IF(COUNTIFS($AP$8:$AP$69,"<"&11/24,$AP$8:$AP$69,"<>0"),"ATTENTION REPOS QUOTIDIEN","") | AV5: =IF(COUNTIFS($BA$8:$BA$69,"<"&11/24,$BA$8:$BA$69,"<>0"),"ATTENTION REPOS QUOTIDIEN","") | BG5: =IF(COUNTIFS($BL$8:$BL$69,"<"&11/24,$BL$8:$BL$69,"<>0"),"ATTENTION REPOS QUOTIDIEN","")
D6: CHRISTELLE | O6: NOEMIE | Z6: LAURIANNE | AK6: JULIE | AV6: SYLVIE | BG6: EXTRA | BR6: Infos service
D7: Prise de service | F7: Fin de service | G7: H | H7: H | I7: REPOS | J7: HDN | K7: HDN | L7: CP | M7: CV | N7: Nuits | O7: Prise de service | Q7: Fin de service | R7: H | S7: H | T7: REPOS | U7: HDN | V7: HDN | W7: CP | X7: CV | Y7: Nuits | Z7: Prise de service | AB7: Fin de service | AC7: H | AD7: H | AE7: REPOS | AF7: HDN | AG7: HDN | AH7: CP | AI7: CV | AJ7: Nuits | AK7: Prise de service | AM7: Fin de service | AN7: H | AO7: H | AP7: REPOS | AQ7: HDN | AR7: HDN | AS7: CP | AT7: CV | AU7: Nuits | AV7: Prise de service | AX7: Fin de service | AY7: H | AZ7: H | BA7: REPOS | BB7: HDN | BC7: HDN | BD7: CP | BE7: CV | BF7: Nuits | BG7: Prise de service | BI7: Fin de service | BJ7: H | BK7: H | BL7: REPOS | BM7: HDN | BN7: HDN | BO7: CP | BP7: CV | BQ7: Nuits
A8: =C2 -> 41639 | B8: =UPPER(TEXT(A8,"jjj")) -> LUN | C8: =UPPER(TEXT(A8,"jj mmm")) -> 01 JANV | G8: =MOD(F8-D8,1) -> 0 | H8: =G8+G9 -> 0 | J8: =IF(OR(D8>F8,D8>=$A$3),F8+IF(D8>F8,1,0)-$A$3,0) -> 0 | K8: =J8+J9 -> 0 | L8: =IF(AND(WEEKDAY($A8,2)<7,E8="CP"),1,0) -> 0 | M8: =IF(E8="CV",1,0) -> 0 | N8: =IF(AND(F8>$A$4,F8<$A$2),1,0) -> 0 | R8: =MOD(Q8-O8,1) -> 0 | S8: =R8+R9 -> 0 | U8: =IF(OR(O8>Q8,O8>=$A$3),Q8+IF(O8>Q8,1,0)-$A$3,0) -> 0 | V8: =U8+U9 -> 0 | W8: =IF(AND(WEEKDAY($A8,2)<7,P8="CP"),1,0) -> 0 | X8: =IF(P8="CV",1,0) -> 0 | Y8: =IF(AND(Q8>$A$4,Q8<$A$2),1,0) -> 0 | AC8: =MOD(AB8-Z8,1) -> 0 | AD8: =AC8+AC9 -> 0 | AF8: =IF(OR(Z8>AB8,Z8>=$A$3),AB8+IF(Z8>AB8,1,0)-$A$3,0) -> 0 | AG8: =AF8+AF9 -> 0 | AH8: =IF(AND(WEEKDAY($A8,2)<7,AA8="CP"),1,0) -> 0 | AI8: =IF(AA8="CV",1,0) -> 0 | AJ8: =IF(AND(F8>$A$4,F8<$A$2),1,0) -> 0 | AN8: =MOD(AM8-AK8,1) -> 0 | AO8: =AN8+AN9 -> 0 | AQ8: =IF(OR(AK8>AM8,AK8>=$A$3),AM8+IF(AK8>AM8,1,0)-$A$3,0) -> 0 | AR8: =AQ8+AQ9 -> 0 | AS8: =IF(AND(WEEKDAY($A8,2)<7,AL8="CP"),1,0) -> 0 | AT8: =IF(AL8="CV",1,0) -> 0 | AU8: =IF(AND(F8>$A$4,F8<$A$2),1,0) -> 0 | AY8: =MOD(AX8-AV8,1) -> 0 | AZ8: =AY8+AY9 -> 0 | BB8: =IF(OR(AV8>AX8,AV8>=$A$3),AX8+IF(AV8>AX8,1,0)-$A$3,0) -> 0 | BC8: =BB8+BB9 -> 0 | BD8: =IF(AND(WEEKDAY($A8,2)<7,AW8="CP"),1,0) -> 0 | BE8: =IF(AW8="CV",1,0) -> 0 | BF8: =IF(AND(F8>$A$4,F8<$A$2),1,0) -> 0 | BJ8: =MOD(BI8-BG8,1) -> 0 | BK8: =BJ8+BJ9 -> 0 | BM8: =IF(OR(BG8>BI8,BG8>=$A$3),BI8+IF(BG8>BI8,1,0)-$A$3,0) -> 0 | BN8: =BM8+BM9 -> 0 | BO8: =IF(AND(WEEKDAY($A8,2)<7,BH8="CP"),1,0) -> 0 | BP8: =IF(BH8="CV",1,0) -> 0 | BQ8: =IF(AND(F8>$A$4,F8<$A$2),1,0) -> 0
G9: =MOD(F9-D9,1) -> 0 | J9: =IF(OR(D9>F9,D9>=$A$3),F9+IF(D9>F9,1,0)-$A$3,0) -> 0 | N9: =IF(AND(F9>$A$4,F9<$A$2),1,0) -> 0 | R9: =MOD(Q9-O9,1) -> 0 | U9: =IF(OR(O9>Q9,O9>=$A$3),Q9+IF(O9>Q9,1,0)-$A$3,0) -> 0 | Y9: =IF(AND(Q9>$A$4,Q9<$A$2),1,0) -> 0 | AC9: =MOD(AB9-Z9,1) -> 0 | AF9: =IF(OR(Z9>AB9,Z9>=$A$3),AB9+IF(Z9>AB9,1,0)-$A$3,0) -> 0 | AJ9: =IF(AND(F9>$A$4,F9<$A$2),1,0) -> 0 | AN9: =MOD(AM9-AK9,1) -> 0 | AQ9: =IF(OR(AK9>AM9,AK9>=$A$3),AM9+IF(AK9>AM9,1,0)-$A$3,0) -> 0 | AU9: =IF(AND(F9>$A$4,F9<$A$2),1,0) -> 0 | AY9: =MOD(AX9-AV9,1) -> 0 | BB9: =IF(OR(AV9>AX9,AV9>=$A$3),AX9+IF(AV9>AX9,1,0)-$A$3,0) -> 0 | BF9: =IF(AND(F9>$A$4,F9<$A$2),1,0) -> 0 | BJ9: =MOD(BI9-BG9,1) -> 0 | BM9: =IF(OR(BG9>BI9,BG9>=$A$3),BI9+IF(BG9>BI9,1,0)-$A$3,0) -> 0 | BQ9: =IF(AND(F9>$A$4,F9<$A$2),1,0) -> 0
A10: =A8+1 -> 41640 | B10: =UPPER(TEXT(A10,"jjj")) -> MAR | C10: =UPPER(TEXT(A10,"jj mmm")) -> 02 JANV | G10: =MOD(F10-D10,1) -> 0 | H10: =G10+G11 -> 0 | I10: =IF(OR(F9="",D10=""),0,MOD(D10-F9,1)) -> 0 | J10: =IF(OR(D10>F10,D10>=$A$3),F10+IF(D10>F10,1,0)-$A$3,0) -> 0 | K10: =J10+J11 -> 0 | L10: =IF(AND(WEEKDAY($A10,2)<7,E10="CP"),1,0) -> 0 | M10: =IF(E10="CV",1,0) -> 0 | N10: =IF(AND(F10>$A$4,F10<$A$2),1,0) -> 0 | R10: =MOD(Q10-O10,1) -> 0 | S10: =R10+R11 -> 0 | T10: =IF(OR(Q9="",O10=""),0,MOD(O10-Q9,1)) -> 0 | U10: =IF(OR(O10>Q10,O10>=$A$3),Q10+IF(O10>Q10,1,0)-$A$3,0) -> 0 | V10: =U10+U11 -> 0 | W10: =IF(AND(WEEKDAY($A10,2)<7,P10="CP"),1,0) -> 0 | X10: =IF(P10="CV",1,0) -> 0 | Y10: =IF(AND(Q10>$A$4,Q10<$A$2),1,0) -> 0 | AC10: =MOD(AB10-Z10,1) -> 0 | AD10: =AC10+AC11 -> 0 | AE10: =IF(OR(AB9="",Z10=""),0,MOD(Z10-AB9,1)) -> 0 | AF10: =IF(OR(Z10>AB10,Z10>=$A$3),AB10+IF(Z10>AB10,1,0)-$A$3,0) -> 0 | AG10: =AF10+AF11 -> 0 | AH10: =IF(AND(WEEKDAY($A10,2)<7,AA10="CP"),1,0) -> 0 | AI10: =IF(AA10="CV",1,0) -> 0 | AJ10: =IF(AND(F10>$A$4,F10<$A$2),1,0) -> 0 | AN10: =MOD(AM10-AK10,1) -> 0 | AO10: =AN10+AN11 -> 0 | AP10: =IF(OR(AM9="",AK10=""),0,MOD(AK10-AM9,1)) -> 0 | AQ10: =IF(OR(AK10>AM10,AK10>=$A$3),AM10+IF(AK10>AM10,1,0)-$A$3,0) -> 0 | AR10: =AQ10+AQ11 -> 0 | AS10: =IF(AND(WEEKDAY($A10,2)<7,AL10="CP"),1,0) -> 0 | AT10: =IF(AL10="CV",1,0) -> 0 | AU10: =IF(AND(F10>$A$4,F10<$A$2),1,0) -> 0 | AY10: =MOD(AX10-AV10,1) -> 0 | AZ10: =AY10+AY11 -> 0 | BA10: =IF(OR(AX9="",AV10=""),0,MOD(AV10-AX9,1)) -> 0 | BB10: =IF(OR(AV10>AX10,AV10>=$A$3),AX10+IF(AV10>AX10,1,0)-$A$3,0) -> 0 | BC10: =BB10+BB11 -> 0 | BD10: =IF(AND(WEEKDAY($A10,2)<7,AW10="CP"),1,0) -> 0 | BE10: =IF(AW10="CV",1,0) -> 0 | BF10: =IF(AND(F10>$A$4,F10<$A$2),1,0) -> 0 | BJ10: =MOD(BI10-BG10,1) -> 0 | BK10: =BJ10+BJ11 -> 0 | BL10: =IF(OR(BI9="",BG10=""),0,MOD(BG10-BI9,1)) -> 0 | BM10: =IF(OR(BG10>BI10,BG10>=$A$3),BI10+IF(BG10>BI10,1,0)-$A$3,0) -> 0 | BN10: =BM10+BM11 -> 0 | BO10: =IF(AND(WEEKDAY($A10,2)<7,BH10="CP"),1,0) -> 0 | BP10: =IF(BH10="CV",1,0) -> 0 | BQ10: =IF(AND(F10>$A$4,F10<$A$2),1,0) -> 0
G11: =MOD(F11-D11,1) -> 0 | J11: =IF(OR(D11>F11,D11>=$A$3),F11+IF(D11>F11,1,0)-$A$3,0) -> 0 | N11: =IF(AND(F11>$A$4,F11<$A$2),1,0) -> 0 | R11: =MOD(Q11-O11,1) -> 0 | U11: =IF(OR(O11>Q11,O11>=$A$3),Q11+IF(O11>Q11,1,0)-$A$3,0) -> 0 | Y11: =IF(AND(Q11>$A$4,Q11<$A$2),1,0) -> 0 | AC11: =MOD(AB11-Z11,1) -> 0 | AF11: =IF(OR(Z11>AB11,Z11>=$A$3),AB11+IF(Z11>AB11,1,0)-$A$3,0) -> 0 | AJ11: =IF(AND(F11>$A$4,F11<$A$2),1,0) -> 0 | AN11: =MOD(AM11-AK11,1) -> 0 | AQ11: =IF(OR(AK11>AM11,AK11>=$A$3),AM11+IF(AK11>AM11,1,0)-$A$3,0) -> 0 | AU11: =IF(AND(F11>$A$4,F11<$A$2),1,0) -> 0 | AY11: =MOD(AX11-AV11,1) -> 0 | BB11: =IF(OR(AV11>AX11,AV11>=$A$3),AX11+IF(AV11>AX11,1,0)-$A$3,0) -> 0 | BF11: =IF(AND(F11>$A$4,F11<$A$2),1,0) -> 0 | BJ11: =MOD(BI11-BG11,1) -> 0 | BM11: =IF(OR(BG11>BI11,BG11>=$A$3),BI11+IF(BG11>BI11,1,0)-$A$3,0) -> 0 | BQ11: =IF(AND(F11>$A$4,F11<$A$2),1,0) -> 0
A12: =A10+1 -> 41641 | B12: =UPPER(TEXT(A12,"jjj")) -> MER | C12: =UPPER(TEXT(A12,"jj mmm")) -> 03 JANV | G12: =MOD(F12-D12,1) -> 0 | H12: =G12+G13 -> 0 | I12: =IF(OR(F11="",D12=""),0,MOD(D12-F11,1)) -> 0 | J12: =IF(OR(D12>F12,D12>=$A$3),F12+IF(D12>F12,1,0)-$A$3,0) -> 0 | K12: =J12+J13 -> 0 | L12: =IF(AND(WEEKDAY($A12,2)<7,E12="CP"),1,0) -> 0 | M12: =IF(E12="CV",1,0) -> 0 | N12: =IF(AND(F12>$A$4,F12<$A$2),1,0) -> 0 | R12: =MOD(Q12-O12,1) -> 0 | S12: =R12+R13 -> 0 | T12: =IF(OR(Q11="",O12=""),0,MOD(O12-Q11,1)) -> 0 | U12: =IF(OR(O12>Q12,O12>=$A$3),Q12+IF(O12>Q12,1,0)-$A$3,0) -> 0 | V12: =U12+U13 -> 0 | W12: =IF(AND(WEEKDAY($A12,2)<7,P12="CP"),1,0) -> 0 | X12: =IF(P12="CV",1,0) -> 0 | Y12: =IF(AND(Q12>$A$4,Q12<$A$2),1,0) -> 0 | AC12: =MOD(AB12-Z12,1) -> 0 | AD12: =AC12+AC13 -> 0 | AE12: =IF(OR(AB11="",Z12=""),0,MOD(Z12-AB11,1)) -> 0 | AF12: =IF(OR(Z12>AB12,Z12>=$A$3),AB12+IF(Z12>AB12,1,0)-$A$3,0) -> 0 | AG12: =AF12+AF13 -> 0 | AH12: =IF(AND(WEEKDAY($A12,2)<7,AA12="CP"),1,0) -> 0 | AI12: =IF(AA12="CV",1,0) -> 0 | AJ12: =IF(AND(F12>$A$4,F12<$A$2),1,0) -> 0 | AN12: =MOD(AM12-AK12,1) -> 0 | AO12: =AN12+AN13 -> 0 | AP12: =IF(OR(AM11="",AK12=""),0,MOD(AK12-AM11,1)) -> 0 | AQ12: =IF(OR(AK12>AM12,AK12>=$A$3),AM12+IF(AK12>AM12,1,0)-$A$3,0) -> 0 | AR12: =AQ12+AQ13 -> 0 | AS12: =IF(AND(WEEKDAY($A12,2)<7,AL12="CP"),1,0) -> 0 | AT12: =IF(AL12="CV",1,0) -> 0 | AU12: =IF(AND(F12>$A$4,F12<$A$2),1,0) -> 0 | AY12: =MOD(AX12-AV12,1) -> 0 | AZ12: =AY12+AY13 -> 0 | BA12: =IF(OR(AX11="",AV12=""),0,MOD(AV12-AX11,1)) -> 0 | BB12: =IF(OR(AV12>AX12,AV12>=$A$3),AX12+IF(AV12>AX12,1,0)-$A$3,0) -> 0 | BC12: =BB12+BB13 -> 0 | BD12: =IF(AND(WEEKDAY($A12,2)<7,AW12="CP"),1,0) -> 0 | BE12: =IF(AW12="CV",1,0) -> 0 | BF12: =IF(AND(F12>$A$4,F12<$A$2),1,0) -> 0 | BJ12: =MOD(BI12-BG12,1) -> 0 | BK12: =BJ12+BJ13 -> 0 | BL12: =IF(OR(BI11="",BG12=""),0,MOD(BG12-BI11,1)) -> 0 | BM12: =IF(OR(BG12>BI12,BG12>=$A$3),BI12+IF(BG12>BI12,1,0)-$A$3,0) -> 0 | BN12: =BM12+BM13 -> 0 | BO12: =IF(AND(WEEKDAY($A12,2)<7,BH12="CP"),1,0) -> 0 | BP12: =IF(BH12="CV",1,0) -> 0 | BQ12: =IF(AND(F12>$A$4,F12<$A$2),1,0) -> 0
G13: =MOD(F13-D13,1) -> 0 | J13: =IF(OR(D13>F13,D13>=$A$3),F13+IF(D13>F13,1,0)-$A$3,0) -> 0 | N13: =IF(AND(F13>$A$4,F13<$A$2),1,0) -> 0 | R13: =MOD(Q13-O13,1) -> 0 | U13: =IF(OR(O13>Q13,O13>=$A$3),Q13+IF(O13>Q13,1,0)-$A$3,0) -> 0 | Y13: =IF(AND(Q13>$A$4,Q13<$A$2),1,0) -> 0 | AC13: =MOD(AB13-Z13,1) -> 0 | AF13: =IF(OR(Z13>AB13,Z13>=$A$3),AB13+IF(Z13>AB13,1,0)-$A$3,0) -> 0 | AJ13: =IF(AND(F13>$A$4,F13<$A$2),1,0) -> 0 | AN13: =MOD(AM13-AK13,1) -> 0 | AQ13: =IF(OR(AK13>AM13,AK13>=$A$3),AM13+IF(AK13>AM13,1,0)-$A$3,0) -> 0 | AU13: =IF(AND(F13>$A$4,F13<$A$2),1,0) -> 0 | AY13: =MOD(AX13-AV13,1) -> 0 | BB13: =IF(OR(AV13>AX13,AV13>=$A$3),AX13+IF(AV13>AX13,1,0)-$A$3,0) -> 0 | BF13: =IF(AND(F13>$A$4,F13<$A$2),1,0) -> 0 | BJ13: =MOD(BI13-BG13,1) -> 0 | BM13: =IF(OR(BG13>BI13,BG13>=$A$3),BI13+IF(BG13>BI13,1,0)-$A$3,0) -> 0 | BQ13: =IF(AND(F13>$A$4,F13<$A$2),1,0) -> 0
A14: =A12+1 -> 41642 | B14: =UPPER(TEXT(A14,"jjj")) -> JEU | C14: =UPPER(TEXT(A14,"jj mmm")) -> 04 JANV | G14: =MOD(F14-D14,1) -> 0 | H14: =G14+G15 -> 0 | I14: =IF(OR(F13="",D14=""),0,MOD(D14-F13,1)) -> 0 | J14: =IF(OR(D14>F14,D14>=$A$3),F14+IF(D14>F14,1,0)-$A$3,0) -> 0 | K14: =J14+J15 -> 0 | L14: =IF(AND(WEEKDAY($A14,2)<7,E14="CP"),1,0) -> 0 | M14: =IF(E14="CV",1,0) -> 0 | N14: =IF(AND(F14>$A$4,F14<$A$2),1,0) -> 0 | R14: =MOD(Q14-O14,1) -> 0 | S14: =R14+R15 -> 0 | T14: =IF(OR(Q13="",O14=""),0,MOD(O14-Q13,1)) -> 0 | U14: =IF(OR(O14>Q14,O14>=$A$3),Q14+IF(O14>Q14,1,0)-$A$3,0) -> 0 | V14: =U14+U15 -> 0 | W14: =IF(AND(WEEKDAY($A14,2)<7,P14="CP"),1,0) -> 0 | X14: =IF(P14="CV",1,0) -> 0 | Y14: =IF(AND(Q14>$A$4,Q14<$A$2),1,0) -> 0 | AC14: =MOD(AB14-Z14,1) -> 0 | AD14: =AC14+AC15 -> 0 | AE14: =IF(OR(AB13="",Z14=""),0,MOD(Z14-AB13,1)) -> 0 | AF14: =IF(OR(Z14>AB14,Z14>=$A$3),AB14+IF(Z14>AB14,1,0)-$A$3,0) -> 0 | AG14: =AF14+AF15 -> 0 | AH14: =IF(AND(WEEKDAY($A14,2)<7,AA14="CP"),1,0) -> 0 | AI14: =IF(AA14="CV",1,0) -> 0 | AJ14: =IF(AND(F14>$A$4,F14<$A$2),1,0) -> 0 | AN14: =MOD(AM14-AK14,1) -> 0 | AO14: =AN14+AN15 -> 0 | AP14: =IF(OR(AM13="",AK14=""),0,MOD(AK14-AM13,1)) -> 0 | AQ14: =IF(OR(AK14>AM14,AK14>=$A$3),AM14+IF(AK14>AM14,1,0)-$A$3,0) -> 0 | AR14: =AQ14+AQ15 -> 0 | AS14: =IF(AND(WEEKDAY($A14,2)<7,AL14="CP"),1,0) -> 0 | AT14: =IF(AL14="CV",1,0) -> 0 | AU14: =IF(AND(F14>$A$4,F14<$A$2),1,0) -> 0 | AY14: =MOD(AX14-AV14,1) -> 0 | AZ14: =AY14+AY15 -> 0 | BA14: =IF(OR(AX13="",AV14=""),0,MOD(AV14-AX13,1)) -> 0 | BB14: =IF(OR(AV14>AX14,AV14>=$A$3),AX14+IF(AV14>AX14,1,0)-$A$3,0) -> 0 | BC14: =BB14+BB15 -> 0 | BD14: =IF(AND(WEEKDAY($A14,2)<7,AW14="CP"),1,0) -> 0 | BE14: =IF(AW14="CV",1,0) -> 0 | BF14: =IF(AND(F14>$A$4,F14<$A$2),1,0) -> 0 | BJ14: =MOD(BI14-BG14,1) -> 0 | BK14: =BJ14+BJ15 -> 0 | BL14: =IF(OR(BI13="",BG14=""),0,MOD(BG14-BI13,1)) -> 0 | BM14: =IF(OR(BG14>BI14,BG14>=$A$3),BI14+IF(BG14>BI14,1,0)-$A$3,0) -> 0 | BN14: =BM14+BM15 -> 0 | BO14: =IF(AND(WEEKDAY($A14,2)<7,BH14="CP"),1,0) -> 0 | BP14: =IF(BH14="CV",1,0) -> 0 | BQ14: =IF(AND(F14>$A$4,F14<$A$2),1,0) -> 0
G15: =MOD(F15-D15,1) -> 0 | J15: =IF(OR(D15>F15,D15>=$A$3),F15+IF(D15>F15,1,0)-$A$3,0) -> 0 | N15: =IF(AND(F15>$A$4,F15<$A$2),1,0) -> 0 | R15: =MOD(Q15-O15,1) -> 0 | U15: =IF(OR(O15>Q15,O15>=$A$3),Q15+IF(O15>Q15,1,0)-$A$3,0) -> 0 | Y15: =IF(AND(Q15>$A$4,Q15<$A$2),1,0) -> 0 | AC15: =MOD(AB15-Z15,1) -> 0 | AF15: =IF(OR(Z15>AB15,Z15>=$A$3),AB15+IF(Z15>AB15,1,0)-$A$3,0) -> 0 | AJ15: =IF(AND(F15>$A$4,F15<$A$2),1,0) -> 0 | AN15: =MOD(AM15-AK15,1) -> 0 | AQ15: =IF(OR(AK15>AM15,AK15>=$A$3),AM15+IF(AK15>AM15,1,0)-$A$3,0) -> 0 | AU15: =IF(AND(F15>$A$4,F15<$A$2),1,0) -> 0 | AY15: =MOD(AX15-AV15,1) -> 0 | BB15: =IF(OR(AV15>AX15,AV15>=$A$3),AX15+IF(AV15>AX15,1,0)-$A$3,0) -> 0 | BF15: =IF(AND(F15>$A$4,F15<$A$2),1,0) -> 0 | BJ15: =MOD(BI15-BG15,1) -> 0 | BM15: =IF(OR(BG15>BI15,BG15>=$A$3),BI15+IF(BG15>BI15,1,0)-$A$3,0) -> 0 | BQ15: =IF(AND(F15>$A$4,F15<$A$2),1,0) -> 0
A16: =A14+1 -> 41643 | B16: =UPPER(TEXT(A16,"jjj")) -> VEN | C16: =UPPER(TEXT(A16,"jj mmm")) -> 05 JANV | G16: =MOD(F16-D16,1) -> 0 | H16: =G16+G17 -> 0 | I16: =IF(OR(F15="",D16=""),0,MOD(D16-F15,1)) -> 0 | J16: =IF(OR(D16>F16,D16>=$A$3),F16+IF(D16>F16,1,0)-$A$3,0) -> 0 | K16: =J16+J17 -> 0 | L16: =IF(AND(WEEKDAY($A16,2)<7,E16="CP"),1,0) -> 0 | M16: =IF(E16="CV",1,0) -> 0 | N16: =IF(AND(F16>$A$4,F16<$A$2),1,0) -> 0 | R16: =MOD(Q16-O16,1) -> 0 | S16: =R16+R17 -> 0 | T16: =IF(OR(Q15="",O16=""),0,MOD(O16-Q15,1)) -> 0 | U16: =IF(OR(O16>Q16,O16>=$A$3),Q16+IF(O16>Q16,1,0)-$A$3,0) -> 0 | V16: =U16+U17 -> 0 | W16: =IF(AND(WEEKDAY($A16,2)<7,P16="CP"),1,0) -> 0 | X16: =IF(P16="CV",1,0) -> 0 | Y16: =IF(AND(Q16>$A$4,Q16<$A$2),1,0) -> 0 | AC16: =MOD(AB16-Z16,1) -> 0 | AD16: =AC16+AC17 -> 0 | AE16: =IF(OR(AB15="",Z16=""),0,MOD(Z16-AB15,1)) -> 0 | AF16: =IF(OR(Z16>AB16,Z16>=$A$3),AB16+IF(Z16>AB16,1,0)-$A$3,0) -> 0 | AG16: =AF16+AF17 -> 0 | AH16: =IF(AND(WEEKDAY($A16,2)<7,AA16="CP"),1,0) -> 0 | AI16: =IF(AA16="CV",1,0) -> 0 | AJ16: =IF(AND(F16>$A$4,F16<$A$2),1,0) -> 0 | AN16: =MOD(AM16-AK16,1) -> 0 | AO16: =AN16+AN17 -> 0 | AP16: =IF(OR(AM15="",AK16=""),0,MOD(AK16-AM15,1)) -> 0 | AQ16: =IF(OR(AK16>AM16,AK16>=$A$3),AM16+IF(AK16>AM16,1,0)-$A$3,0) -> 0 | AR16: =AQ16+AQ17 -> 0 | AS16: =IF(AND(WEEKDAY($A16,2)<7,AL16="CP"),1,0) -> 0 | AT16: =IF(AL16="CV",1,0) -> 0 | AU16: =IF(AND(F16>$A$4,F16<$A$2),1,0) -> 0 | AY16: =MOD(AX16-AV16,1) -> 0 | AZ16: =AY16+AY17 -> 0 | BA16: =IF(OR(AX15="",AV16=""),0,MOD(AV16-AX15,1)) -> 0 | BB16: =IF(OR(AV16>AX16,AV16>=$A$3),AX16+IF(AV16>AX16,1,0)-$A$3,0) -> 0 | BC16: =BB16+BB17 -> 0 | BD16: =IF(AND(WEEKDAY($A16,2)<7,AW16="CP"),1,0) -> 0 | BE16: =IF(AW16="CV",1,0) -> 0 | BF16: =IF(AND(F16>$A$4,F16<$A$2),1,0) -> 0 | BJ16: =MOD(BI16-BG16,1) -> 0 | BK16: =BJ16+BJ17 -> 0 | BL16: =IF(OR(BI15="",BG16=""),0,MOD(BG16-BI15,1)) -> 0 | BM16: =IF(OR(BG16>BI16,BG16>=$A$3),BI16+IF(BG16>BI16,1,0)-$A$3,0) -> 0 | BN16: =BM16+BM17 -> 0 | BO16: =IF(AND(WEEKDAY($A16,2)<7,BH16="CP"),1,0) -> 0 | BP16: =IF(BH16="CV",1,0) -> 0 | BQ16: =IF(AND(F16>$A$4,F16<$A$2),1,0) -> 0
G17: =MOD(F17-D17,1) -> 0 | J17: =IF(OR(D17>F17,D17>=$A$3),F17+IF(D17>F17,1,0)-$A$3,0) -> 0 | N17: =IF(AND(F17>$A$4,F17<$A$2),1,0) -> 0 | R17: =MOD(Q17-O17,1) -> 0 | U17: =IF(OR(O17>Q17,O17>=$A$3),Q17+IF(O17>Q17,1,0)-$A$3,0) -> 0 | Y17: =IF(AND(Q17>$A$4,Q17<$A$2),1,0) -> 0 | AC17: =MOD(AB17-Z17,1) -> 0 | AF17: =IF(OR(Z17>AB17,Z17>=$A$3),AB17+IF(Z17>AB17,1,0)-$A$3,0) -> 0 | AJ17: =IF(AND(F17>$A$4,F17<$A$2),1,0) -> 0 | AN17: =MOD(AM17-AK17,1) -> 0 | AQ17: =IF(OR(AK17>AM17,AK17>=$A$3),AM17+IF(AK17>AM17,1,0)-$A$3,0) -> 0 | AU17: =IF(AND(F17>$A$4,F17<$A$2),1,0) -> 0 | AY17: =MOD(AX17-AV17,1) -> 0 | BB17: =IF(OR(AV17>AX17,AV17>=$A$3),AX17+IF(AV17>AX17,1,0)-$A$3,0) -> 0 | BF17: =IF(AND(F17>$A$4,F17<$A$2),1,0) -> 0 | BJ17: =MOD(BI17-BG17,1) -> 0 | BM17: =IF(OR(BG17>BI17,BG17>=$A$3),BI17+IF(BG17>BI17,1,0)-$A$3,0) -> 0 | BQ17: =IF(AND(F17>$A$4,F17<$A$2),1,0) -> 0
A18: =A16+1 -> 41644 | B18: =UPPER(TEXT(A18,"jjj")) -> SAM | C18: =UPPER(TEXT(A18,"jj mmm")) -> 06 JANV | G18: =MOD(F18-D18,1) -> 0 | H18: =G18+G19 -> 0 | I18: =IF(OR(F17="",D18=""),0,MOD(D18-F17,1)) -> 0 | J18: =IF(OR(D18>F18,D18>=$A$3),F18+IF(D18>F18,1,0)-$A$3,0) -> 0 | K18: =J18+J19 -> 0 | L18: =IF(AND(WEEKDAY($A18,2)<7,E18="CP"),1,0) -> 0 | M18: =IF(E18="CV",1,0) -> 0 | N18: =IF(AND(F18>$A$4,F18<$A$2),1,0) -> 0 | R18: =MOD(Q18-O18,1) -> 0 | S18: =R18+R19 -> 0 | T18: =IF(OR(Q17="",O18=""),0,MOD(O18-Q17,1)) -> 0 | U18: =IF(OR(O18>Q18,O18>=$A$3),Q18+IF(O18>Q18,1,0)-$A$3,0) -> 0 | V18: =U18+U19 -> 0 | W18: =IF(AND(WEEKDAY($A18,2)<7,P18="CP"),1,0) -> 0 | X18: =IF(P18="CV",1,0) -> 0 | Y18: =IF(AND(Q18>$A$4,Q18<$A$2),1,0) -> 0 | AC18: =MOD(AB18-Z18,1) -> 0 | AD18: =AC18+AC19 -> 0 | AE18: =IF(OR(AB17="",Z18=""),0,MOD(Z18-AB17,1)) -> 0 | AF18: =IF(OR(Z18>AB18,Z18>=$A$3),AB18+IF(Z18>AB18,1,0)-$A$3,0) -> 0 | AG18: =AF18+AF19 -> 0 | AH18: =IF(AND(WEEKDAY($A18,2)<7,AA18="CP"),1,0) -> 0 | AI18: =IF(AA18="CV",1,0) -> 0 | AJ18: =IF(AND(F18>$A$4,F18<$A$2),1,0) -> 0 | AN18: =MOD(AM18-AK18,1) -> 0 | AO18: =AN18+AN19 -> 0 | AP18: =IF(OR(AM17="",AK18=""),0,MOD(AK18-AM17,1)) -> 0 | AQ18: =IF(OR(AK18>AM18,AK18>=$A$3),AM18+IF(AK18>AM18,1,0)-$A$3,0) -> 0 | AR18: =AQ18+AQ19 -> 0 | AS18: =IF(AND(WEEKDAY($A18,2)<7,AL18="CP"),1,0) -> 0 | AT18: =IF(AL18="CV",1,0) -> 0 | AU18: =IF(AND(F18>$A$4,F18<$A$2),1,0) -> 0 | AY18: =MOD(AX18-AV18,1) -> 0 | AZ18: =AY18+AY19 -> 0 | BA18: =IF(OR(AX17="",AV18=""),0,MOD(AV18-AX17,1)) -> 0 | BB18: =IF(OR(AV18>AX18,AV18>=$A$3),AX18+IF(AV18>AX18,1,0)-$A$3,0) -> 0 | BC18: =BB18+BB19 -> 0 | BD18: =IF(AND(WEEKDAY($A18,2)<7,AW18="CP"),1,0) -> 0 | BE18: =IF(AW18="CV",1,0) -> 0 | BF18: =IF(AND(F18>$A$4,F18<$A$2),1,0) -> 0 | BJ18: =MOD(BI18-BG18,1) -> 0 | BK18: =BJ18+BJ19 -> 0 | BL18: =IF(OR(BI17="",BG18=""),0,MOD(BG18-BI17,1)) -> 0 | BM18: =IF(OR(BG18>BI18,BG18>=$A$3),BI18+IF(BG18>BI18,1,0)-$A$3,0) -> 0 | BN18: =BM18+BM19 -> 0 | BO18: =IF(AND(WEEKDAY($A18,2)<7,BH18="CP"),1,0) -> 0 | BP18: =IF(BH18="CV",1,0) -> 0 | BQ18: =IF(AND(F18>$A$4,F18<$A$2),1,0) -> 0
G19: =MOD(F19-D19,1) -> 0 | J19: =IF(OR(D19>F19,D19>=$A$3),F19+IF(D19>F19,1,0)-$A$3,0) -> 0 | N19: =IF(AND(F19>$A$4,F19<$A$2),1,0) -> 0 | R19: =MOD(Q19-O19,1) -> 0 | U19: =IF(OR(O19>Q19,O19>=$A$3),Q19+IF(O19>Q19,1,0)-$A$3,0) -> 0 | Y19: =IF(AND(Q19>$A$4,Q19<$A$2),1,0) -> 0 | AC19: =MOD(AB19-Z19,1) -> 0 | AF19: =IF(OR(Z19>AB19,Z19>=$A$3),AB19+IF(Z19>AB19,1,0)-$A$3,0) -> 0 | AJ19: =IF(AND(F19>$A$4,F19<$A$2),1,0) -> 0 | AN19: =MOD(AM19-AK19,1) -> 0 | AQ19: =IF(OR(AK19>AM19,AK19>=$A$3),AM19+IF(AK19>AM19,1,0)-$A$3,0) -> 0 | AU19: =IF(AND(F19>$A$4,F19<$A$2),1,0) -> 0 | AY19: =MOD(AX19-AV19,1) -> 0 | BB19: =IF(OR(AV19>AX19,AV19>=$A$3),AX19+IF(AV19>AX19,1,0)-$A$3,0) -> 0 | BF19: =IF(AND(F19>$A$4,F19<$A$2),1,0) -> 0 | BJ19: =MOD(BI19-BG19,1) -> 0 | BM19: =IF(OR(BG19>BI19,BG19>=$A$3),BI19+IF(BG19>BI19,1,0)-$A$3,0) -> 0 | BQ19: =IF(AND(F19>$A$4,F19<$A$2),1,0) -> 0
A20: =A18+1 -> 41645 | B20: =UPPER(TEXT(A20,"jjj")) -> DIM | C20: =UPPER(TEXT(A20,"jj mmm")) -> 07 JANV | G20: =MOD(F20-D20,1) -> 0 | H20: =G20+G21 -> 0 | I20: =IF(OR(F19="",D20=""),0,MOD(D20-F19,1)) -> 0 | J20: =IF(OR(D20>F20,D20>=$A$3),F20+IF(D20>F20,1,0)-$A$3,0) -> 0 | K20: =J20+J21 -> 0 | L20: =IF(AND(WEEKDAY($A20,2)<7,E20="CP"),1,0) -> 0 | M20: =IF(E20="CV",1,0) -> 0 | N20: =IF(AND(F20>$A$4,F20<$A$2),1,0) -> 0 | R20: =MOD(Q20-O20,1) -> 0 | S20: =R20+R21 -> 0 | T20: =IF(OR(Q19="",O20=""),0,MOD(O20-Q19,1)) -> 0 | U20: =IF(OR(O20>Q20,O20>=$A$3),Q20+IF(O20>Q20,1,0)-$A$3,0) -> 0 | V20: =U20+U21 -> 0 | W20: =IF(AND(WEEKDAY($A20,2)<7,P20="CP"),1,0) -> 0 | X20: =IF(P20="CV",1,0) -> 0 | Y20: =IF(AND(Q20>$A$4,Q20<$A$2),1,0) -> 0 | AC20: =MOD(AB20-Z20,1) -> 0 | AD20: =AC20+AC21 -> 0 | AE20: =IF(OR(AB19="",Z20=""),0,MOD(Z20-AB19,1)) -> 0 | AF20: =IF(OR(Z20>AB20,Z20>=$A$3),AB20+IF(Z20>AB20,1,0)-$A$3,0) -> 0 | AG20: =AF20+AF21 -> 0 | AH20: =IF(AND(WEEKDAY($A20,2)<7,AA20="CP"),1,0) -> 0 | AI20: =IF(AA20="CV",1,0) -> 0 | AJ20: =IF(AND(F20>$A$4,F20<$A$2),1,0) -> 0 | AN20: =MOD(AM20-AK20,1) -> 0 | AO20: =AN20+AN21 -> 0 | AP20: =IF(OR(AM19="",AK20=""),0,MOD(AK20-AM19,1)) -> 0 | AQ20: =IF(OR(AK20>AM20,AK20>=$A$3),AM20+IF(AK20>AM20,1,0)-$A$3,0) -> 0 | AR20: =AQ20+AQ21 -> 0 | AS20: =IF(AND(WEEKDAY($A20,2)<7,AL20="CP"),1,0) -> 0 | AT20: =IF(AL20="CV",1,0) -> 0 | AU20: =IF(AND(F20>$A$4,F20<$A$2),1,0) -> 0 | AY20: =MOD(AX20-AV20,1) -> 0 | AZ20: =AY20+AY21 -> 0 | BA20: =IF(OR(AX19="",AV20=""),0,MOD(AV20-AX19,1)) -> 0 | BB20: =IF(OR(AV20>AX20,AV20>=$A$3),AX20+IF(AV20>AX20,1,0)-$A$3,0) -> 0 | BC20: =BB20+BB21 -> 0 | BD20: =IF(AND(WEEKDAY($A20,2)<7,AW20="CP"),1,0) -> 0 | BE20: =IF(AW20="CV",1,0) -> 0 | BF20: =IF(AND(F20>$A$4,F20<$A$2),1,0) -> 0 | BJ20: =MOD(BI20-BG20,1) -> 0 | BK20: =BJ20+BJ21 -> 0 | BL20: =IF(OR(BI19="",BG20=""),0,MOD(BG20-BI19,1)) -> 0 | BM20: =IF(OR(BG20>BI20,BG20>=$A$3),BI20+IF(BG20>BI20,1,0)-$A$3,0) -> 0 | BN20: =BM20+BM21 -> 0 | BO20: =IF(AND(WEEKDAY($A20,2)<7,BH20="CP"),1,0) -> 0 | BP20: =IF(BH20="CV",1,0) -> 0 | BQ20: =IF(AND(F20>$A$4,F20<$A$2),1,0) -> 0
G21: =MOD(F21-D21,1) -> 0 | J21: =IF(OR(D21>F21,D21>=$A$3),F21+IF(D21>F21,1,0)-$A$3,0) -> 0 | N21: =IF(AND(F21>$A$4,F21<$A$2),1,0) -> 0 | R21: =MOD(Q21-O21,1) -> 0 | U21: =IF(OR(O21>Q21,O21>=$A$3),Q21+IF(O21>Q21,1,0)-$A$3,0) -> 0 | Y21: =IF(AND(Q21>$A$4,Q21<$A$2),1,0) -> 0 | AC21: =MOD(AB21-Z21,1) -> 0 | AF21: =IF(OR(Z21>AB21,Z21>=$A$3),AB21+IF(Z21>AB21,1,0)-$A$3,0) -> 0 | AJ21: =IF(AND(F21>$A$4,F21<$A$2),1,0) -> 0 | AN21: =MOD(AM21-AK21,1) -> 0 | AQ21: =IF(OR(AK21>AM21,AK21>=$A$3),AM21+IF(AK21>AM21,1,0)-$A$3,0) -> 0 | AU21: =IF(AND(F21>$A$4,F21<$A$2),1,0) -> 0 | AY21: =MOD(AX21-AV21,1) -> 0 | BB21: =IF(OR(AV21>AX21,AV21>=$A$3),AX21+IF(AV21>AX21,1,0)-$A$3,0) -> 0 | BF21: =IF(AND(F21>$A$4,F21<$A$2),1,0) -> 0 | BJ21: =MOD(BI21-BG21,1) -> 0 | BM21: =IF(OR(BG21>BI21,BG21>=$A$3),BI21+IF(BG21>BI21,1,0)-$A$3,0) -> 0 | BQ21: =IF(AND(F21>$A$4,F21<$A$2),1,0) -> 0
A22: =A20+1 -> 41646 | B22: =UPPER(TEXT(A22,"jjj")) -> LUN | C22: =UPPER(TEXT(A22,"jj mmm")) -> 08 JANV | G22: =MOD(F22-D22,1) -> 0 | H22: =G22+G23 -> 0 | I22: =IF(OR(F21="",D22=""),0,MOD(D22-F21,1)) -> 0 | J22: =IF(OR(D22>F22,D22>=$A$3),F22+IF(D22>F22,1,0)-$A$3,0) -> 0 | K22: =J22+J23 -> 0 | L22: =IF(AND(WEEKDAY($A22,2)<7,E22="CP"),1,0) -> 0 | M22: =IF(E22="CV",1,0) -> 0 | N22: =IF(AND(F22>$A$4,F22<$A$2),1,0) -> 0 | R22: =MOD(Q22-O22,1) -> 0 | S22: =R22+R23 -> 0 | T22: =IF(OR(Q21="",O22=""),0,MOD(O22-Q21,1)) -> 0 | U22: =IF(OR(O22>Q22,O22>=$A$3),Q22+IF(O22>Q22,1,0)-$A$3,0) -> 0 | V22: =U22+U23 -> 0 | W22: =IF(AND(WEEKDAY($A22,2)<7,P22="CP"),1,0) -> 0 | X22: =IF(P22="CV",1,0) -> 0 | Y22: =IF(AND(Q22>$A$4,Q22<$A$2),1,0) -> 0 | AC22: =MOD(AB22-Z22,1) -> 0 | AD22: =AC22+AC23 -> 0 | AE22: =IF(OR(AB21="",Z22=""),0,MOD(Z22-AB21,1)) -> 0 | AF22: =IF(OR(Z22>AB22,Z22>=$A$3),AB22+IF(Z22>AB22,1,0)-$A$3,0) -> 0 | AG22: =AF22+AF23 -> 0 | AH22: =IF(AND(WEEKDAY($A22,2)<7,AA22="CP"),1,0) -> 0 | AI22: =IF(AA22="CV",1,0) -> 0 | AJ22: =IF(AND(F22>$A$4,F22<$A$2),1,0) -> 0 | AN22: =MOD(AM22-AK22,1) -> 0 | AO22: =AN22+AN23 -> 0 | AP22: =IF(OR(AM21="",AK22=""),0,MOD(AK22-AM21,1)) -> 0 | AQ22: =IF(OR(AK22>AM22,AK22>=$A$3),AM22+IF(AK22>AM22,1,0)-$A$3,0) -> 0 | AR22: =AQ22+AQ23 -> 0 | AS22: =IF(AND(WEEKDAY($A22,2)<7,AL22="CP"),1,0) -> 0 | AT22: =IF(AL22="CV",1,0) -> 0 | AU22: =IF(AND(F22>$A$4,F22<$A$2),1,0) -> 0 | AY22: =MOD(AX22-AV22,1) -> 0 | AZ22: =AY22+AY23 -> 0 | BA22: =IF(OR(AX21="",AV22=""),0,MOD(AV22-AX21,1)) -> 0 | BB22: =IF(OR(AV22>AX22,AV22>=$A$3),AX22+IF(AV22>AX22,1,0)-$A$3,0) -> 0 | BC22: =BB22+BB23 -> 0 | BD22: =IF(AND(WEEKDAY($A22,2)<7,AW22="CP"),1,0) -> 0 | BE22: =IF(AW22="CV",1,0) -> 0 | BF22: =IF(AND(F22>$A$4,F22<$A$2),1,0) -> 0 | BJ22: =MOD(BI22-BG22,1) -> 0 | BK22: =BJ22+BJ23 -> 0 | BL22: =IF(OR(BI21="",BG22=""),0,MOD(BG22-BI21,1)) -> 0 | BM22: =IF(OR(BG22>BI22,BG22>=$A$3),BI22+IF(BG22>BI22,1,0)-$A$3,0) -> 0 | BN22: =BM22+BM23 -> 0 | BO22: =IF(AND(WEEKDAY($A22,2)<7,BH22="CP"),1,0) -> 0 | BP22: =IF(BH22="CV",1,0) -> 0 | BQ22: =IF(AND(F22>$A$4,F22<$A$2),1,0) -> 0
G23: =MOD(F23-D23,1) -> 0 | J23: =IF(OR(D23>F23,D23>=$A$3),F23+IF(D23>F23,1,0)-$A$3,0) -> 0 | N23: =IF(AND(F23>$A$4,F23<$A$2),1,0) -> 0 | R23: =MOD(Q23-O23,1) -> 0 | U23: =IF(OR(O23>Q23,O23>=$A$3),Q23+IF(O23>Q23,1,0)-$A$3,0) -> 0 | Y23: =IF(AND(Q23>$A$4,Q23<$A$2),1,0) -> 0 | AC23: =MOD(AB23-Z23,1) -> 0 | AF23: =IF(OR(Z23>AB23,Z23>=$A$3),AB23+IF(Z23>AB23,1,0)-$A$3,0) -> 0 | AJ23: =IF(AND(F23>$A$4,F23<$A$2),1,0) -> 0 | AN23: =MOD(AM23-AK23,1) -> 0 | AQ23: =IF(OR(AK23>AM23,AK23>=$A$3),AM23+IF(AK23>AM23,1,0)-$A$3,0) -> 0 | AU23: =IF(AND(F23>$A$4,F23<$A$2),1,0) -> 0 | AY23: =MOD(AX23-AV23,1) -> 0 | BB23: =IF(OR(AV23>AX23,AV23>=$A$3),AX23+IF(AV23>AX23,1,0)-$A$3,0) -> 0 | BF23: =IF(AND(F23>$A$4,F23<$A$2),1,0) -> 0 | BJ23: =MOD(BI23-BG23,1) -> 0 | BM23: =IF(OR(BG23>BI23,BG23>=$A$3),BI23+IF(BG23>BI23,1,0)-$A$3,0) -> 0 | BQ23: =IF(AND(F23>$A$4,F23<$A$2),1,0) -> 0
A24: =A22+1 -> 41647 | B24: =UPPER(TEXT(A24,"jjj")) -> MAR | C24: =UPPER(TEXT(A24,"jj mmm")) -> 09 JANV | G24: =MOD(F24-D24,1) -> 0 | H24: =G24+G25 -> 0 | I24: =IF(OR(F23="",D24=""),0,MOD(D24-F23,1)) -> 0 | J24: =IF(OR(D24>F24,D24>=$A$3),F24+IF(D24>F24,1,0)-$A$3,0) -> 0 | K24: =J24+J25 -> 0 | L24: =IF(AND(WEEKDAY($A24,2)<7,E24="CP"),1,0) -> 0 | M24: =IF(E24="CV",1,0) -> 0 | N24: =IF(AND(F24>$A$4,F24<$A$2),1,0) -> 0 | R24: =MOD(Q24-O24,1) -> 0 | S24: =R24+R25 -> 0 | T24: =IF(OR(Q23="",O24=""),0,MOD(O24-Q23,1)) -> 0 | U24: =IF(OR(O24>Q24,O24>=$A$3),Q24+IF(O24>Q24,1,0)-$A$3,0) -> 0 | V24: =U24+U25 -> 0 | W24: =IF(AND(WEEKDAY($A24,2)<7,P24="CP"),1,0) -> 0 | X24: =IF(P24="CV",1,0) -> 0 | Y24: =IF(AND(Q24>$A$4,Q24<$A$2),1,0) -> 0 | AC24: =MOD(AB24-Z24,1) -> 0 | AD24: =AC24+AC25 -> 0 | AE24: =IF(OR(AB23="",Z24=""),0,MOD(Z24-AB23,1)) -> 0 | AF24: =IF(OR(Z24>AB24,Z24>=$A$3),AB24+IF(Z24>AB24,1,0)-$A$3,0) -> 0 | AG24: =AF24+AF25 -> 0 | AH24: =IF(AND(WEEKDAY($A24,2)<7,AA24="CP"),1,0) -> 0 | AI24: =IF(AA24="CV",1,0) -> 0 | AJ24: =IF(AND(F24>$A$4,F24<$A$2),1,0) -> 0 | AN24: =MOD(AM24-AK24,1) -> 0 | AO24: =AN24+AN25 -> 0 | AP24: =IF(OR(AM23="",AK24=""),0,MOD(AK24-AM23,1)) -> 0 | AQ24: =IF(OR(AK24>AM24,AK24>=$A$3),AM24+IF(AK24>AM24,1,0)-$A$3,0) -> 0 | AR24: =AQ24+AQ25 -> 0 | AS24: =IF(AND(WEEKDAY($A24,2)<7,AL24="CP"),1,0) -> 0 | AT24: =IF(AL24="CV",1,0) -> 0 | AU24: =IF(AND(F24>$A$4,F24<$A$2),1,0) -> 0 | AY24: =MOD(AX24-AV24,1) -> 0 | AZ24: =AY24+AY25 -> 0 | BA24: =IF(OR(AX23="",AV24=""),0,MOD(AV24-AX23,1)) -> 0 | BB24: =IF(OR(AV24>AX24,AV24>=$A$3),AX24+IF(AV24>AX24,1,0)-$A$3,0) -> 0 | BC24: =BB24+BB25 -> 0 | BD24: =IF(AND(WEEKDAY($A24,2)<7,AW24="CP"),1,0) -> 0 | BE24: =IF(AW24="CV",1,0) -> 0 | BF24: =IF(AND(F24>$A$4,F24<$A$2),1,0) -> 0 | BJ24: =MOD(BI24-BG24,1) -> 0 | BK24: =BJ24+BJ25 -> 0 | BL24: =IF(OR(BI23="",BG24=""),0,MOD(BG24-BI23,1)) -> 0 | BM24: =IF(OR(BG24>BI24,BG24>=$A$3),BI24+IF(BG24>BI24,1,0)-$A$3,0) -> 0 | BN24: =BM24+BM25 -> 0 | BO24: =IF(AND(WEEKDAY($A24,2)<7,BH24="CP"),1,0) -> 0 | BP24: =IF(BH24="CV",1,0) -> 0 | BQ24: =IF(AND(F24>$A$4,F24<$A$2),1,0) -> 0
G25: =MOD(F25-D25,1) -> 0 | J25: =IF(OR(D25>F25,D25>=$A$3),F25+IF(D25>F25,1,0)-$A$3,0) -> 0 | N25: =IF(AND(F25>$A$4,F25<$A$2),1,0) -> 0 | R25: =MOD(Q25-O25,1) -> 0 | U25: =IF(OR(O25>Q25,O25>=$A$3),Q25+IF(O25>Q25,1,0)-$A$3,0) -> 0 | Y25: =IF(AND(Q25>$A$4,Q25<$A$2),1,0) -> 0 | AC25: =MOD(AB25-Z25,1) -> 0 | AF25: =IF(OR(Z25>AB25,Z25>=$A$3),AB25+IF(Z25>AB25,1,0)-$A$3,0) -> 0 | AJ25: =IF(AND(F25>$A$4,F25<$A$2),1,0) -> 0 | AN25: =MOD(AM25-AK25,1) -> 0 | AQ25: =IF(OR(AK25>AM25,AK25>=$A$3),AM25+IF(AK25>AM25,1,0)-$A$3,0) -> 0 | AU25: =IF(AND(F25>$A$4,F25<$A$2),1,0) -> 0 | AY25: =MOD(AX25-AV25,1) -> 0 | BB25: =IF(OR(AV25>AX25,AV25>=$A$3),AX25+IF(AV25>AX25,1,0)-$A$3,0) -> 0 | BF25: =IF(AND(F25>$A$4,F25<$A$2),1,0) -> 0 | BJ25: =MOD(BI25-BG25,1) -> 0 | BM25: =IF(OR(BG25>BI25,BG25>=$A$3),BI25+IF(BG25>BI25,1,0)-$A$3,0) -> 0 | BQ25: =IF(AND(F25>$A$4,F25<$A$2),1,0) -> 0
A26: =A24+1 -> 41648 | B26: =UPPER(TEXT(A26,"jjj")) -> MER | C26: =UPPER(TEXT(A26,"jj mmm")) -> 10 JANV | G26: =MOD(F26-D26,1) -> 0 | H26: =G26+G27 -> 0 | I26: =IF(OR(F25="",D26=""),0,MOD(D26-F25,1)) -> 0 | J26: =IF(OR(D26>F26,D26>=$A$3),F26+IF(D26>F26,1,0)-$A$3,0) -> 0 | K26: =J26+J27 -> 0 | L26: =IF(AND(WEEKDAY($A26,2)<7,E26="CP"),1,0) -> 0 | M26: =IF(E26="CV",1,0) -> 0 | N26: =IF(AND(F26>$A$4,F26<$A$2),1,0) -> 0 | R26: =MOD(Q26-O26,1) -> 0 | S26: =R26+R27 -> 0 | T26: =IF(OR(Q25="",O26=""),0,MOD(O26-Q25,1)) -> 0 | U26: =IF(OR(O26>Q26,O26>=$A$3),Q26+IF(O26>Q26,1,0)-$A$3,0) -> 0 | V26: =U26+U27 -> 0 | W26: =IF(AND(WEEKDAY($A26,2)<7,P26="CP"),1,0) -> 0 | X26: =IF(P26="CV",1,0) -> 0 | Y26: =IF(AND(Q26>$A$4,Q26<$A$2),1,0) -> 0 | AC26: =MOD(AB26-Z26,1) -> 0 | AD26: =AC26+AC27 -> 0 | AE26: =IF(OR(AB25="",Z26=""),0,MOD(Z26-AB25,1)) -> 0 | AF26: =IF(OR(Z26>AB26,Z26>=$A$3),AB26+IF(Z26>AB26,1,0)-$A$3,0) -> 0 | AG26: =AF26+AF27 -> 0 | AH26: =IF(AND(WEEKDAY($A26,2)<7,AA26="CP"),1,0) -> 0 | AI26: =IF(AA26="CV",1,0) -> 0 | AJ26: =IF(AND(F26>$A$4,F26<$A$2),1,0) -> 0 | AN26: =MOD(AM26-AK26,1) -> 0 | AO26: =AN26+AN27 -> 0 | AP26: =IF(OR(AM25="",AK26=""),0,MOD(AK26-AM25,1)) -> 0 | AQ26: =IF(OR(AK26>AM26,AK26>=$A$3),AM26+IF(AK26>AM26,1,0)-$A$3,0) -> 0 | AR26: =AQ26+AQ27 -> 0 | AS26: =IF(AND(WEEKDAY($A26,2)<7,AL26="CP"),1,0) -> 0 | AT26: =IF(AL26="CV",1,0) -> 0 | AU26: =IF(AND(F26>$A$4,F26<$A$2),1,0) -> 0 | AY26: =MOD(AX26-AV26,1) -> 0 | AZ26: =AY26+AY27 -> 0 | BA26: =IF(OR(AX25="",AV26=""),0,MOD(AV26-AX25,1)) -> 0 | BB26: =IF(OR(AV26>AX26,AV26>=$A$3),AX26+IF(AV26>AX26,1,0)-$A$3,0) -> 0 | BC26: =BB26+BB27 -> 0 | BD26: =IF(AND(WEEKDAY($A26,2)<7,AW26="CP"),1,0) -> 0 | BE26: =IF(AW26="CV",1,0) -> 0 | BF26: =IF(AND(F26>$A$4,F26<$A$2),1,0) -> 0 | BJ26: =MOD(BI26-BG26,1) -> 0 | BK26: =BJ26+BJ27 -> 0 | BL26: =IF(OR(BI25="",BG26=""),0,MOD(BG26-BI25,1)) -> 0 | BM26: =IF(OR(BG26>BI26,BG26>=$A$3),BI26+IF(BG26>BI26,1,0)-$A$3,0) -> 0 | BN26: =BM26+BM27 -> 0 | BO26: =IF(AND(WEEKDAY($A26,2)<7,BH26="CP"),1,0) -> 0 | BP26: =IF(BH26="CV",1,0) -> 0 | BQ26: =IF(AND(F26>$A$4,F26<$A$2),1,0) -> 0
G27: =MOD(F27-D27,1) -> 0 | J27: =IF(OR(D27>F27,D27>=$A$3),F27+IF(D27>F27,1,0)-$A$3,0) -> 0 | N27: =IF(AND(F27>$A$4,F27<$A$2),1,0) -> 0 | R27: =MOD(Q27-O27,1) -> 0 | U27: =IF(OR(O27>Q27,O27>=$A$3),Q27+IF(O27>Q27,1,0)-$A$3,0) -> 0 | Y27: =IF(AND(Q27>$A$4,Q27<$A$2),1,0) -> 0 | AC27: =MOD(AB27-Z27,1) -> 0 | AF27: =IF(OR(Z27>AB27,Z27>=$A$3),AB27+IF(Z27>AB27,1,0)-$A$3,0) -> 0 | AJ27: =IF(AND(F27>$A$4,F27<$A$2),1,0) -> 0 | AN27: =MOD(AM27-AK27,1) -> 0 | AQ27: =IF(OR(AK27>AM27,AK27>=$A$3),AM27+IF(AK27>AM27,1,0)-$A$3,0) -> 0 | AU27: =IF(AND(F27>$A$4,F27<$A$2),1,0) -> 0 | AY27: =MOD(AX27-AV27,1) -> 0 | BB27: =IF(OR(AV27>AX27,AV27>=$A$3),AX27+IF(AV27>AX27,1,0)-$A$3,0) -> 0 | BF27: =IF(AND(F27>$A$4,F27<$A$2),1,0) -> 0 | BJ27: =MOD(BI27-BG27,1) -> 0 | BM27: =IF(OR(BG27>BI27,BG27>=$A$3),BI27+IF(BG27>BI27,1,0)-$A$3,0) -> 0 | BQ27: =IF(AND(F27>$A$4,F27<$A$2),1,0) -> 0
A28: =A26+1 -> 41649 | B28: =UPPER(TEXT(A28,"jjj")) -> JEU | C28: =UPPER(TEXT(A28,"jj mmm")) -> 11 JANV | G28: =MOD(F28-D28,1) -> 0 | H28: =G28+G29 -> 0 | I28: =IF(OR(F27="",D28=""),0,MOD(D28-F27,1)) -> 0 | J28: =IF(OR(D28>F28,D28>=$A$3),F28+IF(D28>F28,1,0)-$A$3,0) -> 0 | K28: =J28+J29 -> 0 | L28: =IF(AND(WEEKDAY($A28,2)<7,E28="CP"),1,0) -> 0 | M28: =IF(E28="CV",1,0) -> 0 | N28: =IF(AND(F28>$A$4,F28<$A$2),1,0) -> 0 | R28: =MOD(Q28-O28,1) -> 0 | S28: =R28+R29 -> 0 | T28: =IF(OR(Q27="",O28=""),0,MOD(O28-Q27,1)) -> 0 | U28: =IF(OR(O28>Q28,O28>=$A$3),Q28+IF(O28>Q28,1,0)-$A$3,0) -> 0 | V28: =U28+U29 -> 0 | W28: =IF(AND(WEEKDAY($A28,2)<7,P28="CP"),1,0) -> 0 | X28: =IF(P28="CV",1,0) -> 0 | Y28: =IF(AND(Q28>$A$4,Q28<$A$2),1,0) -> 0 | AC28: =MOD(AB28-Z28,1) -> 0 | AD28: =AC28+AC29 -> 0 | AE28: =IF(OR(AB27="",Z28=""),0,MOD(Z28-AB27,1)) -> 0 | AF28: =IF(OR(Z28>AB28,Z28>=$A$3),AB28+IF(Z28>AB28,1,0)-$A$3,0) -> 0 | AG28: =AF28+AF29 -> 0 | AH28: =IF(AND(WEEKDAY($A28,2)<7,AA28="CP"),1,0) -> 0 | AI28: =IF(AA28="CV",1,0) -> 0 | AJ28: =IF(AND(F28>$A$4,F28<$A$2),1,0) -> 0 | AN28: =MOD(AM28-AK28,1) -> 0 | AO28: =AN28+AN29 -> 0 | AP28: =IF(OR(AM27="",AK28=""),0,MOD(AK28-AM27,1)) -> 0 | AQ28: =IF(OR(AK28>AM28,AK28>=$A$3),AM28+IF(AK28>AM28,1,0)-$A$3,0) -> 0 | AR28: =AQ28+AQ29 -> 0 | AS28: =IF(AND(WEEKDAY($A28,2)<7,AL28="CP"),1,0) -> 0 | AT28: =IF(AL28="CV",1,0) -> 0 | AU28: =IF(AND(F28>$A$4,F28<$A$2),1,0) -> 0 | AY28: =MOD(AX28-AV28,1) -> 0 | AZ28: =AY28+AY29 -> 0 | BA28: =IF(OR(AX27="",AV28=""),0,MOD(AV28-AX27,1)) -> 0 | BB28: =IF(OR(AV28>AX28,AV28>=$A$3),AX28+IF(AV28>AX28,1,0)-$A$3,0) -> 0 | BC28: =BB28+BB29 -> 0 | BD28: =IF(AND(WEEKDAY($A28,2)<7,AW28="CP"),1,0) -> 0 | BE28: =IF(AW28="CV",1,0) -> 0 | BF28: =IF(AND(F28>$A$4,F28<$A$2),1,0) -> 0 | BJ28: =MOD(BI28-BG28,1) -> 0 | BK28: =BJ28+BJ29 -> 0 | BL28: =IF(OR(BI27="",BG28=""),0,MOD(BG28-BI27,1)) -> 0 | BM28: =IF(OR(BG28>BI28,BG28>=$A$3),BI28+IF(BG28>BI28,1,0)-$A$3,0) -> 0 | BN28: =BM28+BM29 -> 0 | BO28: =IF(AND(WEEKDAY($A28,2)<7,BH28="CP"),1,0) -> 0 | BP28: =IF(BH28="CV",1,0) -> 0 | BQ28: =IF(AND(F28>$A$4,F28<$A$2),1,0) -> 0
G29: =MOD(F29-D29,1) -> 0 | J29: =IF(OR(D29>F29,D29>=$A$3),F29+IF(D29>F29,1,0)-$A$3,0) -> 0 | N29: =IF(AND(F29>$A$4,F29<$A$2),1,0) -> 0 | R29: =MOD(Q29-O29,1) -> 0 | U29: =IF(OR(O29>Q29,O29>=$A$3),Q29+IF(O29>Q29,1,0)-$A$3,0) -> 0 | Y29: =IF(AND(Q29>$A$4,Q29<$A$2),1,0) -> 0 | AC29: =MOD(AB29-Z29,1) -> 0 | AF29: =IF(OR(Z29>AB29,Z29>=$A$3),AB29+IF(Z29>AB29,1,0)-$A$3,0) -> 0 | AJ29: =IF(AND(F29>$A$4,F29<$A$2),1,0) -> 0 | AN29: =MOD(AM29-AK29,1) -> 0 | AQ29: =IF(OR(AK29>AM29,AK29>=$A$3),AM29+IF(AK29>AM29,1,0)-$A$3,0) -> 0 | AU29: =IF(AND(F29>$A$4,F29<$A$2),1,0) -> 0 | AY29: =MOD(AX29-AV29,1) -> 0 | BB29: =IF(OR(AV29>AX29,AV29>=$A$3),AX29+IF(AV29>AX29,1,0)-$A$3,0) -> 0 | BF29: =IF(AND(F29>$A$4,F29<$A$2),1,0) -> 0 | BJ29: =MOD(BI29-BG29,1) -> 0 | BM29: =IF(OR(BG29>BI29,BG29>=$A$3),BI29+IF(BG29>BI29,1,0)-$A$3,0) -> 0 | BQ29: =IF(AND(F29>$A$4,F29<$A$2),1,0) -> 0
A30: =A28+1 -> 41650 | B30: =UPPER(TEXT(A30,"jjj")) -> VEN | C30: =UPPER(TEXT(A30,"jj mmm")) -> 12 JANV | G30: =MOD(F30-D30,1) -> 0 | H30: =G30+G31 -> 0 | I30: =IF(OR(F29="",D30=""),0,MOD(D30-F29,1)) -> 0 | J30: =IF(OR(D30>F30,D30>=$A$3),F30+IF(D30>F30,1,0)-$A$3,0) -> 0 | K30: =J30+J31 -> 0 | L30: =IF(AND(WEEKDAY($A30,2)<7,E30="CP"),1,0) -> 0 | M30: =IF(E30="CV",1,0) -> 0 | N30: =IF(AND(F30>$A$4,F30<$A$2),1,0) -> 0 | R30: =MOD(Q30-O30,1) -> 0 | S30: =R30+R31 -> 0 | T30: =IF(OR(Q29="",O30=""),0,MOD(O30-Q29,1)) -> 0 | U30: =IF(OR(O30>Q30,O30>=$A$3),Q30+IF(O30>Q30,1,0)-$A$3,0) -> 0 | V30: =U30+U31 -> 0 | W30: =IF(AND(WEEKDAY($A30,2)<7,P30="CP"),1,0) -> 0 | X30: =IF(P30="CV",1,0) -> 0 | Y30: =IF(AND(Q30>$A$4,Q30<$A$2),1,0) -> 0 | AC30: =MOD(AB30-Z30,1) -> 0 | AD30: =AC30+AC31 -> 0 | AE30: =IF(OR(AB29="",Z30=""),0,MOD(Z30-AB29,1)) -> 0 | AF30: =IF(OR(Z30>AB30,Z30>=$A$3),AB30+IF(Z30>AB30,1,0)-$A$3,0) -> 0 | AG30: =AF30+AF31 -> 0 | AH30: =IF(AND(WEEKDAY($A30,2)<7,AA30="CP"),1,0) -> 0 | AI30: =IF(AA30="CV",1,0) -> 0 | AJ30: =IF(AND(F30>$A$4,F30<$A$2),1,0) -> 0 | AN30: =MOD(AM30-AK30,1) -> 0 | AO30: =AN30+AN31 -> 0 | AP30: =IF(OR(AM29="",AK30=""),0,MOD(AK30-AM29,1)) -> 0 | AQ30: =IF(OR(AK30>AM30,AK30>=$A$3),AM30+IF(AK30>AM30,1,0)-$A$3,0) -> 0 | AR30: =AQ30+AQ31 -> 0 | AS30: =IF(AND(WEEKDAY($A30,2)<7,AL30="CP"),1,0) -> 0 | AT30: =IF(AL30="CV",1,0) -> 0 | AU30: =IF(AND(F30>$A$4,F30<$A$2),1,0) -> 0 | AY30: =MOD(AX30-AV30,1) -> 0 | AZ30: =AY30+AY31 -> 0 | BA30: =IF(OR(AX29="",AV30=""),0,MOD(AV30-AX29,1)) -> 0 | BB30: =IF(OR(AV30>AX30,AV30>=$A$3),AX30+IF(AV30>AX30,1,0)-$A$3,0) -> 0 | BC30: =BB30+BB31 -> 0 | BD30: =IF(AND(WEEKDAY($A30,2)<7,AW30="CP"),1,0) -> 0 | BE30: =IF(AW30="CV",1,0) -> 0 | BF30: =IF(AND(F30>$A$4,F30<$A$2),1,0) -> 0 | BJ30: =MOD(BI30-BG30,1) -> 0 | BK30: =BJ30+BJ31 -> 0 | BL30: =IF(OR(BI29="",BG30=""),0,MOD(BG30-BI29,1)) -> 0 | BM30: =IF(OR(BG30>BI30,BG30>=$A$3),BI30+IF(BG30>BI30,1,0)-$A$3,0) -> 0 | BN30: =BM30+BM31 -> 0 | BO30: =IF(AND(WEEKDAY($A30,2)<7,BH30="CP"),1,0) -> 0 | BP30: =IF(BH30="CV",1,0) -> 0 | BQ30: =IF(AND(F30>$A$4,F30<$A$2),1,0) -> 0
G31: =MOD(F31-D31,1) -> 0 | J31: =IF(OR(D31>F31,D31>=$A$3),F31+IF(D31>F31,1,0)-$A$3,0) -> 0 | N31: =IF(AND(F31>$A$4,F31<$A$2),1,0) -> 0 | R31: =MOD(Q31-O31,1) -> 0 | U31: =IF(OR(O31>Q31,O31>=$A$3),Q31+IF(O31>Q31,1,0)-$A$3,0) -> 0 | Y31: =IF(AND(Q31>$A$4,Q31<$A$2),1,0) -> 0 | AC31: =MOD(AB31-Z31,1) -> 0 | AF31: =IF(OR(Z31>AB31,Z31>=$A$3),AB31+IF(Z31>AB31,1,0)-$A$3,0) -> 0 | AJ31: =IF(AND(F31>$A$4,F31<$A$2),1,0) -> 0 | AN31: =MOD(AM31-AK31,1) -> 0 | AQ31: =IF(OR(AK31>AM31,AK31>=$A$3),AM31+IF(AK31>AM31,1,0)-$A$3,0) -> 0 | AU31: =IF(AND(F31>$A$4,F31<$A$2),1,0) -> 0 | AY31: =MOD(AX31-AV31,1) -> 0 | BB31: =IF(OR(AV31>AX31,AV31>=$A$3),AX31+IF(AV31>AX31,1,0)-$A$3,0) -> 0 | BF31: =IF(AND(F31>$A$4,F31<$A$2),1,0) -> 0 | BJ31: =MOD(BI31-BG31,1) -> 0 | BM31: =IF(OR(BG31>BI31,BG31>=$A$3),BI31+IF(BG31>BI31,1,0)-$A$3,0) -> 0 | BQ31: =IF(AND(F31>$A$4,F31<$A$2),1,0) -> 0
A32: =A30+1 -> 41651 | B32: =UPPER(TEXT(A32,"jjj")) -> SAM | C32: =UPPER(TEXT(A32,"jj mmm")) -> 13 JANV | G32: =MOD(F32-D32,1) -> 0 | H32: =G32+G33 -> 0 | I32: =IF(OR(F31="",D32=""),0,MOD(D32-F31,1)) -> 0 | J32: =IF(OR(D32>F32,D32>=$A$3),F32+IF(D32>F32,1,0)-$A$3,0) -> 0 | K32: =J32+J33 -> 0 | L32: =IF(AND(WEEKDAY($A32,2)<7,E32="CP"),1,0) -> 0 | M32: =IF(E32="CV",1,0) -> 0 | N32: =IF(AND(F32>$A$4,F32<$A$2),1,0) -> 0 | R32: =MOD(Q32-O32,1) -> 0 | S32: =R32+R33 -> 0 | T32: =IF(OR(Q31="",O32=""),0,MOD(O32-Q31,1)) -> 0 | U32: =IF(OR(O32>Q32,O32>=$A$3),Q32+IF(O32>Q32,1,0)-$A$3,0) -> 0 | V32: =U32+U33 -> 0 | W32: =IF(AND(WEEKDAY($A32,2)<7,P32="CP"),1,0) -> 0 | X32: =IF(P32="CV",1,0) -> 0 | Y32: =IF(AND(Q32>$A$4,Q32<$A$2),1,0) -> 0 | AC32: =MOD(AB32-Z32,1) -> 0 | AD32: =AC32+AC33 -> 0 | AE32: =IF(OR(AB31="",Z32=""),0,MOD(Z32-AB31,1)) -> 0 | AF32: =IF(OR(Z32>AB32,Z32>=$A$3),AB32+IF(Z32>AB32,1,0)-$A$3,0) -> 0 | AG32: =AF32+AF33 -> 0 | AH32: =IF(AND(WEEKDAY($A32,2)<7,AA32="CP"),1,0) -> 0 | AI32: =IF(AA32="CV",1,0) -> 0 | AJ32: =IF(AND(F32>$A$4,F32<$A$2),1,0) -> 0 | AN32: =MOD(AM32-AK32,1) -> 0 | AO32: =AN32+AN33 -> 0 | AP32: =IF(OR(AM31="",AK32=""),0,MOD(AK32-AM31,1)) -> 0 | AQ32: =IF(OR(AK32>AM32,AK32>=$A$3),AM32+IF(AK32>AM32,1,0)-$A$3,0) -> 0 | AR32: =AQ32+AQ33 -> 0 | AS32: =IF(AND(WEEKDAY($A32,2)<7,AL32="CP"),1,0) -> 0 | AT32: =IF(AL32="CV",1,0) -> 0 | AU32: =IF(AND(F32>$A$4,F32<$A$2),1,0) -> 0 | AY32: =MOD(AX32-AV32,1) -> 0 | AZ32: =AY32+AY33 -> 0 | BA32: =IF(OR(AX31="",AV32=""),0,MOD(AV32-AX31,1)) -> 0 | BB32: =IF(OR(AV32>AX32,AV32>=$A$3),AX32+IF(AV32>AX32,1,0)-$A$3,0) -> 0 | BC32: =BB32+BB33 -> 0 | BD32: =IF(AND(WEEKDAY($A32,2)<7,AW32="CP"),1,0) -> 0 | BE32: =IF(AW32="CV",1,0) -> 0 | BF32: =IF(AND(F32>$A$4,F32<$A$2),1,0) -> 0 | BJ32: =MOD(BI32-BG32,1) -> 0 | BK32: =BJ32+BJ33 -> 0 | BL32: =IF(OR(BI31="",BG32=""),0,MOD(BG32-BI31,1)) -> 0 | BM32: =IF(OR(BG32>BI32,BG32>=$A$3),BI32+IF(BG32>BI32,1,0)-$A$3,0) -> 0 | BN32: =BM32+BM33 -> 0 | BO32: =IF(AND(WEEKDAY($A32,2)<7,BH32="CP"),1,0) -> 0 | BP32: =IF(BH32="CV",1,0) -> 0 | BQ32: =IF(AND(F32>$A$4,F32<$A$2),1,0) -> 0
G33: =MOD(F33-D33,1) -> 0 | J33: =IF(OR(D33>F33,D33>=$A$3),F33+IF(D33>F33,1,0)-$A$3,0) -> 0 | N33: =IF(AND(F33>$A$4,F33<$A$2),1,0) -> 0 | R33: =MOD(Q33-O33,1) -> 0 | U33: =IF(OR(O33>Q33,O33>=$A$3),Q33+IF(O33>Q33,1,0)-$A$3,0) -> 0 | Y33: =IF(AND(Q33>$A$4,Q33<$A$2),1,0) -> 0 | AC33: =MOD(AB33-Z33,1) -> 0 | AF33: =IF(OR(Z33>AB33,Z33>=$A$3),AB33+IF(Z33>AB33,1,0)-$A$3,0) -> 0 | AJ33: =IF(AND(F33>$A$4,F33<$A$2),1,0) -> 0 | AN33: =MOD(AM33-AK33,1) -> 0 | AQ33: =IF(OR(AK33>AM33,AK33>=$A$3),AM33+IF(AK33>AM33,1,0)-$A$3,0) -> 0 | AU33: =IF(AND(F33>$A$4,F33<$A$2),1,0) -> 0 | AY33: =MOD(AX33-AV33,1) -> 0 | BB33: =IF(OR(AV33>AX33,AV33>=$A$3),AX33+IF(AV33>AX33,1,0)-$A$3,0) -> 0 | BF33: =IF(AND(F33>$A$4,F33<$A$2),1,0) -> 0 | BJ33: =MOD(BI33-BG33,1) -> 0 | BM33: =IF(OR(BG33>BI33,BG33>=$A$3),BI33+IF(BG33>BI33,1,0)-$A$3,0) -> 0 | BQ33: =IF(AND(F33>$A$4,F33<$A$2),1,0) -> 0
A34: =A32+1 -> 41652 | B34: =UPPER(TEXT(A34,"jjj")) -> DIM | C34: =UPPER(TEXT(A34,"jj mmm")) -> 14 JANV | G34: =MOD(F34-D34,1) -> 0 | H34: =G34+G35 -> 0 | I34: =IF(OR(F33="",D34=""),0,MOD(D34-F33,1)) -> 0 | J34: =IF(OR(D34>F34,D34>=$A$3),F34+IF(D34>F34,1,0)-$A$3,0) -> 0 | K34: =J34+J35 -> 0 | L34: =IF(AND(WEEKDAY($A34,2)<7,E34="CP"),1,0) -> 0 | M34: =IF(E34="CV",1,0) -> 0 | N34: =IF(AND(F34>$A$4,F34<$A$2),1,0) -> 0 | R34: =MOD(Q34-O34,1) -> 0 | S34: =R34+R35 -> 0 | T34: =IF(OR(Q33="",O34=""),0,MOD(O34-Q33,1)) -> 0 | U34: =IF(OR(O34>Q34,O34>=$A$3),Q34+IF(O34>Q34,1,0)-$A$3,0) -> 0 | V34: =U34+U35 -> 0 | W34: =IF(AND(WEEKDAY($A34,2)<7,P34="CP"),1,0) -> 0 | X34: =IF(P34="CV",1,0) -> 0 | Y34: =IF(AND(Q34>$A$4,Q34<$A$2),1,0) -> 0 | AC34: =MOD(AB34-Z34,1) -> 0 | AD34: =AC34+AC35 -> 0 | AE34: =IF(OR(AB33="",Z34=""),0,MOD(Z34-AB33,1)) -> 0 | AF34: =IF(OR(Z34>AB34,Z34>=$A$3),AB34+IF(Z34>AB34,1,0)-$A$3,0) -> 0 | AG34: =AF34+AF35 -> 0 | AH34: =IF(AND(WEEKDAY($A34,2)<7,AA34="CP"),1,0) -> 0 | AI34: =IF(AA34="CV",1,0) -> 0 | AJ34: =IF(AND(F34>$A$4,F34<$A$2),1,0) -> 0 | AN34: =MOD(AM34-AK34,1) -> 0 | AO34: =AN34+AN35 -> 0 | AP34: =IF(OR(AM33="",AK34=""),0,MOD(AK34-AM33,1)) -> 0 | AQ34: =IF(OR(AK34>AM34,AK34>=$A$3),AM34+IF(AK34>AM34,1,0)-$A$3,0) -> 0 | AR34: =AQ34+AQ35 -> 0 | AS34: =IF(AND(WEEKDAY($A34,2)<7,AL34="CP"),1,0) -> 0 | AT34: =IF(AL34="CV",1,0) -> 0 | AU34: =IF(AND(F34>$A$4,F34<$A$2),1,0) -> 0 | AY34: =MOD(AX34-AV34,1) -> 0 | AZ34: =AY34+AY35 -> 0 | BA34: =IF(OR(AX33="",AV34=""),0,MOD(AV34-AX33,1)) -> 0 | BB34: =IF(OR(AV34>AX34,AV34>=$A$3),AX34+IF(AV34>AX34,1,0)-$A$3,0) -> 0 | BC34: =BB34+BB35 -> 0 | BD34: =IF(AND(WEEKDAY($A34,2)<7,AW34="CP"),1,0) -> 0 | BE34: =IF(AW34="CV",1,0) -> 0 | BF34: =IF(AND(F34>$A$4,F34<$A$2),1,0) -> 0 | BJ34: =MOD(BI34-BG34,1) -> 0 | BK34: =BJ34+BJ35 -> 0 | BL34: =IF(OR(BI33="",BG34=""),0,MOD(BG34-BI33,1)) -> 0 | BM34: =IF(OR(BG34>BI34,BG34>=$A$3),BI34+IF(BG34>BI34,1,0)-$A$3,0) -> 0 | BN34: =BM34+BM35 -> 0 | BO34: =IF(AND(WEEKDAY($A34,2)<7,BH34="CP"),1,0) -> 0 | BP34: =IF(BH34="CV",1,0) -> 0 | BQ34: =IF(AND(F34>$A$4,F34<$A$2),1,0) -> 0
G35: =MOD(F35-D35,1) -> 0 | J35: =IF(OR(D35>F35,D35>=$A$3),F35+IF(D35>F35,1,0)-$A$3,0) -> 0 | N35: =IF(AND(F35>$A$4,F35<$A$2),1,0) -> 0 | R35: =MOD(Q35-O35,1) -> 0 | U35: =IF(OR(O35>Q35,O35>=$A$3),Q35+IF(O35>Q35,1,0)-$A$3,0) -> 0 | Y35: =IF(AND(Q35>$A$4,Q35<$A$2),1,0) -> 0 | AC35: =MOD(AB35-Z35,1) -> 0 | AF35: =IF(OR(Z35>AB35,Z35>=$A$3),AB35+IF(Z35>AB35,1,0)-$A$3,0) -> 0 | AJ35: =IF(AND(F35>$A$4,F35<$A$2),1,0) -> 0 | AN35: =MOD(AM35-AK35,1) -> 0 | AQ35: =IF(OR(AK35>AM35,AK35>=$A$3),AM35+IF(AK35>AM35,1,0)-$A$3,0) -> 0 | AU35: =IF(AND(F35>$A$4,F35<$A$2),1,0) -> 0 | AY35: =MOD(AX35-AV35,1) -> 0 | BB35: =IF(OR(AV35>AX35,AV35>=$A$3),AX35+IF(AV35>AX35,1,0)-$A$3,0) -> 0 | BF35: =IF(AND(F35>$A$4,F35<$A$2),1,0) -> 0 | BJ35: =MOD(BI35-BG35,1) -> 0 | BM35: =IF(OR(BG35>BI35,BG35>=$A$3),BI35+IF(BG35>BI35,1,0)-$A$3,0) -> 0 | BQ35: =IF(AND(F35>$A$4,F35<$A$2),1,0) -> 0
A36: =A34+1 -> 41653 | B36: =UPPER(TEXT(A36,"jjj")) -> LUN | C36: =UPPER(TEXT(A36,"jj mmm")) -> 15 JANV | G36: =MOD(F36-D36,1) -> 0 | H36: =G36+G37 -> 0 | I36: =IF(OR(F35="",D36=""),0,MOD(D36-F35,1)) -> 0 | J36: =IF(OR(D36>F36,D36>=$A$3),F36+IF(D36>F36,1,0)-$A$3,0) -> 0 | K36: =J36+J37 -> 0 | L36: =IF(AND(WEEKDAY($A36,2)<7,E36="CP"),1,0) -> 0 | M36: =IF(E36="CV",1,0) -> 0 | N36: =IF(AND(F36>$A$4,F36<$A$2),1,0) -> 0 | R36: =MOD(Q36-O36,1) -> 0 | S36: =R36+R37 -> 0 | T36: =IF(OR(Q35="",O36=""),0,MOD(O36-Q35,1)) -> 0 | U36: =IF(OR(O36>Q36,O36>=$A$3),Q36+IF(O36>Q36,1,0)-$A$3,0) -> 0 | V36: =U36+U37 -> 0 | W36: =IF(AND(WEEKDAY($A36,2)<7,P36="CP"),1,0) -> 0 | X36: =IF(P36="CV",1,0) -> 0 | Y36: =IF(AND(Q36>$A$4,Q36<$A$2),1,0) -> 0 | AC36: =MOD(AB36-Z36,1) -> 0 | AD36: =AC36+AC37 -> 0 | AE36: =IF(OR(AB35="",Z36=""),0,MOD(Z36-AB35,1)) -> 0 | AF36: =IF(OR(Z36>AB36,Z36>=$A$3),AB36+IF(Z36>AB36,1,0)-$A$3,0) -> 0 | AG36: =AF36+AF37 -> 0 | AH36: =IF(AND(WEEKDAY($A36,2)<7,AA36="CP"),1,0) -> 0 | AI36: =IF(AA36="CV",1,0) -> 0 | AJ36: =IF(AND(F36>$A$4,F36<$A$2),1,0) -> 0 | AN36: =MOD(AM36-AK36,1) -> 0 | AO36: =AN36+AN37 -> 0 | AP36: =IF(OR(AM35="",AK36=""),0,MOD(AK36-AM35,1)) -> 0 | AQ36: =IF(OR(AK36>AM36,AK36>=$A$3),AM36+IF(AK36>AM36,1,0)-$A$3,0) -> 0 | AR36: =AQ36+AQ37 -> 0 | AS36: =IF(AND(WEEKDAY($A36,2)<7,AL36="CP"),1,0) -> 0 | AT36: =IF(AL36="CV",1,0) -> 0 | AU36: =IF(AND(F36>$A$4,F36<$A$2),1,0) -> 0 | AY36: =MOD(AX36-AV36,1) -> 0 | AZ36: =AY36+AY37 -> 0 | BA36: =IF(OR(AX35="",AV36=""),0,MOD(AV36-AX35,1)) -> 0 | BB36: =IF(OR(AV36>AX36,AV36>=$A$3),AX36+IF(AV36>AX36,1,0)-$A$3,0) -> 0 | BC36: =BB36+BB37 -> 0 | BD36: =IF(AND(WEEKDAY($A36,2)<7,AW36="CP"),1,0) -> 0 | BE36: =IF(AW36="CV",1,0) -> 0 | BF36: =IF(AND(F36>$A$4,F36<$A$2),1,0) -> 0 | BJ36: =MOD(BI36-BG36,1) -> 0 | BK36: =BJ36+BJ37 -> 0 | BL36: =IF(OR(BI35="",BG36=""),0,MOD(BG36-BI35,1)) -> 0 | BM36: =IF(OR(BG36>BI36,BG36>=$A$3),BI36+IF(BG36>BI36,1,0)-$A$3,0) -> 0 | BN36: =BM36+BM37 -> 0 | BO36: =IF(AND(WEEKDAY($A36,2)<7,BH36="CP"),1,0) -> 0 | BP36: =IF(BH36="CV",1,0) -> 0 | BQ36: =IF(AND(F36>$A$4,F36<$A$2),1,0) -> 0
G37: =MOD(F37-D37,1) -> 0 | J37: =IF(OR(D37>F37,D37>=$A$3),F37+IF(D37>F37,1,0)-$A$3,0) -> 0 | N37: =IF(AND(F37>$A$4,F37<$A$2),1,0) -> 0 | R37: =MOD(Q37-O37,1) -> 0 | U37: =IF(OR(O37>Q37,O37>=$A$3),Q37+IF(O37>Q37,1,0)-$A$3,0) -> 0 | Y37: =IF(AND(Q37>$A$4,Q37<$A$2),1,0) -> 0 | AC37: =MOD(AB37-Z37,1) -> 0 | AF37: =IF(OR(Z37>AB37,Z37>=$A$3),AB37+IF(Z37>AB37,1,0)-$A$3,0) -> 0 | AJ37: =IF(AND(F37>$A$4,F37<$A$2),1,0) -> 0 | AN37: =MOD(AM37-AK37,1) -> 0 | AQ37: =IF(OR(AK37>AM37,AK37>=$A$3),AM37+IF(AK37>AM37,1,0)-$A$3,0) -> 0 | AU37: =IF(AND(F37>$A$4,F37<$A$2),1,0) -> 0 | AY37: =MOD(AX37-AV37,1) -> 0 | BB37: =IF(OR(AV37>AX37,AV37>=$A$3),AX37+IF(AV37>AX37,1,0)-$A$3,0) -> 0 | BF37: =IF(AND(F37>$A$4,F37<$A$2),1,0) -> 0 | BJ37: =MOD(BI37-BG37,1) -> 0 | BM37: =IF(OR(BG37>BI37,BG37>=$A$3),BI37+IF(BG37>BI37,1,0)-$A$3,0) -> 0 | BQ37: =IF(AND(F37>$A$4,F37<$A$2),1,0) -> 0
A38: =A36+1 -> 41654 | B38: =UPPER(TEXT(A38,"jjj")) -> MAR | C38: =UPPER(TEXT(A38,"jj mmm")) -> 16 JANV | G38: =MOD(F38-D38,1) -> 0 | H38: =G38+G39 -> 0 | I38: =IF(OR(F37="",D38=""),0,MOD(D38-F37,1)) -> 0 | J38: =IF(OR(D38>F38,D38>=$A$3),F38+IF(D38>F38,1,0)-$A$3,0) -> 0 | K38: =J38+J39 -> 0 | L38: =IF(AND(WEEKDAY($A38,2)<7,E38="CP"),1,0) -> 0 | M38: =IF(E38="CV",1,0) -> 0 | N38: =IF(AND(F38>$A$4,F38<$A$2),1,0) -> 0 | R38: =MOD(Q38-O38,1) -> 0 | S38: =R38+R39 -> 0 | T38: =IF(OR(Q37="",O38=""),0,MOD(O38-Q37,1)) -> 0 | U38: =IF(OR(O38>Q38,O38>=$A$3),Q38+IF(O38>Q38,1,0)-$A$3,0) -> 0 | V38: =U38+U39 -> 0 | W38: =IF(AND(WEEKDAY($A38,2)<7,P38="CP"),1,0) -> 0 | X38: =IF(P38="CV",1,0) -> 0 | Y38: =IF(AND(Q38>$A$4,Q38<$A$2),1,0) -> 0 | AC38: =MOD(AB38-Z38,1) -> 0 | AD38: =AC38+AC39 -> 0 | AE38: =IF(OR(AB37="",Z38=""),0,MOD(Z38-AB37,1)) -> 0 | AF38: =IF(OR(Z38>AB38,Z38>=$A$3),AB38+IF(Z38>AB38,1,0)-$A$3,0) -> 0 | AG38: =AF38+AF39 -> 0 | AH38: =IF(AND(WEEKDAY($A38,2)<7,AA38="CP"),1,0) -> 0 | AI38: =IF(AA38="CV",1,0) -> 0 | AJ38: =IF(AND(F38>$A$4,F38<$A$2),1,0) -> 0 | AN38: =MOD(AM38-AK38,1) -> 0 | AO38: =AN38+AN39 -> 0 | AP38: =IF(OR(AM37="",AK38=""),0,MOD(AK38-AM37,1)) -> 0 | AQ38: =IF(OR(AK38>AM38,AK38>=$A$3),AM38+IF(AK38>AM38,1,0)-$A$3,0) -> 0 | AR38: =AQ38+AQ39 -> 0 | AS38: =IF(AND(WEEKDAY($A38,2)<7,AL38="CP"),1,0) -> 0 | AT38: =IF(AL38="CV",1,0) -> 0 | AU38: =IF(AND(F38>$A$4,F38<$A$2),1,0) -> 0 | AY38: =MOD(AX38-AV38,1) -> 0 | AZ38: =AY38+AY39 -> 0 | BA38: =IF(OR(AX37="",AV38=""),0,MOD(AV38-AX37,1)) -> 0 | BB38: =IF(OR(AV38>AX38,AV38>=$A$3),AX38+IF(AV38>AX38,1,0)-$A$3,0) -> 0 | BC38: =BB38+BB39 -> 0 | BD38: =IF(AND(WEEKDAY($A38,2)<7,AW38="CP"),1,0) -> 0 | BE38: =IF(AW38="CV",1,0) -> 0 | BF38: =IF(AND(F38>$A$4,F38<$A$2),1,0) -> 0 | BJ38: =MOD(BI38-BG38,1) -> 0 | BK38: =BJ38+BJ39 -> 0 | BL38: =IF(OR(BI37="",BG38=""),0,MOD(BG38-BI37,1)) -> 0 | BM38: =IF(OR(BG38>BI38,BG38>=$A$3),BI38+IF(BG38>BI38,1,0)-$A$3,0) -> 0 | BN38: =BM38+BM39 -> 0 | BO38: =IF(AND(WEEKDAY($A38,2)<7,BH38="CP"),1,0) -> 0 | BP38: =IF(BH38="CV",1,0) -> 0 | BQ38: =IF(AND(F38>$A$4,F38<$A$2),1,0) -> 0
G39: =MOD(F39-D39,1) -> 0 | J39: =IF(OR(D39>F39,D39>=$A$3),F39+IF(D39>F39,1,0)-$A$3,0) -> 0 | N39: =IF(AND(F39>$A$4,F39<$A$2),1,0) -> 0 | R39: =MOD(Q39-O39,1) -> 0 | U39: =IF(OR(O39>Q39,O39>=$A$3),Q39+IF(O39>Q39,1,0)-$A$3,0) -> 0 | Y39: =IF(AND(Q39>$A$4,Q39<$A$2),1,0) -> 0 | AC39: =MOD(AB39-Z39,1) -> 0 | AF39: =IF(OR(Z39>AB39,Z39>=$A$3),AB39+IF(Z39>AB39,1,0)-$A$3,0) -> 0 | AJ39: =IF(AND(F39>$A$4,F39<$A$2),1,0) -> 0 | AN39: =MOD(AM39-AK39,1) -> 0 | AQ39: =IF(OR(AK39>AM39,AK39>=$A$3),AM39+IF(AK39>AM39,1,0)-$A$3,0) -> 0 | AU39: =IF(AND(F39>$A$4,F39<$A$2),1,0) -> 0 | AY39: =MOD(AX39-AV39,1) -> 0 | BB39: =IF(OR(AV39>AX39,AV39>=$A$3),AX39+IF(AV39>AX39,1,0)-$A$3,0) -> 0 | BF39: =IF(AND(F39>$A$4,F39<$A$2),1,0) -> 0 | BJ39: =MOD(BI39-BG39,1) -> 0 | BM39: =IF(OR(BG39>BI39,BG39>=$A$3),BI39+IF(BG39>BI39,1,0)-$A$3,0) -> 0 | BQ39: =IF(AND(F39>$A$4,F39<$A$2),1,0) -> 0
A40: =A38+1 -> 41655 | B40: =UPPER(TEXT(A40,"jjj")) -> MER | C40: =UPPER(TEXT(A40,"jj mmm")) -> 17 JANV | G40: =MOD(F40-D40,1) -> 0 | H40: =G40+G41 -> 0 | I40: =IF(OR(F39="",D40=""),0,MOD(D40-F39,1)) -> 0 | J40: =IF(OR(D40>F40,D40>=$A$3),F40+IF(D40>F40,1,0)-$A$3,0) -> 0 | K40: =J40+J41 -> 0 | L40: =IF(AND(WEEKDAY($A40,2)<7,E40="CP"),1,0) -> 0 | M40: =IF(E40="CV",1,0) -> 0 | N40: =IF(AND(F40>$A$4,F40<$A$2),1,0) -> 0 | R40: =MOD(Q40-O40,1) -> 0 | S40: =R40+R41 -> 0 | T40: =IF(OR(Q39="",O40=""),0,MOD(O40-Q39,1)) -> 0 | U40: =IF(OR(O40>Q40,O40>=$A$3),Q40+IF(O40>Q40,1,0)-$A$3,0) -> 0 | V40: =U40+U41 -> 0 | W40: =IF(AND(WEEKDAY($A40,2)<7,P40="CP"),1,0) -> 0 | X40: =IF(P40="CV",1,0) -> 0 | Y40: =IF(AND(Q40>$A$4,Q40<$A$2),1,0) -> 0 | AC40: =MOD(AB40-Z40,1) -> 0 | AD40: =AC40+AC41 -> 0 | AE40: =IF(OR(AB39="",Z40=""),0,MOD(Z40-AB39,1)) -> 0 | AF40: =IF(OR(Z40>AB40,Z40>=$A$3),AB40+IF(Z40>AB40,1,0)-$A$3,0) -> 0 | AG40: =AF40+AF41 -> 0 | AH40: =IF(AND(WEEKDAY($A40,2)<7,AA40="CP"),1,0) -> 0 | AI40: =IF(AA40="CV",1,0) -> 0 | AJ40: =IF(AND(F40>$A$4,F40<$A$2),1,0) -> 0 | AN40: =MOD(AM40-AK40,1) -> 0 | AO40: =AN40+AN41 -> 0 | AP40: =IF(OR(AM39="",AK40=""),0,MOD(AK40-AM39,1)) -> 0 | AQ40: =IF(OR(AK40>AM40,AK40>=$A$3),AM40+IF(AK40>AM40,1,0)-$A$3,0) -> 0 | AR40: =AQ40+AQ41 -> 0 | AS40: =IF(AND(WEEKDAY($A40,2)<7,AL40="CP"),1,0) -> 0 | AT40: =IF(AL40="CV",1,0) -> 0 | AU40: =IF(AND(F40>$A$4,F40<$A$2),1,0) -> 0 | AY40: =MOD(AX40-AV40,1) -> 0 | AZ40: =AY40+AY41 -> 0 | BA40: =IF(OR(AX39="",AV40=""),0,MOD(AV40-AX39,1)) -> 0 | BB40: =IF(OR(AV40>AX40,AV40>=$A$3),AX40+IF(AV40>AX40,1,0)-$A$3,0) -> 0 | BC40: =BB40+BB41 -> 0 | BD40: =IF(AND(WEEKDAY($A40,2)<7,AW40="CP"),1,0) -> 0 | BE40: =IF(AW40="CV",1,0) -> 0 | BF40: =IF(AND(F40>$A$4,F40<$A$2),1,0) -> 0 | BJ40: =MOD(BI40-BG40,1) -> 0 | BK40: =BJ40+BJ41 -> 0 | BL40: =IF(OR(BI39="",BG40=""),0,MOD(BG40-BI39,1)) -> 0 | BM40: =IF(OR(BG40>BI40,BG40>=$A$3),BI40+IF(BG40>BI40,1,0)-$A$3,0) -> 0 | BN40: =BM40+BM41 -> 0 | BO40: =IF(AND(WEEKDAY($A40,2)<7,BH40="CP"),1,0) -> 0 | BP40: =IF(BH40="CV",1,0) -> 0 | BQ40: =IF(AND(F40>$A$4,F40<$A$2),1,0) -> 0
G41: =MOD(F41-D41,1) -> 0 | J41: =IF(OR(D41>F41,D41>=$A$3),F41+IF(D41>F41,1,0)-$A$3,0) -> 0 | N41: =IF(AND(F41>$A$4,F41<$A$2),1,0) -> 0 | R41: =MOD(Q41-O41,1) -> 0 | U41: =IF(OR(O41>Q41,O41>=$A$3),Q41+IF(O41>Q41,1,0)-$A$3,0) -> 0 | Y41: =IF(AND(Q41>$A$4,Q41<$A$2),1,0) -> 0 | AC41: =MOD(AB41-Z41,1) -> 0 | AF41: =IF(OR(Z41>AB41,Z41>=$A$3),AB41+IF(Z41>AB41,1,0)-$A$3,0) -> 0 | AJ41: =IF(AND(F41>$A$4,F41<$A$2),1,0) -> 0 | AN41: =MOD(AM41-AK41,1) -> 0 | AQ41: =IF(OR(AK41>AM41,AK41>=$A$3),AM41+IF(AK41>AM41,1,0)-$A$3,0) -> 0 | AU41: =IF(AND(F41>$A$4,F41<$A$2),1,0) -> 0 | AY41: =MOD(AX41-AV41,1) -> 0 | BB41: =IF(OR(AV41>AX41,AV41>=$A$3),AX41+IF(AV41>AX41,1,0)-$A$3,0) -> 0 | BF41: =IF(AND(F41>$A$4,F41<$A$2),1,0) -> 0 | BJ41: =MOD(BI41-BG41,1) -> 0 | BM41: =IF(OR(BG41>BI41,BG41>=$A$3),BI41+IF(BG41>BI41,1,0)-$A$3,0) -> 0 | BQ41: =IF(AND(F41>$A$4,F41<$A$2),1,0) -> 0
A42: =A40+1 -> 41656 | B42: =UPPER(TEXT(A42,"jjj")) -> JEU | C42: =UPPER(TEXT(A42,"jj mmm")) -> 18 JANV | G42: =MOD(F42-D42,1) -> 0 | H42: =G42+G43 -> 0 | I42: =IF(OR(F41="",D42=""),0,MOD(D42-F41,1)) -> 0 | J42: =IF(OR(D42>F42,D42>=$A$3),F42+IF(D42>F42,1,0)-$A$3,0) -> 0 | K42: =J42+J43 -> 0 | L42: =IF(AND(WEEKDAY($A42,2)<7,E42="CP"),1,0) -> 0 | M42: =IF(E42="CV",1,0) -> 0 | N42: =IF(AND(F42>$A$4,F42<$A$2),1,0) -> 0 | R42: =MOD(Q42-O42,1) -> 0 | S42: =R42+R43 -> 0 | T42: =IF(OR(Q41="",O42=""),0,MOD(O42-Q41,1)) -> 0 | U42: =IF(OR(O42>Q42,O42>=$A$3),Q42+IF(O42>Q42,1,0)-$A$3,0) -> 0 | V42: =U42+U43 -> 0 | W42: =IF(AND(WEEKDAY($A42,2)<7,P42="CP"),1,0) -> 0 | X42: =IF(P42="CV",1,0) -> 0 | Y42: =IF(AND(Q42>$A$4,Q42<$A$2),1,0) -> 0 | AC42: =MOD(AB42-Z42,1) -> 0 | AD42: =AC42+AC43 -> 0 | AE42: =IF(OR(AB41="",Z42=""),0,MOD(Z42-AB41,1)) -> 0 | AF42: =IF(OR(Z42>AB42,Z42>=$A$3),AB42+IF(Z42>AB42,1,0)-$A$3,0) -> 0 | AG42: =AF42+AF43 -> 0 | AH42: =IF(AND(WEEKDAY($A42,2)<7,AA42="CP"),1,0) -> 0 | AI42: =IF(AA42="CV",1,0) -> 0 | AJ42: =IF(AND(F42>$A$4,F42<$A$2),1,0) -> 0 | AN42: =MOD(AM42-AK42,1) -> 0 | AO42: =AN42+AN43 -> 0 | AP42: =IF(OR(AM41="",AK42=""),0,MOD(AK42-AM41,1)) -> 0 | AQ42: =IF(OR(AK42>AM42,AK42>=$A$3),AM42+IF(AK42>AM42,1,0)-$A$3,0) -> 0 | AR42: =AQ42+AQ43 -> 0 | AS42: =IF(AND(WEEKDAY($A42,2)<7,AL42="CP"),1,0) -> 0 | AT42: =IF(AL42="CV",1,0) -> 0 | AU42: =IF(AND(F42>$A$4,F42<$A$2),1,0) -> 0 | AY42: =MOD(AX42-AV42,1) -> 0 | AZ42: =AY42+AY43 -> 0 | BA42: =IF(OR(AX41="",AV42=""),0,MOD(AV42-AX41,1)) -> 0 | BB42: =IF(OR(AV42>AX42,AV42>=$A$3),AX42+IF(AV42>AX42,1,0)-$A$3,0) -> 0 | BC42: =BB42+BB43 -> 0 | BD42: =IF(AND(WEEKDAY($A42,2)<7,AW42="CP"),1,0) -> 0 | BE42: =IF(AW42="CV",1,0) -> 0 | BF42: =IF(AND(F42>$A$4,F42<$A$2),1,0) -> 0 | BJ42: =MOD(BI42-BG42,1) -> 0 | BK42: =BJ42+BJ43 -> 0 | BL42: =IF(OR(BI41="",BG42=""),0,MOD(BG42-BI41,1)) -> 0 | BM42: =IF(OR(BG42>BI42,BG42>=$A$3),BI42+IF(BG42>BI42,1,0)-$A$3,0) -> 0 | BN42: =BM42+BM43 -> 0 | BO42: =IF(AND(WEEKDAY($A42,2)<7,BH42="CP"),1,0) -> 0 | BP42: =IF(BH42="CV",1,0) -> 0 | BQ42: =IF(AND(F42>$A$4,F42<$A$2),1,0) -> 0
G43: =MOD(F43-D43,1) -> 0 | J43: =IF(OR(D43>F43,D43>=$A$3),F43+IF(D43>F43,1,0)-$A$3,0) -> 0 | N43: =IF(AND(F43>$A$4,F43<$A$2),1,0) -> 0 | R43: =MOD(Q43-O43,1) -> 0 | U43: =IF(OR(O43>Q43,O43>=$A$3),Q43+IF(O43>Q43,1,0)-$A$3,0) -> 0 | Y43: =IF(AND(Q43>$A$4,Q43<$A$2),1,0) -> 0 | AC43: =MOD(AB43-Z43,1) -> 0 | AF43: =IF(OR(Z43>AB43,Z43>=$A$3),AB43+IF(Z43>AB43,1,0)-$A$3,0) -> 0 | AJ43: =IF(AND(F43>$A$4,F43<$A$2),1,0) -> 0 | AN43: =MOD(AM43-AK43,1) -> 0 | AQ43: =IF(OR(AK43>AM43,AK43>=$A$3),AM43+IF(AK43>AM43,1,0)-$A$3,0) -> 0 | AU43: =IF(AND(F43>$A$4,F43<$A$2),1,0) -> 0 | AY43: =MOD(AX43-AV43,1) -> 0 | BB43: =IF(OR(AV43>AX43,AV43>=$A$3),AX43+IF(AV43>AX43,1,0)-$A$3,0) -> 0 | BF43: =IF(AND(F43>$A$4,F43<$A$2),1,0) -> 0 | BJ43: =MOD(BI43-BG43,1) -> 0 | BM43: =IF(OR(BG43>BI43,BG43>=$A$3),BI43+IF(BG43>BI43,1,0)-$A$3,0) -> 0 | BQ43: =IF(AND(F43>$A$4,F43<$A$2),1,0) -> 0
A44: =A42+1 -> 41657 | B44: =UPPER(TEXT(A44,"jjj")) -> VEN | C44: =UPPER(TEXT(A44,"jj mmm")) -> 19 JANV | G44: =MOD(F44-D44,1) -> 0 | H44: =G44+G45 -> 0 | I44: =IF(OR(F43="",D44=""),0,MOD(D44-F43,1)) -> 0 | J44: =IF(OR(D44>F44,D44>=$A$3),F44+IF(D44>F44,1,0)-$A$3,0) -> 0 | K44: =J44+J45 -> 0 | L44: =IF(AND(WEEKDAY($A44,2)<7,E44="CP"),1,0) -> 0 | M44: =IF(E44="CV",1,0) -> 0 | N44: =IF(AND(F44>$A$4,F44<$A$2),1,0) -> 0 | R44: =MOD(Q44-O44,1) -> 0 | S44: =R44+R45 -> 0 | T44: =IF(OR(Q43="",O44=""),0,MOD(O44-Q43,1)) -> 0 | U44: =IF(OR(O44>Q44,O44>=$A$3),Q44+IF(O44>Q44,1,0)-$A$3,0) -> 0 | V44: =U44+U45 -> 0 | W44: =IF(AND(WEEKDAY($A44,2)<7,P44="CP"),1,0) -> 0 | X44: =IF(P44="CV",1,0) -> 0 | Y44: =IF(AND(Q44>$A$4,Q44<$A$2),1,0) -> 0 | AC44: =MOD(AB44-Z44,1) -> 0 | AD44: =AC44+AC45 -> 0 | AE44: =IF(OR(AB43="",Z44=""),0,MOD(Z44-AB43,1)) -> 0 | AF44: =IF(OR(Z44>AB44,Z44>=$A$3),AB44+IF(Z44>AB44,1,0)-$A$3,0) -> 0 | AG44: =AF44+AF45 -> 0 | AH44: =IF(AND(WEEKDAY($A44,2)<7,AA44="CP"),1,0) -> 0 | AI44: =IF(AA44="CV",1,0) -> 0 | AJ44: =IF(AND(F44>$A$4,F44<$A$2),1,0) -> 0 | AN44: =MOD(AM44-AK44,1) -> 0 | AO44: =AN44+AN45 -> 0 | AP44: =IF(OR(AM43="",AK44=""),0,MOD(AK44-AM43,1)) -> 0 | AQ44: =IF(OR(AK44>AM44,AK44>=$A$3),AM44+IF(AK44>AM44,1,0)-$A$3,0) -> 0 | AR44: =AQ44+AQ45 -> 0 | AS44: =IF(AND(WEEKDAY($A44,2)<7,AL44="CP"),1,0) -> 0 | AT44: =IF(AL44="CV",1,0) -> 0 | AU44: =IF(AND(F44>$A$4,F44<$A$2),1,0) -> 0 | AY44: =MOD(AX44-AV44,1) -> 0 | AZ44: =AY44+AY45 -> 0 | BA44: =IF(OR(AX43="",AV44=""),0,MOD(AV44-AX43,1)) -> 0 | BB44: =IF(OR(AV44>AX44,AV44>=$A$3),AX44+IF(AV44>AX44,1,0)-$A$3,0) -> 0 | BC44: =BB44+BB45 -> 0 | BD44: =IF(AND(WEEKDAY($A44,2)<7,AW44="CP"),1,0) -> 0 | BE44: =IF(AW44="CV",1,0) -> 0 | BF44: =IF(AND(F44>$A$4,F44<$A$2),1,0) -> 0 | BJ44: =MOD(BI44-BG44,1) -> 0 | BK44: =BJ44+BJ45 -> 0 | BL44: =IF(OR(BI43="",BG44=""),0,MOD(BG44-BI43,1)) -> 0 | BM44: =IF(OR(BG44>BI44,BG44>=$A$3),BI44+IF(BG44>BI44,1,0)-$A$3,0) -> 0 | BN44: =BM44+BM45 -> 0 | BO44: =IF(AND(WEEKDAY($A44,2)<7,BH44="CP"),1,0) -> 0 | BP44: =IF(BH44="CV",1,0) -> 0 | BQ44: =IF(AND(F44>$A$4,F44<$A$2),1,0) -> 0
G45: =MOD(F45-D45,1) -> 0 | J45: =IF(OR(D45>F45,D45>=$A$3),F45+IF(D45>F45,1,0)-$A$3,0) -> 0 | N45: =IF(AND(F45>$A$4,F45<$A$2),1,0) -> 0 | R45: =MOD(Q45-O45,1) -> 0 | U45: =IF(OR(O45>Q45,O45>=$A$3),Q45+IF(O45>Q45,1,0)-$A$3,0) -> 0 | Y45: =IF(AND(Q45>$A$4,Q45<$A$2),1,0) -> 0 | AC45: =MOD(AB45-Z45,1) -> 0 | AF45: =IF(OR(Z45>AB45,Z45>=$A$3),AB45+IF(Z45>AB45,1,0)-$A$3,0) -> 0 | AJ45: =IF(AND(F45>$A$4,F45<$A$2),1,0) -> 0 | AN45: =MOD(AM45-AK45,1) -> 0 | AQ45: =IF(OR(AK45>AM45,AK45>=$A$3),AM45+IF(AK45>AM45,1,0)-$A$3,0) -> 0 | AU45: =IF(AND(F45>$A$4,F45<$A$2),1,0) -> 0 | AY45: =MOD(AX45-AV45,1) -> 0 | BB45: =IF(OR(AV45>AX45,AV45>=$A$3),AX45+IF(AV45>AX45,1,0)-$A$3,0) -> 0 | BF45: =IF(AND(F45>$A$4,F45<$A$2),1,0) -> 0 | BJ45: =MOD(BI45-BG45,1) -> 0 | BM45: =IF(OR(BG45>BI45,BG45>=$A$3),BI45+IF(BG45>BI45,1,0)-$A$3,0) -> 0 | BQ45: =IF(AND(F45>$A$4,F45<$A$2),1,0) -> 0
A46: =A44+1 -> 41658 | B46: =UPPER(TEXT(A46,"jjj")) -> SAM | C46: =UPPER(TEXT(A46,"jj mmm")) -> 20 JANV | G46: =MOD(F46-D46,1) -> 0 | H46: =G46+G47 -> 0 | I46: =IF(OR(F45="",D46=""),0,MOD(D46-F45,1)) -> 0 | J46: =IF(OR(D46>F46,D46>=$A$3),F46+IF(D46>F46,1,0)-$A$3,0) -> 0 | K46: =J46+J47 -> 0 | L46: =IF(AND(WEEKDAY($A46,2)<7,E46="CP"),1,0) -> 0 | M46: =IF(E46="CV",1,0) -> 0 | N46: =IF(AND(F46>$A$4,F46<$A$2),1,0) -> 0 | R46: =MOD(Q46-O46,1) -> 0 | S46: =R46+R47 -> 0 | T46: =IF(OR(Q45="",O46=""),0,MOD(O46-Q45,1)) -> 0 | U46: =IF(OR(O46>Q46,O46>=$A$3),Q46+IF(O46>Q46,1,0)-$A$3,0) -> 0 | V46: =U46+U47 -> 0 | W46: =IF(AND(WEEKDAY($A46,2)<7,P46="CP"),1,0) -> 0 | X46: =IF(P46="CV",1,0) -> 0 | Y46: =IF(AND(Q46>$A$4,Q46<$A$2),1,0) -> 0 | AC46: =MOD(AB46-Z46,1) -> 0 | AD46: =AC46+AC47 -> 0 | AE46: =IF(OR(AB45="",Z46=""),0,MOD(Z46-AB45,1)) -> 0 | AF46: =IF(OR(Z46>AB46,Z46>=$A$3),AB46+IF(Z46>AB46,1,0)-$A$3,0) -> 0 | AG46: =AF46+AF47 -> 0 | AH46: =IF(AND(WEEKDAY($A46,2)<7,AA46="CP"),1,0) -> 0 | AI46: =IF(AA46="CV",1,0) -> 0 | AJ46: =IF(AND(F46>$A$4,F46<$A$2),1,0) -> 0 | AN46: =MOD(AM46-AK46,1) -> 0 | AO46: =AN46+AN47 -> 0 | AP46: =IF(OR(AM45="",AK46=""),0,MOD(AK46-AM45,1)) -> 0 | AQ46: =IF(OR(AK46>AM46,AK46>=$A$3),AM46+IF(AK46>AM46,1,0)-$A$3,0) -> 0 | AR46: =AQ46+AQ47 -> 0 | AS46: =IF(AND(WEEKDAY($A46,2)<7,AL46="CP"),1,0) -> 0 | AT46: =IF(AL46="CV",1,0) -> 0 | AU46: =IF(AND(F46>$A$4,F46<$A$2),1,0) -> 0 | AY46: =MOD(AX46-AV46,1) -> 0 | AZ46: =AY46+AY47 -> 0 | BA46: =IF(OR(AX45="",AV46=""),0,MOD(AV46-AX45,1)) -> 0 | BB46: =IF(OR(AV46>AX46,AV46>=$A$3),AX46+IF(AV46>AX46,1,0)-$A$3,0) -> 0 | BC46: =BB46+BB47 -> 0 | BD46: =IF(AND(WEEKDAY($A46,2)<7,AW46="CP"),1,0) -> 0 | BE46: =IF(AW46="CV",1,0) -> 0 | BF46: =IF(AND(F46>$A$4,F46<$A$2),1,0) -> 0 | BJ46: =MOD(BI46-BG46,1) -> 0 | BK46: =BJ46+BJ47 -> 0 | BL46: =IF(OR(BI45="",BG46=""),0,MOD(BG46-BI45,1)) -> 0 | BM46: =IF(OR(BG46>BI46,BG46>=$A$3),BI46+IF(BG46>BI46,1,0)-$A$3,0) -> 0 | BN46: =BM46+BM47 -> 0 | BO46: =IF(AND(WEEKDAY($A46,2)<7,BH46="CP"),1,0) -> 0 | BP46: =IF(BH46="CV",1,0) -> 0 | BQ46: =IF(AND(F46>$A$4,F46<$A$2),1,0) -> 0
G47: =MOD(F47-D47,1) -> 0 | J47: =IF(OR(D47>F47,D47>=$A$3),F47+IF(D47>F47,1,0)-$A$3,0) -> 0 | N47: =IF(AND(F47>$A$4,F47<$A$2),1,0) -> 0 | R47: =MOD(Q47-O47,1) -> 0 | U47: =IF(OR(O47>Q47,O47>=$A$3),Q47+IF(O47>Q47,1,0)-$A$3,0) -> 0 | Y47: =IF(AND(Q47>$A$4,Q47<$A$2),1,0) -> 0 | AC47: =MOD(AB47-Z47,1) -> 0 | AF47: =IF(OR(Z47>AB47,Z47>=$A$3),AB47+IF(Z47>AB47,1,0)-$A$3,0) -> 0 | AJ47: =IF(AND(F47>$A$4,F47<$A$2),1,0) -> 0 | AN47: =MOD(AM47-AK47,1) -> 0 | AQ47: =IF(OR(AK47>AM47,AK47>=$A$3),AM47+IF(AK47>AM47,1,0)-$A$3,0) -> 0 | AU47: =IF(AND(F47>$A$4,F47<$A$2),1,0) -> 0 | AY47: =MOD(AX47-AV47,1) -> 0 | BB47: =IF(OR(AV47>AX47,AV47>=$A$3),AX47+IF(AV47>AX47,1,0)-$A$3,0) -> 0 | BF47: =IF(AND(F47>$A$4,F47<$A$2),1,0) -> 0 | BJ47: =MOD(BI47-BG47,1) -> 0 | BM47: =IF(OR(BG47>BI47,BG47>=$A$3),BI47+IF(BG47>BI47,1,0)-$A$3,0) -> 0 | BQ47: =IF(AND(F47>$A$4,F47<$A$2),1,0) -> 0
A48: =A46+1 -> 41659 | B48: =UPPER(TEXT(A48,"jjj")) -> DIM | C48: =UPPER(TEXT(A48,"jj mmm")) -> 21 JANV | G48: =MOD(F48-D48,1) -> 0 | H48: =G48+G49 -> 0 | I48: =IF(OR(F47="",D48=""),0,MOD(D48-F47,1)) -> 0 | J48: =IF(OR(D48>F48,D48>=$A$3),F48+IF(D48>F48,1,0)-$A$3,0) -> 0 | K48: =J48+J49 -> 0 | L48: =IF(AND(WEEKDAY($A48,2)<7,E48="CP"),1,0) -> 0 | M48: =IF(E48="CV",1,0) -> 0 | N48: =IF(AND(F48>$A$4,F48<$A$2),1,0) -> 0 | R48: =MOD(Q48-O48,1) -> 0 | S48: =R48+R49 -> 0 | T48: =IF(OR(Q47="",O48=""),0,MOD(O48-Q47,1)) -> 0 | U48: =IF(OR(O48>Q48,O48>=$A$3),Q48+IF(O48>Q48,1,0)-$A$3,0) -> 0 | V48: =U48+U49 -> 0 | W48: =IF(AND(WEEKDAY($A48,2)<7,P48="CP"),1,0) -> 0 | X48: =IF(P48="CV",1,0) -> 0 | Y48: =IF(AND(Q48>$A$4,Q48<$A$2),1,0) -> 0 | AC48: =MOD(AB48-Z48,1) -> 0 | AD48: =AC48+AC49 -> 0 | AE48: =IF(OR(AB47="",Z48=""),0,MOD(Z48-AB47,1)) -> 0 | AF48: =IF(OR(Z48>AB48,Z48>=$A$3),AB48+IF(Z48>AB48,1,0)-$A$3,0) -> 0 | AG48: =AF48+AF49 -> 0 | AH48: =IF(AND(WEEKDAY($A48,2)<7,AA48="CP"),1,0) -> 0 | AI48: =IF(AA48="CV",1,0) -> 0 | AJ48: =IF(AND(F48>$A$4,F48<$A$2),1,0) -> 0 | AN48: =MOD(AM48-AK48,1) -> 0 | AO48: =AN48+AN49 -> 0 | AP48: =IF(OR(AM47="",AK48=""),0,MOD(AK48-AM47,1)) -> 0 | AQ48: =IF(OR(AK48>AM48,AK48>=$A$3),AM48+IF(AK48>AM48,1,0)-$A$3,0) -> 0 | AR48: =AQ48+AQ49 -> 0 | AS48: =IF(AND(WEEKDAY($A48,2)<7,AL48="CP"),1,0) -> 0 | AT48: =IF(AL48="CV",1,0) -> 0 | AU48: =IF(AND(F48>$A$4,F48<$A$2),1,0) -> 0 | AY48: =MOD(AX48-AV48,1) -> 0 | AZ48: =AY48+AY49 -> 0 | BA48: =IF(OR(AX47="",AV48=""),0,MOD(AV48-AX47,1)) -> 0 | BB48: =IF(OR(AV48>AX48,AV48>=$A$3),AX48+IF(AV48>AX48,1,0)-$A$3,0) -> 0 | BC48: =BB48+BB49 -> 0 | BD48: =IF(AND(WEEKDAY($A48,2)<7,AW48="CP"),1,0) -> 0 | BE48: =IF(AW48="CV",1,0) -> 0 | BF48: =IF(AND(F48>$A$4,F48<$A$2),1,0) -> 0 | BJ48: =MOD(BI48-BG48,1) -> 0 | BK48: =BJ48+BJ49 -> 0 | BL48: =IF(OR(BI47="",BG48=""),0,MOD(BG48-BI47,1)) -> 0 | BM48: =IF(OR(BG48>BI48,BG48>=$A$3),BI48+IF(BG48>BI48,1,0)-$A$3,0) -> 0 | BN48: =BM48+BM49 -> 0 | BO48: =IF(AND(WEEKDAY($A48,2)<7,BH48="CP"),1,0) -> 0 | BP48: =IF(BH48="CV",1,0) -> 0 | BQ48: =IF(AND(F48>$A$4,F48<$A$2),1,0) -> 0
G49: =MOD(F49-D49,1) -> 0 | J49: =IF(OR(D49>F49,D49>=$A$3),F49+IF(D49>F49,1,0)-$A$3,0) -> 0 | N49: =IF(AND(F49>$A$4,F49<$A$2),1,0) -> 0 | R49: =MOD(Q49-O49,1) -> 0 | U49: =IF(OR(O49>Q49,O49>=$A$3),Q49+IF(O49>Q49,1,0)-$A$3,0) -> 0 | Y49: =IF(AND(Q49>$A$4,Q49<$A$2),1,0) -> 0 | AC49: =MOD(AB49-Z49,1) -> 0 | AF49: =IF(OR(Z49>AB49,Z49>=$A$3),AB49+IF(Z49>AB49,1,0)-$A$3,0) -> 0 | AJ49: =IF(AND(F49>$A$4,F49<$A$2),1,0) -> 0 | AN49: =MOD(AM49-AK49,1) -> 0 | AQ49: =IF(OR(AK49>AM49,AK49>=$A$3),AM49+IF(AK49>AM49,1,0)-$A$3,0) -> 0 | AU49: =IF(AND(F49>$A$4,F49<$A$2),1,0) -> 0 | AY49: =MOD(AX49-AV49,1) -> 0 | BB49: =IF(OR(AV49>AX49,AV49>=$A$3),AX49+IF(AV49>AX49,1,0)-$A$3,0) -> 0 | BF49: =IF(AND(F49>$A$4,F49<$A$2),1,0) -> 0 | BJ49: =MOD(BI49-BG49,1) -> 0 | BM49: =IF(OR(BG49>BI49,BG49>=$A$3),BI49+IF(BG49>BI49,1,0)-$A$3,0) -> 0 | BQ49: =IF(AND(F49>$A$4,F49<$A$2),1,0) -> 0
A50: =A48+1 -> 41660 | B50: =UPPER(TEXT(A50,"jjj")) -> LUN | C50: =UPPER(TEXT(A50,"jj mmm")) -> 22 JANV | G50: =MOD(F50-D50,1) -> 0 | H50: =G50+G51 -> 0 | I50: =IF(OR(F49="",D50=""),0,MOD(D50-F49,1)) -> 0 | J50: =IF(OR(D50>F50,D50>=$A$3),F50+IF(D50>F50,1,0)-$A$3,0) -> 0 | K50: =J50+J51 -> 0 | L50: =IF(AND(WEEKDAY($A50,2)<7,E50="CP"),1,0) -> 0 | M50: =IF(E50="CV",1,0) -> 0 | N50: =IF(AND(F50>$A$4,F50<$A$2),1,0) -> 0 | R50: =MOD(Q50-O50,1) -> 0 | S50: =R50+R51 -> 0 | T50: =IF(OR(Q49="",O50=""),0,MOD(O50-Q49,1)) -> 0 | U50: =IF(OR(O50>Q50,O50>=$A$3),Q50+IF(O50>Q50,1,0)-$A$3,0) -> 0 | V50: =U50+U51 -> 0 | W50: =IF(AND(WEEKDAY($A50,2)<7,P50="CP"),1,0) -> 0 | X50: =IF(P50="CV",1,0) -> 0 | Y50: =IF(AND(Q50>$A$4,Q50<$A$2),1,0) -> 0 | AC50: =MOD(AB50-Z50,1) -> 0 | AD50: =AC50+AC51 -> 0 | AE50: =IF(OR(AB49="",Z50=""),0,MOD(Z50-AB49,1)) -> 0 | AF50: =IF(OR(Z50>AB50,Z50>=$A$3),AB50+IF(Z50>AB50,1,0)-$A$3,0) -> 0 | AG50: =AF50+AF51 -> 0 | AH50: =IF(AND(WEEKDAY($A50,2)<7,AA50="CP"),1,0) -> 0 | AI50: =IF(AA50="CV",1,0) -> 0 | AJ50: =IF(AND(F50>$A$4,F50<$A$2),1,0) -> 0 | AN50: =MOD(AM50-AK50,1) -> 0 | AO50: =AN50+AN51 -> 0 | AP50: =IF(OR(AM49="",AK50=""),0,MOD(AK50-AM49,1)) -> 0 | AQ50: =IF(OR(AK50>AM50,AK50>=$A$3),AM50+IF(AK50>AM50,1,0)-$A$3,0) -> 0 | AR50: =AQ50+AQ51 -> 0 | AS50: =IF(AND(WEEKDAY($A50,2)<7,AL50="CP"),1,0) -> 0 | AT50: =IF(AL50="CV",1,0) -> 0 | AU50: =IF(AND(F50>$A$4,F50<$A$2),1,0) -> 0 | AY50: =MOD(AX50-AV50,1) -> 0 | AZ50: =AY50+AY51 -> 0 | BA50: =IF(OR(AX49="",AV50=""),0,MOD(AV50-AX49,1)) -> 0 | BB50: =IF(OR(AV50>AX50,AV50>=$A$3),AX50+IF(AV50>AX50,1,0)-$A$3,0) -> 0 | BC50: =BB50+BB51 -> 0 | BD50: =IF(AND(WEEKDAY($A50,2)<7,AW50="CP"),1,0) -> 0 | BE50: =IF(AW50="CV",1,0) -> 0 | BF50: =IF(AND(F50>$A$4,F50<$A$2),1,0) -> 0 | BJ50: =MOD(BI50-BG50,1) -> 0 | BK50: =BJ50+BJ51 -> 0 | BL50: =IF(OR(BI49="",BG50=""),0,MOD(BG50-BI49,1)) -> 0 | BM50: =IF(OR(BG50>BI50,BG50>=$A$3),BI50+IF(BG50>BI50,1,0)-$A$3,0) -> 0 | BN50: =BM50+BM51 -> 0 | BO50: =IF(AND(WEEKDAY($A50,2)<7,BH50="CP"),1,0) -> 0 | BP50: =IF(BH50="CV",1,0) -> 0 | BQ50: =IF(AND(F50>$A$4,F50<$A$2),1,0) -> 0
G51: =MOD(F51-D51,1) -> 0 | J51: =IF(OR(D51>F51,D51>=$A$3),F51+IF(D51>F51,1,0)-$A$3,0) -> 0 | N51: =IF(AND(F51>$A$4,F51<$A$2),1,0) -> 0 | R51: =MOD(Q51-O51,1) -> 0 | U51: =IF(OR(O51>Q51,O51>=$A$3),Q51+IF(O51>Q51,1,0)-$A$3,0) -> 0 | Y51: =IF(AND(Q51>$A$4,Q51<$A$2),1,0) -> 0 | AC51: =MOD(AB51-Z51,1) -> 0 | AF51: =IF(OR(Z51>AB51,Z51>=$A$3),AB51+IF(Z51>AB51,1,0)-$A$3,0) -> 0 | AJ51: =IF(AND(F51>$A$4,F51<$A$2),1,0) -> 0 | AN51: =MOD(AM51-AK51,1) -> 0 | AQ51: =IF(OR(AK51>AM51,AK51>=$A$3),AM51+IF(AK51>AM51,1,0)-$A$3,0) -> 0 | AU51: =IF(AND(F51>$A$4,F51<$A$2),1,0) -> 0 | AY51: =MOD(AX51-AV51,1) -> 0 | BB51: =IF(OR(AV51>AX51,AV51>=$A$3),AX51+IF(AV51>AX51,1,0)-$A$3,0) -> 0 | BF51: =IF(AND(F51>$A$4,F51<$A$2),1,0) -> 0 | BJ51: =MOD(BI51-BG51,1) -> 0 | BM51: =IF(OR(BG51>BI51,BG51>=$A$3),BI51+IF(BG51>BI51,1,0)-$A$3,0) -> 0 | BQ51: =IF(AND(F51>$A$4,F51<$A$2),1,0) -> 0
A52: =A50+1 -> 41661 | B52: =UPPER(TEXT(A52,"jjj")) -> MAR | C52: =UPPER(TEXT(A52,"jj mmm")) -> 23 JANV | G52: =MOD(F52-D52,1) -> 0 | H52: =G52+G53 -> 0 | I52: =IF(OR(F51="",D52=""),0,MOD(D52-F51,1)) -> 0 | J52: =IF(OR(D52>F52,D52>=$A$3),F52+IF(D52>F52,1,0)-$A$3,0) -> 0 | K52: =J52+J53 -> 0 | L52: =IF(AND(WEEKDAY($A52,2)<7,E52="CP"),1,0) -> 0 | M52: =IF(E52="CV",1,0) -> 0 | N52: =IF(AND(F52>$A$4,F52<$A$2),1,0) -> 0 | R52: =MOD(Q52-O52,1) -> 0 | S52: =R52+R53 -> 0 | T52: =IF(OR(Q51="",O52=""),0,MOD(O52-Q51,1)) -> 0 | U52: =IF(OR(O52>Q52,O52>=$A$3),Q52+IF(O52>Q52,1,0)-$A$3,0) -> 0 | V52: =U52+U53 -> 0 | W52: =IF(AND(WEEKDAY($A52,2)<7,P52="CP"),1,0) -> 0 | X52: =IF(P52="CV",1,0) -> 0 | Y52: =IF(AND(Q52>$A$4,Q52<$A$2),1,0) -> 0 | AC52: =MOD(AB52-Z52,1) -> 0 | AD52: =AC52+AC53 -> 0 | AE52: =IF(OR(AB51="",Z52=""),0,MOD(Z52-AB51,1)) -> 0 | AF52: =IF(OR(Z52>AB52,Z52>=$A$3),AB52+IF(Z52>AB52,1,0)-$A$3,0) -> 0 | AG52: =AF52+AF53 -> 0 | AH52: =IF(AND(WEEKDAY($A52,2)<7,AA52="CP"),1,0) -> 0 | AI52: =IF(AA52="CV",1,0) -> 0 | AJ52: =IF(AND(F52>$A$4,F52<$A$2),1,0) -> 0 | AN52: =MOD(AM52-AK52,1) -> 0 | AO52: =AN52+AN53 -> 0 | AP52: =IF(OR(AM51="",AK52=""),0,MOD(AK52-AM51,1)) -> 0 | AQ52: =IF(OR(AK52>AM52,AK52>=$A$3),AM52+IF(AK52>AM52,1,0)-$A$3,0) -> 0 | AR52: =AQ52+AQ53 -> 0 | AS52: =IF(AND(WEEKDAY($A52,2)<7,AL52="CP"),1,0) -> 0 | AT52: =IF(AL52="CV",1,0) -> 0 | AU52: =IF(AND(F52>$A$4,F52<$A$2),1,0) -> 0 | AY52: =MOD(AX52-AV52,1) -> 0 | AZ52: =AY52+AY53 -> 0 | BA52: =IF(OR(AX51="",AV52=""),0,MOD(AV52-AX51,1)) -> 0 | BB52: =IF(OR(AV52>AX52,AV52>=$A$3),AX52+IF(AV52>AX52,1,0)-$A$3,0) -> 0 | BC52: =BB52+BB53 -> 0 | BD52: =IF(AND(WEEKDAY($A52,2)<7,AW52="CP"),1,0) -> 0 | BE52: =IF(AW52="CV",1,0) -> 0 | BF52: =IF(AND(F52>$A$4,F52<$A$2),1,0) -> 0 | BJ52: =MOD(BI52-BG52,1) -> 0 | BK52: =BJ52+BJ53 -> 0 | BL52: =IF(OR(BI51="",BG52=""),0,MOD(BG52-BI51,1)) -> 0 | BM52: =IF(OR(BG52>BI52,BG52>=$A$3),BI52+IF(BG52>BI52,1,0)-$A$3,0) -> 0 | BN52: =BM52+BM53 -> 0 | BO52: =IF(AND(WEEKDAY($A52,2)<7,BH52="CP"),1,0) -> 0 | BP52: =IF(BH52="CV",1,0) -> 0 | BQ52: =IF(AND(F52>$A$4,F52<$A$2),1,0) -> 0
G53: =MOD(F53-D53,1) -> 0 | J53: =IF(OR(D53>F53,D53>=$A$3),F53+IF(D53>F53,1,0)-$A$3,0) -> 0 | N53: =IF(AND(F53>$A$4,F53<$A$2),1,0) -> 0 | R53: =MOD(Q53-O53,1) -> 0 | U53: =IF(OR(O53>Q53,O53>=$A$3),Q53+IF(O53>Q53,1,0)-$A$3,0) -> 0 | Y53: =IF(AND(Q53>$A$4,Q53<$A$2),1,0) -> 0 | AC53: =MOD(AB53-Z53,1) -> 0 | AF53: =IF(OR(Z53>AB53,Z53>=$A$3),AB53+IF(Z53>AB53,1,0)-$A$3,0) -> 0 | AJ53: =IF(AND(F53>$A$4,F53<$A$2),1,0) -> 0 | AN53: =MOD(AM53-AK53,1) -> 0 | AQ53: =IF(OR(AK53>AM53,AK53>=$A$3),AM53+IF(AK53>AM53,1,0)-$A$3,0) -> 0 | AU53: =IF(AND(F53>$A$4,F53<$A$2),1,0) -> 0 | AY53: =MOD(AX53-AV53,1) -> 0 | BB53: =IF(OR(AV53>AX53,AV53>=$A$3),AX53+IF(AV53>AX53,1,0)-$A$3,0) -> 0 | BF53: =IF(AND(F53>$A$4,F53<$A$2),1,0) -> 0 | BJ53: =MOD(BI53-BG53,1) -> 0 | BM53: =IF(OR(BG53>BI53,BG53>=$A$3),BI53+IF(BG53>BI53,1,0)-$A$3,0) -> 0 | BQ53: =IF(AND(F53>$A$4,F53<$A$2),1,0) -> 0
A54: =A52+1 -> 41662 | B54: =UPPER(TEXT(A54,"jjj")) -> MER | C54: =UPPER(TEXT(A54,"jj mmm")) -> 24 JANV | G54: =MOD(F54-D54,1) -> 0 | H54: =G54+G55 -> 0 | I54: =IF(OR(F53="",D54=""),0,MOD(D54-F53,1)) -> 0 | J54: =IF(OR(D54>F54,D54>=$A$3),F54+IF(D54>F54,1,0)-$A$3,0) -> 0 | K54: =J54+J55 -> 0 | L54: =IF(AND(WEEKDAY($A54,2)<7,E54="CP"),1,0) -> 0 | M54: =IF(E54="CV",1,0) -> 0 | N54: =IF(AND(F54>$A$4,F54<$A$2),1,0) -> 0 | R54: =MOD(Q54-O54,1) -> 0 | S54: =R54+R55 -> 0 | T54: =IF(OR(Q53="",O54=""),0,MOD(O54-Q53,1)) -> 0 | U54: =IF(OR(O54>Q54,O54>=$A$3),Q54+IF(O54>Q54,1,0)-$A$3,0) -> 0 | V54: =U54+U55 -> 0 | W54: =IF(AND(WEEKDAY($A54,2)<7,P54="CP"),1,0) -> 0 | X54: =IF(P54="CV",1,0) -> 0 | Y54: =IF(AND(Q54>$A$4,Q54<$A$2),1,0) -> 0 | AC54: =MOD(AB54-Z54,1) -> 0 | AD54: =AC54+AC55 -> 0 | AE54: =IF(OR(AB53="",Z54=""),0,MOD(Z54-AB53,1)) -> 0 | AF54: =IF(OR(Z54>AB54,Z54>=$A$3),AB54+IF(Z54>AB54,1,0)-$A$3,0) -> 0 | AG54: =AF54+AF55 -> 0 | AH54: =IF(AND(WEEKDAY($A54,2)<7,AA54="CP"),1,0) -> 0 | AI54: =IF(AA54="CV",1,0) -> 0 | AJ54: =IF(AND(F54>$A$4,F54<$A$2),1,0) -> 0 | AN54: =MOD(AM54-AK54,1) -> 0 | AO54: =AN54+AN55 -> 0 | AP54: =IF(OR(AM53="",AK54=""),0,MOD(AK54-AM53,1)) -> 0 | AQ54: =IF(OR(AK54>AM54,AK54>=$A$3),AM54+IF(AK54>AM54,1,0)-$A$3,0) -> 0 | AR54: =AQ54+AQ55 -> 0 | AS54: =IF(AND(WEEKDAY($A54,2)<7,AL54="CP"),1,0) -> 0 | AT54: =IF(AL54="CV",1,0) -> 0 | AU54: =IF(AND(F54>$A$4,F54<$A$2),1,0) -> 0 | AY54: =MOD(AX54-AV54,1) -> 0 | AZ54: =AY54+AY55 -> 0 | BA54: =IF(OR(AX53="",AV54=""),0,MOD(AV54-AX53,1)) -> 0 | BB54: =IF(OR(AV54>AX54,AV54>=$A$3),AX54+IF(AV54>AX54,1,0)-$A$3,0) -> 0 | BC54: =BB54+BB55 -> 0 | BD54: =IF(AND(WEEKDAY($A54,2)<7,AW54="CP"),1,0) -> 0 | BE54: =IF(AW54="CV",1,0) -> 0 | BF54: =IF(AND(F54>$A$4,F54<$A$2),1,0) -> 0 | BJ54: =MOD(BI54-BG54,1) -> 0 | BK54: =BJ54+BJ55 -> 0 | BL54: =IF(OR(BI53="",BG54=""),0,MOD(BG54-BI53,1)) -> 0 | BM54: =IF(OR(BG54>BI54,BG54>=$A$3),BI54+IF(BG54>BI54,1,0)-$A$3,0) -> 0 | BN54: =BM54+BM55 -> 0 | BO54: =IF(AND(WEEKDAY($A54,2)<7,BH54="CP"),1,0) -> 0 | BP54: =IF(BH54="CV",1,0) -> 0 | BQ54: =IF(AND(F54>$A$4,F54<$A$2),1,0) -> 0
G55: =MOD(F55-D55,1) -> 0 | J55: =IF(OR(D55>F55,D55>=$A$3),F55+IF(D55>F55,1,0)-$A$3,0) -> 0 | N55: =IF(AND(F55>$A$4,F55<$A$2),1,0) -> 0 | R55: =MOD(Q55-O55,1) -> 0 | U55: =IF(OR(O55>Q55,O55>=$A$3),Q55+IF(O55>Q55,1,0)-$A$3,0) -> 0 | Y55: =IF(AND(Q55>$A$4,Q55<$A$2),1,0) -> 0 | AC55: =MOD(AB55-Z55,1) -> 0 | AF55: =IF(OR(Z55>AB55,Z55>=$A$3),AB55+IF(Z55>AB55,1,0)-$A$3,0) -> 0 | AJ55: =IF(AND(F55>$A$4,F55<$A$2),1,0) -> 0 | AN55: =MOD(AM55-AK55,1) -> 0 | AQ55: =IF(OR(AK55>AM55,AK55>=$A$3),AM55+IF(AK55>AM55,1,0)-$A$3,0) -> 0 | AU55: =IF(AND(F55>$A$4,F55<$A$2),1,0) -> 0 | AY55: =MOD(AX55-AV55,1) -> 0 | BB55: =IF(OR(AV55>AX55,AV55>=$A$3),AX55+IF(AV55>AX55,1,0)-$A$3,0) -> 0 | BF55: =IF(AND(F55>$A$4,F55<$A$2),1,0) -> 0 | BJ55: =MOD(BI55-BG55,1) -> 0 | BM55: =IF(OR(BG55>BI55,BG55>=$A$3),BI55+IF(BG55>BI55,1,0)-$A$3,0) -> 0 | BQ55: =IF(AND(F55>$A$4,F55<$A$2),1,0) -> 0
A56: =A54+1 -> 41663 | B56: =UPPER(TEXT(A56,"jjj")) -> JEU | C56: =UPPER(TEXT(A56,"jj mmm")) -> 25 JANV | G56: =MOD(F56-D56,1) -> 0 | H56: =G56+G57 -> 0 | I56: =IF(OR(F55="",D56=""),0,MOD(D56-F55,1)) -> 0 | J56: =IF(OR(D56>F56,D56>=$A$3),F56+IF(D56>F56,1,0)-$A$3,0) -> 0 | K56: =J56+J57 -> 0 | L56: =IF(AND(WEEKDAY($A56,2)<7,E56="CP"),1,0) -> 0 | M56: =IF(E56="CV",1,0) -> 0 | N56: =IF(AND(F56>$A$4,F56<$A$2),1,0) -> 0 | R56: =MOD(Q56-O56,1) -> 0 | S56: =R56+R57 -> 0 | T56: =IF(OR(Q55="",O56=""),0,MOD(O56-Q55,1)) -> 0 | U56: =IF(OR(O56>Q56,O56>=$A$3),Q56+IF(O56>Q56,1,0)-$A$3,0) -> 0 | V56: =U56+U57 -> 0 | W56: =IF(AND(WEEKDAY($A56,2)<7,P56="CP"),1,0) -> 0 | X56: =IF(P56="CV",1,0) -> 0 | Y56: =IF(AND(Q56>$A$4,Q56<$A$2),1,0) -> 0 | AC56: =MOD(AB56-Z56,1) -> 0 | AD56: =AC56+AC57 -> 0 | AE56: =IF(OR(AB55="",Z56=""),0,MOD(Z56-AB55,1)) -> 0 | AF56: =IF(OR(Z56>AB56,Z56>=$A$3),AB56+IF(Z56>AB56,1,0)-$A$3,0) -> 0 | AG56: =AF56+AF57 -> 0 | AH56: =IF(AND(WEEKDAY($A56,2)<7,AA56="CP"),1,0) -> 0 | AI56: =IF(AA56="CV",1,0) -> 0 | AJ56: =IF(AND(F56>$A$4,F56<$A$2),1,0) -> 0 | AN56: =MOD(AM56-AK56,1) -> 0 | AO56: =AN56+AN57 -> 0 | AP56: =IF(OR(AM55="",AK56=""),0,MOD(AK56-AM55,1)) -> 0 | AQ56: =IF(OR(AK56>AM56,AK56>=$A$3),AM56+IF(AK56>AM56,1,0)-$A$3,0) -> 0 | AR56: =AQ56+AQ57 -> 0 | AS56: =IF(AND(WEEKDAY($A56,2)<7,AL56="CP"),1,0) -> 0 | AT56: =IF(AL56="CV",1,0) -> 0 | AU56: =IF(AND(F56>$A$4,F56<$A$2),1,0) -> 0 | AY56: =MOD(AX56-AV56,1) -> 0 | AZ56: =AY56+AY57 -> 0 | BA56: =IF(OR(AX55="",AV56=""),0,MOD(AV56-AX55,1)) -> 0 | BB56: =IF(OR(AV56>AX56,AV56>=$A$3),AX56+IF(AV56>AX56,1,0)-$A$3,0) -> 0 | BC56: =BB56+BB57 -> 0 | BD56: =IF(AND(WEEKDAY($A56,2)<7,AW56="CP"),1,0) -> 0 | BE56: =IF(AW56="CV",1,0) -> 0 | BF56: =IF(AND(F56>$A$4,F56<$A$2),1,0) -> 0 | BJ56: =MOD(BI56-BG56,1) -> 0 | BK56: =BJ56+BJ57 -> 0 | BL56: =IF(OR(BI55="",BG56=""),0,MOD(BG56-BI55,1)) -> 0 | BM56: =IF(OR(BG56>BI56,BG56>=$A$3),BI56+IF(BG56>BI56,1,0)-$A$3,0) -> 0 | BN56: =BM56+BM57 -> 0 | BO56: =IF(AND(WEEKDAY($A56,2)<7,BH56="CP"),1,0) -> 0 | BP56: =IF(BH56="CV",1,0) -> 0 | BQ56: =IF(AND(F56>$A$4,F56<$A$2),1,0) -> 0
G57: =MOD(F57-D57,1) -> 0 | J57: =IF(OR(D57>F57,D57>=$A$3),F57+IF(D57>F57,1,0)-$A$3,0) -> 0 | N57: =IF(AND(F57>$A$4,F57<$A$2),1,0) -> 0 | R57: =MOD(Q57-O57,1) -> 0 | U57: =IF(OR(O57>Q57,O57>=$A$3),Q57+IF(O57>Q57,1,0)-$A$3,0) -> 0 | Y57: =IF(AND(Q57>$A$4,Q57<$A$2),1,0) -> 0 | AC57: =MOD(AB57-Z57,1) -> 0 | AF57: =IF(OR(Z57>AB57,Z57>=$A$3),AB57+IF(Z57>AB57,1,0)-$A$3,0) -> 0 | AJ57: =IF(AND(F57>$A$4,F57<$A$2),1,0) -> 0 | AN57: =MOD(AM57-AK57,1) -> 0 | AQ57: =IF(OR(AK57>AM57,AK57>=$A$3),AM57+IF(AK57>AM57,1,0)-$A$3,0) -> 0 | AU57: =IF(AND(F57>$A$4,F57<$A$2),1,0) -> 0 | AY57: =MOD(AX57-AV57,1) -> 0 | BB57: =IF(OR(AV57>AX57,AV57>=$A$3),AX57+IF(AV57>AX57,1,0)-$A$3,0) -> 0 | BF57: =IF(AND(F57>$A$4,F57<$A$2),1,0) -> 0 | BJ57: =MOD(BI57-BG57,1) -> 0 | BM57: =IF(OR(BG57>BI57,BG57>=$A$3),BI57+IF(BG57>BI57,1,0)-$A$3,0) -> 0 | BQ57: =IF(AND(F57>$A$4,F57<$A$2),1,0) -> 0
A58: =A56+1 -> 41664 | B58: =UPPER(TEXT(A58,"jjj")) -> VEN | C58: =UPPER(TEXT(A58,"jj mmm")) -> 26 JANV | G58: =MOD(F58-D58,1) -> 0 | H58: =G58+G59 -> 0 | I58: =IF(OR(F57="",D58=""),0,MOD(D58-F57,1)) -> 0 | J58: =IF(OR(D58>F58,D58>=$A$3),F58+IF(D58>F58,1,0)-$A$3,0) -> 0 | K58: =J58+J59 -> 0 | L58: =IF(AND(WEEKDAY($A58,2)<7,E58="CP"),1,0) -> 0 | M58: =IF(E58="CV",1,0) -> 0 | N58: =IF(AND(F58>$A$4,F58<$A$2),1,0) -> 0 | R58: =MOD(Q58-O58,1) -> 0 | S58: =R58+R59 -> 0 | T58: =IF(OR(Q57="",O58=""),0,MOD(O58-Q57,1)) -> 0 | U58: =IF(OR(O58>Q58,O58>=$A$3),Q58+IF(O58>Q58,1,0)-$A$3,0) -> 0 | V58: =U58+U59 -> 0 | W58: =IF(AND(WEEKDAY($A58,2)<7,P58="CP"),1,0) -> 0 | X58: =IF(P58="CV",1,0) -> 0 | Y58: =IF(AND(Q58>$A$4,Q58<$A$2),1,0) -> 0 | AC58: =MOD(AB58-Z58,1) -> 0 | AD58: =AC58+AC59 -> 0 | AE58: =IF(OR(AB57="",Z58=""),0,MOD(Z58-AB57,1)) -> 0 | AF58: =IF(OR(Z58>AB58,Z58>=$A$3),AB58+IF(Z58>AB58,1,0)-$A$3,0) -> 0 | AG58: =AF58+AF59 -> 0 | AH58: =IF(AND(WEEKDAY($A58,2)<7,AA58="CP"),1,0) -> 0 | AI58: =IF(AA58="CV",1,0) -> 0 | AJ58: =IF(AND(F58>$A$4,F58<$A$2),1,0) -> 0 | AN58: =MOD(AM58-AK58,1) -> 0 | AO58: =AN58+AN59 -> 0 | AP58: =IF(OR(AM57="",AK58=""),0,MOD(AK58-AM57,1)) -> 0 | AQ58: =IF(OR(AK58>AM58,AK58>=$A$3),AM58+IF(AK58>AM58,1,0)-$A$3,0) -> 0 | AR58: =AQ58+AQ59 -> 0 | AS58: =IF(AND(WEEKDAY($A58,2)<7,AL58="CP"),1,0) -> 0 | AT58: =IF(AL58="CV",1,0) -> 0 | AU58: =IF(AND(F58>$A$4,F58<$A$2),1,0) -> 0 | AY58: =MOD(AX58-AV58,1) -> 0 | AZ58: =AY58+AY59 -> 0 | BA58: =IF(OR(AX57="",AV58=""),0,MOD(AV58-AX57,1)) -> 0 | BB58: =IF(OR(AV58>AX58,AV58>=$A$3),AX58+IF(AV58>AX58,1,0)-$A$3,0) -> 0 | BC58: =BB58+BB59 -> 0 | BD58: =IF(AND(WEEKDAY($A58,2)<7,AW58="CP"),1,0) -> 0 | BE58: =IF(AW58="CV",1,0) -> 0 | BF58: =IF(AND(F58>$A$4,F58<$A$2),1,0) -> 0 | BJ58: =MOD(BI58-BG58,1) -> 0 | BK58: =BJ58+BJ59 -> 0 | BL58: =IF(OR(BI57="",BG58=""),0,MOD(BG58-BI57,1)) -> 0 | BM58: =IF(OR(BG58>BI58,BG58>=$A$3),BI58+IF(BG58>BI58,1,0)-$A$3,0) -> 0 | BN58: =BM58+BM59 -> 0 | BO58: =IF(AND(WEEKDAY($A58,2)<7,BH58="CP"),1,0) -> 0 | BP58: =IF(BH58="CV",1,0) -> 0 | BQ58: =IF(AND(F58>$A$4,F58<$A$2),1,0) -> 0
G59: =MOD(F59-D59,1) -> 0 | J59: =IF(OR(D59>F59,D59>=$A$3),F59+IF(D59>F59,1,0)-$A$3,0) -> 0 | N59: =IF(AND(F59>$A$4,F59<$A$2),1,0) -> 0 | R59: =MOD(Q59-O59,1) -> 0 | U59: =IF(OR(O59>Q59,O59>=$A$3),Q59+IF(O59>Q59,1,0)-$A$3,0) -> 0 | Y59: =IF(AND(Q59>$A$4,Q59<$A$2),1,0) -> 0 | AC59: =MOD(AB59-Z59,1) -> 0 | AF59: =IF(OR(Z59>AB59,Z59>=$A$3),AB59+IF(Z59>AB59,1,0)-$A$3,0) -> 0 | AJ59: =IF(AND(F59>$A$4,F59<$A$2),1,0) -> 0 | AN59: =MOD(AM59-AK59,1) -> 0 | AQ59: =IF(OR(AK59>AM59,AK59>=$A$3),AM59+IF(AK59>AM59,1,0)-$A$3,0) -> 0 | AU59: =IF(AND(F59>$A$4,F59<$A$2),1,0) -> 0 | AY59: =MOD(AX59-AV59,1) -> 0 | BB59: =IF(OR(AV59>AX59,AV59>=$A$3),AX59+IF(AV59>AX59,1,0)-$A$3,0) -> 0 | BF59: =IF(AND(F59>$A$4,F59<$A$2),1,0) -> 0 | BJ59: =MOD(BI59-BG59,1) -> 0 | BM59: =IF(OR(BG59>BI59,BG59>=$A$3),BI59+IF(BG59>BI59,1,0)-$A$3,0) -> 0 | BQ59: =IF(AND(F59>$A$4,F59<$A$2),1,0) -> 0
A60: =A58+1 -> 41665 | B60: =UPPER(TEXT(A60,"jjj")) -> SAM | C60: =UPPER(TEXT(A60,"jj mmm")) -> 27 JANV | G60: =MOD(F60-D60,1) -> 0 | H60: =G60+G61 -> 0 | I60: =IF(OR(F59="",D60=""),0,MOD(D60-F59,1)) -> 0 | J60: =IF(OR(D60>F60,D60>=$A$3),F60+IF(D60>F60,1,0)-$A$3,0) -> 0 | K60: =J60+J61 -> 0 | L60: =IF(AND(WEEKDAY($A60,2)<7,E60="CP"),1,0) -> 0 | M60: =IF(E60="CV",1,0) -> 0 | N60: =IF(AND(F60>$A$4,F60<$A$2),1,0) -> 0 | R60: =MOD(Q60-O60,1) -> 0 | S60: =R60+R61 -> 0 | T60: =IF(OR(Q59="",O60=""),0,MOD(O60-Q59,1)) -> 0 | U60: =IF(OR(O60>Q60,O60>=$A$3),Q60+IF(O60>Q60,1,0)-$A$3,0) -> 0 | V60: =U60+U61 -> 0 | W60: =IF(AND(WEEKDAY($A60,2)<7,P60="CP"),1,0) -> 0 | X60: =IF(P60="CV",1,0) -> 0 | Y60: =IF(AND(Q60>$A$4,Q60<$A$2),1,0) -> 0 | AC60: =MOD(AB60-Z60,1) -> 0 | AD60: =AC60+AC61 -> 0 | AE60: =IF(OR(AB59="",Z60=""),0,MOD(Z60-AB59,1)) -> 0 | AF60: =IF(OR(Z60>AB60,Z60>=$A$3),AB60+IF(Z60>AB60,1,0)-$A$3,0) -> 0 | AG60: =AF60+AF61 -> 0 | AH60: =IF(AND(WEEKDAY($A60,2)<7,AA60="CP"),1,0) -> 0 | AI60: =IF(AA60="CV",1,0) -> 0 | AJ60: =IF(AND(F60>$A$4,F60<$A$2),1,0) -> 0 | AN60: =MOD(AM60-AK60,1) -> 0 | AO60: =AN60+AN61 -> 0 | AP60: =IF(OR(AM59="",AK60=""),0,MOD(AK60-AM59,1)) -> 0 | AQ60: =IF(OR(AK60>AM60,AK60>=$A$3),AM60+IF(AK60>AM60,1,0)-$A$3,0) -> 0 | AR60: =AQ60+AQ61 -> 0 | AS60: =IF(AND(WEEKDAY($A60,2)<7,AL60="CP"),1,0) -> 0 | AT60: =IF(AL60="CV",1,0) -> 0 | AU60: =IF(AND(F60>$A$4,F60<$A$2),1,0) -> 0 | AY60: =MOD(AX60-AV60,1) -> 0 | AZ60: =AY60+AY61 -> 0 | BA60: =IF(OR(AX59="",AV60=""),0,MOD(AV60-AX59,1)) -> 0 | BB60: =IF(OR(AV60>AX60,AV60>=$A$3),AX60+IF(AV60>AX60,1,0)-$A$3,0) -> 0 | BC60: =BB60+BB61 -> 0 | BD60: =IF(AND(WEEKDAY($A60,2)<7,AW60="CP"),1,0) -> 0 | BE60: =IF(AW60="CV",1,0) -> 0 | BF60: =IF(AND(F60>$A$4,F60<$A$2),1,0) -> 0 | BJ60: =MOD(BI60-BG60,1) -> 0 | BK60: =BJ60+BJ61 -> 0 | BL60: =IF(OR(BI59="",BG60=""),0,MOD(BG60-BI59,1)) -> 0 | BM60: =IF(OR(BG60>BI60,BG60>=$A$3),BI60+IF(BG60>BI60,1,0)-$A$3,0) -> 0 | BN60: =BM60+BM61 -> 0 | BO60: =IF(AND(WEEKDAY($A60,2)<7,BH60="CP"),1,0) -> 0 | BP60: =IF(BH60="CV",1,0) -> 0 | BQ60: =IF(AND(F60>$A$4,F60<$A$2),1,0) -> 0
G61: =MOD(F61-D61,1) -> 0 | J61: =IF(OR(D61>F61,D61>=$A$3),F61+IF(D61>F61,1,0)-$A$3,0) -> 0 | N61: =IF(AND(F61>$A$4,F61<$A$2),1,0) -> 0 | R61: =MOD(Q61-O61,1) -> 0 | U61: =IF(OR(O61>Q61,O61>=$A$3),Q61+IF(O61>Q61,1,0)-$A$3,0) -> 0 | Y61: =IF(AND(Q61>$A$4,Q61<$A$2),1,0) -> 0 | AC61: =MOD(AB61-Z61,1) -> 0 | AF61: =IF(OR(Z61>AB61,Z61>=$A$3),AB61+IF(Z61>AB61,1,0)-$A$3,0) -> 0 | AJ61: =IF(AND(F61>$A$4,F61<$A$2),1,0) -> 0 | AN61: =MOD(AM61-AK61,1) -> 0 | AQ61: =IF(OR(AK61>AM61,AK61>=$A$3),AM61+IF(AK61>AM61,1,0)-$A$3,0) -> 0 | AU61: =IF(AND(F61>$A$4,F61<$A$2),1,0) -> 0 | AY61: =MOD(AX61-AV61,1) -> 0 | BB61: =IF(OR(AV61>AX61,AV61>=$A$3),AX61+IF(AV61>AX61,1,0)-$A$3,0) -> 0 | BF61: =IF(AND(F61>$A$4,F61<$A$2),1,0) -> 0 | BJ61: =MOD(BI61-BG61,1) -> 0 | BM61: =IF(OR(BG61>BI61,BG61>=$A$3),BI61+IF(BG61>BI61,1,0)-$A$3,0) -> 0 | BQ61: =IF(AND(F61>$A$4,F61<$A$2),1,0) -> 0
A62: =A60+1 -> 41666 | B62: =UPPER(TEXT(A62,"jjj")) -> DIM | C62: =UPPER(TEXT(A62,"jj mmm")) -> 28 JANV | G62: =MOD(F62-D62,1) -> 0 | H62: =G62+G63 -> 0 | I62: =IF(OR(F61="",D62=""),0,MOD(D62-F61,1)) -> 0 | J62: =IF(OR(D62>F62,D62>=$A$3),F62+IF(D62>F62,1,0)-$A$3,0) -> 0 | K62: =J62+J63 -> 0 | L62: =IF(AND(WEEKDAY($A62,2)<7,E62="CP"),1,0) -> 0 | M62: =IF(E62="CV",1,0) -> 0 | N62: =IF(AND(F62>$A$4,F62<$A$2),1,0) -> 0 | R62: =MOD(Q62-O62,1) -> 0 | S62: =R62+R63 -> 0 | T62: =IF(OR(Q61="",O62=""),0,MOD(O62-Q61,1)) -> 0 | U62: =IF(OR(O62>Q62,O62>=$A$3),Q62+IF(O62>Q62,1,0)-$A$3,0) -> 0 | V62: =U62+U63 -> 0 | W62: =IF(AND(WEEKDAY($A62,2)<7,P62="CP"),1,0) -> 0 | X62: =IF(P62="CV",1,0) -> 0 | Y62: =IF(AND(Q62>$A$4,Q62<$A$2),1,0) -> 0 | AC62: =MOD(AB62-Z62,1) -> 0 | AD62: =AC62+AC63 -> 0 | AE62: =IF(OR(AB61="",Z62=""),0,MOD(Z62-AB61,1)) -> 0 | AF62: =IF(OR(Z62>AB62,Z62>=$A$3),AB62+IF(Z62>AB62,1,0)-$A$3,0) -> 0 | AG62: =AF62+AF63 -> 0 | AH62: =IF(AND(WEEKDAY($A62,2)<7,AA62="CP"),1,0) -> 0 | AI62: =IF(AA62="CV",1,0) -> 0 | AJ62: =IF(AND(F62>$A$4,F62<$A$2),1,0) -> 0 | AN62: =MOD(AM62-AK62,1) -> 0 | AO62: =AN62+AN63 -> 0 | AP62: =IF(OR(AM61="",AK62=""),0,MOD(AK62-AM61,1)) -> 0 | AQ62: =IF(OR(AK62>AM62,AK62>=$A$3),AM62+IF(AK62>AM62,1,0)-$A$3,0) -> 0 | AR62: =AQ62+AQ63 -> 0 | AS62: =IF(AND(WEEKDAY($A62,2)<7,AL62="CP"),1,0) -> 0 | AT62: =IF(AL62="CV",1,0) -> 0 | AU62: =IF(AND(F62>$A$4,F62<$A$2),1,0) -> 0 | AY62: =MOD(AX62-AV62,1) -> 0 | AZ62: =AY62+AY63 -> 0 | BA62: =IF(OR(AX61="",AV62=""),0,MOD(AV62-AX61,1)) -> 0 | BB62: =IF(OR(AV62>AX62,AV62>=$A$3),AX62+IF(AV62>AX62,1,0)-$A$3,0) -> 0 | BC62: =BB62+BB63 -> 0 | BD62: =IF(AND(WEEKDAY($A62,2)<7,AW62="CP"),1,0) -> 0 | BE62: =IF(AW62="CV",1,0) -> 0 | BF62: =IF(AND(F62>$A$4,F62<$A$2),1,0) -> 0 | BJ62: =MOD(BI62-BG62,1) -> 0 | BK62: =BJ62+BJ63 -> 0 | BL62: =IF(OR(BI61="",BG62=""),0,MOD(BG62-BI61,1)) -> 0 | BM62: =IF(OR(BG62>BI62,BG62>=$A$3),BI62+IF(BG62>BI62,1,0)-$A$3,0) -> 0 | BN62: =BM62+BM63 -> 0 | BO62: =IF(AND(WEEKDAY($A62,2)<7,BH62="CP"),1,0) -> 0 | BP62: =IF(BH62="CV",1,0) -> 0 | BQ62: =IF(AND(F62>$A$4,F62<$A$2),1,0) -> 0
G63: =MOD(F63-D63,1) -> 0 | J63: =IF(OR(D63>F63,D63>=$A$3),F63+IF(D63>F63,1,0)-$A$3,0) -> 0 | N63: =IF(AND(F63>$A$4,F63<$A$2),1,0) -> 0 | R63: =MOD(Q63-O63,1) -> 0 | U63: =IF(OR(O63>Q63,O63>=$A$3),Q63+IF(O63>Q63,1,0)-$A$3,0) -> 0 | Y63: =IF(AND(Q63>$A$4,Q63<$A$2),1,0) -> 0 | AC63: =MOD(AB63-Z63,1) -> 0 | AF63: =IF(OR(Z63>AB63,Z63>=$A$3),AB63+IF(Z63>AB63,1,0)-$A$3,0) -> 0 | AJ63: =IF(AND(F63>$A$4,F63<$A$2),1,0) -> 0 | AN63: =MOD(AM63-AK63,1) -> 0 | AQ63: =IF(OR(AK63>AM63,AK63>=$A$3),AM63+IF(AK63>AM63,1,0)-$A$3,0) -> 0 | AU63: =IF(AND(F63>$A$4,F63<$A$2),1,0) -> 0 | AY63: =MOD(AX63-AV63,1) -> 0 | BB63: =IF(OR(AV63>AX63,AV63>=$A$3),AX63+IF(AV63>AX63,1,0)-$A$3,0) -> 0 | BF63: =IF(AND(F63>$A$4,F63<$A$2),1,0) -> 0 | BJ63: =MOD(BI63-BG63,1) -> 0 | BM63: =IF(OR(BG63>BI63,BG63>=$A$3),BI63+IF(BG63>BI63,1,0)-$A$3,0) -> 0 | BQ63: =IF(AND(F63>$A$4,F63<$A$2),1,0) -> 0
A64: =A62+1 -> 41667 | B64: =UPPER(TEXT(A64,"jjj")) -> LUN | C64: =UPPER(TEXT(A64,"jj mmm")) -> 29 JANV | G64: =MOD(F64-D64,1) -> 0 | H64: =G64+G65 -> 0 | I64: =IF(OR(F63="",D64=""),0,MOD(D64-F63,1)) -> 0 | J64: =IF(OR(D64>F64,D64>=$A$3),F64+IF(D64>F64,1,0)-$A$3,0) -> 0 | K64: =J64+J65 -> 0 | L64: =IF(AND(WEEKDAY($A64,2)<7,E64="CP"),1,0) -> 0 | M64: =IF(E64="CV",1,0) -> 0 | N64: =IF(AND(F64>$A$4,F64<$A$2),1,0) -> 0 | R64: =MOD(Q64-O64,1) -> 0 | S64: =R64+R65 -> 0 | T64: =IF(OR(Q63="",O64=""),0,MOD(O64-Q63,1)) -> 0 | U64: =IF(OR(O64>Q64,O64>=$A$3),Q64+IF(O64>Q64,1,0)-$A$3,0) -> 0 | V64: =U64+U65 -> 0 | W64: =IF(AND(WEEKDAY($A64,2)<7,P64="CP"),1,0) -> 0 | X64: =IF(P64="CV",1,0) -> 0 | Y64: =IF(AND(Q64>$A$4,Q64<$A$2),1,0) -> 0 | AC64: =MOD(AB64-Z64,1) -> 0 | AD64: =AC64+AC65 -> 0 | AE64: =IF(OR(AB63="",Z64=""),0,MOD(Z64-AB63,1)) -> 0 | AF64: =IF(OR(Z64>AB64,Z64>=$A$3),AB64+IF(Z64>AB64,1,0)-$A$3,0) -> 0 | AG64: =AF64+AF65 -> 0 | AH64: =IF(AND(WEEKDAY($A64,2)<7,AA64="CP"),1,0) -> 0 | AI64: =IF(AA64="CV",1,0) -> 0 | AJ64: =IF(AND(F64>$A$4,F64<$A$2),1,0) -> 0 | AN64: =MOD(AM64-AK64,1) -> 0 | AO64: =AN64+AN65 -> 0 | AP64: =IF(OR(AM63="",AK64=""),0,MOD(AK64-AM63,1)) -> 0 | AQ64: =IF(AN64=0,0,IF(MOD($F64<$A$3,1),0,MOD($F64-$A$3,1))) -> 0 | AR64: =AQ64+AQ65 -> 0 | AS64: =IF(AND(WEEKDAY($A64,2)<7,AL64="CP"),1,0) -> 0 | AT64: =IF(AL64="CV",1,0) -> 0 | AU64: =IF(AND(F64>$A$4,F64<$A$2),1,0) -> 0 | AY64: =MOD(AX64-AV64,1) -> 0 | AZ64: =AY64+AY65 -> 0 | BA64: =IF(OR(AX63="",AV64=""),0,MOD(AV64-AX63,1)) -> 0 | BB64: =IF(AY64=0,0,IF(MOD($F64<$A$3,1),0,MOD($F64-$A$3,1))) -> 0 | BC64: =BB64+BB65 -> 0 | BD64: =IF(AND(WEEKDAY($A64,2)<7,AW64="CP"),1,0) -> 0 | BE64: =IF(AW64="CV",1,0) -> 0 | BF64: =IF(AND(F64>$A$4,F64<$A$2),1,0) -> 0 | BJ64: =MOD(BI64-BG64,1) -> 0 | BK64: =BJ64+BJ65 -> 0 | BL64: =IF(OR(BI63="",BG64=""),0,MOD(BG64-BI63,1)) -> 0 | BM64: =IF(BJ64=0,0,IF(MOD($F64<$A$3,1),0,MOD($F64-$A$3,1))) -> 0 | BN64: =BM64+BM65 -> 0 | BO64: =IF(AND(WEEKDAY($A64,2)<7,BH64="CP"),1,0) -> 0 | BP64: =IF(BH64="CV",1,0) -> 0 | BQ64: =IF(AND(F64>$A$4,F64<$A$2),1,0) -> 0
G65: =MOD(F65-D65,1) -> 0 | J65: =IF(OR(D65>F65,D65>=$A$3),F65+IF(D65>F65,1,0)-$A$3,0) -> 0 | N65: =IF(AND(F65>$A$4,F65<$A$2),1,0) -> 0 | R65: =MOD(Q65-O65,1) -> 0 | U65: =IF(OR(O65>Q65,O65>=$A$3),Q65+IF(O65>Q65,1,0)-$A$3,0) -> 0 | Y65: =IF(AND(Q65>$A$4,Q65<$A$2),1,0) -> 0 | AC65: =MOD(AB65-Z65,1) -> 0 | AF65: =IF(OR(Z65>AB65,Z65>=$A$3),AB65+IF(Z65>AB65,1,0)-$A$3,0) -> 0 | AJ65: =IF(AND(F65>$A$4,F65<$A$2),1,0) -> 0 | AN65: =MOD(AM65-AK65,1) -> 0 | AQ65: =IF(AN65=0,0,IF(MOD($F65<$A$3,1),0,MOD($F65-$A$3,1))) -> 0 | AU65: =IF(AND(F65>$A$4,F65<$A$2),1,0) -> 0 | AY65: =MOD(AX65-AV65,1) -> 0 | BB65: =IF(AY65=0,0,IF(MOD($F65<$A$3,1),0,MOD($F65-$A$3,1))) -> 0 | BF65: =IF(AND(F65>$A$4,F65<$A$2),1,0) -> 0 | BJ65: =MOD(BI65-BG65,1) -> 0 | BM65: =IF(BJ65=0,0,IF(MOD($F65<$A$3,1),0,MOD($F65-$A$3,1))) -> 0 | BQ65: =IF(AND(F65>$A$4,F65<$A$2),1,0) -> 0
A66: =A64+1 -> 41668 | B66: =UPPER(TEXT(A66,"jjj")) -> MAR | C66: =UPPER(TEXT(A66,"jj mmm")) -> 30 JANV | G66: =MOD(F66-D66,1) -> 0 | H66: =G66+G67 -> 0 | I66: =IF(OR(F65="",D66=""),0,MOD(D66-F65,1)) -> 0 | J66: =IF(OR(D66>F66,D66>=$A$3),F66+IF(D66>F66,1,0)-$A$3,0) -> 0 | K66: =J66+J67 -> 0 | L66: =IF(AND(WEEKDAY($A66,2)<7,E66="CP"),1,0) -> 0 | M66: =IF(E66="CV",1,0) -> 0 | N66: =IF(AND(F66>$A$4,F66<$A$2),1,0) -> 0 | R66: =MOD(Q66-O66,1) -> 0 | S66: =R66+R67 -> 0 | T66: =IF(OR(Q65="",O66=""),0,MOD(O66-Q65,1)) -> 0 | U66: =IF(OR(O66>Q66,O66>=$A$3),Q66+IF(O66>Q66,1,0)-$A$3,0) -> 0 | V66: =U66+U67 -> 0 | W66: =IF(AND(WEEKDAY($A66,2)<7,P66="CP"),1,0) -> 0 | X66: =IF(P66="CV",1,0) -> 0 | Y66: =IF(AND(Q66>$A$4,Q66<$A$2),1,0) -> 0 | AC66: =MOD(AB66-Z66,1) -> 0 | AD66: =AC66+AC67 -> 0 | AE66: =IF(OR(AB65="",Z66=""),0,MOD(Z66-AB65,1)) -> 0 | AF66: =IF(OR(Z66>AB66,Z66>=$A$3),AB66+IF(Z66>AB66,1,0)-$A$3,0) -> 0 | AG66: =AF66+AF67 -> 0 | AH66: =IF(AND(WEEKDAY($A66,2)<7,AA66="CP"),1,0) -> 0 | AI66: =IF(AA66="CV",1,0) -> 0 | AJ66: =IF(AND(F66>$A$4,F66<$A$2),1,0) -> 0 | AN66: =MOD(AM66-AK66,1) -> 0 | AO66: =AN66+AN67 -> 0 | AP66: =IF(OR(AM65="",AK66=""),0,MOD(AK66-AM65,1)) -> 0 | AQ66: =IF(AN66=0,0,IF(MOD($F66<$A$3,1),0,MOD($F66-$A$3,1))) -> 0 | AR66: =AQ66+AQ67 -> 0 | AS66: =IF(AND(WEEKDAY($A66,2)<7,AL66="CP"),1,0) -> 0 | AT66: =IF(AL66="CV",1,0) -> 0 | AU66: =IF(AND(F66>$A$4,F66<$A$2),1,0) -> 0 | AY66: =MOD(AX66-AV66,1) -> 0 | AZ66: =AY66+AY67 -> 0 | BA66: =IF(OR(AX65="",AV66=""),0,MOD(AV66-AX65,1)) -> 0 | BB66: =IF(AY66=0,0,IF(MOD($F66<$A$3,1),0,MOD($F66-$A$3,1))) -> 0 | BC66: =BB66+BB67 -> 0 | BD66: =IF(AND(WEEKDAY($A66,2)<7,AW66="CP"),1,0) -> 0 | BE66: =IF(AW66="CV",1,0) -> 0 | BF66: =IF(AND(F66>$A$4,F66<$A$2),1,0) -> 0 | BJ66: =MOD(BI66-BG66,1) -> 0 | BK66: =BJ66+BJ67 -> 0 | BL66: =IF(OR(BI65="",BG66=""),0,MOD(BG66-BI65,1)) -> 0 | BM66: =IF(BJ66=0,0,IF(MOD($F66<$A$3,1),0,MOD($F66-$A$3,1))) -> 0 | BN66: =BM66+BM67 -> 0 | BO66: =IF(AND(WEEKDAY($A66,2)<7,BH66="CP"),1,0) -> 0 | BP66: =IF(BH66="CV",1,0) -> 0 | BQ66: =IF(AND(F66>$A$4,F66<$A$2),1,0) -> 0
G67: =MOD(F67-D67,1) -> 0 | J67: =IF(OR(D67>F67,D67>=$A$3),F67+IF(D67>F67,1,0)-$A$3,0) -> 0 | N67: =IF(AND(F67>$A$4,F67<$A$2),1,0) -> 0 | R67: =MOD(Q67-O67,1) -> 0 | U67: =IF(OR(O67>Q67,O67>=$A$3),Q67+IF(O67>Q67,1,0)-$A$3,0) -> 0 | Y67: =IF(AND(Q67>$A$4,Q67<$A$2),1,0) -> 0 | AC67: =MOD(AB67-Z67,1) -> 0 | AF67: =IF(OR(Z67>AB67,Z67>=$A$3),AB67+IF(Z67>AB67,1,0)-$A$3,0) -> 0 | AJ67: =IF(AND(F67>$A$4,F67<$A$2),1,0) -> 0 | AN67: =MOD(AM67-AK67,1) -> 0 | AQ67: =IF(AN67=0,0,IF(MOD($F67<$A$3,1),0,MOD($F67-$A$3,1))) -> 0 | AU67: =IF(AND(F67>$A$4,F67<$A$2),1,0) -> 0 | AY67: =MOD(AX67-AV67,1) -> 0 | BB67: =IF(AY67=0,0,IF(MOD($F67<$A$3,1),0,MOD($F67-$A$3,1))) -> 0 | BF67: =IF(AND(F67>$A$4,F67<$A$2),1,0) -> 0 | BJ67: =MOD(BI67-BG67,1) -> 0 | BM67: =IF(BJ67=0,0,IF(MOD($F67<$A$3,1),0,MOD($F67-$A$3,1))) -> 0 | BQ67: =IF(AND(F67>$A$4,F67<$A$2),1,0) -> 0
A68: =A66+1 -> 41669 | B68: =UPPER(TEXT(A68,"jjj")) -> MER | C68: =UPPER(TEXT(A68,"jj mmm")) -> 31 JANV | G68: =MOD(F68-D68,1) -> 0 | H68: =G68+G69 -> 0 | I68: =IF(OR(F67="",D68=""),0,MOD(D68-F67,1)) -> 0 | J68: =IF(OR(D68>F68,D68>=$A$3),F68+IF(D68>F68,1,0)-$A$3,0) -> 0 | K68: =J68+J69 -> 0 | L68: =IF(AND(WEEKDAY($A68,2)<7,E68="CP"),1,0) -> 0 | M68: =IF(E68="CV",1,0) -> 0 | N68: =IF(AND(F68>$A$4,F68<$A$2),1,0) -> 0 | R68: =MOD(Q68-O68,1) -> 0 | S68: =R68+R69 -> 0 | T68: =IF(OR(Q67="",O68=""),0,MOD(O68-Q67,1)) -> 0 | U68: =IF(OR(O68>Q68,O68>=$A$3),Q68+IF(O68>Q68,1,0)-$A$3,0) -> 0 | V68: =U68+U69 -> 0 | W68: =IF(AND(WEEKDAY($A68,2)<7,P68="CP"),1,0) -> 0 | X68: =IF(P68="CV",1,0) -> 0 | Y68: =IF(AND(Q68>$A$4,Q68<$A$2),1,0) -> 0 | AC68: =MOD(AB68-Z68,1) -> 0 | AD68: =AC68+AC69 -> 0 | AE68: =IF(OR(AB67="",Z68=""),0,MOD(Z68-AB67,1)) -> 0 | AF68: =IF(OR(Z68>AB68,Z68>=$A$3),AB68+IF(Z68>AB68,1,0)-$A$3,0) -> 0 | AG68: =AF68+AF69 -> 0 | AH68: =IF(AND(WEEKDAY($A68,2)<7,AA68="CP"),1,0) -> 0 | AI68: =IF(AA68="CV",1,0) -> 0 | AJ68: =IF(AND(F68>$A$4,F68<$A$2),1,0) -> 0 | AN68: =MOD(AM68-AK68,1) -> 0 | AO68: =AN68+AN69 -> 0 | AP68: =IF(OR(AM67="",AK68=""),0,MOD(AK68-AM67,1)) -> 0 | AQ68: =IF(AN68=0,0,IF(MOD($F68<$A$3,1),0,MOD($F68-$A$3,1))) -> 0 | AR68: =AQ68+AQ69 -> 0 | AS68: =IF(AND(WEEKDAY($A68,2)<7,AL68="CP"),1,0) -> 0 | AT68: =IF(AL68="CV",1,0) -> 0 | AU68: =IF(AND(F68>$A$4,F68<$A$2),1,0) -> 0 | AY68: =MOD(AX68-AV68,1) -> 0 | AZ68: =AY68+AY69 -> 0 | BA68: =IF(OR(AX67="",AV68=""),0,MOD(AV68-AX67,1)) -> 0 | BB68: =IF(AY68=0,0,IF(MOD($F68<$A$3,1),0,MOD($F68-$A$3,1))) -> 0 | BC68: =BB68+BB69 -> 0 | BD68: =IF(AND(WEEKDAY($A68,2)<7,AW68="CP"),1,0) -> 0 | BE68: =IF(AW68="CV",1,0) -> 0 | BF68: =IF(AND(F68>$A$4,F68<$A$2),1,0) -> 0 | BJ68: =MOD(BI68-BG68,1) -> 0 | BK68: =BJ68+BJ69 -> 0 | BL68: =IF(OR(BI67="",BG68=""),0,MOD(BG68-BI67,1)) -> 0 | BM68: =IF(BJ68=0,0,IF(MOD($F68<$A$3,1),0,MOD($F68-$A$3,1))) -> 0 | BN68: =BM68+BM69 -> 0 | BO68: =IF(AND(WEEKDAY($A68,2)<7,BH68="CP"),1,0) -> 0 | BP68: =IF(BH68="CV",1,0) -> 0 | BQ68: =IF(AND(F68>$A$4,F68<$A$2),1,0) -> 0
G69: =MOD(F69-D69,1) -> 0 | J69: =IF(OR(D69>F69,D69>=$A$3),F69+IF(D69>F69,1,0)-$A$3,0) -> 0 | N69: =IF(AND(F69>$A$4,F69<$A$2),1,0) -> 0 | R69: =MOD(Q69-O69,1) -> 0 | U69: =IF(OR(O69>Q69,O69>=$A$3),Q69+IF(O69>Q69,1,0)-$A$3,0) -> 0 | Y69: =IF(AND(Q69>$A$4,Q69<$A$2),1,0) -> 0 | AC69: =MOD(AB69-Z69,1) -> 0 | AF69: =IF(OR(Z69>AB69,Z69>=$A$3),AB69+IF(Z69>AB69,1,0)-$A$3,0) -> 0 | AJ69: =IF(AND(F69>$A$4,F69<$A$2),1,0) -> 0 | AN69: =MOD(AM69-AK69,1) -> 0 | AQ69: =IF(AN69=0,0,IF(MOD($F69<$A$3,1),0,MOD($F69-$A$3,1))) -> 0 | AU69: =IF(AND(F69>$A$4,F69<$A$2),1,0) -> 0 | AY69: =MOD(AX69-AV69,1) -> 0 | BB69: =IF(AY69=0,0,IF(MOD($F69<$A$3,1),0,MOD($F69-$A$3,1))) -> 0 | BF69: =IF(AND(F69>$A$4,F69<$A$2),1,0) -> 0 | BJ69: =MOD(BI69-BG69,1) -> 0 | BM69: =IF(BJ69=0,0,IF(MOD($F69<$A$3,1),0,MOD($F69-$A$3,1))) -> 0 | BQ69: =IF(AND(F69>$A$4,F69<$A$2),1,0) -> 0
D70: CUMUL MOIS | G70: =SUM(G8:G68) -> 0 | H70: =SUM(H8:H69) -> 0 | J70: =SUM(J8:J69) -> 0 | K70: =SUM(K8:K69) -> 0 | L70: =SUM(L8:L68) -> 0 | M70: =SUM(M8:M68) -> 0 | N70: =SUM(N8:N68) -> 0 | O70: CUMUL MOIS | R70: =SUM(R8:R68) -> 0 | S70: =SUM(S8:S69) -> 0 | U70: =SUM(U8:U69) -> 0 | V70: =SUM(V8:V69) -> 0 | W70: =SUM(W8:W68) -> 0 | X70: =SUM(X8:X68) -> 0 | Y70: =SUM(Y8:Y68) -> 0 | Z70: CUMUL MOIS | AC70: =SUM(AC8:AC68) -> 0 | AD70: =SUM(AD8:AD69) -> 0 | AF70: =SUM(AF8:AF69) -> 0 | AG70: =SUM(AG8:AG69) -> 0 | AH70: =SUM(AH8:AH68) -> 0 | AI70: =SUM(AI8:AI68) -> 0 | AJ70: =SUM(AJ8:AJ68) -> 0 | AK70: CUMUL MOIS | AN70: =SUM(AN8:AN68) -> 0 | AO70: =SUM(AO8:AO69) -> 0 | AQ70: =SUM(AQ8:AQ69) -> 0 | AR70: =SUM(AR8:AR69) -> 0 | AS70: =SUM(AS8:AS68) -> 0 | AT70: =SUM(AT8:AT68) -> 0 | AU70: =SUM(AU8:AU68) -> 0 | AV70: CUMUL MOIS | AY70: =SUM(AY8:AY68) -> 0 | AZ70: =SUM(AZ8:AZ69) -> 0 | BB70: =SUM(BB8:BB69) -> 0 | BC70: =SUM(BC8:BC69) -> 0 | BD70: =SUM(BD8:BD68) -> 0 | BE70: =SUM(BE8:BE68) -> 0 | BF70: =SUM(BF8:BF68) -> 0 | BG70: CUMUL MOIS | BJ70: =SUM(BJ8:BJ68) -> 0 | BK70: =SUM(BK8:BK69) -> 0 | BM70: =SUM(BM8:BM69) -> 0 | BN70: =SUM(BN8:BN69) -> 0 | BO70: =SUM(BO8:BO68) -> 0 | BP70: =SUM(BP8:BP68) -> 0 | BQ70: =SUM(BQ8:BQ68) -> 0
D72: CUMUL | H72: =D6 -> CHRISTELLE | O72: CUMUL | S72: =O6 -> NOEMIE | Z72: CUMUL | AD72: =Z6 -> LAURIANNE | AK72: CUMUL | AO72: =AK6 -> JULIE | AV72: CUMUL | AZ72: =AV6 -> SYLVIE
D73: HEURES | H73: Mois | K73: Année | O73: HEURES | S73: Mois | V73: Année | Z73: HEURES | AD73: Mois | AG73: Année | AK73: HEURES | AO73: Mois | AR73: Année | AV73: HEURES | AZ73: Mois | BC73: Année
D75: HEURES DE NUIT | H75: Mois | K75: Année | O75: HEURES DE NUIT | S75: Mois | V75: Année | Z75: HEURES DE NUIT | AD75: Mois | AG75: Année | AK75: HEURES DE NUIT | AO75: Mois | AR75: Année | AV75: HEURES DE NUIT | AZ75: Mois | BC75: Année
D77: CP | H77: Mois | K77: Année | O77: CP | S77: Mois | V77: Année | Z77: CP | AD77: Mois | AG77: Année | AK77: CP | AO77: Mois | AR77: Année | AV77: CP | AZ77: Mois | BC77: Année
D79: CV | H79: Mois | K79: Année | O79: CV | S79: Mois | V79: Année | Z79: CV | AD79: Mois | AG79: Année | AK79: CV | AO79: Mois | AR79: Année | AV79: CV | AZ79: Mois | BC79: Année
D81: NB DE NUIT | H81: Mois | K81: Année | O81: NB DE NUIT | S81: Mois | V81: Année | Z81: NB DE NUIT | AD81: Mois | AG81: Année | AK81: NB DE NUIT | AO81: Mois | AR81: Année | AV81: NB DE NUIT | AZ81: Mois | BC81: Année

Sheet 01-2018
C1: 2018
A2: 0.20833333 | C2: 41639
A3: 0.875 | D3: PLANNING SERVICE | AL3: - | AM3: =UPPER(TEXT(C2,"mmmm aaaa")) -> JANVIER 2018
A4: 0 | D4: "susceptible de changement pour cas de force majeur et besoin au bon fonctionnement de la société"
D5: =IF(COUNTIFS($I$8:$I$73,"<"&11/24,$I$8:$I$73,"<>0"),"ATTENTION REPOS QUOTIDIEN","") | O5: =IF(COUNTIFS($T$8:$T$73,"<"&11/24,$T$8:$T$73,"<>0"),"ATTENTION REPOS QUOTIDIEN","") | Z5: =IF(COUNTIFS($AE$8:$AE$73,"<"&11/24,$AE$8:$AE$73,"<>0"),"ATTENTION REPOS QUOTIDIEN","") | AK5: =IF(COUNTIFS($AP$8:$AP$73,"<"&11/24,$AP$8:$AP$73,"<>0"),"ATTENTION REPOS QUOTIDIEN","") | AV5: =IF(COUNTIFS($BA$8:$BA$73,"<"&11/24,$BA$8:$BA$73,"<>0"),"ATTENTION REPOS QUOTIDIEN","") | BG5: =IF(COUNTIFS($BL$8:$BL$73,"<"&11/24,$BL$8:$BL$73,"<>0"),"ATTENTION REPOS QUOTIDIEN","")
D6: CHRISTELLE | O6: NOEMIE | Z6: LAURIANNE | AK6: JULIE | AV6: SYLVIE | BG6: EXTRA | BR6: Infos service
D7: Prise de service | F7: Fin de service | G7: H | H7: H | I7: REPOS | J7: HDN | K7: HDN | L7: CP | M7: CV | N7: Nuits | O7: Prise de service | Q7: Fin de service | R7: H | S7: H | T7: REPOS | U7: HDN | V7: HDN | W7: CP | X7: CV | Y7: Nuits | Z7: Prise de service | AB7: Fin de service | AC7: H | AD7: H | AE7: REPOS | AF7: HDN | AG7: HDN | AH7: CP | AI7: CV | AJ7: Nuits | AK7: Prise de service | AM7: Fin de service | AN7: H | AO7: H | AP7: REPOS | AQ7: HDN | AR7: HDN | AS7: CP | AT7: CV | AU7: Nuits | AV7: Prise de service | AX7: Fin de service | AY7: H | AZ7: H | BA7: REPOS | BB7: HDN | BC7: HDN | BD7: CP | BE7: CV | BF7: Nuits | BG7: Prise de service | BI7: Fin de service | BJ7: H | BK7: H | BL7: REPOS | BM7: HDN | BN7: HDN | BO7: CP | BP7: CV | BQ7: Nuits
A8: =C2 -> 41639 | B8: =UPPER(TEXT(A8,"jjj")) -> LUN | C8: =UPPER(TEXT(A8,"jj mmm")) -> 01 JANV | D8: 0.16666667 | F8: 0.41666667 | G8: =MOD(F8-D8,1) -> 0.25 | H8: =G8+G9 -> 0.25 | J8: =IF(OR(D8>F8,D8>=$A$3),F8+IF(D8>F8,1,0)-$A$3,0) -> 0 | K8: =J8+J9 -> 0 | L8: =IF(AND(WEEKDAY($A8,2)<7,E8="CP"),1,0) -> 0 | M8: =IF(E8="CV",1,0) -> 0 | N8: =IF(AND(F8>$A$4,F8<$A$2),1,0) -> 0 | P8: R | R8: =MOD(Q8-O8,1) -> 0 | S8: =R8+R9 -> 0 | U8: =IF(OR(O8>Q8,O8>=$A$3),Q8+IF(O8>Q8,1,0)-$A$3,0) -> 0 | V8: =U8+U9 -> 0 | W8: =IF(AND(WEEKDAY($A8,2)<7,P8="CP"),1,0) -> 0 | X8: =IF(P8="CV",1,0) -> 0 | Y8: =IF(AND(Q8>$A$4,Q8<$A$2),1,0) -> 0 | AC8: =MOD(AB8-Z8,1) -> 0 | AD8: =AC8+AC9 -> 0 | AF8: =IF(OR(Z8>AB8,Z8>=$A$3),AB8+IF(Z8>AB8,1,0)-$A$3,0) -> 0 | AG8: =AF8+AF9 -> 0 | AH8: =IF(AND(WEEKDAY($A8,2)<7,AA8="CP"),1,0) -> 0 | AI8: =IF(AA8="CV",1,0) -> 0 | AJ8: =IF(AND(F8>$A$4,F8<$A$2),1,0) -> 0 | AN8: =MOD(AM8-AK8,1) -> 0 | AO8: =AN8+AN9 -> 0 | AQ8: =IF(OR(AK8>AM8,AK8>=$A$3),AM8+IF(AK8>AM8,1,0)-$A$3,0) -> 0 | AR8: =AQ8+AQ9 -> 0 | AS8: =IF(AND(WEEKDAY($A8,2)<7,AL8="CP"),1,0) -> 0 | AT8: =IF(AL8="CV",1,0) -> 0 | AU8: =IF(AND(F8>$A$4,F8<$A$2),1,0) -> 0 | AY8: =MOD(AX8-AV8,1) -> 0 | AZ8: =AY8+AY9 -> 0 | BB8: =IF(OR(AV8>AX8,AV8>=$A$3),AX8+IF(AV8>AX8,1,0)-$A$3,0) -> 0 | BC8: =BB8+BB9 -> 0 | BD8: =IF(AND(WEEKDAY($A8,2)<7,AW8="CP"),1,0) -> 0 | BE8: =IF(AW8="CV",1,0) -> 0 | BF8: =IF(AND(F8>$A$4,F8<$A$2),1,0) -> 0 | BJ8: =MOD(BI8-BG8,1) -> 0 | BK8: =BJ8+BJ9 -> 0 | BM8: =IF(OR(BG8>BI8,BG8>=$A$3),BI8+IF(BG8>BI8,1,0)-$A$3,0) -> 0 | BN8: =BM8+BM9 -> 0 | BO8: =IF(AND(WEEKDAY($A8,2)<7,BH8="CP"),1,0) -> 0 | BP8: =IF(BH8="CV",1,0) -> 0 | BQ8: =IF(AND(F8>$A$4,F8<$A$2),1,0) -> 0
G9: =MOD(F9-D9,1) -> 0 | J9: =IF(OR(D9>F9,D9>=$A$3),F9+IF(D9>F9,1,0)-$A$3,0) -> 0 | N9: =IF(AND(F9>$A$4,F9<$A$2),1,0) -> 0 | P9: R | R9: =MOD(Q9-O9,1) -> 0 | U9: =IF(OR(O9>Q9,O9>=$A$3),Q9+IF(O9>Q9,1,0)-$A$3,0) -> 0 | Y9: =IF(AND(Q9>$A$4,Q9<$A$2),1,0) -> 0 | AC9: =MOD(AB9-Z9,1) -> 0 | AF9: =IF(OR(Z9>AB9,Z9>=$A$3),AB9+IF(Z9>AB9,1,0)-$A$3,0) -> 0 | AJ9: =IF(AND(F9>$A$4,F9<$A$2),1,0) -> 0 | AN9: =MOD(AM9-AK9,1) -> 0 | AQ9: =IF(OR(AK9>AM9,AK9>=$A$3),AM9+IF(AK9>AM9,1,0)-$A$3,0) -> 0 | AU9: =IF(AND(F9>$A$4,F9<$A$2),1,0) -> 0 | AY9: =MOD(AX9-AV9,1) -> 0 | BB9: =IF(OR(AV9>AX9,AV9>=$A$3),AX9+IF(AV9>AX9,1,0)-$A$3,0) -> 0 | BF9: =IF(AND(F9>$A$4,F9<$A$2),1,0) -> 0 | BJ9: =MOD(BI9-BG9,1) -> 0 | BM9: =IF(OR(BG9>BI9,BG9>=$A$3),BI9+IF(BG9>BI9,1,0)-$A$3,0) -> 0 | BQ9: =IF(AND(F9>$A$4,F9<$A$2),1,0) -> 0
A10: =A8+1 -> 41640 | B10: =UPPER(TEXT(A10,"jjj")) -> MAR | C10: =UPPER(TEXT(A10,"jj mmm")) -> 02 JANV | G10: =MOD(F10-D10,1) -> 0 | H10: =G10+G11 -> 0.41666667 | I10: =IF(OR(F9="",D10=""),0,MOD(D10-F9,1)) -> 0 | J10: =IF(OR(D10>F10,D10>=$A$3),F10+IF(D10>F10,1,0)-$A$3,0) -> 0 | K10: =J10+J11 -> 0 | L10: =IF(AND(WEEKDAY($A10,2)<7,E10="CP"),1,0) -> 0 | M10: =IF(E10="CV",1,0) -> 0 | N10: =IF(AND(F10>$A$4,F10<$A$2),1,0) -> 0 | P10: R | R10: =MOD(Q10-O10,1) -> 0 | S10: =R10+R11 -> 0 | T10: =IF(OR(Q9="",O10=""),0,MOD(O10-Q9,1)) -> 0 | U10: =IF(OR(O10>Q10,O10>=$A$3),Q10+IF(O10>Q10,1,0)-$A$3,0) -> 0 | V10: =U10+U11 -> 0 | W10: =IF(AND(WEEKDAY($A10,2)<7,P10="CP"),1,0) -> 0 | X10: =IF(P10="CV",1,0) -> 0 | Y10: =IF(AND(Q10>$A$4,Q10<$A$2),1,0) -> 0 | AC10: =MOD(AB10-Z10,1) -> 0 | AD10: =AC10+AC11 -> 0 | AE10: =IF(OR(AB9="",Z10=""),0,MOD(Z10-AB9,1)) -> 0 | AF10: =IF(OR(Z10>AB10,Z10>=$A$3),AB10+IF(Z10>AB10,1,0)-$A$3,0) -> 0 | AG10: =AF10+AF11 -> 0 | AH10: =IF(AND(WEEKDAY($A10,2)<7,AA10="CP"),1,0) -> 0 | AI10: =IF(AA10="CV",1,0) -> 0 | AJ10: =IF(AND(F10>$A$4,F10<$A$2),1,0) -> 0 | AN10: =MOD(AM10-AK10,1) -> 0 | AO10: =AN10+AN11 -> 0 | AP10: =IF(OR(AM9="",AK10=""),0,MOD(AK10-AM9,1)) -> 0 | AQ10: =IF(OR(AK10>AM10,AK10>=$A$3),AM10+IF(AK10>AM10,1,0)-$A$3,0) -> 0 | AR10: =AQ10+AQ11 -> 0 | AS10: =IF(AND(WEEKDAY($A10,2)<7,AL10="CP"),1,0) -> 0 | AT10: =IF(AL10="CV",1,0) -> 0 | AU10: =IF(AND(F10>$A$4,F10<$A$2),1,0) -> 0 | AY10: =MOD(AX10-AV10,1) -> 0 | AZ10: =AY10+AY11 -> 0 | BA10: =IF(OR(AX9="",AV10=""),0,MOD(AV10-AX9,1)) -> 0 | BB10: =IF(OR(AV10>AX10,AV10>=$A$3),AX10+IF(AV10>AX10,1,0)-$A$3,0) -> 0 | BC10: =BB10+BB11 -> 0 | BD10: =IF(AND(WEEKDAY($A10,2)<7,AW10="CP"),1,0) -> 0 | BE10: =IF(AW10="CV",1,0) -> 0 | BF10: =IF(AND(F10>$A$4,F10<$A$2),1,0) -> 0 | BJ10: =MOD(BI10-BG10,1) -> 0 | BK10: =BJ10+BJ11 -> 0 | BL10: =IF(OR(BI9="",BG10=""),0,MOD(BG10-BI9,1)) -> 0 | BM10: =IF(OR(BG10>BI10,BG10>=$A$3),BI10+IF(BG10>BI10,1,0)-$A$3,0) -> 0 | BN10: =BM10+BM11 -> 0 | BO10: =IF(AND(WEEKDAY($A10,2)<7,BH10="CP"),1,0) -> 0 | BP10: =IF(BH10="CV",1,0) -> 0 | BQ10: =IF(AND(F10>$A$4,F10<$A$2),1,0) -> 0
D11: 0.54166667 | F11: 0.95833333 | G11: =MOD(F11-D11,1) -> 0.41666667 | J11: =IF(OR(D11>F11,D11>=$A$3),F11+IF(D11>F11,1,0)-$A$3,0) -> 0 | N11: =IF(AND(F11>$A$4,F11<$A$2),1,0) -> 0 | P11: R | R11: =MOD(Q11-O11,1) -> 0 | U11: =IF(OR(O11>Q11,O11>=$A$3),Q11+IF(O11>Q11,1,0)-$A$3,0) -> 0 | Y11: =IF(AND(Q11>$A$4,Q11<$A$2),1,0) -> 0 | AC11: =MOD(AB11-Z11,1) -> 0 | AF11: =IF(OR(Z11>AB11,Z11>=$A$3),AB11+IF(Z11>AB11,1,0)-$A$3,0) -> 0 | AJ11: =IF(AND(F11>$A$4,F11<$A$2),1,0) -> 0 | AN11: =MOD(AM11-AK11,1) -> 0 | AQ11: =IF(OR(AK11>AM11,AK11>=$A$3),AM11+IF(AK11>AM11,1,0)-$A$3,0) -> 0 | AU11: =IF(AND(F11>$A$4,F11<$A$2),1,0) -> 0 | AY11: =MOD(AX11-AV11,1) -> 0 | BB11: =IF(OR(AV11>AX11,AV11>=$A$3),AX11+IF(AV11>AX11,1,0)-$A$3,0) -> 0 | BF11: =IF(AND(F11>$A$4,F11<$A$2),1,0) -> 0 | BJ11: =MOD(BI11-BG11,1) -> 0 | BM11: =IF(OR(BG11>BI11,BG11>=$A$3),BI11+IF(BG11>BI11,1,0)-$A$3,0) -> 0 | BQ11: =IF(AND(F11>$A$4,F11<$A$2),1,0) -> 0
A12: =A10+1 -> 41641 | B12: =UPPER(TEXT(A12,"jjj")) -> MER | C12: =UPPER(TEXT(A12,"jj mmm")) -> 03 JANV | D12: 0.41666667 | F12: 0.70833333 | G12: =MOD(F12-D12,1) -> 0.29166667 | H12: =G12+G13 -> 0.29166667 | I12: =IF(OR(F11="",D12=""),0,MOD(D12-F11,1)) -> 0.45833333 | J12: =IF(OR(D12>F12,D12>=$A$3),F12+IF(D12>F12,1,0)-$A$3,0) -> 0 | K12: =J12+J13 -> 0 | L12: =IF(AND(WEEKDAY($A12,2)<7,E12="CP"),1,0) -> 0 | M12: =IF(E12="CV",1,0) -> 0 | N12: =IF(AND(F12>$A$4,F12<$A$2),1,0) -> 0 | R12: =MOD(Q12-O12,1) -> 0 | S12: =R12+R13 -> 0.33333333 | T12: =IF(OR(Q11="",O12=""),0,MOD(O12-Q11,1)) -> 0 | U12: =IF(OR(O12>Q12,O12>=$A$3),Q12+IF(O12>Q12,1,0)-$A$3,0) -> 0 | V12: =U12+U13 -> 0.16666667 | W12: =IF(AND(WEEKDAY($A12,2)<7,P12="CP"),1,0) -> 0 | X12: =IF(P12="CV",1,0) -> 0 | Y12: =IF(AND(Q12>$A$4,Q12<$A$2),1,0) -> 0 | AC12: =MOD(AB12-Z12,1) -> 0 | AD12: =AC12+AC13 -> 0 | AE12: =IF(OR(AB11="",Z12=""),0,MOD(Z12-AB11,1)) -> 0 | AF12: =IF(OR(Z12>AB12,Z12>=$A$3),AB12+IF(Z12>AB12,1,0)-$A$3,0) -> 0 | AG12: =AF12+AF13 -> 0 | AH12: =IF(AND(WEEKDAY($A12,2)<7,AA12="CP"),1,0) -> 0 | AI12: =IF(AA12="CV",1,0) -> 0 | AJ12: =IF(AND(F12>$A$4,F12<$A$2),1,0) -> 0 | AN12: =MOD(AM12-AK12,1) -> 0 | AO12: =AN12+AN13 -> 0 | AP12: =IF(OR(AM11="",AK12=""),0,MOD(AK12-AM11,1)) -> 0 | AQ12: =IF(OR(AK12>AM12,AK12>=$A$3),AM12+IF(AK12>AM12,1,0)-$A$3,0) -> 0 | AR12: =AQ12+AQ13 -> 0 | AS12: =IF(AND(WEEKDAY($A12,2)<7,AL12="CP"),1,0) -> 0 | AT12: =IF(AL12="CV",1,0) -> 0 | AU12: =IF(AND(F12>$A$4,F12<$A$2),1,0) -> 0 | AY12: =MOD(AX12-AV12,1) -> 0 | AZ12: =AY12+AY13 -> 0 | BA12: =IF(OR(AX11="",AV12=""),0,MOD(AV12-AX11,1)) -> 0 | BB12: =IF(OR(AV12>AX12,AV12>=$A$3),AX12+IF(AV12>AX12,1,0)-$A$3,0) -> 0 | BC12: =BB12+BB13 -> 0 | BD12: =IF(AND(WEEKDAY($A12,2)<7,AW12="CP"),1,0) -> 0 | BE12: =IF(AW12="CV",1,0) -> 0 | BF12: =IF(AND(F12>$A$4,F12<$A$2),1,0) -> 0 | BJ12: =MOD(BI12-BG12,1) -> 0 | BK12: =BJ12+BJ13 -> 0 | BL12: =IF(OR(BI11="",BG12=""),0,MOD(BG12-BI11,1)) -> 0 | BM12: =IF(OR(BG12>BI12,BG12>=$A$3),BI12+IF(BG12>BI12,1,0)-$A$3,0) -> 0 | BN12: =BM12+BM13 -> 0 | BO12: =IF(AND(WEEKDAY($A12,2)<7,BH12="CP"),1,0) -> 0 | BP12: =IF(BH12="CV",1,0) -> 0 | BQ12: =IF(AND(F12>$A$4,F12<$A$2),1,0) -> 0
G13: =MOD(F13-D13,1) -> 0 | J13: =IF(OR(D13>F13,D13>=$A$3),F13+IF(D13>F13,1,0)-$A$3,0) -> 0 | N13: =IF(AND(F13>$A$4,F13<$A$2),1,0) -> 0 | O13: 0.70833333 | Q13: 0.041666667 | R13: =MOD(Q13-O13,1) -> 0.33333333 | U13: =IF(OR(O13>Q13,O13>=$A$3),Q13+IF(O13>Q13,1,0)-$A$3,0) -> 0.16666667 | Y13: =IF(AND(Q13>$A$4,Q13<$A$2),1,0) -> 1 | AC13: =MOD(AB13-Z13,1) -> 0 | AF13: =IF(OR(Z13>AB13,Z13>=$A$3),AB13+IF(Z13>AB13,1,0)-$A$3,0) -> 0 | AJ13: =IF(AND(F13>$A$4,F13<$A$2),1,0) -> 0 | AN13: =MOD(AM13-AK13,1) -> 0 | AQ13: =IF(OR(AK13>AM13,AK13>=$A$3),AM13+IF(AK13>AM13,1,0)-$A$3,0) -> 0 | AU13: =IF(AND(F13>$A$4,F13<$A$2),1,0) -> 0 | AY13: =MOD(AX13-AV13,1) -> 0 | BB13: =IF(OR(AV13>AX13,AV13>=$A$3),AX13+IF(AV13>AX13,1,0)-$A$3,0) -> 0 | BF13: =IF(AND(F13>$A$4,F13<$A$2),1,0) -> 0 | BJ13: =MOD(BI13-BG13,1) -> 0 | BM13: =IF(OR(BG13>BI13,BG13>=$A$3),BI13+IF(BG13>BI13,1,0)-$A$3,0) -> 0 | BQ13: =IF(AND(F13>$A$4,F13<$A$2),1,0) -> 0
A14: =A12+1 -> 41642 | B14: =UPPER(TEXT(A14,"jjj")) -> JEU | C14: =UPPER(TEXT(A14,"jj mmm")) -> 04 JANV | D14: 0.41666667 | F14: 0.70833333 | G14: =MOD(F14-D14,1) -> 0.29166667 | H14: =G14+G15 -> 0.29166667 | I14: =IF(OR(F13="",D14=""),0,MOD(D14-F13,1)) -> 0 | J14: =IF(OR(D14>F14,D14>=$A$3),F14+IF(D14>F14,1,0)-$A$3,0) -> 0 | K14: =J14+J15 -> 0 | L14: =IF(AND(WEEKDAY($A14,2)<7,E14="CP"),1,0) -> 0 | M14: =IF(E14="CV",1,0) -> 0 | N14: =IF(AND(F14>$A$4,F14<$A$2),1,0) -> 0 | R14: =MOD(Q14-O14,1) -> 0 | S14: =R14+R15 -> 0.33333333 | T14: =IF(OR(Q13="",O14=""),0,MOD(O14-Q13,1)) -> 0 | U14: =IF(OR(O14>Q14,O14>=$A$3),Q14+IF(O14>Q14,1,0)-$A$3,0) -> 0 | V14: =U14+U15 -> 0.16666667 | W14: =IF(AND(WEEKDAY($A14,2)<7,P14="CP"),1,0) -> 0 | X14: =IF(P14="CV",1,0) -> 0 | Y14: =IF(AND(Q14>$A$4,Q14<$A$2),1,0) -> 0 | AC14: =MOD(AB14-Z14,1) -> 0 | AD14: =AC14+AC15 -> 0 | AE14: =IF(OR(AB13="",Z14=""),0,MOD(Z14-AB13,1)) -> 0 | AF14: =IF(OR(Z14>AB14,Z14>=$A$3),AB14+IF(Z14>AB14,1,0)-$A$3,0) -> 0 | AG14: =AF14+AF15 -> 0 | AH14: =IF(AND(WEEKDAY($A14,2)<7,AA14="CP"),1,0) -> 0 | AI14: =IF(AA14="CV",1,0) -> 0 | AJ14: =IF(AND(F14>$A$4,F14<$A$2),1,0) -> 0 | AN14: =MOD(AM14-AK14,1) -> 0 | AO14: =AN14+AN15 -> 0 | AP14: =IF(OR(AM13="",AK14=""),0,MOD(AK14-AM13,1)) -> 0 | AQ14: =IF(OR(AK14>AM14,AK14>=$A$3),AM14+IF(AK14>AM14,1,0)-$A$3,0) -> 0 | AR14: =AQ14+AQ15 -> 0 | AS14: =IF(AND(WEEKDAY($A14,2)<7,AL14="CP"),1,0) -> 0 | AT14: =IF(AL14="CV",1,0) -> 0 | AU14: =IF(AND(F14>$A$4,F14<$A$2),1,0) -> 0 | AY14: =MOD(AX14-AV14,1) -> 0 | AZ14: =AY14+AY15 -> 0 | BA14: =IF(OR(AX13="",AV14=""),0,MOD(AV14-AX13,1)) -> 0 | BB14: =IF(OR(AV14>AX14,AV14>=$A$3),AX14+IF(AV14>AX14,1,0)-$A$3,0) -> 0 | BC14: =BB14+BB15 -> 0 | BD14: =IF(AND(WEEKDAY($A14,2)<7,AW14="CP"),1,0) -> 0 | BE14: =IF(AW14="CV",1,0) -> 0 | BF14: =IF(AND(F14>$A$4,F14<$A$2),1,0) -> 0 | BJ14: =MOD(BI14-BG14,1) -> 0 | BK14: =BJ14+BJ15 -> 0 | BL14: =IF(OR(BI13="",BG14=""),0,MOD(BG14-BI13,1)) -> 0 | BM14: =IF(OR(BG14>BI14,BG14>=$A$3),BI14+IF(BG14>BI14,1,0)-$A$3,0) -> 0 | BN14: =BM14+BM15 -> 0 | BO14: =IF(AND(WEEKDAY($A14,2)<7,BH14="CP"),1,0) -> 0 | BP14: =IF(BH14="CV",1,0) -> 0 | BQ14: =IF(AND(F14>$A$4,F14<$A$2),1,0) -> 0
G15: =MOD(F15-D15,1) -> 0 | J15: =IF(OR(D15>F15,D15>=$A$3),F15+IF(D15>F15,1,0)-$A$3,0) -> 0 | N15: =IF(AND(F15>$A$4,F15<$A$2),1,0) -> 0 | O15: 0.70833333 | Q15: 0.041666667 | R15: =MOD(Q15-O15,1) -> 0.33333333 | U15: =IF(OR(O15>Q15,O15>=$A$3),Q15+IF(O15>Q15,1,0)-$A$3,0) -> 0.16666667 | Y15: =IF(AND(Q15>$A$4,Q15<$A$2),1,0) -> 1 | AC15: =MOD(AB15-Z15,1) -> 0 | AF15: =IF(OR(Z15>AB15,Z15>=$A$3),AB15+IF(Z15>AB15,1,0)-$A$3,0) -> 0 | AJ15: =IF(AND(F15>$A$4,F15<$A$2),1,0) -> 0 | AN15: =MOD(AM15-AK15,1) -> 0 | AQ15: =IF(OR(AK15>AM15,AK15>=$A$3),AM15+IF(AK15>AM15,1,0)-$A$3,0) -> 0 | AU15: =IF(AND(F15>$A$4,F15<$A$2),1,0) -> 0 | AY15: =MOD(AX15-AV15,1) -> 0 | BB15: =IF(OR(AV15>AX15,AV15>=$A$3),AX15+IF(AV15>AX15,1,0)-$A$3,0) -> 0 | BF15: =IF(AND(F15>$A$4,F15<$A$2),1,0) -> 0 | BJ15: =MOD(BI15-BG15,1) -> 0 | BM15: =IF(OR(BG15>BI15,BG15>=$A$3),BI15+IF(BG15>BI15,1,0)-$A$3,0) -> 0 | BQ15: =IF(AND(F15>$A$4,F15<$A$2),1,0) -> 0
A16: =A14+1 -> 41643 | B16: =UPPER(TEXT(A16,"jjj")) -> VEN | C16: =UPPER(TEXT(A16,"jj mmm")) -> 05 JANV | E16: R | G16: =MOD(F16-D16,1) -> 0 | H16: =G16+G17 -> 0 | I16: =IF(OR(F15="",D16=""),0,MOD(D16-F15,1)) -> 0 | J16: =IF(OR(D16>F16,D16>=$A$3),F16+IF(D16>F16,1,0)-$A$3,0) -> 0 | K16: =J16+J17 -> 0 | L16: =IF(AND(WEEKDAY($A16,2)<7,E16="CP"),1,0) -> 0 | M16: =IF(E16="CV",1,0) -> 0 | N16: =IF(AND(F16>$A$4,F16<$A$2),1,0) -> 0 | R16: =MOD(Q16-O16,1) -> 0 | S16: =R16+R17 -> 0.20833333 | T16: =IF(OR(Q15="",O16=""),0,MOD(O16-Q15,1)) -> 0 | U16: =IF(OR(O16>Q16,O16>=$A$3),Q16+IF(O16>Q16,1,0)-$A$3,0) -> 0 | V16: =U16+U17 -> 0.125 | W16: =IF(AND(WEEKDAY($A16,2)<7,P16="CP"),1,0) -> 0 | X16: =IF(P16="CV",1,0) -> 0 | Y16: =IF(AND(Q16>$A$4,Q16<$A$2),1,0) -> 0 | AC16: =MOD(AB16-Z16,1) -> 0 | AD16: =AC16+AC17 -> 0 | AE16: =IF(OR(AB15="",Z16=""),0,MOD(Z16-AB15,1)) -> 0 | AF16: =IF(OR(Z16>AB16,Z16>=$A$3),AB16+IF(Z16>AB16,1,0)-$A$3,0) -> 0 | AG16: =AF16+AF17 -> 0 | AH16: =IF(AND(WEEKDAY($A16,2)<7,AA16="CP"),1,0) -> 0 | AI16: =IF(AA16="CV",1,0) -> 0 | AJ16: =IF(AND(F16>$A$4,F16<$A$2),1,0) -> 0 | AN16: =MOD(AM16-AK16,1) -> 0 | AO16: =AN16+AN17 -> 0 | AP16: =IF(OR(AM15="",AK16=""),0,MOD(AK16-AM15,1)) -> 0 | AQ16: =IF(OR(AK16>AM16,AK16>=$A$3),AM16+IF(AK16>AM16,1,0)-$A$3,0) -> 0 | AR16: =AQ16+AQ17 -> 0 | AS16: =IF(AND(WEEKDAY($A16,2)<7,AL16="CP"),1,0) -> 0 | AT16: =IF(AL16="CV",1,0) -> 0 | AU16: =IF(AND(F16>$A$4,F16<$A$2),1,0) -> 0 | AY16: =MOD(AX16-AV16,1) -> 0 | AZ16: =AY16+AY17 -> 0 | BA16: =IF(OR(AX15="",AV16=""),0,MOD(AV16-AX15,1)) -> 0 | BB16: =IF(OR(AV16>AX16,AV16>=$A$3),AX16+IF(AV16>AX16,1,0)-$A$3,0) -> 0 | BC16: =BB16+BB17 -> 0 | BD16: =IF(AND(WEEKDAY($A16,2)<7,AW16="CP"),1,0) -> 0 | BE16: =IF(AW16="CV",1,0) -> 0 | BF16: =IF(AND(F16>$A$4,F16<$A$2),1,0) -> 0 | BJ16: =MOD(BI16-BG16,1) -> 0 | BK16: =BJ16+BJ17 -> 0 | BL16: =IF(OR(BI15="",BG16=""),0,MOD(BG16-BI15,1)) -> 0 | BM16: =IF(OR(BG16>BI16,BG16>=$A$3),BI16+IF(BG16>BI16,1,0)-$A$3,0) -> 0 | BN16: =BM16+BM17 -> 0 | BO16: =IF(AND(WEEKDAY($A16,2)<7,BH16="CP"),1,0) -> 0 | BP16: =IF(BH16="CV",1,0) -> 0 | BQ16: =IF(AND(F16>$A$4,F16<$A$2),1,0) -> 0
E17: R | G17: =MOD(F17-D17,1) -> 0 | J17: =IF(OR(D17>F17,D17>=$A$3),F17+IF(D17>F17,1,0)-$A$3,0) -> 0 | N17: =IF(AND(F17>$A$4,F17<$A$2),1,0) -> 0 | O17: 0.79166667 | Q17: 0 | R17: =MOD(Q17-O17,1) -> 0.20833333 | U17: =IF(OR(O17>Q17,O17>=$A$3),Q17+IF(O17>Q17,1,0)-$A$3,0) -> 0.125 | Y17: =IF(AND(Q17>$A$4,Q17<$A$2),1,0) -> 0 | AC17: =MOD(AB17-Z17,1) -> 0 | AF17: =IF(OR(Z17>AB17,Z17>=$A$3),AB17+IF(Z17>AB17,1,0)-$A$3,0) -> 0 | AJ17: =IF(AND(F17>$A$4,F17<$A$2),1,0) -> 0 | AN17: =MOD(AM17-AK17,1) -> 0 | AQ17: =IF(OR(AK17>AM17,AK17>=$A$3),AM17+IF(AK17>AM17,1,0)-$A$3,0) -> 0 | AU17: =IF(AND(F17>$A$4,F17<$A$2),1,0) -> 0 | AY17: =MOD(AX17-AV17,1) -> 0 | BB17: =IF(OR(AV17>AX17,AV17>=$A$3),AX17+IF(AV17>AX17,1,0)-$A$3,0) -> 0 | BF17: =IF(AND(F17>$A$4,F17<$A$2),1,0) -> 0 | BJ17: =MOD(BI17-BG17,1) -> 0 | BM17: =IF(OR(BG17>BI17,BG17>=$A$3),BI17+IF(BG17>BI17,1,0)-$A$3,0) -> 0 | BQ17: =IF(AND(F17>$A$4,F17<$A$2),1,0) -> 0
A18: =A16+1 -> 41644 | B18: =UPPER(TEXT(A18,"jjj")) -> SAM | C18: =UPPER(TEXT(A18,"jj mmm")) -> 06 JANV | D18: 0.45833333 | F18: 0.70833333 | G18: =MOD(F18-D18,1) -> 0.25 | H18: =G18+G19 -> 0.25 | I18: =IF(OR(F17="",D18=""),0,MOD(D18-F17,1)) -> 0 | J18: =IF(OR(D18>F18,D18>=$A$3),F18+IF(D18>F18,1,0)-$A$3,0) -> 0 | K18: =J18+J19 -> 0 | L18: =IF(AND(WEEKDAY($A18,2)<7,E18="CP"),1,0) -> 0 | M18: =IF(E18="CV",1,0) -> 0 | N18: =IF(AND(F18>$A$4,F18<$A$2),1,0) -> 0 | R18: =MOD(Q18-O18,1) -> 0 | S18: =R18+R19 -> 0.33333333 | T18: =IF(OR(Q17="",O18=""),0,MOD(O18-Q17,1)) -> 0 | U18: =IF(OR(O18>Q18,O18>=$A$3),Q18+IF(O18>Q18,1,0)-$A$3,0) -> 0 | V18: =U18+U19 -> 0.25 | W18: =IF(AND(WEEKDAY($A18,2)<7,P18="CP"),1,0) -> 0 | X18: =IF(P18="CV",1,0) -> 0 | Y18: =IF(AND(Q18>$A$4,Q18<$A$2),1,0) -> 0 | AC18: =MOD(AB18-Z18,1) -> 0 | AD18: =AC18+AC19 -> 0 | AE18: =IF(OR(AB17="",Z18=""),0,MOD(Z18-AB17,1)) -> 0 | AF18: =IF(OR(Z18>AB18,Z18>=$A$3),AB18+IF(Z18>AB18,1,0)-$A$3,0) -> 0 | AG18: =AF18+AF19 -> 0 | AH18: =IF(AND(WEEKDAY($A18,2)<7,AA18="CP"),1,0) -> 0 | AI18: =IF(AA18="CV",1,0) -> 0 | AJ18: =IF(AND(F18>$A$4,F18<$A$2),1,0) -> 0 | AN18: =MOD(AM18-AK18,1) -> 0 | AO18: =AN18+AN19 -> 0 | AP18: =IF(OR(AM17="",AK18=""),0,MOD(AK18-AM17,1)) -> 0 | AQ18: =IF(OR(AK18>AM18,AK18>=$A$3),AM18+IF(AK18>AM18,1,0)-$A$3,0) -> 0 | AR18: =AQ18+AQ19 -> 0 | AS18: =IF(AND(WEEKDAY($A18,2)<7,AL18="CP"),1,0) -> 0 | AT18: =IF(AL18="CV",1,0) -> 0 | AU18: =IF(AND(F18>$A$4,F18<$A$2),1,0) -> 0 | AY18: =MOD(AX18-AV18,1) -> 0 | AZ18: =AY18+AY19 -> 0 | BA18: =IF(OR(AX17="",AV18=""),0,MOD(AV18-AX17,1)) -> 0 | BB18: =IF(OR(AV18>AX18,AV18>=$A$3),AX18+IF(AV18>AX18,1,0)-$A$3,0) -> 0 | BC18: =BB18+BB19 -> 0 | BD18: =IF(AND(WEEKDAY($A18,2)<7,AW18="CP"),1,0) -> 0 | BE18: =IF(AW18="CV",1,0) -> 0 | BF18: =IF(AND(F18>$A$4,F18<$A$2),1,0) -> 0 | BJ18: =MOD(BI18-BG18,1) -> 0 | BK18: =BJ18+BJ19 -> 0 | BL18: =IF(OR(BI17="",BG18=""),0,MOD(BG18-BI17,1)) -> 0 | BM18: =IF(OR(BG18>BI18,BG18>=$A$3),BI18+IF(BG18>BI18,1,0)-$A$3,0) -> 0 | BN18: =BM18+BM19 -> 0 | BO18: =IF(AND(WEEKDAY($A18,2)<7,BH18="CP"),1,0) -> 0 | BP18: =IF(BH18="CV",1,0) -> 0 | BQ18: =IF(AND(F18>$A$4,F18<$A$2),1,0) -> 0
G19: =MOD(F19-D19,1) -> 0 | J19: =IF(OR(D19>F19,D19>=$A$3),F19+IF(D19>F19,1,0)-$A$3,0) -> 0 | N19: =IF(AND(F19>$A$4,F19<$A$2),1,0) -> 0 | O19: 0.79166667 | Q19: 0.125 | R19: =MOD(Q19-O19,1) -> 0.33333333 | U19: =IF(OR(O19>Q19,O19>=$A$3),Q19+IF(O19>Q19,1,0)-$A$3,0) -> 0.25 | Y19: =IF(AND(Q19>$A$4,Q19<$A$2),1,0) -> 1 | AC19: =MOD(AB19-Z19,1) -> 0 | AF19: =IF(OR(Z19>AB19,Z19>=$A$3),AB19+IF(Z19>AB19,1,0)-$A$3,0) -> 0 | AJ19: =IF(AND(F19>$A$4,F19<$A$2),1,0) -> 0 | AN19: =MOD(AM19-AK19,1) -> 0 | AQ19: =IF(OR(AK19>AM19,AK19>=$A$3),AM19+IF(AK19>AM19,1,0)-$A$3,0) -> 0 | AU19: =IF(AND(F19>$A$4,F19<$A$2),1,0) -> 0 | AY19: =MOD(AX19-AV19,1) -> 0 | BB19: =IF(OR(AV19>AX19,AV19>=$A$3),AX19+IF(AV19>AX19,1,0)-$A$3,0) -> 0 | BF19: =IF(AND(F19>$A$4,F19<$A$2),1,0) -> 0 | BJ19: =MOD(BI19-BG19,1) -> 0 | BM19: =IF(OR(BG19>BI19,BG19>=$A$3),BI19+IF(BG19>BI19,1,0)-$A$3,0) -> 0 | BQ19: =IF(AND(F19>$A$4,F19<$A$2),1,0) -> 0
A20: =A18+1 -> 41645 | B20: =UPPER(TEXT(A20,"jjj")) -> DIM | C20: =UPPER(TEXT(A20,"jj mmm")) -> 07 JANV | E20: R | G20: =MOD(F20-D20,1) -> 0 | H20: =G20+G21 -> 0 | I20: =IF(OR(F19="",D20=""),0,MOD(D20-F19,1)) -> 0 | J20: =IF(OR(D20>F20,D20>=$A$3),F20+IF(D20>F20,1,0)-$A$3,0) -> 0 | K20: =J20+J21 -> 0 | L20: =IF(AND(WEEKDAY($A20,2)<7,E20="CP"),1,0) -> 0 | M20: =IF(E20="CV",1,0) -> 0 | N20: =IF(AND(F20>$A$4,F20<$A$2),1,0) -> 0 | R20: =MOD(Q20-O20,1) -> 0 | S20: =R20+R21 -> 0.25 | T20: =IF(OR(Q19="",O20=""),0,MOD(O20-Q19,1)) -> 0 | U20: =IF(OR(O20>Q20,O20>=$A$3),Q20+IF(O20>Q20,1,0)-$A$3,0) -> 0 | V20: =U20+U21 -> 0.16666667 | W20: =IF(AND(WEEKDAY($A20,2)<7,P20="CP"),1,0) -> 0 | X20: =IF(P20="CV",1,0) -> 0 | Y20: =IF(AND(Q20>$A$4,Q20<$A$2),1,0) -> 0 | AC20: =MOD(AB20-Z20,1) -> 0 | AD20: =AC20+AC21 -> 0 | AE20: =IF(OR(AB19="",Z20=""),0,MOD(Z20-AB19,1)) -> 0 | AF20: =IF(OR(Z20>AB20,Z20>=$A$3),AB20+IF(Z20>AB20,1,0)-$A$3,0) -> 0 | AG20: =AF20+AF21 -> 0 | AH20: =IF(AND(WEEKDAY($A20,2)<7,AA20="CP"),1,0) -> 0 | AI20: =IF(AA20="CV",1,0) -> 0 | AJ20: =IF(AND(F20>$A$4,F20<$A$2),1,0) -> 0 | AN20: =MOD(AM20-AK20,1) -> 0 | AO20: =AN20+AN21 -> 0 | AP20: =IF(OR(AM19="",AK20=""),0,MOD(AK20-AM19,1)) -> 0 | AQ20: =IF(OR(AK20>AM20,AK20>=$A$3),AM20+IF(AK20>AM20,1,0)-$A$3,0) -> 0 | AR20: =AQ20+AQ21 -> 0 | AS20: =IF(AND(WEEKDAY($A20,2)<7,AL20="CP"),1,0) -> 0 | AT20: =IF(AL20="CV",1,0) -> 0 | AU20: =IF(AND(F20>$A$4,F20<$A$2),1,0) -> 0 | AY20: =MOD(AX20-AV20,1) -> 0 | AZ20: =AY20+AY21 -> 0 | BA20: =IF(OR(AX19="",AV20=""),0,MOD(AV20-AX19,1)) -> 0 | BB20: =IF(OR(AV20>AX20,AV20>=$A$3),AX20+IF(AV20>AX20,1,0)-$A$3,0) -> 0 | BC20: =BB20+BB21 -> 0 | BD20: =IF(AND(WEEKDAY($A20,2)<7,AW20="CP"),1,0) -> 0 | BE20: =IF(AW20="CV",1,0) -> 0 | BF20: =IF(AND(F20>$A$4,F20<$A$2),1,0) -> 0 | BJ20: =MOD(BI20-BG20,1) -> 0 | BK20: =BJ20+BJ21 -> 0 | BL20: =IF(OR(BI19="",BG20=""),0,MOD(BG20-BI19,1)) -> 0 | BM20: =IF(OR(BG20>BI20,BG20>=$A$3),BI20+IF(BG20>BI20,1,0)-$A$3,0) -> 0 | BN20: =BM20+BM21 -> 0 | BO20: =IF(AND(WEEKDAY($A20,2)<7,BH20="CP"),1,0) -> 0 | BP20: =IF(BH20="CV",1,0) -> 0 | BQ20: =IF(AND(F20>$A$4,F20<$A$2),1,0) -> 0
E21: R | G21: =MOD(F21-D21,1) -> 0 | J21: =IF(OR(D21>F21,D21>=$A$3),F21+IF(D21>F21,1,0)-$A$3,0) -> 0 | N21: =IF(AND(F21>$A$4,F21<$A$2),1,0) -> 0 | O21: 0.79166667 | Q21: 0.041666667 | R21: =MOD(Q21-O21,1) -> 0.25 | U21: =IF(OR(O21>Q21,O21>=$A$3),Q21+IF(O21>Q21,1,0)-$A$3,0) -> 0.16666667 | Y21: =IF(AND(Q21>$A$4,Q21<$A$2),1,0) -> 1 | AC21: =MOD(AB21-Z21,1) -> 0 | AF21: =IF(OR(Z21>AB21,Z21>=$A$3),AB21+IF(Z21>AB21,1,0)-$A$3,0) -> 0 | AJ21: =IF(AND(F21>$A$4,F21<$A$2),1,0) -> 0 | AN21: =MOD(AM21-AK21,1) -> 0 | AQ21: =IF(OR(AK21>AM21,AK21>=$A$3),AM21+IF(AK21>AM21,1,0)-$A$3,0) -> 0 | AU21: =IF(AND(F21>$A$4,F21<$A$2),1,0) -> 0 | AY21: =MOD(AX21-AV21,1) -> 0 | BB21: =IF(OR(AV21>AX21,AV21>=$A$3),AX21+IF(AV21>AX21,1,0)-$A$3,0) -> 0 | BF21: =IF(AND(F21>$A$4,F21<$A$2),1,0) -> 0 | BJ21: =MOD(BI21-BG21,1) -> 0 | BM21: =IF(OR(BG21>BI21,BG21>=$A$3),BI21+IF(BG21>BI21,1,0)-$A$3,0) -> 0 | BQ21: =IF(AND(F21>$A$4,F21<$A$2),1,0) -> 0
D22: TOTAL HEURE SEMAINE | H22: =SUM(H8:H21) -> 1.5 | O22: TOTAL HEURE SEMAINE | S22: =SUM(S8:S21) -> 1.4583333 | Z22: TOTAL HEURE SEMAINE | AD22: =SUM(AD8:AD21) -> 0 | AK22: TOTAL HEURE SEMAINE | AO22: =SUM(AO8:AO21) -> 0 | AV22: TOTAL HEURE SEMAINE | AZ22: =SUM(AZ8:AZ21) -> 0 | BG22: TOTAL HEURE SEMAINE | BK22: =SUM(BK8:BK21) -> 0
A23: =A20+1 -> 41646 | B23: =UPPER(TEXT(A23,"jjj")) -> LUN | C23: =UPPER(TEXT(A23,"jj mmm")) -> 08 JANV | E23: FORM | G23: =MOD(F23-D23,1) -> 0 | H23: =G23+G24 -> 0 | I23: =IF(OR(F21="",D23=""),0,MOD(D23-F21,1)) -> 0 | J23: =IF(OR(D23>F23,D23>=$A$3),F23+IF(D23>F23,1,0)-$A$3,0) -> 0 | K23: =J23+J24 -> 0 | L23: =IF(AND(WEEKDAY($A23,2)<7,E23="CP"),1,0) -> 0 | M23: =IF(E23="CV",1,0) -> 0 | N23: =IF(AND(F23>$A$4,F23<$A$2),1,0) -> 0 | P23: R | R23: =MOD(Q23-O23,1) -> 0 | S23: =R23+R24 -> 0 | T23: =IF(OR(Q21="",O23=""),0,MOD(O23-Q21,1)) -> 0 | U23: =IF(OR(O23>Q23,O23>=$A$3),Q23+IF(O23>Q23,1,0)-$A$3,0) -> 0 | V23: =U23+U24 -> 0 | W23: =IF(AND(WEEKDAY($A23,2)<7,P23="CP"),1,0) -> 0 | X23: =IF(P23="CV",1,0) -> 0 | Y23: =IF(AND(Q23>$A$4,Q23<$A$2),1,0) -> 0 | AC23: =MOD(AB23-Z23,1) -> 0 | AD23: =AC23+AC24 -> 0 | AE23: =IF(OR(AB21="",Z23=""),0,MOD(Z23-AB21,1)) -> 0 | AF23: =IF(OR(Z23>AB23,Z23>=$A$3),AB23+IF(Z23>AB23,1,0)-$A$3,0) -> 0 | AG23: =AF23+AF24 -> 0 | AH23: =IF(AND(WEEKDAY($A23,2)<7,AA23="CP"),1,0) -> 0 | AI23: =IF(AA23="CV",1,0) -> 0 | AJ23: =IF(AND(F23>$A$4,F23<$A$2),1,0) -> 0 | AN23: =MOD(AM23-AK23,1) -> 0 | AO23: =AN23+AN24 -> 0 | AP23: =IF(OR(AM21="",AK23=""),0,MOD(AK23-AM21,1)) -> 0 | AQ23: =IF(OR(AK23>AM23,AK23>=$A$3),AM23+IF(AK23>AM23,1,0)-$A$3,0) -> 0 | AR23: =AQ23+AQ24 -> 0 | AS23: =IF(AND(WEEKDAY($A23,2)<7,AL23="CP"),1,0) -> 0 | AT23: =IF(AL23="CV",1,0) -> 0 | AU23: =IF(AND(F23>$A$4,F23<$A$2),1,0) -> 0 | AY23: =MOD(AX23-AV23,1) -> 0 | AZ23: =AY23+AY24 -> 0 | BA23: =IF(OR(AX21="",AV23=""),0,MOD(AV23-AX21,1)) -> 0 | BB23: =IF(OR(AV23>AX23,AV23>=$A$3),AX23+IF(AV23>AX23,1,0)-$A$3,0) -> 0 | BC23: =BB23+BB24 -> 0 | BD23: =IF(AND(WEEKDAY($A23,2)<7,AW23="CP"),1,0) -> 0 | BE23: =IF(AW23="CV",1,0) -> 0 | BF23: =IF(AND(F23>$A$4,F23<$A$2),1,0) -> 0 | BJ23: =MOD(BI23-BG23,1) -> 0 | BK23: =BJ23+BJ24 -> 0 | BL23: =IF(OR(BI21="",BG23=""),0,MOD(BG23-BI21,1)) -> 0 | BM23: =IF(OR(BG23>BI23,BG23>=$A$3),BI23+IF(BG23>BI23,1,0)-$A$3,0) -> 0 | BN23: =BM23+BM24 -> 0 | BO23: =IF(AND(WEEKDAY($A23,2)<7,BH23="CP"),1,0) -> 0 | BP23: =IF(BH23="CV",1,0) -> 0 | BQ23: =IF(AND(F23>$A$4,F23<$A$2),1,0) -> 0
E24: FORM | G24: =MOD(F24-D24,1) -> 0 | J24: =IF(OR(D24>F24,D24>=$A$3),F24+IF(D24>F24,1,0)-$A$3,0) -> 0 | N24: =IF(AND(F24>$A$4,F24<$A$2),1,0) -> 0 | P24: R | R24: =MOD(Q24-O24,1) -> 0 | U24: =IF(OR(O24>Q24,O24>=$A$3),Q24+IF(O24>Q24,1,0)-$A$3,0) -> 0 | Y24: =IF(AND(Q24>$A$4,Q24<$A$2),1,0) -> 0 | AC24: =MOD(AB24-Z24,1) -> 0 | AF24: =IF(OR(Z24>AB24,Z24>=$A$3),AB24+IF(Z24>AB24,1,0)-$A$3,0) -> 0 | AJ24: =IF(AND(F24>$A$4,F24<$A$2),1,0) -> 0 | AN24: =MOD(AM24-AK24,1) -> 0 | AQ24: =IF(OR(AK24>AM24,AK24>=$A$3),AM24+IF(AK24>AM24,1,0)-$A$3,0) -> 0 | AU24: =IF(AND(F24>$A$4,F24<$A$2),1,0) -> 0 | AY24: =MOD(AX24-AV24,1) -> 0 | BB24: =IF(OR(AV24>AX24,AV24>=$A$3),AX24+IF(AV24>AX24,1,0)-$A$3,0) -> 0 | BF24: =IF(AND(F24>$A$4,F24<$A$2),1,0) -> 0 | BJ24: =MOD(BI24-BG24,1) -> 0 | BM24: =IF(OR(BG24>BI24,BG24>=$A$3),BI24+IF(BG24>BI24,1,0)-$A$3,0) -> 0 | BQ24: =IF(AND(F24>$A$4,F24<$A$2),1,0) -> 0
A25: =A23+1 -> 41647 | B25: =UPPER(TEXT(A25,"jjj")) -> MAR | C25: =UPPER(TEXT(A25,"jj mmm")) -> 09 JANV | E25: FORM | G25: =MOD(F25-D25,1) -> 0 | H25: =G25+G26 -> 0 | I25: =IF(OR(F24="",D25=""),0,MOD(D25-F24,1)) -> 0 | J25: =IF(OR(D25>F25,D25>=$A$3),F25+IF(D25>F25,1,0)-$A$3,0) -> 0 | K25: =J25+J26 -> 0 | L25: =IF(AND(WEEKDAY($A25,2)<7,E25="CP"),1,0) -> 0 | M25: =IF(E25="CV",1,0) -> 0 | N25: =IF(AND(F25>$A$4,F25<$A$2),1,0) -> 0 | P25: R | R25: =MOD(Q25-O25,1) -> 0 | S25: =R25+R26 -> 0 | T25: =IF(OR(Q24="",O25=""),0,MOD(O25-Q24,1)) -> 0 | U25: =IF(OR(O25>Q25,O25>=$A$3),Q25+IF(O25>Q25,1,0)-$A$3,0) -> 0 | V25: =U25+U26 -> 0 | W25: =IF(AND(WEEKDAY($A25,2)<7,P25="CP"),1,0) -> 0 | X25: =IF(P25="CV",1,0) -> 0 | Y25: =IF(AND(Q25>$A$4,Q25<$A$2),1,0) -> 0 | AC25: =MOD(AB25-Z25,1) -> 0 | AD25: =AC25+AC26 -> 0 | AE25: =IF(OR(AB24="",Z25=""),0,MOD(Z25-AB24,1)) -> 0 | AF25: =IF(OR(Z25>AB25,Z25>=$A$3),AB25+IF(Z25>AB25,1,0)-$A$3,0) -> 0 | AG25: =AF25+AF26 -> 0 | AH25: =IF(AND(WEEKDAY($A25,2)<7,AA25="CP"),1,0) -> 0 | AI25: =IF(AA25="CV",1,0) -> 0 | AJ25: =IF(AND(F25>$A$4,F25<$A$2),1,0) -> 0 | AN25: =MOD(AM25-AK25,1) -> 0 | AO25: =AN25+AN26 -> 0 | AP25: =IF(OR(AM24="",AK25=""),0,MOD(AK25-AM24,1)) -> 0 | AQ25: =IF(OR(AK25>AM25,AK25>=$A$3),AM25+IF(AK25>AM25,1,0)-$A$3,0) -> 0 | AR25: =AQ25+AQ26 -> 0 | AS25: =IF(AND(WEEKDAY($A25,2)<7,AL25="CP"),1,0) -> 0 | AT25: =IF(AL25="CV",1,0) -> 0 | AU25: =IF(AND(F25>$A$4,F25<$A$2),1,0) -> 0 | AY25: =MOD(AX25-AV25,1) -> 0 | AZ25: =AY25+AY26 -> 0 | BA25: =IF(OR(AX24="",AV25=""),0,MOD(AV25-AX24,1)) -> 0 | BB25: =IF(OR(AV25>AX25,AV25>=$A$3),AX25+IF(AV25>AX25,1,0)-$A$3,0) -> 0 | BC25: =BB25+BB26 -> 0 | BD25: =IF(AND(WEEKDAY($A25,2)<7,AW25="CP"),1,0) -> 0 | BE25: =IF(AW25="CV",1,0) -> 0 | BF25: =IF(AND(F25>$A$4,F25<$A$2),1,0) -> 0 | BJ25: =MOD(BI25-BG25,1) -> 0 | BK25: =BJ25+BJ26 -> 0 | BL25: =IF(OR(BI24="",BG25=""),0,MOD(BG25-BI24,1)) -> 0 | BM25: =IF(OR(BG25>BI25,BG25>=$A$3),BI25+IF(BG25>BI25,1,0)-$A$3,0) -> 0 | BN25: =BM25+BM26 -> 0 | BO25: =IF(AND(WEEKDAY($A25,2)<7,BH25="CP"),1,0) -> 0 | BP25: =IF(BH25="CV",1,0) -> 0 | BQ25: =IF(AND(F25>$A$4,F25<$A$2),1,0) -> 0
E26: FORM | G26: =MOD(F26-D26,1) -> 0 | J26: =IF(OR(D26>F26,D26>=$A$3),F26+IF(D26>F26,1,0)-$A$3,0) -> 0 | N26: =IF(AND(F26>$A$4,F26<$A$2),1,0) -> 0 | P26: R | R26: =MOD(Q26-O26,1) -> 0 | U26: =IF(OR(O26>Q26,O26>=$A$3),Q26+IF(O26>Q26,1,0)-$A$3,0) -> 0 | Y26: =IF(AND(Q26>$A$4,Q26<$A$2),1,0) -> 0 | AC26: =MOD(AB26-Z26,1) -> 0 | AF26: =IF(OR(Z26>AB26,Z26>=$A$3),AB26+IF(Z26>AB26,1,0)-$A$3,0) -> 0 | AJ26: =IF(AND(F26>$A$4,F26<$A$2),1,0) -> 0 | AN26: =MOD(AM26-AK26,1) -> 0 | AQ26: =IF(OR(AK26>AM26,AK26>=$A$3),AM26+IF(AK26>AM26,1,0)-$A$3,0) -> 0 | AU26: =IF(AND(F26>$A$4,F26<$A$2),1,0) -> 0 | AY26: =MOD(AX26-AV26,1) -> 0 | BB26: =IF(OR(AV26>AX26,AV26>=$A$3),AX26+IF(AV26>AX26,1,0)-$A$3,0) -> 0 | BF26: =IF(AND(F26>$A$4,F26<$A$2),1,0) -> 0 | BJ26: =MOD(BI26-BG26,1) -> 0 | BM26: =IF(OR(BG26>BI26,BG26>=$A$3),BI26+IF(BG26>BI26,1,0)-$A$3,0) -> 0 | BQ26: =IF(AND(F26>$A$4,F26<$A$2),1,0) -> 0
A27: =A25+1 -> 41648 | B27: =UPPER(TEXT(A27,"jjj")) -> MER | C27: =UPPER(TEXT(A27,"jj mmm")) -> 10 JANV | E27: CP | G27: =MOD(F27-D27,1) -> 0 | H27: =G27+G28 -> 0 | I27: =IF(OR(F26="",D27=""),0,MOD(D27-F26,1)) -> 0 | J27: =IF(OR(D27>F27,D27>=$A$3),F27+IF(D27>F27,1,0)-$A$3,0) -> 0 | K27: =J27+J28 -> 0 | L27: =IF(AND(WEEKDAY($A27,2)<7,E27="CP"),1,0) -> 1 | M27: =IF(E27="CV",1,0) -> 0 | N27: =IF(AND(F27>$A$4,F27<$A$2),1,0) -> 0 | R27: =MOD(Q27-O27,1) -> 0 | S27: =R27+R28 -> 0.41666667 | T27: =IF(OR(Q26="",O27=""),0,MOD(O27-Q26,1)) -> 0 | U27: =IF(OR(O27>Q27,O27>=$A$3),Q27+IF(O27>Q27,1,0)-$A$3,0) -> 0 | V27: =U27+U28 -> 0 | W27: =IF(AND(WEEKDAY($A27,2)<7,P27="CP"),1,0) -> 0 | X27: =IF(P27="CV",1,0) -> 0 | Y27: =IF(AND(Q27>$A$4,Q27<$A$2),1,0) -> 0 | AC27: =MOD(AB27-Z27,1) -> 0 | AD27: =AC27+AC28 -> 0 | AE27: =IF(OR(AB26="",Z27=""),0,MOD(Z27-AB26,1)) -> 0 | AF27: =IF(OR(Z27>AB27,Z27>=$A$3),AB27+IF(Z27>AB27,1,0)-$A$3,0) -> 0 | AG27: =AF27+AF28 -> 0 | AH27: =IF(AND(WEEKDAY($A27,2)<7,AA27="CP"),1,0) -> 0 | AI27: =IF(AA27="CV",1,0) -> 0 | AJ27: =IF(AND(F27>$A$4,F27<$A$2),1,0) -> 0 | AN27: =MOD(AM27-AK27,1) -> 0 | AO27: =AN27+AN28 -> 0 | AP27: =IF(OR(AM26="",AK27=""),0,MOD(AK27-AM26,1)) -> 0 | AQ27: =IF(OR(AK27>AM27,AK27>=$A$3),AM27+IF(AK27>AM27,1,0)-$A$3,0) -> 0 | AR27: =AQ27+AQ28 -> 0 | AS27: =IF(AND(WEEKDAY($A27,2)<7,AL27="CP"),1,0) -> 0 | AT27: =IF(AL27="CV",1,0) -> 0 | AU27: =IF(AND(F27>$A$4,F27<$A$2),1,0) -> 0 | AY27: =MOD(AX27-AV27,1) -> 0 | AZ27: =AY27+AY28 -> 0 | BA27: =IF(OR(AX26="",AV27=""),0,MOD(AV27-AX26,1)) -> 0 | BB27: =IF(OR(AV27>AX27,AV27>=$A$3),AX27+IF(AV27>AX27,1,0)-$A$3,0) -> 0 | BC27: =BB27+BB28 -> 0 | BD27: =IF(AND(WEEKDAY($A27,2)<7,AW27="CP"),1,0) -> 0 | BE27: =IF(AW27="CV",1,0) -> 0 | BF27: =IF(AND(F27>$A$4,F27<$A$2),1,0) -> 0 | BJ27: =MOD(BI27-BG27,1) -> 0 | BK27: =BJ27+BJ28 -> 0 | BL27: =IF(OR(BI26="",BG27=""),0,MOD(BG27-BI26,1)) -> 0 | BM27: =IF(OR(BG27>BI27,BG27>=$A$3),BI27+IF(BG27>BI27,1,0)-$A$3,0) -> 0 | BN27: =BM27+BM28 -> 0 | BO27: =IF(AND(WEEKDAY($A27,2)<7,BH27="CP"),1,0) -> 0 | BP27: =IF(BH27="CV",1,0) -> 0 | BQ27: =IF(AND(F27>$A$4,F27<$A$2),1,0) -> 0
E28: CP | G28: =MOD(F28-D28,1) -> 0 | J28: =IF(OR(D28>F28,D28>=$A$3),F28+IF(D28>F28,1,0)-$A$3,0) -> 0 | N28: =IF(AND(F28>$A$4,F28<$A$2),1,0) -> 0 | O28: 0.5 | Q28: 0.91666667 | R28: =MOD(Q28-O28,1) -> 0.41666667 | U28: =IF(OR(O28>Q28,O28>=$A$3),Q28+IF(O28>Q28,1,0)-$A$3,0) -> 0 | Y28: =IF(AND(Q28>$A$4,Q28<$A$2),1,0) -> 0 | AC28: =MOD(AB28-Z28,1) -> 0 | AF28: =IF(OR(Z28>AB28,Z28>=$A$3),AB28+IF(Z28>AB28,1,0)-$A$3,0) -> 0 | AJ28: =IF(AND(F28>$A$4,F28<$A$2),1,0) -> 0 | AN28: =MOD(AM28-AK28,1) -> 0 | AQ28: =IF(OR(AK28>AM28,AK28>=$A$3),AM28+IF(AK28>AM28,1,0)-$A$3,0) -> 0 | AU28: =IF(AND(F28>$A$4,F28<$A$2),1,0) -> 0 | AY28: =MOD(AX28-AV28,1) -> 0 | BB28: =IF(OR(AV28>AX28,AV28>=$A$3),AX28+IF(AV28>AX28,1,0)-$A$3,0) -> 0 | BF28: =IF(AND(F28>$A$4,F28<$A$2),1,0) -> 0 | BJ28: =MOD(BI28-BG28,1) -> 0 | BM28: =IF(OR(BG28>BI28,BG28>=$A$3),BI28+IF(BG28>BI28,1,0)-$A$3,0) -> 0 | BQ28: =IF(AND(F28>$A$4,F28<$A$2),1,0) -> 0
A29: =A27+1 -> 41649 | B29: =UPPER(TEXT(A29,"jjj")) -> JEU | C29: =UPPER(TEXT(A29,"jj mmm")) -> 11 JANV | E29: CP | G29: =MOD(F29-D29,1) -> 0 | H29: =G29+G30 -> 0 | I29: =IF(OR(F28="",D29=""),0,MOD(D29-F28,1)) -> 0 | J29: =IF(OR(D29>F29,D29>=$A$3),F29+IF(D29>F29,1,0)-$A$3,0) -> 0 | K29: =J29+J30 -> 0 | L29: =IF(AND(WEEKDAY($A29,2)<7,E29="CP"),1,0) -> 1 | M29: =IF(E29="CV",1,0) -> 0 | N29: =IF(AND(F29>$A$4,F29<$A$2),1,0) -> 0 | R29: =MOD(Q29-O29,1) -> 0 | S29: =R29+R30 -> 0.41666667 | T29: =IF(OR(Q28="",O29=""),0,MOD(O29-Q28,1)) -> 0 | U29: =IF(OR(O29>Q29,O29>=$A$3),Q29+IF(O29>Q29,1,0)-$A$3,0) -> 0 | V29: =U29+U30 -> 0 | W29: =IF(AND(WEEKDAY($A29,2)<7,P29="CP"),1,0) -> 0 | X29: =IF(P29="CV",1,0) -> 0 | Y29: =IF(AND(Q29>$A$4,Q29<$A$2),1,0) -> 0 | AC29: =MOD(AB29-Z29,1) -> 0 | AD29: =AC29+AC30 -> 0 | AE29: =IF(OR(AB28="",Z29=""),0,MOD(Z29-AB28,1)) -> 0 | AF29: =IF(OR(Z29>AB29,Z29>=$A$3),AB29+IF(Z29>AB29,1,0)-$A$3,0) -> 0 | AG29: =AF29+AF30 -> 0 | AH29: =IF(AND(WEEKDAY($A29,2)<7,AA29="CP"),1,0) -> 0 | AI29: =IF(AA29="CV",1,0) -> 0 | AJ29: =IF(AND(F29>$A$4,F29<$A$2),1,0) -> 0 | AN29: =MOD(AM29-AK29,1) -> 0 | AO29: =AN29+AN30 -> 0 | AP29: =IF(OR(AM28="",AK29=""),0,MOD(AK29-AM28,1)) -> 0 | AQ29: =IF(OR(AK29>AM29,AK29>=$A$3),AM29+IF(AK29>AM29,1,0)-$A$3,0) -> 0 | AR29: =AQ29+AQ30 -> 0 | AS29: =IF(AND(WEEKDAY($A29,2)<7,AL29="CP"),1,0) -> 0 | AT29: =IF(AL29="CV",1,0) -> 0 | AU29: =IF(AND(F29>$A$4,F29<$A$2),1,0) -> 0 | AY29: =MOD(AX29-AV29,1) -> 0 | AZ29: =AY29+AY30 -> 0 | BA29: =IF(OR(AX28="",AV29=""),0,MOD(AV29-AX28,1)) -> 0 | BB29: =IF(OR(AV29>AX29,AV29>=$A$3),AX29+IF(AV29>AX29,1,0)-$A$3,0) -> 0 | BC29: =BB29+BB30 -> 0 | BD29: =IF(AND(WEEKDAY($A29,2)<7,AW29="CP"),1,0) -> 0 | BE29: =IF(AW29="CV",1,0) -> 0 | BF29: =IF(AND(F29>$A$4,F29<$A$2),1,0) -> 0 | BJ29: =MOD(BI29-BG29,1) -> 0 | BK29: =BJ29+BJ30 -> 0 | BL29: =IF(OR(BI28="",BG29=""),0,MOD(BG29-BI28,1)) -> 0 | BM29: =IF(OR(BG29>BI29,BG29>=$A$3),BI29+IF(BG29>BI29,1,0)-$A$3,0) -> 0 | BN29: =BM29+BM30 -> 0 | BO29: =IF(AND(WEEKDAY($A29,2)<7,BH29="CP"),1,0) -> 0 | BP29: =IF(BH29="CV",1,0) -> 0 | BQ29: =IF(AND(F29>$A$4,F29<$A$2),1,0) -> 0
E30: CP | G30: =MOD(F30-D30,1) -> 0 | J30: =IF(OR(D30>F30,D30>=$A$3),F30+IF(D30>F30,1,0)-$A$3,0) -> 0 | N30: =IF(AND(F30>$A$4,F30<$A$2),1,0) -> 0 | O30: 0.5 | Q30: 0.91666667 | R30: =MOD(Q30-O30,1) -> 0.41666667 | U30: =IF(OR(O30>Q30,O30>=$A$3),Q30+IF(O30>Q30,1,0)-$A$3,0) -> 0 | Y30: =IF(AND(Q30>$A$4,Q30<$A$2),1,0) -> 0 | AC30: =MOD(AB30-Z30,1) -> 0 | AF30: =IF(OR(Z30>AB30,Z30>=$A$3),AB30+IF(Z30>AB30,1,0)-$A$3,0) -> 0 | AJ30: =IF(AND(F30>$A$4,F30<$A$2),1,0) -> 0 | AN30: =MOD(AM30-AK30,1) -> 0 | AQ30: =IF(OR(AK30>AM30,AK30>=$A$3),AM30+IF(AK30>AM30,1,0)-$A$3,0) -> 0 | AU30: =IF(AND(F30>$A$4,F30<$A$2),1,0) -> 0 | AY30: =MOD(AX30-AV30,1) -> 0 | BB30: =IF(OR(AV30>AX30,AV30>=$A$3),AX30+IF(AV30>AX30,1,0)-$A$3,0) -> 0 | BF30: =IF(AND(F30>$A$4,F30<$A$2),1,0) -> 0 | BJ30: =MOD(BI30-BG30,1) -> 0 | BM30: =IF(OR(BG30>BI30,BG30>=$A$3),BI30+IF(BG30>BI30,1,0)-$A$3,0) -> 0 | BQ30: =IF(AND(F30>$A$4,F30<$A$2),1,0) -> 0
A31: =A29+1 -> 41650 | B31: =UPPER(TEXT(A31,"jjj")) -> VEN | C31: =UPPER(TEXT(A31,"jj mmm")) -> 12 JANV | E31: CP | G31: =MOD(F31-D31,1) -> 0 | H31: =G31+G32 -> 0 | I31: =IF(OR(F30="",D31=""),0,MOD(D31-F30,1)) -> 0 | J31: =IF(OR(D31>F31,D31>=$A$3),F31+IF(D31>F31,1,0)-$A$3,0) -> 0 | K31: =J31+J32 -> 0 | L31: =IF(AND(WEEKDAY($A31,2)<7,E31="CP"),1,0) -> 1 | M31: =IF(E31="CV",1,0) -> 0 | N31: =IF(AND(F31>$A$4,F31<$A$2),1,0) -> 0 | R31: =MOD(Q31-O31,1) -> 0 | S31: =R31+R32 -> 0.41666667 | T31: =IF(OR(Q30="",O31=""),0,MOD(O31-Q30,1)) -> 0 | U31: =IF(OR(O31>Q31,O31>=$A$3),Q31+IF(O31>Q31,1,0)-$A$3,0) -> 0 | V31: =U31+U32 -> 0 | W31: =IF(AND(WEEKDAY($A31,2)<7,P31="CP"),1,0) -> 0 | X31: =IF(P31="CV",1,0) -> 0 | Y31: =IF(AND(Q31>$A$4,Q31<$A$2),1,0) -> 0 | AC31: =MOD(AB31-Z31,1) -> 0 | AD31: =AC31+AC32 -> 0 | AE31: =IF(OR(AB30="",Z31=""),0,MOD(Z31-AB30,1)) -> 0 | AF31: =IF(OR(Z31>AB31,Z31>=$A$3),AB31+IF(Z31>AB31,1,0)-$A$3,0) -> 0 | AG31: =AF31+AF32 -> 0 | AH31: =IF(AND(WEEKDAY($A31,2)<7,AA31="CP"),1,0) -> 0 | AI31: =IF(AA31="CV",1,0) -> 0 | AJ31: =IF(AND(F31>$A$4,F31<$A$2),1,0) -> 0 | AN31: =MOD(AM31-AK31,1) -> 0 | AO31: =AN31+AN32 -> 0 | AP31: =IF(OR(AM30="",AK31=""),0,MOD(AK31-AM30,1)) -> 0 | AQ31: =IF(OR(AK31>AM31,AK31>=$A$3),AM31+IF(AK31>AM31,1,0)-$A$3,0) -> 0 | AR31: =AQ31+AQ32 -> 0 | AS31: =IF(AND(WEEKDAY($A31,2)<7,AL31="CP"),1,0) -> 0 | AT31: =IF(AL31="CV",1,0) -> 0 | AU31: =IF(AND(F31>$A$4,F31<$A$2),1,0) -> 0 | AY31: =MOD(AX31-AV31,1) -> 0 | AZ31: =AY31+AY32 -> 0 | BA31: =IF(OR(AX30="",AV31=""),0,MOD(AV31-AX30,1)) -> 0 | BB31: =IF(OR(AV31>AX31,AV31>=$A$3),AX31+IF(AV31>AX31,1,0)-$A$3,0) -> 0 | BC31: =BB31+BB32 -> 0 | BD31: =IF(AND(WEEKDAY($A31,2)<7,AW31="CP"),1,0) -> 0 | BE31: =IF(AW31="CV",1,0) -> 0 | BF31: =IF(AND(F31>$A$4,F31<$A$2),1,0) -> 0 | BJ31: =MOD(BI31-BG31,1) -> 0 | BK31: =BJ31+BJ32 -> 0 | BL31: =IF(OR(BI30="",BG31=""),0,MOD(BG31-BI30,1)) -> 0 | BM31: =IF(OR(BG31>BI31,BG31>=$A$3),BI31+IF(BG31>BI31,1,0)-$A$3,0) -> 0 | BN31: =BM31+BM32 -> 0 | BO31: =IF(AND(WEEKDAY($A31,2)<7,BH31="CP"),1,0) -> 0 | BP31: =IF(BH31="CV",1,0) -> 0 | BQ31: =IF(AND(F31>$A$4,F31<$A$2),1,0) -> 0
E32: CP | G32: =MOD(F32-D32,1) -> 0 | J32: =IF(OR(D32>F32,D32>=$A$3),F32+IF(D32>F32,1,0)-$A$3,0) -> 0 | N32: =IF(AND(F32>$A$4,F32<$A$2),1,0) -> 0 | O32: 0.5 | Q32: 0.91666667 | R32: =MOD(Q32-O32,1) -> 0.41666667 | U32: =IF(OR(O32>Q32,O32>=$A$3),Q32+IF(O32>Q32,1,0)-$A$3,0) -> 0 | Y32: =IF(AND(Q32>$A$4,Q32<$A$2),1,0) -> 0 | AC32: =MOD(AB32-Z32,1) -> 0 | AF32: =IF(OR(Z32>AB32,Z32>=$A$3),AB32+IF(Z32>AB32,1,0)-$A$3,0) -> 0 | AJ32: =IF(AND(F32>$A$4,F32<$A$2),1,0) -> 0 | AN32: =MOD(AM32-AK32,1) -> 0 | AQ32: =IF(OR(AK32>AM32,AK32>=$A$3),AM32+IF(AK32>AM32,1,0)-$A$3,0) -> 0 | AU32: =IF(AND(F32>$A$4,F32<$A$2),1,0) -> 0 | AY32: =MOD(AX32-AV32,1) -> 0 | BB32: =IF(OR(AV32>AX32,AV32>=$A$3),AX32+IF(AV32>AX32,1,0)-$A$3,0) -> 0 | BF32: =IF(AND(F32>$A$4,F32<$A$2),1,0) -> 0 | BJ32: =MOD(BI32-BG32,1) -> 0 | BM32: =IF(OR(BG32>BI32,BG32>=$A$3),BI32+IF(BG32>BI32,1,0)-$A$3,0) -> 0 | BQ32: =IF(AND(F32>$A$4,F32<$A$2),1,0) -> 0
A33: =A31+1 -> 41651 | B33: =UPPER(TEXT(A33,"jjj")) -> SAM | C33: =UPPER(TEXT(A33,"jj mmm")) -> 13 JANV | E33: R | G33: =MOD(F33-D33,1) -> 0 | H33: =G33+G34 -> 0 | I33: =IF(OR(F32="",D33=""),0,MOD(D33-F32,1)) -> 0 | J33: =IF(OR(D33>F33,D33>=$A$3),F33+IF(D33>F33,1,0)-$A$3,0) -> 0 | K33: =J33+J34 -> 0 | L33: =IF(AND(WEEKDAY($A33,2)<7,E33="CP"),1,0) -> 0 | M33: =IF(E33="CV",1,0) -> 0 | N33: =IF(AND(F33>$A$4,F33<$A$2),1,0) -> 0 | P33: R | R33: =MOD(Q33-O33,1) -> 0 | S33: =R33+R34 -> 0 | T33: =IF(OR(Q32="",O33=""),0,MOD(O33-Q32,1)) -> 0 | U33: =IF(OR(O33>Q33,O33>=$A$3),Q33+IF(O33>Q33,1,0)-$A$3,0) -> 0 | V33: =U33+U34 -> 0 | W33: =IF(AND(WEEKDAY($A33,2)<7,P33="CP"),1,0) -> 0 | X33: =IF(P33="CV",1,0) -> 0 | Y33: =IF(AND(Q33>$A$4,Q33<$A$2),1,0) -> 0 | AC33: =MOD(AB33-Z33,1) -> 0 | AD33: =AC33+AC34 -> 0 | AE33: =IF(OR(AB32="",Z33=""),0,MOD(Z33-AB32,1)) -> 0 | AF33: =IF(OR(Z33>AB33,Z33>=$A$3),AB33+IF(Z33>AB33,1,0)-$A$3,0) -> 0 | AG33: =AF33+AF34 -> 0 | AH33: =IF(AND(WEEKDAY($A33,2)<7,AA33="CP"),1,0) -> 0 | AI33: =IF(AA33="CV",1,0) -> 0 | AJ33: =IF(AND(F33>$A$4,F33<$A$2),1,0) -> 0 | AN33: =MOD(AM33-AK33,1) -> 0 | AO33: =AN33+AN34 -> 0 | AP33: =IF(OR(AM32="",AK33=""),0,MOD(AK33-AM32,1)) -> 0 | AQ33: =IF(OR(AK33>AM33,AK33>=$A$3),AM33+IF(AK33>AM33,1,0)-$A$3,0) -> 0 | AR33: =AQ33+AQ34 -> 0 | AS33: =IF(AND(WEEKDAY($A33,2)<7,AL33="CP"),1,0) -> 0 | AT33: =IF(AL33="CV",1,0) -> 0 | AU33: =IF(AND(F33>$A$4,F33<$A$2),1,0) -> 0 | AY33: =MOD(AX33-AV33,1) -> 0 | AZ33: =AY33+AY34 -> 0 | BA33: =IF(OR(AX32="",AV33=""),0,MOD(AV33-AX32,1)) -> 0 | BB33: =IF(OR(AV33>AX33,AV33>=$A$3),AX33+IF(AV33>AX33,1,0)-$A$3,0) -> 0 | BC33: =BB33+BB34 -> 0 | BD33: =IF(AND(WEEKDAY($A33,2)<7,AW33="CP"),1,0) -> 0 | BE33: =IF(AW33="CV",1,0) -> 0 | BF33: =IF(AND(F33>$A$4,F33<$A$2),1,0) -> 0 | BJ33: =MOD(BI33-BG33,1) -> 0 | BK33: =BJ33+BJ34 -> 0 | BL33: =IF(OR(BI32="",BG33=""),0,MOD(BG33-BI32,1)) -> 0 | BM33: =IF(OR(BG33>BI33,BG33>=$A$3),BI33+IF(BG33>BI33,1,0)-$A$3,0) -> 0 | BN33: =BM33+BM34 -> 0 | BO33: =IF(AND(WEEKDAY($A33,2)<7,BH33="CP"),1,0) -> 0 | BP33: =IF(BH33="CV",1,0) -> 0 | BQ33: =IF(AND(F33>$A$4,F33<$A$2),1,0) -> 0
E34: R | G34: =MOD(F34-D34,1) -> 0 | J34: =IF(OR(D34>F34,D34>=$A$3),F34+IF(D34>F34,1,0)-$A$3,0) -> 0 | N34: =IF(AND(F34>$A$4,F34<$A$2),1,0) -> 0 | P34: R | R34: =MOD(Q34-O34,1) -> 0 | U34: =IF(OR(O34>Q34,O34>=$A$3),Q34+IF(O34>Q34,1,0)-$A$3,0) -> 0 | Y34: =IF(AND(Q34>$A$4,Q34<$A$2),1,0) -> 0 | AC34: =MOD(AB34-Z34,1) -> 0 | AF34: =IF(OR(Z34>AB34,Z34>=$A$3),AB34+IF(Z34>AB34,1,0)-$A$3,0) -> 0 | AJ34: =IF(AND(F34>$A$4,F34<$A$2),1,0) -> 0 | AN34: =MOD(AM34-AK34,1) -> 0 | AQ34: =IF(OR(AK34>AM34,AK34>=$A$3),AM34+IF(AK34>AM34,1,0)-$A$3,0) -> 0 | AU34: =IF(AND(F34>$A$4,F34<$A$2),1,0) -> 0 | AY34: =MOD(AX34-AV34,1) -> 0 | BB34: =IF(OR(AV34>AX34,AV34>=$A$3),AX34+IF(AV34>AX34,1,0)-$A$3,0) -> 0 | BF34: =IF(AND(F34>$A$4,F34<$A$2),1,0) -> 0 | BJ34: =MOD(BI34-BG34,1) -> 0 | BM34: =IF(OR(BG34>BI34,BG34>=$A$3),BI34+IF(BG34>BI34,1,0)-$A$3,0) -> 0 | BQ34: =IF(AND(F34>$A$4,F34<$A$2),1,0) -> 0
A35: =A33+1 -> 41652 | B35: =UPPER(TEXT(A35,"jjj")) -> DIM | C35: =UPPER(TEXT(A35,"jj mmm")) -> 14 JANV | E35: R | G35: =MOD(F35-D35,1) -> 0 | H35: =G35+G36 -> 0 | I35: =IF(OR(F34="",D35=""),0,MOD(D35-F34,1)) -> 0 | J35: =IF(OR(D35>F35,D35>=$A$3),F35+IF(D35>F35,1,0)-$A$3,0) -> 0 | K35: =J35+J36 -> 0 | L35: =IF(AND(WEEKDAY($A35,2)<7,E35="CP"),1,0) -> 0 | M35: =IF(E35="CV",1,0) -> 0 | N35: =IF(AND(F35>$A$4,F35<$A$2),1,0) -> 0 | P35: R | R35: =MOD(Q35-O35,1) -> 0 | S35: =R35+R36 -> 0 | T35: =IF(OR(Q34="",O35=""),0,MOD(O35-Q34,1)) -> 0 | U35: =IF(OR(O35>Q35,O35>=$A$3),Q35+IF(O35>Q35,1,0)-$A$3,0) -> 0 | V35: =U35+U36 -> 0 | W35: =IF(AND(WEEKDAY($A35,2)<7,P35="CP"),1,0) -> 0 | X35: =IF(P35="CV",1,0) -> 0 | Y35: =IF(AND(Q35>$A$4,Q35<$A$2),1,0) -> 0 | AC35: =MOD(AB35-Z35,1) -> 0 | AD35: =AC35+AC36 -> 0 | AE35: =IF(OR(AB34="",Z35=""),0,MOD(Z35-AB34,1)) -> 0 | AF35: =IF(OR(Z35>AB35,Z35>=$A$3),AB35+IF(Z35>AB35,1,0)-$A$3,0) -> 0 | AG35: =AF35+AF36 -> 0 | AH35: =IF(AND(WEEKDAY($A35,2)<7,AA35="CP"),1,0) -> 0 | AI35: =IF(AA35="CV",1,0) -> 0 | AJ35: =IF(AND(F35>$A$4,F35<$A$2),1,0) -> 0 | AN35: =MOD(AM35-AK35,1) -> 0 | AO35: =AN35+AN36 -> 0 | AP35: =IF(OR(AM34="",AK35=""),0,MOD(AK35-AM34,1)) -> 0 | AQ35: =IF(OR(AK35>AM35,AK35>=$A$3),AM35+IF(AK35>AM35,1,0)-$A$3,0) -> 0 | AR35: =AQ35+AQ36 -> 0 | AS35: =IF(AND(WEEKDAY($A35,2)<7,AL35="CP"),1,0) -> 0 | AT35: =IF(AL35="CV",1,0) -> 0 | AU35: =IF(AND(F35>$A$4,F35<$A$2),1,0) -> 0 | AY35: =MOD(AX35-AV35,1) -> 0 | AZ35: =AY35+AY36 -> 0 | BA35: =IF(OR(AX34="",AV35=""),0,MOD(AV35-AX34,1)) -> 0 | BB35: =IF(OR(AV35>AX35,AV35>=$A$3),AX35+IF(AV35>AX35,1,0)-$A$3,0) -> 0 | BC35: =BB35+BB36 -> 0 | BD35: =IF(AND(WEEKDAY($A35,2)<7,AW35="CP"),1,0) -> 0 | BE35: =IF(AW35="CV",1,0) -> 0 | BF35: =IF(AND(F35>$A$4,F35<$A$2),1,0) -> 0 | BJ35: =MOD(BI35-BG35,1) -> 0 | BK35: =BJ35+BJ36 -> 0 | BL35: =IF(OR(BI34="",BG35=""),0,MOD(BG35-BI34,1)) -> 0 | BM35: =IF(OR(BG35>BI35,BG35>=$A$3),BI35+IF(BG35>BI35,1,0)-$A$3,0) -> 0 | BN35: =BM35+BM36 -> 0 | BO35: =IF(AND(WEEKDAY($A35,2)<7,BH35="CP"),1,0) -> 0 | BP35: =IF(BH35="CV",1,0) -> 0 | BQ35: =IF(AND(F35>$A$4,F35<$A$2),1,0) -> 0
E36: R | G36: =MOD(F36-D36,1) -> 0 | J36: =IF(OR(D36>F36,D36>=$A$3),F36+IF(D36>F36,1,0)-$A$3,0) -> 0 | N36: =IF(AND(F36>$A$4,F36<$A$2),1,0) -> 0 | P36: R | R36: =MOD(Q36-O36,1) -> 0 | U36: =IF(OR(O36>Q36,O36>=$A$3),Q36+IF(O36>Q36,1,0)-$A$3,0) -> 0 | Y36: =IF(AND(Q36>$A$4,Q36<$A$2),1,0) -> 0 | AC36: =MOD(AB36-Z36,1) -> 0 | AF36: =IF(OR(Z36>AB36,Z36>=$A$3),AB36+IF(Z36>AB36,1,0)-$A$3,0) -> 0 | AJ36: =IF(AND(F36>$A$4,F36<$A$2),1,0) -> 0 | AN36: =MOD(AM36-AK36,1) -> 0 | AQ36: =IF(OR(AK36>AM36,AK36>=$A$3),AM36+IF(AK36>AM36,1,0)-$A$3,0) -> 0 | AU36: =IF(AND(F36>$A$4,F36<$A$2),1,0) -> 0 | AY36: =MOD(AX36-AV36,1) -> 0 | BB36: =IF(OR(AV36>AX36,AV36>=$A$3),AX36+IF(AV36>AX36,1,0)-$A$3,0) -> 0 | BF36: =IF(AND(F36>$A$4,F36<$A$2),1,0) -> 0 | BJ36: =MOD(BI36-BG36,1) -> 0 | BM36: =IF(OR(BG36>BI36,BG36>=$A$3),BI36+IF(BG36>BI36,1,0)-$A$3,0) -> 0 | BQ36: =IF(AND(F36>$A$4,F36<$A$2),1,0) -> 0
D37: TOTAL HEURE SEMAINE | H37: =SUM(H23:H36) -> 0 | O37: TOTAL HEURE SEMAINE | S37: =SUM(S23:S36) -> 1.25 | Z37: TOTAL HEURE SEMAINE | AD37: =SUM(AD23:AD36) -> 0 | AK37: TOTAL HEURE SEMAINE | AO37: =SUM(AO23:AO36) -> 0 | AV37: TOTAL HEURE SEMAINE | AZ37: =SUM(AZ23:AZ36) -> 0 | BG37: TOTAL HEURE SEMAINE | BK37: =SUM(BK23:BK36) -> 0
A38: =A35+1 -> 41653 | B38: =UPPER(TEXT(A38,"jjj")) -> LUN | C38: =UPPER(TEXT(A38,"jj mmm")) -> 15 JANV | E38: FORM | G38: =MOD(F38-D38,1) -> 0 | H38: =G38+G39 -> 0 | I38: =IF(OR(F36="",D38=""),0,MOD(D38-F36,1)) -> 0 | J38: =IF(OR(D38>F38,D38>=$A$3),F38+IF(D38>F38,1,0)-$A$3,0) -> 0 | K38: =J38+J39 -> 0 | L38: =IF(AND(WEEKDAY($A38,2)<7,E38="CP"),1,0) -> 0 | M38: =IF(E38="CV",1,0) -> 0 | N38: =IF(AND(F38>$A$4,F38<$A$2),1,0) -> 0 | P38: FORM | R38: =MOD(Q38-O38,1) -> 0 | S38: =R38+R39 -> 0 | T38: =IF(OR(Q36="",O38=""),0,MOD(O38-Q36,1)) -> 0 | U38: =IF(OR(O38>Q38,O38>=$A$3),Q38+IF(O38>Q38,1,0)-$A$3,0) -> 0 | V38: =U38+U39 -> 0 | W38: =IF(AND(WEEKDAY($A38,2)<7,P38="CP"),1,0) -> 0 | X38: =IF(P38="CV",1,0) -> 0 | Y38: =IF(AND(Q38>$A$4,Q38<$A$2),1,0) -> 0 | AC38: =MOD(AB38-Z38,1) -> 0 | AD38: =AC38+AC39 -> 0 | AE38: =IF(OR(AB36="",Z38=""),0,MOD(Z38-AB36,1)) -> 0 | AF38: =IF(OR(Z38>AB38,Z38>=$A$3),AB38+IF(Z38>AB38,1,0)-$A$3,0) -> 0 | AG38: =AF38+AF39 -> 0 | AH38: =IF(AND(WEEKDAY($A38,2)<7,AA38="CP"),1,0) -> 0 | AI38: =IF(AA38="CV",1,0) -> 0 | AJ38: =IF(AND(F38>$A$4,F38<$A$2),1,0) -> 0 | AN38: =MOD(AM38-AK38,1) -> 0 | AO38: =AN38+AN39 -> 0 | AP38: =IF(OR(AM36="",AK38=""),0,MOD(AK38-AM36,1)) -> 0 | AQ38: =IF(OR(AK38>AM38,AK38>=$A$3),AM38+IF(AK38>AM38,1,0)-$A$3,0) -> 0 | AR38: =AQ38+AQ39 -> 0 | AS38: =IF(AND(WEEKDAY($A38,2)<7,AL38="CP"),1,0) -> 0 | AT38: =IF(AL38="CV",1,0) -> 0 | AU38: =IF(AND(F38>$A$4,F38<$A$2),1,0) -> 0 | AY38: =MOD(AX38-AV38,1) -> 0 | AZ38: =AY38+AY39 -> 0 | BA38: =IF(OR(AX36="",AV38=""),0,MOD(AV38-AX36,1)) -> 0 | BB38: =IF(OR(AV38>AX38,AV38>=$A$3),AX38+IF(AV38>AX38,1,0)-$A$3,0) -> 0 | BC38: =BB38+BB39 -> 0 | BD38: =IF(AND(WEEKDAY($A38,2)<7,AW38="CP"),1,0) -> 0 | BE38: =IF(AW38="CV",1,0) -> 0 | BF38: =IF(AND(F38>$A$4,F38<$A$2),1,0) -> 0 | BJ38: =MOD(BI38-BG38,1) -> 0 | BK38: =BJ38+BJ39 -> 0 | BL38: =IF(OR(BI36="",BG38=""),0,MOD(BG38-BI36,1)) -> 0 | BM38: =IF(OR(BG38>BI38,BG38>=$A$3),BI38+IF(BG38>BI38,1,0)-$A$3,0) -> 0 | BN38: =BM38+BM39 -> 0 | BO38: =IF(AND(WEEKDAY($A38,2)<7,BH38="CP"),1,0) -> 0 | BP38: =IF(BH38="CV",1,0) -> 0 | BQ38: =IF(AND(F38>$A$4,F38<$A$2),1,0) -> 0
E39: FORM | G39: =MOD(F39-D39,1) -> 0 | J39: =IF(OR(D39>F39,D39>=$A$3),F39+IF(D39>F39,1,0)-$A$3,0) -> 0 | N39: =IF(AND(F39>$A$4,F39<$A$2),1,0) -> 0 | P39: FORM | R39: =MOD(Q39-O39,1) -> 0 | U39: =IF(OR(O39>Q39,O39>=$A$3),Q39+IF(O39>Q39,1,0)-$A$3,0) -> 0 | Y39: =IF(AND(Q39>$A$4,Q39<$A$2),1,0) -> 0 | AC39: =MOD(AB39-Z39,1) -> 0 | AF39: =IF(OR(Z39>AB39,Z39>=$A$3),AB39+IF(Z39>AB39,1,0)-$A$3,0) -> 0 | AJ39: =IF(AND(F39>$A$4,F39<$A$2),1,0) -> 0 | AN39: =MOD(AM39-AK39,1) -> 0 | AQ39: =IF(OR(AK39>AM39,AK39>=$A$3),AM39+IF(AK39>AM39,1,0)-$A$3,0) -> 0 | AU39: =IF(AND(F39>$A$4,F39<$A$2),1,0) -> 0 | AY39: =MOD(AX39-AV39,1) -> 0 | BB39: =IF(OR(AV39>AX39,AV39>=$A$3),AX39+IF(AV39>AX39,1,0)-$A$3,0) -> 0 | BF39: =IF(AND(F39>$A$4,F39<$A$2),1,0) -> 0 | BJ39: =MOD(BI39-BG39,1) -> 0 | BM39: =IF(OR(BG39>BI39,BG39>=$A$3),BI39+IF(BG39>BI39,1,0)-$A$3,0) -> 0 | BQ39: =IF(AND(F39>$A$4,F39<$A$2),1,0) -> 0
A40: =A38+1 -> 41654 | B40: =UPPER(TEXT(A40,"jjj")) -> MAR | C40: =UPPER(TEXT(A40,"jj mmm")) -> 16 JANV | E40: FORM | G40: =MOD(F40-D40,1) -> 0 | H40: =G40+G41 -> 0 | I40: =IF(OR(F39="",D40=""),0,MOD(D40-F39,1)) -> 0 | J40: =IF(OR(D40>F40,D40>=$A$3),F40+IF(D40>F40,1,0)-$A$3,0) -> 0 | K40: =J40+J41 -> 0 | L40: =IF(AND(WEEKDAY($A40,2)<7,E40="CP"),1,0) -> 0 | M40: =IF(E40="CV",1,0) -> 0 | N40: =IF(AND(F40>$A$4,F40<$A$2),1,0) -> 0 | P40: FORM | R40: =MOD(Q40-O40,1) -> 0 | S40: =R40+R41 -> 0 | T40: =IF(OR(Q39="",O40=""),0,MOD(O40-Q39,1)) -> 0 | U40: =IF(OR(O40>Q40,O40>=$A$3),Q40+IF(O40>Q40,1,0)-$A$3,0) -> 0 | V40: =U40+U41 -> 0 | W40: =IF(AND(WEEKDAY($A40,2)<7,P40="CP"),1,0) -> 0 | X40: =IF(P40="CV",1,0) -> 0 | Y40: =IF(AND(Q40>$A$4,Q40<$A$2),1,0) -> 0 | AC40: =MOD(AB40-Z40,1) -> 0 | AD40: =AC40+AC41 -> 0 | AE40: =IF(OR(AB39="",Z40=""),0,MOD(Z40-AB39,1)) -> 0 | AF40: =IF(OR(Z40>AB40,Z40>=$A$3),AB40+IF(Z40>AB40,1,0)-$A$3,0) -> 0 | AG40: =AF40+AF41 -> 0 | AH40: =IF(AND(WEEKDAY($A40,2)<7,AA40="CP"),1,0) -> 0 | AI40: =IF(AA40="CV",1,0) -> 0 | AJ40: =IF(AND(F40>$A$4,F40<$A$2),1,0) -> 0 | AN40: =MOD(AM40-AK40,1) -> 0 | AO40: =AN40+AN41 -> 0 | AP40: =IF(OR(AM39="",AK40=""),0,MOD(AK40-AM39,1)) -> 0 | AQ40: =IF(OR(AK40>AM40,AK40>=$A$3),AM40+IF(AK40>AM40,1,0)-$A$3,0) -> 0 | AR40: =AQ40+AQ41 -> 0 | AS40: =IF(AND(WEEKDAY($A40,2)<7,AL40="CP"),1,0) -> 0 | AT40: =IF(AL40="CV",1,0) -> 0 | AU40: =IF(AND(F40>$A$4,F40<$A$2),1,0) -> 0 | AY40: =MOD(AX40-AV40,1) -> 0 | AZ40: =AY40+AY41 -> 0 | BA40: =IF(OR(AX39="",AV40=""),0,MOD(AV40-AX39,1)) -> 0 | BB40: =IF(OR(AV40>AX40,AV40>=$A$3),AX40+IF(AV40>AX40,1,0)-$A$3,0) -> 0 | BC40: =BB40+BB41 -> 0 | BD40: =IF(AND(WEEKDAY($A40,2)<7,AW40="CP"),1,0) -> 0 | BE40: =IF(AW40="CV",1,0) -> 0 | BF40: =IF(AND(F40>$A$4,F40<$A$2),1,0) -> 0 | BJ40: =MOD(BI40-BG40,1) -> 0 | BK40: =BJ40+BJ41 -> 0 | BL40: =IF(OR(BI39="",BG40=""),0,MOD(BG40-BI39,1)) -> 0 | BM40: =IF(OR(BG40>BI40,BG40>=$A$3),BI40+IF(BG40>BI40,1,0)-$A$3,0) -> 0 | BN40: =BM40+BM41 -> 0 | BO40: =IF(AND(WEEKDAY($A40,2)<7,BH40="CP"),1,0) -> 0 | BP40: =IF(BH40="CV",1,0) -> 0 | BQ40: =IF(AND(F40>$A$4,F40<$A$2),1,0) -> 0
E41: FORM | G41: =MOD(F41-D41,1) -> 0 | J41: =IF(OR(D41>F41,D41>=$A$3),F41+IF(D41>F41,1,0)-$A$3,0) -> 0 | N41: =IF(AND(F41>$A$4,F41<$A$2),1,0) -> 0 | P41: FORM | R41: =MOD(Q41-O41,1) -> 0 | U41: =IF(OR(O41>Q41,O41>=$A$3),Q41+IF(O41>Q41,1,0)-$A$3,0) -> 0 | Y41: =IF(AND(Q41>$A$4,Q41<$A$2),1,0) -> 0 | AC41: =MOD(AB41-Z41,1) -> 0 | AF41: =IF(OR(Z41>AB41,Z41>=$A$3),AB41+IF(Z41>AB41,1,0)-$A$3,0) -> 0 | AJ41: =IF(AND(F41>$A$4,F41<$A$2),1,0) -> 0 | AN41: =MOD(AM41-AK41,1) -> 0 | AQ41: =IF(OR(AK41>AM41,AK41>=$A$3),AM41+IF(AK41>AM41,1,0)-$A$3,0) -> 0 | AU41: =IF(AND(F41>$A$4,F41<$A$2),1,0) -> 0 | AY41: =MOD(AX41-AV41,1) -> 0 | BB41: =IF(OR(AV41>AX41,AV41>=$A$3),AX41+IF(AV41>AX41,1,0)-$A$3,0) -> 0 | BF41: =IF(AND(F41>$A$4,F41<$A$2),1,0) -> 0 | BJ41: =MOD(BI41-BG41,1) -> 0 | BM41: =IF(OR(BG41>BI41,BG41>=$A$3),BI41+IF(BG41>BI41,1,0)-$A$3,0) -> 0 | BQ41: =IF(AND(F41>$A$4,F41<$A$2),1,0) -> 0
A42: =A40+1 -> 41655 | B42: =UPPER(TEXT(A42,"jjj")) -> MER | C42: =UPPER(TEXT(A42,"jj mmm")) -> 17 JANV | G42: =MOD(F42-D42,1) -> 0 | H42: =G42+G43 -> 0.29166667 | I42: =IF(OR(F41="",D42=""),0,MOD(D42-F41,1)) -> 0 | J42: =IF(OR(D42>F42,D42>=$A$3),F42+IF(D42>F42,1,0)-$A$3,0) -> 0 | K42: =J42+J43 -> 0 | L42: =IF(AND(WEEKDAY($A42,2)<7,E42="CP"),1,0) -> 0 | M42: =IF(E42="CV",1,0) -> 0 | N42: =IF(AND(F42>$A$4,F42<$A$2),1,0) -> 0 | P42: CP | R42: =MOD(Q42-O42,1) -> 0 | S42: =R42+R43 -> 0 | T42: =IF(OR(Q41="",O42=""),0,MOD(O42-Q41,1)) -> 0 | U42: =IF(OR(O42>Q42,O42>=$A$3),Q42+IF(O42>Q42,1,0)-$A$3,0) -> 0 | V42: =U42+U43 -> 0 | W42: =IF(AND(WEEKDAY($A42,2)<7,P42="CP"),1,0) -> 1 | X42: =IF(P42="CV",1,0) -> 0 | Y42: =IF(AND(Q42>$A$4,Q42<$A$2),1,0) -> 0 | AC42: =MOD(AB42-Z42,1) -> 0 | AD42: =AC42+AC43 -> 0 | AE42: =IF(OR(AB41="",Z42=""),0,MOD(Z42-AB41,1)) -> 0 | AF42: =IF(OR(Z42>AB42,Z42>=$A$3),AB42+IF(Z42>AB42,1,0)-$A$3,0) -> 0 | AG42: =AF42+AF43 -> 0 | AH42: =IF(AND(WEEKDAY($A42,2)<7,AA42="CP"),1,0) -> 0 | AI42: =IF(AA42="CV",1,0) -> 0 | AJ42: =IF(AND(F42>$A$4,F42<$A$2),1,0) -> 0 | AN42: =MOD(AM42-AK42,1) -> 0 | AO42: =AN42+AN43 -> 0 | AP42: =IF(OR(AM41="",AK42=""),0,MOD(AK42-AM41,1)) -> 0 | AQ42: =IF(OR(AK42>AM42,AK42>=$A$3),AM42+IF(AK42>AM42,1,0)-$A$3,0) -> 0 | AR42: =AQ42+AQ43 -> 0 | AS42: =IF(AND(WEEKDAY($A42,2)<7,AL42="CP"),1,0) -> 0 | AT42: =IF(AL42="CV",1,0) -> 0 | AU42: =IF(AND(F42>$A$4,F42<$A$2),1,0) -> 0 | AY42: =MOD(AX42-AV42,1) -> 0 | AZ42: =AY42+AY43 -> 0 | BA42: =IF(OR(AX41="",AV42=""),0,MOD(AV42-AX41,1)) -> 0 | BB42: =IF(OR(AV42>AX42,AV42>=$A$3),AX42+IF(AV42>AX42,1,0)-$A$3,0) -> 0 | BC42: =BB42+BB43 -> 0 | BD42: =IF(AND(WEEKDAY($A42,2)<7,AW42="CP"),1,0) -> 0 | BE42: =IF(AW42="CV",1,0) -> 0 | BF42: =IF(AND(F42>$A$4,F42<$A$2),1,0) -> 0 | BJ42: =MOD(BI42-BG42,1) -> 0 | BK42: =BJ42+BJ43 -> 0 | BL42: =IF(OR(BI41="",BG42=""),0,MOD(BG42-BI41,1)) -> 0 | BM42: =IF(OR(BG42>BI42,BG42>=$A$3),BI42+IF(BG42>BI42,1,0)-$A$3,0) -> 0 | BN42: =BM42+BM43 -> 0 | BO42: =IF(AND(WEEKDAY($A42,2)<7,BH42="CP"),1,0) -> 0 | BP42: =IF(BH42="CV",1,0) -> 0 | BQ42: =IF(AND(F42>$A$4,F42<$A$2),1,0) -> 0
D43: 0.625 | F43: 0.91666667 | G43: =MOD(F43-D43,1) -> 0.29166667 | J43: =IF(OR(D43>F43,D43>=$A$3),F43+IF(D43>F43,1,0)-$A$3,0) -> 0 | N43: =IF(AND(F43>$A$4,F43<$A$2),1,0) -> 0 | P43: CP | R43: =MOD(Q43-O43,1) -> 0 | U43: =IF(OR(O43>Q43,O43>=$A$3),Q43+IF(O43>Q43,1,0)-$A$3,0) -> 0 | Y43: =IF(AND(Q43>$A$4,Q43<$A$2),1,0) -> 0 | AC43: =MOD(AB43-Z43,1) -> 0 | AF43: =IF(OR(Z43>AB43,Z43>=$A$3),AB43+IF(Z43>AB43,1,0)-$A$3,0) -> 0 | AJ43: =IF(AND(F43>$A$4,F43<$A$2),1,0) -> 0 | AN43: =MOD(AM43-AK43,1) -> 0 | AQ43: =IF(OR(AK43>AM43,AK43>=$A$3),AM43+IF(AK43>AM43,1,0)-$A$3,0) -> 0 | AU43: =IF(AND(F43>$A$4,F43<$A$2),1,0) -> 0 | AY43: =MOD(AX43-AV43,1) -> 0 | BB43: =IF(OR(AV43>AX43,AV43>=$A$3),AX43+IF(AV43>AX43,1,0)-$A$3,0) -> 0 | BF43: =IF(AND(F43>$A$4,F43<$A$2),1,0) -> 0 | BJ43: =MOD(BI43-BG43,1) -> 0 | BM43: =IF(OR(BG43>BI43,BG43>=$A$3),BI43+IF(BG43>BI43,1,0)-$A$3,0) -> 0 | BQ43: =IF(AND(F43>$A$4,F43<$A$2),1,0) -> 0
A44: =A42+1 -> 41656 | B44: =UPPER(TEXT(A44,"jjj")) -> JEU | C44: =UPPER(TEXT(A44,"jj mmm")) -> 18 JANV | G44: =MOD(F44-D44,1) -> 0 | H44: =G44+G45 -> 0.29166667 | I44: =IF(OR(F43="",D44=""),0,MOD(D44-F43,1)) -> 0 | J44: =IF(OR(D44>F44,D44>=$A$3),F44+IF(D44>F44,1,0)-$A$3,0) -> 0 | K44: =J44+J45 -> 0 | L44: =IF(AND(WEEKDAY($A44,2)<7,E44="CP"),1,0) -> 0 | M44: =IF(E44="CV",1,0) -> 0 | N44: =IF(AND(F44>$A$4,F44<$A$2),1,0) -> 0 | P44: CP | R44: =MOD(Q44-O44,1) -> 0 | S44: =R44+R45 -> 0 | T44: =IF(OR(Q43="",O44=""),0,MOD(O44-Q43,1)) -> 0 | U44: =IF(OR(O44>Q44,O44>=$A$3),Q44+IF(O44>Q44,1,0)-$A$3,0) -> 0 | V44: =U44+U45 -> 0 | W44: =IF(AND(WEEKDAY($A44,2)<7,P44="CP"),1,0) -> 1 | X44: =IF(P44="CV",1,0) -> 0 | Y44: =IF(AND(Q44>$A$4,Q44<$A$2),1,0) -> 0 | AC44: =MOD(AB44-Z44,1) -> 0 | AD44: =AC44+AC45 -> 0 | AE44: =IF(OR(AB43="",Z44=""),0,MOD(Z44-AB43,1)) -> 0 | AF44: =IF(OR(Z44>AB44,Z44>=$A$3),AB44+IF(Z44>AB44,1,0)-$A$3,0) -> 0 | AG44: =AF44+AF45 -> 0 | AH44: =IF(AND(WEEKDAY($A44,2)<7,AA44="CP"),1,0) -> 0 | AI44: =IF(AA44="CV",1,0) -> 0 | AJ44: =IF(AND(F44>$A$4,F44<$A$2),1,0) -> 0 | AN44: =MOD(AM44-AK44,1) -> 0 | AO44: =AN44+AN45 -> 0 | AP44: =IF(OR(AM43="",AK44=""),0,MOD(AK44-AM43,1)) -> 0 | AQ44: =IF(OR(AK44>AM44,AK44>=$A$3),AM44+IF(AK44>AM44,1,0)-$A$3,0) -> 0 | AR44: =AQ44+AQ45 -> 0 | AS44: =IF(AND(WEEKDAY($A44,2)<7,AL44="CP"),1,0) -> 0 | AT44: =IF(AL44="CV",1,0) -> 0 | AU44: =IF(AND(F44>$A$4,F44<$A$2),1,0) -> 0 | AY44: =MOD(AX44-AV44,1) -> 0 | AZ44: =AY44+AY45 -> 0 | BA44: =IF(OR(AX43="",AV44=""),0,MOD(AV44-AX43,1)) -> 0 | BB44: =IF(OR(AV44>AX44,AV44>=$A$3),AX44+IF(AV44>AX44,1,0)-$A$3,0) -> 0 | BC44: =BB44+BB45 -> 0 | BD44: =IF(AND(WEEKDAY($A44,2)<7,AW44="CP"),1,0) -> 0 | BE44: =IF(AW44="CV",1,0) -> 0 | BF44: =IF(AND(F44>$A$4,F44<$A$2),1,0) -> 0 | BJ44: =MOD(BI44-BG44,1) -> 0 | BK44: =BJ44+BJ45 -> 0 | BL44: =IF(OR(BI43="",BG44=""),0,MOD(BG44-BI43,1)) -> 0 | BM44: =IF(OR(BG44>BI44,BG44>=$A$3),BI44+IF(BG44>BI44,1,0)-$A$3,0) -> 0 | BN44: =BM44+BM45 -> 0 | BO44: =IF(AND(WEEKDAY($A44,2)<7,BH44="CP"),1,0) -> 0 | BP44: =IF(BH44="CV",1,0) -> 0 | BQ44: =IF(AND(F44>$A$4,F44<$A$2),1,0) -> 0
D45: 0.625 | F45: 0.91666667 | G45: =MOD(F45-D45,1) -> 0.29166667 | J45: =IF(OR(D45>F45,D45>=$A$3),F45+IF(D45>F45,1,0)-$A$3,0) -> 0 | N45: =IF(AND(F45>$A$4,F45<$A$2),1,0) -> 0 | P45: CP | R45: =MOD(Q45-O45,1) -> 0 | U45: =IF(OR(O45>Q45,O45>=$A$3),Q45+IF(O45>Q45,1,0)-$A$3,0) -> 0 | Y45: =IF(AND(Q45>$A$4,Q45<$A$2),1,0) -> 0 | AC45: =MOD(AB45-Z45,1) -> 0 | AF45: =IF(OR(Z45>AB45,Z45>=$A$3),AB45+IF(Z45>AB45,1,0)-$A$3,0) -> 0 | AJ45: =IF(AND(F45>$A$4,F45<$A$2),1,0) -> 0 | AN45: =MOD(AM45-AK45,1) -> 0 | AQ45: =IF(OR(AK45>AM45,AK45>=$A$3),AM45+IF(AK45>AM45,1,0)-$A$3,0) -> 0 | AU45: =IF(AND(F45>$A$4,F45<$A$2),1,0) -> 0 | AY45: =MOD(AX45-AV45,1) -> 0 | BB45: =IF(OR(AV45>AX45,AV45>=$A$3),AX45+IF(AV45>AX45,1,0)-$A$3,0) -> 0 | BF45: =IF(AND(F45>$A$4,F45<$A$2),1,0) -> 0 | BJ45: =MOD(BI45-BG45,1) -> 0 | BM45: =IF(OR(BG45>BI45,BG45>=$A$3),BI45+IF(BG45>BI45,1,0)-$A$3,0) -> 0 | BQ45: =IF(AND(F45>$A$4,F45<$A$2),1,0) -> 0
A46: =A44+1 -> 41657 | B46: =UPPER(TEXT(A46,"jjj")) -> VEN | C46: =UPPER(TEXT(A46,"jj mmm")) -> 19 JANV | E46: HS | G46: =MOD(F46-D46,1) -> 0 | H46: =G46+G47 -> 0 | I46: =IF(OR(F45="",D46=""),0,MOD(D46-F45,1)) -> 0 | J46: =IF(OR(D46>F46,D46>=$A$3),F46+IF(D46>F46,1,0)-$A$3,0) -> 0 | K46: =J46+J47 -> 0 | L46: =IF(AND(WEEKDAY($A46,2)<7,E46="CP"),1,0) -> 0 | M46: =IF(E46="CV",1,0) -> 0 | N46: =IF(AND(F46>$A$4,F46<$A$2),1,0) -> 0 | P46: CP | R46: =MOD(Q46-O46,1) -> 0 | S46: =R46+R47 -> 0 | T46: =IF(OR(Q45="",O46=""),0,MOD(O46-Q45,1)) -> 0 | U46: =IF(OR(O46>Q46,O46>=$A$3),Q46+IF(O46>Q46,1,0)-$A$3,0) -> 0 | V46: =U46+U47 -> 0 | W46: =IF(AND(WEEKDAY($A46,2)<7,P46="CP"),1,0) -> 1 | X46: =IF(P46="CV",1,0) -> 0 | Y46: =IF(AND(Q46>$A$4,Q46<$A$2),1,0) -> 0 | AC46: =MOD(AB46-Z46,1) -> 0 | AD46: =AC46+AC47 -> 0 | AE46: =IF(OR(AB45="",Z46=""),0,MOD(Z46-AB45,1)) -> 0 | AF46: =IF(OR(Z46>AB46,Z46>=$A$3),AB46+IF(Z46>AB46,1,0)-$A$3,0) -> 0 | AG46: =AF46+AF47 -> 0 | AH46: =IF(AND(WEEKDAY($A46,2)<7,AA46="CP"),1,0) -> 0 | AI46: =IF(AA46="CV",1,0) -> 0 | AJ46: =IF(AND(F46>$A$4,F46<$A$2),1,0) -> 0 | AN46: =MOD(AM46-AK46,1) -> 0 | AO46: =AN46+AN47 -> 0 | AP46: =IF(OR(AM45="",AK46=""),0,MOD(AK46-AM45,1)) -> 0 | AQ46: =IF(OR(AK46>AM46,AK46>=$A$3),AM46+IF(AK46>AM46,1,0)-$A$3,0) -> 0 | AR46: =AQ46+AQ47 -> 0 | AS46: =IF(AND(WEEKDAY($A46,2)<7,AL46="CP"),1,0) -> 0 | AT46: =IF(AL46="CV",1,0) -> 0 | AU46: =IF(AND(F46>$A$4,F46<$A$2),1,0) -> 0 | AY46: =MOD(AX46-AV46,1) -> 0 | AZ46: =AY46+AY47 -> 0 | BA46: =IF(OR(AX45="",AV46=""),0,MOD(AV46-AX45,1)) -> 0 | BB46: =IF(OR(AV46>AX46,AV46>=$A$3),AX46+IF(AV46>AX46,1,0)-$A$3,0) -> 0 | BC46: =BB46+BB47 -> 0 | BD46: =IF(AND(WEEKDAY($A46,2)<7,AW46="CP"),1,0) -> 0 | BE46: =IF(AW46="CV",1,0) -> 0 | BF46: =IF(AND(F46>$A$4,F46<$A$2),1,0) -> 0 | BJ46: =MOD(BI46-BG46,1) -> 0 | BK46: =BJ46+BJ47 -> 0 | BL46: =IF(OR(BI45="",BG46=""),0,MOD(BG46-BI45,1)) -> 0 | BM46: =IF(OR(BG46>BI46,BG46>=$A$3),BI46+IF(BG46>BI46,1,0)-$A$3,0) -> 0 | BN46: =BM46+BM47 -> 0 | BO46: =IF(AND(WEEKDAY($A46,2)<7,BH46="CP"),1,0) -> 0 | BP46: =IF(BH46="CV",1,0) -> 0 | BQ46: =IF(AND(F46>$A$4,F46<$A$2),1,0) -> 0
E47: HS | G47: =MOD(F47-D47,1) -> 0 | J47: =IF(OR(D47>F47,D47>=$A$3),F47+IF(D47>F47,1,0)-$A$3,0) -> 0 | N47: =IF(AND(F47>$A$4,F47<$A$2),1,0) -> 0 | P47: CP | R47: =MOD(Q47-O47,1) -> 0 | U47: =IF(OR(O47>Q47,O47>=$A$3),Q47+IF(O47>Q47,1,0)-$A$3,0) -> 0 | Y47: =IF(AND(Q47>$A$4,Q47<$A$2),1,0) -> 0 | AC47: =MOD(AB47-Z47,1) -> 0 | AF47: =IF(OR(Z47>AB47,Z47>=$A$3),AB47+IF(Z47>AB47,1,0)-$A$3,0) -> 0 | AJ47: =IF(AND(F47>$A$4,F47<$A$2),1,0) -> 0 | AN47: =MOD(AM47-AK47,1) -> 0 | AQ47: =IF(OR(AK47>AM47,AK47>=$A$3),AM47+IF(AK47>AM47,1,0)-$A$3,0) -> 0 | AU47: =IF(AND(F47>$A$4,F47<$A$2),1,0) -> 0 | AY47: =MOD(AX47-AV47,1) -> 0 | BB47: =IF(OR(AV47>AX47,AV47>=$A$3),AX47+IF(AV47>AX47,1,0)-$A$3,0) -> 0 | BF47: =IF(AND(F47>$A$4,F47<$A$2),1,0) -> 0 | BJ47: =MOD(BI47-BG47,1) -> 0 | BM47: =IF(OR(BG47>BI47,BG47>=$A$3),BI47+IF(BG47>BI47,1,0)-$A$3,0) -> 0 | BQ47: =IF(AND(F47>$A$4,F47<$A$2),1,0) -> 0
A48: =A46+1 -> 41658 | B48: =UPPER(TEXT(A48,"jjj")) -> SAM | C48: =UPPER(TEXT(A48,"jj mmm")) -> 20 JANV | E48: R | G48: =MOD(F48-D48,1) -> 0 | H48: =G48+G49 -> 0 | I48: =IF(OR(F47="",D48=""),0,MOD(D48-F47,1)) -> 0 | J48: =IF(OR(D48>F48,D48>=$A$3),F48+IF(D48>F48,1,0)-$A$3,0) -> 0 | K48: =J48+J49 -> 0 | L48: =IF(AND(WEEKDAY($A48,2)<7,E48="CP"),1,0) -> 0 | M48: =IF(E48="CV",1,0) -> 0 | N48: =IF(AND(F48>$A$4,F48<$A$2),1,0) -> 0 | P48: CP | R48: =MOD(Q48-O48,1) -> 0 | S48: =R48+R49 -> 0 | T48: =IF(OR(Q47="",O48=""),0,MOD(O48-Q47,1)) -> 0 | U48: =IF(OR(O48>Q48,O48>=$A$3),Q48+IF(O48>Q48,1,0)-$A$3,0) -> 0 | V48: =U48+U49 -> 0 | W48: =IF(AND(WEEKDAY($A48,2)<7,P48="CP"),1,0) -> 1 | X48: =IF(P48="CV",1,0) -> 0 | Y48: =IF(AND(Q48>$A$4,Q48<$A$2),1,0) -> 0 | AC48: =MOD(AB48-Z48,1) -> 0 | AD48: =AC48+AC49 -> 0 | AE48: =IF(OR(AB47="",Z48=""),0,MOD(Z48-AB47,1)) -> 0 | AF48: =IF(OR(Z48>AB48,Z48>=$A$3),AB48+IF(Z48>AB48,1,0)-$A$3,0) -> 0 | AG48: =AF48+AF49 -> 0 | AH48: =IF(AND(WEEKDAY($A48,2)<7,AA48="CP"),1,0) -> 0 | AI48: =IF(AA48="CV",1,0) -> 0 | AJ48: =IF(AND(F48>$A$4,F48<$A$2),1,0) -> 0 | AN48: =MOD(AM48-AK48,1) -> 0 | AO48: =AN48+AN49 -> 0 | AP48: =IF(OR(AM47="",AK48=""),0,MOD(AK48-AM47,1)) -> 0 | AQ48: =IF(OR(AK48>AM48,AK48>=$A$3),AM48+IF(AK48>AM48,1,0)-$A$3,0) -> 0 | AR48: =AQ48+AQ49 -> 0 | AS48: =IF(AND(WEEKDAY($A48,2)<7,AL48="CP"),1,0) -> 0 | AT48: =IF(AL48="CV",1,0) -> 0 | AU48: =IF(AND(F48>$A$4,F48<$A$2),1,0) -> 0 | AY48: =MOD(AX48-AV48,1) -> 0 | AZ48: =AY48+AY49 -> 0 | BA48: =IF(OR(AX47="",AV48=""),0,MOD(AV48-AX47,1)) -> 0 | BB48: =IF(OR(AV48>AX48,AV48>=$A$3),AX48+IF(AV48>AX48,1,0)-$A$3,0) -> 0 | BC48: =BB48+BB49 -> 0 | BD48: =IF(AND(WEEKDAY($A48,2)<7,AW48="CP"),1,0) -> 0 | BE48: =IF(AW48="CV",1,0) -> 0 | BF48: =IF(AND(F48>$A$4,F48<$A$2),1,0) -> 0 | BJ48: =MOD(BI48-BG48,1) -> 0 | BK48: =BJ48+BJ49 -> 0 | BL48: =IF(OR(BI47="",BG48=""),0,MOD(BG48-BI47,1)) -> 0 | BM48: =IF(OR(BG48>BI48,BG48>=$A$3),BI48+IF(BG48>BI48,1,0)-$A$3,0) -> 0 | BN48: =BM48+BM49 -> 0 | BO48: =IF(AND(WEEKDAY($A48,2)<7,BH48="CP"),1,0) -> 0 | BP48: =IF(BH48="CV",1,0) -> 0 | BQ48: =IF(AND(F48>$A$4,F48<$A$2),1,0) -> 0
E49: R | G49: =MOD(F49-D49,1) -> 0 | J49: =IF(OR(D49>F49,D49>=$A$3),F49+IF(D49>F49,1,0)-$A$3,0) -> 0 | N49: =IF(AND(F49>$A$4,F49<$A$2),1,0) -> 0 | P49: CP | R49: =MOD(Q49-O49,1) -> 0 | U49: =IF(OR(O49>Q49,O49>=$A$3),Q49+IF(O49>Q49,1,0)-$A$3,0) -> 0 | Y49: =IF(AND(Q49>$A$4,Q49<$A$2),1,0) -> 0 | AC49: =MOD(AB49-Z49,1) -> 0 | AF49: =IF(OR(Z49>AB49,Z49>=$A$3),AB49+IF(Z49>AB49,1,0)-$A$3,0) -> 0 | AJ49: =IF(AND(F49>$A$4,F49<$A$2),1,0) -> 0 | AN49: =MOD(AM49-AK49,1) -> 0 | AQ49: =IF(OR(AK49>AM49,AK49>=$A$3),AM49+IF(AK49>AM49,1,0)-$A$3,0) -> 0 | AU49: =IF(AND(F49>$A$4,F49<$A$2),1,0) -> 0 | AY49: =MOD(AX49-AV49,1) -> 0 | BB49: =IF(OR(AV49>AX49,AV49>=$A$3),AX49+IF(AV49>AX49,1,0)-$A$3,0) -> 0 | BF49: =IF(AND(F49>$A$4,F49<$A$2),1,0) -> 0 | BJ49: =MOD(BI49-BG49,1) -> 0 | BM49: =IF(OR(BG49>BI49,BG49>=$A$3),BI49+IF(BG49>BI49,1,0)-$A$3,0) -> 0 | BQ49: =IF(AND(F49>$A$4,F49<$A$2),1,0) -> 0
A50: =A48+1 -> 41659 | B50: =UPPER(TEXT(A50,"jjj")) -> DIM | C50: =UPPER(TEXT(A50,"jj mmm")) -> 21 JANV | E50: R | G50: =MOD(F50-D50,1) -> 0 | H50: =G50+G51 -> 0 | I50: =IF(OR(F49="",D50=""),0,MOD(D50-F49,1)) -> 0 | J50: =IF(OR(D50>F50,D50>=$A$3),F50+IF(D50>F50,1,0)-$A$3,0) -> 0 | K50: =J50+J51 -> 0 | L50: =IF(AND(WEEKDAY($A50,2)<7,E50="CP"),1,0) -> 0 | M50: =IF(E50="CV",1,0) -> 0 | N50: =IF(AND(F50>$A$4,F50<$A$2),1,0) -> 0 | P50: CP | R50: =MOD(Q50-O50,1) -> 0 | S50: =R50+R51 -> 0 | T50: =IF(OR(Q49="",O50=""),0,MOD(O50-Q49,1)) -> 0 | U50: =IF(OR(O50>Q50,O50>=$A$3),Q50+IF(O50>Q50,1,0)-$A$3,0) -> 0 | V50: =U50+U51 -> 0 | W50: =IF(AND(WEEKDAY($A50,2)<7,P50="CP"),1,0) -> 0 | X50: =IF(P50="CV",1,0) -> 0 | Y50: =IF(AND(Q50>$A$4,Q50<$A$2),1,0) -> 0 | AC50: =MOD(AB50-Z50,1) -> 0 | AD50: =AC50+AC51 -> 0 | AE50: =IF(OR(AB49="",Z50=""),0,MOD(Z50-AB49,1)) -> 0 | AF50: =IF(OR(Z50>AB50,Z50>=$A$3),AB50+IF(Z50>AB50,1,0)-$A$3,0) -> 0 | AG50: =AF50+AF51 -> 0 | AH50: =IF(AND(WEEKDAY($A50,2)<7,AA50="CP"),1,0) -> 0 | AI50: =IF(AA50="CV",1,0) -> 0 | AJ50: =IF(AND(F50>$A$4,F50<$A$2),1,0) -> 0 | AN50: =MOD(AM50-AK50,1) -> 0 | AO50: =AN50+AN51 -> 0 | AP50: =IF(OR(AM49="",AK50=""),0,MOD(AK50-AM49,1)) -> 0 | AQ50: =IF(OR(AK50>AM50,AK50>=$A$3),AM50+IF(AK50>AM50,1,0)-$A$3,0) -> 0 | AR50: =AQ50+AQ51 -> 0 | AS50: =IF(AND(WEEKDAY($A50,2)<7,AL50="CP"),1,0) -> 0 | AT50: =IF(AL50="CV",1,0) -> 0 | AU50: =IF(AND(F50>$A$4,F50<$A$2),1,0) -> 0 | AY50: =MOD(AX50-AV50,1) -> 0 | AZ50: =AY50+AY51 -> 0 | BA50: =IF(OR(AX49="",AV50=""),0,MOD(AV50-AX49,1)) -> 0 | BB50: =IF(OR(AV50>AX50,AV50>=$A$3),AX50+IF(AV50>AX50,1,0)-$A$3,0) -> 0 | BC50: =BB50+BB51 -> 0 | BD50: =IF(AND(WEEKDAY($A50,2)<7,AW50="CP"),1,0) -> 0 | BE50: =IF(AW50="CV",1,0) -> 0 | BF50: =IF(AND(F50>$A$4,F50<$A$2),1,0) -> 0 | BJ50: =MOD(BI50-BG50,1) -> 0 | BK50: =BJ50+BJ51 -> 0 | BL50: =IF(OR(BI49="",BG50=""),0,MOD(BG50-BI49,1)) -> 0 | BM50: =IF(OR(BG50>BI50,BG50>=$A$3),BI50+IF(BG50>BI50,1,0)-$A$3,0) -> 0 | BN50: =BM50+BM51 -> 0 | BO50: =IF(AND(WEEKDAY($A50,2)<7,BH50="CP"),1,0) -> 0 | BP50: =IF(BH50="CV",1,0) -> 0 | BQ50: =IF(AND(F50>$A$4,F50<$A$2),1,0) -> 0
E51: R | G51: =MOD(F51-D51,1) -> 0 | J51: =IF(OR(D51>F51,D51>=$A$3),F51+IF(D51>F51,1,0)-$A$3,0) -> 0 | N51: =IF(AND(F51>$A$4,F51<$A$2),1,0) -> 0 | P51: CP | R51: =MOD(Q51-O51,1) -> 0 | U51: =IF(OR(O51>Q51,O51>=$A$3),Q51+IF(O51>Q51,1,0)-$A$3,0) -> 0 | Y51: =IF(AND(Q51>$A$4,Q51<$A$2),1,0) -> 0 | AC51: =MOD(AB51-Z51,1) -> 0 | AF51: =IF(OR(Z51>AB51,Z51>=$A$3),AB51+IF(Z51>AB51,1,0)-$A$3,0) -> 0 | AJ51: =IF(AND(F51>$A$4,F51<$A$2),1,0) -> 0 | AN51: =MOD(AM51-AK51,1) -> 0 | AQ51: =IF(OR(AK51>AM51,AK51>=$A$3),AM51+IF(AK51>AM51,1,0)-$A$3,0) -> 0 | AU51: =IF(AND(F51>$A$4,F51<$A$2),1,0) -> 0 | AY51: =MOD(AX51-AV51,1) -> 0 | BB51: =IF(OR(AV51>AX51,AV51>=$A$3),AX51+IF(AV51>AX51,1,0)-$A$3,0) -> 0 | BF51: =IF(AND(F51>$A$4,F51<$A$2),1,0) -> 0 | BJ51: =MOD(BI51-BG51,1) -> 0 | BM51: =IF(OR(BG51>BI51,BG51>=$A$3),BI51+IF(BG51>BI51,1,0)-$A$3,0) -> 0 | BQ51: =IF(AND(F51>$A$4,F51<$A$2),1,0) -> 0
D52: TOTAL HEURE SEMAINE | H52: =SUM(H38:H51) -> 0.58333333 | O52: TOTAL HEURE SEMAINE | S52: =SUM(S38:S51) -> 0 | Z52: TOTAL HEURE SEMAINE | AD52: =SUM(AD38:AD51) -> 0 | AK52: TOTAL HEURE SEMAINE | AO52: =SUM(AO38:AO51) -> 0 | AV52: TOTAL HEURE SEMAINE | AZ52: =SUM(AZ38:AZ51) -> 0 | BG52: TOTAL HEURE SEMAINE | BK52: =SUM(BK38:BK51) -> 0
A53: =A50+1 -> 41660 | B53: =UPPER(TEXT(A53,"jjj")) -> LUN | C53: =UPPER(TEXT(A53,"jj mmm")) -> 22 JANV | E53: CP | G53: =MOD(F53-D53,1) -> 0 | H53: =G53+G54 -> 0 | I53: =IF(OR(F51="",D53=""),0,MOD(D53-F51,1)) -> 0 | J53: =IF(OR(D53>F53,D53>=$A$3),F53+IF(D53>F53,1,0)-$A$3,0) -> 0 | K53: =J53+J54 -> 0 | L53: =IF(AND(WEEKDAY($A53,2)<7,E53="CP"),1,0) -> 1 | M53: =IF(E53="CV",1,0) -> 0 | N53: =IF(AND(F53>$A$4,F53<$A$2),1,0) -> 0 | P53: CP | R53: =MOD(Q53-O53,1) -> 0 | S53: =R53+R54 -> 0 | T53: =IF(OR(Q51="",O53=""),0,MOD(O53-Q51,1)) -> 0 | U53: =IF(OR(O53>Q53,O53>=$A$3),Q53+IF(O53>Q53,1,0)-$A$3,0) -> 0 | V53: =U53+U54 -> 0 | W53: =IF(AND(WEEKDAY($A53,2)<7,P53="CP"),1,0) -> 1 | X53: =IF(P53="CV",1,0) -> 0 | Y53: =IF(AND(Q53>$A$4,Q53<$A$2),1,0) -> 0 | AC53: =MOD(AB53-Z53,1) -> 0 | AD53: =AC53+AC54 -> 0 | AE53: =IF(OR(AB51="",Z53=""),0,MOD(Z53-AB51,1)) -> 0 | AF53: =IF(OR(Z53>AB53,Z53>=$A$3),AB53+IF(Z53>AB53,1,0)-$A$3,0) -> 0 | AG53: =AF53+AF54 -> 0 | AH53: =IF(AND(WEEKDAY($A53,2)<7,AA53="CP"),1,0) -> 0 | AI53: =IF(AA53="CV",1,0) -> 0 | AJ53: =IF(AND(F53>$A$4,F53<$A$2),1,0) -> 0 | AN53: =MOD(AM53-AK53,1) -> 0 | AO53: =AN53+AN54 -> 0 | AP53: =IF(OR(AM51="",AK53=""),0,MOD(AK53-AM51,1)) -> 0 | AQ53: =IF(OR(AK53>AM53,AK53>=$A$3),AM53+IF(AK53>AM53,1,0)-$A$3,0) -> 0 | AR53: =AQ53+AQ54 -> 0 | AS53: =IF(AND(WEEKDAY($A53,2)<7,AL53="CP"),1,0) -> 0 | AT53: =IF(AL53="CV",1,0) -> 0 | AU53: =IF(AND(F53>$A$4,F53<$A$2),1,0) -> 0 | AY53: =MOD(AX53-AV53,1) -> 0 | AZ53: =AY53+AY54 -> 0 | BA53: =IF(OR(AX51="",AV53=""),0,MOD(AV53-AX51,1)) -> 0 | BB53: =IF(OR(AV53>AX53,AV53>=$A$3),AX53+IF(AV53>AX53,1,0)-$A$3,0) -> 0 | BC53: =BB53+BB54 -> 0 | BD53: =IF(AND(WEEKDAY($A53,2)<7,AW53="CP"),1,0) -> 0 | BE53: =IF(AW53="CV",1,0) -> 0 | BF53: =IF(AND(F53>$A$4,F53<$A$2),1,0) -> 0 | BJ53: =MOD(BI53-BG53,1) -> 0 | BK53: =BJ53+BJ54 -> 0 | BL53: =IF(OR(BI51="",BG53=""),0,MOD(BG53-BI51,1)) -> 0 | BM53: =IF(OR(BG53>BI53,BG53>=$A$3),BI53+IF(BG53>BI53,1,0)-$A$3,0) -> 0 | BN53: =BM53+BM54 -> 0 | BO53: =IF(AND(WEEKDAY($A53,2)<7,BH53="CP"),1,0) -> 0 | BP53: =IF(BH53="CV",1,0) -> 0 | BQ53: =IF(AND(F53>$A$4,F53<$A$2),1,0) -> 0
E54: CP | G54: =MOD(F54-D54,1) -> 0 | J54: =IF(OR(D54>F54,D54>=$A$3),F54+IF(D54>F54,1,0)-$A$3,0) -> 0 | N54: =IF(AND(F54>$A$4,F54<$A$2),1,0) -> 0 | P54: CP | R54: =MOD(Q54-O54,1) -> 0 | U54: =IF(OR(O54>Q54,O54>=$A$3),Q54+IF(O54>Q54,1,0)-$A$3,0) -> 0 | Y54: =IF(AND(Q54>$A$4,Q54<$A$2),1,0) -> 0 | AC54: =MOD(AB54-Z54,1) -> 0 | AF54: =IF(OR(Z54>AB54,Z54>=$A$3),AB54+IF(Z54>AB54,1,0)-$A$3,0) -> 0 | AJ54: =IF(AND(F54>$A$4,F54<$A$2),1,0) -> 0 | AN54: =MOD(AM54-AK54,1) -> 0 | AQ54: =IF(OR(AK54>AM54,AK54>=$A$3),AM54+IF(AK54>AM54,1,0)-$A$3,0) -> 0 | AU54: =IF(AND(F54>$A$4,F54<$A$2),1,0) -> 0 | AY54: =MOD(AX54-AV54,1) -> 0 | BB54: =IF(OR(AV54>AX54,AV54>=$A$3),AX54+IF(AV54>AX54,1,0)-$A$3,0) -> 0 | BF54: =IF(AND(F54>$A$4,F54<$A$2),1,0) -> 0 | BJ54: =MOD(BI54-BG54,1) -> 0 | BM54: =IF(OR(BG54>BI54,BG54>=$A$3),BI54+IF(BG54>BI54,1,0)-$A$3,0) -> 0 | BQ54: =IF(AND(F54>$A$4,F54<$A$2),1,0) -> 0
A55: =A53+1 -> 41661 | B55: =UPPER(TEXT(A55,"jjj")) -> MAR | C55: =UPPER(TEXT(A55,"jj mmm")) -> 23 JANV | E55: CP | G55: =MOD(F55-D55,1) -> 0 | H55: =G55+G56 -> 0 | I55: =IF(OR(F54="",D55=""),0,MOD(D55-F54,1)) -> 0 | J55: =IF(OR(D55>F55,D55>=$A$3),F55+IF(D55>F55,1,0)-$A$3,0) -> 0 | K55: =J55+J56 -> 0 | L55: =IF(AND(WEEKDAY($A55,2)<7,E55="CP"),1,0) -> 1 | M55: =IF(E55="CV",1,0) -> 0 | N55: =IF(AND(F55>$A$4,F55<$A$2),1,0) -> 0 | P55: CP | R55: =MOD(Q55-O55,1) -> 0 | S55: =R55+R56 -> 0 | T55: =IF(OR(Q54="",O55=""),0,MOD(O55-Q54,1)) -> 0 | U55: =IF(OR(O55>Q55,O55>=$A$3),Q55+IF(O55>Q55,1,0)-$A$3,0) -> 0 | V55: =U55+U56 -> 0 | W55: =IF(AND(WEEKDAY($A55,2)<7,P55="CP"),1,0) -> 1 | X55: =IF(P55="CV",1,0) -> 0 | Y55: =IF(AND(Q55>$A$4,Q55<$A$2),1,0) -> 0 | AC55: =MOD(AB55-Z55,1) -> 0 | AD55: =AC55+AC56 -> 0 | AE55: =IF(OR(AB54="",Z55=""),0,MOD(Z55-AB54,1)) -> 0 | AF55: =IF(OR(Z55>AB55,Z55>=$A$3),AB55+IF(Z55>AB55,1,0)-$A$3,0) -> 0 | AG55: =AF55+AF56 -> 0 | AH55: =IF(AND(WEEKDAY($A55,2)<7,AA55="CP"),1,0) -> 0 | AI55: =IF(AA55="CV",1,0) -> 0 | AJ55: =IF(AND(F55>$A$4,F55<$A$2),1,0) -> 0 | AN55: =MOD(AM55-AK55,1) -> 0 | AO55: =AN55+AN56 -> 0 | AP55: =IF(OR(AM54="",AK55=""),0,MOD(AK55-AM54,1)) -> 0 | AQ55: =IF(OR(AK55>AM55,AK55>=$A$3),AM55+IF(AK55>AM55,1,0)-$A$3,0) -> 0 | AR55: =AQ55+AQ56 -> 0 | AS55: =IF(AND(WEEKDAY($A55,2)<7,AL55="CP"),1,0) -> 0 | AT55: =IF(AL55="CV",1,0) -> 0 | AU55: =IF(AND(F55>$A$4,F55<$A$2),1,0) -> 0 | AY55: =MOD(AX55-AV55,1) -> 0 | AZ55: =AY55+AY56 -> 0 | BA55: =IF(OR(AX54="",AV55=""),0,MOD(AV55-AX54,1)) -> 0 | BB55: =IF(OR(AV55>AX55,AV55>=$A$3),AX55+IF(AV55>AX55,1,0)-$A$3,0) -> 0 | BC55: =BB55+BB56 -> 0 | BD55: =IF(AND(WEEKDAY($A55,2)<7,AW55="CP"),1,0) -> 0 | BE55: =IF(AW55="CV",1,0) -> 0 | BF55: =IF(AND(F55>$A$4,F55<$A$2),1,0) -> 0 | BJ55: =MOD(BI55-BG55,1) -> 0 | BK55: =BJ55+BJ56 -> 0 | BL55: =IF(OR(BI54="",BG55=""),0,MOD(BG55-BI54,1)) -> 0 | BM55: =IF(OR(BG55>BI55,BG55>=$A$3),BI55+IF(BG55>BI55,1,0)-$A$3,0) -> 0 | BN55: =BM55+BM56 -> 0 | BO55: =IF(AND(WEEKDAY($A55,2)<7,BH55="CP"),1,0) -> 0 | BP55: =IF(BH55="CV",1,0) -> 0 | BQ55: =IF(AND(F55>$A$4,F55<$A$2),1,0) -> 0
E56: CP | G56: =MOD(F56-D56,1) -> 0 | J56: =IF(OR(D56>F56,D56>=$A$3),F56+IF(D56>F56,1,0)-$A$3,0) -> 0 | N56: =IF(AND(F56>$A$4,F56<$A$2),1,0) -> 0 | P56: CP | R56: =MOD(Q56-O56,1) -> 0 | U56: =IF(OR(O56>Q56,O56>=$A$3),Q56+IF(O56>Q56,1,0)-$A$3,0) -> 0 | Y56: =IF(AND(Q56>$A$4,Q56<$A$2),1,0) -> 0 | AC56: =MOD(AB56-Z56,1) -> 0 | AF56: =IF(OR(Z56>AB56,Z56>=$A$3),AB56+IF(Z56>AB56,1,0)-$A$3,0) -> 0 | AJ56: =IF(AND(F56>$A$4,F56<$A$2),1,0) -> 0 | AN56: =MOD(AM56-AK56,1) -> 0 | AQ56: =IF(OR(AK56>AM56,AK56>=$A$3),AM56+IF(AK56>AM56,1,0)-$A$3,0) -> 0 | AU56: =IF(AND(F56>$A$4,F56<$A$2),1,0) -> 0 | AY56: =MOD(AX56-AV56,1) -> 0 | BB56: =IF(OR(AV56>AX56,AV56>=$A$3),AX56+IF(AV56>AX56,1,0)-$A$3,0) -> 0 | BF56: =IF(AND(F56>$A$4,F56<$A$2),1,0) -> 0 | BJ56: =MOD(BI56-BG56,1) -> 0 | BM56: =IF(OR(BG56>BI56,BG56>=$A$3),BI56+IF(BG56>BI56,1,0)-$A$3,0) -> 0 | BQ56: =IF(AND(F56>$A$4,F56<$A$2),1,0) -> 0
A57: =A55+1 -> 41662 | B57: =UPPER(TEXT(A57,"jjj")) -> MER | C57: =UPPER(TEXT(A57,"jj mmm")) -> 24 JANV | E57: CP | G57: =MOD(F57-D57,1) -> 0 | H57: =G57+G58 -> 0 | I57: =IF(OR(F56="",D57=""),0,MOD(D57-F56,1)) -> 0 | J57: =IF(OR(D57>F57,D57>=$A$3),F57+IF(D57>F57,1,0)-$A$3,0) -> 0 | K57: =J57+J58 -> 0 | L57: =IF(AND(WEEKDAY($A57,2)<7,E57="CP"),1,0) -> 1 | M57: =IF(E57="CV",1,0) -> 0 | N57: =IF(AND(F57>$A$4,F57<$A$2),1,0) -> 0 | P57: CP | R57: =MOD(Q57-O57,1) -> 0 | S57: =R57+R58 -> 0 | T57: =IF(OR(Q56="",O57=""),0,MOD(O57-Q56,1)) -> 0 | U57: =IF(OR(O57>Q57,O57>=$A$3),Q57+IF(O57>Q57,1,0)-$A$3,0) -> 0 | V57: =U57+U58 -> 0 | W57: =IF(AND(WEEKDAY($A57,2)<7,P57="CP"),1,0) -> 1 | X57: =IF(P57="CV",1,0) -> 0 | Y57: =IF(AND(Q57>$A$4,Q57<$A$2),1,0) -> 0 | AC57: =MOD(AB57-Z57,1) -> 0 | AD57: =AC57+AC58 -> 0 | AE57: =IF(OR(AB56="",Z57=""),0,MOD(Z57-AB56,1)) -> 0 | AF57: =IF(OR(Z57>AB57,Z57>=$A$3),AB57+IF(Z57>AB57,1,0)-$A$3,0) -> 0 | AG57: =AF57+AF58 -> 0 | AH57: =IF(AND(WEEKDAY($A57,2)<7,AA57="CP"),1,0) -> 0 | AI57: =IF(AA57="CV",1,0) -> 0 | AJ57: =IF(AND(F57>$A$4,F57<$A$2),1,0) -> 0 | AN57: =MOD(AM57-AK57,1) -> 0 | AO57: =AN57+AN58 -> 0 | AP57: =IF(OR(AM56="",AK57=""),0,MOD(AK57-AM56,1)) -> 0 | AQ57: =IF(OR(AK57>AM57,AK57>=$A$3),AM57+IF(AK57>AM57,1,0)-$A$3,0) -> 0 | AR57: =AQ57+AQ58 -> 0 | AS57: =IF(AND(WEEKDAY($A57,2)<7,AL57="CP"),1,0) -> 0 | AT57: =IF(AL57="CV",1,0) -> 0 | AU57: =IF(AND(F57>$A$4,F57<$A$2),1,0) -> 0 | AY57: =MOD(AX57-AV57,1) -> 0 | AZ57: =AY57+AY58 -> 0 | BA57: =IF(OR(AX56="",AV57=""),0,MOD(AV57-AX56,1)) -> 0 | BB57: =IF(OR(AV57>AX57,AV57>=$A$3),AX57+IF(AV57>AX57,1,0)-$A$3,0) -> 0 | BC57: =BB57+BB58 -> 0 | BD57: =IF(AND(WEEKDAY($A57,2)<7,AW57="CP"),1,0) -> 0 | BE57: =IF(AW57="CV",1,0) -> 0 | BF57: =IF(AND(F57>$A$4,F57<$A$2),1,0) -> 0 | BJ57: =MOD(BI57-BG57,1) -> 0 | BK57: =BJ57+BJ58 -> 0 | BL57: =IF(OR(BI56="",BG57=""),0,MOD(BG57-BI56,1)) -> 0 | BM57: =IF(OR(BG57>BI57,BG57>=$A$3),BI57+IF(BG57>BI57,1,0)-$A$3,0) -> 0 | BN57: =BM57+BM58 -> 0 | BO57: =IF(AND(WEEKDAY($A57,2)<7,BH57="CP"),1,0) -> 0 | BP57: =IF(BH57="CV",1,0) -> 0 | BQ57: =IF(AND(F57>$A$4,F57<$A$2),1,0) -> 0
E58: CP | G58: =MOD(F58-D58,1) -> 0 | J58: =IF(OR(D58>F58,D58>=$A$3),F58+IF(D58>F58,1,0)-$A$3,0) -> 0 | N58: =IF(AND(F58>$A$4,F58<$A$2),1,0) -> 0 | P58: CP | R58: =MOD(Q58-O58,1) -> 0 | U58: =IF(OR(O58>Q58,O58>=$A$3),Q58+IF(O58>Q58,1,0)-$A$3,0) -> 0 | Y58: =IF(AND(Q58>$A$4,Q58<$A$2),1,0) -> 0 | AC58: =MOD(AB58-Z58,1) -> 0 | AF58: =IF(OR(Z58>AB58,Z58>=$A$3),AB58+IF(Z58>AB58,1,0)-$A$3,0) -> 0 | AJ58: =IF(AND(F58>$A$4,F58<$A$2),1,0) -> 0 | AN58: =MOD(AM58-AK58,1) -> 0 | AQ58: =IF(OR(AK58>AM58,AK58>=$A$3),AM58+IF(AK58>AM58,1,0)-$A$3,0) -> 0 | AU58: =IF(AND(F58>$A$4,F58<$A$2),1,0) -> 0 | AY58: =MOD(AX58-AV58,1) -> 0 | BB58: =IF(OR(AV58>AX58,AV58>=$A$3),AX58+IF(AV58>AX58,1,0)-$A$3,0) -> 0 | BF58: =IF(AND(F58>$A$4,F58<$A$2),1,0) -> 0 | BJ58: =MOD(BI58-BG58,1) -> 0 | BM58: =IF(OR(BG58>BI58,BG58>=$A$3),BI58+IF(BG58>BI58,1,0)-$A$3,0) -> 0 | BQ58: =IF(AND(F58>$A$4,F58<$A$2),1,0) -> 0
A59: =A57+1 -> 41663 | B59: =UPPER(TEXT(A59,"jjj")) -> JEU | C59: =UPPER(TEXT(A59,"jj mmm")) -> 25 JANV | E59: CP | G59: =MOD(F59-D59,1) -> 0 | H59: =G59+G60 -> 0 | I59: =IF(OR(F58="",D59=""),0,MOD(D59-F58,1)) -> 0 | J59: =IF(OR(D59>F59,D59>=$A$3),F59+IF(D59>F59,1,0)-$A$3,0) -> 0 | K59: =J59+J60 -> 0 | L59: =IF(AND(WEEKDAY($A59,2)<7,E59="CP"),1,0) -> 1 | M59: =IF(E59="CV",1,0) -> 0 | N59: =IF(AND(F59>$A$4,F59<$A$2),1,0) -> 0 | P59: CP | R59: =MOD(Q59-O59,1) -> 0 | S59: =R59+R60 -> 0 | T59: =IF(OR(Q58="",O59=""),0,MOD(O59-Q58,1)) -> 0 | U59: =IF(OR(O59>Q59,O59>=$A$3),Q59+IF(O59>Q59,1,0)-$A$3,0) -> 0 | V59: =U59+U60 -> 0 | W59: =IF(AND(WEEKDAY($A59,2)<7,P59="CP"),1,0) -> 1 | X59: =IF(P59="CV",1,0) -> 0 | Y59: =IF(AND(Q59>$A$4,Q59<$A$2),1,0) -> 0 | AC59: =MOD(AB59-Z59,1) -> 0 | AD59: =AC59+AC60 -> 0 | AE59: =IF(OR(AB58="",Z59=""),0,MOD(Z59-AB58,1)) -> 0 | AF59: =IF(OR(Z59>AB59,Z59>=$A$3),AB59+IF(Z59>AB59,1,0)-$A$3,0) -> 0 | AG59: =AF59+AF60 -> 0 | AH59: =IF(AND(WEEKDAY($A59,2)<7,AA59="CP"),1,0) -> 0 | AI59: =IF(AA59="CV",1,0) -> 0 | AJ59: =IF(AND(F59>$A$4,F59<$A$2),1,0) -> 0 | AN59: =MOD(AM59-AK59,1) -> 0 | AO59: =AN59+AN60 -> 0 | AP59: =IF(OR(AM58="",AK59=""),0,MOD(AK59-AM58,1)) -> 0 | AQ59: =IF(OR(AK59>AM59,AK59>=$A$3),AM59+IF(AK59>AM59,1,0)-$A$3,0) -> 0 | AR59: =AQ59+AQ60 -> 0 | AS59: =IF(AND(WEEKDAY($A59,2)<7,AL59="CP"),1,0) -> 0 | AT59: =IF(AL59="CV",1,0) -> 0 | AU59: =IF(AND(F59>$A$4,F59<$A$2),1,0) -> 0 | AY59: =MOD(AX59-AV59,1) -> 0 | AZ59: =AY59+AY60 -> 0 | BA59: =IF(OR(AX58="",AV59=""),0,MOD(AV59-AX58,1)) -> 0 | BB59: =IF(OR(AV59>AX59,AV59>=$A$3),AX59+IF(AV59>AX59,1,0)-$A$3,0) -> 0 | BC59: =BB59+BB60 -> 0 | BD59: =IF(AND(WEEKDAY($A59,2)<7,AW59="CP"),1,0) -> 0 | BE59: =IF(AW59="CV",1,0) -> 0 | BF59: =IF(AND(F59>$A$4,F59<$A$2),1,0) -> 0 | BJ59: =MOD(BI59-BG59,1) -> 0 | BK59: =BJ59+BJ60 -> 0 | BL59: =IF(OR(BI58="",BG59=""),0,MOD(BG59-BI58,1)) -> 0 | BM59: =IF(OR(BG59>BI59,BG59>=$A$3),BI59+IF(BG59>BI59,1,0)-$A$3,0) -> 0 | BN59: =BM59+BM60 -> 0 | BO59: =IF(AND(WEEKDAY($A59,2)<7,BH59="CP"),1,0) -> 0 | BP59: =IF(BH59="CV",1,0) -> 0 | BQ59: =IF(AND(F59>$A$4,F59<$A$2),1,0) -> 0
E60: CP | G60: =MOD(F60-D60,1) -> 0 | J60: =IF(OR(D60>F60,D60>=$A$3),F60+IF(D60>F60,1,0)-$A$3,0) -> 0 | N60: =IF(AND(F60>$A$4,F60<$A$2),1,0) -> 0 | P60: CP | R60: =MOD(Q60-O60,1) -> 0 | U60: =IF(OR(O60>Q60,O60>=$A$3),Q60+IF(O60>Q60,1,0)-$A$3,0) -> 0 | Y60: =IF(AND(Q60>$A$4,Q60<$A$2),1,0) -> 0 | AC60: =MOD(AB60-Z60,1) -> 0 | AF60: =IF(OR(Z60>AB60,Z60>=$A$3),AB60+IF(Z60>AB60,1,0)-$A$3,0) -> 0 | AJ60: =IF(AND(F60>$A$4,F60<$A$2),1,0) -> 0 | AN60: =MOD(AM60-AK60,1) -> 0 | AQ60: =IF(OR(AK60>AM60,AK60>=$A$3),AM60+IF(AK60>AM60,1,0)-$A$3,0) -> 0 | AU60: =IF(AND(F60>$A$4,F60<$A$2),1,0) -> 0 | AY60: =MOD(AX60-AV60,1) -> 0 | BB60: =IF(OR(AV60>AX60,AV60>=$A$3),AX60+IF(AV60>AX60,1,0)-$A$3,0) -> 0 | BF60: =IF(AND(F60>$A$4,F60<$A$2),1,0) -> 0 | BJ60: =MOD(BI60-BG60,1) -> 0 | BM60: =IF(OR(BG60>BI60,BG60>=$A$3),BI60+IF(BG60>BI60,1,0)-$A$3,0) -> 0 | BQ60: =IF(AND(F60>$A$4,F60<$A$2),1,0) -> 0
A61: =A59+1 -> 41664 | B61: =UPPER(TEXT(A61,"jjj")) -> VEN | C61: =UPPER(TEXT(A61,"jj mmm")) -> 26 JANV | E61: CP | G61: =MOD(F61-D61,1) -> 0 | H61: =G61+G62 -> 0 | I61: =IF(OR(F60="",D61=""),0,MOD(D61-F60,1)) -> 0 | J61: =IF(OR(D61>F61,D61>=$A$3),F61+IF(D61>F61,1,0)-$A$3,0) -> 0 | K61: =J61+J62 -> 0 | L61: =IF(AND(WEEKDAY($A61,2)<7,E61="CP"),1,0) -> 1 | M61: =IF(E61="CV",1,0) -> 0 | N61: =IF(AND(F61>$A$4,F61<$A$2),1,0) -> 0 | P61: CP | R61: =MOD(Q61-O61,1) -> 0 | S61: =R61+R62 -> 0 | T61: =IF(OR(Q60="",O61=""),0,MOD(O61-Q60,1)) -> 0 | U61: =IF(OR(O61>Q61,O61>=$A$3),Q61+IF(O61>Q61,1,0)-$A$3,0) -> 0 | V61: =U61+U62 -> 0 | W61: =IF(AND(WEEKDAY($A61,2)<7,P61="CP"),1,0) -> 1 | X61: =IF(P61="CV",1,0) -> 0 | Y61: =IF(AND(Q61>$A$4,Q61<$A$2),1,0) -> 0 | AC61: =MOD(AB61-Z61,1) -> 0 | AD61: =AC61+AC62 -> 0 | AE61: =IF(OR(AB60="",Z61=""),0,MOD(Z61-AB60,1)) -> 0 | AF61: =IF(OR(Z61>AB61,Z61>=$A$3),AB61+IF(Z61>AB61,1,0)-$A$3,0) -> 0 | AG61: =AF61+AF62 -> 0 | AH61: =IF(AND(WEEKDAY($A61,2)<7,AA61="CP"),1,0) -> 0 | AI61: =IF(AA61="CV",1,0) -> 0 | AJ61: =IF(AND(F61>$A$4,F61<$A$2),1,0) -> 0 | AN61: =MOD(AM61-AK61,1) -> 0 | AO61: =AN61+AN62 -> 0 | AP61: =IF(OR(AM60="",AK61=""),0,MOD(AK61-AM60,1)) -> 0 | AQ61: =IF(OR(AK61>AM61,AK61>=$A$3),AM61+IF(AK61>AM61,1,0)-$A$3,0) -> 0 | AR61: =AQ61+AQ62 -> 0 | AS61: =IF(AND(WEEKDAY($A61,2)<7,AL61="CP"),1,0) -> 0 | AT61: =IF(AL61="CV",1,0) -> 0 | AU61: =IF(AND(F61>$A$4,F61<$A$2),1,0) -> 0 | AY61: =MOD(AX61-AV61,1) -> 0 | AZ61: =AY61+AY62 -> 0 | BA61: =IF(OR(AX60="",AV61=""),0,MOD(AV61-AX60,1)) -> 0 | BB61: =IF(OR(AV61>AX61,AV61>=$A$3),AX61+IF(AV61>AX61,1,0)-$A$3,0) -> 0 | BC61: =BB61+BB62 -> 0 | BD61: =IF(AND(WEEKDAY($A61,2)<7,AW61="CP"),1,0) -> 0 | BE61: =IF(AW61="CV",1,0) -> 0 | BF61: =IF(AND(F61>$A$4,F61<$A$2),1,0) -> 0 | BJ61: =MOD(BI61-BG61,1) -> 0 | BK61: =BJ61+BJ62 -> 0 | BL61: =IF(OR(BI60="",BG61=""),0,MOD(BG61-BI60,1)) -> 0 | BM61: =IF(OR(BG61>BI61,BG61>=$A$3),BI61+IF(BG61>BI61,1,0)-$A$3,0) -> 0 | BN61: =BM61+BM62 -> 0 | BO61: =IF(AND(WEEKDAY($A61,2)<7,BH61="CP"),1,0) -> 0 | BP61: =IF(BH61="CV",1,0) -> 0 | BQ61: =IF(AND(F61>$A$4,F61<$A$2),1,0) -> 0
E62: CP | G62: =MOD(F62-D62,1) -> 0 | J62: =IF(OR(D62>F62,D62>=$A$3),F62+IF(D62>F62,1,0)-$A$3,0) -> 0 | N62: =IF(AND(F62>$A$4,F62<$A$2),1,0) -> 0 | P62: CP | R62: =MOD(Q62-O62,1) -> 0 | U62: =IF(OR(O62>Q62,O62>=$A$3),Q62+IF(O62>Q62,1,0)-$A$3,0) -> 0 | Y62: =IF(AND(Q62>$A$4,Q62<$A$2),1,0) -> 0 | AC62: =MOD(AB62-Z62,1) -> 0 | AF62: =IF(OR(Z62>AB62,Z62>=$A$3),AB62+IF(Z62>AB62,1,0)-$A$3,0) -> 0 | AJ62: =IF(AND(F62>$A$4,F62<$A$2),1,0) -> 0 | AN62: =MOD(AM62-AK62,1) -> 0 | AQ62: =IF(OR(AK62>AM62,AK62>=$A$3),AM62+IF(AK62>AM62,1,0)-$A$3,0) -> 0 | AU62: =IF(AND(F62>$A$4,F62<$A$2),1,0) -> 0 | AY62: =MOD(AX62-AV62,1) -> 0 | BB62: =IF(OR(AV62>AX62,AV62>=$A$3),AX62+IF(AV62>AX62,1,0)-$A$3,0) -> 0 | BF62: =IF(AND(F62>$A$4,F62<$A$2),1,0) -> 0 | BJ62: =MOD(BI62-BG62,1) -> 0 | BM62: =IF(OR(BG62>BI62,BG62>=$A$3),BI62+IF(BG62>BI62,1,0)-$A$3,0) -> 0 | BQ62: =IF(AND(F62>$A$4,F62<$A$2),1,0) -> 0
A63: =A61+1 -> 41665 | B63: =UPPER(TEXT(A63,"jjj")) -> SAM | C63: =UPPER(TEXT(A63,"jj mmm")) -> 27 JANV | E63: CP | G63: =MOD(F63-D63,1) -> 0 | H63: =G63+G64 -> 0 | I63: =IF(OR(F62="",D63=""),0,MOD(D63-F62,1)) -> 0 | J63: =IF(OR(D63>F63,D63>=$A$3),F63+IF(D63>F63,1,0)-$A$3,0) -> 0 | K63: =J63+J64 -> 0 | L63: =IF(AND(WEEKDAY($A63,2)<7,E63="CP"),1,0) -> 1 | M63: =IF(E63="CV",1,0) -> 0 | N63: =IF(AND(F63>$A$4,F63<$A$2),1,0) -> 0 | P63: CP | R63: =MOD(Q63-O63,1) -> 0 | S63: =R63+R64 -> 0 | T63: =IF(OR(Q62="",O63=""),0,MOD(O63-Q62,1)) -> 0 | U63: =IF(OR(O63>Q63,O63>=$A$3),Q63+IF(O63>Q63,1,0)-$A$3,0) -> 0 | V63: =U63+U64 -> 0 | W63: =IF(AND(WEEKDAY($A63,2)<7,P63="CP"),1,0) -> 1 | X63: =IF(P63="CV",1,0) -> 0 | Y63: =IF(AND(Q63>$A$4,Q63<$A$2),1,0) -> 0 | AC63: =MOD(AB63-Z63,1) -> 0 | AD63: =AC63+AC64 -> 0 | AE63: =IF(OR(AB62="",Z63=""),0,MOD(Z63-AB62,1)) -> 0 | AF63: =IF(OR(Z63>AB63,Z63>=$A$3),AB63+IF(Z63>AB63,1,0)-$A$3,0) -> 0 | AG63: =AF63+AF64 -> 0 | AH63: =IF(AND(WEEKDAY($A63,2)<7,AA63="CP"),1,0) -> 0 | AI63: =IF(AA63="CV",1,0) -> 0 | AJ63: =IF(AND(F63>$A$4,F63<$A$2),1,0) -> 0 | AN63: =MOD(AM63-AK63,1) -> 0 | AO63: =AN63+AN64 -> 0 | AP63: =IF(OR(AM62="",AK63=""),0,MOD(AK63-AM62,1)) -> 0 | AQ63: =IF(OR(AK63>AM63,AK63>=$A$3),AM63+IF(AK63>AM63,1,0)-$A$3,0) -> 0 | AR63: =AQ63+AQ64 -> 0 | AS63: =IF(AND(WEEKDAY($A63,2)<7,AL63="CP"),1,0) -> 0 | AT63: =IF(AL63="CV",1,0) -> 0 | AU63: =IF(AND(F63>$A$4,F63<$A$2),1,0) -> 0 | AY63: =MOD(AX63-AV63,1) -> 0 | AZ63: =AY63+AY64 -> 0 | BA63: =IF(OR(AX62="",AV63=""),0,MOD(AV63-AX62,1)) -> 0 | BB63: =IF(OR(AV63>AX63,AV63>=$A$3),AX63+IF(AV63>AX63,1,0)-$A$3,0) -> 0 | BC63: =BB63+BB64 -> 0 | BD63: =IF(AND(WEEKDAY($A63,2)<7,AW63="CP"),1,0) -> 0 | BE63: =IF(AW63="CV",1,0) -> 0 | BF63: =IF(AND(F63>$A$4,F63<$A$2),1,0) -> 0 | BJ63: =MOD(BI63-BG63,1) -> 0 | BK63: =BJ63+BJ64 -> 0 | BL63: =IF(OR(BI62="",BG63=""),0,MOD(BG63-BI62,1)) -> 0 | BM63: =IF(OR(BG63>BI63,BG63>=$A$3),BI63+IF(BG63>BI63,1,0)-$A$3,0) -> 0 | BN63: =BM63+BM64 -> 0 | BO63: =IF(AND(WEEKDAY($A63,2)<7,BH63="CP"),1,0) -> 0 | BP63: =IF(BH63="CV",1,0) -> 0 | BQ63: =IF(AND(F63>$A$4,F63<$A$2),1,0) -> 0
E64: CP | G64: =MOD(F64-D64,1) -> 0 | J64: =IF(OR(D64>F64,D64>=$A$3),F64+IF(D64>F64,1,0)-$A$3,0) -> 0 | N64: =IF(AND(F64>$A$4,F64<$A$2),1,0) -> 0 | P64: CP | R64: =MOD(Q64-O64,1) -> 0 | U64: =IF(OR(O64>Q64,O64>=$A$3),Q64+IF(O64>Q64,1,0)-$A$3,0) -> 0 | Y64: =IF(AND(Q64>$A$4,Q64<$A$2),1,0) -> 0 | AC64: =MOD(AB64-Z64,1) -> 0 | AF64: =IF(OR(Z64>AB64,Z64>=$A$3),AB64+IF(Z64>AB64,1,0)-$A$3,0) -> 0 | AJ64: =IF(AND(F64>$A$4,F64<$A$2),1,0) -> 0 | AN64: =MOD(AM64-AK64,1) -> 0 | AQ64: =IF(OR(AK64>AM64,AK64>=$A$3),AM64+IF(AK64>AM64,1,0)-$A$3,0) -> 0 | AU64: =IF(AND(F64>$A$4,F64<$A$2),1,0) -> 0 | AY64: =MOD(AX64-AV64,1) -> 0 | BB64: =IF(OR(AV64>AX64,AV64>=$A$3),AX64+IF(AV64>AX64,1,0)-$A$3,0) -> 0 | BF64: =IF(AND(F64>$A$4,F64<$A$2),1,0) -> 0 | BJ64: =MOD(BI64-BG64,1) -> 0 | BM64: =IF(OR(BG64>BI64,BG64>=$A$3),BI64+IF(BG64>BI64,1,0)-$A$3,0) -> 0 | BQ64: =IF(AND(F64>$A$4,F64<$A$2),1,0) -> 0
A65: =A63+1 -> 41666 | B65: =UPPER(TEXT(A65,"jjj")) -> DIM | C65: =UPPER(TEXT(A65,"jj mmm")) -> 28 JANV | E65: CP | G65: =MOD(F65-D65,1) -> 0 | H65: =G65+G66 -> 0 | I65: =IF(OR(F64="",D65=""),0,MOD(D65-F64,1)) -> 0 | J65: =IF(OR(D65>F65,D65>=$A$3),F65+IF(D65>F65,1,0)-$A$3,0) -> 0 | K65: =J65+J66 -> 0 | L65: =IF(AND(WEEKDAY($A65,2)<7,E65="CP"),1,0) -> 0 | M65: =IF(E65="CV",1,0) -> 0 | N65: =IF(AND(F65>$A$4,F65<$A$2),1,0) -> 0 | P65: CP | R65: =MOD(Q65-O65,1) -> 0 | S65: =R65+R66 -> 0 | T65: =IF(OR(Q64="",O65=""),0,MOD(O65-Q64,1)) -> 0 | U65: =IF(OR(O65>Q65,O65>=$A$3),Q65+IF(O65>Q65,1,0)-$A$3,0) -> 0 | V65: =U65+U66 -> 0 | W65: =IF(AND(WEEKDAY($A65,2)<7,P65="CP"),1,0) -> 0 | X65: =IF(P65="CV",1,0) -> 0 | Y65: =IF(AND(Q65>$A$4,Q65<$A$2),1,0) -> 0 | AC65: =MOD(AB65-Z65,1) -> 0 | AD65: =AC65+AC66 -> 0 | AE65: =IF(OR(AB64="",Z65=""),0,MOD(Z65-AB64,1)) -> 0 | AF65: =IF(OR(Z65>AB65,Z65>=$A$3),AB65+IF(Z65>AB65,1,0)-$A$3,0) -> 0 | AG65: =AF65+AF66 -> 0 | AH65: =IF(AND(WEEKDAY($A65,2)<7,AA65="CP"),1,0) -> 0 | AI65: =IF(AA65="CV",1,0) -> 0 | AJ65: =IF(AND(F65>$A$4,F65<$A$2),1,0) -> 0 | AN65: =MOD(AM65-AK65,1) -> 0 | AO65: =AN65+AN66 -> 0 | AP65: =IF(OR(AM64="",AK65=""),0,MOD(AK65-AM64,1)) -> 0 | AQ65: =IF(OR(AK65>AM65,AK65>=$A$3),AM65+IF(AK65>AM65,1,0)-$A$3,0) -> 0 | AR65: =AQ65+AQ66 -> 0 | AS65: =IF(AND(WEEKDAY($A65,2)<7,AL65="CP"),1,0) -> 0 | AT65: =IF(AL65="CV",1,0) -> 0 | AU65: =IF(AND(F65>$A$4,F65<$A$2),1,0) -> 0 | AY65: =MOD(AX65-AV65,1) -> 0 | AZ65: =AY65+AY66 -> 0 | BA65: =IF(OR(AX64="",AV65=""),0,MOD(AV65-AX64,1)) -> 0 | BB65: =IF(OR(AV65>AX65,AV65>=$A$3),AX65+IF(AV65>AX65,1,0)-$A$3,0) -> 0 | BC65: =BB65+BB66 -> 0 | BD65: =IF(AND(WEEKDAY($A65,2)<7,AW65="CP"),1,0) -> 0 | BE65: =IF(AW65="CV",1,0) -> 0 | BF65: =IF(AND(F65>$A$4,F65<$A$2),1,0) -> 0 | BJ65: =MOD(BI65-BG65,1) -> 0 | BK65: =BJ65+BJ66 -> 0 | BL65: =IF(OR(BI64="",BG65=""),0,MOD(BG65-BI64,1)) -> 0 | BM65: =IF(OR(BG65>BI65,BG65>=$A$3),BI65+IF(BG65>BI65,1,0)-$A$3,0) -> 0 | BN65: =BM65+BM66 -> 0 | BO65: =IF(AND(WEEKDAY($A65,2)<7,BH65="CP"),1,0) -> 0 | BP65: =IF(BH65="CV",1,0) -> 0 | BQ65: =IF(AND(F65>$A$4,F65<$A$2),1,0) -> 0
E66: CP | G66: =MOD(F66-D66,1) -> 0 | J66: =IF(OR(D66>F66,D66>=$A$3),F66+IF(D66>F66,1,0)-$A$3,0) -> 0 | N66: =IF(AND(F66>$A$4,F66<$A$2),1,0) -> 0 | P66: CP | R66: =MOD(Q66-O66,1) -> 0 | U66: =IF(OR(O66>Q66,O66>=$A$3),Q66+IF(O66>Q66,1,0)-$A$3,0) -> 0 | Y66: =IF(AND(Q66>$A$4,Q66<$A$2),1,0) -> 0 | AC66: =MOD(AB66-Z66,1) -> 0 | AF66: =IF(OR(Z66>AB66,Z66>=$A$3),AB66+IF(Z66>AB66,1,0)-$A$3,0) -> 0 | AJ66: =IF(AND(F66>$A$4,F66<$A$2),1,0) -> 0 | AN66: =MOD(AM66-AK66,1) -> 0 | AQ66: =IF(OR(AK66>AM66,AK66>=$A$3),AM66+IF(AK66>AM66,1,0)-$A$3,0) -> 0 | AU66: =IF(AND(F66>$A$4,F66<$A$2),1,0) -> 0 | AY66: =MOD(AX66-AV66,1) -> 0 | BB66: =IF(OR(AV66>AX66,AV66>=$A$3),AX66+IF(AV66>AX66,1,0)-$A$3,0) -> 0 | BF66: =IF(AND(F66>$A$4,F66<$A$2),1,0) -> 0 | BJ66: =MOD(BI66-BG66,1) -> 0 | BM66: =IF(OR(BG66>BI66,BG66>=$A$3),BI66+IF(BG66>BI66,1,0)-$A$3,0) -> 0 | BQ66: =IF(AND(F66>$A$4,F66<$A$2),1,0) -> 0
D67: TOTAL HEURE SEMAINE | H67: =SUM(H53:H66) -> 0 | O67: TOTAL HEURE SEMAINE | S67: =SUM(S53:S66) -> 0 | Z67: TOTAL HEURE SEMAINE | AD67: =SUM(AD53:AD66) -> 0 | AK67: TOTAL HEURE SEMAINE | AO67: =SUM(AO53:AO66) -> 0 | AV67: TOTAL HEURE SEMAINE | AZ67: =SUM(AZ53:AZ66) -> 0 | BG67: TOTAL HEURE SEMAINE | BK67: =SUM(BK53:BK66) -> 0
A68: =A65+1 -> 41667 | B68: =UPPER(TEXT(A68,"jjj")) -> LUN | C68: =UPPER(TEXT(A68,"jj mmm")) -> 29 JANV | E68: R | G68: =MOD(F68-D68,1) -> 0 | H68: =G68+G69 -> 0 | I68: =IF(OR(F66="",D68=""),0,MOD(D68-F66,1)) -> 0 | J68: =IF(OR(D68>F68,D68>=$A$3),F68+IF(D68>F68,1,0)-$A$3,0) -> 0 | K68: =J68+J69 -> 0 | L68: =IF(AND(WEEKDAY($A68,2)<7,E68="CP"),1,0) -> 0 | M68: =IF(E68="CV",1,0) -> 0 | N68: =IF(AND(F68>$A$4,F68<$A$2),1,0) -> 0 | P68: CP | R68: =MOD(Q68-O68,1) -> 0 | S68: =R68+R69 -> 0 | T68: =IF(OR(Q66="",O68=""),0,MOD(O68-Q66,1)) -> 0 | U68: =IF(OR(O68>Q68,O68>=$A$3),Q68+IF(O68>Q68,1,0)-$A$3,0) -> 0 | V68: =U68+U69 -> 0 | W68: =IF(AND(WEEKDAY($A68,2)<7,P68="CP"),1,0) -> 1 | X68: =IF(P68="CV",1,0) -> 0 | Y68: =IF(AND(Q68>$A$4,Q68<$A$2),1,0) -> 0 | AC68: =MOD(AB68-Z68,1) -> 0 | AD68: =AC68+AC69 -> 0 | AE68: =IF(OR(AB66="",Z68=""),0,MOD(Z68-AB66,1)) -> 0 | AF68: =IF(OR(Z68>AB68,Z68>=$A$3),AB68+IF(Z68>AB68,1,0)-$A$3,0) -> 0 | AG68: =AF68+AF69 -> 0 | AH68: =IF(AND(WEEKDAY($A68,2)<7,AA68="CP"),1,0) -> 0 | AI68: =IF(AA68="CV",1,0) -> 0 | AJ68: =IF(AND(F68>$A$4,F68<$A$2),1,0) -> 0 | AN68: =MOD(AM68-AK68,1) -> 0 | AO68: =AN68+AN69 -> 0 | AP68: =IF(OR(AM66="",AK68=""),0,MOD(AK68-AM66,1)) -> 0 | AQ68: =IF(AN68=0,0,IF(MOD($F68<$A$3,1),0,MOD($F68-$A$3,1))) -> 0 | AR68: =AQ68+AQ69 -> 0 | AS68: =IF(AND(WEEKDAY($A68,2)<7,AL68="CP"),1,0) -> 0 | AT68: =IF(AL68="CV",1,0) -> 0 | AU68: =IF(AND(F68>$A$4,F68<$A$2),1,0) -> 0 | AY68: =MOD(AX68-AV68,1) -> 0 | AZ68: =AY68+AY69 -> 0 | BA68: =IF(OR(AX66="",AV68=""),0,MOD(AV68-AX66,1)) -> 0 | BB68: =IF(AY68=0,0,IF(MOD($F68<$A$3,1),0,MOD($F68-$A$3,1))) -> 0 | BC68: =BB68+BB69 -> 0 | BD68: =IF(AND(WEEKDAY($A68,2)<7,AW68="CP"),1,0) -> 0 | BE68: =IF(AW68="CV",1,0) -> 0 | BF68: =IF(AND(F68>$A$4,F68<$A$2),1,0) -> 0 | BJ68: =MOD(BI68-BG68,1) -> 0 | BK68: =BJ68+BJ69 -> 0 | BL68: =IF(OR(BI66="",BG68=""),0,MOD(BG68-BI66,1)) -> 0 | BM68: =IF(BJ68=0,0,IF(MOD($F68<$A$3,1),0,MOD($F68-$A$3,1))) -> 0 | BN68: =BM68+BM69 -> 0 | BO68: =IF(AND(WEEKDAY($A68,2)<7,BH68="CP"),1,0) -> 0 | BP68: =IF(BH68="CV",1,0) -> 0 | BQ68: =IF(AND(F68>$A$4,F68<$A$2),1,0) -> 0
E69: R | G69: =MOD(F69-D69,1) -> 0 | J69: =IF(OR(D69>F69,D69>=$A$3),F69+IF(D69>F69,1,0)-$A$3,0) -> 0 | N69: =IF(AND(F69>$A$4,F69<$A$2),1,0) -> 0 | P69: CP | R69: =MOD(Q69-O69,1) -> 0 | U69: =IF(OR(O69>Q69,O69>=$A$3),Q69+IF(O69>Q69,1,0)-$A$3,0) -> 0 | Y69: =IF(AND(Q69>$A$4,Q69<$A$2),1,0) -> 0 | AC69: =MOD(AB69-Z69,1) -> 0 | AF69: =IF(OR(Z69>AB69,Z69>=$A$3),AB69+IF(Z69>AB69,1,0)-$A$3,0) -> 0 | AJ69: =IF(AND(F69>$A$4,F69<$A$2),1,0) -> 0 | AN69: =MOD(AM69-AK69,1) -> 0 | AQ69: =IF(AN69=0,0,IF(MOD($F69<$A$3,1),0,MOD($F69-$A$3,1))) -> 0 | AU69: =IF(AND(F69>$A$4,F69<$A$2),1,0) -> 0 | AY69: =MOD(AX69-AV69,1) -> 0 | BB69: =IF(AY69=0,0,IF(MOD($F69<$A$3,1),0,MOD($F69-$A$3,1))) -> 0 | BF69: =IF(AND(F69>$A$4,F69<$A$2),1,0) -> 0 | BJ69: =MOD(BI69-BG69,1) -> 0 | BM69: =IF(BJ69=0,0,IF(MOD($F69<$A$3,1),0,MOD($F69-$A$3,1))) -> 0 | BQ69: =IF(AND(F69>$A$4,F69<$A$2),1,0) -> 0
A70: =A68+1 -> 41668 | B70: =UPPER(TEXT(A70,"jjj")) -> MAR | C70: =UPPER(TEXT(A70,"jj mmm")) -> 30 JANV | E70: R | G70: =MOD(F70-D70,1) -> 0 | H70: =G70+G71 -> 0 | I70: =IF(OR(F69="",D70=""),0,MOD(D70-F69,1)) -> 0 | J70: =IF(OR(D70>F70,D70>=$A$3),F70+IF(D70>F70,1,0)-$A$3,0) -> 0 | K70: =J70+J71 -> 0 | L70: =IF(AND(WEEKDAY($A70,2)<7,E70="CP"),1,0) -> 0 | M70: =IF(E70="CV",1,0) -> 0 | N70: =IF(AND(F70>$A$4,F70<$A$2),1,0) -> 0 | P70: CP | R70: =MOD(Q70-O70,1) -> 0 | S70: =R70+R71 -> 0 | T70: =IF(OR(Q69="",O70=""),0,MOD(O70-Q69,1)) -> 0 | U70: =IF(OR(O70>Q70,O70>=$A$3),Q70+IF(O70>Q70,1,0)-$A$3,0) -> 0 | V70: =U70+U71 -> 0 | W70: =IF(AND(WEEKDAY($A70,2)<7,P70="CP"),1,0) -> 1 | X70: =IF(P70="CV",1,0) -> 0 | Y70: =IF(AND(Q70>$A$4,Q70<$A$2),1,0) -> 0 | AC70: =MOD(AB70-Z70,1) -> 0 | AD70: =AC70+AC71 -> 0 | AE70: =IF(OR(AB69="",Z70=""),0,MOD(Z70-AB69,1)) -> 0 | AF70: =IF(OR(Z70>AB70,Z70>=$A$3),AB70+IF(Z70>AB70,1,0)-$A$3,0) -> 0 | AG70: =AF70+AF71 -> 0 | AH70: =IF(AND(WEEKDAY($A70,2)<7,AA70="CP"),1,0) -> 0 | AI70: =IF(AA70="CV",1,0) -> 0 | AJ70: =IF(AND(F70>$A$4,F70<$A$2),1,0) -> 0 | AN70: =MOD(AM70-AK70,1) -> 0 | AO70: =AN70+AN71 -> 0 | AP70: =IF(OR(AM69="",AK70=""),0,MOD(AK70-AM69,1)) -> 0 | AQ70: =IF(AN70=0,0,IF(MOD($F70<$A$3,1),0,MOD($F70-$A$3,1))) -> 0 | AR70: =AQ70+AQ71 -> 0 | AS70: =IF(AND(WEEKDAY($A70,2)<7,AL70="CP"),1,0) -> 0 | AT70: =IF(AL70="CV",1,0) -> 0 | AU70: =IF(AND(F70>$A$4,F70<$A$2),1,0) -> 0 | AY70: =MOD(AX70-AV70,1) -> 0 | AZ70: =AY70+AY71 -> 0 | BA70: =IF(OR(AX69="",AV70=""),0,MOD(AV70-AX69,1)) -> 0 | BB70: =IF(AY70=0,0,IF(MOD($F70<$A$3,1),0,MOD($F70-$A$3,1))) -> 0 | BC70: =BB70+BB71 -> 0 | BD70: =IF(AND(WEEKDAY($A70,2)<7,AW70="CP"),1,0) -> 0 | BE70: =IF(AW70="CV",1,0) -> 0 | BF70: =IF(AND(F70>$A$4,F70<$A$2),1,0) -> 0 | BJ70: =MOD(BI70-BG70,1) -> 0 | BK70: =BJ70+BJ71 -> 0 | BL70: =IF(OR(BI69="",BG70=""),0,MOD(BG70-BI69,1)) -> 0 | BM70: =IF(BJ70=0,0,IF(MOD($F70<$A$3,1),0,MOD($F70-$A$3,1))) -> 0 | BN70: =BM70+BM71 -> 0 | BO70: =IF(AND(WEEKDAY($A70,2)<7,BH70="CP"),1,0) -> 0 | BP70: =IF(BH70="CV",1,0) -> 0 | BQ70: =IF(AND(F70>$A$4,F70<$A$2),1,0) -> 0
E71: R | G71: =MOD(F71-D71,1) -> 0 | J71: =IF(OR(D71>F71,D71>=$A$3),F71+IF(D71>F71,1,0)-$A$3,0) -> 0 | N71: =IF(AND(F71>$A$4,F71<$A$2),1,0) -> 0 | P71: CP | R71: =MOD(Q71-O71,1) -> 0 | U71: =IF(OR(O71>Q71,O71>=$A$3),Q71+IF(O71>Q71,1,0)-$A$3,0) -> 0 | Y71: =IF(AND(Q71>$A$4,Q71<$A$2),1,0) -> 0 | AC71: =MOD(AB71-Z71,1) -> 0 | AF71: =IF(OR(Z71>AB71,Z71>=$A$3),AB71+IF(Z71>AB71,1,0)-$A$3,0) -> 0 | AJ71: =IF(AND(F71>$A$4,F71<$A$2),1,0) -> 0 | AN71: =MOD(AM71-AK71,1) -> 0 | AQ71: =IF(AN71=0,0,IF(MOD($F71<$A$3,1),0,MOD($F71-$A$3,1))) -> 0 | AU71: =IF(AND(F71>$A$4,F71<$A$2),1,0) -> 0 | AY71: =MOD(AX71-AV71,1) -> 0 | BB71: =IF(AY71=0,0,IF(MOD($F71<$A$3,1),0,MOD($F71-$A$3,1))) -> 0 | BF71: =IF(AND(F71>$A$4,F71<$A$2),1,0) -> 0 | BJ71: =MOD(BI71-BG71,1) -> 0 | BM71: =IF(BJ71=0,0,IF(MOD($F71<$A$3,1),0,MOD($F71-$A$3,1))) -> 0 | BQ71: =IF(AND(F71>$A$4,F71<$A$2),1,0) -> 0
A72: =A70+1 -> 41669 | B72: =UPPER(TEXT(A72,"jjj")) -> MER | C72: =UPPER(TEXT(A72,"jj mmm")) -> 31 JANV | D72: 0.45833333 | F72: 0.66666667 | G72: =MOD(F72-D72,1) -> 0.20833333 | H72: =G72+G73 -> 0.41666667 | I72: =IF(OR(F71="",D72=""),0,MOD(D72-F71,1)) -> 0 | J72: =IF(OR(D72>F72,D72>=$A$3),F72+IF(D72>F72,1,0)-$A$3,0) -> 0 | K72: =J72+J73 -> 0.125 | L72: =IF(AND(WEEKDAY($A72,2)<7,E72="CP"),1,0) -> 0 | M72: =IF(E72="CV",1,0) -> 0 | N72: =IF(AND(F72>$A$4,F72<$A$2),1,0) -> 0 | P72: CP | R72: =MOD(Q72-O72,1) -> 0 | S72: =R72+R73 -> 0 | T72: =IF(OR(Q71="",O72=""),0,MOD(O72-Q71,1)) -> 0 | U72: =IF(OR(O72>Q72,O72>=$A$3),Q72+IF(O72>Q72,1,0)-$A$3,0) -> 0 | V72: =U72+U73 -> 0 | W72: =IF(AND(WEEKDAY($A72,2)<7,P72="CP"),1,0) -> 1 | X72: =IF(P72="CV",1,0) -> 0 | Y72: =IF(AND(Q72>$A$4,Q72<$A$2),1,0) -> 0 | AC72: =MOD(AB72-Z72,1) -> 0 | AD72: =AC72+AC73 -> 0 | AE72: =IF(OR(AB71="",Z72=""),0,MOD(Z72-AB71,1)) -> 0 | AF72: =IF(OR(Z72>AB72,Z72>=$A$3),AB72+IF(Z72>AB72,1,0)-$A$3,0) -> 0 | AG72: =AF72+AF73 -> 0 | AH72: =IF(AND(WEEKDAY($A72,2)<7,AA72="CP"),1,0) -> 0 | AI72: =IF(AA72="CV",1,0) -> 0 | AJ72: =IF(AND(F72>$A$4,F72<$A$2),1,0) -> 0 | AN72: =MOD(AM72-AK72,1) -> 0 | AO72: =AN72+AN73 -> 0 | AP72: =IF(OR(AM71="",AK72=""),0,MOD(AK72-AM71,1)) -> 0 | AQ72: =IF(AN72=0,0,IF(MOD($F72<$A$3,1),0,MOD($F72-$A$3,1))) -> 0 | AR72: =AQ72+AQ73 -> 0 | AS72: =IF(AND(WEEKDAY($A72,2)<7,AL72="CP"),1,0) -> 0 | AT72: =IF(AL72="CV",1,0) -> 0 | AU72: =IF(AND(F72>$A$4,F72<$A$2),1,0) -> 0 | AY72: =MOD(AX72-AV72,1) -> 0 | AZ72: =AY72+AY73 -> 0 | BA72: =IF(OR(AX71="",AV72=""),0,MOD(AV72-AX71,1)) -> 0 | BB72: =IF(AY72=0,0,IF(MOD($F72<$A$3,1),0,MOD($F72-$A$3,1))) -> 0 | BC72: =BB72+BB73 -> 0 | BD72: =IF(AND(WEEKDAY($A72,2)<7,AW72="CP"),1,0) -> 0 | BE72: =IF(AW72="CV",1,0) -> 0 | BF72: =IF(AND(F72>$A$4,F72<$A$2),1,0) -> 0 | BJ72: =MOD(BI72-BG72,1) -> 0 | BK72: =BJ72+BJ73 -> 0 | BL72: =IF(OR(BI71="",BG72=""),0,MOD(BG72-BI71,1)) -> 0 | BM72: =IF(BJ72=0,0,IF(MOD($F72<$A$3,1),0,MOD($F72-$A$3,1))) -> 0 | BN72: =BM72+BM73 -> 0 | BO72: =IF(AND(WEEKDAY($A72,2)<7,BH72="CP"),1,0) -> 0 | BP72: =IF(BH72="CV",1,0) -> 0 | BQ72: =IF(AND(F72>$A$4,F72<$A$2),1,0) -> 0
D73: 0.79166667 | F73: 0 | G73: =MOD(F73-D73,1) -> 0.20833333 | J73: =IF(OR(D73>F73,D73>=$A$3),F73+IF(D73>F73,1,0)-$A$3,0) -> 0.125 | N73: =IF(AND(F73>$A$4,F73<$A$2),1,0) -> 0 | P73: CP | R73: =MOD(Q73-O73,1) -> 0 | U73: =IF(OR(O73>Q73,O73>=$A$3),Q73+IF(O73>Q73,1,0)-$A$3,0) -> 0 | Y73: =IF(AND(Q73>$A$4,Q73<$A$2),1,0) -> 0 | AC73: =MOD(AB73-Z73,1) -> 0 | AF73: =IF(OR(Z73>AB73,Z73>=$A$3),AB73+IF(Z73>AB73,1,0)-$A$3,0) -> 0 | AJ73: =IF(AND(F73>$A$4,F73<$A$2),1,0) -> 0 | AN73: =MOD(AM73-AK73,1) -> 0 | AQ73: =IF(AN73=0,0,IF(MOD($F73<$A$3,1),0,MOD($F73-$A$3,1))) -> 0 | AU73: =IF(AND(F73>$A$4,F73<$A$2),1,0) -> 0 | AY73: =MOD(AX73-AV73,1) -> 0 | BB73: =IF(AY73=0,0,IF(MOD($F73<$A$3,1),0,MOD($F73-$A$3,1))) -> 0 | BF73: =IF(AND(F73>$A$4,F73<$A$2),1,0) -> 0 | BJ73: =MOD(BI73-BG73,1) -> 0 | BM73: =IF(BJ73=0,0,IF(MOD($F73<$A$3,1),0,MOD($F73-$A$3,1))) -> 0 | BQ73: =IF(AND(F73>$A$4,F73<$A$2),1,0) -> 0
D74: CUMUL MOIS | G74: =SUM(G8:G72) -> 2.2916667 | H74: =SUM(H68:H73)+H67+H52+H37+H22 -> 2.5 | J74: =SUM(J8:J73) -> 0.125 | K74: =SUM(K8:K73) -> 0.125 | L74: =SUM(L8:L72) -> 9 | M74: =SUM(M8:M72) -> 0 | N74: =SUM(N8:N72) -> 0 | O74: CUMUL MOIS | R74: =SUM(R8:R72) -> 2.7083333 | S74: =SUM(S68:S73)+S67+S52+S37+S22 -> 2.7083333 | U74: =SUM(U8:U73) -> 0.875 | V74: =SUM(V8:V73) -> 0.875 | W74: =SUM(W8:W72) -> 13 | X74: =SUM(X8:X72) -> 0 | Y74: =SUM(Y8:Y72) -> 4 | Z74: CUMUL MOIS | AC74: =SUM(AC8:AC72) -> 0 | AD74: =SUM(AD68:AD73)+AD67+AD52+AD37+AD22 -> 0 | AF74: =SUM(AF8:AF73) -> 0 | AG74: =SUM(AG8:AG73) -> 0 | AH74: =SUM(AH8:AH72) -> 0 | AI74: =SUM(AI8:AI72) -> 0 | AJ74: =SUM(AJ8:AJ72) -> 0 | AK74: CUMUL MOIS | AN74: =SUM(AN8:AN72) -> 0 | AO74: =SUM(AO68:AO73)+AO67+AO52+AO37+AO22 -> 0 | AQ74: =SUM(AQ8:AQ73) -> 0 | AR74: =SUM(AR8:AR73) -> 0 | AS74: =SUM(AS8:AS72) -> 0 | AT74: =SUM(AT8:AT72) -> 0 | AU74: =SUM(AU8:AU72) -> 0 | AV74: CUMUL MOIS | AY74: =SUM(AY8:AY72) -> 0 | AZ74: =SUM(AZ68:AZ73)+AZ67+AZ52+AZ37+AZ22 -> 0 | BB74: =SUM(BB8:BB73) -> 0 | BC74: =SUM(BC8:BC73) -> 0 | BD74: =SUM(BD8:BD72) -> 0 | BE74: =SUM(BE8:BE72) -> 0 | BF74: =SUM(BF8:BF72) -> 0 | BG74: CUMUL MOIS | BJ74: =SUM(BJ8:BJ72) -> 0 | BK74: =SUM(BK68:BK73)+BK67+BK52+BK37+BK22 -> 0 | BM74: =SUM(BM8:BM73) -> 0 | BN74: =SUM(BN8:BN73) -> 0 | BO74: =SUM(BO8:BO72) -> 0 | BP74: =SUM(BP8:BP72) -> 0 | BQ74: =SUM(BQ8:BQ72) -> 0
D76: CUMUL | F76: =D6 -> CHRISTELLE | O76: CUMUL | Q76: =O6 -> NOEMIE | Z76: CUMUL | AB76: =Z6 -> LAURIANNE | AK76: CUMUL | AM76: =AK6 -> JULIE | AV76: CUMUL | AX76: =AV6 -> SYLVIE
D77: HEURES | H77: Mois | K77: Année | O77: HEURES | S77: Mois | V77: Année | Z77: HEURES | AD77: Mois | AG77: Année | AK77: HEURES | AO77: Mois | AR77: Année | AV77: HEURES | AZ77: Mois | BC77: Année
H78: =H74 -> 2.5 | K78: =H78 -> 2.5 | S78: =S74 -> 2.7083333 | V78: =S78 -> 2.7083333 | AD78: =AD74 -> 0 | AG78: =AD78 -> 0 | AO78: =AO74 -> 0 | AR78: =AO78 -> 0 | AZ78: =AZ74 -> 0 | BC78: =AZ78 -> 0
D79: HEURES DE NUIT | H79: Mois | K79: Année | O79: HEURES DE NUIT | S79: Mois | V79: Année | Z79: HEURES DE NUIT | AD79: Mois | AG79: Année | AK79: HEURES DE NUIT | AO79: Mois | AR79: Année | AV79: HEURES DE NUIT | AZ79: Mois | BC79: Année
H80: =K74 -> 0.125 | K80: =H80 -> 0.125 | S80: =V74 -> 0.875 | V80: =S80 -> 0.875 | AD80: =AG74 -> 0 | AG80: =AD80 -> 0 | AO80: =AR74 -> 0 | AR80: =AO80 -> 0 | AZ80: =BC74 -> 0 | BC80: =AZ80 -> 0
D81: CP | H81: Mois | K81: Année | O81: CP | S81: Mois | V81: Année | Z81: CP | AD81: Mois | AG81: Année | AK81: CP | AO81: Mois | AR81: Année | AV81: CP | AZ81: Mois | BC81: Année
H82: =L74 -> 9 | K82: =H82 -> 9 | S82: =W74 -> 13 | V82: =S82 -> 13 | AD82: =AH74 -> 0 | AG82: =AD82 -> 0 | AO82: =AS74 -> 0 | AR82: =AO82 -> 0 | AZ82: =BD74 -> 0 | BC82: =AZ82 -> 0
D83: CV | H83: Mois | K83: Année | O83: CV | S83: Mois | V83: Année | Z83: CV | AD83: Mois | AG83: Année | AK83: CV | AO83: Mois | AR83: Année | AV83: CV | AZ83: Mois | BC83: Année
H84: =M74 -> 0 | K84: =H84 -> 0 | S84: =X74 -> 0 | V84: =S84 -> 0 | AD84: =AI74 -> 0 | AG84: =AD84 -> 0 | AO84: =AT74 -> 0 | AR84: =AO84 -> 0 | AZ84: =BE74 -> 0 | BC84: =AZ84 -> 0
D85: NB DE NUIT | H85: Mois | K85: Année | O85: NB DE NUIT | S85: Mois | V85: Année | Z85: NB DE NUIT | AD85: Mois | AG85: Année | AK85: NB DE NUIT | AO85: Mois | AR85: Année | AV85: NB DE NUIT | AZ85: Mois | BC85: Année
H86: =N74 -> 0 | K86: =H86 -> 0 | S86: =Y74 -> 4 | V86: =S86 -> 4 | AD86: =AJ74 -> 0 | AG86: =AD86 -> 0 | AO86: =AU74 -> 0 | AR86: =AO86 -> 0 | AZ86: =BF74 -> 0 | BC86: =AZ86 -> 0

Sheet 02-2018
C1: 2018
A2: 0.20833333 | C2: 41670
A3: 0.875 | D3: PLANNING SERVICE | AL3: - | AM3: =UPPER(TEXT(C2,"mmmm aaaa")) -> FÉVRIER 2018
A4: 0 | D4: "susceptible de changement pour cas de force majeur et besoin au bon fonctionnement de la société"
D5: =IF(COUNTIFS($I$8:$I$67,"<"&11/24,$I$8:$I$67,"<>0"),"ATTENTION REPOS QUOTIDIEN","") | O5: =IF(COUNTIFS($T$8:$T$67,"<"&11/24,$T$8:$T$67,"<>0"),"ATTENTION REPOS QUOTIDIEN","") | Z5: =IF(COUNTIFS($AE$8:$AE$67,"<"&11/24,$AE$8:$AE$67,"<>0"),"ATTENTION REPOS QUOTIDIEN","") | AK5: =IF(COUNTIFS($AP$8:$AP$67,"<"&11/24,$AP$8:$AP$67,"<>0"),"ATTENTION REPOS QUOTIDIEN","") | AV5: =IF(COUNTIFS($BA$8:$BA$67,"<"&11/24,$BA$8:$BA$67,"<>0"),"ATTENTION REPOS QUOTIDIEN","") | BG5: =IF(COUNTIFS($BL$8:$BL$67,"<"&11/24,$BL$8:$BL$67,"<>0"),"ATTENTION REPOS QUOTIDIEN","")
D6: CHRISTELLE | O6: NOEMIE | Z6: LAURIANNE | AK6: JULIE | AV6: SYLVIE | BG6: EXTRA | BR6: Infos service
D7: Prise de service | F7: Fin de service | G7: H | H7: H | I7: REPOS | J7: HDN | K7: HDN | L7: CP | M7: CV | N7: Nuits | O7: Prise de service | Q7: Fin de service | R7: H | S7: H | T7: REPOS | U7: HDN | V7: HDN | W7: CP | X7: CV | Y7: Nuits | Z7: Prise de service | AB7: Fin de service | AC7: H | AD7: H | AE7: REPOS | AF7: HDN | AG7: HDN | AH7: CP | AI7: CV | AJ7: Nuits | AK7: Prise de service | AM7: Fin de service | AN7: H | AO7: H | AP7: REPOS | AQ7: HDN | AR7: HDN | AS7: CP | AT7: CV | AU7: Nuits | AV7: Prise de service | AX7: Fin de service | AY7: H | AZ7: H | BA7: REPOS | BB7: HDN | BC7: HDN | BD7: CP | BE7: CV | BF7: Nuits | BG7: Prise de service | BI7: Fin de service | BJ7: H | BK7: H | BL7: REPOS | BM7: HDN | BN7: HDN | BO7: CP | BP7: CV | BQ7: Nuits
A8: =C2 -> 41670 | B8: =UPPER(TEXT(A8,"jjj")) -> JEU | C8: =UPPER(TEXT(A8,"jj mmm")) -> 01 FÉVR | G8: =MOD(F8-D8,1) -> 0 | H8: =G8+G9 -> 0 | J8: =IF(OR(D8>F8,D8>=$A$3),F8+IF(D8>F8,1,0)-$A$3,0) -> 0 | K8: =J8+J9 -> 0 | L8: =IF(E8="CP",1,0) -> 0 | M8: =IF(E8="CV",1,0) -> 0 | N8: =IF(AND(F8>$A$4,F8<$A$2),1,0) -> 0 | R8: =MOD(Q8-O8,1) -> 0 | S8: =R8+R9 -> 0 | U8: =IF(OR(O8>Q8,O8>=$A$3),Q8+IF(O8>Q8,1,0)-$A$3,0) -> 0 | V8: =U8+U9 -> 0 | W8: =IF(P8="CP",1,0) -> 0 | X8: =IF(P8="CV",1,0) -> 0 | Y8: =IF(AND(Q8>$A$4,Q8<$A$2),1,0) -> 0 | AC8: =MOD(AB8-Z8,1) -> 0 | AD8: =AC8+AC9 -> 0 | AF8: =IF(OR(Z8>AB8,Z8>=$A$3),AB8+IF(Z8>AB8,1,0)-$A$3,0) -> 0 | AG8: =AF8+AF9 -> 0 | AH8: =IF(AA8="CP",1,0) -> 0 | AI8: =IF(AA8="CV",1,0) -> 0 | AJ8: =IF(AND(F8>$A$4,F8<$A$2),1,0) -> 0 | AN8: =MOD(AM8-AK8,1) -> 0 | AO8: =AN8+AN9 -> 0 | AQ8: =IF(OR(AK8>AM8,AK8>=$A$3),AM8+IF(AK8>AM8,1,0)-$A$3,0) -> 0 | AR8: =AQ8+AQ9 -> 0 | AS8: =IF(AL8="CP",1,0) -> 0 | AT8: =IF(AL8="CV",1,0) -> 0 | AU8: =IF(AND(F8>$A$4,F8<$A$2),1,0) -> 0 | AY8: =MOD(AX8-AV8,1) -> 0 | AZ8: =AY8+AY9 -> 0 | BB8: =IF(OR(AV8>AX8,AV8>=$A$3),AX8+IF(AV8>AX8,1,0)-$A$3,0) -> 0 | BC8: =BB8+BB9 -> 0 | BD8: =IF(AW8="CP",1,0) -> 0 | BE8: =IF(AW8="CV",1,0) -> 0 | BF8: =IF(AND(F8>$A$4,F8<$A$2),1,0) -> 0 | BJ8: =MOD(BI8-BG8,1) -> 0 | BK8: =BJ8+BJ9 -> 0 | BM8: =IF(OR(BG8>BI8,BG8>=$A$3),BI8+IF(BG8>BI8,1,0)-$A$3,0) -> 0 | BN8: =BM8+BM9 -> 0 | BO8: =IF(BH8="CP",1,0) -> 0 | BP8: =IF(BH8="CV",1,0) -> 0 | BQ8: =IF(AND(F8>$A$4,F8<$A$2),1,0) -> 0
G9: =MOD(F9-D9,1) -> 0 | J9: =IF(OR(D9>F9,D9>=$A$3),F9+IF(D9>F9,1,0)-$A$3,0) -> 0 | N9: =IF(AND(F9>$A$4,F9<$A$2),1,0) -> 0 | R9: =MOD(Q9-O9,1) -> 0 | U9: =IF(OR(O9>Q9,O9>=$A$3),Q9+IF(O9>Q9,1,0)-$A$3,0) -> 0 | Y9: =IF(AND(Q9>$A$4,Q9<$A$2),1,0) -> 0 | AC9: =MOD(AB9-Z9,1) -> 0 | AF9: =IF(OR(Z9>AB9,Z9>=$A$3),AB9+IF(Z9>AB9,1,0)-$A$3,0) -> 0 | AJ9: =IF(AND(F9>$A$4,F9<$A$2),1,0) -> 0 | AN9: =MOD(AM9-AK9,1) -> 0 | AQ9: =IF(OR(AK9>AM9,AK9>=$A$3),AM9+IF(AK9>AM9,1,0)-$A$3,0) -> 0 | AU9: =IF(AND(F9>$A$4,F9<$A$2),1,0) -> 0 | AY9: =MOD(AX9-AV9,1) -> 0 | BB9: =IF(OR(AV9>AX9,AV9>=$A$3),AX9+IF(AV9>AX9,1,0)-$A$3,0) -> 0 | BF9: =IF(AND(F9>$A$4,F9<$A$2),1,0) -> 0 | BJ9: =MOD(BI9-BG9,1) -> 0 | BM9: =IF(OR(BG9>BI9,BG9>=$A$3),BI9+IF(BG9>BI9,1,0)-$A$3,0) -> 0 | BQ9: =IF(AND(F9>$A$4,F9<$A$2),1,0) -> 0
