Workbook
Name JF: JF!$B$3:$B$15
Name Paques: JF!$A$4:$B$4

Sheet JF
A2: Entrer l'année ==> | B2: =BASE!C1 -> 2018
A3: Jour de l'an | B3: =DATE(B2,1,1) -> 41639
A4: Pâques | B4: =DATE(B2,3,29.56+0.979*MOD(204-11*MOD(B2,19),30)- WEEKDAY(DATE(B2,3,28.56+0.979*MOD(204-11*MOD(B2,19),30)))) -> 41729
A5: Lundi de Pâques | B5: =Paques+1 -> 41730
A6: Fête du travail | B6: =DATE(B2,5,1) -> 41759
A7: Armistice 1945 | B7: =DATE(B2,5,8) -> 41766
A8: Ascension | B8: =Paques+39 -> 41768
A9: Pentecôte | B9: =Paques+49 -> 41778
A10: Lundi de Pentecôte | B10: =Paques+50 -> 41779
A11: Fête Nationale | B11: =DATE(B2,7,14) -> 41833
A12: Assomption | B12: =DATE(B2,8,15) -> 41865
A13: Toussaint | B13: =DATE(B2,11,1) -> 41943
A14: Armistice 1914 | B14: =DATE(B2,11,11) -> 41953
A15: Noël | B15: =DATE(B2,12,25) -> 41997
A17: Année bisextile | B17: =IF(MOD(B2,400)=0,"bissextile",(IF(MOD(B2,100)=0,"commune",(IF(MOD(B2,4)=0,"bissextile","commune"))))) -> commune

Sheet BASE
C1: 2018
A2: 0.20833333 | C2: 41639
A3: 0.875 | D3: PLANNING SERVICE | AL3: - | AM3: =UPPER(TEXT(C2,"mmmm aaaa")) -> JANVIER 2018
A4: 0 | D4: "susceptible de changement pour cas de force majeur et besoin au bon fonctionnement de la société"
D5: =IF(COUNTIFS($I$8:$I$69,"<"&11/24,$I$8:$I$69,"<>0"),"ATTENTION REPOS QUOTIDIEN","") | O5: =IF(COUNTIFS($T$8:$T$69,"<"&11/24,$T$8:$T$69,"<>0"),"ATTENTION REPOS QUOTIDIEN","") | Z5: =IF(COUNTIFS($AE$8:$AE$69,"<"&11/24,$AE$8:$AE$69,"<>0"),"ATTENTION REPOS QUOTIDIEN","") | AK5: =IF(COUNTIFS($AP$8:$AP$69,"<"&11/24,$AP$8:$AP$69,"<>0"),"ATTENTION REPOS QUOTIDIEN","") | AV5: =IF(COUNTIFS($BA$8:$BA$69,"<"&11/24,$BA$8:$BA$69,"<>0"),"ATTENTION REPOS QUOTIDIEN","") | BG5: =IF(COUNTIFS($BL$8:$BL$69,"<"&11/24,$BL$8:$BL$69,"<>0"),"ATTENTION REPOS QUOTIDIEN","")
D6: CHRISTELLE | O6: NOEMIE | Z6: LAURIANNE | AK6: JULIE | AV6: SYLVIE | BG6: EXTRA | BR6: Infos service
D7: Prise de service | F7: Fin de service | G7: H | H7: H | I7: REPOS | J7: HDN | K7: HDN | L7: CP | M7: CV | N7: Nuits | O7: Prise de service | Q7: Fin de service | R7: H | S7: H | T7: REPOS | U7: HDN | V7: HDN | W7: CP | X7: CV | Y7: Nuits | Z7: Prise de service | AB7: Fin de service | AC7: H | AD7: H | AE7: REPOS | AF7: HDN | AG7: HDN | AH7: CP | AI7: CV | AJ7: Nuits | AK7: Prise de service | AM7: Fin de service | AN7: H | AO7: H | AP7: REPOS | AQ7: HDN | AR7: HDN | AS7: CP | AT7: CV | AU7: Nuits | AV7: Prise de service | AX7: Fin de service | AY7: H | AZ7: H | BA7: REPOS | BB7: HDN | BC7: HDN | BD7: CP | BE7: CV | BF7: Nuits | BG7: Prise de service | BI7: Fin de service | BJ7: H | BK7: H | BL7: REPOS | BM7: HDN | BN7: HDN | BO7: CP | BP7: CV | BQ7: Nuits
A8: =C2 -> 41639 | B8: =UPPER(TEXT(A8,"jjj")) -> LUN | C8: =UPPER(TEXT(A8,"jj mmm")) -> 01 JANV | G8: =MOD(F8-D8,1) -> 0 | H8: =G8+G9 -> 0 | J8: =IF(OR(D8>F8,D8>=$A$3),F8+IF(D8>F8,1,0)-$A$3,0) -> 0 | K8: =J8+J9 -> 0 | L8: =IF(AND(WEEKDAY($A8,2)<7,E8="CP"),1,0) -> 0 | M8: =IF(E8="CV",1,0) -> 0 | N8: =IF(AND(F8>$A$4,F8<$A$2),1,0) -> 0 | R8: =MOD(Q8-O8,1) -> 0 | S8: =R8+R9 -> 0 | U8: =IF(OR(O8>Q8,O8>=$A$3),Q8+IF(O8>Q8,1,0)-$A$3,0) -> 0 | V8: =U8+U9 -> 0 | W8: =IF(AND(WEEKDAY($A8,2)<7,P8="CP"),1,0) -> 0 | X8: =IF(P8="CV",1,0) -> 0 | Y8: =IF(AND(Q8>$A$4,Q8<$A$2),1,0) -> 0 | AC8: =MOD(AB8-Z8,1) -> 0 | AD8: =AC8+AC9 -> 0 | AF8: =IF(OR(Z8>AB8,Z8>=$A$3),AB8+IF(Z8>AB8,1,0)-$A$3,0) -> 0 | AG8: =AF8+AF9 -> 0 | AH8: =IF(AND(WEEKDAY($A8,2)<7,AA8="CP"),1,0) -> 0 | AI8: =IF(AA8="CV",1,0) -> 0 | AJ8: =IF(AND(F8>$A$4,F8<$A$2),1,0) -> 0 | AN8: =MOD(AM8-AK8,1) -> 0 | AO8: =AN8+AN9 -> 0 | AQ8: =IF(OR(AK8>AM8,AK8>=$A$3),AM8+IF(AK8>AM8,1,0)-$A$3,0) -> 0 | AR8: =AQ8+AQ9 -> 0 | AS8: =IF(AND(WEEKDAY($A8,2)<7,AL8="CP"),1,0) -> 0 | AT8: =IF(AL8="CV",1,0) -> 0 | AU8: =IF(AND(F8>$A$4,F8<$A$2),1,0) -> 0 | AY8: =MOD(AX8-AV8,1) -> 0 | AZ8: =AY8+AY9 -> 0 | BB8: =IF(OR(AV8>AX8,AV8>=$A$3),AX8+IF(AV8>AX8,1,0)-$A$3,0) -> 0 | BC8: =BB8+BB9 -> 0 | BD8: =IF(AND(WEEKDAY($A8,2)<7,AW8="CP"),1,0) -> 0 | BE8: =IF(AW8="CV",1,0) -> 0 | BF8: =IF(AND(F8>$A$4,F8<$A$2),1,0) -> 0 | BJ8: =MOD(BI8-BG8,1) -> 0 | BK8: =BJ8+BJ9 -> 0 | BM8: =IF(OR(BG8>BI8,BG8>=$A$3),BI8+IF(BG8>BI8,1,0)-$A$3,0) -> 0 | BN8: =BM8+BM9 -> 0 | BO8: =IF(AND(WEEKDAY($A8,2)<7,BH8="CP"),1,0) -> 0 | BP8: =IF(BH8="CV",1,0) -> 0 | BQ8: =IF(AND(F8>$A$4,F8<$A$2),1,0) -> 0
G9: =MOD(F9-D9,1) -> 0 | J9: =IF(OR(D9>F9,D9>=$A$3),F9+IF(D9>F9,1,0)-$A$3,0) -> 0 | N9: =IF(AND(F9>$A$4,F9<$A$2),1,0) -> 0 | R9: =MOD(Q9-O9,1) -> 0 | U9: =IF(OR(O9>Q9,O9>=$A$3),Q9+IF(O9>Q9,1,0)-$A$3,0) -> 0 | Y9: =IF(AND(Q9>$A$4,Q9<$A$2),1,0) -> 0 | AC9: =MOD(AB9-Z9,1) -> 0 | AF9: =IF(OR(Z9>AB9,Z9>=$A$3),AB9+IF(Z9>AB9,1,0)-$A$3,0) -> 0 | AJ9: =IF(AND(F9>$A$4,F9<$A$2),1,0) -> 0 | AN9: =MOD(AM9-AK9,1) -> 0 | AQ9: =IF(OR(AK9>AM9,AK9>=$A$3),AM9+IF(AK9>AM9,1,0)-$A$3,0) -> 0 | AU9: =IF(AND(F9>$A$4,F9<$A$2),1,0) -> 0 | AY9: =MOD(AX9-AV9,1) -> 0 | BB9: =IF(OR(AV9>AX9,AV9>=$A$3),AX9+IF(AV9>AX9,1,0)-$A$3,0) -> 0 | BF9: =IF(AND(F9>$A$4,F9<$A$2),1,0) -> 0 | BJ9: =MOD(BI9-BG9,1) -> 0 | BM9: =IF(OR(BG9>BI9,BG9>=$A$3),BI9+IF(BG9>BI9,1,0)-$A$3,0) -> 0 | BQ9: =IF(AND(F9>$A$4,F9<$A$2),1,0) -> 0
A10: =A8+1 -> 41640 | B10: =UPPER(TEXT(A10,"jjj")) -> MAR | C10: =UPPER(TEXT(A10,"jj mmm")) -> 02 JANV | G10: =MOD(F10-D10,1) -> 0 | H10: =G10+G11 -> 0 | I10: =IF(OR(F9="",D10=""),0,MOD(D10-F9,1)) -> 0 | J10: =IF(OR(D10>F10,D10>=$A$3),F10+IF(D10>F10,1,0)-$A$3,0) -> 0 | K10: =J10+J11 -> 0 | L10: =IF(AND(WEEKDAY($A10,2)<7,E10="CP"),1,0) -> 0 | M10: =IF(E10="CV",1,0) -> 0 | N10: =IF(AND(F10>$A$4,F10<$A$2),1,0) -> 0 | R10: =MOD(Q10-O10,1) -> 0 | S10: =R10+R11 -> 0 | T10: =IF(OR(Q9="",O10=""),0,MOD(O10-Q9,1)) -> 0 | U10: =IF(OR(O10>Q10,O10>=$A$3),Q10+IF(O10>Q10,1,0)-$A$3,0) -> 0 | V10: =U10+U11 -> 0 | W10: =IF(AND(WEEKDAY($A10,2)<7,P10="CP"),1,0) -> 0 | X10: =IF(P10="CV",1,0) -> 0 | Y10: =IF(AND(Q10>$A$4,Q10<$A$2),1,0) -> 0 | AC10: =MOD(AB10-Z10,1) -> 0 | AD10: =AC10+AC11 -> 0 | AE10: =IF(OR(AB9="",Z10=""),0,MOD(Z10-AB9,1)) -> 0 | AF10: =IF(OR(Z10>AB10,Z10>=$A$3),AB10+IF(Z10>AB10,1,0)-$A$3,0) -> 0 | AG10: =AF10+AF11 -> 0 | AH10: =IF(AND(WEEKDAY($A10,2)<7,AA10="CP"),1,0) -> 0 | AI10: =IF(AA10="CV",1,0) -> 0 | AJ10: =IF(AND(F10>$A$4,F10<$A$2),1,0) -> 0 | AN10: =MOD(AM10-AK10,1) -> 0 | AO10: =AN10+AN11 -> 0 | AP10: =IF(OR(AM9="",AK10=""),0,MOD(AK10-AM9,1)) -> 0 | AQ10: =IF(OR(AK10>AM10,AK10>=$A$3),AM10+IF(AK10>AM10,1,0)-$A$3,0) -> 0 | AR10: =AQ10+AQ11 -> 0 | AS10: =IF(AND(WEEKDAY($A10,2)<7,AL10="CP"),1,0) -> 0 | AT10: =IF(AL10="CV",1,0) -> 0 | AU10: =IF(AND(F10>$A$4,F10<$A$2),1,0) -> 0 | AY10: =MOD(AX10-AV10,1) -> 0 | AZ10: =AY10+AY11 -> 0 | BA10: =IF(OR(AX9="",AV10=""),0,MOD(AV10-AX9,1)) -> 0 | BB10: =IF(OR(AV10>AX10,AV10>=$A$3),AX10+IF(AV10>AX10,1,0)-$A$3,0) -> 0 | BC10: =BB10+BB11 -> 0 | BD10: =IF(AND(WEEKDAY($A10,2)<7,AW10="CP"),1,0) -> 0 | BE10: =IF(AW10="CV",1,0) -> 0 | BF10: =IF(AND(F10>$A$4,F10<$A$2),1,0) -> 0 | BJ10: =MOD(BI10-BG10,1) -> 0 | BK10: =BJ10+BJ11 -> 0 | BL10: =IF(OR(BI9="",BG10=""),0,MOD(BG10-BI9,1)) -> 0 | BM10: =IF(OR(BG10>BI10,BG10>=$A$3),BI10+IF(BG10>BI10,1,0)-$A$3,0) -> 0 | BN10: =BM10+BM11 -> 0 | BO10: =IF(AND(WEEKDAY($A10,2)<7,BH10="CP"),1,0) -> 0 | BP10: =IF(BH10="CV",1,0) -> 0 | BQ10: =IF(AND(F10>$A$4,F10<$A$2),1,0) -> 0
G11: =MOD(F11-D11,1) -> 0 | J11: =IF(OR(D11>F11,D11>=$A$3),F11+IF(D11>F11,1,0)-$A$3,0) -> 0 | N11: =IF(AND(F11>$A$4,F11<$A$2),1,0) -> 0 | R11: =MOD(Q11-O11,1) -> 0 | U11: =IF(OR(O11>Q11,O11>=$A$3),Q11+IF(O11>Q11,1,0)-$A$3,0) -> 0 | Y11: =IF(AND(Q11>$A$4,Q11<$A$2),1,0) -> 0 | AC11: =MOD(AB11-Z11,1) -> 0 | AF11: =IF(OR(Z11>AB11,Z11>=$A$3),AB11+IF(Z11>AB11,1,0)-$A$3,0) -> 0 | AJ11: =IF(AND(F11>$A$4,F11<$A$2),1,0) -> 0 | AN11: =MOD(AM11-AK11,1) -> 0 | AQ11: =IF(OR(AK11>AM11,AK11>=$A$3),AM11+IF(AK11>AM11,1,0)-$A$3,0) -> 0 | AU11: =IF(AND(F11>$A$4,F11<$A$2),1,0) -> 0 | AY11: =MOD(AX11-AV11,1) -> 0 | BB11: =IF(OR(AV11>AX11,AV11>=$A$3),AX11+IF(AV11>AX11,1,0)-$A$3,0) -> 0 | BF11: =IF(AND(F11>$A$4,F11<$A$2),1,0) -> 0 | BJ11: =MOD(BI11-BG11,1) -> 0 | BM11: =IF(OR(BG11>BI11,BG11>=$A$3),BI11+IF(BG11>BI11,1,0)-$A$3,0) -> 0 | BQ11: =IF(AND(F11>$A$4,F11<$A$2),1,0) -> 0
A12: =A10+1 -> 41641 | B12: =UPPER(TEXT(A12,"jjj")) -> MER | C12: =UPPER(TEXT(A12,"jj mmm")) -> 03 JANV | G12: =MOD(F12-D12,1) -> 0 | H12: =G12+G13 -> 0 | I12: =IF(OR(F11="",D12=""),0,MOD(D12-F11,1)) -> 0 | J12: =IF(OR(D12>F12,D12>=$A$3),F12+IF(D12>F12,1,0)-$A$3,0) -> 0 | K12: =J12+J13 -> 0 | L12: =IF(AND(WEEKDAY($A12,2)<7,E12="CP"),1,0) -> 0 | M12: =IF(E12="CV",1,0) -> 0 | N12: =IF(AND(F12>$A$4,F12<$A$2),1,0) -> 0 | R12: =MOD(Q12-O12,1) -> 0 | S12: =R12+R13 -> 0 | T12: =IF(OR(Q11="",O12=""),0,MOD(O12-Q11,1)) -> 0 | U12: =IF(OR(O12>Q12,O12>=$A$3),Q12+IF(O12>Q12,1,0)-$A$3,0) -> 0 | V12: =U12+U13 -> 0 | W12: =IF(AND(WEEKDAY($A12,2)<7,P12="CP"),1,0) -> 0 | X12: =IF(P12="CV",1,0) -> 0 | Y12: =IF(AND(Q12>$A$4,Q12<$A$2),1,0) -> 0 | AC12: =MOD(AB12-Z12,1) -> 0 | AD12: =AC12+AC13 -> 0 | AE12: =IF(OR(AB11="",Z12=""),0,MOD(Z12-AB11,1)) -> 0 | AF12: =IF(OR(Z12>AB12,Z12>=$A$3),AB12+IF(Z12>AB12,1,0)-$A$3,0) -> 0 | AG12: =AF12+AF13 -> 0 | AH12: =IF(AND(WEEKDAY($A12,2)<7,AA12="CP"),1,0) -> 0 | AI12: =IF(AA12="CV",1,0) -> 0 | AJ12: =IF(AND(F12>$A$4,F12<$A$2),1,0) -> 0 | AN12: =MOD(AM12-AK12,1) -> 0 | AO12: =AN12+AN13 -> 0 | AP12: =IF(OR(AM11="",AK12=""),0,MOD(AK12-AM11,1)) -> 0 | AQ12: =IF(OR(AK12>AM12,AK12>=$A$3),AM12+IF(AK12>AM12,1,0)-$A$3,0) -> 0 | AR12: =AQ12+AQ13 -> 0 | AS12: =IF(AND(WEEKDAY($A12,2)<7,AL12="CP"),1,0) -> 0 | AT12: =IF(AL12="CV",1,0) -> 0 | AU12: =IF(AND(F12>$A$4,F12<$A$2),1,0) -> 0 | AY12: =MOD(AX12-AV12,1) -> 0 | AZ12: =AY12+AY13 -> 0 | BA12: =IF(OR(AX11="",AV12=""),0,MOD(AV12-AX11,1)) -> 0 | BB12: =IF(OR(AV12>AX12,AV12>=$A$3),AX12+IF(AV12>AX12,1,0)-$A$3,0) -> 0 | BC12: =BB12+BB13 -> 0 | BD12: =IF(AND(WEEKDAY($A12,2)<7,AW12="CP"),1,0) -> 0 | BE12: =IF(AW12="CV",1,0) -> 0 | BF12: =IF(AND(F12>$A$4,F12<$A$2),1,0) -> 0 | BJ12: =MOD(BI12-BG12,1) -> 0 | BK12: =BJ12+BJ13 -> 0 | BL12: =IF(OR(BI11="",BG12=""),0,MOD(BG12-BI11,1)) -> 0 | BM12: =IF(OR(BG12>BI12,BG12>=$A$3),BI12+IF(BG12>BI12,1,0)-$A$3,0) -> 0 | BN12: =BM12+BM13 -> 0 | BO12: =IF(AND(WEEKDAY($A12,2)<7,BH12="CP"),1,0) -> 0 | BP12: =IF(BH12="CV",1,0) -> 0 | BQ12: =IF(AND(F12>$A$4,F12<$A$2),1,0) -> 0
G13: =MOD(F13-D13,1) -> 0 | J13: =IF(OR(D13>F13,D13>=$A$3),F13+IF(D13>F13,1,0)-$A$3,0) -> 0 | N13: =IF(AND(F13>$A$4,F13<$A$2),1,0) -> 0 | R13: =MOD(Q13-O13,1) -> 0 | U13: =IF(OR(O13>Q13,O13>=$A$3),Q13+IF(O13>Q13,1,0)-$A$3,0) -> 0 | Y13: =IF(AND(Q13>$A$4,Q13<$A$2),1,0) -> 0 | AC13: =MOD(AB13-Z13,1) -> 0 | AF13: =IF(OR(Z13>AB13,Z13>=$A$3),AB13+IF(Z13>AB13,1,0)-$A$3,0) -> 0 | AJ13: =IF(AND(F13>$A$4,F13<$A$2),1,0) -> 0 | AN13: =MOD(AM13-AK13,1) -> 0 | AQ13: =IF(OR(AK13>AM13,AK13>=$A$3),AM13+IF(AK13>AM13,1,0)-$A$3,0) -> 0 | AU13: =IF(AND(F13>$A$4,F13<$A$2),1,0) -> 0 | AY13: =MOD(AX13-AV13,1) -> 0 | BB13: =IF(OR(AV13>AX13,AV13>=$A$3),AX13+IF(AV13>AX13,1,0)-$A$3,0) -> 0 | BF13: =IF(AND(F13>$A$4,F13<$A$2),1,0) -> 0 | BJ13: =MOD(BI13-BG13,1) -> 0 | BM13: =IF(OR(BG13>BI13,BG13>=$A$3),BI13+IF(BG13>BI13,1,0)-$A$3,0) -> 0 | BQ13: =IF(AND(F13>$A$4,F13<$A$2),1,0) -> 0
A14: =A12+1 -> 41642 | B14: =UPPER(TEXT(A14,"jjj")) -> JEU | C14: =UPPER(TEXT(A14,"jj mmm")) -> 04 JANV | G14: =MOD(F14-D14,1) -> 0 | H14: =G14+G15 -> 0 | I14: =IF(OR(F13="",D14=""),0,MOD(D14-F13,1)) -> 0 | J14: =IF(OR(D14>F14,D14>=$A$3),F14+IF(D14>F14,1,0)-$A$3,0) -> 0 | K14: =J14+J15 -> 0 | L14: =IF(AND(WEEKDAY($A14,2)<7,E14="CP"),1,0) -> 0 | M14: =IF(E14="CV",1,0) -> 0 | N14: =IF(AND(F14>$A$4,F14<$A$2),1,0) -> 0 | R14: =MOD(Q14-O14,1) -> 0 | S14: =R14+R15 -> 0 | T14: =IF(OR(Q13="",O14=""),0,MOD(O14-Q13,1)) -> 0 | U14: =IF(OR(O14>Q14,O14>=$A$3),Q14+IF(O14>Q14,1,0)-$A$3,0) -> 0 | V14: =U14+U15 -> 0 | W14: =IF(AND(WEEKDAY($A14,2)<7,P14="CP"),1,0) -> 0 | X14: =IF(P14="CV",1,0) -> 0 | Y14: =IF(AND(Q14>$A$4,Q14<$A$2),1,0) -> 0 | AC14: =MOD(AB14-Z14,1) -> 0 | AD14: =AC14+AC15 -> 0 | AE14: =IF(OR(AB13="",Z14=""),0,MOD(Z14-AB13,1)) -> 0 | AF14: =IF(OR(Z14>AB14,Z14>=$A$3),AB14+IF(Z14>AB14,1,0)-$A$3,0) -> 0 | AG14: =AF14+AF15 -> 0 | AH14: =IF(AND(WEEKDAY($A14,2)<7,AA14="CP"),1,0) -> 0 | AI14: =IF(AA14="CV",1,0) -> 0 | AJ14: =IF(AND(F14>$A$4,F14<$A$2),1,0) -> 0 | AN14: =MOD(AM14-AK14,1) -> 0 | AO14: =AN14+AN15 -> 0 | AP14: =IF(OR(AM13="",AK14=""),0,MOD(AK14-AM13,1)) -> 0 | AQ14: =IF(OR(AK14>AM14,AK14>=$A$3),AM14+IF(AK14>AM14,1,0)-$A$3,0) -> 0 | AR14: =AQ14+AQ15 -> 0 | AS14: =IF(AND(WEEKDAY($A14,2)<7,AL14="CP"),1,0) -> 0 | AT14: =IF(AL14="CV",1,0) -> 0 | AU14: =IF(AND(F14>$A$4,F14<$A$2),1,0) -> 0 | AY14: =MOD(AX14-AV14,1) -> 0 | AZ14: =AY14+AY15 -> 0 | BA14: =IF(OR(AX13="",AV14=""),0,MOD(AV14-AX13,1)) -> 0 | BB14: =IF(OR(AV14>AX14,AV14>=$A$3),AX14+IF(AV14>AX14,1,0)-$A$3,0) -> 0 | BC14: =BB14+BB15 -> 0 | BD14: =IF(AND(WEEKDAY($A14,2)<7,AW14="CP"),1,0) -> 0 | BE14: =IF(AW14="CV",1,0) -> 0 | BF14: =IF(AND(F14>$A$4,F14<$A$2),1,0) -> 0 | BJ14: =MOD(BI14-BG14,1) -> 0 | BK14: =BJ14+BJ15 -> 0 | BL14: =IF(OR(BI13="",BG14=""),0,MOD(BG14-BI13,1)) -> 0 | BM14: =IF(OR(BG14>BI14,BG14>=$A$3),BI14+IF(BG14>BI14,1,0)-$A$3,0) -> 0 | BN14: =BM14+BM15 -> 0 | BO14: =IF(AND(WEEKDAY($A14,2)<7,BH14="CP"),1,0) -> 0 | BP14: =IF(BH14="CV",1,0) -> 0 | BQ14: =IF(AND(F14>$A$4,F14<$A$2),1,0) -> 0
G15: =MOD(F15-D15,1) -> 0 | J15: =IF(OR(D15>F15,D15>=$A$3),F15+IF(D15>F15,1,0)-$A$3,0) -> 0 | N15: =IF(AND(F15>$A$4,F15<$A$2),1,0) -> 0 | R15: =MOD(Q15-O15,1) -> 0 | U15: =IF(OR(O15>Q15,O15>=$A$3),Q15+IF(O15>Q15,1,0)-$A$3,0) -> 0 | Y15: =IF(AND(Q15>$A$4,Q15<$A$2),1,0) -> 0 | AC15: =MOD(AB15-Z15,1) -> 0 | AF15: =IF(OR(Z15>AB15,Z15>=$A$3),AB15+IF(Z15>AB15,1,0)-$A$3,0) -> 0 | AJ15: =IF(AND(F15>$A$4,F15<$A$2),1,0) -> 0 | AN15: =MOD(AM15-AK15,1) -> 0 | AQ15: =IF(OR(AK15>AM15,AK15>=$A$3),AM15+IF(AK15>AM15,1,0)-$A$3,0) -> 0 | AU15: =IF(AND(F15>$A$4,F15<$A$2),1,0) -> 0 | AY15: =MOD(AX15-AV15,1) -> 0 | BB15: =IF(OR(AV15>AX15,AV15>=$A$3),AX15+IF(AV15>AX15,1,0)-$A$3,0) -> 0 | BF15: =IF(AND(F15>$A$4,F15<$A$2),1,0) -> 0 | BJ15: =MOD(BI15-BG15,1) -> 0 | BM15: =IF(OR(BG15>BI15,BG15>=$A$3),BI15+IF(BG15>BI15,1,0)-$A$3,0) -> 0 | BQ15: =IF(AND(F15>$A$4,F15<$A$2),1,0) -> 0
A16: =A14+1 -> 41643 | B16: =UPPER(TEXT(A16,"jjj")) -> VEN | C16: =UPPER(TEXT(A16,"jj mmm")) -> 05 JANV | G16: =MOD(F16-D16,1) -> 0 | H16: =G16+G17 -> 0 | I16: =IF(OR(F15="",D16=""),0,MOD(D16-F15,1)) -> 0 | J16: =IF(OR(D16>F16,D16>=$A$3),F16+IF(D16>F16,1,0)-$A$3,0) -> 0 | K16: =J16+J17 -> 0 | L16: =IF(AND(WEEKDAY($A16,2)<7,E16="CP"),1,0) -> 0 | M16: =IF(E16="CV",1,0) -> 0 | N16: =IF(AND(F16>$A$4,F16<$A$2),1,0) -> 0 | R16: =MOD(Q16-O16,1) -> 0 | S16: =R16+R17 -> 0 | T16: =IF(OR(Q15="",O16=""),0,MOD(O16-Q15,1)) -> 0 | U16: =IF(OR(O16>Q16,O16>=$A$3),Q16+IF(O16>Q16,1,0)-$A$3,0) -> 0 | V16: =U16+U17 -> 0 | W16: =IF(AND(WEEKDAY($A16,2)<7,P16="CP"),1,0) -> 0 | X16: =IF(P16="CV",1,0) -> 0 | Y16: =IF(AND(Q16>$A$4,Q16<$A$2),1,0) -> 0 | AC16: =MOD(AB16-Z16,1) -> 0 | AD16: =AC16+AC17 -> 0 | AE16: =IF(OR(AB15="",Z16=""),0,MOD(Z16-AB15,1)) -> 0 | AF16: =IF(OR(Z16>AB16,Z16>=$A$3),AB16+IF(Z16>AB16,1,0)-$A$3,0) -> 0 | AG16: =AF16+AF17 -> 0 | AH16: =IF(AND(WEEKDAY($A16,2)<7,AA16="CP"),1,0) -> 0 | AI16: =IF(AA16="CV",1,0) -> 0 | AJ16: =IF(AND(F16>$A$4,F16<$A$2),1,0) -> 0 | AN16: =MOD(AM16-AK16,1) -> 0 | AO16: =AN16+AN17 -> 0 | AP16: =IF(OR(AM15="",AK16=""),0,MOD(AK16-AM15,1)) -> 0 | AQ16: =IF(OR(AK16>AM16,AK16>=$A$3),AM16+IF(AK16>AM16,1,0)-$A$3,0) -> 0 | AR16: =AQ16+AQ17 -> 0 | AS16: =IF(AND(WEEKDAY($A16,2)<7,AL16="CP"),1,0) -> 0 | AT16: =IF(AL16="CV",1,0) -> 0 | AU16: =IF(AND(F16>$A$4,F16<$A$2),1,0) -> 0 | AY16: =MOD(AX16-AV16,1) -> 0 | AZ16: =AY16+AY17 -> 0 | BA16: =IF(OR(AX15="",AV16=""),0,MOD(AV16-AX15,1)) -> 0 | BB16: =IF(OR(AV16>AX16,AV16>=$A$3),AX16+IF(AV16>AX16,1,0)-$A$3,0) -> 0 | BC16: =BB16+BB17 -> 0 | BD16: =IF(AND(WEEKDAY($A16,2)<7,AW16="CP"),1,0) -> 0 | BE16: =IF(AW16="CV",1,0) -> 0 | BF16: =IF(AND(F16>$A$4,F16<$A$2),1,0) -> 0 | BJ16: =MOD(BI16-BG16,1) -> 0 | BK16: =BJ16+BJ17 -> 0 | BL16: =IF(OR(BI15="",BG16=""),0,MOD(BG16-BI15,1)) -> 0 | BM16: =IF(OR(BG16>BI16,BG16>=$A$3),BI16+IF(BG16>BI16,1,0)-$A$3,0) -> 0 | BN16: =BM16+BM17 -> 0 | BO16: =IF(AND(WEEKDAY($A16,2)<7,BH16="CP"),1,0) -> 0 | BP16: =IF(BH16="CV",1,0) -> 0 | BQ16: =IF(AND(F16>$A$4,F16<$A$2),1,0) -> 0
G17: =MOD(F17-D17,1) -> 0 | J17: =IF(OR(D17>F17,D17>=$A$3),F17+IF(D17>F17,1,0)-$A$3,0) -> 0 | N17: =IF(AND(F17>$A$4,F17<$A$2),1,0) -> 0 | R17: =MOD(Q17-O17,1) -> 0 | U17: =IF(OR(O17>Q17,O17>=$A$3),Q17+IF(O17>Q17,1,0)-$A$3,0) -> 0 | Y17: =IF(AND(Q17>$A$4,Q17<$A$2),1,0) -> 0 | AC17: =MOD(AB17-Z17,1) -> 0 | AF17: =IF(OR(Z17>AB17,Z17>=$A$3),AB17+IF(Z17>AB17,1,0)-$A$3,0) -> 0 | AJ17: =IF(AND(F17>$A$4,F17<$A$2),1,0) -> 0 | AN17: =MOD(AM17-AK17,1) -> 0 | AQ17: =IF(OR(AK17>AM17,AK17>=$A$3),AM17+IF(AK17>AM17,1,0)-$A$3,0) -> 0 | AU17: =IF(AND(F17>$A$4,F17<$A$2),1,0) -> 0 | AY17: =MOD(AX17-AV17,1) -> 0 | BB17: =IF(OR(AV17>AX17,AV17>=$A$3),AX17+IF(AV17>AX17,1,0)-$A$3,0) -> 0 | BF17: =IF(AND(F17>$A$4,F17<$A$2),1,0) -> 0 | BJ17: =MOD(BI17-BG17,1) -> 0 | BM17: =IF(OR(BG17>BI17,BG17>=$A$3),BI17+IF(BG17>BI17,1,0)-$A$3,0) -> 0 | BQ17: =IF(AND(F17>$A$4,F17<$A$2),1,0) -> 0
A18: =A16+1 -> 41644 | B18: =UPPER(TEXT(A18,"jjj")) -> SAM | C18: =UPPER(TEXT(A18,"jj mmm")) -> 06 JANV | G18: =MOD(F18-D18,1) -> 0 | H18: =G18+G19 -> 0 | I18: =IF(OR(F17="",D18=""),0,MOD(D18-F17,1)) -> 0 | J18: =IF(OR(D18>F18,D18>=$A$3),F18+IF(D18>F18,1,0)-$A$3,0) -> 0 | K18: =J18+J19 -> 0 | L18: =IF(AND(WEEKDAY($A18,2)<7,E18="CP"),1,0) -> 0 | M18: =IF(E18="CV",1,0) -> 0 | N18: =IF(AND(F18>$A$4,F18<$A$2),1,0) -> 0 | R18: =MOD(Q18-O18,1) -> 0 | S18: =R18+R19 -> 0 | T18: =IF(OR(Q17="",O18=""),0,MOD(O18-Q17,1)) -> 0 | U18: =IF(OR(O18>Q18,O18>=$A$3),Q18+IF(O18>Q18,1,0)-$A$3,0) -> 0 | V18: =U18+U19 -> 0 | W18: =IF(AND(WEEKDAY($A18,2)<7,P18="CP"),1,0) -> 0 | X18: =IF(P18="CV",1,0) -> 0 | Y18: =IF(AND(Q18>$A$4,Q18<$A$2),1,0) -> 0 | AC18: =MOD(AB18-Z18,1) -> 0 | AD18: =AC18+AC19 -> 0 | AE18: =IF(OR(AB17="",Z18=""),0,MOD(Z18-AB17,1)) -> 0 | AF18: =IF(OR(Z18>AB18,Z18>=$A$3),AB18+IF(Z18>AB18,1,0)-$A$3,0) -> 0 | AG18: =AF18+AF19 -> 0 | AH18: =IF(AND(WEEKDAY($A18,2)<7,AA18="CP"),1,0) -> 0 | AI18: =IF(AA18="CV",1,0) -> 0 | AJ18: =IF(AND(F18>$A$4,F18<$A$2),1,0) -> 0 | AN18: =MOD(AM18-AK18,1) -> 0 | AO18: =AN18+AN19 -> 0 | AP18: =IF(OR(AM17="",AK18=""),0,MOD(AK18-AM17,1)) -> 0 | AQ18: =IF(OR(AK18>AM18,AK18>=$A$3),AM18+IF(AK18>AM18,1,0)-$A$3,0) -> 0 | AR18: =AQ18+AQ19 -> 0 | AS18: =IF(AND(WEEKDAY($A18,2)<7,AL18="CP"),1,0) -> 0 | AT18: =IF(AL18="CV",1,0) -> 0 | AU18: =IF(AND(F18>$A$4,F18<$A$2),1,0) -> 0 | AY18: =MOD(AX18-AV18,1) -> 0 | AZ18: =AY18+AY19 -> 0 | BA18: =IF(OR(AX17="",AV18=""),0,MOD(AV18-AX17,1)) -> 0 | BB18: =IF(OR(AV18>AX18,AV18>=$A$3),AX18+IF(AV18>AX18,1,0)-$A$3,0) -> 0 | BC18: =BB18+BB19 -> 0 | BD18: =IF(AND(WEEKDAY($A18,2)<7,AW18="CP"),1,0) -> 0 | BE18: =IF(AW18="CV",1,0) -> 0 | BF18: =IF(AND(F18>$A$4,F18<$A$2),1,0) -> 0 | BJ18: =MOD(BI18-BG18,1) -> 0 | BK18: =BJ18+BJ19 -> 0 | BL18: =IF(OR(BI17="",BG18=""),0,MOD(BG18-BI17,1)) -> 0 | BM18: =IF(OR(BG18>BI18,BG18>=$A$3),BI18+IF(BG18>BI18,1,0)-$A$3,0) -> 0 | BN18: =BM18+BM19 -> 0 | BO18: =IF(AND(WEEKDAY($A18,2)<7,BH18="CP"),1,0) -> 0 | BP18: =IF(BH18="CV",1,0) -> 0 | BQ18: =IF(AND(F18>$A$4,F18<$A$2),1,0) -> 0
G19: =MOD(F19-D19,1) -> 0 | J19: =IF(OR(D19>F19,D19>=$A$3),F19+IF(D19>F19,1,0)-$A$3,0) -> 0 | N19: =IF(AND(F19>$A$4,F19<$A$2),1,0) -> 0 | R19: =MOD(Q19-O19,1) -> 0 | U19: =IF(OR(O19>Q19,O19>=$A$3),Q19+IF(O19>Q19,1,0)-$A$3,0) -> 0 | Y19: =IF(AND(Q19>$A$4,Q19<$A$2),1,0) -> 0 | AC19: =MOD(AB19-Z19,1) -> 0 | AF19: =IF(OR(Z19>AB19,Z19>=$A$3),AB19+IF(Z19>AB19,1,0)-$A$3,0) -> 0 | AJ19: =IF(AND(F19>$A$4,F19<$A$2),1,0) -> 0 | AN19: =MOD(AM19-AK19,1) -> 0 | AQ19: =IF(OR(AK19>AM19,AK19>=$A$3),AM19+IF(AK19>AM19,1,0)-$A$3,0) -> 0 | AU19: =IF(AND(F19>$A$4,F19<$A$2),1,0) -> 0 | AY19: =MOD(AX19-AV19,1) -> 0 | BB19: =IF(OR(AV19>AX19,AV19>=$A$3),AX19+IF(AV19>AX19,1,0)-$A$3,0) -> 0 | BF19: =IF(AND(F19>$A$4,F19<$A$2),1,0) -> 0 | BJ19: =MOD(BI19-BG19,1) -> 0 | BM19: =IF(OR(BG19>BI19,BG19>=$A$3),BI19+IF(BG19>BI19,1,0)-$A$3,0) -> 0 | BQ19: =IF(AND(F19>$A$4,F19<$A$2),1,0) -> 0
A20: =A18+1 -> 41645 | B20: =UPPER(TEXT(A20,"jjj")) -> DIM | C20: =UPPER(TEXT(A20,"jj mmm")) -> 07 JANV | G20: =MOD(F20-D20,1) -> 0 | H20: =G20+G21 -> 0 | I20: =IF(OR(F19="",D20=""),0,MOD(D20-F19,1)) -> 0 | J20: =IF(OR(D20>F20,D20>=$A$3),F20+IF(D20>F20,1,0)-$A$3,0) -> 0 | K20: =J20+J21 -> 0 | L20: =IF(AND(WEEKDAY($A20,2)<7,E20="CP"),1,0) -> 0 | M20: =IF(E20="CV",1,0) -> 0 | N20: =IF(AND(F20>$A$4,F20<$A$2),1,0) -> 0 | R20: =MOD(Q20-O20,1) -> 0 | S20: =R20+R21 -> 0 | T20: =IF(OR(Q19="",O20=""),0,MOD(O20-Q19,1)) -> 0 | U20: =IF(OR(O20>Q20,O20>=$A$3),Q20+IF(O20>Q20,1,0)-$A$3,0) -> 0 | V20: =U20+U21 -> 0 | W20: =IF(AND(WEEKDAY($A20,2)<7,P20="CP"),1,0) -> 0 | X20: =IF(P20="CV",1,0) -> 0 | Y20: =IF(AND(Q20>$A$4,Q20<$A$2),1,0) -> 0 | AC20: =MOD(AB20-Z20,1) -> 0 | AD20: =AC20+AC21 -> 0 | AE20: =IF(OR(AB19="",Z20=""),0,MOD(Z20-AB19,1)) -> 0 | AF20: =IF(OR(Z20>AB20,Z20>=$A$3),AB20+IF(Z20>AB20,1,0)-$A$3,0) -> 0 | AG20: =AF20+AF21 -> 0 | AH20: =IF(AND(WEEKDAY($A20,2)<7,AA20="CP"),1,0) -> 0 | AI20: =IF(AA20="CV",1,0) -> 0 | AJ20: =IF(AND(F20>$A$4,F20<$A$2),1,0) -> 0 | AN20: =MOD(AM20-AK20,1) -> 0 | AO20: =AN20+AN21 -> 0 | AP20: =IF(OR(AM19="",AK20=""),0,MOD(AK20-AM19,1)) -> 0 | AQ20: =IF(OR(AK20>AM20,AK20>=$A$3),AM20+IF(AK20>AM20,1,0)-$A$3,0) -> 0 | AR20: =AQ20+AQ21 -> 0 | AS20: =IF(AND(WEEKDAY($A20,2)<7,AL20="CP"),1,0) -> 0 | AT20: =IF(AL20="CV",1,0) -> 0 | AU20: =IF(AND(F20>$A$4,F20<$A$2),1,0) -> 0 | AY20: =MOD(AX20-AV20,1) -> 0 | AZ20: =AY20+AY21 -> 0 | BA20: =IF(OR(AX19="",AV20=""),0,MOD(AV20-AX19,1)) -> 0 | BB20: =IF(OR(AV20>AX20,AV20>=$A$3),AX20+IF(AV20>AX20,1,0)-$A$3,0) -> 0 | BC20: =BB20+BB21 -> 0 | BD20: =IF(AND(WEEKDAY($A20,2)<7,AW20="CP"),1,0) -> 0 | BE20: =IF(AW20="CV",1,0) -> 0 | BF20: =IF(AND(F20>$A$4,F20<$A$2),1,0) -> 0 | BJ20: =MOD(BI20-BG20,1) -> 0 | BK20: =BJ20+BJ21 -> 0 | BL20: =IF(OR(BI19="",BG20=""),0,MOD(BG20-BI19,1)) -> 0 | BM20: =IF(OR(BG20>BI20,BG20>=$A$3),BI20+IF(BG20>BI20,1,0)-$A$3,0) -> 0 | BN20: =BM20+BM21 -> 0 | BO20: =IF(AND(WEEKDAY($A20,2)<7,BH20="CP"),1,0) -> 0 | BP20: =IF(BH20="CV",1,0) -> 0 | BQ20: =IF(AND(F20>$A$4,F20<$A$2),1,0) -> 0
G21: =MOD(F21-D21,1) -> 0 | J21: =IF(OR(D21>F21,D21>=$A$3),F21+IF(D21>F21,1,0)-$A$3,0) -> 0 | N21: =IF(AND(F21>$A$4,F21<$A$2),1,0) -> 0 | R21: =MOD(Q21-O21,1) -> 0 | U21: =IF(OR(O21>Q21,O21>=$A$3),Q21+IF(O21>Q21,1,0)-$A$3,0) -> 0 | Y21: =IF(AND(Q21>$A$4,Q21<$A$2),1,0) -> 0 | AC21: =MOD(AB21-Z21,1) -> 0 | AF21: =IF(OR(Z21>AB21,Z21>=$A$3),AB21+IF(Z21>AB21,1,0)-$A$3,0) -> 0 | AJ21: =IF(AND(F21>$A$4,F21<$A$2),1,0) -> 0 | AN21: =MOD(AM21-AK21,1) -> 0 | AQ21: =IF(OR(AK21>AM21,AK21>=$A$3),AM21+IF(AK21>AM21,1,0)-$A$3,0) -> 0 | AU21: =IF(AND(F21>$A$4,F21<$A$2),1,0) -> 0 | AY21: =MOD(AX21-AV21,1) -> 0 | BB21: =IF(OR(AV21>AX21,AV21>=$A$3),AX21+IF(AV21>AX21,1,0)-$A$3,0) -> 0 | BF21: =IF(AND(F21>$A$4,F21<$A$2),1,0) -> 0 | BJ21: =MOD(BI21-BG21,1) -> 0 | BM21: =IF(OR(BG21>BI21,BG21>=$A$3),BI21+IF(BG21>BI21,1,0)-$A$3,0) -> 0 | BQ21: =IF(AND(F21>$A$4,F21<$A$2),1,0) -> 0
A22: =A20+1 -> 41646 | B22: =UPPER(TEXT(A22,"jjj")) -> LUN | C22: =UPPER(TEXT(A22,"jj mmm")) -> 08 JANV | G22: =MOD(F22-D22,1) -> 0 | H22: =G22+G23 -> 0 | I22: =IF(OR(F21="",D22=""),0,MOD(D22-F21,1)) -> 0 | J22: =IF(OR(D22>F22,D22>=$A$3),F22+IF(D22>F22,1,0)-$A$3,0) -> 0 | K22: =J22+J23 -> 0 | L22: =IF(AND(WEEKDAY($A22,2)<7,E22="CP"),1,0) -> 0 | M22: =IF(E22="CV",1,0) -> 0 | N22: =IF(AND(F22>$A$4,F22<$A$2),1,0) -> 0 | R22: =MOD(Q22-O22,1) -> 0 | S22: =R22+R23 -> 0 | T22: =IF(OR(Q21="",O22=""),0,MOD(O22-Q21,1)) -> 0 | U22: =IF(OR(O22>Q22,O22>=$A$3),Q22+IF(O22>Q22,1,0)-$A$3,0) -> 0 | V22: =U22+U23 -> 0 | W22: =IF(AND(WEEKDAY($A22,2)<7,P22="CP"),1,0) -> 0 | X22: =IF(P22="CV",1,0) -> 0 | Y22: =IF(AND(Q22>$A$4,Q22<$A$2),1,0) -> 0 | AC22: =MOD(AB22-Z22,1) -> 0 | AD22: =AC22+AC23 -> 0 | AE22: =IF(OR(AB21="",Z22=""),0,MOD(Z22-AB21,1)) -> 0 | AF22: =IF(OR(Z22>AB22,Z22>=$A$3),AB22+IF(Z22>AB22,1,0)-$A$3,0) -> 0 | AG22: =AF22+AF23 -> 0 | AH22: =IF(AND(WEEKDAY($A22,2)<7,AA22="CP"),1,0) -> 0 | AI22: =IF(AA22="CV",1,0) -> 0 | AJ22: =IF(AND(F22>$A$4,F22<$A$2),1,0) -> 0 | AN22: =MOD(AM22-AK22,1) -> 0 | AO22: =AN22+AN23 -> 0 | AP22: =IF(OR(AM21="",AK22=""),0,MOD(AK22-AM21,1)) -> 0 | AQ22: =IF(OR(AK22>AM22,AK22>=$A$3),AM22+IF(AK22>AM22,1,0)-$A$3,0) -> 0 | AR22: =AQ22+AQ23 -> 0 | AS22: =IF(AND(WEEKDAY($A22,2)<7,AL22="CP"),1,0) -> 0 | AT22: =IF(AL22="CV",1,0) -> 0 | AU22: =IF(AND(F22>$A$4,F22<$A$2),1,0) -> 0 | AY22: =MOD(AX22-AV22,1) -> 0 | AZ22: =AY22+AY23 -> 0 | BA22: =IF(OR(AX21="",AV22=""),0,MOD(AV22-AX21,1)) -> 0 | BB22: =IF(OR(AV22>AX22,AV22>=$A$3),AX22+IF(AV22>AX22,1,0)-$A$3,0) -> 0 | BC22: =BB22+BB23 -> 0 | BD22: =IF(AND(WEEKDAY($A22,2)<7,AW22="CP"),1,0) -> 0 | BE22: =IF(AW22="CV",1,0) -> 0 | BF22: =IF(AND(F22>$A$4,F22<$A$2),1,0) -> 0 | BJ22: =MOD(BI22-BG22,1) -> 0 | BK22: =BJ22+BJ23 -> 0 | BL22: =IF(OR(BI21="",BG22=""),0,MOD(BG22-BI21,1)) -> 0 | BM22: =IF(OR(BG22>BI22,BG22>=$A$3),BI22+IF(BG22>BI22,1,0)-$A$3,0) -> 0 | BN22: =BM22+BM23 -> 0 | BO22: =IF(AND(WEEKDAY($A22,2)<7,BH22="CP"),1,0) -> 0 | BP22: =IF(BH22="CV",1,0) -> 0 | BQ22: =IF(AND(F22>$A$4,F22<$A$2),1,0) -> 0
G23: =MOD(F23-D23,1) -> 0 | J23: =IF(OR(D23>F23,D23>=$A$3),F23+IF(D23>F23,1,0)-$A$3,0) -> 0 | N23: =IF(AND(F23>$A$4,F23<$A$2),1,0) -> 0 | R23: =MOD(Q23-O23,1) -> 0 | U23: =IF(OR(O23>Q23,O23>=$A$3),Q23+IF(O23>Q23,1,0)-$A$3,0) -> 0 | Y23: =IF(AND(Q23>$A$4,Q23<$A$2),1,0) -> 0 | AC23: =MOD(AB23-Z23,1) -> 0 | AF23: =IF(OR(Z23>AB23,Z23>=$A$3),AB23+IF(Z23>AB23,1,0)-$A$3,0) -> 0 | AJ23: =IF(AND(F23>$A$4,F23<$A$2),1,0) -> 0 | AN23: =MOD(AM23-AK23,1) -> 0 | AQ23: =IF(OR(AK23>AM23,AK23>=$A$3),AM23+IF(AK23>AM23,1,0)-$A$3,0) -> 0 | AU23: =IF(AND(F23>$A$4,F23<$A$2),1,0) -> 0 | AY23: =MOD(AX23-AV23,1) -> 0 | BB23: =IF(OR(AV23>AX23,AV23>=$A$3),AX23+IF(AV23>AX23,1,0)-$A$3,0) -> 0 | BF23: =IF(AND(F23>$A$4,F23<$A$2),1,0) -> 0 | BJ23: =MOD(BI23-BG23,1) -> 0 | BM23: =IF(OR(BG23>BI23,BG23>=$A$3),BI23+IF(BG23>BI23,1,0)-$A$3,0) -> 0 | BQ23: =IF(AND(F23>$A$4,F23<$A$2),1,0) -> 0
A24: =A22+1 -> 41647 | B24: =UPPER(TEXT(A24,"jjj")) -> MAR | C24: =UPPER(TEXT(A24,"jj mmm")) -> 09 JANV | G24: =MOD(F24-D24,1) -> 0 | H24: =G24+G25 -> 0 | I24: =IF(OR(F23="",D24=""),0,MOD(D24-F23,1)) -> 0 | J24: =IF(OR(D24>F24,D24>=$A$3),F24+IF(D24>F24,1,0)-$A$3,0) -> 0 | K24: =J24+J25 -> 0 | L24: =IF(AND(WEEKDAY($A24,2)<7,E24="CP"),1,0) -> 0 | M24: =IF(E24="CV",1,0) -> 0 | N24: =IF(AND(F24>$A$4,F24<$A$2),1,0) -> 0 | R24: =MOD(Q24-O24,1) -> 0 | S24: =R24+R25 -> 0 | T24: =IF(OR(Q23="",O24=""),0,MOD(O24-Q23,1)) -> 0 | U24: =IF(OR(O24>Q24,O24>=$A$3),Q24+IF(O24>Q24,1,0)-$A$3,0) -> 0 | V24: =U24+U25 -> 0 | W24: =IF(AND(WEEKDAY($A24,2)<7,P24="CP"),1,0) -> 0 | X24: =IF(P24="CV",1,0) -> 0 | Y24: =IF(AND(Q24>$A$4,Q24<$A$2),1,0) -> 0 | AC24: =MOD(AB24-Z24,1) -> 0 | AD24: =AC24+AC25 -> 0 | AE24: =IF(OR(AB23="",Z24=""),0,MOD(Z24-AB23,1)) -> 0 | AF24: =IF(OR(Z24>AB24,Z24>=$A$3),AB24+IF(Z24>AB24,1,0)-$A$3,0) -> 0 | AG24: =AF24+AF25 -> 0 | AH24: =IF(AND(WEEKDAY($A24,2)<7,AA24="CP"),1,0) -> 0 | AI24: =IF(AA24="CV",1,0) -> 0 | AJ24: =IF(AND(F24>$A$4,F24<$A$2),1,0) -> 0 | AN24: =MOD(AM24-AK24,1) -> 0 | AO24: =AN24+AN25 -> 0 | AP24: =IF(OR(AM23="",AK24=""),0,MOD(AK24-AM23,1)) -> 0 | AQ24: =IF(OR(AK24>AM24,AK24>=$A$3),AM24+IF(AK24>AM24,1,0)-$A$3,0) -> 0 | AR24: =AQ24+AQ25 -> 0 | AS24: =IF(AND(WEEKDAY($A24,2)<7,AL24="CP"),1,0) -> 0 | AT24: =IF(AL24="CV",1,0) -> 0 | AU24: =IF(AND(F24>$A$4,F24<$A$2),1,0) -> 0 | AY24: =MOD(AX24-AV24,1) -> 0 | AZ24: =AY24+AY25 -> 0 | BA24: =IF(OR(AX23="",AV24=""),0,MOD(AV24-AX23,1)) -> 0 | BB24: =IF(OR(AV24>AX24,AV24>=$A$3),AX24+IF(AV24>AX24,1,0)-$A$3,0) -> 0 | BC24: =BB24+BB25 -> 0 | BD24: =IF(AND(WEEKDAY($A24,2)<7,AW24="CP"),1,0) -> 0 | BE24: =IF(AW24="CV",1,0) -> 0 | BF24: =IF(AND(F24>$A$4,F24<$A$2),1,0) -> 0 | BJ24: =MOD(BI24-BG24,1) -> 0 | BK24: =BJ24+BJ25 -> 0 | BL24: =IF(OR(BI23="",BG24=""),0,MOD(BG24-BI23,1)) -> 0 | BM24: =IF(OR(BG24>BI24,BG24>=$A$3),BI24+IF(BG24>BI24,1,0)-$A$3,0) -> 0 | BN24: =BM24+BM25 -> 0 | BO24: =IF(AND(WEEKDAY($A24,2)<7,BH24="CP"),1,0) -> 0 | BP24: =IF(BH24="CV",1,0) -> 0 | BQ24: =IF(AND(F24>$A$4,F24<$A$2),1,0) -> 0
G25: =MOD(F25-D25,1) -> 0 | J25: =IF(OR(D25>F25,D25>=$A$3),F25+IF(D25>F25,1,0)-$A$3,0) -> 0 | N25: =IF(AND(F25>$A$4,F25<$A$2),1,0) -> 0 | R25: =MOD(Q25-O25,1) -> 0 | U25: =IF(OR(O25>Q25,O25>=$A$3),Q25+IF(O25>Q25,1,0)-$A$3,0) -> 0 | Y25: =IF(AND(Q25>$A$4,Q25<$A$2),1,0) -> 0 | AC25: =MOD(AB25-Z25,1) -> 0 | AF25: =IF(OR(Z25>AB25,Z25>=$A$3),AB25+IF(Z25>AB25,1,0)-$A$3,0) -> 0 | AJ25: =IF(AND(F25>$A$4,F25<$A$2),1,0) -> 0 | AN25: =MOD(AM25-AK25,1) -> 0 | AQ25: =IF(OR(AK25>AM25,AK25>=$A$3),AM25+IF(AK25>AM25,1,0)-$A$3,0) -> 0 | AU25: =IF(AND(F25>$A$4,F25<$A$2),1,0) -> 0 | AY25: =MOD(AX25-AV25,1) -> 0 | BB25: =IF(OR(AV25>AX25,AV25>=$A$3),AX25+IF(AV25>AX25,1,0)-$A$3,0) -> 0 | BF25: =IF(AND(F25>$A$4,F25<$A$2),1,0) -> 0 | BJ25: =MOD(BI25-BG25,1) -> 0 | BM25: =IF(OR(BG25>BI25,BG25>=$A$3),BI25+IF(BG25>BI25,1,0)-$A$3,0) -> 0 | BQ25: =IF(AND(F25>$A$4,F25<$A$2),1,0) -> 0
A26: =A24+1 -> 41648 | B26: =UPPER(TEXT(A26,"jjj")) -> MER | C26: =UPPER(TEXT(A26,"jj mmm")) -> 10 JANV | G26: =MOD(F26-D26,1) -> 0 | H26: =G26+G27 -> 0 | I26: =IF(OR(F25="",D26=""),0,MOD(D26-F25,1)) -> 0 | J26: =IF(OR(D26>F26,D26>=$A$3),F26+IF(D26>F26,1,0)-$A$3,0) -> 0 | K26: =J26+J27 -> 0 | L26: =IF(AND(WEEKDAY($A26,2)<7,E26="CP"),1,0) -> 0 | M26: =IF(E26="CV",1,0) -> 0 | N26: =IF(AND(F26>$A$4,F26<$A$2),1,0) -> 0 | R26: =MOD(Q26-O26,1) -> 0 | S26: =R26+R27 -> 0 | T26: =IF(OR(Q25="",O26=""),0,MOD(O26-Q25,1)) -> 0 | U26: =IF(OR(O26>Q26,O26>=$A$3),Q26+IF(O26>Q26,1,0)-$A$3,0) -> 0 | V26: =U26+U27 -> 0 | W26: =IF(AND(WEEKDAY($A26,2)<7,P26="CP"),1,0) -> 0 | X26: =IF(P26="CV",1,0) -> 0 | Y26: =IF(AND(Q26>$A$4,Q26<$A$2),1,0) -> 0 | AC26: =MOD(AB26-Z26,1) -> 0 | AD26: =AC26+AC27 -> 0 | AE26: =IF(OR(AB25="",Z26=""),0,MOD(Z26-AB25,1)) -> 0 | AF26: =IF(OR(Z26>AB26,Z26>=$A$3),AB26+IF(Z26>AB26,1,0)-$A$3,0) -> 0 | AG26: =AF26+AF27 -> 0 | AH26: =IF(AND(WEEKDAY($A26,2)<7,AA26="CP"),1,0) -> 0 | AI26: =IF(AA26="CV",1,0) -> 0 | AJ26: =IF(AND(F26>$A$4,F26<$A$2),1,0) -> 0 | AN26: =MOD(AM26-AK26,1) -> 0 | AO26: =AN26+AN27 -> 0 | AP26: =IF(OR(AM25="",AK26=""),0,MOD(AK26-AM25,1)) -> 0 | AQ26: =IF(OR(AK26>AM26,AK26>=$A$3),AM26+IF(AK26>AM26,1,0)-$A$3,0) -> 0 | AR26: =AQ26+AQ27 -> 0 | AS26: =IF(AND(WEEKDAY($A26,2)<7,AL26="CP"),1,0) -> 0 | AT26: =IF(AL26="CV",1,0) -> 0 | AU26: =IF(AND(F26>$A$4,F26<$A$2),1,0) -> 0 | AY26: =MOD(AX26-AV26,1) -> 0 | AZ26: =AY26+AY27 -> 0 | BA26: =IF(OR(AX25="",AV26=""),0,MOD(AV26-AX25,1)) -> 0 | BB26: =IF(OR(AV26>AX26,AV26>=$A$3),AX26+IF(AV26>AX26,1,0)-$A$3,0) -> 0 | BC26: =BB26+BB27 -> 0 | BD26: =IF(AND(WEEKDAY($A26,2)<7,AW26="CP"),1,0) -> 0 | BE26: =IF(AW26="CV",1,0) -> 0 | BF26: =IF(AND(F26>$A$4,F26<$A$2),1,0) -> 0 | BJ26: =MOD(BI26-BG26,1) -> 0 | BK26: =BJ26+BJ27 -> 0 | BL26: =IF(OR(BI25="",BG26=""),0,MOD(BG26-BI25,1)) -> 0 | BM26: =IF(OR(BG26>BI26,BG26>=$A$3),BI26+IF(BG26>BI26,1,0)-$A$3,0) -> 0 | BN26: =BM26+BM27 -> 0 | BO26: =IF(AND(WEEKDAY($A26,2)<7,BH26="CP"),1,0) -> 0 | BP26: =IF(BH26="CV",1,0) -> 0 | BQ26: =IF(AND(F26>$A$4,F26<$A$2),1,0) -> 0
G27: =MOD(F27-D27,1) -> 0 | J27: =IF(OR(D27>F27,D27>=$A$3),F27+IF(D27>F27,1,0)-$A$3,0) -> 0 | N27: =IF(AND(F27>$A$4,F27<$A$2),1,0) -> 0 | R27: =MOD(Q27-O27,1) -> 0 | U27: =IF(OR(O27>Q27,O27>=$A$3),Q27+IF(O27>Q27,1,0)-$A$3,0) -> 0 | Y27: =IF(AND(Q27>$A$4,Q27<$A$2),1,0) -> 0 | AC27: =MOD(AB27-Z27,1) -> 0 | AF27: =IF(OR(Z27>AB27,Z27>=$A$3),AB27+IF(Z27>AB27,1,0)-$A$3,0) -> 0 | AJ27: =IF(AND(F27>$A$4,F27<$A$2),1,0) -> 0 | AN27: =MOD(AM27-AK27,1) -> 0 | AQ27: =IF(OR(AK27>AM27,AK27>=$A$3),AM27+IF(AK27>AM27,1,0)-$A$3,0) -> 0 | AU27: =IF(AND(F27>$A$4,F27<$A$2),1,0) -> 0 | AY27: =MOD(AX27-AV27,1) -> 0 | BB27: =IF(OR(AV27>AX27,AV27>=$A$3),AX27+IF(AV27>AX27,1,0)-$A$3,0) -> 0 | BF27: =IF(AND(F27>$A$4,F27<$A$2),1,0) -> 0 | BJ27: =MOD(BI27-BG27,1) -> 0 | BM27: =IF(OR(BG27>BI27,BG27>=$A$3),BI27+IF(BG27>BI27,1,0)-$A$3,0) -> 0 | BQ27: =IF(AND(F27>$A$4,F27<$A$2),1,0) -> 0
A28: =A26+1 -> 41649 | B28: =UPPER(TEXT(A28,"jjj")) -> JEU | C28: =UPPER(TEXT(A28,"jj mmm")) -> 11 JANV | G28: =MOD(F28-D28,1) -> 0 | H28: =G28+G29 -> 0 | I28: =IF(OR(F27="",D28=""),0,MOD(D28-F27,1)) -> 0 | J28: =IF(OR(D28>F28,D28>=$A$3),F28+IF(D28>F28,1,0)-$A$3,0) -> 0 | K28: =J28+J29 -> 0 | L28: =IF(AND(WEEKDAY($A28,2)<7,E28="CP"),1,0) -> 0 | M28: =IF(E28="CV",1,0) -> 0 | N28: =IF(AND(F28>$A$4,F28<$A$2),1,0) -> 0 | R28: =MOD(Q28-O28,1) -> 0 | S28: =R28+R29 -> 0 | T28: =IF(OR(Q27="",O28=""),0,MOD(O28-Q27,1)) -> 0 | U28: =IF(OR(O28>Q28,O28>=$A$3),Q28+IF(O28>Q28,1,0)-$A$3,0) -> 0 | V28: =U28+U29 -> 0 | W28: =IF(AND(WEEKDAY($A28,2)<7,P28="CP"),1,0) -> 0 | X28: =IF(P28="CV",1,0) -> 0 | Y28: =IF(AND(Q28>$A$4,Q28<$A$2),1,0) -> 0 | AC28: =MOD(AB28-Z28,1) -> 0 | AD28: =AC28+AC29 -> 0 | AE28: =IF(OR(AB27="",Z28=""),0,MOD(Z28-AB27,1)) -> 0 | AF28: =IF(OR(Z28>AB28,Z28>=$A$3),AB28+IF(Z28>AB28,1,0)-$A$3,0) -> 0 | AG28: =AF28+AF29 -> 0 | AH28: =IF(AND(WEEKDAY($A28,2)<7,AA28="CP"),1,0) -> 0 | AI28: =IF(AA28="CV",1,0) -> 0 | AJ28: =IF(AND(F28>$A$4,F28<$A$2),1,0) -> 0 | AN28: =MOD(AM28-AK28,1) -> 0 | AO28: =AN28+AN29 -> 0 | AP28: =IF(OR(AM27="",AK28=""),0,MOD(AK28-AM27,1)) -> 0 | AQ28: =IF(OR(AK28>AM28,AK28>=$A$3),AM28+IF(AK28>AM28,1,0)-$A$3,0) -> 0 | AR28: =AQ28+AQ29 -> 0 | AS28: =IF(AND(WEEKDAY($A28,2)<7,AL28="CP"),1,0) -> 0 | AT28: =IF(AL28="CV",1,0) -> 0 | AU28: =IF(AND(F28>$A$4,F28<$A$2),1,0) -> 0 | AY28: =MOD(AX28-AV28,1) -> 0 | AZ28: =AY28+AY29 -> 0 | BA28: =IF(OR(AX27="",AV28=""),0,MOD(AV28-AX27,1)) -> 0 | BB28: =IF(OR(AV28>AX28,AV28>=$A$3),AX28+IF(AV28>AX28,1,0)-$A$3,0) -> 0 | BC28: =BB28+BB29 -> 0 | BD28: =IF(AND(WEEKDAY($A28,2)<7,AW28="CP"),1,0) -> 0 | BE28: =IF(AW28="CV",1,0) -> 0 | BF28: =IF(AND(F28>$A$4,F28<$A$2),1,0) -> 0 | BJ28: =MOD(BI28-BG28,1) -> 0 | BK28: =BJ28+BJ29 -> 0 | BL28: =IF(OR(BI27="",BG28=""),0,MOD(BG28-BI27,1)) -> 0 | BM28: =IF(OR(BG28>BI28,BG28>=$A$3),BI28+IF(BG28>BI28,1,0)-$A$3,0) -> 0 | BN28: =BM28+BM29 -> 0 | BO28: =IF(AND(WEEKDAY($A28,2)<7,BH28="CP"),1,0) -> 0 | BP28: =IF(BH28="CV",1,0) -> 0 | BQ28: =IF(AND(F28>$A$4,F28<$A$2),1,0) -> 0
G29: =MOD(F29-D29,1) -> 0 | J29: =IF(OR(D29>F29,D29>=$A$3),F29+IF(D29>F29,1,0)-$A$3,0) -> 0 | N29: =IF(AND(F29>$A$4,F29<$A$2),1,0) -> 0 | R29: =MOD(Q29-O29,1) -> 0 | U29: =IF(OR(O29>Q29,O29>=$A$3),Q29+IF(O29>Q29,1,0)-$A$3,0) -> 0 | Y29: =IF(AND(Q29>$A$4,Q29<$A$2),1,0) -> 0 | AC29: =MOD(AB29-Z29,1) -> 0 | AF29: =IF(OR(Z29>AB29,Z29>=$A$3),AB29+IF(Z29>AB29,1,0)-$A$3,0) -> 0 | AJ29: =IF(AND(F29>$A$4,F29<$A$2),1,0) -> 0 | AN29: =MOD(AM29-AK29,1) -> 0 | AQ29: =IF(OR(AK29>AM29,AK29>=$A$3),AM29+IF(AK29>AM29,1,0)-$A$3,0) -> 0 | AU29: =IF(AND(F29>$A$4,F29<$A$2),1,0) -> 0 | AY29: =MOD(AX29-AV29,1) -> 0 | BB29: =IF(OR(AV29>AX29,AV29>=$A$3),AX29+IF(AV29>AX29,1,0)-$A$3,0) -> 0 | BF29: =IF(AND(F29>$A$4,F29<$A$2),1,0) -> 0 | BJ29: =MOD(BI29-BG29,1) -> 0 | BM29: =IF(OR(BG29>BI29,BG29>=$A$3),BI29+IF(BG29>BI29,1,0)-$A$3,0) -> 0 | BQ29: =IF(AND(F29>$A$4,F29<$A$2),1,0) -> 0
A30: =A28+1 -> 41650 | B30: =UPPER(TEXT(A30,"jjj")) -> VEN | C30: =UPPER(TEXT(A30,"jj mmm")) -> 12 JANV | G30: =MOD(F30-D30,1) -> 0 | H30: =G30+G31 -> 0 | I30: =IF(OR(F29="",D30=""),0,MOD(D30-F29,1)) -> 0 | J30: =IF(OR(D30>F30,D30>=$A$3),F30+IF(D30>F30,1,0)-$A$3,0) -> 0 | K30: =J30+J31 -> 0 | L30: =IF(AND(WEEKDAY($A30,2)<7,E30="CP"),1,0) -> 0 | M30: =IF(E30="CV",1,0) -> 0 | N30: =IF(AND(F30>$A$4,F30<$A$2),1,0) -> 0 | R30: =MOD(Q30-O30,1) -> 0 | S30: =R30+R31 -> 0 | T30: =IF(OR(Q29="",O30=""),0,MOD(O30-Q29,1)) -> 0 | U30: =IF(OR(O30>Q30,O30>=$A$3),Q30+IF(O30>Q30,1,0)-$A$3,0) -> 0 | V30: =U30+U31 -> 0 | W30: =IF(AND(WEEKDAY($A30,2)<7,P30="CP"),1,0) -> 0 | X30: =IF(P30="CV",1,0) -> 0 | Y30: =IF(AND(Q30>$A$4,Q30<$A$2),1,0) -> 0 | AC30: =MOD(AB30-Z30,1) -> 0 | AD30: =AC30+AC31 -> 0 | AE30: =IF(OR(AB29="",Z30=""),0,MOD(Z30-AB29,1)) -> 0 | AF30: =IF(OR(Z30>AB30,Z30>=$A$3),AB30+IF(Z30>AB30,1,0)-$A$3,0) -> 0 | AG30: =AF30+AF31 -> 0 | AH30: =IF(AND(WEEKDAY($A30,2)<7,AA30="CP"),1,0) -> 0 | AI30: =IF(AA30="CV",1,0) -> 0 | AJ30: =IF(AND(F30>$A$4,F30<$A$2),1,0) -> 0 | AN30: =MOD(AM30-AK30,1) -> 0 | AO30: =AN30+AN31 -> 0 | AP30: =IF(OR(AM29="",AK30=""),0,MOD(AK30-AM29,1)) -> 0 | AQ30: =IF(OR(AK30>AM30,AK30>=$A$3),AM30+IF(AK30>AM30,1,0)-$A$3,0) -> 0 | AR30: =AQ30+AQ31 -> 0 | AS30: =IF(AND(WEEKDAY($A30,2)<7,AL30="CP"),1,0) -> 0 | AT30: =IF(AL30="CV",1,0) -> 0 | AU30: =IF(AND(F30>$A$4,F30<$A$2),1,0) -> 0 | AY30: =MOD(AX30-AV30,1) -> 0 | AZ30: =AY30+AY31 -> 0 | BA30: =IF(OR(AX29="",AV30=""),0,MOD(AV30-AX29,1)) -> 0 | BB30: =IF(OR(AV30>AX30,AV30>=$A$3),AX30+IF(AV30>AX30,1,0)-$A$3,0) -> 0 | BC30: =BB30+BB31 -> 0 | BD30: =IF(AND(WEEKDAY($A30,2)<7,AW30="CP"),1,0) -> 0 | BE30: =IF(AW30="CV",1,0) -> 0 | BF30: =IF(AND(F30>$A$4,F30<$A$2),1,0) -> 0 | BJ30: =MOD(BI30-BG30,1) -> 0 | BK30: =BJ30+BJ31 -> 0 | BL30: =IF(OR(BI29="",BG30=""),0,MOD(BG30-BI29,1)) -> 0 | BM30: =IF(OR(BG30>BI30,BG30>=$A$3),BI30+IF(BG30>BI30,1,0)-$A$3,0) -> 0 | BN30: =BM30+BM31 -> 0 | BO30: =IF(AND(WEEKDAY($A30,2)<7,BH30="CP"),1,0) -> 0 | BP30: =IF(BH30="CV",1,0) -> 0 | BQ30: =IF(AND(F30>$A$4,F30<$A$2),1,0) -> 0
G31: =MOD(F31-D31,1) -> 0 | J31: =IF(OR(D31>F31,D31>=$A$3),F31+IF(D31>F31,1,0)-$A$3,0) -> 0 | N31: =IF(AND(F31>$A$4,F31<$A$2),1,0) -> 0 | R31: =MOD(Q31-O31,1) -> 0 | U31: =IF(OR(O31>Q31,O31>=$A$3),Q31+IF(O31>Q31,1,0)-$A$3,0) -> 0 | Y31: =IF(AND(Q31>$A$4,Q31<$A$2),1,0) -> 0 | AC31: =MOD(AB31-Z31,1) -> 0 | AF31: =IF(OR(Z31>AB31,Z31>=$A$3),AB31+IF(Z31>AB31,1,0)-$A$3,0) -> 0 | AJ31: =IF(AND(F31>$A$4,F31<$A$2),1,0) -> 0 | AN31: =MOD(AM31-AK31,1) -> 0 | AQ31: =IF(OR(AK31>AM31,AK31>=$A$3),AM31+IF(AK31>AM31,1,0)-$A$3,0) -> 0 | AU31: =IF(AND(F31>$A$4,F31<$A$2),1,0) -> 0 | AY31: =MOD(AX31-AV31,1) -> 0 | BB31: =IF(OR(AV31>AX31,AV31>=$A$3),AX31+IF(AV31>AX31,1,0)-$A$3,0) -> 0 | BF31: =IF(AND(F31>$A$4,F31<$A$2),1,0) -> 0 | BJ31: =MOD(BI31-BG31,1) -> 0 | BM31: =IF(OR(BG31>BI31,BG31>=$A$3),BI31+IF(BG31>BI31,1,0)-$A$3,0) -> 0 | BQ31: =IF(AND(F31>$A$4,F31<$A$2),1,0) -> 0
A32: =A30+1 -> 41651 | B32: =UPPER(TEXT(A32,"jjj")) -> SAM | C32: =UPPER(TEXT(A32,"jj mmm")) -> 13 JANV | G32: =MOD(F32-D32,1) -> 0 | H32: =G32+G33 -> 0 | I32: =IF(OR(F31="",D32=""),0,MOD(D32-F31,1)) -> 0 | J32: =IF(OR(D32>F32,D32>=$A$3),F32+IF(D32>F32,1,0)-$A$3,0) -> 0 | K32: =J32+J33 -> 0 | L32: =IF(AND(WEEKDAY($A32,2)<7,E32="CP"),1,0) -> 0 | M32: =IF(E32="CV",1,0) -> 0 | N32: =IF(AND(F32>$A$4,F32<$A$2),1,0) -> 0 | R32: =MOD(Q32-O32,1) -> 0 | S32: =R32+R33 -> 0 | T32: =IF(OR(Q31="",O32=""),0,MOD(O32-Q31,1)) -> 0 | U32: =IF(OR(O32>Q32,O32>=$A$3),Q32+IF(O32>Q32,1,0)-$A$3,0) -> 0 | V32: =U32+U33 -> 0 | W32: =IF(AND(WEEKDAY($A32,2)<7,P32="CP"),1,0) -> 0 | X32: =IF(P32="CV",1,0) -> 0 | Y32: =IF(AND(Q32>$A$4,Q32<$A$2),1,0) -> 0 | AC32: =MOD(AB32-Z32,1) -> 0 | AD32: =AC32+AC33 -> 0 | AE32: =IF(OR(AB31="",Z32=""),0,MOD(Z32-AB31,1)) -> 0 | AF32: =IF(OR(Z32>AB32,Z32>=$A$3),AB32+IF(Z32>AB32,1,0)-$A$3,0) -> 0 | AG32: =AF32+AF33 -> 0 | AH32: =IF(AND(WEEKDAY($A32,2)<7,AA32="CP"),1,0) -> 0 | AI32: =IF(AA32="CV",1,0) -> 0 | AJ32: =IF(AND(F32>$A$4,F32<$A$2),1,0) -> 0 | AN32: =MOD(AM32-AK32,1) -> 0 | AO32: =AN32+AN33 -> 0 | AP32: =IF(OR(AM31="",AK32=""),0,MOD(AK32-AM31,1)) -> 0 | AQ32: =IF(OR(AK32>AM32,AK32>=$A$3),AM32+IF(AK32>AM32,1,0)-$A$3,0) -> 0 | AR32: =AQ32+AQ33 -> 0 | AS32: =IF(AND(WEEKDAY($A32,2)<7,AL32="CP"),1,0) -> 0 | AT32: =IF(AL32="CV",1,0) -> 0 | AU32: =IF(AND(F32>$A$4,F32<$A$2),1,0) -> 0 | AY32: =MOD(AX32-AV32,1) -> 0 | AZ32: =AY32+AY33 -> 0 | BA32: =IF(OR(AX31="",AV32=""),0,MOD(AV32-AX31,1)) -> 0 | BB32: =IF(OR(AV32>AX32,AV32>=$A$3),AX32+IF(AV32>AX32,1,0)-$A$3,0) -> 0 | BC32: =BB32+BB33 -> 0 | BD32: =IF(AND(WEEKDAY($A32,2)<7,AW32="CP"),1,0) -> 0 | BE32: =IF(AW32="CV",1,0) -> 0 | BF32: =IF(AND(F32>$A$4,F32<$A$2),1,0) -> 0 | BJ32: =MOD(BI32-BG32,1) -> 0 | BK32: =BJ32+BJ33 -> 0 | BL32: =IF(OR(BI31="",BG32=""),0,MOD(BG32-BI31,1)) -> 0 | BM32: =IF(OR(BG32>BI32,BG32>=$A$3),BI32+IF(BG32>BI32,1,0)-$A$3,0) -> 0 | BN32: =BM32+BM33 -> 0 | BO32: =IF(AND(WEEKDAY($A32,2)<7,BH32="CP"),1,0) -> 0 | BP32: =IF(BH32="CV",1,0) -> 0 | BQ32: =IF(AND(F32>$A$4,F32<$A$2),1,0) -> 0
G33: =MOD(F33-D33,1) -> 0 | J33: =IF(OR(D33>F33,D33>=$A$3),F33+IF(D33>F33,1,0)-$A$3,0) -> 0 | N33: =IF(AND(F33>$A$4,F33<$A$2),1,0) -> 0 | R33: =MOD(Q33-O33,1) -> 0 | U33: =IF(OR(O33>Q33,O33>=$A$3),Q33+IF(O33>Q33,1,0)-$A$3,0) -> 0 | Y33: =IF(AND(Q33>$A$4,Q33<$A$2),1,0) -> 0 | AC33: =MOD(AB33-Z33,1) -> 0 | AF33: =IF(OR(Z33>AB33,Z33>=$A$3),AB33+IF(Z33>AB33,1,0)-$A$3,0) -> 0 | AJ33: =IF(AND(F33>$A$4,F33<$A$2),1,0) -> 0 | AN33: =MOD(AM33-AK33,1) -> 0 | AQ33: =IF(OR(AK33>AM33,AK33>=$A$3),AM33+IF(AK33>AM33,1,0)-$A$3,0) -> 0 | AU33: =IF(AND(F33>$A$4,F33<$A$2),1,0) -> 0 | AY33: =MOD(AX33-AV33,1) -> 0 | BB33: =IF(OR(AV33>AX33,AV33>=$A$3),AX33+IF(AV33>AX33,1,0)-$A$3,0) -> 0 | BF33: =IF(AND(F33>$A$4,F33<$A$2),1,0) -> 0 | BJ33: =MOD(BI33-BG33,1) -> 0 | BM33: =IF(OR(BG33>BI33,BG33>=$A$3),BI33+IF(BG33>BI33,1,0)-$A$3,0) -> 0 | BQ33: =IF(AND(F33>$A$4,F33<$A$2),1,0) -> 0
A34: =A32+1 -> 41652 | B34: =UPPER(TEXT(A34,"jjj")) -> DIM | C34: =UPPER(TEXT(A34,"jj mmm")) -> 14 JANV | G34: =MOD(F34-D34,1) -> 0 | H34: =G34+G35 -> 0 | I34: =IF(OR(F33="",D34=""),0,MOD(D34-F33,1)) -> 0 | J34: =IF(OR(D34>F34,D34>=$A$3),F34+IF(D34>F34,1,0)-$A$3,0) -> 0 | K34: =J34+J35 -> 0 | L34: =IF(AND(WEEKDAY($A34,2)<7,E34="CP"),1,0) -> 0 | M34: =IF(E34="CV",1,0) -> 0 | N34: =IF(AND(F34>$A$4,F34<$A$2),1,0) -> 0 | R34: =MOD(Q34-O34,1) -> 0 | S34: =R34+R35 -> 0 | T34: =IF(OR(Q33="",O34=""),0,MOD(O34-Q33,1)) -> 0 | U34: =IF(OR(O34>Q34,O34>=$A$3),Q34+IF(O34>Q34,1,0)-$A$3,0) -> 0 | V34: =U34+U35 -> 0 | W34: =IF(AND(WEEKDAY($A34,2)<7,P34="CP"),1,0) -> 0 | X34: =IF(P34="CV",1,0) -> 0 | Y34: =IF(AND(Q34>$A$4,Q34<$A$2),1,0) -> 0 | AC34: =MOD(AB34-Z34,1) -> 0 | AD34: =AC34+AC35 -> 0 | AE34: =IF(OR(AB33="",Z34=""),0,MOD(Z34-AB33,1)) -> 0 | AF34: =IF(OR(Z34>AB34,Z34>=$A$3),AB34+IF(Z34>AB34,1,0)-$A$3,0) -> 0 | AG34: =AF34+AF35 -> 0 | AH34: =IF(AND(WEEKDAY($A34,2)<7,AA34="CP"),1,0) -> 0 | AI34: =IF(AA34="CV",1,0) -> 0 | AJ34: =IF(AND(F34>$A$4,F34<$A$2),1,0) -> 0 | AN34: =MOD(AM34-AK34,1) -> 0 | AO34: =AN34+AN35 -> 0 | AP34: =IF(OR(AM33="",AK34=""),0,MOD(AK34-AM33,1)) -> 0 | AQ34: =IF(OR(AK34>AM34,AK34>=$A$3),AM34+IF(AK34>AM34,1,0)-$A$3,0) -> 0 | AR34: =AQ34+AQ35 -> 0 | AS34: =IF(AND(WEEKDAY($A34,2)<7,AL34="CP"),1,0) -> 0 | AT34: =IF(AL34="CV",1,0) -> 0 | AU34: =IF(AND(F34>$A$4,F34<$A$2),1,0) -> 0 | AY34: =MOD(AX34-AV34,1) -> 0 | AZ34: =AY34+AY35 -> 0 | BA34: =IF(OR(AX33="",AV34=""),0,MOD(AV34-AX33,1)) -> 0 | BB34: =IF(OR(AV34>AX34,AV34>=$A$3),AX34+IF(AV34>AX34,1,0)-$A$3,0) -> 0 | BC34: =BB34+BB35 -> 0 | BD34: =IF(AND(WEEKDAY($A34,2)<7,AW34="CP"),1,0) -> 0 | BE34: =IF(AW34="CV",1,0) -> 0 | BF34: =IF(AND(F34>$A$4,F34<$A$2),1,0) -> 0 | BJ34: =MOD(BI34-BG34,1) -> 0 | BK34: =BJ34+BJ35 -> 0 | BL34: =IF(OR(BI33="",BG34=""),0,MOD(BG34-BI33,1)) -> 0 | BM34: =IF(OR(BG34>BI34,BG34>=$A$3),BI34+IF(BG34>BI34,1,0)-$A$3,0) -> 0 | BN34: =BM34+BM35 -> 0 | BO34: =IF(AND(WEEKDAY($A34,2)<7,BH34="CP"),1,0) -> 0 | BP34: =IF(BH34="CV",1,0) -> 0 | BQ34: =IF(AND(F34>$A$4,F34<$A$2),1,0) -> 0
G35: =MOD(F35-D35,1) -> 0 | J35: =IF(OR(D35>F35,D35>=$A$3),F35+IF(D35>F35,1,0)-$A$3,0) -> 0 | N35: =IF(AND(F35>$A$4,F35<$A$2),1,0) -> 0 | R35: =MOD(Q35-O35,1) -> 0 | U35: =IF(OR(O35>Q35,O35>=$A$3),Q35+IF(O35>Q35,1,0)-$A$3,0) -> 0 | Y35: =IF(AND(Q35>$A$4,Q35<$A$2),1,0) -> 0 | AC35: =MOD(AB35-Z35,1) -> 0 | AF35: =IF(OR(Z35>AB35,Z35>=$A$3),AB35+IF(Z35>AB35,1,0)-$A$3,0) -> 0 | AJ35: =IF(AND(F35>$A$4,F35<$A$2),1,0) -> 0 | AN35: =MOD(AM35-AK35,1) -> 0 | AQ35: =IF(OR(AK35>AM35,AK35>=$A$3),AM35+IF(AK35>AM35,1,0)-$A$3,0) -> 0 | AU35: =IF(AND(F35>$A$4,F35<$A$2),1,0) -> 0 | AY35: =MOD(AX35-AV35,1) -> 0 | BB35: =IF(OR(AV35>AX35,AV35>=$A$3),AX35+IF(AV35>AX35,1,0)-$A$3,0) -> 0 | BF35: =IF(AND(F35>$A$4,F35<$A$2),1,0) -> 0 | BJ35: =MOD(BI35-BG35,1) -> 0 | BM35: =IF(OR(BG35>BI35,BG35>=$A$3),BI35+IF(BG35>BI35,1,0)-$A$3,0) -> 0 | BQ35: =IF(AND(F35>$A$4,F35<$A$2),1,0) -> 0
A36: =A34+1 -> 41653 | B36: =UPPER(TEXT(A36,"jjj")) -> LUN | C36: =UPPER(TEXT(A36,"jj mmm")) -> 15 JANV | G36: =MOD(F36-D36,1) -> 0 | H36: =G36+G37 -> 0 | I36: =IF(OR(F35="",D36=""),0,MOD(D36-F35,1)) -> 0 | J36: =IF(OR(D36>F36,D36>=$A$3),F36+IF(D36>F36,1,0)-$A$3,0) -> 0 | K36: =J36+J37 -> 0 | L36: =IF(AND(WEEKDAY($A36,2)<7,E36="CP"),1,0) -> 0 | M36: =IF(E36="CV",1,0) -> 0 | N36: =IF(AND(F36>$A$4,F36<$A$2),1,0) -> 0 | R36: =MOD(Q36-O36,1) -> 0 | S36: =R36+R37 -> 0 | T36: =IF(OR(Q35="",O36=""),0,MOD(O36-Q35,1)) -> 0 | U36: =IF(OR(O36>Q36,O36>=$A$3),Q36+IF(O36>Q36,1,0)-$A$3,0) -> 0 | V36: =U36+U37 -> 0 | W36: =IF(AND(WEEKDAY($A36,2)<7,P36="CP"),1,0) -> 0 | X36: =IF(P36="CV",1,0) -> 0 | Y36: =IF(AND(Q36>$A$4,Q36<$A$2),1,0) -> 0 | AC36: =MOD(AB36-Z36,1) -> 0 | AD36: =AC36+AC37 -> 0 | AE36: =IF(OR(AB35="",Z36=""),0,MOD(Z36-AB35,1)) -> 0 | AF36: =IF(OR(Z36>AB36,Z36>=$A$3),AB36+IF(Z36>AB36,1,0)-$A$3,0) -> 0 | AG36: =AF36+AF37 -> 0 | AH36: =IF(AND(WEEKDAY($A36,2)<7,AA36="CP"),1,0) -> 0 | AI36: =IF(AA36="CV",1,0) -> 0 | AJ36: =IF(AND(F36>$A$4,F36<$A$2),1,0) -> 0 | AN36: =MOD(AM36-AK36,1) -> 0 | AO36: =AN36+AN37 -> 0 | AP36: =IF(OR(AM35="",AK36=""),0,MOD(AK36-AM35,1)) -> 0 | AQ36: =IF(OR(AK36>AM36,AK36>=$A$3),AM36+IF(AK36>AM36,1,0)-$A$3,0) -> 0 | AR36: =AQ36+AQ37 -> 0 | AS36: =IF(AND(WEEKDAY($A36,2)<7,AL36="CP"),1,0) -> 0 | AT36: =IF(AL36="CV",1,0) -> 0 | AU36: =IF(AND(F36>$A$4,F36<$A$2),1,0) -> 0 | AY36: =MOD(AX36-AV36,1) -> 0 | AZ36: =AY36+AY37 -> 0 | BA36: =IF(OR(AX35="",AV36=""),0,MOD(AV36-AX35,1)) -> 0 | BB36: =IF(OR(AV36>AX36,AV36>=$A$3),AX36+IF(AV36>AX36,1,0)-$A$3,0) -> 0 | BC36: =BB36+BB37 -> 0 | BD36: =IF(AND(WEEKDAY($A36,2)<7,AW36="CP"),1,0) -> 0 | BE36: =IF(AW36="CV",1,0) -> 0 | BF36: =IF(AND(F36>$A$4,F36<$A$2),1,0) -> 0 | BJ36: =MOD(BI36-BG36,1) -> 0 | BK36: =BJ36+BJ37 -> 0 | BL36: =IF(OR(BI35="",BG36=""),0,MOD(BG36-BI35,1)) -> 0 | BM36: =IF(OR(BG36>BI36,BG36>=$A$3),BI36+IF(BG36>BI36,1,0)-$A$3,0) -> 0 | BN36: =BM36+BM37 -> 0 | BO36: =IF(AND(WEEKDAY($A36,2)<7,BH36="CP"),1,0) -> 0 | BP36: =IF(BH36="CV",1,0) -> 0 | BQ36: =IF(AND(F36>$A$4,F36<$A$2),1,0) -> 0
G37: =MOD(F37-D37,1) -> 0 | J37: =IF(OR(D37>F37,D37>=$A$3),F37+IF(D37>F37,1,0)-$A$3,0) -> 0 | N37: =IF(AND(F37>$A$4,F37<$A$2),1,0) -> 0 | R37: =MOD(Q37-O37,1) -> 0 | U37: =IF(OR(O37>Q37,O37>=$A$3),Q37+IF(O37>Q37,1,0)-$A$3,0) -> 0 | Y37: =IF(AND(Q37>$A$4,Q37<$A$2),1,0) -> 0 | AC37: =MOD(AB37-Z37,1) -> 0 | AF37: =IF(OR(Z37>AB37,Z37>=$A$3),AB37+IF(Z37>AB37,1,0)-$A$3,0) -> 0 | AJ37: =IF(AND(F37>$A$4,F37<$A$2),1,0) -> 0 | AN37: =MOD(AM37-AK37,1) -> 0 | AQ37: =IF(OR(AK37>AM37,AK37>=$A$3),AM37+IF(AK37>AM37,1,0)-$A$3,0) -> 0 | AU37: =IF(AND(F37>$A$4,F37<$A$2),1,0) -> 0 | AY37: =MOD(AX37-AV37,1) -> 0 | BB37: =IF(OR(AV37>AX37,AV37>=$A$3),AX37+IF(AV37>AX37,1,0)-$A$3,0) -> 0 | BF37: =IF(AND(F37>$A$4,F37<$A$2),1,0) -> 0 | BJ37: =MOD(BI37-BG37,1) -> 0 | BM37: =IF(OR(BG37>BI37,BG37>=$A$3),BI37+IF(BG37>BI37,1,0)-$A$3,0) -> 0 | BQ37: =IF(AND(F37>$A$4,F37<$A$2),1,0) -> 0
A38: =A36+1 -> 41654 | B38: =UPPER(TEXT(A38,"jjj")) -> MAR | C38: =UPPER(TEXT(A38,"jj mmm")) -> 16 JANV | G38: =MOD(F38-D38,1) -> 0 | H38: =G38+G39 -> 0 | I38: =IF(OR(F37="",D38=""),0,MOD(D38-F37,1)) -> 0 | J38: =IF(OR(D38>F38,D38>=$A$3),F38+IF(D38>F38,1,0)-$A$3,0) -> 0 | K38: =J38+J39 -> 0 | L38: =IF(AND(WEEKDAY($A38,2)<7,E38="CP"),1,0) -> 0 | M38: =IF(E38="CV",1,0) -> 0 | N38: =IF(AND(F38>$A$4,F38<$A$2),1,0) -> 0 | R38: =MOD(Q38-O38,1) -> 0 | S38: =R38+R39 -> 0 | T38: =IF(OR(Q37="",O38=""),0,MOD(O38-Q37,1)) -> 0 | U38: =IF(OR(O38>Q38,O38>=$A$3),Q38+IF(O38>Q38,1,0)-$A$3,0) -> 0 | V38: =U38+U39 -> 0 | W38: =IF(AND(WEEKDAY($A38,2)<7,P38="CP"),1,0) -> 0 | X38: =IF(P38="CV",1,0) -> 0 | Y38: =IF(AND(Q38>$A$4,Q38<$A$2),1,0) -> 0 | AC38: =MOD(AB38-Z38,1) -> 0 | AD38: =AC38+AC39 -> 0 | AE38: =IF(OR(AB37="",Z38=""),0,MOD(Z38-AB37,1)) -> 0 | AF38: =IF(OR(Z38>AB38,Z38>=$A$3),AB38+IF(Z38>AB38,1,0)-$A$3,0) -> 0 | AG38: =AF38+AF39 -> 0 | AH38: =IF(AND(WEEKDAY($A38,2)<7,AA38="CP"),1,0) -> 0 | AI38: =IF(AA38="CV",1,0) -> 0 | AJ38: =IF(AND(F38>$A$4,F38<$A$2),1,0) -> 0 | AN38: =MOD(AM38-AK38,1) -> 0 | AO38: =AN38+AN39 -> 0 | AP38: =IF(OR(AM37="",AK38=""),0,MOD(AK38-AM37,1)) -> 0 | AQ38: =IF(OR(AK38>AM38,AK38>=$A$3),AM38+IF(AK38>AM38,1,0)-$A$3,0) -> 0 | AR38: =AQ38+AQ39 -> 0 | AS38: =IF(AND(WEEKDAY($A38,2)<7,AL38="CP"),1,0) -> 0 | AT38: =IF(AL38="CV",1,0) -> 0 | AU38: =IF(AND(F38>$A$4,F38<$A$2),1,0) -> 0 | AY38: =MOD(AX38-AV38,1) -> 0 | AZ38: =AY38+AY39 -> 0 | BA38: =IF(OR(AX37="",AV38=""),0,MOD(AV38-AX37,1)) -> 0 | BB38: =IF(OR(AV38>AX38,AV38>=$A$3),AX38+IF(AV38>AX38,1,0)-$A$3,0) -> 0 | BC38: =BB38+BB39 -> 0 | BD38: =IF(AND(WEEKDAY($A38,2)<7,AW38="CP"),1,0) -> 0 | BE38: =IF(AW38="CV",1,0) -> 0 | BF38: =IF(AND(F38>$A$4,F38<$A$2),1,0) -> 0 | BJ38: =MOD(BI38-BG38,1) -> 0 | BK38: =BJ38+BJ39 -> 0 | BL38: =IF(OR(BI37="",BG38=""),0,MOD(BG38-BI37,1)) -> 0 | BM38: =IF(OR(BG38>BI38,BG38>=$A$3),BI38+IF(BG38>BI38,1,0)-$A$3,0) -> 0 | BN38: =BM38+BM39 -> 0 | BO38: =IF(AND(WEEKDAY($A38,2)<7,BH38="CP"),1,0) -> 0 | BP38: =IF(BH38="CV",1,0) -> 0 | BQ38: =IF(AND(F38>$A$4,F38<$A$2),1,0) -> 0
G39: =MOD(F39-D39,1) -> 0 | J39: =IF(OR(D39>F39,D39>=$A$3),F39+IF(D39>F39,1,0)-$A$3,0) -> 0 | N39: =IF(AND(F39>$A$4,F39<$A$2),1,0) -> 0 | R39: =MOD(Q39-O39,1) -> 0 | U39: =IF(OR(O39>Q39,O39>=$A$3),Q39+IF(O39>Q39,1,0)-$A$3,0) -> 0 | Y39: =IF(AND(Q39>$A$4,Q39<$A$2),1,0) -> 0 | AC39: =MOD(AB39-Z39,1) -> 0 | AF39: =IF(OR(Z39>AB39,Z39>=$A$3),AB39+IF(Z39>AB39,1,0)-$A$3,0) -> 0 | AJ39: =IF(AND(F39>$A$4,F39<$A$2),1,0) -> 0 | AN39: =MOD(AM39-AK39,1) -> 0 | AQ39: =IF(OR(AK39>AM39,AK39>=$A$3),AM39+IF(AK39>AM39,1,0)-$A$3,0) -> 0 | AU39: =IF(AND(F39>$A$4,F39<$A$2),1,0) -> 0 | AY39: =MOD(AX39-AV39,1) -> 0 | BB39: =IF(OR(AV39>AX39,AV39>=$A$3),AX39+IF(AV39>AX39,1,0)-$A$3,0) -> 0 | BF39: =IF(AND(F39>$A$4,F39<$A$2),1,0) -> 0 | BJ39: =MOD(BI39-BG39,1) -> 0 | BM39: =IF(OR(BG39>BI39,BG39>=$A$3),BI39+IF(BG39>BI39,1,0)-$A$3,0) -> 0 | BQ39: =IF(AND(F39>$A$4,F39<$A$2),1,0) -> 0
A40: =A38+1 -> 41655 | B40: =UPPER(TEXT(A40,"jjj")) -> MER | C40: =UPPER(TEXT(A40,"jj mmm")) -> 17 JANV | G40: =MOD(F40-D40,1) -> 0 | H40: =G40+G41 -> 0 | I40: =IF(OR(F39="",D40=""),0,MOD(D40-F39,1)) -> 0 | J40: =IF(OR(D40>F40,D40>=$A$3),F40+IF(D40>F40,1,0)-$A$3,0) -> 0 | K40: =J40+J41 -> 0 | L40: =IF(AND(WEEKDAY($A40,2)<7,E40="CP"),1,0) -> 0 | M40: =IF(E40="CV",1,0) -> 0 | N40: =IF(AND(F40>$A$4,F40<$A$2),1,0) -> 0 | R40: =MOD(Q40-O40,1) -> 0 | S40: =R40+R41 -> 0 | T40: =IF(OR(Q39="",O40=""),0,MOD(O40-Q39,1)) -> 0 | U40: =IF(OR(O40>Q40,O40>=$A$3),Q40+IF(O40>Q40,1,0)-$A$3,0) -> 0 | V40: =U40+U41 -> 0 | W40: =IF(AND(WEEKDAY($A40,2)<7,P40="CP"),1,0) -> 0 | X40: =IF(P40="CV",1,0) -> 0 | Y40: =IF(AND(Q40>$A$4,Q40<$A$2),1,0) -> 0 | AC40: =MOD(AB40-Z40,1) -> 0 | AD40: =AC40+AC41 -> 0 | AE40: =IF(OR(AB39="",Z40=""),0,MOD(Z40-AB39,1)) -> 0 | AF40: =IF(OR(Z40>AB40,Z40>=$A$3),AB40+IF(Z40>AB40,1,0)-$A$3,0) -> 0 | AG40: =AF40+AF41 -> 0 | AH40: =IF(AND(WEEKDAY($A40,2)<7,AA40="CP"),1,0) -> 0 | AI40: =IF(AA40="CV",1,0) -> 0 | AJ40: =IF(AND(F40>$A$4,F40<$A$2),1,0) -> 0 | AN40: =MOD(AM40-AK40,1) -> 0 | AO40: =AN40+AN41 -> 0 | AP40: =IF(OR(AM39="",AK40=""),0,MOD(AK40-AM39,1)) -> 0 | AQ40: =IF(OR(AK40>AM40,AK40>=$A$3),AM40+IF(AK40>AM40,1,0)-$A$3,0) -> 0 | AR40: =AQ40+AQ41 -> 0 | AS40: =IF(AND(WEEKDAY($A40,2)<7,AL40="CP"),1,0) -> 0 | AT40: =IF(AL40="CV",1,0) -> 0 | AU40: =IF(AND(F40>$A$4,F40<$A$2),1,0) -> 0 | AY40: =MOD(AX40-AV40,1) -> 0 | AZ40: =AY40+AY41 -> 0 | BA40: =IF(OR(AX39="",AV40=""),0,MOD(AV40-AX39,1)) -> 0 | BB40: =IF(OR(AV40>AX40,AV40>=$A$3),AX40+IF(AV40>AX40,1,0)-$A$3,0) -> 0 | BC40: =BB40+BB41 -> 0 | BD40: =IF(AND(WEEKDAY($A40,2)<7,AW40="CP"),1,0) -> 0 | BE40: =IF(AW40="CV",1,0) -> 0 | BF40: =IF(AND(F40>$A$4,F40<$A$2),1,0) -> 0 | BJ40: =MOD(BI40-BG40,1) -> 0 | BK40: =BJ40+BJ41 -> 0 | BL40: =IF(OR(BI39="",BG40=""),0,MOD(BG40-BI39,1)) -> 0 | BM40: =IF(OR(BG40>BI40,BG40>=$A$3),BI40+IF(BG40>BI40,1,0)-$A$3,0) -> 0 | BN40: =BM40+BM41 -> 0 | BO40: =IF(AND(WEEKDAY($A40,2)<7,BH40="CP"),1,0) -> 0 | BP40: =IF(BH40="CV",1,0) -> 0 | BQ40: =IF(AND(F40>$A$4,F40<$A$2),1,0) -> 0
...

Sheet 01-2018
C1: 2018
A2: 0.20833333 | C2: 41639
A3: 0.875 | D3: PLANNING SERVICE | AL3: - | AM3: =UPPER(TEXT(C2,"mmmm aaaa")) -> JANVIER 2018
A4: 0 | D4: "susceptible de changement pour cas de force majeur et besoin au bon fonctionnement de la société"
D5: =IF(COUNTIFS($I$8:$I$73,"<"&11/24,$I$8:$I$73,"<>0"),"ATTENTION REPOS QUOTIDIEN","") | O5: =IF(COUNTIFS($T$8:$T$73,"<"&11/24,$T$8:$T$73,"<>0"),"ATTENTION REPOS QUOTIDIEN","") | Z5: =IF(COUNTIFS($AE$8:$AE$73,"<"&11/24,$AE$8:$AE$73,"<>0"),"ATTENTION REPOS QUOTIDIEN","") | AK5: =IF(COUNTIFS($AP$8:$AP$73,"<"&11/24,$AP$8:$AP$73,"<>0"),"ATTENTION REPOS QUOTIDIEN","") | AV5: =IF(COUNTIFS($BA$8:$BA$73,"<"&11/24,$BA$8:$BA$73,"<>0"),"ATTENTION REPOS QUOTIDIEN","") | BG5: =IF(COUNTIFS($BL$8:$BL$73,"<"&11/24,$BL$8:$BL$73,"<>0"),"ATTENTION REPOS QUOTIDIEN","")
D6: CHRISTELLE | O6: NOEMIE | Z6: LAURIANNE | AK6: JULIE | AV6: SYLVIE | BG6: EXTRA | BR6: Infos service
D7: Prise de service | F7: Fin de service | G7: H | H7: H | I7: REPOS | J7: HDN | K7: HDN | L7: CP | M7: CV | N7: Nuits | O7: Prise de service | Q7: Fin de service | R7: H | S7: H | T7: REPOS | U7: HDN | V7: HDN | W7: CP | X7: CV | Y7: Nuits | Z7: Prise de service | AB7: Fin de service | AC7: H | AD7: H | AE7: REPOS | AF7: HDN | AG7: HDN | AH7: CP | AI7: CV | AJ7: Nuits | AK7: Prise de service | AM7: Fin de service | AN7: H | AO7: H | AP7: REPOS | AQ7: HDN | AR7: HDN | AS7: CP | AT7: CV | AU7: Nuits | AV7: Prise de service | AX7: Fin de service | AY7: H | AZ7: H | BA7: REPOS | BB7: HDN | BC7: HDN | BD7: CP | BE7: CV | BF7: Nuits | BG7: Prise de service | BI7: Fin de service | BJ7: H | BK7: H | BL7: REPOS | BM7: HDN | BN7: HDN | BO7: CP | BP7: CV | BQ7: Nuits
A8: =C2 -> 41639 | B8: =UPPER(TEXT(A8,"jjj")) -> LUN | C8: =UPPER(TEXT(A8,"jj mmm")) -> 01 JANV | D8: 0.16666667 | F8: 0.41666667 | G8: =MOD(F8-D8,1) -> 0.25 | H8: =G8+G9 -> 0.25 | J8: =IF(OR(D8>F8,D8>=$A$3),F8+IF(D8>F8,1,0)-$A$3,0) -> 0 | K8: =J8+J9 -> 0 | L8: =IF(AND(WEEKDAY($A8,2)<7,E8="CP"),1,0) -> 0 | M8: =IF(E8="CV",1,0) -> 0 | N8: =IF(AND(F8>$A$4,F8<$A$2),1,0) -> 0 | P8: R | R8: =MOD(Q8-O8,1) -> 0 | S8: =R8+R9 -> 0 | U8: =IF(OR(O8>Q8,O8>=$A$3),Q8+IF(O8>Q8,1,0)-$A$3,0) -> 0 | V8: =U8+U9 -> 0 | W8: =IF(AND(WEEKDAY($A8,2)<7,P8="CP"),1,0) -> 0 | X8: =IF(P8="CV",1,0) -> 0 | Y8: =IF(AND(Q8>$A$4,Q8<$A$2),1,0) -> 0 | AC8: =MOD(AB8-Z8,1) -> 0 | AD8: =AC8+AC9 -> 0 | AF8: =IF(OR(Z8>AB8,Z8>=$A$3),AB8+IF(Z8>AB8,1,0)-$A$3,0) -> 0 | AG8: =AF8+AF9 -> 0 | AH8: =IF(AND(WEEKDAY($A8,2)<7,AA8="CP"),1,0) -> 0 | AI8: =IF(AA8="CV",1,0) -> 0 | AJ8: =IF(AND(F8>$A$4,F8<$A$2),1,0) -> 0 | AN8: =MOD(AM8-AK8,1) -> 0 | AO8: =AN8+AN9 -> 0 | AQ8: =IF(OR(AK8>AM8,AK8>=$A$3),AM8+IF(AK8>AM8,1,0)-$A$3,0) -> 0 | AR8: =AQ8+AQ9 -> 0 | AS8: =IF(AND(WEEKDAY($A8,2)<7,AL8="CP"),1,0) -> 0 | AT8: =IF(AL8="CV",1,0) -> 0 | AU8: =IF(AND(F8>$A$4,F8<$A$2),1,0) -> 0 | AY8: =MOD(AX8-AV8,1) -> 0 | AZ8: =AY8+AY9 -> 0 | BB8: =IF(OR(AV8>AX8,AV8>=$A$3),AX8+IF(AV8>AX8,1,0)-$A$3,0) -> 0 | BC8: =BB8+BB9 -> 0 | BD8: =IF(AND(WEEKDAY($A8,2)<7,AW8="CP"),1,0) -> 0 | BE8: =IF(AW8="CV",1,0) -> 0 | BF8: =IF(AND(F8>$A$4,F8<$A$2),1,0) -> 0 | BJ8: =MOD(BI8-BG8,1) -> 0 | BK8: =BJ8+BJ9 -> 0 | BM8: =IF(OR(BG8>BI8,BG8>=$A$3),BI8+IF(BG8>BI8,1,0)-$A$3,0) -> 0 | BN8: =BM8+BM9 -> 0 | BO8: =IF(AND(WEEKDAY($A8,2)<7,BH8="CP"),1,0) -> 0 | BP8: =IF(BH8="CV",1,0) -> 0 | BQ8: =IF(AND(F8>$A$4,F8<$A$2),1,0) -> 0
G9: =MOD(F9-D9,1) -> 0 | J9: =IF(OR(D9>F9,D9>=$A$3),F9+IF(D9>F9,1,0)-$A$3,0) -> 0 | N9: =IF(AND(F9>$A$4,F9<$A$2),1,0) -> 0 | P9: R | R9: =MOD(Q9-O9,1) -> 0 | U9: =IF(OR(O9>Q9,O9>=$A$3),Q9+IF(O9>Q9,1,0)-$A$3,0) -> 0 | Y9: =IF(AND(Q9>$A$4,Q9<$A$2),1,0) -> 0 | AC9: =MOD(AB9-Z9,1) -> 0 | AF9: =IF(OR(Z9>AB9,Z9>=$A$3),AB9+IF(Z9>AB9,1,0)-$A$3,0) -> 0 | AJ9: =IF(AND(F9>$A$4,F9<$A$2),1,0) -> 0 | AN9: =MOD(AM9-AK9,1) -> 0 | AQ9: =IF(OR(AK9>AM9,AK9>=$A$3),AM9+IF(AK9>AM9,1,0)-$A$3,0) -> 0 | AU9: =IF(AND(F9>$A$4,F9<$A$2),1,0) -> 0 | AY9: =MOD(AX9-AV9,1) -> 0 | BB9: =IF(OR(AV9>AX9,AV9>=$A$3),AX9+IF(AV9>AX9,1,0)-$A$3,0) -> 0 | BF9: =IF(AND(F9>$A$4,F9<$A$2),1,0) -> 0 | BJ9: =MOD(BI9-BG9,1) -> 0 | BM9: =IF(OR(BG9>BI9,BG9>=$A$3),BI9+IF(BG9>BI9,1,0)-$A$3,0) -> 0 | BQ9: =IF(AND(F9>$A$4,F9<$A$2),1,0) -> 0
A10: =A8+1 -> 41640 | B10: =UPPER(TEXT(A10,"jjj")) -> MAR | C10: =UPPER(TEXT(A10,"jj mmm")) -> 02 JANV | G10: =MOD(F10-D10,1) -> 0 | H10: =G10+G11 -> 0.41666667 | I10: =IF(OR(F9="",D10=""),0,MOD(D10-F9,1)) -> 0 | J10: =IF(OR(D10>F10,D10>=$A$3),F10+IF(D10>F10,1,0)-$A$3,0) -> 0 | K10: =J10+J11 -> 0 | L10: =IF(AND(WEEKDAY($A10,2)<7,E10="CP"),1,0) -> 0 | M10: =IF(E10="CV",1,0) -> 0 | N10: =IF(AND(F10>$A$4,F10<$A$2),1,0) -> 0 | P10: R | R10: =MOD(Q10-O10,1) -> 0 | S10: =R10+R11 -> 0 | T10: =IF(OR(Q9="",O10=""),0,MOD(O10-Q9,1)) -> 0 | U10: =IF(OR(O10>Q10,O10>=$A$3),Q10+IF(O10>Q10,1,0)-$A$3,0) -> 0 | V10: =U10+U11 -> 0 | W10: =IF(AND(WEEKDAY($A10,2)<7,P10="CP"),1,0) -> 0 | X10: =IF(P10="CV",1,0) -> 0 | Y10: =IF(AND(Q10>$A$4,Q10<$A$2),1,0) -> 0 | AC10: =MOD(AB10-Z10,1) -> 0 | AD10: =AC10+AC11 -> 0 | AE10: =IF(OR(AB9="",Z10=""),0,MOD(Z10-AB9,1)) -> 0 | AF10: =IF(OR(Z10>AB10,Z10>=$A$3),AB10+IF(Z10>AB10,1,0)-$A$3,0) -> 0 | AG10: =AF10+AF11 -> 0 | AH10: =IF(AND(WEEKDAY($A10,2)<7,AA10="CP"),1,0) -> 0 | AI10: =IF(AA10="CV",1,0) -> 0 | AJ10: =IF(AND(F10>$A$4,F10<$A$2),1,0) -> 0 | AN10: =MOD(AM10-AK10,1) -> 0 | AO10: =AN10+AN11 -> 0 | AP10: =IF(OR(AM9="",AK10=""),0,MOD(AK10-AM9,1)) -> 0 | AQ10: =IF(OR(AK10>AM10,AK10>=$A$3),AM10+IF(AK10>AM10,1,0)-$A$3,0) -> 0 | AR10: =AQ10+AQ11 -> 0 | AS10: =IF(AND(WEEKDAY($A10,2)<7,AL10="CP"),1,0) -> 0 | AT10: =IF(AL10="CV",1,0) -> 0 | AU10: =IF(AND(F10>$A$4,F10<$A$2),1,0) -> 0 | AY10: =MOD(AX10-AV10,1) -> 0 | AZ10: =AY10+AY11 -> 0 | BA10: =IF(OR(AX9="",AV10=""),0,MOD(AV10-AX9,1)) -> 0 | BB10: =IF(OR(AV10>AX10,AV10>=$A$3),AX10+IF(AV10>AX10,1,0)-$A$3,0) -> 0 | BC10: =BB10+BB11 -> 0 | BD10: =IF(AND(WEEKDAY($A10,2)<7,AW10="CP"),1,0) -> 0 | BE10: =IF(AW10="CV",1,0) -> 0 | BF10: =IF(AND(F10>$A$4,F10<$A$2),1,0) -> 0 | BJ10: =MOD(BI10-BG10,1) -> 0 | BK10: =BJ10+BJ11 -> 0 | BL10: =IF(OR(BI9="",BG10=""),0,MOD(BG10-BI9,1)) -> 0 | BM10: =IF(OR(BG10>BI10,BG10>=$A$3),BI10+IF(BG10>BI10,1,0)-$A$3,0) -> 0 | BN10: =BM10+BM11 -> 0 | BO10: =IF(AND(WEEKDAY($A10,2)<7,BH10="CP"),1,0) -> 0 | BP10: =IF(BH10="CV",1,0) -> 0 | BQ10: =IF(AND(F10>$A$4,F10<$A$2),1,0) -> 0
D11: 0.54166667 | F11: 0.95833333 | G11: =MOD(F11-D11,1) -> 0.41666667 | J11: =IF(OR(D11>F11,D11>=$A$3),F11+IF(D11>F11,1,0)-$A$3,0) -> 0 | N11: =IF(AND(F11>$A$4,F11<$A$2),1,0) -> 0 | P11: R | R11: =MOD(Q11-O11,1) -> 0 | U11: =IF(OR(O11>Q11,O11>=$A$3),Q11+IF(O11>Q11,1,0)-$A$3,0) -> 0 | Y11: =IF(AND(Q11>$A$4,Q11<$A$2),1,0) -> 0 | AC11: =MOD(AB11-Z11,1) -> 0 | AF11: =IF(OR(Z11>AB11,Z11>=$A$3),AB11+IF(Z11>AB11,1,0)-$A$3,0) -> 0 | AJ11: =IF(AND(F11>$A$4,F11<$A$2),1,0) -> 0 | AN11: =MOD(AM11-AK11,1) -> 0 | AQ11: =IF(OR(AK11>AM11,AK11>=$A$3),AM11+IF(AK11>AM11,1,0)-$A$3,0) -> 0 | AU11: =IF(AND(F11>$A$4,F11<$A$2),1,0) -> 0 | AY11: =MOD(AX11-AV11,1) -> 0 | BB11: =IF(OR(AV11>AX11,AV11>=$A$3),AX11+IF(AV11>AX11,1,0)-$A$3,0) -> 0 | BF11: =IF(AND(F11>$A$4,F11<$A$2),1,0) -> 0 | BJ11: =MOD(BI11-BG11,1) -> 0 | BM11: =IF(OR(BG11>BI11,BG11>=$A$3),BI11+IF(BG11>BI11,1,0)-$A$3,0) -> 0 | BQ11: =IF(AND(F11>$A$4,F11<$A$2),1,0) -> 0
