Workbook
Name Endroit_de_Livraison: '[1]Base de donnée formule'!$B$3:$B$12
Name Endroit_de_Livraison: '[2]Base de donnée formule'!$B$3:$B$12
Name Fournisseur_Forum: '[2]Base de donnée formule'!$M$3:$M$12
Name Liste_de_Fournisseur: '[1]Base de donnée formule'!$M$3:$M$12
Name Liste_de_Fournisseur: '[2]Base de donnée formule'!$M$3:$M$12
Name Type_de_bon_de_commande: '[1]Base de donnée formule'!$AC$3:$AC$7
Name Type_de_bon_de_commande: '[2]Base de donnée formule'!$AC$3:$AC$7
Name Unité_de_Mesure: '[2]Base de donnée formule'!$X$3:$X$6

Sheet Archive de réception
F4: 2 | H4: =IF($F$4<1,_xlfn.XLOOKUP('[1]Réception de commande'!$E$6,'[1]Archive de commande'!$A$8:$A$100000,'[1]Archive de commande'!G11:G100003),VLOOKUP(H5,'Archive de réception'!$A$8:$I$100000,7)) -> #N/A
B5: xflkhjbgfd,.kvbn.,l | H5: 13531
B6: sdfzlkghvzdsrkjb | J6: =INDEX(B8:I25,MATCH(H5,A8:I25,9)) -> #N/A
B7: dsfglkjdsfvklj | K7: Je voudrais que dans cette colonne (K) s'affiche la même chose que dans la colonne (G), mais ma formule ne fonctionne pas.
A8: =J8 -> 13531 | B8: =_xlfn.XLOOKUP('[1]Réception de commande'!$E$6,'[1]Archive de commande'!$A$8:$A$100000,'[1]Archive de commande'!$B$8:$B$100000) -> 3022218 | C8: =_xlfn.XLOOKUP('[1]Réception de commande'!$E$6,'[1]Archive de commande'!$A$8:$A$100000,'[1]Archive de commande'!$C$8:$C$100000) -> Équerre de blocage Clipfix 35 | E8: =_xlfn.XLOOKUP('[1]Réception de commande'!$E$6,'[1]Archive de commande'!$A$8:$A$100000,'[1]Archive de commande'!$G$8:$G$100000) -> 24 | F8: 24 | G8: =IF(E8="","",E8-F8) -> 0 | H8: 1353 | I8: 1 | J8: =H8&I8 -> 13531 | K8: =IF($F$4<1,_xlfn.XLOOKUP('[1]Réception de commande'!$E$6,'[1]Archive de commande'!$A$8:$A$100000,'[1]Archive de commande'!J15:J100007),VLOOKUP(K9,'Archive de réception'!$A$8:$I$100000,7)) -> #N/A
A9: =J9 -> 13531 | B9: =_xlfn.XLOOKUP('[1]Réception de commande'!$E$6,'[1]Archive de commande'!$A$8:$A$100000,'[1]Archive de commande'!$B$9:$B$100001) -> 0811969 | C9: =_xlfn.XLOOKUP('[1]Réception de commande'!$E$6,'[1]Archive de commande'!$A$8:$A$100000,'[1]Archive de commande'!$C$9:$C$100001) -> Identification sur équerre de blocage KLM 3 | E9: =_xlfn.XLOOKUP('[1]Réception de commande'!$E$6,'[1]Archive de commande'!$A$8:$A$100000,'[1]Archive de commande'!$G$9:$G$100001) -> 10 | F9: 10 | G9: =IF(E9="","",E9-F9) -> 0 | H9: 1353 | I9: 1 | J9: =H9&I9 -> 13531 | K9: =IF($F$4<1,_xlfn.XLOOKUP('[1]Réception de commande'!$E$6,'[1]Archive de commande'!$A$8:$A$100000,'[1]Archive de commande'!J16:J100008),VLOOKUP(K10,'Archive de réception'!$A$8:$I$100000,7)) -> #N/A
A10: =J10 -> 13531 | B10: =_xlfn.XLOOKUP('[1]Réception de commande'!$E$6,'[1]Archive de commande'!$A$8:$A$100000,'[1]Archive de commande'!$B$10:$B$100002) -> 3030417 | C10: =_xlfn.XLOOKUP('[1]Réception de commande'!$E$6,'[1]Archive de commande'!$A$8:$A$100000,'[1]Archive de commande'!$C$10:$C$100002) -> Flasque de fermeture 2 raccordements D-ST 2,5 | E10: =_xlfn.XLOOKUP('[1]Réception de commande'!$E$6,'[1]Archive de commande'!$A$8:$A$100000,'[1]Archive de commande'!$G$10:$G$100002) -> 9 | F10: 9 | G10: =IF(E10="","",E10-F10) -> 0 | H10: 1353 | I10: 1 | J10: =H10&I10 -> 13531 | K10: =IF($F$4<1,_xlfn.XLOOKUP('[1]Réception de commande'!$E$6,'[1]Archive de commande'!$A$8:$A$100000,'[1]Archive de commande'!J17:J100009),VLOOKUP(K11,'Archive de réception'!$A$8:$I$100000,7)) -> #N/A
A11: =J11 -> 13531 | B11: =_xlfn.XLOOKUP('[1]Réception de commande'!$E$6,'[1]Archive de commande'!$A$8:$A$100000,'[1]Archive de commande'!$B$11:$B$100003) -> 3030514 | C11: =_xlfn.XLOOKUP('[1]Réception de commande'!$E$6,'[1]Archive de commande'!$A$8:$A$100000,'[1]Archive de commande'!$C$11:$C$100003) -> Flasque de fermeture 4 raccordements PT 2,5 | E11: =_xlfn.XLOOKUP('[1]Réception de commande'!$E$6,'[1]Archive de commande'!$A$8:$A$100000,'[1]Archive de commande'!$G$11:$G$100003) -> 10 | F11: 5 | G11: =IF(E11="","",E11-F11) -> 5 | H11: 1353 | I11: 1 | J11: =H11&I11 -> 13531 | K11: =IF($F$4<1,_xlfn.XLOOKUP('[1]Réception de commande'!$E$6,'[1]Archive de commande'!$A$8:$A$100000,'[1]Archive de commande'!J18:J100010),VLOOKUP(K12,'Archive de réception'!$A$8:$I$100000,7)) -> #N/A
A12: =J12 -> 13531 | B12: =_xlfn.XLOOKUP('[1]Réception de commande'!$E$6,'[1]Archive de commande'!$A$8:$A$100000,'[1]Archive de commande'!$B$12:$B$100004) -> 3209536 | C12: =_xlfn.XLOOKUP('[1]Réception de commande'!$E$6,'[1]Archive de commande'!$A$8:$A$100000,'[1]Archive de commande'!$C$12:$C$100004) -> Bornier à 2 raccordement mise à la terre PT 2,5-PE | E12: =_xlfn.XLOOKUP('[1]Réception de commande'!$E$6,'[1]Archive de commande'!$A$8:$A$100000,'[1]Archive de commande'!$G$12:$G$100004) -> 25 | F12: 20 | G12: =IF(E12="","",E12-F12) -> 5 | H12: 1353 | I12: 1 | J12: =H12&I12 -> 13531 | K12: =IF($F$4<1,_xlfn.XLOOKUP('[1]Réception de commande'!$E$6,'[1]Archive de commande'!$A$8:$A$100000,'[1]Archive de commande'!J19:J100011),VLOOKUP(K13,'Archive de réception'!$A$8:$I$100000,7)) -> #N/A
A13: =J13 -> 13531 | B13: =_xlfn.XLOOKUP('[1]Réception de commande'!$E$6,'[1]Archive de commande'!$A$8:$A$100000,'[1]Archive de commande'!$B$13:$B$100005) -> 3209578 | C13: =_xlfn.XLOOKUP('[1]Réception de commande'!$E$6,'[1]Archive de commande'!$A$8:$A$100000,'[1]Archive de commande'!$C$13:$C$100005) -> Bornier à 4 raccordements PT 2,5 | E13: =_xlfn.XLOOKUP('[1]Réception de commande'!$E$6,'[1]Archive de commande'!$A$8:$A$100000,'[1]Archive de commande'!$G$13:$G$100005) -> 50 | F13: 50 | G13: =IF(E13="","",E13-F13) -> 0 | H13: 1353 | I13: 1 | J13: =H13&I13 -> 13531 | K13: =IF($F$4<1,_xlfn.XLOOKUP('[1]Réception de commande'!$E$6,'[1]Archive de commande'!$A$8:$A$100000,'[1]Archive de commande'!J20:J100012),VLOOKUP(K14,'Archive de réception'!$A$8:$I$100000,7)) -> #N/A
A14: =J14 -> 13531 | B14: =_xlfn.XLOOKUP('[1]Réception de commande'!$E$6,'[1]Archive de commande'!$A$8:$A$100000,'[1]Archive de commande'!$B$14:$B$100006) -> 3210499 | C14: =_xlfn.XLOOKUP('[1]Réception de commande'!$E$6,'[1]Archive de commande'!$A$8:$A$100000,'[1]Archive de commande'!$C$14:$C$100006) -> Bornier 3 étages à 2 raccordements par étage PT 2,5 | E14: =_xlfn.XLOOKUP('[1]Réception de commande'!$E$6,'[1]Archive de commande'!$A$8:$A$100000,'[1]Archive de commande'!$G$14:$G$100006) -> 50 | F14: 50 | G14: =IF(E14="","",E14-F14) -> 0 | H14: 1353 | I14: 1 | J14: =H14&I14 -> 13531 | K14: =IF($F$4<1,_xlfn.XLOOKUP('[1]Réception de commande'!$E$6,'[1]Archive de commande'!$A$8:$A$100000,'[1]Archive de commande'!J21:J100013),VLOOKUP(K15,'Archive de réception'!$A$8:$I$100000,7)) -> #N/A
A15: =J15 -> 13531 | B15: =_xlfn.XLOOKUP('[1]Réception de commande'!$E$6,'[1]Archive de commande'!$A$8:$A$100000,'[1]Archive de commande'!$B$15:$B$100007) -> 3211647 | C15: =_xlfn.XLOOKUP('[1]Réception de commande'!$E$6,'[1]Archive de commande'!$A$8:$A$100000,'[1]Archive de commande'!$C$15:$C$100007) -> Flasque de fermeture 3 étages à 2 raccordementd PT 2,5 | E15: =_xlfn.XLOOKUP('[1]Réception de commande'!$E$6,'[1]Archive de commande'!$A$8:$A$100000,'[1]Archive de commande'!$G$15:$G$100007) -> 10 | F15: 5 | G15: =IF(E15="","",E15-F15) -> 5 | H15: 1353 | I15: 1 | J15: =H15&I15 -> 13531 | K15: =IF($F$4<1,_xlfn.XLOOKUP('[1]Réception de commande'!$E$6,'[1]Archive de commande'!$A$8:$A$100000,'[1]Archive de commande'!J22:J100014),VLOOKUP(K16,'Archive de réception'!$A$8:$I$100000,7)) -> #N/A
A16: =J16 -> 13531 | B16: =_xlfn.XLOOKUP('[1]Réception de commande'!$E$6,'[1]Archive de commande'!$A$8:$A$100000,'[1]Archive de commande'!$B$16:$B$100008) -> 3211757 | C16: =_xlfn.XLOOKUP('[1]Réception de commande'!$E$6,'[1]Archive de commande'!$A$8:$A$100000,'[1]Archive de commande'!$C$16:$C$100008) -> Bornier à 2 raccordements PT 4 | E16: =_xlfn.XLOOKUP('[1]Réception de commande'!$E$6,'[1]Archive de commande'!$A$8:$A$100000,'[1]Archive de commande'!$G$16:$G$100008) -> 50 | F16: 50 | G16: =IF(E16="","",E16-F16) -> 0 | H16: 1353 | I16: 1 | J16: =H16&I16 -> 13531 | K16: =IF($F$4<1,_xlfn.XLOOKUP('[1]Réception de commande'!$E$6,'[1]Archive de commande'!$A$8:$A$100000,'[1]Archive de commande'!J23:J100015),VLOOKUP(K17,'Archive de réception'!$A$8:$I$100000,7)) -> #N/A
A17: =J17 -> 13531 | B17: =_xlfn.XLOOKUP('[1]Réception de commande'!$E$6,'[1]Archive de commande'!$A$8:$A$100000,'[1]Archive de commande'!$B$17:$B$100009) -> 3211776 | C17: =_xlfn.XLOOKUP('[1]Réception de commande'!$E$6,'[1]Archive de commande'!$A$8:$A$100000,'[1]Archive de commande'!$C$17:$C$100009) -> Bornier à 2 raccordement mise à la terre PT 4-PE | E17: =_xlfn.XLOOKUP('[1]Réception de commande'!$E$6,'[1]Archive de commande'!$A$8:$A$100000,'[1]Archive de commande'!$G$17:$G$100009) -> 25 | F17: 25 | G17: =IF(E17="","",E17-F17) -> 0 | H17: 1353 | I17: 1 | J17: =H17&I17 -> 13531 | K17: =IF($F$4<1,_xlfn.XLOOKUP('[1]Réception de commande'!$E$6,'[1]Archive de commande'!$A$8:$A$100000,'[1]Archive de commande'!J24:J100016),VLOOKUP(K18,'Archive de réception'!$A$8:$I$100000,7)) -> #N/A
A18: =J18 -> 13531 | B18: =_xlfn.XLOOKUP('[1]Réception de commande'!$E$6,'[1]Archive de commande'!$A$8:$A$100000,'[1]Archive de commande'!$B$18:$B$100010) -> 3213056 | C18: =_xlfn.XLOOKUP('[1]Réception de commande'!$E$6,'[1]Archive de commande'!$A$8:$A$100000,'[1]Archive de commande'!$C$18:$C$100010) -> Cavalier de jonction rouge pour bornier senseur FBS 10-3,5 | E18: =_xlfn.XLOOKUP('[1]Réception de commande'!$E$6,'[1]Archive de commande'!$A$8:$A$100000,'[1]Archive de commande'!$G$18:$G$100010) -> 10 | F18: 10 | G18: =IF(E18="","",E18-F18) -> 0 | H18: 1353 | I18: 1 | J18: =H18&I18 -> 13531 | K18: =IF($F$4<1,_xlfn.XLOOKUP('[1]Réception de commande'!$E$6,'[1]Archive de commande'!$A$8:$A$100000,'[1]Archive de commande'!J25:J100017),VLOOKUP(K19,'Archive de réception'!$A$8:$I$100000,7)) -> #N/A
A19: =J19 -> 13531 | B19: =_xlfn.XLOOKUP('[1]Réception de commande'!$E$6,'[1]Archive de commande'!$A$8:$A$100000,'[1]Archive de commande'!$B$19:$B$100011) -> 3213125 | C19: =_xlfn.XLOOKUP('[1]Réception de commande'!$E$6,'[1]Archive de commande'!$A$8:$A$100000,'[1]Archive de commande'!$C$19:$C$100011) -> Cavalier de jonction bleu pour bornier senseur FBS 10-3,5 BU | E19: =_xlfn.XLOOKUP('[1]Réception de commande'!$E$6,'[1]Archive de commande'!$A$8:$A$100000,'[1]Archive de commande'!$G$19:$G$100011) -> 10 | F19: 10 | G19: =IF(E19="","",E19-F19) -> 0 | H19: 1353 | I19: 1 | J19: =H19&I19 -> 13531 | K19: =IF($F$4<1,_xlfn.XLOOKUP('[1]Réception de commande'!$E$6,'[1]Archive de commande'!$A$8:$A$100000,'[1]Archive de commande'!J26:J100018),VLOOKUP(K20,'Archive de réception'!$A$8:$I$100000,7)) -> #N/A
A20: =J20 -> 13531 | B20: =_xlfn.XLOOKUP('[1]Réception de commande'!$E$6,'[1]Archive de commande'!$A$8:$A$100000,'[1]Archive de commande'!$B$20:$B$100012) -> 3240197 | C20: =_xlfn.XLOOKUP('[1]Réception de commande'!$E$6,'[1]Archive de commande'!$A$8:$A$100000,'[1]Archive de commande'!$C$20:$C$100012) -> Goulotte CD 25x80 | E20: =_xlfn.XLOOKUP('[1]Réception de commande'!$E$6,'[1]Archive de commande'!$A$8:$A$100000,'[1]Archive de commande'!$G$20:$G$100012) -> 2 | F20: 2 | G20: =IF(E20="","",E20-F20) -> 0 | H20: 1353 | I20: 1 | J20: =H20&I20 -> 13531 | K20: =IF($F$4<1,_xlfn.XLOOKUP('[1]Réception de commande'!$E$6,'[1]Archive de commande'!$A$8:$A$100000,'[1]Archive de commande'!J27:J100019),VLOOKUP(K21,'Archive de réception'!$A$8:$I$100000,7)) -> #N/A
A21: =J21 -> 13531 | B21: =_xlfn.XLOOKUP('[1]Réception de commande'!$E$6,'[1]Archive de commande'!$A$8:$A$100000,'[1]Archive de commande'!$B$21:$B$100013) -> 3240285 | C21: =_xlfn.XLOOKUP('[1]Réception de commande'!$E$6,'[1]Archive de commande'!$A$8:$A$100000,'[1]Archive de commande'!$C$21:$C$100013) -> Couvercle de goulotte CD 25 | E21: =_xlfn.XLOOKUP('[1]Réception de commande'!$E$6,'[1]Archive de commande'!$A$8:$A$100000,'[1]Archive de commande'!$G$21:$G$100013) -> 2 | F21: 2 | G21: =IF(E21="","",E21-F21) -> 0 | H21: 1353 | I21: 1 | J21: =H21&I21 -> 13531 | K21: =IF($F$4<1,_xlfn.XLOOKUP('[1]Réception de commande'!$E$6,'[1]Archive de commande'!$A$8:$A$100000,'[1]Archive de commande'!J28:J100020),VLOOKUP(K22,'Archive de réception'!$A$8:$I$100000,7)) -> #N/A
A22: =J22 -> 13531 | B22: =_xlfn.XLOOKUP('[1]Réception de commande'!$E$6,'[1]Archive de commande'!$A$8:$A$100000,'[1]Archive de commande'!$B$22:$B$100014) -> 3244410 | C22: =_xlfn.XLOOKUP('[1]Réception de commande'!$E$6,'[1]Archive de commande'!$A$8:$A$100000,'[1]Archive de commande'!$C$22:$C$100014) -> Bornier pour senseur PTIO 1,5/S/3 | E22: =_xlfn.XLOOKUP('[1]Réception de commande'!$E$6,'[1]Archive de commande'!$A$8:$A$100000,'[1]Archive de commande'!$G$22:$G$100014) -> 50 | F22: 50 | G22: =IF(E22="","",E22-F22) -> 0 | H22: 1353 | I22: 1 | J22: =H22&I22 -> 13531 | K22: =IF($F$4<1,_xlfn.XLOOKUP('[1]Réception de commande'!$E$6,'[1]Archive de commande'!$A$8:$A$100000,'[1]Archive de commande'!J29:J100021),VLOOKUP(K23,'Archive de réception'!$A$8:$I$100000,7)) -> #N/A
A23: =J23 -> 13531 | B23: =_xlfn.XLOOKUP('[1]Réception de commande'!$E$6,'[1]Archive de commande'!$A$8:$A$100000,'[1]Archive de commande'!$B$23:$B$100015) -> 3244575 | C23: =_xlfn.XLOOKUP('[1]Réception de commande'!$E$6,'[1]Archive de commande'!$A$8:$A$100000,'[1]Archive de commande'!$C$23:$C$100015) -> Flasque de fermeture pour bornier senseur D-PTIO 1,5/S/3 | E23: =_xlfn.XLOOKUP('[1]Réception de commande'!$E$6,'[1]Archive de commande'!$A$8:$A$100000,'[1]Archive de commande'!$G$23:$G$100015) -> 10 | F23: 10 | G23: =IF(E23="","",E23-F23) -> 0 | H23: 1353 | I23: 1 | J23: =H23&I23 -> 13531 | K23: =IF($F$4<1,_xlfn.XLOOKUP('[1]Réception de commande'!$E$6,'[1]Archive de commande'!$A$8:$A$100000,'[1]Archive de commande'!J30:J100022),VLOOKUP(K24,'Archive de réception'!$A$8:$I$100000,7)) -> #N/A
A24: =J24 -> 13531 | B24: =_xlfn.XLOOKUP('[1]Réception de commande'!$E$6,'[1]Archive de commande'!$A$8:$A$100000,'[1]Archive de commande'!$B$24:$B$100016) -> 3022218 | C24: =_xlfn.XLOOKUP('[1]Réception de commande'!$E$6,'[1]Archive de commande'!$A$8:$A$100000,'[1]Archive de commande'!$C$24:$C$100016) -> Équerre de blocage Clipfix 35 | E24: =_xlfn.XLOOKUP('[1]Réception de commande'!$E$6,'[1]Archive de commande'!$A$8:$A$100000,'[1]Archive de commande'!$G$24:$G$100016) -> 24 | G24: =IF(E24="","",E24-F24) -> 24 | H24: 1353 | I24: 1 | J24: =H24&I24 -> 13531 | K24: =IF($F$4<1,_xlfn.XLOOKUP('[1]Réception de commande'!$E$6,'[1]Archive de commande'!$A$8:$A$100000,'[1]Archive de commande'!J31:J100023),VLOOKUP(K25,'Archive de réception'!$A$8:$I$100000,7)) -> #N/A
A25: =J25 -> 13531 | B25: =_xlfn.XLOOKUP('[1]Réception de commande'!$E$6,'[1]Archive de commande'!$A$8:$A$100000,'[1]Archive de commande'!$B$25:$B$100017) -> 0811969 | C25: =_xlfn.XLOOKUP('[1]Réception de commande'!$E$6,'[1]Archive de commande'!$A$8:$A$100000,'[1]Archive de commande'!$C$25:$C$100017) -> Identification sur équerre de blocage KLM 3 | E25: =_xlfn.XLOOKUP('[1]Réception de commande'!$E$6,'[1]Archive de commande'!$A$8:$A$100000,'[1]Archive de commande'!$G$25:$G$100017) -> 10 | G25: =IF(E25="","",E25-F25) -> 10 | H25: 1353 | I25: 1 | J25: =H25&I25 -> 13531 | K25: =IF($F$4<1,_xlfn.XLOOKUP('[1]Réception de commande'!$E$6,'[1]Archive de commande'!$A$8:$A$100000,'[1]Archive de commande'!J32:J100024),VLOOKUP(K26,'Archive de réception'!$A$8:$I$100000,7)) -> #N/A
A26: =J26 -> 13531 | B26: =_xlfn.XLOOKUP('[1]Réception de commande'!$E$6,'[1]Archive de commande'!$A$8:$A$100000,'[1]Archive de commande'!$B$26:$B$100018) -> 3030417 | C26: =_xlfn.XLOOKUP('[1]Réception de commande'!$E$6,'[1]Archive de commande'!$A$8:$A$100000,'[1]Archive de commande'!$C$26:$C$100018) -> Flasque de fermeture 2 raccordements D-ST 2,5 | E26: =_xlfn.XLOOKUP('[1]Réception de commande'!$E$6,'[1]Archive de commande'!$A$8:$A$100000,'[1]Archive de commande'!$G$26:$G$100018) -> 9 | G26: =IF(E26="","",E26-F26) -> 9 | H26: 1353 | I26: 1 | J26: =H26&I26 -> 13531 | K26: =IF($F$4<1,_xlfn.XLOOKUP('[1]Réception de commande'!$E$6,'[1]Archive de commande'!$A$8:$A$100000,'[1]Archive de commande'!J33:J100025),VLOOKUP(K27,'Archive de réception'!$A$8:$I$100000,7)) -> #N/A
A27: =J27 -> 13531 | B27: =_xlfn.XLOOKUP('[1]Réception de commande'!$E$6,'[1]Archive de commande'!$A$8:$A$100000,'[1]Archive de commande'!$B$27:$B$100019) -> 3030514 | C27: =_xlfn.XLOOKUP('[1]Réception de commande'!$E$6,'[1]Archive de commande'!$A$8:$A$100000,'[1]Archive de commande'!$C$27:$C$100019) -> Flasque de fermeture 4 raccordements PT 2,5 | E27: =_xlfn.XLOOKUP('[1]Réception de commande'!$E$6,'[1]Archive de commande'!$A$8:$A$100000,'[1]Archive de commande'!$G$27:$G$100019) -> 10 | G27: =IF(E27="","",E27-F27) -> 10 | H27: 1353 | I27: 1 | J27: =H27&I27 -> 13531 | K27: =IF($F$4<1,_xlfn.XLOOKUP('[1]Réception de commande'!$E$6,'[1]Archive de commande'!$A$8:$A$100000,'[1]Archive de commande'!J34:J100026),VLOOKUP(K28,'Archive de réception'!$A$8:$I$100000,7)) -> #N/A
A28: =J28 -> 13531 | B28: =_xlfn.XLOOKUP('[1]Réception de commande'!$E$6,'[1]Archive de commande'!$A$8:$A$100000,'[1]Archive de commande'!$B$28:$B$100020) -> 3209536 | C28: =_xlfn.XLOOKUP('[1]Réception de commande'!$E$6,'[1]Archive de commande'!$A$8:$A$100000,'[1]Archive de commande'!$C$28:$C$100020) -> Bornier à 2 raccordement mise à la terre PT 2,5-PE | E28: =_xlfn.XLOOKUP('[1]Réception de commande'!$E$6,'[1]Archive de commande'!$A$8:$A$100000,'[1]Archive de commande'!$G$28:$G$100020) -> 25 | G28: =IF(E28="","",E28-F28) -> 25 | H28: 1353 | I28: 1 | J28: =H28&I28 -> 13531 | K28: =IF($F$4<1,_xlfn.XLOOKUP('[1]Réception de commande'!$E$6,'[1]Archive de commande'!$A$8:$A$100000,'[1]Archive de commande'!J35:J100027),VLOOKUP(K29,'Archive de réception'!$A$8:$I$100000,7)) -> #N/A
A29: =J29 -> 13531 | B29: =_xlfn.XLOOKUP('[1]Réception de commande'!$E$6,'[1]Archive de commande'!$A$8:$A$100000,'[1]Archive de commande'!$B$29:$B$100021) -> 3209578 | C29: =_xlfn.XLOOKUP('[1]Réception de commande'!$E$6,'[1]Archive de commande'!$A$8:$A$100000,'[1]Archive de commande'!$C$29:$C$100021) -> Bornier à 4 raccordements PT 2,5 | E29: =_xlfn.XLOOKUP('[1]Réception de commande'!$E$6,'[1]Archive de commande'!$A$8:$A$100000,'[1]Archive de commande'!$G$29:$G$100021) -> 50 | G29: =IF(E29="","",E29-F29) -> 50 | H29: 1353 | I29: 1 | J29: =H29&I29 -> 13531 | K29: =IF($F$4<1,_xlfn.XLOOKUP('[1]Réception de commande'!$E$6,'[1]Archive de commande'!$A$8:$A$100000,'[1]Archive de commande'!J36:J100028),VLOOKUP(K30,'Archive de réception'!$A$8:$I$100000,7)) -> #N/A
A30: =J30 -> 13531 | B30: =_xlfn.XLOOKUP('[1]Réception de commande'!$E$6,'[1]Archive de commande'!$A$8:$A$100000,'[1]Archive de commande'!$B$30:$B$100022) -> 3210499 | C30: =_xlfn.XLOOKUP('[1]Réception de commande'!$E$6,'[1]Archive de commande'!$A$8:$A$100000,'[1]Archive de commande'!$C$30:$C$100022) -> Bornier 3 étages à 2 raccordements par étage PT 2,5 | E30: =_xlfn.XLOOKUP('[1]Réception de commande'!$E$6,'[1]Archive de commande'!$A$8:$A$100000,'[1]Archive de commande'!$G$30:$G$100022) -> 50 | G30: =IF(E30="","",E30-F30) -> 50 | H30: 1353 | I30: 1 | J30: =H30&I30 -> 13531 | K30: =IF($F$4<1,_xlfn.XLOOKUP('[1]Réception de commande'!$E$6,'[1]Archive de commande'!$A$8:$A$100000,'[1]Archive de commande'!J37:J100029),VLOOKUP(K31,'Archive de réception'!$A$8:$I$100000,7)) -> #N/A
A31: =J31 -> 13531 | B31: =_xlfn.XLOOKUP('[1]Réception de commande'!$E$6,'[1]Archive de commande'!$A$8:$A$100000,'[1]Archive de commande'!$B$31:$B$100023) -> 3211647 | C31: =_xlfn.XLOOKUP('[1]Réception de commande'!$E$6,'[1]Archive de commande'!$A$8:$A$100000,'[1]Archive de commande'!$C$31:$C$100023) -> Flasque de fermeture 3 étages à 2 raccordementd PT 2,5 | E31: =_xlfn.XLOOKUP('[1]Réception de commande'!$E$6,'[1]Archive de commande'!$A$8:$A$100000,'[1]Archive de commande'!$G$31:$G$100023) -> 10 | G31: =IF(E31="","",E31-F31) -> 10 | H31: 1353 | I31: 1 | J31: =H31&I31 -> 13531 | K31: =IF($F$4<1,_xlfn.XLOOKUP('[1]Réception de commande'!$E$6,'[1]Archive de commande'!$A$8:$A$100000,'[1]Archive de commande'!J38:J100030),VLOOKUP(K32,'Archive de réception'!$A$8:$I$100000,7)) -> #N/A
A32: =J32 -> 13531 | B32: =_xlfn.XLOOKUP('[1]Réception de commande'!$E$6,'[1]Archive de commande'!$A$8:$A$100000,'[1]Archive de commande'!$B$32:$B$100024) -> 3211757 | C32: =_xlfn.XLOOKUP('[1]Réception de commande'!$E$6,'[1]Archive de commande'!$A$8:$A$100000,'[1]Archive de commande'!$C$32:$C$100024) -> Bornier à 2 raccordements PT 4 | E32: =_xlfn.XLOOKUP('[1]Réception de commande'!$E$6,'[1]Archive de commande'!$A$8:$A$100000,'[1]Archive de commande'!$G$32:$G$100024) -> 50 | G32: =IF(E32="","",E32-F32) -> 50 | H32: 1353 | I32: 1 | J32: =H32&I32 -> 13531 | K32: =IF($F$4<1,_xlfn.XLOOKUP('[1]Réception de commande'!$E$6,'[1]Archive de commande'!$A$8:$A$100000,'[1]Archive de commande'!J39:J100031),VLOOKUP(K33,'Archive de réception'!$A$8:$I$100000,7)) -> #N/A
A33: =J33 -> 13531 | B33: =_xlfn.XLOOKUP('[1]Réception de commande'!$E$6,'[1]Archive de commande'!$A$8:$A$100000,'[1]Archive de commande'!$B$33:$B$100025) -> 3211776 | C33: =_xlfn.XLOOKUP('[1]Réception de commande'!$E$6,'[1]Archive de commande'!$A$8:$A$100000,'[1]Archive de commande'!$C$33:$C$100025) -> Bornier à 2 raccordement mise à la terre PT 4-PE | E33: =_xlfn.XLOOKUP('[1]Réception de commande'!$E$6,'[1]Archive de commande'!$A$8:$A$100000,'[1]Archive de commande'!$G$33:$G$100025) -> 25 | G33: =IF(E33="","",E33-F33) -> 25 | H33: 1353 | I33: 1 | J33: =H33&I33 -> 13531 | K33: =IF($F$4<1,_xlfn.XLOOKUP('[1]Réception de commande'!$E$6,'[1]Archive de commande'!$A$8:$A$100000,'[1]Archive de commande'!J40:J100032),VLOOKUP(K34,'Archive de réception'!$A$8:$I$100000,7)) -> #N/A
A34: =J34 -> 13531 | B34: =_xlfn.XLOOKUP('[1]Réception de commande'!$E$6,'[1]Archive de commande'!$A$8:$A$100000,'[1]Archive de commande'!$B$34:$B$100026) -> 3213056 | C34: =_xlfn.XLOOKUP('[1]Réception de commande'!$E$6,'[1]Archive de commande'!$A$8:$A$100000,'[1]Archive de commande'!$C$34:$C$100026) -> Cavalier de jonction rouge pour bornier senseur FBS 10-3,5 | E34: =_xlfn.XLOOKUP('[1]Réception de commande'!$E$6,'[1]Archive de commande'!$A$8:$A$100000,'[1]Archive de commande'!$G$34:$G$100026) -> 10 | G34: =IF(E34="","",E34-F34) -> 10 | H34: 1353 | I34: 1 | J34: =H34&I34 -> 13531 | K34: =IF($F$4<1,_xlfn.XLOOKUP('[1]Réception de commande'!$E$6,'[1]Archive de commande'!$A$8:$A$100000,'[1]Archive de commande'!J41:J100033),VLOOKUP(K35,'Archive de réception'!$A$8:$I$100000,7)) -> #N/A
A35: =J35 -> 13531 | B35: =_xlfn.XLOOKUP('[1]Réception de commande'!$E$6,'[1]Archive de commande'!$A$8:$A$100000,'[1]Archive de commande'!$B$35:$B$100027) -> 3213125 | C35: =_xlfn.XLOOKUP('[1]Réception de commande'!$E$6,'[1]Archive de commande'!$A$8:$A$100000,'[1]Archive de commande'!$C$35:$C$100027) -> Cavalier de jonction bleu pour bornier senseur FBS 10-3,5 BU | E35: =_xlfn.XLOOKUP('[1]Réception de commande'!$E$6,'[1]Archive de commande'!$A$8:$A$100000,'[1]Archive de commande'!$G$35:$G$100027) -> 10 | G35: =IF(E35="","",E35-F35) -> 10 | H35: 1353 | I35: 1 | J35: =H35&I35 -> 13531 | K35: =IF($F$4<1,_xlfn.XLOOKUP('[1]Réception de commande'!$E$6,'[1]Archive de commande'!$A$8:$A$100000,'[1]Archive de commande'!J42:J100034),VLOOKUP(K36,'Archive de réception'!$A$8:$I$100000,7)) -> #N/A
A36: =J36 -> 13531 | B36: =_xlfn.XLOOKUP('[1]Réception de commande'!$E$6,'[1]Archive de commande'!$A$8:$A$100000,'[1]Archive de commande'!$B$36:$B$100028) -> 3240197 | C36: =_xlfn.XLOOKUP('[1]Réception de commande'!$E$6,'[1]Archive de commande'!$A$8:$A$100000,'[1]Archive de commande'!$C$36:$C$100028) -> Goulotte CD 25x80 | E36: =_xlfn.XLOOKUP('[1]Réception de commande'!$E$6,'[1]Archive de commande'!$A$8:$A$100000,'[1]Archive de commande'!$G$36:$G$100028) -> 2 | G36: =IF(E36="","",E36-F36) -> 2 | H36: 1353 | I36: 1 | J36: =H36&I36 -> 13531 | K36: =IF($F$4<1,_xlfn.XLOOKUP('[1]Réception de commande'!$E$6,'[1]Archive de commande'!$A$8:$A$100000,'[1]Archive de commande'!J43:J100035),VLOOKUP(K37,'Archive de réception'!$A$8:$I$100000,7)) -> #N/A
A37: =J37 -> 13531 | B37: =_xlfn.XLOOKUP('[1]Réception de commande'!$E$6,'[1]Archive de commande'!$A$8:$A$100000,'[1]Archive de commande'!$B$37:$B$100029) -> 3240285 | C37: =_xlfn.XLOOKUP('[1]Réception de commande'!$E$6,'[1]Archive de commande'!$A$8:$A$100000,'[1]Archive de commande'!$C$37:$C$100029) -> Couvercle de goulotte CD 25 | E37: =_xlfn.XLOOKUP('[1]Réception de commande'!$E$6,'[1]Archive de commande'!$A$8:$A$100000,'[1]Archive de commande'!$G$37:$G$100029) -> 2 | G37: =IF(E37="","",E37-F37) -> 2 | H37: 1353 | I37: 1 | J37: =H37&I37 -> 13531 | K37: =IF($F$4<1,_xlfn.XLOOKUP('[1]Réception de commande'!$E$6,'[1]Archive de commande'!$A$8:$A$100000,'[1]Archive de commande'!J44:J100036),VLOOKUP(K38,'Archive de réception'!$A$8:$I$100000,7)) -> #N/A
A38: =J38 -> 13534 | B38: =_xlfn.XLOOKUP('[1]Réception de commande'!$E$6,'[1]Archive de commande'!$A$8:$A$100000,'[1]Archive de commande'!$B$8:$B$100000) -> 3022218 | C38: =_xlfn.XLOOKUP('[1]Réception de commande'!$E$6,'[1]Archive de commande'!$A$8:$A$100000,'[1]Archive de commande'!$C$8:$C$100000) -> Équerre de blocage Clipfix 35 | E38: =IF($F$4<="",_xlfn.XLOOKUP('[1]Réception de commande'!$E$6,'[1]Archive de commande'!$A$8:$A$100000,'[1]Archive de commande'!H34:H100026),VLOOKUP(AND($G$4,#REF!),'Archive de réception'!$A$8:$I$100000,6)) -> 4 | F38: 24 | G38: =IF(E38="","",E38-F38) -> -20 | H38: 1353 | I38: 4 | J38: =H38&I38 -> 13534 | K38: =IF($F$4<1,_xlfn.XLOOKUP('[1]Réception de commande'!$E$6,'[1]Archive de commande'!$A$8:$A$100000,'[1]Archive de commande'!J45:J100037),VLOOKUP(K39,'Archive de réception'!$A$8:$I$100000,7)) -> #N/A
A39: =J39 -> 13534 | B39: =_xlfn.XLOOKUP('[1]Réception de commande'!$E$6,'[1]Archive de commande'!$A$8:$A$100000,'[1]Archive de commande'!$B$9:$B$100001) -> 0811969 | C39: =_xlfn.XLOOKUP('[1]Réception de commande'!$E$6,'[1]Archive de commande'!$A$8:$A$100000,'[1]Archive de commande'!$C$9:$C$100001) -> Identification sur équerre de blocage KLM 3 | E39: =IF($F$4<="",_xlfn.XLOOKUP('[1]Réception de commande'!$E$6,'[1]Archive de commande'!$A$8:$A$100000,'[1]Archive de commande'!H35:H100027),VLOOKUP(AND($G$4,#REF!),'Archive de réception'!$A$8:$I$100000,6)) -> 4 | F39: 10 | G39: =IF(E39="","",E39-F39) -> -6 | H39: 1353 | I39: 4 | J39: =H39&I39 -> 13534 | K39: =IF($F$4<1,_xlfn.XLOOKUP('[1]Réception de commande'!$E$6,'[1]Archive de commande'!$A$8:$A$100000,'[1]Archive de commande'!J46:J100038),VLOOKUP(K40,'Archive de réception'!$A$8:$I$100000,7)) -> #N/A
A40: =J40 -> 13534 | B40: =_xlfn.XLOOKUP('[1]Réception de commande'!$E$6,'[1]Archive de commande'!$A$8:$A$100000,'[1]Archive de commande'!$B$10:$B$100002) -> 3030417 | C40: =_xlfn.XLOOKUP('[1]Réception de commande'!$E$6,'[1]Archive de commande'!$A$8:$A$100000,'[1]Archive de commande'!$C$10:$C$100002) -> Flasque de fermeture 2 raccordements D-ST 2,5 | E40: =IF($F$4<="",_xlfn.XLOOKUP('[1]Réception de commande'!$E$6,'[1]Archive de commande'!$A$8:$A$100000,'[1]Archive de commande'!H36:H100028),VLOOKUP(AND($G$4,#REF!),'Archive de réception'!$A$8:$I$100000,6)) -> 9.62 | F40: 9 | G40: =IF(E40="","",E40-F40) -> 0.62 | H40: 1353 | I40: 4 | J40: =H40&I40 -> 13534 | K40: =IF($F$4<1,_xlfn.XLOOKUP('[1]Réception de commande'!$E$6,'[1]Archive de commande'!$A$8:$A$100000,'[1]Archive de commande'!J47:J100039),VLOOKUP(K41,'Archive de réception'!$A$8:$I$100000,7)) -> #N/A
A41: =J41 -> 13534 | B41: =_xlfn.XLOOKUP('[1]Réception de commande'!$E$6,'[1]Archive de commande'!$A$8:$A$100000,'[1]Archive de commande'!$B$11:$B$100003) -> 3030514 | C41: =_xlfn.XLOOKUP('[1]Réception de commande'!$E$6,'[1]Archive de commande'!$A$8:$A$100000,'[1]Archive de commande'!$C$11:$C$100003) -> Flasque de fermeture 4 raccordements PT 2,5 | E41: =IF($F$4<="",_xlfn.XLOOKUP('[1]Réception de commande'!$E$6,'[1]Archive de commande'!$A$8:$A$100000,'[1]Archive de commande'!H37:H100029),VLOOKUP(IF('Archive de réception'!$G$4,#REF!),'Archive de réception'!$A$8:$I$100000,6)) -> 1.64 | F41: 5 | G41: =IF(E41="","",E41-F41) -> -3.36 | H41: 1353 | I41: 4 | J41: =H41&I41 -> 13534 | K41: =IF($F$4<1,_xlfn.XLOOKUP('[1]Réception de commande'!$E$6,'[1]Archive de commande'!$A$8:$A$100000,'[1]Archive de commande'!J48:J100040),VLOOKUP(K42,'Archive de réception'!$A$8:$I$100000,7)) -> #N/A
A42: =J42 -> 13534 | B42: =_xlfn.XLOOKUP('[1]Réception de commande'!$E$6,'[1]Archive de commande'!$A$8:$A$100000,'[1]Archive de commande'!$B$12:$B$100004) -> 3209536 | C42: =_xlfn.XLOOKUP('[1]Réception de commande'!$E$6,'[1]Archive de commande'!$A$8:$A$100000,'[1]Archive de commande'!$C$12:$C$100004) -> Bornier à 2 raccordement mise à la terre PT 2,5-PE | E42: =IF($F$4<="",_xlfn.XLOOKUP('[1]Réception de commande'!$E$6,'[1]Archive de commande'!$A$8:$A$100000,'[1]Archive de commande'!H38:H100030),VLOOKUP(AND($G$4,#REF!),'Archive de réception'!$A$8:$I$100000,6)) -> 2.96 | F42: 20 | G42: =IF(E42="","",E42-F42) -> -17.04 | H42: 1353 | I42: 4 | J42: =H42&I42 -> 13534 | K42: =IF($F$4<1,_xlfn.XLOOKUP('[1]Réception de commande'!$E$6,'[1]Archive de commande'!$A$8:$A$100000,'[1]Archive de commande'!J49:J100041),VLOOKUP(K43,'Archive de réception'!$A$8:$I$100000,7)) -> #N/A
A43: =J43 -> 13534 | B43: =_xlfn.XLOOKUP('[1]Réception de commande'!$E$6,'[1]Archive de commande'!$A$8:$A$100000,'[1]Archive de commande'!$B$13:$B$100005) -> 3209578 | C43: =_xlfn.XLOOKUP('[1]Réception de commande'!$E$6,'[1]Archive de commande'!$A$8:$A$100000,'[1]Archive de commande'!$C$13:$C$100005) -> Bornier à 4 raccordements PT 2,5 | E43: =IF($F$4<="",_xlfn.XLOOKUP('[1]Réception de commande'!$E$6,'[1]Archive de commande'!$A$8:$A$100000,'[1]Archive de commande'!H39:H100031),VLOOKUP(AND($G$4,#REF!),'Archive de réception'!$A$8:$I$100000,6)) -> 0.6 | F43: 50 | G43: =IF(E43="","",E43-F43) -> -49.4 | H43: 1353 | I43: 4 | J43: =H43&I43 -> 13534 | K43: =IF($F$4<1,_xlfn.XLOOKUP('[1]Réception de commande'!$E$6,'[1]Archive de commande'!$A$8:$A$100000,'[1]Archive de commande'!J50:J100042),VLOOKUP(K44,'Archive de réception'!$A$8:$I$100000,7)) -> #N/A
A44: =J44 -> 13534 | B44: =_xlfn.XLOOKUP('[1]Réception de commande'!$E$6,'[1]Archive de commande'!$A$8:$A$100000,'[1]Archive de commande'!$B$14:$B$100006) -> 3210499 | C44: =_xlfn.XLOOKUP('[1]Réception de commande'!$E$6,'[1]Archive de commande'!$A$8:$A$100000,'[1]Archive de commande'!$C$14:$C$100006) -> Bornier 3 étages à 2 raccordements par étage PT 2,5 | E44: =IF($F$4<="",_xlfn.XLOOKUP('[1]Réception de commande'!$E$6,'[1]Archive de commande'!$A$8:$A$100000,'[1]Archive de commande'!H40:H100032),VLOOKUP(AND($G$4,#REF!),'Archive de réception'!$A$8:$I$100000,6)) -> 0.6 | F44: 50 | G44: =IF(E44="","",E44-F44) -> -49.4 | H44: 1353 | I44: 4 | J44: =H44&I44 -> 13534 | K44: =IF($F$4<1,_xlfn.XLOOKUP('[1]Réception de commande'!$E$6,'[1]Archive de commande'!$A$8:$A$100000,'[1]Archive de commande'!J51:J100043),VLOOKUP(K45,'Archive de réception'!$A$8:$I$100000,7)) -> #N/A
A45: =J45 -> 13534 | B45: =_xlfn.XLOOKUP('[1]Réception de commande'!$E$6,'[1]Archive de commande'!$A$8:$A$100000,'[1]Archive de commande'!$B$15:$B$100007) -> 3211647 | C45: =_xlfn.XLOOKUP('[1]Réception de commande'!$E$6,'[1]Archive de commande'!$A$8:$A$100000,'[1]Archive de commande'!$C$15:$C$100007) -> Flasque de fermeture 3 étages à 2 raccordementd PT 2,5 | E45: =IF($F$4<="",_xlfn.XLOOKUP('[1]Réception de commande'!$E$6,'[1]Archive de commande'!$A$8:$A$100000,'[1]Archive de commande'!H41:H100033),VLOOKUP(AND($G$4,#REF!),'Archive de réception'!$A$8:$I$100000,6)) -> 0.36 | F45: 5 | G45: =IF(E45="","",E45-F45) -> -4.64 | H45: 1353 | I45: 4 | J45: =H45&I45 -> 13534 | K45: =IF($F$4<1,_xlfn.XLOOKUP('[1]Réception de commande'!$E$6,'[1]Archive de commande'!$A$8:$A$100000,'[1]Archive de commande'!J52:J100044),VLOOKUP(K46,'Archive de réception'!$A$8:$I$100000,7)) -> #N/A
A46: =J46 -> 13534 | B46: =_xlfn.XLOOKUP('[1]Réception de commande'!$E$6,'[1]Archive de commande'!$A$8:$A$100000,'[1]Archive de commande'!$B$16:$B$100008) -> 3211757 | C46: =_xlfn.XLOOKUP('[1]Réception de commande'!$E$6,'[1]Archive de commande'!$A$8:$A$100000,'[1]Archive de commande'!$C$16:$C$100008) -> Bornier à 2 raccordements PT 4 | E46: =IF($F$4<="",_xlfn.XLOOKUP('[1]Réception de commande'!$E$6,'[1]Archive de commande'!$A$8:$A$100000,'[1]Archive de commande'!H42:H100034),VLOOKUP(AND($G$4,#REF!),'Archive de réception'!$A$8:$I$100000,6)) -> 0.48 | F46: 50 | G46: =IF(E46="","",E46-F46) -> -49.52 | H46: 1353 | I46: 4 | J46: =H46&I46 -> 13534 | K46: =IF($F$4<1,_xlfn.XLOOKUP('[1]Réception de commande'!$E$6,'[1]Archive de commande'!$A$8:$A$100000,'[1]Archive de commande'!J53:J100045),VLOOKUP(K47,'Archive de réception'!$A$8:$I$100000,7)) -> #N/A
A47: =J47 -> 13534 | B47: =_xlfn.XLOOKUP('[1]Réception de commande'!$E$6,'[1]Archive de commande'!$A$8:$A$100000,'[1]Archive de commande'!$B$17:$B$100009) -> 3211776 | C47: =_xlfn.XLOOKUP('[1]Réception de commande'!$E$6,'[1]Archive de commande'!$A$8:$A$100000,'[1]Archive de commande'!$C$17:$C$100009) -> Bornier à 2 raccordement mise à la terre PT 4-PE | E47: =IF($F$4<="",_xlfn.XLOOKUP('[1]Réception de commande'!$E$6,'[1]Archive de commande'!$A$8:$A$100000,'[1]Archive de commande'!H43:H100035),VLOOKUP(AND($G$4,#REF!),'Archive de réception'!$A$8:$I$100000,6)) -> 0.5 | F47: 25 | G47: =IF(E47="","",E47-F47) -> -24.5 | H47: 1353 | I47: 4 | J47: =H47&I47 -> 13534 | K47: =IF($F$4<1,_xlfn.XLOOKUP('[1]Réception de commande'!$E$6,'[1]Archive de commande'!$A$8:$A$100000,'[1]Archive de commande'!J54:J100046),VLOOKUP(K48,'Archive de réception'!$A$8:$I$100000,7)) -> #N/A
A48: =J48 -> 13534 | B48: =_xlfn.XLOOKUP('[1]Réception de commande'!$E$6,'[1]Archive de commande'!$A$8:$A$100000,'[1]Archive de commande'!$B$18:$B$100010) -> 3213056 | C48: =_xlfn.XLOOKUP('[1]Réception de commande'!$E$6,'[1]Archive de commande'!$A$8:$A$100000,'[1]Archive de commande'!$C$18:$C$100010) -> Cavalier de jonction rouge pour bornier senseur FBS 10-3,5 | E48: =IF($F$4<="",_xlfn.XLOOKUP('[1]Réception de commande'!$E$6,'[1]Archive de commande'!$A$8:$A$100000,'[1]Archive de commande'!H44:H100036),VLOOKUP(AND($G$4,#REF!),'Archive de réception'!$A$8:$I$100000,6)) -> 2.96 | F48: 10 | G48: =IF(E48="","",E48-F48) -> -7.04 | H48: 1353 | I48: 4 | J48: =H48&I48 -> 13534 | K48: =IF($F$4<1,_xlfn.XLOOKUP('[1]Réception de commande'!$E$6,'[1]Archive de commande'!$A$8:$A$100000,'[1]Archive de commande'!J55:J100047),VLOOKUP(K49,'Archive de réception'!$A$8:$I$100000,7)) -> #N/A
A49: =J49 -> 13534 | B49: =_xlfn.XLOOKUP('[1]Réception de commande'!$E$6,'[1]Archive de commande'!$A$8:$A$100000,'[1]Archive de commande'!$B$19:$B$100011) -> 3213125 | C49: =_xlfn.XLOOKUP('[1]Réception de commande'!$E$6,'[1]Archive de commande'!$A$8:$A$100000,'[1]Archive de commande'!$C$19:$C$100011) -> Cavalier de jonction bleu pour bornier senseur FBS 10-3,5 BU | E49: =IF($F$4<="",_xlfn.XLOOKUP('[1]Réception de commande'!$E$6,'[1]Archive de commande'!$A$8:$A$100000,'[1]Archive de commande'!H45:H100037),VLOOKUP(AND($G$4,#REF!),'Archive de réception'!$A$8:$I$100000,6)) -> 1.61 | F49: 10 | G49: =IF(E49="","",E49-F49) -> -8.39 | H49: 1353 | I49: 4 | J49: =H49&I49 -> 13534 | K49: =IF($F$4<1,_xlfn.XLOOKUP('[1]Réception de commande'!$E$6,'[1]Archive de commande'!$A$8:$A$100000,'[1]Archive de commande'!J56:J100048),VLOOKUP(K50,'Archive de réception'!$A$8:$I$100000,7)) -> #N/A
A50: =J50 -> 13534 | B50: =_xlfn.XLOOKUP('[1]Réception de commande'!$E$6,'[1]Archive de commande'!$A$8:$A$100000,'[1]Archive de commande'!$B$20:$B$100012) -> 3240197 | C50: =_xlfn.XLOOKUP('[1]Réception de commande'!$E$6,'[1]Archive de commande'!$A$8:$A$100000,'[1]Archive de commande'!$C$20:$C$100012) -> Goulotte CD 25x80 | E50: =IF($F$4<="",_xlfn.XLOOKUP('[1]Réception de commande'!$E$6,'[1]Archive de commande'!$A$8:$A$100000,'[1]Archive de commande'!H46:H100038),VLOOKUP(AND($G$4,#REF!),'Archive de réception'!$A$8:$I$100000,6)) -> 4.1 | F50: 2 | G50: =IF(E50="","",E50-F50) -> 2.1 | H50: 1353 | I50: 4 | J50: =H50&I50 -> 13534 | K50: =IF($F$4<1,_xlfn.XLOOKUP('[1]Réception de commande'!$E$6,'[1]Archive de commande'!$A$8:$A$100000,'[1]Archive de commande'!J57:J100049),VLOOKUP(K51,'Archive de réception'!$A$8:$I$100000,7)) -> #N/A
A51: =J51 -> 13534 | B51: =_xlfn.XLOOKUP('[1]Réception de commande'!$E$6,'[1]Archive de commande'!$A$8:$A$100000,'[1]Archive de commande'!$B$21:$B$100013) -> 3240285 | C51: =_xlfn.XLOOKUP('[1]Réception de commande'!$E$6,'[1]Archive de commande'!$A$8:$A$100000,'[1]Archive de commande'!$C$21:$C$100013) -> Couvercle de goulotte CD 25 | E51: =IF($F$4<="",_xlfn.XLOOKUP('[1]Réception de commande'!$E$6,'[1]Archive de commande'!$A$8:$A$100000,'[1]Archive de commande'!H47:H100039),VLOOKUP(AND($G$4,#REF!),'Archive de réception'!$A$8:$I$100000,6)) -> 0.85 | F51: 2 | G51: =IF(E51="","",E51-F51) -> -1.15 | H51: 1353 | I51: 4 | J51: =H51&I51 -> 13534 | K51: =IF($F$4<1,_xlfn.XLOOKUP('[1]Réception de commande'!$E$6,'[1]Archive de commande'!$A$8:$A$100000,'[1]Archive de commande'!J58:J100050),VLOOKUP(K52,'Archive de réception'!$A$8:$I$100000,7)) -> #N/A
A52: =J52 -> 13534 | B52: =_xlfn.XLOOKUP('[1]Réception de commande'!$E$6,'[1]Archive de commande'!$A$8:$A$100000,'[1]Archive de commande'!$B$22:$B$100014) -> 3244410 | C52: =_xlfn.XLOOKUP('[1]Réception de commande'!$E$6,'[1]Archive de commande'!$A$8:$A$100000,'[1]Archive de commande'!$C$22:$C$100014) -> Bornier pour senseur PTIO 1,5/S/3 | E52: =IF($F$4<="",_xlfn.XLOOKUP('[1]Réception de commande'!$E$6,'[1]Archive de commande'!$A$8:$A$100000,'[1]Archive de commande'!H48:H100040),VLOOKUP(AND($G$4,#REF!),'Archive de réception'!$A$8:$I$100000,6)) -> 0.94 | F52: 50 | G52: =IF(E52="","",E52-F52) -> -49.06 | H52: 1353 | I52: 4 | J52: =H52&I52 -> 13534 | K52: =IF($F$4<1,_xlfn.XLOOKUP('[1]Réception de commande'!$E$6,'[1]Archive de commande'!$A$8:$A$100000,'[1]Archive de commande'!J59:J100051),VLOOKUP(K53,'Archive de réception'!$A$8:$I$100000,7)) -> #N/A
A53: =J53 -> 13534 | B53: =_xlfn.XLOOKUP('[1]Réception de commande'!$E$6,'[1]Archive de commande'!$A$8:$A$100000,'[1]Archive de commande'!$B$23:$B$100015) -> 3244575 | C53: =_xlfn.XLOOKUP('[1]Réception de commande'!$E$6,'[1]Archive de commande'!$A$8:$A$100000,'[1]Archive de commande'!$C$23:$C$100015) -> Flasque de fermeture pour bornier senseur D-PTIO 1,5/S/3 | E53: =IF($F$4<="",_xlfn.XLOOKUP('[1]Réception de commande'!$E$6,'[1]Archive de commande'!$A$8:$A$100000,'[1]Archive de commande'!H49:H100041),VLOOKUP(AND($G$4,#REF!),'Archive de réception'!$A$8:$I$100000,6)) -> 4.09 | F53: 10 | G53: =IF(E53="","",E53-F53) -> -5.91 | H53: 1353 | I53: 4 | J53: =H53&I53 -> 13534 | K53: =IF($F$4<1,_xlfn.XLOOKUP('[1]Réception de commande'!$E$6,'[1]Archive de commande'!$A$8:$A$100000,'[1]Archive de commande'!J60:J100052),VLOOKUP(K54,'Archive de réception'!$A$8:$I$100000,7)) -> #N/A
A54: =J54 -> 13534 | B54: =_xlfn.XLOOKUP('[1]Réception de commande'!$E$6,'[1]Archive de commande'!$A$8:$A$100000,'[1]Archive de commande'!$B$24:$B$100016) -> 3022218 | C54: =_xlfn.XLOOKUP('[1]Réception de commande'!$E$6,'[1]Archive de commande'!$A$8:$A$100000,'[1]Archive de commande'!$C$24:$C$100016) -> Équerre de blocage Clipfix 35 | E54: =IF($F$4<="",_xlfn.XLOOKUP('[1]Réception de commande'!$E$6,'[1]Archive de commande'!$A$8:$A$100000,'[1]Archive de commande'!H50:H100042),VLOOKUP(AND($G$4,#REF!),'Archive de réception'!$A$8:$I$100000,6)) -> 4 | G54: =IF(E54="","",E54-F54) -> 4 | H54: 1353 | I54: 4 | J54: =H54&I54 -> 13534 | K54: =IF($F$4<1,_xlfn.XLOOKUP('[1]Réception de commande'!$E$6,'[1]Archive de commande'!$A$8:$A$100000,'[1]Archive de commande'!J61:J100053),VLOOKUP(K55,'Archive de réception'!$A$8:$I$100000,7)) -> #N/A
A55: =J55 -> 13534 | B55: =_xlfn.XLOOKUP('[1]Réception de commande'!$E$6,'[1]Archive de commande'!$A$8:$A$100000,'[1]Archive de commande'!$B$25:$B$100017) -> 0811969 | C55: =_xlfn.XLOOKUP('[1]Réception de commande'!$E$6,'[1]Archive de commande'!$A$8:$A$100000,'[1]Archive de commande'!$C$25:$C$100017) -> Identification sur équerre de blocage KLM 3 | E55: =IF($F$4<="",_xlfn.XLOOKUP('[1]Réception de commande'!$E$6,'[1]Archive de commande'!$A$8:$A$100000,'[1]Archive de commande'!H51:H100043),VLOOKUP(AND($G$4,#REF!),'Archive de réception'!$A$8:$I$100000,6)) -> 4 | G55: =IF(E55="","",E55-F55) -> 4 | H55: 1353 | I55: 4 | J55: =H55&I55 -> 13534 | K55: =IF($F$4<1,_xlfn.XLOOKUP('[1]Réception de commande'!$E$6,'[1]Archive de commande'!$A$8:$A$100000,'[1]Archive de commande'!J62:J100054),VLOOKUP(K56,'Archive de réception'!$A$8:$I$100000,7)) -> #N/A
A56: =J56 -> 13534 | B56: =_xlfn.XLOOKUP('[1]Réception de commande'!$E$6,'[1]Archive de commande'!$A$8:$A$100000,'[1]Archive de commande'!$B$26:$B$100018) -> 3030417 | C56: =_xlfn.XLOOKUP('[1]Réception de commande'!$E$6,'[1]Archive de commande'!$A$8:$A$100000,'[1]Archive de commande'!$C$26:$C$100018) -> Flasque de fermeture 2 raccordements D-ST 2,5 | E56: =IF($F$4<="",_xlfn.XLOOKUP('[1]Réception de commande'!$E$6,'[1]Archive de commande'!$A$8:$A$100000,'[1]Archive de commande'!H52:H100044),VLOOKUP(AND($G$4,#REF!),'Archive de réception'!$A$8:$I$100000,6)) -> 9.62 | G56: =IF(E56="","",E56-F56) -> 9.62 | H56: 1353 | I56: 4 | J56: =H56&I56 -> 13534 | K56: =IF($F$4<1,_xlfn.XLOOKUP('[1]Réception de commande'!$E$6,'[1]Archive de commande'!$A$8:$A$100000,'[1]Archive de commande'!J63:J100055),VLOOKUP(K57,'Archive de réception'!$A$8:$I$100000,7)) -> #N/A
A57: =J57 -> 13534 | B57: =_xlfn.XLOOKUP('[1]Réception de commande'!$E$6,'[1]Archive de commande'!$A$8:$A$100000,'[1]Archive de commande'!$B$27:$B$100019) -> 3030514 | C57: =_xlfn.XLOOKUP('[1]Réception de commande'!$E$6,'[1]Archive de commande'!$A$8:$A$100000,'[1]Archive de commande'!$C$27:$C$100019) -> Flasque de fermeture 4 raccordements PT 2,5 | E57: =IF($F$4<="",_xlfn.XLOOKUP('[1]Réception de commande'!$E$6,'[1]Archive de commande'!$A$8:$A$100000,'[1]Archive de commande'!H53:H100045),VLOOKUP(AND($G$4,#REF!),'Archive de réception'!$A$8:$I$100000,6)) -> 1.64 | G57: =IF(E57="","",E57-F57) -> 1.64 | H57: 1353 | I57: 4 | J57: =H57&I57 -> 13534 | K57: =IF($F$4<1,_xlfn.XLOOKUP('[1]Réception de commande'!$E$6,'[1]Archive de commande'!$A$8:$A$100000,'[1]Archive de commande'!J64:J100056),VLOOKUP(K58,'Archive de réception'!$A$8:$I$100000,7)) -> #N/A
A58: =J58 -> 13534 | B58: =_xlfn.XLOOKUP('[1]Réception de commande'!$E$6,'[1]Archive de commande'!$A$8:$A$100000,'[1]Archive de commande'!$B$28:$B$100020) -> 3209536 | C58: =_xlfn.XLOOKUP('[1]Réception de commande'!$E$6,'[1]Archive de commande'!$A$8:$A$100000,'[1]Archive de commande'!$C$28:$C$100020) -> Bornier à 2 raccordement mise à la terre PT 2,5-PE | E58: =IF($F$4<="",_xlfn.XLOOKUP('[1]Réception de commande'!$E$6,'[1]Archive de commande'!$A$8:$A$100000,'[1]Archive de commande'!H54:H100046),VLOOKUP(AND($G$4,#REF!),'Archive de réception'!$A$8:$I$100000,6)) -> 2.96 | G58: =IF(E58="","",E58-F58) -> 2.96 | H58: 1353 | I58: 4 | J58: =H58&I58 -> 13534 | K58: =IF($F$4<1,_xlfn.XLOOKUP('[1]Réception de commande'!$E$6,'[1]Archive de commande'!$A$8:$A$100000,'[1]Archive de commande'!J65:J100057),VLOOKUP(K59,'Archive de réception'!$A$8:$I$100000,7)) -> #N/A
A59: =J59 -> 13534 | B59: =_xlfn.XLOOKUP('[1]Réception de commande'!$E$6,'[1]Archive de commande'!$A$8:$A$100000,'[1]Archive de commande'!$B$29:$B$100021) -> 3209578 | C59: =_xlfn.XLOOKUP('[1]Réception de commande'!$E$6,'[1]Archive de commande'!$A$8:$A$100000,'[1]Archive de commande'!$C$29:$C$100021) -> Bornier à 4 raccordements PT 2,5 | E59: =IF($F$4<="",_xlfn.XLOOKUP('[1]Réception de commande'!$E$6,'[1]Archive de commande'!$A$8:$A$100000,'[1]Archive de commande'!H55:H100047),VLOOKUP(AND($G$4,#REF!),'Archive de réception'!$A$8:$I$100000,6)) -> 0.6 | G59: =IF(E59="","",E59-F59) -> 0.6 | H59: 1353 | I59: 4 | J59: =H59&I59 -> 13534 | K59: =IF($F$4<1,_xlfn.XLOOKUP('[1]Réception de commande'!$E$6,'[1]Archive de commande'!$A$8:$A$100000,'[1]Archive de commande'!J66:J100058),VLOOKUP(K60,'Archive de réception'!$A$8:$I$100000,7)) -> #N/A
A60: =J60 -> 13534 | B60: =_xlfn.XLOOKUP('[1]Réception de commande'!$E$6,'[1]Archive de commande'!$A$8:$A$100000,'[1]Archive de commande'!$B$30:$B$100022) -> 3210499 | C60: =_xlfn.XLOOKUP('[1]Réception de commande'!$E$6,'[1]Archive de commande'!$A$8:$A$100000,'[1]Archive de commande'!$C$30:$C$100022) -> Bornier 3 étages à 2 raccordements par étage PT 2,5 | E60: =IF($F$4<="",_xlfn.XLOOKUP('[1]Réception de commande'!$E$6,'[1]Archive de commande'!$A$8:$A$100000,'[1]Archive de commande'!H56:H100048),VLOOKUP(AND($G$4,#REF!),'Archive de réception'!$A$8:$I$100000,6)) -> 0.6 | G60: =IF(E60="","",E60-F60) -> 0.6 | H60: 1353 | I60: 4 | J60: =H60&I60 -> 13534 | K60: =IF($F$4<1,_xlfn.XLOOKUP('[1]Réception de commande'!$E$6,'[1]Archive de commande'!$A$8:$A$100000,'[1]Archive de commande'!J67:J100059),VLOOKUP(K61,'Archive de réception'!$A$8:$I$100000,7)) -> #N/A
A61: =J61 -> 13534 | B61: =_xlfn.XLOOKUP('[1]Réception de commande'!$E$6,'[1]Archive de commande'!$A$8:$A$100000,'[1]Archive de commande'!$B$31:$B$100023) -> 3211647 | C61: =_xlfn.XLOOKUP('[1]Réception de commande'!$E$6,'[1]Archive de commande'!$A$8:$A$100000,'[1]Archive de commande'!$C$31:$C$100023) -> Flasque de fermeture 3 étages à 2 raccordementd PT 2,5 | E61: =IF($F$4<="",_xlfn.XLOOKUP('[1]Réception de commande'!$E$6,'[1]Archive de commande'!$A$8:$A$100000,'[1]Archive de commande'!H57:H100049),VLOOKUP(AND($G$4,#REF!),'Archive de réception'!$A$8:$I$100000,6)) -> 0.36 | G61: =IF(E61="","",E61-F61) -> 0.36 | H61: 1353 | I61: 4 | J61: =H61&I61 -> 13534 | K61: =IF($F$4<1,_xlfn.XLOOKUP('[1]Réception de commande'!$E$6,'[1]Archive de commande'!$A$8:$A$100000,'[1]Archive de commande'!J68:J100060),VLOOKUP(K62,'Archive de réception'!$A$8:$I$100000,7)) -> #N/A
A62: =J62 -> 13534 | B62: =_xlfn.XLOOKUP('[1]Réception de commande'!$E$6,'[1]Archive de commande'!$A$8:$A$100000,'[1]Archive de commande'!$B$32:$B$100024) -> 3211757 | C62: =_xlfn.XLOOKUP('[1]Réception de commande'!$E$6,'[1]Archive de commande'!$A$8:$A$100000,'[1]Archive de commande'!$C$32:$C$100024) -> Bornier à 2 raccordements PT 4 | E62: =IF($F$4<="",_xlfn.XLOOKUP('[1]Réception de commande'!$E$6,'[1]Archive de commande'!$A$8:$A$100000,'[1]Archive de commande'!H58:H100050),VLOOKUP(AND($G$4,#REF!),'Archive de réception'!$A$8:$I$100000,6)) -> 0.48 | G62: =IF(E62="","",E62-F62) -> 0.48 | H62: 1353 | I62: 4 | J62: =H62&I62 -> 13534 | K62: =IF($F$4<1,_xlfn.XLOOKUP('[1]Réception de commande'!$E$6,'[1]Archive de commande'!$A$8:$A$100000,'[1]Archive de commande'!J69:J100061),VLOOKUP(K63,'Archive de réception'!$A$8:$I$100000,7)) -> #N/A
A63: =J63 -> 13534 | B63: =_xlfn.XLOOKUP('[1]Réception de commande'!$E$6,'[1]Archive de commande'!$A$8:$A$100000,'[1]Archive de commande'!$B$33:$B$100025) -> 3211776 | C63: =_xlfn.XLOOKUP('[1]Réception de commande'!$E$6,'[1]Archive de commande'!$A$8:$A$100000,'[1]Archive de commande'!$C$33:$C$100025) -> Bornier à 2 raccordement mise à la terre PT 4-PE | E63: =IF($F$4<="",_xlfn.XLOOKUP('[1]Réception de commande'!$E$6,'[1]Archive de commande'!$A$8:$A$100000,'[1]Archive de commande'!H59:H100051),VLOOKUP(AND($G$4,#REF!),'Archive de réception'!$A$8:$I$100000,6)) -> 0.5 | G63: =IF(E63="","",E63-F63) -> 0.5 | H63: 1353 | I63: 4 | J63: =H63&I63 -> 13534 | K63: =IF($F$4<1,_xlfn.XLOOKUP('[1]Réception de commande'!$E$6,'[1]Archive de commande'!$A$8:$A$100000,'[1]Archive de commande'!J70:J100062),VLOOKUP(K64,'Archive de réception'!$A$8:$I$100000,7)) -> #N/A
A64: =J64 -> 13534 | B64: =_xlfn.XLOOKUP('[1]Réception de commande'!$E$6,'[1]Archive de commande'!$A$8:$A$100000,'[1]Archive de commande'!$B$34:$B$100026) -> 3213056 | C64: =_xlfn.XLOOKUP('[1]Réception de commande'!$E$6,'[1]Archive de commande'!$A$8:$A$100000,'[1]Archive de commande'!$C$34:$C$100026) -> Cavalier de jonction rouge pour bornier senseur FBS 10-3,5 | E64: =IF($F$4<="",_xlfn.XLOOKUP('[1]Réception de commande'!$E$6,'[1]Archive de commande'!$A$8:$A$100000,'[1]Archive de commande'!H60:H100052),VLOOKUP(AND($G$4,#REF!),'Archive de réception'!$A$8:$I$100000,6)) -> 2.96 | G64: =IF(E64="","",E64-F64) -> 2.96 | H64: 1353 | I64: 4 | J64: =H64&I64 -> 13534 | K64: =IF($F$4<1,_xlfn.XLOOKUP('[1]Réception de commande'!$E$6,'[1]Archive de commande'!$A$8:$A$100000,'[1]Archive de commande'!J71:J100063),VLOOKUP(K65,'Archive de réception'!$A$8:$I$100000,7)) -> #N/A
A65: =J65 -> 13534 | B65: =_xlfn.XLOOKUP('[1]Réception de commande'!$E$6,'[1]Archive de commande'!$A$8:$A$100000,'[1]Archive de commande'!$B$35:$B$100027) -> 3213125 | C65: =_xlfn.XLOOKUP('[1]Réception de commande'!$E$6,'[1]Archive de commande'!$A$8:$A$100000,'[1]Archive de commande'!$C$35:$C$100027) -> Cavalier de jonction bleu pour bornier senseur FBS 10-3,5 BU | E65: =IF($F$4<="",_xlfn.XLOOKUP('[1]Réception de commande'!$E$6,'[1]Archive de commande'!$A$8:$A$100000,'[1]Archive de commande'!H61:H100053),VLOOKUP(AND($G$4,#REF!),'Archive de réception'!$A$8:$I$100000,6)) -> 1.61 | G65: =IF(E65="","",E65-F65) -> 1.61 | H65: 1353 | I65: 4 | J65: =H65&I65 -> 13534 | K65: =IF($F$4<1,_xlfn.XLOOKUP('[1]Réception de commande'!$E$6,'[1]Archive de commande'!$A$8:$A$100000,'[1]Archive de commande'!J72:J100064),VLOOKUP(K66,'Archive de réception'!$A$8:$I$100000,7)) -> #N/A
A66: =J66 -> 13534 | B66: =_xlfn.XLOOKUP('[1]Réception de commande'!$E$6,'[1]Archive de commande'!$A$8:$A$100000,'[1]Archive de commande'!$B$36:$B$100028) -> 3240197 | C66: =_xlfn.XLOOKUP('[1]Réception de commande'!$E$6,'[1]Archive de commande'!$A$8:$A$100000,'[1]Archive de commande'!$C$36:$C$100028) -> Goulotte CD 25x80 | E66: =IF($F$4<="",_xlfn.XLOOKUP('[1]Réception de commande'!$E$6,'[1]Archive de commande'!$A$8:$A$100000,'[1]Archive de commande'!H62:H100054),VLOOKUP(AND($G$4,#REF!),'Archive de réception'!$A$8:$I$100000,6)) -> 4.1 | G66: =IF(E66="","",E66-F66) -> 4.1 | H66: 1353 | I66: 4 | J66: =H66&I66 -> 13534 | K66: =IF($F$4<1,_xlfn.XLOOKUP('[1]Réception de commande'!$E$6,'[1]Archive de commande'!$A$8:$A$100000,'[1]Archive de commande'!J73:J100065),VLOOKUP(K67,'Archive de réception'!$A$8:$I$100000,7)) -> #N/A
A67: =J67 -> 13534 | B67: =_xlfn.XLOOKUP('[1]Réception de commande'!$E$6,'[1]Archive de commande'!$A$8:$A$100000,'[1]Archive de commande'!$B$37:$B$100029) -> 3240285 | C67: =_xlfn.XLOOKUP('[1]Réception de commande'!$E$6,'[1]Archive de commande'!$A$8:$A$100000,'[1]Archive de commande'!$C$37:$C$100029) -> Couvercle de goulotte CD 25 | E67: =IF($F$4<="",_xlfn.XLOOKUP('[1]Réception de commande'!$E$6,'[1]Archive de commande'!$A$8:$A$100000,'[1]Archive de commande'!H63:H100055),VLOOKUP(AND($G$4,#REF!),'Archive de réception'!$A$8:$I$100000,6)) -> 0.85 | G67: =IF(E67="","",E67-F67) -> 0.85 | H67: 1353 | I67: 4 | J67: =H67&I67 -> 13534 | K67: =IF($F$4<1,_xlfn.XLOOKUP('[1]Réception de commande'!$E$6,'[1]Archive de commande'!$A$8:$A$100000,'[1]Archive de commande'!J74:J100066),VLOOKUP(K68,'Archive de réception'!$A$8:$I$100000,7)) -> #N/A

Sheet Archive de commande
C3: =_xlfn.XLOOKUP('[2]Réception de commande'!$E$6,'Archive de commande'!$A$8:$A$100000,'Archive de commande'!B9:B100001) -> 0811969
C4: =_xlfn.XLOOKUP('[2]Réception de commande'!$E$6,'Archive de commande'!$A$8:$A$100000,'Archive de commande'!B10:B100002) -> 3030417
B5: vdskjlvhbjk | C5: =_xlfn.XLOOKUP('[2]Réception de commande'!$E$6,'Archive de commande'!$A$8:$A$100000,'Archive de commande'!B11:B100003) -> 3030514
B6: bfzdsklvjhndaklj
B7: dfbskljbghdfklj
A8: =L8 -> 1353 | B8: 3022218 | C8: =IF(ISNA(VLOOKUP(B8,'[2]Base de donnée de Pièce'!$C$8:$I$243,2)),"",(VLOOKUP(B8,'[2]Base de donnée de Pièce'!$C$8:$I$243,2))) -> Équerre de blocage Clipfix 35 | G8: 24 | H8: =IF(ISNA(VLOOKUP(B8,'[2]Base de donnée de Pièce'!$C$8:$I$243,6)),"",VLOOKUP(B8,'[2]Base de donnée de Pièce'!$C$8:$I$243,6)) -> 0.6 | J8: =IF(ISNA(VLOOKUP(B8,'[2]Base de donnée de Pièce'!$C$8:$I$243,5)),"",VLOOKUP(B8,'[2]Base de donnée de Pièce'!$C$8:$I$243,5)) -> UN | K8: =IF(ISNA(IF(J8="CT",(H8/100)*G8,IF(J8="UN",(H8/1)*G8,IF(J8="M",(H8/1000)*G8,IF(J8="D",(H8/10)*G8,""))))),"",IF(J8="CT",(H8/100)*G8,IF(J8="UN",(H8/1)*G8,IF(J8="M",(H8/1000)*G8,IF(J8="D",(H8/10)*G8,""))))) -> 14.4 | L8: 1353 | M8: -INV
A9: =L9 -> 1353 | B9: 0811969 | C9: =IF(ISNA(VLOOKUP(B9,'[2]Base de donnée de Pièce'!$C$8:$H$243,2)),"",(VLOOKUP(B9,'[2]Base de donnée de Pièce'!$C$8:$H$243,2))) -> Identification sur équerre de blocage KLM 3 | G9: 10 | H9: =IF(ISNA(VLOOKUP(B9,'[2]Base de donnée de Pièce'!$C$8:$H$243,6)),"",VLOOKUP(B9,'[2]Base de donnée de Pièce'!$C$8:$H$243,6)) -> 0.36 | J9: =IF(ISNA(VLOOKUP(B9,'[2]Base de donnée de Pièce'!$C$8:$H$243,5)),"",VLOOKUP(B9,'[2]Base de donnée de Pièce'!$C$8:$H$243,5)) -> UN | K9: =IF(ISNA(IF(J9="CT",(H9/100)*G9,IF(J9="UN",(H9/1)*G9,IF(J9="M",(H9/1000)*G9,IF(J9="D",(H9/10)*G9,""))))),"",IF(J9="CT",(H9/100)*G9,IF(J9="UN",(H9/1)*G9,IF(J9="M",(H9/1000)*G9,IF(J9="D",(H9/10)*G9,""))))) -> 3.6 | L9: 1353 | M9: -INV
A10: =L10 -> 1353 | B10: 3030417 | C10: =IF(ISNA(VLOOKUP(B10,'[2]Base de donnée de Pièce'!$C$8:$H$243,2)),"",(VLOOKUP(B10,'[2]Base de donnée de Pièce'!$C$8:$H$243,2))) -> Flasque de fermeture 2 raccordements D-ST 2,5 | G10: 9 | H10: =IF(ISNA(VLOOKUP(B10,'[2]Base de donnée de Pièce'!$C$8:$H$243,6)),"",VLOOKUP(B10,'[2]Base de donnée de Pièce'!$C$8:$H$243,6)) -> 0.48 | J10: =IF(ISNA(VLOOKUP(B10,'[2]Base de donnée de Pièce'!$C$8:$H$243,5)),"",VLOOKUP(B10,'[2]Base de donnée de Pièce'!$C$8:$H$243,5)) -> UN | K10: =IF(ISNA(IF(J10="CT",(H10/100)*G10,IF(J10="UN",(H10/1)*G10,IF(J10="M",(H10/1000)*G10,IF(J10="D",(H10/10)*G10,""))))),"",IF(J10="CT",(H10/100)*G10,IF(J10="UN",(H10/1)*G10,IF(J10="M",(H10/1000)*G10,IF(J10="D",(H10/10)*G10,""))))) -> 4.32 | L10: 1353 | M10: -INV
A11: =L11 -> 1353 | B11: 3030514 | C11: =IF(ISNA(VLOOKUP(B11,'[2]Base de donnée de Pièce'!$C$8:$H$243,2)),"",(VLOOKUP(B11,'[2]Base de donnée de Pièce'!$C$8:$H$243,2))) -> Flasque de fermeture 4 raccordements PT 2,5 | G11: 10 | H11: =IF(ISNA(VLOOKUP(B11,'[2]Base de donnée de Pièce'!$C$8:$H$243,6)),"",VLOOKUP(B11,'[2]Base de donnée de Pièce'!$C$8:$H$243,6)) -> 0.5 | J11: =IF(ISNA(VLOOKUP(B11,'[2]Base de donnée de Pièce'!$C$8:$H$243,5)),"",VLOOKUP(B11,'[2]Base de donnée de Pièce'!$C$8:$H$243,5)) -> UN | K11: =IF(ISNA(IF(J11="CT",(H11/100)*G11,IF(J11="UN",(H11/1)*G11,IF(J11="M",(H11/1000)*G11,IF(J11="D",(H11/10)*G11,""))))),"",IF(J11="CT",(H11/100)*G11,IF(J11="UN",(H11/1)*G11,IF(J11="M",(H11/1000)*G11,IF(J11="D",(H11/10)*G11,""))))) -> 5 | L11: 1353 | M11: -INV
A12: =L12 -> 1353 | B12: 3209536 | C12: =IF(ISNA(VLOOKUP(B12,'[2]Base de donnée de Pièce'!$C$8:$H$243,2)),"",(VLOOKUP(B12,'[2]Base de donnée de Pièce'!$C$8:$H$243,2))) -> Bornier à 2 raccordement mise à la terre PT 2,5-PE | G12: 25 | H12: =IF(ISNA(VLOOKUP(B12,'[2]Base de donnée de Pièce'!$C$8:$H$243,6)),"",VLOOKUP(B12,'[2]Base de donnée de Pièce'!$C$8:$H$243,6)) -> 2.96 | J12: =IF(ISNA(VLOOKUP(B12,'[2]Base de donnée de Pièce'!$C$8:$H$243,5)),"",VLOOKUP(B12,'[2]Base de donnée de Pièce'!$C$8:$H$243,5)) -> UN | K12: =IF(ISNA(IF(J12="CT",(H12/100)*G12,IF(J12="UN",(H12/1)*G12,IF(J12="M",(H12/1000)*G12,IF(J12="D",(H12/10)*G12,""))))),"",IF(J12="CT",(H12/100)*G12,IF(J12="UN",(H12/1)*G12,IF(J12="M",(H12/1000)*G12,IF(J12="D",(H12/10)*G12,""))))) -> 74 | L12: 1353 | M12: -INV
A13: =L13 -> 1353 | B13: 3209578 | C13: =IF(ISNA(VLOOKUP(B13,'[2]Base de donnée de Pièce'!$C$8:$H$243,2)),"",(VLOOKUP(B13,'[2]Base de donnée de Pièce'!$C$8:$H$243,2))) -> Bornier à 4 raccordements PT 2,5 | G13: 50 | H13: =IF(ISNA(VLOOKUP(B13,'[2]Base de donnée de Pièce'!$C$8:$H$243,6)),"",VLOOKUP(B13,'[2]Base de donnée de Pièce'!$C$8:$H$243,6)) -> 1.61 | J13: =IF(ISNA(VLOOKUP(B13,'[2]Base de donnée de Pièce'!$C$8:$H$243,5)),"",VLOOKUP(B13,'[2]Base de donnée de Pièce'!$C$8:$H$243,5)) -> UN | K13: =IF(ISNA(IF(J13="CT",(H13/100)*G13,IF(J13="UN",(H13/1)*G13,IF(J13="M",(H13/1000)*G13,IF(J13="D",(H13/10)*G13,""))))),"",IF(J13="CT",(H13/100)*G13,IF(J13="UN",(H13/1)*G13,IF(J13="M",(H13/1000)*G13,IF(J13="D",(H13/10)*G13,""))))) -> 80.5 | L13: 1353 | M13: -INV
A14: =L14 -> 1353 | B14: 3210499 | C14: =IF(ISNA(VLOOKUP(B14,'[2]Base de donnée de Pièce'!$C$8:$H$243,2)),"",(VLOOKUP(B14,'[2]Base de donnée de Pièce'!$C$8:$H$243,2))) -> Bornier 3 étages à 2 raccordements par étage PT 2,5 | G14: 50 | H14: =IF(ISNA(VLOOKUP(B14,'[2]Base de donnée de Pièce'!$C$8:$H$243,6)),"",VLOOKUP(B14,'[2]Base de donnée de Pièce'!$C$8:$H$243,6)) -> 4.1 | J14: =IF(ISNA(VLOOKUP(B14,'[2]Base de donnée de Pièce'!$C$8:$H$243,5)),"",VLOOKUP(B14,'[2]Base de donnée de Pièce'!$C$8:$H$243,5)) -> UN | K14: =IF(ISNA(IF(J14="CT",(H14/100)*G14,IF(J14="UN",(H14/1)*G14,IF(J14="M",(H14/1000)*G14,IF(J14="D",(H14/10)*G14,""))))),"",IF(J14="CT",(H14/100)*G14,IF(J14="UN",(H14/1)*G14,IF(J14="M",(H14/1000)*G14,IF(J14="D",(H14/10)*G14,""))))) -> 205 | L14: 1353 | M14: -INV
A15: =L15 -> 1353 | B15: 3211647 | C15: =IF(ISNA(VLOOKUP(B15,'[2]Base de donnée de Pièce'!$C$8:$H$243,2)),"",(VLOOKUP(B15,'[2]Base de donnée de Pièce'!$C$8:$H$243,2))) -> Flasque de fermeture 3 étages à 2 raccordementd PT 2,5 | G15: 10 | H15: =IF(ISNA(VLOOKUP(B15,'[2]Base de donnée de Pièce'!$C$8:$H$243,6)),"",VLOOKUP(B15,'[2]Base de donnée de Pièce'!$C$8:$H$243,6)) -> 0.85 | J15: =IF(ISNA(VLOOKUP(B15,'[2]Base de donnée de Pièce'!$C$8:$H$243,5)),"",VLOOKUP(B15,'[2]Base de donnée de Pièce'!$C$8:$H$243,5)) -> UN | K15: =IF(ISNA(IF(J15="CT",(H15/100)*G15,IF(J15="UN",(H15/1)*G15,IF(J15="M",(H15/1000)*G15,IF(J15="D",(H15/10)*G15,""))))),"",IF(J15="CT",(H15/100)*G15,IF(J15="UN",(H15/1)*G15,IF(J15="M",(H15/1000)*G15,IF(J15="D",(H15/10)*G15,""))))) -> 8.5 | L15: 1353 | M15: -INV
A16: =L16 -> 1353 | B16: 3211757 | C16: =IF(ISNA(VLOOKUP(B16,'[2]Base de donnée de Pièce'!$C$8:$H$243,2)),"",(VLOOKUP(B16,'[2]Base de donnée de Pièce'!$C$8:$H$243,2))) -> Bornier à 2 raccordements PT 4 | G16: 50 | H16: =IF(ISNA(VLOOKUP(B16,'[2]Base de donnée de Pièce'!$C$8:$H$243,6)),"",VLOOKUP(B16,'[2]Base de donnée de Pièce'!$C$8:$H$243,6)) -> 0.94 | J16: =IF(ISNA(VLOOKUP(B16,'[2]Base de donnée de Pièce'!$C$8:$H$243,5)),"",VLOOKUP(B16,'[2]Base de donnée de Pièce'!$C$8:$H$243,5)) -> UN | K16: =IF(ISNA(IF(J16="CT",(H16/100)*G16,IF(J16="UN",(H16/1)*G16,IF(J16="M",(H16/1000)*G16,IF(J16="D",(H16/10)*G16,""))))),"",IF(J16="CT",(H16/100)*G16,IF(J16="UN",(H16/1)*G16,IF(J16="M",(H16/1000)*G16,IF(J16="D",(H16/10)*G16,""))))) -> 47 | L16: 1353 | M16: -INV
A17: =L17 -> 1353 | B17: 3211776 | C17: =IF(ISNA(VLOOKUP(B17,'[2]Base de donnée de Pièce'!$C$8:$H$243,2)),"",(VLOOKUP(B17,'[2]Base de donnée de Pièce'!$C$8:$H$243,2))) -> Bornier à 2 raccordement mise à la terre PT 4-PE | G17: 25 | H17: =IF(ISNA(VLOOKUP(B17,'[2]Base de donnée de Pièce'!$C$8:$H$243,6)),"",VLOOKUP(B17,'[2]Base de donnée de Pièce'!$C$8:$H$243,6)) -> 4.09 | J17: =IF(ISNA(VLOOKUP(B17,'[2]Base de donnée de Pièce'!$C$8:$H$243,5)),"",VLOOKUP(B17,'[2]Base de donnée de Pièce'!$C$8:$H$243,5)) -> UN | K17: =IF(ISNA(IF(J17="CT",(H17/100)*G17,IF(J17="UN",(H17/1)*G17,IF(J17="M",(H17/1000)*G17,IF(J17="D",(H17/10)*G17,""))))),"",IF(J17="CT",(H17/100)*G17,IF(J17="UN",(H17/1)*G17,IF(J17="M",(H17/1000)*G17,IF(J17="D",(H17/10)*G17,""))))) -> 102.25 | L17: 1353 | M17: -INV
A18: =L18 -> 1353 | B18: 3213056 | C18: =IF(ISNA(VLOOKUP(B18,'[2]Base de donnée de Pièce'!$C$8:$H$243,2)),"",(VLOOKUP(B18,'[2]Base de donnée de Pièce'!$C$8:$H$243,2))) -> Cavalier de jonction rouge pour bornier senseur FBS 10-3,5 | G18: 10 | H18: =IF(ISNA(VLOOKUP(B18,'[2]Base de donnée de Pièce'!$C$8:$H$243,6)),"",VLOOKUP(B18,'[2]Base de donnée de Pièce'!$C$8:$H$243,6)) -> 4 | J18: =IF(ISNA(VLOOKUP(B18,'[2]Base de donnée de Pièce'!$C$8:$H$243,5)),"",VLOOKUP(B18,'[2]Base de donnée de Pièce'!$C$8:$H$243,5)) -> UN | K18: =IF(ISNA(IF(J18="CT",(H18/100)*G18,IF(J18="UN",(H18/1)*G18,IF(J18="M",(H18/1000)*G18,IF(J18="D",(H18/10)*G18,""))))),"",IF(J18="CT",(H18/100)*G18,IF(J18="UN",(H18/1)*G18,IF(J18="M",(H18/1000)*G18,IF(J18="D",(H18/10)*G18,""))))) -> 40 | L18: 1353 | M18: -INV
A19: =L19 -> 1353 | B19: 3213125 | C19: =IF(ISNA(VLOOKUP(B19,'[2]Base de donnée de Pièce'!$C$8:$H$243,2)),"",(VLOOKUP(B19,'[2]Base de donnée de Pièce'!$C$8:$H$243,2))) -> Cavalier de jonction bleu pour bornier senseur FBS 10-3,5 BU | G19: 10 | H19: =IF(ISNA(VLOOKUP(B19,'[2]Base de donnée de Pièce'!$C$8:$H$243,6)),"",VLOOKUP(B19,'[2]Base de donnée de Pièce'!$C$8:$H$243,6)) -> 4 | J19: =IF(ISNA(VLOOKUP(B19,'[2]Base de donnée de Pièce'!$C$8:$H$243,5)),"",VLOOKUP(B19,'[2]Base de donnée de Pièce'!$C$8:$H$243,5)) -> UN | K19: =IF(ISNA(IF(J19="CT",(H19/100)*G19,IF(J19="UN",(H19/1)*G19,IF(J19="M",(H19/1000)*G19,IF(J19="D",(H19/10)*G19,""))))),"",IF(J19="CT",(H19/100)*G19,IF(J19="UN",(H19/1)*G19,IF(J19="M",(H19/1000)*G19,IF(J19="D",(H19/10)*G19,""))))) -> 40 | L19: 1353 | M19: -INV
A20: =L20 -> 1353 | B20: 3240197 | C20: =IF(ISNA(VLOOKUP(B20,'[2]Base de donnée de Pièce'!$C$8:$H$243,2)),"",(VLOOKUP(B20,'[2]Base de donnée de Pièce'!$C$8:$H$243,2))) -> Goulotte CD 25x80 | G20: 2 | H20: =IF(ISNA(VLOOKUP(B20,'[2]Base de donnée de Pièce'!$C$8:$H$243,6)),"",VLOOKUP(B20,'[2]Base de donnée de Pièce'!$C$8:$H$243,6)) -> 9.62 | J20: =IF(ISNA(VLOOKUP(B20,'[2]Base de donnée de Pièce'!$C$8:$H$243,5)),"",VLOOKUP(B20,'[2]Base de donnée de Pièce'!$C$8:$H$243,5)) -> UN | K20: =IF(ISNA(IF(J20="CT",(H20/100)*G20,IF(J20="UN",(H20/1)*G20,IF(J20="M",(H20/1000)*G20,IF(J20="D",(H20/10)*G20,""))))),"",IF(J20="CT",(H20/100)*G20,IF(J20="UN",(H20/1)*G20,IF(J20="M",(H20/1000)*G20,IF(J20="D",(H20/10)*G20,""))))) -> 19.24 | L20: 1353 | M20: -INV
... A23: =L23 -> 1353 | B23: 3244575 | C23: =IF(ISNA(VLOOKUP(B23,'[2]Base de donnée de Pièce'!$C$8:$H$243,2)),"",(VLOOKUP(B23,'[2]Base de donnée de Pièce'!$C$8:$H$243,2))) -> Flasque de fermeture pour bornier senseur D-PTIO 1,5/S/3 | G23: 10 | H23: =IF(ISNA(VLOOKUP(B23,'[2]Base de donnée de Pièce'!$C$8:$H$243,6)),"",VLOOKUP(B23,'[2]Base de donnée de Pièce'!$C$8:$H$243,6)) -> 0.6 | J23: =IF(ISNA(VLOOKUP(B23,'[2]Base de donnée de Pièce'!$C$8:$H$243,5)),"",VLOOKUP(B23,'[2]Base de donnée de Pièce'!$C$8:$H$243,5)) -> UN | K23: =IF(ISNA(IF(J23="CT",(H23/100)*G23,IF(J23="UN",(H23/1)*G23,IF(J23="M",(H23/1000)*G23,IF(J23="D",(H23/10)*G23,""))))),"",IF(J23="CT",(H23/100)*G23,IF(J23="UN",(H23/1)*G23,IF(J23="M",(H23/1000)*G23,IF(J23="D",(H23/10)*G23,""))))) -> 6 | L23: 1353 | M23: -INV
A24: =L24 -> 1354 | B24: 3022218 | C24: =IF(ISNA(VLOOKUP(B24,'[2]Base de donnée de Pièce'!$C$8:$I$243,2)),"",(VLOOKUP(B24,'[2]Base de donnée de Pièce'!$C$8:$I$243,2))) -> Équerre de blocage Clipfix 35 | G24: 24 | H24: =IF(ISNA(VLOOKUP(B24,'[2]Base de donnée de Pièce'!$C$8:$I$243,6)),"",VLOOKUP(B24,'[2]Base de donnée de Pièce'!$C$8:$I$243,6)) -> 0.6 | J24: =IF(ISNA(VLOOKUP(B24,'[2]Base de donnée de Pièce'!$C$8:$I$243,5)),"",VLOOKUP(B24,'[2]Base de donnée de Pièce'!$C$8:$I$243,5)) -> UN | K24: =IF(ISNA(IF(J24="CT",(H24/100)*G24,IF(J24="UN",(H24/1)*G24,IF(J24="M",(H24/1000)*G24,IF(J24="D",(H24/10)*G24,""))))),"",IF(J24="CT",(H24/100)*G24,IF(J24="UN",(H24/1)*G24,IF(J24="M",(H24/1000)*G24,IF(J24="D",(H24/10)*G24,""))))) -> 14.4 | L24: 1354 | M24: -INV
A25: =L25 -> 1354 | B25: 0811969 | C25: =IF(ISNA(VLOOKUP(B25,'[2]Base de donnée de Pièce'!$C$8:$H$243,2)),"",(VLOOKUP(B25,'[2]Base de donnée de Pièce'!$C$8:$H$243,2))) -> Identification sur équerre de blocage KLM 3 | G25: 10 | H25: =IF(ISNA(VLOOKUP(B25,'[2]Base de donnée de Pièce'!$C$8:$H$243,6)),"",VLOOKUP(B25,'[2]Base de donnée de Pièce'!$C$8:$H$243,6)) -> 0.36 | J25: =IF(ISNA(VLOOKUP(B25,'[2]Base de donnée de Pièce'!$C$8:$H$243,5)),"",VLOOKUP(B25,'[2]Base de donnée de Pièce'!$C$8:$H$243,5)) -> UN | K25: =IF(ISNA(IF(J25="CT",(H25/100)*G25,IF(J25="UN",(H25/1)*G25,IF(J25="M",(H25/1000)*G25,IF(J25="D",(H25/10)*G25,""))))),"",IF(J25="CT",(H25/100)*G25,IF(J25="UN",(H25/1)*G25,IF(J25="M",(H25/1000)*G25,IF(J25="D",(H25/10)*G25,""))))) -> 3.6 | L25: 1354 | M25: -INV
A26: =L26 -> 1354 | B26: 3030417 | C26: =IF(ISNA(VLOOKUP(B26,'[2]Base de donnée de Pièce'!$C$8:$H$243,2)),"",(VLOOKUP(B26,'[2]Base de donnée de Pièce'!$C$8:$H$243,2))) -> Flasque de fermeture 2 raccordements D-ST 2,5 | G26: 9 | H26: =IF(ISNA(VLOOKUP(B26,'[2]Base de donnée de Pièce'!$C$8:$H$243,6)),"",VLOOKUP(B26,'[2]Base de donnée de Pièce'!$C$8:$H$243,6)) -> 0.48 | J26: =IF(ISNA(VLOOKUP(B26,'[2]Base de donnée de Pièce'!$C$8:$H$243,5)),"",VLOOKUP(B26,'[2]Base de donnée de Pièce'!$C$8:$H$243,5)) -> UN | K26: =IF(ISNA(IF(J26="CT",(H26/100)*G26,IF(J26="UN",(H26/1)*G26,IF(J26="M",(H26/1000)*G26,IF(J26="D",(H26/10)*G26,""))))),"",IF(J26="CT",(H26/100)*G26,IF(J26="UN",(H26/1)*G26,IF(J26="M",(H26/1000)*G26,IF(J26="D",(H26/10)*G26,""))))) -> 4.32 | L26: 1354 | M26: -INV
A27: =L27 -> 1354 | B27: 3030514 | C27: =IF(ISNA(VLOOKUP(B27,'[2]Base de donnée de Pièce'!$C$8:$H$243,2)),"",(VLOOKUP(B27,'[2]Base de donnée de Pièce'!$C$8:$H$243,2))) -> Flasque de fermeture 4 raccordements PT 2,5 | G27: 10 | H27: =IF(ISNA(VLOOKUP(B27,'[2]Base de donnée de Pièce'!$C$8:$H$243,6)),"",VLOOKUP(B27,'[2]Base de donnée de Pièce'!$C$8:$H$243,6)) -> 0.5 | J27: =IF(ISNA(VLOOKUP(B27,'[2]Base de donnée de Pièce'!$C$8:$H$243,5)),"",VLOOKUP(B27,'[2]Base de donnée de Pièce'!$C$8:$H$243,5)) -> UN | K27: =IF(ISNA(IF(J27="CT",(H27/100)*G27,IF(J27="UN",(H27/1)*G27,IF(J27="M",(H27/1000)*G27,IF(J27="D",(H27/10)*G27,""))))),"",IF(J27="CT",(H27/100)*G27,IF(J27="UN",(H27/1)*G27,IF(J27="M",(H27/1000)*G27,IF(J27="D",(H27/10)*G27,""))))) -> 5 | L27: 1354 | M27: -INV
A28: =L28 -> 1354 | B28: 3209536 | C28: =IF(ISNA(VLOOKUP(B28,'[2]Base de donnée de Pièce'!$C$8:$H$243,2)),"",(VLOOKUP(B28,'[2]Base de donnée de Pièce'!$C$8:$H$243,2))) -> Bornier à 2 raccordement mise à la terre PT 2,5-PE | G28: 25 | H28: =IF(ISNA(VLOOKUP(B28,'[2]Base de donnée de Pièce'!$C$8:$H$243,6)),"",VLOOKUP(B28,'[2]Base de donnée de Pièce'!$C$8:$H$243,6)) -> 2.96 | J28: =IF(ISNA(VLOOKUP(B28,'[2]Base de donnée de Pièce'!$C$8:$H$243,5)),"",VLOOKUP(B28,'[2]Base de donnée de Pièce'!$C$8:$H$243,5)) -> UN | K28: =IF(ISNA(IF(J28="CT",(H28/100)*G28,IF(J28="UN",(H28/1)*G28,IF(J28="M",(H28/1000)*G28,IF(J28="D",(H28/10)*G28,""))))),"",IF(J28="CT",(H28/100)*G28,IF(J28="UN",(H28/1)*G28,IF(J28="M",(H28/1000)*G28,IF(J28="D",(H28/10)*G28,""))))) -> 74 | L28: 1354 | M28: -INV
A29: =L29 -> 1354 | B29: 3209578 | C29: =IF(ISNA(VLOOKUP(B29,'[2]Base de donnée de Pièce'!$C$8:$H$243,2)),"",(VLOOKUP(B29,'[2]Base de donnée de Pièce'!$C$8:$H$243,2))) -> Bornier à 4 raccordements PT 2,5 | G29: 50 | H29: =IF(ISNA(VLOOKUP(B29,'[2]Base de donnée de Pièce'!$C$8:$H$243,6)),"",VLOOKUP(B29,'[2]Base de donnée de Pièce'!$C$8:$H$243,6)) -> 1.61 | J29: =IF(ISNA(VLOOKUP(B29,'[2]Base de donnée de Pièce'!$C$8:$H$243,5)),"",VLOOKUP(B29,'[2]Base de donnée de Pièce'!$C$8:$H$243,5)) -> UN | K29: =IF(ISNA(IF(J29="CT",(H29/100)*G29,IF(J29="UN",(H29/1)*G29,IF(J29="M",(H29/1000)*G29,IF(J29="D",(H29/10)*G29,""))))),"",IF(J29="CT",(H29/100)*G29,IF(J29="UN",(H29/1)*G29,IF(J29="M",(H29/1000)*G29,IF(J29="D",(H29/10)*G29,""))))) -> 80.5 | L29: 1354 | M29: -INV
A30: =L30 -> 1354 | B30: 3210499 | C30: =IF(ISNA(VLOOKUP(B30,'[2]Base de donnée de Pièce'!$C$8:$H$243,2)),"",(VLOOKUP(B30,'[2]Base de donnée de Pièce'!$C$8:$H$243,2))) -> Bornier 3 étages à 2 raccordements par étage PT 2,5 | G30: 50 | H30: =IF(ISNA(VLOOKUP(B30,'[2]Base de donnée de Pièce'!$C$8:$H$243,6)),"",VLOOKUP(B30,'[2]Base de donnée de Pièce'!$C$8:$H$243,6)) -> 4.1 | J30: =IF(ISNA(VLOOKUP(B30,'[2]Base de donnée de Pièce'!$C$8:$H$243,5)),"",VLOOKUP(B30,'[2]Base de donnée de Pièce'!$C$8:$H$243,5)) -> UN | K30: =IF(ISNA(IF(J30="CT",(H30/100)*G30,IF(J30="UN",(H30/1)*G30,IF(J30="M",(H30/1000)*G30,IF(J30="D",(H30/10)*G30,""))))),"",IF(J30="CT",(H30/100)*G30,IF(J30="UN",(H30/1)*G30,IF(J30="M",(H30/1000)*G30,IF(J30="D",(H30/10)*G30,""))))) -> 205 | L30: 1354 | M30: -INV
A31: =L31 -> 1354 | B31: 3211647 | C31: =IF(ISNA(VLOOKUP(B31,'[2]Base de donnée de Pièce'!$C$8:$H$243,2)),"",(VLOOKUP(B31,'[2]Base de donnée de Pièce'!$C$8:$H$243,2))) -> Flasque de fermeture 3 étages à 2 raccordementd PT 2,5 | G31: 10 | H31: =IF(ISNA(VLOOKUP(B31,'[2]Base de donnée de Pièce'!$C$8:$H$243,6)),"",VLOOKUP(B31,'[2]Base de donnée de Pièce'!$C$8:$H$243,6)) -> 0.85 | J31: =IF(ISNA(VLOOKUP(B31,'[2]Base de donnée de Pièce'!$C$8:$H$243,5)),"",VLOOKUP(B31,'[2]Base de donnée de Pièce'!$C$8:$H$243,5)) -> UN | K31: =IF(ISNA(IF(J31="CT",(H31/100)*G31,IF(J31="UN",(H31/1)*G31,IF(J31="M",(H31/1000)*G31,IF(J31="D",(H31/10)*G31,""))))),"",IF(J31="CT",(H31/100)*G31,IF(J31="UN",(H31/1)*G31,IF(J31="M",(H31/1000)*G31,IF(J31="D",(H31/10)*G31,""))))) -> 8.5 | L31: 1354 | M31: -INV
A32: =L32 -> 1354 | B32: 3211757 | C32: =IF(ISNA(VLOOKUP(B32,'[2]Base de donnée de Pièce'!$C$8:$H$243,2)),"",(VLOOKUP(B32,'[2]Base de donnée de Pièce'!$C$8:$H$243,2))) -> Bornier à 2 raccordements PT 4 | G32: 50 | H32: =IF(ISNA(VLOOKUP(B32,'[2]Base de donnée de Pièce'!$C$8:$H$243,6)),"",VLOOKUP(B32,'[2]Base de donnée de Pièce'!$C$8:$H$243,6)) -> 0.94 | J32: =IF(ISNA(VLOOKUP(B32,'[2]Base de donnée de Pièce'!$C$8:$H$243,5)),"",VLOOKUP(B32,'[2]Base de donnée de Pièce'!$C$8:$H$243,5)) -> UN | K32: =IF(ISNA(IF(J32="CT",(H32/100)*G32,IF(J32="UN",(H32/1)*G32,IF(J32="M",(H32/1000)*G32,IF(J32="D",(H32/10)*G32,""))))),"",IF(J32="CT",(H32/100)*G32,IF(J32="UN",(H32/1)*G32,IF(J32="M",(H32/1000)*G32,IF(J32="D",(H32/10)*G32,""))))) -> 47 | L32: 1354 | M32: -INV
A33: =L33 -> 1354 | B33: 3211776 | C33: =IF(ISNA(VLOOKUP(B33,'[2]Base de donnée de Pièce'!$C$8:$H$243,2)),"",(VLOOKUP(B33,'[2]Base de donnée de Pièce'!$C$8:$H$243,2))) -> Bornier à 2 raccordement mise à la terre PT 4-PE | G33: 25 | H33: =IF(ISNA(VLOOKUP(B33,'[2]Base de donnée de Pièce'!$C$8:$H$243,6)),"",VLOOKUP(B33,'[2]Base de donnée de Pièce'!$C$8:$H$243,6)) -> 4.09 | J33: =IF(ISNA(VLOOKUP(B33,'[2]Base de donnée de Pièce'!$C$8:$H$243,5)),"",VLOOKUP(B33,'[2]Base de donnée de Pièce'!$C$8:$H$243,5)) -> UN | K33: =IF(ISNA(IF(J33="CT",(H33/100)*G33,IF(J33="UN",(H33/1)*G33,IF(J33="M",(H33/1000)*G33,IF(J33="D",(H33/10)*G33,""))))),"",IF(J33="CT",(H33/100)*G33,IF(J33="UN",(H33/1)*G33,IF(J33="M",(H33/1000)*G33,IF(J33="D",(H33/10)*G33,""))))) -> 102.25 | L33: 1354 | M33: -INV
A34: =L34 -> 1354 | B34: 3213056 | C34: =IF(ISNA(VLOOKUP(B34,'[2]Base de donnée de Pièce'!$C$8:$H$243,2)),"",(VLOOKUP(B34,'[2]Base de donnée de Pièce'!$C$8:$H$243,2))) -> Cavalier de jonction rouge pour bornier senseur FBS 10-3,5 | G34: 10 | H34: =IF(ISNA(VLOOKUP(B34,'[2]Base de donnée de Pièce'!$C$8:$H$243,6)),"",VLOOKUP(B34,'[2]Base de donnée de Pièce'!$C$8:$H$243,6)) -> 4 | J34: =IF(ISNA(VLOOKUP(B34,'[2]Base de donnée de Pièce'!$C$8:$H$243,5)),"",VLOOKUP(B34,'[2]Base de donnée de Pièce'!$C$8:$H$243,5)) -> UN | K34: =IF(ISNA(IF(J34="CT",(H34/100)*G34,IF(J34="UN",(H34/1)*G34,IF(J34="M",(H34/1000)*G34,IF(J34="D",(H34/10)*G34,""))))),"",IF(J34="CT",(H34/100)*G34,IF(J34="UN",(H34/1)*G34,IF(J34="M",(H34/1000)*G34,IF(J34="D",(H34/10)*G34,""))))) -> 40 | L34: 1354 | M34: -INV
A35: =L35 -> 1354 | B35: 3213125 | C35: =IF(ISNA(VLOOKUP(B35,'[2]Base de donnée de Pièce'!$C$8:$H$243,2)),"",(VLOOKUP(B35,'[2]Base de donnée de Pièce'!$C$8:$H$243,2))) -> Cavalier de jonction bleu pour bornier senseur FBS 10-3,5 BU | G35: 10 | H35: =IF(ISNA(VLOOKUP(B35,'[2]Base de donnée de Pièce'!$C$8:$H$243,6)),"",VLOOKUP(B35,'[2]Base de donnée de Pièce'!$C$8:$H$243,6)) -> 4 | J35: =IF(ISNA(VLOOKUP(B35,'[2]Base de donnée de Pièce'!$C$8:$H$243,5)),"",VLOOKUP(B35,'[2]Base de donnée de Pièce'!$C$8:$H$243,5)) -> UN | K35: =IF(ISNA(IF(J35="CT",(H35/100)*G35,IF(J35="UN",(H35/1)*G35,IF(J35="M",(H35/1000)*G35,IF(J35="D",(H35/10)*G35,""))))),"",IF(J35="CT",(H35/100)*G35,IF(J35="UN",(H35/1)*G35,IF(J35="M",(H35/1000)*G35,IF(J35="D",(H35/10)*G35,""))))) -> 40 | L35: 1354 | M35: -INV
A36: =L36 -> 1354 | B36: 3240197 | C36: =IF(ISNA(VLOOKUP(B36,'[2]Base de donnée de Pièce'!$C$8:$H$243,2)),"",(VLOOKUP(B36,'[2]Base de donnée de Pièce'!$C$8:$H$243,2))) -> Goulotte CD 25x80 | G36: 2 | H36: =IF(ISNA(VLOOKUP(B36,'[2]Base de donnée de Pièce'!$C$8:$H$243,6)),"",VLOOKUP(B36,'[2]Base de donnée de Pièce'!$C$8:$H$243,6)) -> 9.62 | J36: =IF(ISNA(VLOOKUP(B36,'[2]Base de donnée de Pièce'!$C$8:$H$243,5)),"",VLOOKUP(B36,'[2]Base de donnée de Pièce'!$C$8:$H$243,5)) -> UN | K36: =IF(ISNA(IF(J36="CT",(H36/100)*G36,IF(J36="UN",(H36/1)*G36,IF(J36="M",(H36/1000)*G36,IF(J36="D",(H36/10)*G36,""))))),"",IF(J36="CT",(H36/100)*G36,IF(J36="UN",(H36/1)*G36,IF(J36="M",(H36/1000)*G36,IF(J36="D",(H36/10)*G36,""))))) -> 19.24 | L36: 1354 | M36: -INV
... A39: =L39 -> 1354 | B39: 3244575 | C39: =IF(ISNA(VLOOKUP(B39,'[2]Base de donnée de Pièce'!$C$8:$H$243,2)),"",(VLOOKUP(B39,'[2]Base de donnée de Pièce'!$C$8:$H$243,2))) -> Flasque de fermeture pour bornier senseur D-PTIO 1,5/S/3 | G39: 10 | H39: =IF(ISNA(VLOOKUP(B39,'[2]Base de donnée de Pièce'!$C$8:$H$243,6)),"",VLOOKUP(B39,'[2]Base de donnée de Pièce'!$C$8:$H$243,6)) -> 0.6 | J39: =IF(ISNA(VLOOKUP(B39,'[2]Base de donnée de Pièce'!$C$8:$H$243,5)),"",VLOOKUP(B39,'[2]Base de donnée de Pièce'!$C$8:$H$243,5)) -> UN | K39: =IF(ISNA(IF(J39="CT",(H39/100)*G39,IF(J39="UN",(H39/1)*G39,IF(J39="M",(H39/1000)*G39,IF(J39="D",(H39/10)*G39,""))))),"",IF(J39="CT",(H39/100)*G39,IF(J39="UN",(H39/1)*G39,IF(J39="M",(H39/1000)*G39,IF(J39="D",(H39/10)*G39,""))))) -> 6 | L39: 1354 | M39: -INV
A40: =L40 -> 1355 | B40: 3022218 | C40: =IF(ISNA(VLOOKUP(B40,'[2]Base de donnée de Pièce'!$C$8:$I$243,2)),"",(VLOOKUP(B40,'[2]Base de donnée de Pièce'!$C$8:$I$243,2))) -> Équerre de blocage Clipfix 35 | G40: 24 | H40: =IF(ISNA(VLOOKUP(B40,'[2]Base de donnée de Pièce'!$C$8:$I$243,6)),"",VLOOKUP(B40,'[2]Base de donnée de Pièce'!$C$8:$I$243,6)) -> 0.6 | J40: =IF(ISNA(VLOOKUP(B40,'[2]Base de donnée de Pièce'!$C$8:$I$243,5)),"",VLOOKUP(B40,'[2]Base de donnée de Pièce'!$C$8:$I$243,5)) -> UN | K40: =IF(ISNA(IF(J40="CT",(H40/100)*G40,IF(J40="UN",(H40/1)*G40,IF(J40="M",(H40/1000)*G40,IF(J40="D",(H40/10)*G40,""))))),"",IF(J40="CT",(H40/100)*G40,IF(J40="UN",(H40/1)*G40,IF(J40="M",(H40/1000)*G40,IF(J40="D",(H40/10)*G40,""))))) -> 14.4 | L40: 1355 | M40: -INV
A41: =L41 -> 1355 | B41: 0811969 | C41: =IF(ISNA(VLOOKUP(B41,'[2]Base de donnée de Pièce'!$C$8:$H$243,2)),"",(VLOOKUP(B41,'[2]Base de donnée de Pièce'!$C$8:$H$243,2))) -> Identification sur équerre de blocage KLM 3 | G41: 10 | H41: =IF(ISNA(VLOOKUP(B41,'[2]Base de donnée de Pièce'!$C$8:$H$243,6)),"",VLOOKUP(B41,'[2]Base de donnée de Pièce'!$C$8:$H$243,6)) -> 0.36 | J41: =IF(ISNA(VLOOKUP(B41,'[2]Base de donnée de Pièce'!$C$8:$H$243,5)),"",VLOOKUP(B41,'[2]Base de donnée de Pièce'!$C$8:$H$243,5)) -> UN | K41: =IF(ISNA(IF(J41="CT",(H41/100)*G41,IF(J41="UN",(H41/1)*G41,IF(J41="M",(H41/1000)*G41,IF(J41="D",(H41/10)*G41,""))))),"",IF(J41="CT",(H41/100)*G41,IF(J41="UN",(H41/1)*G41,IF(J41="M",(H41/1000)*G41,IF(J41="D",(H41/10)*G41,""))))) -> 3.6 | L41: 1355 | M41: -INV
A42: =L42 -> 1355 | B42: 3030417 | C42: =IF(ISNA(VLOOKUP(B42,'[2]Base de donnée de Pièce'!$C$8:$H$243,2)),"",(VLOOKUP(B42,'[2]Base de donnée de Pièce'!$C$8:$H$243,2))) -> Flasque de fermeture 2 raccordements D-ST 2,5 | G42: 9 | H42: =IF(ISNA(VLOOKUP(B42,'[2]Base de donnée de Pièce'!$C$8:$H$243,6)),"",VLOOKUP(B42,'[2]Base de donnée de Pièce'!$C$8:$H$243,6)) -> 0.48 | J42: =IF(ISNA(VLOOKUP(B42,'[2]Base de donnée de Pièce'!$C$8:$H$243,5)),"",VLOOKUP(B42,'[2]Base de donnée de Pièce'!$C$8:$H$243,5)) -> UN | K42: =IF(ISNA(IF(J42="CT",(H42/100)*G42,IF(J42="UN",(H42/1)*G42,IF(J42="M",(H42/1000)*G42,IF(J42="D",(H42/10)*G42,""))))),"",IF(J42="CT",(H42/100)*G42,IF(J42="UN",(H42/1)*G42,IF(J42="M",(H42/1000)*G42,IF(J42="D",(H42/10)*G42,""))))) -> 4.32 | L42: 1355 | M42: -INV
A43: =L43 -> 1355 | B43: 3030514 | C43: =IF(ISNA(VLOOKUP(B43,'[2]Base de donnée de Pièce'!$C$8:$H$243,2)),"",(VLOOKUP(B43,'[2]Base de donnée de Pièce'!$C$8:$H$243,2))) -> Flasque de fermeture 4 raccordements PT 2,5 | G43: 10 | H43: =IF(ISNA(VLOOKUP(B43,'[2]Base de donnée de Pièce'!$C$8:$H$243,6)),"",VLOOKUP(B43,'[2]Base de donnée de Pièce'!$C$8:$H$243,6)) -> 0.5 | J43: =IF(ISNA(VLOOKUP(B43,'[2]Base de donnée de Pièce'!$C$8:$H$243,5)),"",VLOOKUP(B43,'[2]Base de donnée de Pièce'!$C$8:$H$243,5)) -> UN | K43: =IF(ISNA(IF(J43="CT",(H43/100)*G43,IF(J43="UN",(H43/1)*G43,IF(J43="M",(H43/1000)*G43,IF(J43="D",(H43/10)*G43,""))))),"",IF(J43="CT",(H43/100)*G43,IF(J43="UN",(H43/1)*G43,IF(J43="M",(H43/1000)*G43,IF(J43="D",(H43/10)*G43,""))))) -> 5 | L43: 1355 | M43: -INV
A44: =L44 -> 1355 | B44: 3209536 | C44: =IF(ISNA(VLOOKUP(B44,'[2]Base de donnée de Pièce'!$C$8:$H$243,2)),"",(VLOOKUP(B44,'[2]Base de donnée de Pièce'!$C$8:$H$243,2))) -> Bornier à 2 raccordement mise à la terre PT 2,5-PE | G44: 25 | H44: =IF(ISNA(VLOOKUP(B44,'[2]Base de donnée de Pièce'!$C$8:$H$243,6)),"",VLOOKUP(B44,'[2]Base de donnée de Pièce'!$C$8:$H$243,6)) -> 2.96 | J44: =IF(ISNA(VLOOKUP(B44,'[2]Base de donnée de Pièce'!$C$8:$H$243,5)),"",VLOOKUP(B44,'[2]Base de donnée de Pièce'!$C$8:$H$243,5)) -> UN | K44: =IF(ISNA(IF(J44="CT",(H44/100)*G44,IF(J44="UN",(H44/1)*G44,IF(J44="M",(H44/1000)*G44,IF(J44="D",(H44/10)*G44,""))))),"",IF(J44="CT",(H44/100)*G44,IF(J44="UN",(H44/1)*G44,IF(J44="M",(H44/1000)*G44,IF(J44="D",(H44/10)*G44,""))))) -> 74 | L44: 1355 | M44: -INV
A45: =L45 -> 1355 | B45: 3209578 | C45: =IF(ISNA(VLOOKUP(B45,'[2]Base de donnée de Pièce'!$C$8:$H$243,2)),"",(VLOOKUP(B45,'[2]Base de donnée de Pièce'!$C$8:$H$243,2))) -> Bornier à 4 raccordements PT 2,5 | G45: 50 | H45: =IF(ISNA(VLOOKUP(B45,'[2]Base de donnée de Pièce'!$C$8:$H$243,6)),"",VLOOKUP(B45,'[2]Base de donnée de Pièce'!$C$8:$H$243,6)) -> 1.61 | J45: =IF(ISNA(VLOOKUP(B45,'[2]Base de donnée de Pièce'!$C$8:$H$243,5)),"",VLOOKUP(B45,'[2]Base de donnée de Pièce'!$C$8:$H$243,5)) -> UN | K45: =IF(ISNA(IF(J45="CT",(H45/100)*G45,IF(J45="UN",(H45/1)*G45,IF(J45="M",(H45/1000)*G45,IF(J45="D",(H45/10)*G45,""))))),"",IF(J45="CT",(H45/100)*G45,IF(J45="UN",(H45/1)*G45,IF(J45="M",(H45/1000)*G45,IF(J45="D",(H45/10)*G45,""))))) -> 80.5 | L45: 1355 | M45: -INV
A46: =L46 -> 1355 | B46: 3210499 | C46: =IF(ISNA(VLOOKUP(B46,'[2]Base de donnée de Pièce'!$C$8:$H$243,2)),"",(VLOOKUP(B46,'[2]Base de donnée de Pièce'!$C$8:$H$243,2))) -> Bornier 3 étages à 2 raccordements par étage PT 2,5 | G46: 50 | H46: =IF(ISNA(VLOOKUP(B46,'[2]Base de donnée de Pièce'!$C$8:$H$243,6)),"",VLOOKUP(B46,'[2]Base de donnée de Pièce'!$C$8:$H$243,6)) -> 4.1 | J46: =IF(ISNA(VLOOKUP(B46,'[2]Base de donnée de Pièce'!$C$8:$H$243,5)),"",VLOOKUP(B46,'[2]Base de donnée de Pièce'!$C$8:$H$243,5)) -> UN | K46: =IF(ISNA(IF(J46="CT",(H46/100)*G46,IF(J46="UN",(H46/1)*G46,IF(J46="M",(H46/1000)*G46,IF(J46="D",(H46/10)*G46,""))))),"",IF(J46="CT",(H46/100)*G46,IF(J46="UN",(H46/1)*G46,IF(J46="M",(H46/1000)*G46,IF(J46="D",(H46/10)*G46,""))))) -> 205 | L46: 1355 | M46: -INV
A47: =L47 -> 1355 | B47: 3211647 | C47: =IF(ISNA(VLOOKUP(B47,'[2]Base de donnée de Pièce'!$C$8:$H$243,2)),"",(VLOOKUP(B47,'[2]Base de donnée de Pièce'!$C$8:$H$243,2))) -> Flasque de fermeture 3 étages à 2 raccordementd PT 2,5 | G47: 10 | H47: =IF(ISNA(VLOOKUP(B47,'[2]Base de donnée de Pièce'!$C$8:$H$243,6)),"",VLOOKUP(B47,'[2]Base de donnée de Pièce'!$C$8:$H$243,6)) -> 0.85 | J47: =IF(ISNA(VLOOKUP(B47,'[2]Base de donnée de Pièce'!$C$8:$H$243,5)),"",VLOOKUP(B47,'[2]Base de donnée de Pièce'!$C$8:$H$243,5)) -> UN | K47: =IF(ISNA(IF(J47="CT",(H47/100)*G47,IF(J47="UN",(H47/1)*G47,IF(J47="M",(H47/1000)*G47,IF(J47="D",(H47/10)*G47,""))))),"",IF(J47="CT",(H47/100)*G47,IF(J47="UN",(H47/1)*G47,IF(J47="M",(H47/1000)*G47,IF(J47="D",(H47/10)*G47,""))))) -> 8.5 | L47: 1355 | M47: -INV
A48: =L48 -> 1355 | B48: 3211757 | C48: =IF(ISNA(VLOOKUP(B48,'[2]Base de donnée de Pièce'!$C$8:$H$243,2)),"",(VLOOKUP(B48,'[2]Base de donnée de Pièce'!$C$8:$H$243,2))) -> Bornier à 2 raccordements PT 4 | G48: 50 | H48: =IF(ISNA(VLOOKUP(B48,'[2]Base de donnée de Pièce'!$C$8:$H$243,6)),"",VLOOKUP(B48,'[2]Base de donnée de Pièce'!$C$8:$H$243,6)) -> 0.94 | J48: =IF(ISNA(VLOOKUP(B48,'[2]Base de donnée de Pièce'!$C$8:$H$243,5)),"",VLOOKUP(B48,'[2]Base de donnée de Pièce'!$C$8:$H$243,5)) -> UN | K48: =IF(ISNA(IF(J48="CT",(H48/100)*G48,IF(J48="UN",(H48/1)*G48,IF(J48="M",(H48/1000)*G48,IF(J48="D",(H48/10)*G48,""))))),"",IF(J48="CT",(H48/100)*G48,IF(J48="UN",(H48/1)*G48,IF(J48="M",(H48/1000)*G48,IF(J48="D",(H48/10)*G48,""))))) -> 47 | L48: 1355 | M48: -INV
A49: =L49 -> 1355 | B49: 3211776 | C49: =IF(ISNA(VLOOKUP(B49,'[2]Base de donnée de Pièce'!$C$8:$H$243,2)),"",(VLOOKUP(B49,'[2]Base de donnée de Pièce'!$C$8:$H$243,2))) -> Bornier à 2 raccordement mise à la terre PT 4-PE | G49: 25 | H49: =IF(ISNA(VLOOKUP(B49,'[2]Base de donnée de Pièce'!$C$8:$H$243,6)),"",VLOOKUP(B49,'[2]Base de donnée de Pièce'!$C$8:$H$243,6)) -> 4.09 | J49: =IF(ISNA(VLOOKUP(B49,'[2]Base de donnée de Pièce'!$C$8:$H$243,5)),"",VLOOKUP(B49,'[2]Base de donnée de Pièce'!$C$8:$H$243,5)) -> UN | K49: =IF(ISNA(IF(J49="CT",(H49/100)*G49,IF(J49="UN",(H49/1)*G49,IF(J49="M",(H49/1000)*G49,IF(J49="D",(H49/10)*G49,""))))),"",IF(J49="CT",(H49/100)*G49,IF(J49="UN",(H49/1)*G49,IF(J49="M",(H49/1000)*G49,IF(J49="D",(H49/10)*G49,""))))) -> 102.25 | L49: 1355 | M49: -INV
A50: =L50 -> 1355 | B50: 3213056 | C50: =IF(ISNA(VLOOKUP(B50,'[2]Base de donnée de Pièce'!$C$8:$H$243,2)),"",(VLOOKUP(B50,'[2]Base de donnée de Pièce'!$C$8:$H$243,2))) -> Cavalier de jonction rouge pour bornier senseur FBS 10-3,5 | G50: 10 | H50: =IF(ISNA(VLOOKUP(B50,'[2]Base de donnée de Pièce'!$C$8:$H$243,6)),"",VLOOKUP(B50,'[2]Base de donnée de Pièce'!$C$8:$H$243,6)) -> 4 | J50: =IF(ISNA(VLOOKUP(B50,'[2]Base de donnée de Pièce'!$C$8:$H$243,5)),"",VLOOKUP(B50,'[2]Base de donnée de Pièce'!$C$8:$H$243,5)) -> UN | K50: =IF(ISNA(IF(J50="CT",(H50/100)*G50,IF(J50="UN",(H50/1)*G50,IF(J50="M",(H50/1000)*G50,IF(J50="D",(H50/10)*G50,""))))),"",IF(J50="CT",(H50/100)*G50,IF(J50="UN",(H50/1)*G50,IF(J50="M",(H50/1000)*G50,IF(J50="D",(H50/10)*G50,""))))) -> 40 | L50: 1355 | M50: -INV
A51: =L51 -> 1355 | B51: 3213125 | C51: =IF(ISNA(VLOOKUP(B51,'[2]Base de donnée de Pièce'!$C$8:$H$243,2)),"",(VLOOKUP(B51,'[2]Base de donnée de Pièce'!$C$8:$H$243,2))) -> Cavalier de jonction bleu pour bornier senseur FBS 10-3,5 BU | G51: 10 | H51: =IF(ISNA(VLOOKUP(B51,'[2]Base de donnée de Pièce'!$C$8:$H$243,6)),"",VLOOKUP(B51,'[2]Base de donnée de Pièce'!$C$8:$H$243,6)) -> 4 | J51: =IF(ISNA(VLOOKUP(B51,'[2]Base de donnée de Pièce'!$C$8:$H$243,5)),"",VLOOKUP(B51,'[2]Base de donnée de Pièce'!$C$8:$H$243,5)) -> UN | K51: =IF(ISNA(IF(J51="CT",(H51/100)*G51,IF(J51="UN",(H51/1)*G51,IF(J51="M",(H51/1000)*G51,IF(J51="D",(H51/10)*G51,""))))),"",IF(J51="CT",(H51/100)*G51,IF(J51="UN",(H51/1)*G51,IF(J51="M",(H51/1000)*G51,IF(J51="D",(H51/10)*G51,""))))) -> 40 | L51: 1355 | M51: -INV
A52: =L52 -> 1355 | B52: 3240197 | C52: =IF(ISNA(VLOOKUP(B52,'[2]Base de donnée de Pièce'!$C$8:$H$243,2)),"",(VLOOKUP(B52,'[2]Base de donnée de Pièce'!$C$8:$H$243,2))) -> Goulotte CD 25x80 | G52: 2 | H52: =IF(ISNA(VLOOKUP(B52,'[2]Base de donnée de Pièce'!$C$8:$H$243,6)),"",VLOOKUP(B52,'[2]Base de donnée de Pièce'!$C$8:$H$243,6)) -> 9.62 | J52: =IF(ISNA(VLOOKUP(B52,'[2]Base de donnée de Pièce'!$C$8:$H$243,5)),"",VLOOKUP(B52,'[2]Base de donnée de Pièce'!$C$8:$H$243,5)) -> UN | K52: =IF(ISNA(IF(J52="CT",(H52/100)*G52,IF(J52="UN",(H52/1)*G52,IF(J52="M",(H52/1000)*G52,IF(J52="D",(H52/10)*G52,""))))),"",IF(J52="CT",(H52/100)*G52,IF(J52="UN",(H52/1)*G52,IF(J52="M",(H52/1000)*G52,IF(J52="D",(H52/10)*G52,""))))) -> 19.24 | L52: 1355 | M52: -INV
... A55: =L55 -> 1355 | B55: 3244575 | C55: =IF(ISNA(VLOOKUP(B55,'[2]Base de donnée de Pièce'!$C$8:$H$243,2)),"",(VLOOKUP(B55,'[2]Base de donnée de Pièce'!$C$8:$H$243,2))) -> Flasque de fermeture pour bornier senseur D-PTIO 1,5/S/3 | G55: 10 | H55: =IF(ISNA(VLOOKUP(B55,'[2]Base de donnée de Pièce'!$C$8:$H$243,6)),"",VLOOKUP(B55,'[2]Base de donnée de Pièce'!$C$8:$H$243,6)) -> 0.6 | J55: =IF(ISNA(VLOOKUP(B55,'[2]Base de donnée de Pièce'!$C$8:$H$243,5)),"",VLOOKUP(B55,'[2]Base de donnée de Pièce'!$C$8:$H$243,5)) -> UN | K55: =IF(ISNA(IF(J55="CT",(H55/100)*G55,IF(J55="UN",(H55/1)*G55,IF(J55="M",(H55/1000)*G55,IF(J55="D",(H55/10)*G55,""))))),"",IF(J55="CT",(H55/100)*G55,IF(J55="UN",(H55/1)*G55,IF(J55="M",(H55/1000)*G55,IF(J55="D",(H55/10)*G55,""))))) -> 6 | L55: 1355 | M55: -INV
A56: =L56 -> 1356 | B56: 3022218 | C56: =IF(ISNA(VLOOKUP(B56,'[2]Base de donnée de Pièce'!$C$8:$I$243,2)),"",(VLOOKUP(B56,'[2]Base de donnée de Pièce'!$C$8:$I$243,2))) -> Équerre de blocage Clipfix 35 | G56: 24 | H56: =IF(ISNA(VLOOKUP(B56,'[2]Base de donnée de Pièce'!$C$8:$I$243,6)),"",VLOOKUP(B56,'[2]Base de donnée de Pièce'!$C$8:$I$243,6)) -> 0.6 | J56: =IF(ISNA(VLOOKUP(B56,'[2]Base de donnée de Pièce'!$C$8:$I$243,5)),"",VLOOKUP(B56,'[2]Base de donnée de Pièce'!$C$8:$I$243,5)) -> UN | K56: =IF(ISNA(IF(J56="CT",(H56/100)*G56,IF(J56="UN",(H56/1)*G56,IF(J56="M",(H56/1000)*G56,IF(J56="D",(H56/10)*G56,""))))),"",IF(J56="CT",(H56/100)*G56,IF(J56="UN",(H56/1)*G56,IF(J56="M",(H56/1000)*G56,IF(J56="D",(H56/10)*G56,""))))) -> 14.4 | L56: 1356 | M56: -INV
A57: =L57 -> 1356 | B57: 0811969 | C57: =IF(ISNA(VLOOKUP(B57,'[2]Base de donnée de Pièce'!$C$8:$H$243,2)),"",(VLOOKUP(B57,'[2]Base de donnée de Pièce'!$C$8:$H$243,2))) -> Identification sur équerre de blocage KLM 3 | G57: 10 | H57: =IF(ISNA(VLOOKUP(B57,'[2]Base de donnée de Pièce'!$C$8:$H$243,6)),"",VLOOKUP(B57,'[2]Base de donnée de Pièce'!$C$8:$H$243,6)) -> 0.36 | J57: =IF(ISNA(VLOOKUP(B57,'[2]Base de donnée de Pièce'!$C$8:$H$243,5)),"",VLOOKUP(B57,'[2]Base de donnée de Pièce'!$C$8:$H$243,5)) -> UN | K57: =IF(ISNA(IF(J57="CT",(H57/100)*G57,IF(J57="UN",(H57/1)*G57,IF(J57="M",(H57/1000)*G57,IF(J57="D",(H57/10)*G57,""))))),"",IF(J57="CT",(H57/100)*G57,IF(J57="UN",(H57/1)*G57,IF(J57="M",(H57/1000)*G57,IF(J57="D",(H57/10)*G57,""))))) -> 3.6 | L57: 1356 | M57: -INV
A58: =L58 -> 1356 | B58: 3030417 | C58: =IF(ISNA(VLOOKUP(B58,'[2]Base de donnée de Pièce'!$C$8:$H$243,2)),"",(VLOOKUP(B58,'[2]Base de donnée de Pièce'!$C$8:$H$243,2))) -> Flasque de fermeture 2 raccordements D-ST 2,5 | G58: 9 | H58: =IF(ISNA(VLOOKUP(B58,'[2]Base de donnée de Pièce'!$C$8:$H$243,6)),"",VLOOKUP(B58,'[2]Base de donnée de Pièce'!$C$8:$H$243,6)) -> 0.48 | J58: =IF(ISNA(VLOOKUP(B58,'[2]Base de donnée de Pièce'!$C$8:$H$243,5)),"",VLOOKUP(B58,'[2]Base de donnée de Pièce'!$C$8:$H$243,5)) -> UN | K58: =IF(ISNA(IF(J58="CT",(H58/100)*G58,IF(J58="UN",(H58/1)*G58,IF(J58="M",(H58/1000)*G58,IF(J58="D",(H58/10)*G58,""))))),"",IF(J58="CT",(H58/100)*G58,IF(J58="UN",(H58/1)*G58,IF(J58="M",(H58/1000)*G58,IF(J58="D",(H58/10)*G58,""))))) -> 4.32 | L58: 1356 | M58: -INV
A59: =L59 -> 1356 | B59: 3030514 | C59: =IF(ISNA(VLOOKUP(B59,'[2]Base de donnée de Pièce'!$C$8:$H$243,2)),"",(VLOOKUP(B59,'[2]Base de donnée de Pièce'!$C$8:$H$243,2))) -> Flasque de fermeture 4 raccordements PT 2,5 | G59: 10 | H59: =IF(ISNA(VLOOKUP(B59,'[2]Base de donnée de Pièce'!$C$8:$H$243,6)),"",VLOOKUP(B59,'[2]Base de donnée de Pièce'!$C$8:$H$243,6)) -> 0.5 | J59: =IF(ISNA(VLOOKUP(B59,'[2]Base de donnée de Pièce'!$C$8:$H$243,5)),"",VLOOKUP(B59,'[2]Base de donnée de Pièce'!$C$8:$H$243,5)) -> UN | K59: =IF(ISNA(IF(J59="CT",(H59/100)*G59,IF(J59="UN",(H59/1)*G59,IF(J59="M",(H59/1000)*G59,IF(J59="D",(H59/10)*G59,""))))),"",IF(J59="CT",(H59/100)*G59,IF(J59="UN",(H59/1)*G59,IF(J59="M",(H59/1000)*G59,IF(J59="D",(H59/10)*G59,""))))) -> 5 | L59: 1356 | M59: -INV
A60: =L60 -> 1356 | B60: 3209536 | C60: =IF(ISNA(VLOOKUP(B60,'[2]Base de donnée de Pièce'!$C$8:$H$243,2)),"",(VLOOKUP(B60,'[2]Base de donnée de Pièce'!$C$8:$H$243,2))) -> Bornier à 2 raccordement mise à la terre PT 2,5-PE | G60: 25 | H60: =IF(ISNA(VLOOKUP(B60,'[2]Base de donnée de Pièce'!$C$8:$H$243,6)),"",VLOOKUP(B60,'[2]Base de donnée de Pièce'!$C$8:$H$243,6)) -> 2.96 | J60: =IF(ISNA(VLOOKUP(B60,'[2]Base de donnée de Pièce'!$C$8:$H$243,5)),"",VLOOKUP(B60,'[2]Base de donnée de Pièce'!$C$8:$H$243,5)) -> UN | K60: =IF(ISNA(IF(J60="CT",(H60/100)*G60,IF(J60="UN",(H60/1)*G60,IF(J60="M",(H60/1000)*G60,IF(J60="D",(H60/10)*G60,""))))),"",IF(J60="CT",(H60/100)*G60,IF(J60="UN",(H60/1)*G60,IF(J60="M",(H60/1000)*G60,IF(J60="D",(H60/10)*G60,""))))) -> 74 | L60: 1356 | M60: -INV
A61: =L61 -> 1356 | B61: 3209578 | C61: =IF(ISNA(VLOOKUP(B61,'[2]Base de donnée de Pièce'!$C$8:$H$243,2)),"",(VLOOKUP(B61,'[2]Base de donnée de Pièce'!$C$8:$H$243,2))) -> Bornier à 4 raccordements PT 2,5 | G61: 50 | H61: =IF(ISNA(VLOOKUP(B61,'[2]Base de donnée de Pièce'!$C$8:$H$243,6)),"",VLOOKUP(B61,'[2]Base de donnée de Pièce'!$C$8:$H$243,6)) -> 1.61 | J61: =IF(ISNA(VLOOKUP(B61,'[2]Base de donnée de Pièce'!$C$8:$H$243,5)),"",VLOOKUP(B61,'[2]Base de donnée de Pièce'!$C$8:$H$243,5)) -> UN | K61: =IF(ISNA(IF(J61="CT",(H61/100)*G61,IF(J61="UN",(H61/1)*G61,IF(J61="M",(H61/1000)*G61,IF(J61="D",(H61/10)*G61,""))))),"",IF(J61="CT",(H61/100)*G61,IF(J61="UN",(H61/1)*G61,IF(J61="M",(H61/1000)*G61,IF(J61="D",(H61/10)*G61,""))))) -> 80.5 | L61: 1356 | M61: -INV
A62: =L62 -> 1356 | B62: 3210499 | C62: =IF(ISNA(VLOOKUP(B62,'[2]Base de donnée de Pièce'!$C$8:$H$243,2)),"",(VLOOKUP(B62,'[2]Base de donnée de Pièce'!$C$8:$H$243,2))) -> Bornier 3 étages à 2 raccordements par étage PT 2,5 | G62: 50 | H62: =IF(ISNA(VLOOKUP(B62,'[2]Base de donnée de Pièce'!$C$8:$H$243,6)),"",VLOOKUP(B62,'[2]Base de donnée de Pièce'!$C$8:$H$243,6)) -> 4.1 | J62: =IF(ISNA(VLOOKUP(B62,'[2]Base de donnée de Pièce'!$C$8:$H$243,5)),"",VLOOKUP(B62,'[2]Base de donnée de Pièce'!$C$8:$H$243,5)) -> UN | K62: =IF(ISNA(IF(J62="CT",(H62/100)*G62,IF(J62="UN",(H62/1)*G62,IF(J62="M",(H62/1000)*G62,IF(J62="D",(H62/10)*G62,""))))),"",IF(J62="CT",(H62/100)*G62,IF(J62="UN",(H62/1)*G62,IF(J62="M",(H62/1000)*G62,IF(J62="D",(H62/10)*G62,""))))) -> 205 | L62: 1356 | M62: -INV
A63: =L63 -> 1356 | B63: 3211647 | C63: =IF(ISNA(VLOOKUP(B63,'[2]Base de donnée de Pièce'!$C$8:$H$243,2)),"",(VLOOKUP(B63,'[2]Base de donnée de Pièce'!$C$8:$H$243,2))) -> Flasque de fermeture 3 étages à 2 raccordementd PT 2,5 | G63: 10 | H63: =IF(ISNA(VLOOKUP(B63,'[2]Base de donnée de Pièce'!$C$8:$H$243,6)),"",VLOOKUP(B63,'[2]Base de donnée de Pièce'!$C$8:$H$243,6)) -> 0.85 | J63: =IF(ISNA(VLOOKUP(B63,'[2]Base de donnée de Pièce'!$C$8:$H$243,5)),"",VLOOKUP(B63,'[2]Base de donnée de Pièce'!$C$8:$H$243,5)) -> UN | K63: =IF(ISNA(IF(J63="CT",(H63/100)*G63,IF(J63="UN",(H63/1)*G63,IF(J63="M",(H63/1000)*G63,IF(J63="D",(H63/10)*G63,""))))),"",IF(J63="CT",(H63/100)*G63,IF(J63="UN",(H63/1)*G63,IF(J63="M",(H63/1000)*G63,IF(J63="D",(H63/10)*G63,""))))) -> 8.5 | L63: 1356 | M63: -INV
A64: =L64 -> 1356 | B64: 3211757 | C64: =IF(ISNA(VLOOKUP(B64,'[2]Base de donnée de Pièce'!$C$8:$H$243,2)),"",(VLOOKUP(B64,'[2]Base de donnée de Pièce'!$C$8:$H$243,2))) -> Bornier à 2 raccordements PT 4 | G64: 50 | H64: =IF(ISNA(VLOOKUP(B64,'[2]Base de donnée de Pièce'!$C$8:$H$243,6)),"",VLOOKUP(B64,'[2]Base de donnée de Pièce'!$C$8:$H$243,6)) -> 0.94 | J64: =IF(ISNA(VLOOKUP(B64,'[2]Base de donnée de Pièce'!$C$8:$H$243,5)),"",VLOOKUP(B64,'[2]Base de donnée de Pièce'!$C$8:$H$243,5)) -> UN | K64: =IF(ISNA(IF(J64="CT",(H64/100)*G64,IF(J64="UN",(H64/1)*G64,IF(J64="M",(H64/1000)*G64,IF(J64="D",(H64/10)*G64,""))))),"",IF(J64="CT",(H64/100)*G64,IF(J64="UN",(H64/1)*G64,IF(J64="M",(H64/1000)*G64,IF(J64="D",(H64/10)*G64,""))))) -> 47 | L64: 1356 | M64: -INV
A65: =L65 -> 1356 | B65: 3211776 | C65: =IF(ISNA(VLOOKUP(B65,'[2]Base de donnée de Pièce'!$C$8:$H$243,2)),"",(VLOOKUP(B65,'[2]Base de donnée de Pièce'!$C$8:$H$243,2))) -> Bornier à 2 raccordement mise à la terre PT 4-PE | G65: 25 | H65: =IF(ISNA(VLOOKUP(B65,'[2]Base de donnée de Pièce'!$C$8:$H$243,6)),"",VLOOKUP(B65,'[2]Base de donnée de Pièce'!$C$8:$H$243,6)) -> 4.09 | J65: =IF(ISNA(VLOOKUP(B65,'[2]Base de donnée de Pièce'!$C$8:$H$243,5)),"",VLOOKUP(B65,'[2]Base de donnée de Pièce'!$C$8:$H$243,5)) -> UN | K65: =IF(ISNA(IF(J65="CT",(H65/100)*G65,IF(J65="UN",(H65/1)*G65,IF(J65="M",(H65/1000)*G65,IF(J65="D",(H65/10)*G65,""))))),"",IF(J65="CT",(H65/100)*G65,IF(J65="UN",(H65/1)*G65,IF(J65="M",(H65/1000)*G65,IF(J65="D",(H65/10)*G65,""))))) -> 102.25 | L65: 1356 | M65: -INV
A66: =L66 -> 1356 | B66: 3213056 | C66: =IF(ISNA(VLOOKUP(B66,'[2]Base de donnée de Pièce'!$C$8:$H$243,2)),"",(VLOOKUP(B66,'[2]Base de donnée de Pièce'!$C$8:$H$243,2))) -> Cavalier de jonction rouge pour bornier senseur FBS 10-3,5 | G66: 10 | H66: =IF(ISNA(VLOOKUP(B66,'[2]Base de donnée de Pièce'!$C$8:$H$243,6)),"",VLOOKUP(B66,'[2]Base de donnée de Pièce'!$C$8:$H$243,6)) -> 4 | J66: =IF(ISNA(VLOOKUP(B66,'[2]Base de donnée de Pièce'!$C$8:$H$243,5)),"",VLOOKUP(B66,'[2]Base de donnée de Pièce'!$C$8:$H$243,5)) -> UN | K66: =IF(ISNA(IF(J66="CT",(H66/100)*G66,IF(J66="UN",(H66/1)*G66,IF(J66="M",(H66/1000)*G66,IF(J66="D",(H66/10)*G66,""))))),"",IF(J66="CT",(H66/100)*G66,IF(J66="UN",(H66/1)*G66,IF(J66="M",(H66/1000)*G66,IF(J66="D",(H66/10)*G66,""))))) -> 40 | L66: 1356 | M66: -INV
A67: =L67 -> 1356 | B67: 3213125 | C67: =IF(ISNA(VLOOKUP(B67,'[2]Base de donnée de Pièce'!$C$8:$H$243,2)),"",(VLOOKUP(B67,'[2]Base de donnée de Pièce'!$C$8:$H$243,2))) -> Cavalier de jonction bleu pour bornier senseur FBS 10-3,5 BU | G67: 10 | H67: =IF(ISNA(VLOOKUP(B67,'[2]Base de donnée de Pièce'!$C$8:$H$243,6)),"",VLOOKUP(B67,'[2]Base de donnée de Pièce'!$C$8:$H$243,6)) -> 4 | J67: =IF(ISNA(VLOOKUP(B67,'[2]Base de donnée de Pièce'!$C$8:$H$243,5)),"",VLOOKUP(B67,'[2]Base de donnée de Pièce'!$C$8:$H$243,5)) -> UN | K67: =IF(ISNA(IF(J67="CT",(H67/100)*G67,IF(J67="UN",(H67/1)*G67,IF(J67="M",(H67/1000)*G67,IF(J67="D",(H67/10)*G67,""))))),"",IF(J67="CT",(H67/100)*G67,IF(J67="UN",(H67/1)*G67,IF(J67="M",(H67/1000)*G67,IF(J67="D",(H67/10)*G67,""))))) -> 40 | L67: 1356 | M67: -INV
A68: =L68 -> 1356 | B68: 3240197 | C68: =IF(ISNA(VLOOKUP(B68,'[2]Base de donnée de Pièce'!$C$8:$H$243,2)),"",(VLOOKUP(B68,'[2]Base de donnée de Pièce'!$C$8:$H$243,2))) -> Goulotte CD 25x80 | G68: 2 | H68: =IF(ISNA(VLOOKUP(B68,'[2]Base de donnée de Pièce'!$C$8:$H$243,6)),"",VLOOKUP(B68,'[2]Base de donnée de Pièce'!$C$8:$H$243,6)) -> 9.62 | J68: =IF(ISNA(VLOOKUP(B68,'[2]Base de donnée de Pièce'!$C$8:$H$243,5)),"",VLOOKUP(B68,'[2]Base de donnée de Pièce'!$C$8:$H$243,5)) -> UN | K68: =IF(ISNA(IF(J68="CT",(H68/100)*G68,IF(J68="UN",(H68/1)*G68,IF(J68="M",(H68/1000)*G68,IF(J68="D",(H68/10)*G68,""))))),"",IF(J68="CT",(H68/100)*G68,IF(J68="UN",(H68/1)*G68,IF(J68="M",(H68/1000)*G68,IF(J68="D",(H68/10)*G68,""))))) -> 19.24 | L68: 1356 | M68: -INV
... A71: =L71 -> 1356 | B71: 3244575 | C71: =IF(ISNA(VLOOKUP(B71,'[2]Base de donnée de Pièce'!$C$8:$H$243,2)),"",(VLOOKUP(B71,'[2]Base de donnée de Pièce'!$C$8:$H$243,2))) -> Flasque de fermeture pour bornier senseur D-PTIO 1,5/S/3 | G71: 10 | H71: =IF(ISNA(VLOOKUP(B71,'[2]Base de donnée de Pièce'!$C$8:$H$243,6)),"",VLOOKUP(B71,'[2]Base de donnée de Pièce'!$C$8:$H$243,6)) -> 0.6 | J71: =IF(ISNA(VLOOKUP(B71,'[2]Base de donnée de Pièce'!$C$8:$H$243,5)),"",VLOOKUP(B71,'[2]Base de donnée de Pièce'!$C$8:$H$243,5)) -> UN | K71: =IF(ISNA(IF(J71="CT",(H71/100)*G71,IF(J71="UN",(H71/1)*G71,IF(J71="M",(H71/1000)*G71,IF(J71="D",(H71/10)*G71,""))))),"",IF(J71="CT",(H71/100)*G71,IF(J71="UN",(H71/1)*G71,IF(J71="M",(H71/1000)*G71,IF(J71="D",(H71/10)*G71,""))))) -> 6 | L71: 1356 | M71: -INV
A72: =L72 -> 1357 | B72: 3022218 | C72: =IF(ISNA(VLOOKUP(B72,'[2]Base de donnée de Pièce'!$C$8:$I$243,2)),"",(VLOOKUP(B72,'[2]Base de donnée de Pièce'!$C$8:$I$243,2))) -> Équerre de blocage Clipfix 35 | G72: 24 | H72: =IF(ISNA(VLOOKUP(B72,'[2]Base de donnée de Pièce'!$C$8:$I$243,6)),"",VLOOKUP(B72,'[2]Base de donnée de Pièce'!$C$8:$I$243,6)) -> 0.6 | J72: =IF(ISNA(VLOOKUP(B72,'[2]Base de donnée de Pièce'!$C$8:$I$243,5)),"",VLOOKUP(B72,'[2]Base de donnée de Pièce'!$C$8:$I$243,5)) -> UN | K72: =IF(ISNA(IF(J72="CT",(H72/100)*G72,IF(J72="UN",(H72/1)*G72,IF(J72="M",(H72/1000)*G72,IF(J72="D",(H72/10)*G72,""))))),"",IF(J72="CT",(H72/100)*G72,IF(J72="UN",(H72/1)*G72,IF(J72="M",(H72/1000)*G72,IF(J72="D",(H72/10)*G72,""))))) -> 14.4 | L72: 1357 | M72: -INV
A73: =L73 -> 1357 | B73: 0811969 | C73: =IF(ISNA(VLOOKUP(B73,'[2]Base de donnée de Pièce'!$C$8:$H$243,2)),"",(VLOOKUP(B73,'[2]Base de donnée de Pièce'!$C$8:$H$243,2))) -> Identification sur équerre de blocage KLM 3 | G73: 10 | H73: =IF(ISNA(VLOOKUP(B73,'[2]Base de donnée de Pièce'!$C$8:$H$243,6)),"",VLOOKUP(B73,'[2]Base de donnée de Pièce'!$C$8:$H$243,6)) -> 0.36 | J73: =IF(ISNA(VLOOKUP(B73,'[2]Base de donnée de Pièce'!$C$8:$H$243,5)),"",VLOOKUP(B73,'[2]Base de donnée de Pièce'!$C$8:$H$243,5)) -> UN | K73: =IF(ISNA(IF(J73="CT",(H73/100)*G73,IF(J73="UN",(H73/1)*G73,IF(J73="M",(H73/1000)*G73,IF(J73="D",(H73/10)*G73,""))))),"",IF(J73="CT",(H73/100)*G73,IF(J73="UN",(H73/1)*G73,IF(J73="M",(H73/1000)*G73,IF(J73="D",(H73/10)*G73,""))))) -> 3.6 | L73: 1357 | M73: -INV
A74: =L74 -> 1357 | B74: 3030417 | C74: =IF(ISNA(VLOOKUP(B74,'[2]Base de donnée de Pièce'!$C$8:$H$243,2)),"",(VLOOKUP(B74,'[2]Base de donnée de Pièce'!$C$8:$H$243,2))) -> Flasque de fermeture 2 raccordements D-ST 2,5 | G74: 9 | H74: =IF(ISNA(VLOOKUP(B74,'[2]Base de donnée de Pièce'!$C$8:$H$243,6)),"",VLOOKUP(B74,'[2]Base de donnée de Pièce'!$C$8:$H$243,6)) -> 0.48 | J74: =IF(ISNA(VLOOKUP(B74,'[2]Base de donnée de Pièce'!$C$8:$H$243,5)),"",VLOOKUP(B74,'[2]Base de donnée de Pièce'!$C$8:$H$243,5)) -> UN | K74: =IF(ISNA(IF(J74="CT",(H74/100)*G74,IF(J74="UN",(H74/1)*G74,IF(J74="M",(H74/1000)*G74,IF(J74="D",(H74/10)*G74,""))))),"",IF(J74="CT",(H74/100)*G74,IF(J74="UN",(H74/1)*G74,IF(J74="M",(H74/1000)*G74,IF(J74="D",(H74/10)*G74,""))))) -> 4.32 | L74: 1357 | M74: -INV
A75: =L75 -> 1357 | B75: 3030514 | C75: =IF(ISNA(VLOOKUP(B75,'[2]Base de donnée de Pièce'!$C$8:$H$243,2)),"",(VLOOKUP(B75,'[2]Base de donnée de Pièce'!$C$8:$H$243,2))) -> Flasque de fermeture 4 raccordements PT 2,5 | G75: 10 | H75: =IF(ISNA(VLOOKUP(B75,'[2]Base de donnée de Pièce'!$C$8:$H$243,6)),"",VLOOKUP(B75,'[2]Base de donnée de Pièce'!$C$8:$H$243,6)) -> 0.5 | J75: =IF(ISNA(VLOOKUP(B75,'[2]Base de donnée de Pièce'!$C$8:$H$243,5)),"",VLOOKUP(B75,'[2]Base de donnée de Pièce'!$C$8:$H$243,5)) -> UN | K75: =IF(ISNA(IF(J75="CT",(H75/100)*G75,IF(J75="UN",(H75/1)*G75,IF(J75="M",(H75/1000)*G75,IF(J75="D",(H75/10)*G75,""))))),"",IF(J75="CT",(H75/100)*G75,IF(J75="UN",(H75/1)*G75,IF(J75="M",(H75/1000)*G75,IF(J75="D",(H75/10)*G75,""))))) -> 5 | L75: 1357 | M75: -INV
A76: =L76 -> 1357 | B76: 3209536 | C76: =IF(ISNA(VLOOKUP(B76,'[2]Base de donnée de Pièce'!$C$8:$H$243,2)),"",(VLOOKUP(B76,'[2]Base de donnée de Pièce'!$C$8:$H$243,2))) -> Bornier à 2 raccordement mise à la terre PT 2,5-PE | G76: 25 | H76: =IF(ISNA(VLOOKUP(B76,'[2]Base de donnée de Pièce'!$C$8:$H$243,6)),"",VLOOKUP(B76,'[2]Base de donnée de Pièce'!$C$8:$H$243,6)) -> 2.96 | J76: =IF(ISNA(VLOOKUP(B76,'[2]Base de donnée de Pièce'!$C$8:$H$243,5)),"",VLOOKUP(B76,'[2]Base de donnée de Pièce'!$C$8:$H$243,5)) -> UN | K76: =IF(ISNA(IF(J76="CT",(H76/100)*G76,IF(J76="UN",(H76/1)*G76,IF(J76="M",(H76/1000)*G76,IF(J76="D",(H76/10)*G76,""))))),"",IF(J76="CT",(H76/100)*G76,IF(J76="UN",(H76/1)*G76,IF(J76="M",(H76/1000)*G76,IF(J76="D",(H76/10)*G76,""))))) -> 74 | L76: 1357 | M76: -INV
A77: =L77 -> 1357 | B77: 3209578 | C77: =IF(ISNA(VLOOKUP(B77,'[2]Base de donnée de Pièce'!$C$8:$H$243,2)),"",(VLOOKUP(B77,'[2]Base de donnée de Pièce'!$C$8:$H$243,2))) -> Bornier à 4 raccordements PT 2,5 | G77: 50 | H77: =IF(ISNA(VLOOKUP(B77,'[2]Base de donnée de Pièce'!$C$8:$H$243,6)),"",VLOOKUP(B77,'[2]Base de donnée de Pièce'!$C$8:$H$243,6)) -> 1.61 | J77: =IF(ISNA(VLOOKUP(B77,'[2]Base de donnée de Pièce'!$C$8:$H$243,5)),"",VLOOKUP(B77,'[2]Base de donnée de Pièce'!$C$8:$H$243,5)) -> UN | K77: =IF(ISNA(IF(J77="CT",(H77/100)*G77,IF(J77="UN",(H77/1)*G77,IF(J77="M",(H77/1000)*G77,IF(J77="D",(H77/10)*G77,""))))),"",IF(J77="CT",(H77/100)*G77,IF(J77="UN",(H77/1)*G77,IF(J77="M",(H77/1000)*G77,IF(J77="D",(H77/10)*G77,""))))) -> 80.5 | L77: 1357 | M77: -INV
A78: =L78 -> 1357 | B78: 3210499 | C78: =IF(ISNA(VLOOKUP(B78,'[2]Base de donnée de Pièce'!$C$8:$H$243,2)),"",(VLOOKUP(B78,'[2]Base de donnée de Pièce'!$C$8:$H$243,2))) -> Bornier 3 étages à 2 raccordements par étage PT 2,5 | G78: 50 | H78: =IF(ISNA(VLOOKUP(B78,'[2]Base de donnée de Pièce'!$C$8:$H$243,6)),"",VLOOKUP(B78,'[2]Base de donnée de Pièce'!$C$8:$H$243,6)) -> 4.1 | J78: =IF(ISNA(VLOOKUP(B78,'[2]Base de donnée de Pièce'!$C$8:$H$243,5)),"",VLOOKUP(B78,'[2]Base de donnée de Pièce'!$C$8:$H$243,5)) -> UN | K78: =IF(ISNA(IF(J78="CT",(H78/100)*G78,IF(J78="UN",(H78/1)*G78,IF(J78="M",(H78/1000)*G78,IF(J78="D",(H78/10)*G78,""))))),"",IF(J78="CT",(H78/100)*G78,IF(J78="UN",(H78/1)*G78,IF(J78="M",(H78/1000)*G78,IF(J78="D",(H78/10)*G78,""))))) -> 205 | L78: 1357 | M78: -INV
A79: =L79 -> 1357 | B79: 3211647 | C79: =IF(ISNA(VLOOKUP(B79,'[2]Base de donnée de Pièce'!$C$8:$H$243,2)),"",(VLOOKUP(B79,'[2]Base de donnée de Pièce'!$C$8:$H$243,2))) -> Flasque de fermeture 3 étages à 2 raccordementd PT 2,5 | G79: 10 | H79: =IF(ISNA(VLOOKUP(B79,'[2]Base de donnée de Pièce'!$C$8:$H$243,6)),"",VLOOKUP(B79,'[2]Base de donnée de Pièce'!$C$8:$H$243,6)) -> 0.85 | J79: =IF(ISNA(VLOOKUP(B79,'[2]Base de donnée de Pièce'!$C$8:$H$243,5)),"",VLOOKUP(B79,'[2]Base de donnée de Pièce'!$C$8:$H$243,5)) -> UN | K79: =IF(ISNA(IF(J79="CT",(H79/100)*G79,IF(J79="UN",(H79/1)*G79,IF(J79="M",(H79/1000)*G79,IF(J79="D",(H79/10)*G79,""))))),"",IF(J79="CT",(H79/100)*G79,IF(J79="UN",(H79/1)*G79,IF(J79="M",(H79/1000)*G79,IF(J79="D",(H79/10)*G79,""))))) -> 8.5 | L79: 1357 | M79: -INV
A80: =L80 -> 1357 | B80: 3211757 | C80: =IF(ISNA(VLOOKUP(B80,'[2]Base de donnée de Pièce'!$C$8:$H$243,2)),"",(VLOOKUP(B80,'[2]Base de donnée de Pièce'!$C$8:$H$243,2))) -> Bornier à 2 raccordements PT 4 | G80: 50 | H80: =IF(ISNA(VLOOKUP(B80,'[2]Base de donnée de Pièce'!$C$8:$H$243,6)),"",VLOOKUP(B80,'[2]Base de donnée de Pièce'!$C$8:$H$243,6)) -> 0.94 | J80: =IF(ISNA(VLOOKUP(B80,'[2]Base de donnée de Pièce'!$C$8:$H$243,5)),"",VLOOKUP(B80,'[2]Base de donnée de Pièce'!$C$8:$H$243,5)) -> UN | K80: =IF(ISNA(IF(J80="CT",(H80/100)*G80,IF(J80="UN",(H80/1)*G80,IF(J80="M",(H80/1000)*G80,IF(J80="D",(H80/10)*G80,""))))),"",IF(J80="CT",(H80/100)*G80,IF(J80="UN",(H80/1)*G80,IF(J80="M",(H80/1000)*G80,IF(J80="D",(H80/10)*G80,""))))) -> 47 | L80: 1357 | M80: -INV
A81: =L81 -> 1357 | B81: 3211776 | C81: =IF(ISNA(VLOOKUP(B81,'[2]Base de donnée de Pièce'!$C$8:$H$243,2)),"",(VLOOKUP(B81,'[2]Base de donnée de Pièce'!$C$8:$H$243,2))) -> Bornier à 2 raccordement mise à la terre PT 4-PE | G81: 25 | H81: =IF(ISNA(VLOOKUP(B81,'[2]Base de donnée de Pièce'!$C$8:$H$243,6)),"",VLOOKUP(B81,'[2]Base de donnée de Pièce'!$C$8:$H$243,6)) -> 4.09 | J81: =IF(ISNA(VLOOKUP(B81,'[2]Base de donnée de Pièce'!$C$8:$H$243,5)),"",VLOOKUP(B81,'[2]Base de donnée de Pièce'!$C$8:$H$243,5)) -> UN | K81: =IF(ISNA(IF(J81="CT",(H81/100)*G81,IF(J81="UN",(H81/1)*G81,IF(J81="M",(H81/1000)*G81,IF(J81="D",(H81/10)*G81,""))))),"",IF(J81="CT",(H81/100)*G81,IF(J81="UN",(H81/1)*G81,IF(J81="M",(H81/1000)*G81,IF(J81="D",(H81/10)*G81,""))))) -> 102.25 | L81: 1357 | M81: -INV
A82: =L82 -> 1357 | B82: 3213056 | C82: =IF(ISNA(VLOOKUP(B82,'[2]Base de donnée de Pièce'!$C$8:$H$243,2)),"",(VLOOKUP(B82,'[2]Base de donnée de Pièce'!$C$8:$H$243,2))) -> Cavalier de jonction rouge pour bornier senseur FBS 10-3,5 | G82: 10 | H82: =IF(ISNA(VLOOKUP(B82,'[2]Base de donnée de Pièce'!$C$8:$H$243,6)),"",VLOOKUP(B82,'[2]Base de donnée de Pièce'!$C$8:$H$243,6)) -> 4 | J82: =IF(ISNA(VLOOKUP(B82,'[2]Base de donnée de Pièce'!$C$8:$H$243,5)),"",VLOOKUP(B82,'[2]Base de donnée de Pièce'!$C$8:$H$243,5)) -> UN | K82: =IF(ISNA(IF(J82="CT",(H82/100)*G82,IF(J82="UN",(H82/1)*G82,IF(J82="M",(H82/1000)*G82,IF(J82="D",(H82/10)*G82,""))))),"",IF(J82="CT",(H82/100)*G82,IF(J82="UN",(H82/1)*G82,IF(J82="M",(H82/1000)*G82,IF(J82="D",(H82/10)*G82,""))))) -> 40 | L82: 1357 | M82: -INV
A83: =L83 -> 1357 | B83: 3213125 | C83: =IF(ISNA(VLOOKUP(B83,'[2]Base de donnée de Pièce'!$C$8:$H$243,2)),"",(VLOOKUP(B83,'[2]Base de donnée de Pièce'!$C$8:$H$243,2))) -> Cavalier de jonction bleu pour bornier senseur FBS 10-3,5 BU | G83: 10 | H83: =IF(ISNA(VLOOKUP(B83,'[2]Base de donnée de Pièce'!$C$8:$H$243,6)),"",VLOOKUP(B83,'[2]Base de donnée de Pièce'!$C$8:$H$243,6)) -> 4 | J83: =IF(ISNA(VLOOKUP(B83,'[2]Base de donnée de Pièce'!$C$8:$H$243,5)),"",VLOOKUP(B83,'[2]Base de donnée de Pièce'!$C$8:$H$243,5)) -> UN | K83: =IF(ISNA(IF(J83="CT",(H83/100)*G83,IF(J83="UN",(H83/1)*G83,IF(J83="M",(H83/1000)*G83,IF(J83="D",(H83/10)*G83,""))))),"",IF(J83="CT",(H83/100)*G83,IF(J83="UN",(H83/1)*G83,IF(J83="M",(H83/1000)*G83,IF(J83="D",(H83/10)*G83,""))))) -> 40 | L83: 1357 | M83: -INV
A84: =L84 -> 1357 | B84: 3240197 | C84: =IF(ISNA(VLOOKUP(B84,'[2]Base de donnée de Pièce'!$C$8:$H$243,2)),"",(VLOOKUP(B84,'[2]Base de donnée de Pièce'!$C$8:$H$243,2))) -> Goulotte CD 25x80 | G84: 2 | H84: =IF(ISNA(VLOOKUP(B84,'[2]Base de donnée de Pièce'!$C$8:$H$243,6)),"",VLOOKUP(B84,'[2]Base de donnée de Pièce'!$C$8:$H$243,6)) -> 9.62 | J84: =IF(ISNA(VLOOKUP(B84,'[2]Base de donnée de Pièce'!$C$8:$H$243,5)),"",VLOOKUP(B84,'[2]Base de donnée de Pièce'!$C$8:$H$243,5)) -> UN | K84: =IF(ISNA(IF(J84="CT",(H84/100)*G84,IF(J84="UN",(H84/1)*G84,IF(J84="M",(H84/1000)*G84,IF(J84="D",(H84/10)*G84,""))))),"",IF(J84="CT",(H84/100)*G84,IF(J84="UN",(H84/1)*G84,IF(J84="M",(H84/1000)*G84,IF(J84="D",(H84/10)*G84,""))))) -> 19.24 | L84: 1357 | M84: -INV
... A87: =L87 -> 1357 | B87: 3244575 | C87: =IF(ISNA(VLOOKUP(B87,'[2]Base de donnée de Pièce'!$C$8:$H$243,2)),"",(VLOOKUP(B87,'[2]Base de donnée de Pièce'!$C$8:$H$243,2))) -> Flasque de fermeture pour bornier senseur D-PTIO 1,5/S/3 | G87: 10 | H87: =IF(ISNA(VLOOKUP(B87,'[2]Base de donnée de Pièce'!$C$8:$H$243,6)),"",VLOOKUP(B87,'[2]Base de donnée de Pièce'!$C$8:$H$243,6)) -> 0.6 | J87: =IF(ISNA(VLOOKUP(B87,'[2]Base de donnée de Pièce'!$C$8:$H$243,5)),"",VLOOKUP(B87,'[2]Base de donnée de Pièce'!$C$8:$H$243,5)) -> UN | K87: =IF(ISNA(IF(J87="CT",(H87/100)*G87,IF(J87="UN",(H87/1)*G87,IF(J87="M",(H87/1000)*G87,IF(J87="D",(H87/10)*G87,""))))),"",IF(J87="CT",(H87/100)*G87,IF(J87="UN",(H87/1)*G87,IF(J87="M",(H87/1000)*G87,IF(J87="D",(H87/10)*G87,""))))) -> 6 | L87: 1357 | M87: -INV
A88: =L88 -> 1358 | B88: 3022218 | C88: =IF(ISNA(VLOOKUP(B88,'[2]Base de donnée de Pièce'!$C$8:$I$243,2)),"",(VLOOKUP(B88,'[2]Base de donnée de Pièce'!$C$8:$I$243,2))) -> Équerre de blocage Clipfix 35 | G88: 24 | H88: =IF(ISNA(VLOOKUP(B88,'[2]Base de donnée de Pièce'!$C$8:$I$243,6)),"",VLOOKUP(B88,'[2]Base de donnée de Pièce'!$C$8:$I$243,6)) -> 0.6 | J88: =IF(ISNA(VLOOKUP(B88,'[2]Base de donnée de Pièce'!$C$8:$I$243,5)),"",VLOOKUP(B88,'[2]Base de donnée de Pièce'!$C$8:$I$243,5)) -> UN | K88: =IF(ISNA(IF(J88="CT",(H88/100)*G88,IF(J88="UN",(H88/1)*G88,IF(J88="M",(H88/1000)*G88,IF(J88="D",(H88/10)*G88,""))))),"",IF(J88="CT",(H88/100)*G88,IF(J88="UN",(H88/1)*G88,IF(J88="M",(H88/1000)*G88,IF(J88="D",(H88/10)*G88,""))))) -> 14.4 | L88: 1358 | M88: -INV
A89: =L89 -> 1358 | B89: 0811969 | C89: =IF(ISNA(VLOOKUP(B89,'[2]Base de donnée de Pièce'!$C$8:$H$243,2)),"",(VLOOKUP(B89,'[2]Base de donnée de Pièce'!$C$8:$H$243,2))) -> Identification sur équerre de blocage KLM 3 | G89: 10 | H89: =IF(ISNA(VLOOKUP(B89,'[2]Base de donnée de Pièce'!$C$8:$H$243,6)),"",VLOOKUP(B89,'[2]Base de donnée de Pièce'!$C$8:$H$243,6)) -> 0.36 | J89: =IF(ISNA(VLOOKUP(B89,'[2]Base de donnée de Pièce'!$C$8:$H$243,5)),"",VLOOKUP(B89,'[2]Base de donnée de Pièce'!$C$8:$H$243,5)) -> UN | K89: =IF(ISNA(IF(J89="CT",(H89/100)*G89,IF(J89="UN",(H89/1)*G89,IF(J89="M",(H89/1000)*G89,IF(J89="D",(H89/10)*G89,""))))),"",IF(J89="CT",(H89/100)*G89,IF(J89="UN",(H89/1)*G89,IF(J89="M",(H89/1000)*G89,IF(J89="D",(H89/10)*G89,""))))) -> 3.6 | L89: 1358 | M89: -INV
A90: =L90 -> 1358 | B90: 3030417 | C90: =IF(ISNA(VLOOKUP(B90,'[2]Base de donnée de Pièce'!$C$8:$H$243,2)),"",(VLOOKUP(B90,'[2]Base de donnée de Pièce'!$C$8:$H$243,2))) -> Flasque de fermeture 2 raccordements D-ST 2,5 | G90: 9 | H90: =IF(ISNA(VLOOKUP(B90,'[2]Base de donnée de Pièce'!$C$8:$H$243,6)),"",VLOOKUP(B90,'[2]Base de donnée de Pièce'!$C$8:$H$243,6)) -> 0.48 | J90: =IF(ISNA(VLOOKUP(B90,'[2]Base de donnée de Pièce'!$C$8:$H$243,5)),"",VLOOKUP(B90,'[2]Base de donnée de Pièce'!$C$8:$H$243,5)) -> UN | K90: =IF(ISNA(IF(J90="CT",(H90/100)*G90,IF(J90="UN",(H90/1)*G90,IF(J90="M",(H90/1000)*G90,IF(J90="D",(H90/10)*G90,""))))),"",IF(J90="CT",(H90/100)*G90,IF(J90="UN",(H90/1)*G90,IF(J90="M",(H90/1000)*G90,IF(J90="D",(H90/10)*G90,""))))) -> 4.32 | L90: 1358 | M90: -INV
A91: =L91 -> 1358 | B91: 3030514 | C91: =IF(ISNA(VLOOKUP(B91,'[2]Base de donnée de Pièce'!$C$8:$H$243,2)),"",(VLOOKUP(B91,'[2]Base de donnée de Pièce'!$C$8:$H$243,2))) -> Flasque de fermeture 4 raccordements PT 2,5 | G91: 10 | H91: =IF(ISNA(VLOOKUP(B91,'[2]Base de donnée de Pièce'!$C$8:$H$243,6)),"",VLOOKUP(B91,'[2]Base de donnée de Pièce'!$C$8:$H$243,6)) -> 0.5 | J91: =IF(ISNA(VLOOKUP(B91,'[2]Base de donnée de Pièce'!$C$8:$H$243,5)),"",VLOOKUP(B91,'[2]Base de donnée de Pièce'!$C$8:$H$243,5)) -> UN | K91: =IF(ISNA(IF(J91="CT",(H91/100)*G91,IF(J91="UN",(H91/1)*G91,IF(J91="M",(H91/1000)*G91,IF(J91="D",(H91/10)*G91,""))))),"",IF(J91="CT",(H91/100)*G91,IF(J91="UN",(H91/1)*G91,IF(J91="M",(H91/1000)*G91,IF(J91="D",(H91/10)*G91,""))))) -> 5 | L91: 1358 | M91: -INV
A92: =L92 -> 1358 | B92: 3209536 | C92: =IF(ISNA(VLOOKUP(B92,'[2]Base de donnée de Pièce'!$C$8:$H$243,2)),"",(VLOOKUP(B92,'[2]Base de donnée de Pièce'!$C$8:$H$243,2))) -> Bornier à 2 raccordement mise à la terre PT 2,5-PE | G92: 25 | H92: =IF(ISNA(VLOOKUP(B92,'[2]Base de donnée de Pièce'!$C$8:$H$243,6)),"",VLOOKUP(B92,'[2]Base de donnée de Pièce'!$C$8:$H$243,6)) -> 2.96 | J92: =IF(ISNA(VLOOKUP(B92,'[2]Base de donnée de Pièce'!$C$8:$H$243,5)),"",VLOOKUP(B92,'[2]Base de donnée de Pièce'!$C$8:$H$243,5)) -> UN | K92: =IF(ISNA(IF(J92="CT",(H92/100)*G92,IF(J92="UN",(H92/1)*G92,IF(J92="M",(H92/1000)*G92,IF(J92="D",(H92/10)*G92,""))))),"",IF(J92="CT",(H92/100)*G92,IF(J92="UN",(H92/1)*G92,IF(J92="M",(H92/1000)*G92,IF(J92="D",(H92/10)*G92,""))))) -> 74 | L92: 1358 | M92: -INV
A93: =L93 -> 1358 | B93: 3209578 | C93: =IF(ISNA(VLOOKUP(B93,'[2]Base de donnée de Pièce'!$C$8:$H$243,2)),"",(VLOOKUP(B93,'[2]Base de donnée de Pièce'!$C$8:$H$243,2))) -> Bornier à 4 raccordements PT 2,5 | G93: 50 | H93: =IF(ISNA(VLOOKUP(B93,'[2]Base de donnée de Pièce'!$C$8:$H$243,6)),"",VLOOKUP(B93,'[2]Base de donnée de Pièce'!$C$8:$H$243,6)) -> 1.61 | J93: =IF(ISNA(VLOOKUP(B93,'[2]Base de donnée de Pièce'!$C$8:$H$243,5)),"",VLOOKUP(B93,'[2]Base de donnée de Pièce'!$C$8:$H$243,5)) -> UN | K93: =IF(ISNA(IF(J93="CT",(H93/100)*G93,IF(J93="UN",(H93/1)*G93,IF(J93="M",(H93/1000)*G93,IF(J93="D",(H93/10)*G93,""))))),"",IF(J93="CT",(H93/100)*G93,IF(J93="UN",(H93/1)*G93,IF(J93="M",(H93/1000)*G93,IF(J93="D",(H93/10)*G93,""))))) -> 80.5 | L93: 1358 | M93: -INV
A94: =L94 -> 1358 | B94: 3210499 | C94: =IF(ISNA(VLOOKUP(B94,'[2]Base de donnée de Pièce'!$C$8:$H$243,2)),"",(VLOOKUP(B94,'[2]Base de donnée de Pièce'!$C$8:$H$243,2))) -> Bornier 3 étages à 2 raccordements par étage PT 2,5 | G94: 50 | H94: =IF(ISNA(VLOOKUP(B94,'[2]Base de donnée de Pièce'!$C$8:$H$243,6)),"",VLOOKUP(B94,'[2]Base de donnée de Pièce'!$C$8:$H$243,6)) -> 4.1 | J94: =IF(ISNA(VLOOKUP(B94,'[2]Base de donnée de Pièce'!$C$8:$H$243,5)),"",VLOOKUP(B94,'[2]Base de donnée de Pièce'!$C$8:$H$243,5)) -> UN | K94: =IF(ISNA(IF(J94="CT",(H94/100)*G94,IF(J94="UN",(H94/1)*G94,IF(J94="M",(H94/1000)*G94,IF(J94="D",(H94/10)*G94,""))))),"",IF(J94="CT",(H94/100)*G94,IF(J94="UN",(H94/1)*G94,IF(J94="M",(H94/1000)*G94,IF(J94="D",(H94/10)*G94,""))))) -> 205 | L94: 1358 | M94: -INV
A95: =L95 -> 1358 | B95: 3211647 | C95: =IF(ISNA(VLOOKUP(B95,'[2]Base de donnée de Pièce'!$C$8:$H$243,2)),"",(VLOOKUP(B95,'[2]Base de donnée de Pièce'!$C$8:$H$243,2))) -> Flasque de fermeture 3 étages à 2 raccordementd PT 2,5 | G95: 10 | H95: =IF(ISNA(VLOOKUP(B95,'[2]Base de donnée de Pièce'!$C$8:$H$243,6)),"",VLOOKUP(B95,'[2]Base de donnée de Pièce'!$C$8:$H$243,6)) -> 0.85 | J95: =IF(ISNA(VLOOKUP(B95,'[2]Base de donnée de Pièce'!$C$8:$H$243,5)),"",VLOOKUP(B95,'[2]Base de donnée de Pièce'!$C$8:$H$243,5)) -> UN | K95: =IF(ISNA(IF(J95="CT",(H95/100)*G95,IF(J95="UN",(H95/1)*G95,IF(J95="M",(H95/1000)*G95,IF(J95="D",(H95/10)*G95,""))))),"",IF(J95="CT",(H95/100)*G95,IF(J95="UN",(H95/1)*G95,IF(J95="M",(H95/1000)*G95,IF(J95="D",(H95/10)*G95,""))))) -> 8.5 | L95: 1358 | M95: -INV
A96: =L96 -> 1358 | B96: 3211757 | C96: =IF(ISNA(VLOOKUP(B96,'[2]Base de donnée de Pièce'!$C$8:$H$243,2)),"",(VLOOKUP(B96,'[2]Base de donnée de Pièce'!$C$8:$H$243,2))) -> Bornier à 2 raccordements PT 4 | G96: 50 | H96: =IF(ISNA(VLOOKUP(B96,'[2]Base de donnée de Pièce'!$C$8:$H$243,6)),"",VLOOKUP(B96,'[2]Base de donnée de Pièce'!$C$8:$H$243,6)) -> 0.94 | J96: =IF(ISNA(VLOOKUP(B96,'[2]Base de donnée de Pièce'!$C$8:$H$243,5)),"",VLOOKUP(B96,'[2]Base de donnée de Pièce'!$C$8:$H$243,5)) -> UN | K96: =IF(ISNA(IF(J96="CT",(H96/100)*G96,IF(J96="UN",(H96/1)*G96,IF(J96="M",(H96/1000)*G96,IF(J96="D",(H96/10)*G96,""))))),"",IF(J96="CT",(H96/100)*G96,IF(J96="UN",(H96/1)*G96,IF(J96="M",(H96/1000)*G96,IF(J96="D",(H96/10)*G96,""))))) -> 47 | L96: 1358 | M96: -INV
A97: =L97 -> 1358 | B97: 3211776 | C97: =IF(ISNA(VLOOKUP(B97,'[2]Base de donnée de Pièce'!$C$8:$H$243,2)),"",(VLOOKUP(B97,'[2]Base de donnée de Pièce'!$C$8:$H$243,2))) -> Bornier à 2 raccordement mise à la terre PT 4-PE | G97: 25 | H97: =IF(ISNA(VLOOKUP(B97,'[2]Base de donnée de Pièce'!$C$8:$H$243,6)),"",VLOOKUP(B97,'[2]Base de donnée de Pièce'!$C$8:$H$243,6)) -> 4.09 | J97: =IF(ISNA(VLOOKUP(B97,'[2]Base de donnée de Pièce'!$C$8:$H$243,5)),"",VLOOKUP(B97,'[2]Base de donnée de Pièce'!$C$8:$H$243,5)) -> UN | K97: =IF(ISNA(IF(J97="CT",(H97/100)*G97,IF(J97="UN",(H97/1)*G97,IF(J97="M",(H97/1000)*G97,IF(J97="D",(H97/10)*G97,""))))),"",IF(J97="CT",(H97/100)*G97,IF(J97="UN",(H97/1)*G97,IF(J97="M",(H97/1000)*G97,IF(J97="D",(H97/10)*G97,""))))) -> 102.25 | L97: 1358 | M97: -INV
A98: =L98 -> 1358 | B98: 3213056 | C98: =IF(ISNA(VLOOKUP(B98,'[2]Base de donnée de Pièce'!$C$8:$H$243,2)),"",(VLOOKUP(B98,'[2]Base de donnée de Pièce'!$C$8:$H$243,2))) -> Cavalier de jonction rouge pour bornier senseur FBS 10-3,5 | G98: 10 | H98: =IF(ISNA(VLOOKUP(B98,'[2]Base de donnée de Pièce'!$C$8:$H$243,6)),"",VLOOKUP(B98,'[2]Base de donnée de Pièce'!$C$8:$H$243,6)) -> 4 | J98: =IF(ISNA(VLOOKUP(B98,'[2]Base de donnée de Pièce'!$C$8:$H$243,5)),"",VLOOKUP(B98,'[2]Base de donnée de Pièce'!$C$8:$H$243,5)) -> UN | K98: =IF(ISNA(IF(J98="CT",(H98/100)*G98,IF(J98="UN",(H98/1)*G98,IF(J98="M",(H98/1000)*G98,IF(J98="D",(H98/10)*G98,""))))),"",IF(J98="CT",(H98/100)*G98,IF(J98="UN",(H98/1)*G98,IF(J98="M",(H98/1000)*G98,IF(J98="D",(H98/10)*G98,""))))) -> 40 | L98: 1358 | M98: -INV
A99: =L99 -> 1358 | B99: 3213125 | C99: =IF(ISNA(VLOOKUP(B99,'[2]Base de donnée de Pièce'!$C$8:$H$243,2)),"",(VLOOKUP(B99,'[2]Base de donnée de Pièce'!$C$8:$H$243,2))) -> Cavalier de jonction bleu pour bornier senseur FBS 10-3,5 BU | G99: 10 | H99: =IF(ISNA(VLOOKUP(B99,'[2]Base de donnée de Pièce'!$C$8:$H$243,6)),"",VLOOKUP(B99,'[2]Base de donnée de Pièce'!$C$8:$H$243,6)) -> 4 | J99: =IF(ISNA(VLOOKUP(B99,'[2]Base de donnée de Pièce'!$C$8:$H$243,5)),"",VLOOKUP(B99,'[2]Base de donnée de Pièce'!$C$8:$H$243,5)) -> UN | K99: =IF(ISNA(IF(J99="CT",(H99/100)*G99,IF(J99="UN",(H99/1)*G99,IF(J99="M",(H99/1000)*G99,IF(J99="D",(H99/10)*G99,""))))),"",IF(J99="CT",(H99/100)*G99,IF(J99="UN",(H99/1)*G99,IF(J99="M",(H99/1000)*G99,IF(J99="D",(H99/10)*G99,""))))) -> 40 | L99: 1358 | M99: -INV
A100: =L100 -> 1358 | B100: 3240197 | C100: =IF(ISNA(VLOOKUP(B100,'[2]Base de donnée de Pièce'!$C$8:$H$243,2)),"",(VLOOKUP(B100,'[2]Base de donnée de Pièce'!$C$8:$H$243,2))) -> Goulotte CD 25x80 | G100: 2 | H100: =IF(ISNA(VLOOKUP(B100,'[2]Base de donnée de Pièce'!$C$8:$H$243,6)),"",VLOOKUP(B100,'[2]Base de donnée de Pièce'!$C$8:$H$243,6)) -> 9.62 | J100: =IF(ISNA(VLOOKUP(B100,'[2]Base de donnée de Pièce'!$C$8:$H$243,5)),"",VLOOKUP(B100,'[2]Base de donnée de Pièce'!$C$8:$H$243,5)) -> UN | K100: =IF(ISNA(IF(J100="CT",(H100/100)*G100,IF(J100="UN",(H100/1)*G100,IF(J100="M",(H100/1000)*G100,IF(J100="D",(H100/10)*G100,""))))),"",IF(J100="CT",(H100/100)*G100,IF(J100="UN",(H100/1)*G100,IF(J100="M",(H100/1000)*G100,IF(J100="D",(H100/10)*G100,""))))) -> 19.24 | L100: 1358 | M100: -INV
... A103: =L103 -> 1358 | B103: 3244575 | C103: =IF(ISNA(VLOOKUP(B103,'[2]Base de donnée de Pièce'!$C$8:$H$243,2)),"",(VLOOKUP(B103,'[2]Base de donnée de Pièce'!$C$8:$H$243,2))) -> Flasque de fermeture pour bornier senseur D-PTIO 1,5/S/3 | G103: 10 | H103: =IF(ISNA(VLOOKUP(B103,'[2]Base de donnée de Pièce'!$C$8:$H$243,6)),"",VLOOKUP(B103,'[2]Base de donnée de Pièce'!$C$8:$H$243,6)) -> 0.6 | J103: =IF(ISNA(VLOOKUP(B103,'[2]Base de donnée de Pièce'!$C$8:$H$243,5)),"",VLOOKUP(B103,'[2]Base de donnée de Pièce'!$C$8:$H$243,5)) -> UN | K103: =IF(ISNA(IF(J103="CT",(H103/100)*G103,IF(J103="UN",(H103/1)*G103,IF(J103="M",(H103/1000)*G103,IF(J103="D",(H103/10)*G103,""))))),"",IF(J103="CT",(H103/100)*G103,IF(J103="UN",(H103/1)*G103,IF(J103="M",(H103/1000)*G103,IF(J103="D",(H103/10)*G103,""))))) -> 6 | L103: 1358 | M103: -INV
A104: =L104 -> 1359 | B104: 3022218 | C104: =IF(ISNA(VLOOKUP(B104,'[2]Base de donnée de Pièce'!$C$8:$I$243,2)),"",(VLOOKUP(B104,'[2]Base de donnée de Pièce'!$C$8:$I$243,2))) -> Équerre de blocage Clipfix 35 | G104: 24 | H104: =IF(ISNA(VLOOKUP(B104,'[2]Base de donnée de Pièce'!$C$8:$I$243,6)),"",VLOOKUP(B104,'[2]Base de donnée de Pièce'!$C$8:$I$243,6)) -> 0.6 | J104: =IF(ISNA(VLOOKUP(B104,'[2]Base de donnée de Pièce'!$C$8:$I$243,5)),"",VLOOKUP(B104,'[2]Base de donnée de Pièce'!$C$8:$I$243,5)) -> UN | K104: =IF(ISNA(IF(J104="CT",(H104/100)*G104,IF(J104="UN",(H104/1)*G104,IF(J104="M",(H104/1000)*G104,IF(J104="D",(H104/10)*G104,""))))),"",IF(J104="CT",(H104/100)*G104,IF(J104="UN",(H104/1)*G104,IF(J104="M",(H104/1000)*G104,IF(J104="D",(H104/10)*G104,""))))) -> 14.4 | L104: 1359 | M104: -INV
A105: =L105 -> 1359 | B105: 0811969 | C105: =IF(ISNA(VLOOKUP(B105,'[2]Base de donnée de Pièce'!$C$8:$H$243,2)),"",(VLOOKUP(B105,'[2]Base de donnée de Pièce'!$C$8:$H$243,2))) -> Identification sur équerre de blocage KLM 3 | G105: 10 | H105: =IF(ISNA(VLOOKUP(B105,'[2]Base de donnée de Pièce'!$C$8:$H$243,6)),"",VLOOKUP(B105,'[2]Base de donnée de Pièce'!$C$8:$H$243,6)) -> 0.36 | J105: =IF(ISNA(VLOOKUP(B105,'[2]Base de donnée de Pièce'!$C$8:$H$243,5)),"",VLOOKUP(B105,'[2]Base de donnée de Pièce'!$C$8:$H$243,5)) -> UN | K105: =IF(ISNA(IF(J105="CT",(H105/100)*G105,IF(J105="UN",(H105/1)*G105,IF(J105="M",(H105/1000)*G105,IF(J105="D",(H105/10)*G105,""))))),"",IF(J105="CT",(H105/100)*G105,IF(J105="UN",(H105/1)*G105,IF(J105="M",(H105/1000)*G105,IF(J105="D",(H105/10)*G105,""))))) -> 3.6 | L105: 1359 | M105: -INV
A106: =L106 -> 1359 | B106: 3030417 | C106: =IF(ISNA(VLOOKUP(B106,'[2]Base de donnée de Pièce'!$C$8:$H$243,2)),"",(VLOOKUP(B106,'[2]Base de donnée de Pièce'!$C$8:$H$243,2))) -> Flasque de fermeture 2 raccordements D-ST 2,5 | G106: 9 | H106: =IF(ISNA(VLOOKUP(B106,'[2]Base de donnée de Pièce'!$C$8:$H$243,6)),"",VLOOKUP(B106,'[2]Base de donnée de Pièce'!$C$8:$H$243,6)) -> 0.48 | J106: =IF(ISNA(VLOOKUP(B106,'[2]Base de donnée de Pièce'!$C$8:$H$243,5)),"",VLOOKUP(B106,'[2]Base de donnée de Pièce'!$C$8:$H$243,5)) -> UN | K106: =IF(ISNA(IF(J106="CT",(H106/100)*G106,IF(J106="UN",(H106/1)*G106,IF(J106="M",(H106/1000)*G106,IF(J106="D",(H106/10)*G106,""))))),"",IF(J106="CT",(H106/100)*G106,IF(J106="UN",(H106/1)*G106,IF(J106="M",(H106/1000)*G106,IF(J106="D",(H106/10)*G106,""))))) -> 4.32 | L106: 1359 | M106: -INV
A107: =L107 -> 1359 | B107: 3030514 | C107: =IF(ISNA(VLOOKUP(B107,'[2]Base de donnée de Pièce'!$C$8:$H$243,2)),"",(VLOOKUP(B107,'[2]Base de donnée de Pièce'!$C$8:$H$243,2))) -> Flasque de fermeture 4 raccordements PT 2,5 | G107: 10 | H107: =IF(ISNA(VLOOKUP(B107,'[2]Base de donnée de Pièce'!$C$8:$H$243,6)),"",VLOOKUP(B107,'[2]Base de donnée de Pièce'!$C$8:$H$243,6)) -> 0.5 | J107: =IF(ISNA(VLOOKUP(B107,'[2]Base de donnée de Pièce'!$C$8:$H$243,5)),"",VLOOKUP(B107,'[2]Base de donnée de Pièce'!$C$8:$H$243,5)) -> UN | K107: =IF(ISNA(IF(J107="CT",(H107/100)*G107,IF(J107="UN",(H107/1)*G107,IF(J107="M",(H107/1000)*G107,IF(J107="D",(H107/10)*G107,""))))),"",IF(J107="CT",(H107/100)*G107,IF(J107="UN",(H107/1)*G107,IF(J107="M",(H107/1000)*G107,IF(J107="D",(H107/10)*G107,""))))) -> 5 | L107: 1359 | M107: -INV
A108: =L108 -> 1359 | B108: 3209536 | C108: =IF(ISNA(VLOOKUP(B108,'[2]Base de donnée de Pièce'!$C$8:$H$243,2)),"",(VLOOKUP(B108,'[2]Base de donnée de Pièce'!$C$8:$H$243,2))) -> Bornier à 2 raccordement mise à la terre PT 2,5-PE | G108: 25 | H108: =IF(ISNA(VLOOKUP(B108,'[2]Base de donnée de Pièce'!$C$8:$H$243,6)),"",VLOOKUP(B108,'[2]Base de donnée de Pièce'!$C$8:$H$243,6)) -> 2.96 | J108: =IF(ISNA(VLOOKUP(B108,'[2]Base de donnée de Pièce'!$C$8:$H$243,5)),"",VLOOKUP(B108,'[2]Base de donnée de Pièce'!$C$8:$H$243,5)) -> UN | K108: =IF(ISNA(IF(J108="CT",(H108/100)*G108,IF(J108="UN",(H108/1)*G108,IF(J108="M",(H108/1000)*G108,IF(J108="D",(H108/10)*G108,""))))),"",IF(J108="CT",(H108/100)*G108,IF(J108="UN",(H108/1)*G108,IF(J108="M",(H108/1000)*G108,IF(J108="D",(H108/10)*G108,""))))) -> 74 | L108: 1359 | M108: -INV
A109: =L109 -> 1359 | B109: 3209578 | C109: =IF(ISNA(VLOOKUP(B109,'[2]Base de donnée de Pièce'!$C$8:$H$243,2)),"",(VLOOKUP(B109,'[2]Base de donnée de Pièce'!$C$8:$H$243,2))) -> Bornier à 4 raccordements PT 2,5 | G109: 50 | H109: =IF(ISNA(VLOOKUP(B109,'[2]Base de donnée de Pièce'!$C$8:$H$243,6)),"",VLOOKUP(B109,'[2]Base de donnée de Pièce'!$C$8:$H$243,6)) -> 1.61 | J109: =IF(ISNA(VLOOKUP(B109,'[2]Base de donnée de Pièce'!$C$8:$H$243,5)),"",VLOOKUP(B109,'[2]Base de donnée de Pièce'!$C$8:$H$243,5)) -> UN | K109: =IF(ISNA(IF(J109="CT",(H109/100)*G109,IF(J109="UN",(H109/1)*G109,IF(J109="M",(H109/1000)*G109,IF(J109="D",(H109/10)*G109,""))))),"",IF(J109="CT",(H109/100)*G109,IF(J109="UN",(H109/1)*G109,IF(J109="M",(H109/1000)*G109,IF(J109="D",(H109/10)*G109,""))))) -> 80.5 | L109: 1359 | M109: -INV
A110: =L110 -> 1359 | B110: 3210499 | C110: =IF(ISNA(VLOOKUP(B110,'[2]Base de donnée de Pièce'!$C$8:$H$243,2)),"",(VLOOKUP(B110,'[2]Base de donnée de Pièce'!$C$8:$H$243,2))) -> Bornier 3 étages à 2 raccordements par étage PT 2,5 | G110: 50 | H110: =IF(ISNA(VLOOKUP(B110,'[2]Base de donnée de Pièce'!$C$8:$H$243,6)),"",VLOOKUP(B110,'[2]Base de donnée de Pièce'!$C$8:$H$243,6)) -> 4.1 | J110: =IF(ISNA(VLOOKUP(B110,'[2]Base de donnée de Pièce'!$C$8:$H$243,5)),"",VLOOKUP(B110,'[2]Base de donnée de Pièce'!$C$8:$H$243,5)) -> UN | K110: =IF(ISNA(IF(J110="CT",(H110/100)*G110,IF(J110="UN",(H110/1)*G110,IF(J110="M",(H110/1000)*G110,IF(J110="D",(H110/10)*G110,""))))),"",IF(J110="CT",(H110/100)*G110,IF(J110="UN",(H110/1)*G110,IF(J110="M",(H110/1000)*G110,IF(J110="D",(H110/10)*G110,""))))) -> 205 | L110: 1359 | M110: -INV
A111: =L111 -> 1359 | B111: 3211647 | C111: =IF(ISNA(VLOOKUP(B111,'[2]Base de donnée de Pièce'!$C$8:$H$243,2)),"",(VLOOKUP(B111,'[2]Base de donnée de Pièce'!$C$8:$H$243,2))) -> Flasque de fermeture 3 étages à 2 raccordementd PT 2,5 | G111: 10 | H111: =IF(ISNA(VLOOKUP(B111,'[2]Base de donnée de Pièce'!$C$8:$H$243,6)),"",VLOOKUP(B111,'[2]Base de donnée de Pièce'!$C$8:$H$243,6)) -> 0.85 | J111: =IF(ISNA(VLOOKUP(B111,'[2]Base de donnée de Pièce'!$C$8:$H$243,5)),"",VLOOKUP(B111,'[2]Base de donnée de Pièce'!$C$8:$H$243,5)) -> UN | K111: =IF(ISNA(IF(J111="CT",(H111/100)*G111,IF(J111="UN",(H111/1)*G111,IF(J111="M",(H111/1000)*G111,IF(J111="D",(H111/10)*G111,""))))),"",IF(J111="CT",(H111/100)*G111,IF(J111="UN",(H111/1)*G111,IF(J111="M",(H111/1000)*G111,IF(J111="D",(H111/10)*G111,""))))) -> 8.5 | L111: 1359 | M111: -INV
A112: =L112 -> 1359 | B112: 3211757 | C112: =IF(ISNA(VLOOKUP(B112,'[2]Base de donnée de Pièce'!$C$8:$H$243,2)),"",(VLOOKUP(B112,'[2]Base de donnée de Pièce'!$C$8:$H$243,2))) -> Bornier à 2 raccordements PT 4 | G112: 50 | H112: =IF(ISNA(VLOOKUP(B112,'[2]Base de donnée de Pièce'!$C$8:$H$243,6)),"",VLOOKUP(B112,'[2]Base de donnée de Pièce'!$C$8:$H$243,6)) -> 0.94 | J112: =IF(ISNA(VLOOKUP(B112,'[2]Base de donnée de Pièce'!$C$8:$H$243,5)),"",VLOOKUP(B112,'[2]Base de donnée de Pièce'!$C$8:$H$243,5)) -> UN | K112: =IF(ISNA(IF(J112="CT",(H112/100)*G112,IF(J112="UN",(H112/1)*G112,IF(J112="M",(H112/1000)*G112,IF(J112="D",(H112/10)*G112,""))))),"",IF(J112="CT",(H112/100)*G112,IF(J112="UN",(H112/1)*G112,IF(J112="M",(H112/1000)*G112,IF(J112="D",(H112/10)*G112,""))))) -> 47 | L112: 1359 | M112: -INV
A113: =L113 -> 1359 | B113: 3211776 | C113: =IF(ISNA(VLOOKUP(B113,'[2]Base de donnée de Pièce'!$C$8:$H$243,2)),"",(VLOOKUP(B113,'[2]Base de donnée de Pièce'!$C$8:$H$243,2))) -> Bornier à 2 raccordement mise à la terre PT 4-PE | G113: 25 | H113: =IF(ISNA(VLOOKUP(B113,'[2]Base de donnée de Pièce'!$C$8:$H$243,6)),"",VLOOKUP(B113,'[2]Base de donnée de Pièce'!$C$8:$H$243,6)) -> 4.09 | J113: =IF(ISNA(VLOOKUP(B113,'[2]Base de donnée de Pièce'!$C$8:$H$243,5)),"",VLOOKUP(B113,'[2]Base de donnée de Pièce'!$C$8:$H$243,5)) -> UN | K113: =IF(ISNA(IF(J113="CT",(H113/100)*G113,IF(J113="UN",(H113/1)*G113,IF(J113="M",(H113/1000)*G113,IF(J113="D",(H113/10)*G113,""))))),"",IF(J113="CT",(H113/100)*G113,IF(J113="UN",(H113/1)*G113,IF(J113="M",(H113/1000)*G113,IF(J113="D",(H113/10)*G113,""))))) -> 102.25 | L113: 1359 | M113: -INV
A114: =L114 -> 1359 | B114: 3213056 | C114: =IF(ISNA(VLOOKUP(B114,'[2]Base de donnée de Pièce'!$C$8:$H$243,2)),"",(VLOOKUP(B114,'[2]Base de donnée de Pièce'!$C$8:$H$243,2))) -> Cavalier de jonction rouge pour bornier senseur FBS 10-3,5 | G114: 10 | H114: =IF(ISNA(VLOOKUP(B114,'[2]Base de donnée de Pièce'!$C$8:$H$243,6)),"",VLOOKUP(B114,'[2]Base de donnée de Pièce'!$C$8:$H$243,6)) -> 4 | J114: =IF(ISNA(VLOOKUP(B114,'[2]Base de donnée de Pièce'!$C$8:$H$243,5)),"",VLOOKUP(B114,'[2]Base de donnée de Pièce'!$C$8:$H$243,5)) -> UN | K114: =IF(ISNA(IF(J114="CT",(H114/100)*G114,IF(J114="UN",(H114/1)*G114,IF(J114="M",(H114/1000)*G114,IF(J114="D",(H114/10)*G114,""))))),"",IF(J114="CT",(H114/100)*G114,IF(J114="UN",(H114/1)*G114,IF(J114="M",(H114/1000)*G114,IF(J114="D",(H114/10)*G114,""))))) -> 40 | L114: 1359 | M114: -INV
...
