Workbook
Name Endroit_de_Livraison: '[1]Base de donnée formule'!$B$3:$B$12
Name Endroit_de_Livraison: '[2]Base de donnée formule'!$B$3:$B$12
Name Fournisseur_Forum: '[2]Base de donnée formule'!$M$3:$M$12
Name Liste_de_Fournisseur: '[1]Base de donnée formule'!$M$3:$M$12
Name Liste_de_Fournisseur: '[2]Base de donnée formule'!$M$3:$M$12
Name Type_de_bon_de_commande: '[1]Base de donnée formule'!$AC$3:$AC$7
Name Type_de_bon_de_commande: '[2]Base de donnée formule'!$AC$3:$AC$7
Name Unité_de_Mesure: '[2]Base de donnée formule'!$X$3:$X$6

Sheet Archive de réception
F4: 2 | H4: =IF($F$4<1,_xlfn.XLOOKUP('[1]Réception de commande'!$E$6,'[1]Archive de commande'!$A$8:$A$100000,'[1]Archive de commande'!G11:G100003),VLOOKUP(H5,'Archive de réception'!$A$8:$I$100000,7)) -> #N/A
B5: xflkhjbgfd,.kvbn.,l | H5: 13531
B6: sdfzlkghvzdsrkjb | J6: =INDEX(B8:I25,MATCH(H5,A8:I25,9)) -> #N/A
B7: dsfglkjdsfvklj | K7: Je voudrais que dans cette colonne (K) s'affiche la même chose que dans la colonne (G), mais ma formule ne fonctionne pas.
A8: =J8 -> 13531 | B8: =_xlfn.XLOOKUP('[1]Réception de commande'!$E$6,'[1]Archive de commande'!$A$8:$A$100000,'[1]Archive de commande'!$B$8:$B$100000) -> 3022218 | C8: =_xlfn.XLOOKUP('[1]Réception de commande'!$E$6,'[1]Archive de commande'!$A$8:$A$100000,'[1]Archive de commande'!$C$8:$C$100000) -> Équerre de blocage Clipfix 35 | E8: =_xlfn.XLOOKUP('[1]Réception de commande'!$E$6,'[1]Archive de commande'!$A$8:$A$100000,'[1]Archive de commande'!$G$8:$G$100000) -> 24 | F8: 24 | G8: =IF(E8="","",E8-F8) -> 0 | H8: 1353 | I8: 1 | J8: =H8&I8 -> 13531 | K8: =IF($F$4<1,_xlfn.XLOOKUP('[1]Réception de commande'!$E$6,'[1]Archive de commande'!$A$8:$A$100000,'[1]Archive de commande'!J15:J100007),VLOOKUP(K9,'Archive de réception'!$A$8:$I$100000,7)) -> #N/A
A9: =J9 -> 13531 | B9: =_xlfn.XLOOKUP('[1]Réception de commande'!$E$6,'[1]Archive de commande'!$A$8:$A$100000,'[1]Archive de commande'!$B$9:$B$100001) -> 0811969 | C9: =_xlfn.XLOOKUP('[1]Réception de commande'!$E$6,'[1]Archive de commande'!$A$8:$A$100000,'[1]Archive de commande'!$C$9:$C$100001) -> Identification sur équerre de blocage KLM 3 | E9: =_xlfn.XLOOKUP('[1]Réception de commande'!$E$6,'[1]Archive de commande'!$A$8:$A$100000,'[1]Archive de commande'!$G$9:$G$100001) -> 10 | F9: 10 | G9: =IF(E9="","",E9-F9) -> 0 | H9: 1353 | I9: 1 | J9: =H9&I9 -> 13531 | K9: =IF($F$4<1,_xlfn.XLOOKUP('[1]Réception de commande'!$E$6,'[1]Archive de commande'!$A$8:$A$100000,'[1]Archive de commande'!J16:J100008),VLOOKUP(K10,'Archive de réception'!$A$8:$I$100000,7)) -> #N/A
A10: =J10 -> 13531 | B10: =_xlfn.XLOOKUP('[1]Réception de commande'!$E$6,'[1]Archive de commande'!$A$8:$A$100000,'[1]Archive de commande'!$B$10:$B$100002) -> 3030417 | C10: =_xlfn.XLOOKUP('[1]Réception de commande'!$E$6,'[1]Archive de commande'!$A$8:$A$100000,'[1]Archive de commande'!$C$10:$C$100002) -> Flasque de fermeture 2 raccordements D-ST 2,5 | E10: =_xlfn.XLOOKUP('[1]Réception de commande'!$E$6,'[1]Archive de commande'!$A$8:$A$100000,'[1]Archive de commande'!$G$10:$G$100002) -> 9 | F10: 9 | G10: =IF(E10="","",E10-F10) -> 0 | H10: 1353 | I10: 1 | J10: =H10&I10 -> 13531 | K10: =IF($F$4<1,_xlfn.XLOOKUP('[1]Réception de commande'!$E$6,'[1]Archive de commande'!$A$8:$A$100000,'[1]Archive de commande'!J17:J100009),VLOOKUP(K11,'Archive de réception'!$A$8:$I$100000,7)) -> #N/A
A11: =J11 -> 13531 | B11: =_xlfn.XLOOKUP('[1]Réception de commande'!$E$6,'[1]Archive de commande'!$A$8:$A$100000,'[1]Archive de commande'!$B$11:$B$100003) -> 3030514 | C11: =_xlfn.XLOOKUP('[1]Réception de commande'!$E$6,'[1]Archive de commande'!$A$8:$A$100000,'[1]Archive de commande'!$C$11:$C$100003) -> Flasque de fermeture 4 raccordements PT 2,5 | E11: =_xlfn.XLOOKUP('[1]Réception de commande'!$E$6,'[1]Archive de commande'!$A$8:$A$100000,'[1]Archive de commande'!$G$11:$G$100003) -> 10 | F11: 5 | G11: =IF(E11="","",E11-F11) -> 5 | H11: 1353 | I11: 1 | J11: =H11&I11 -> 13531 | K11: =IF($F$4<1,_xlfn.XLOOKUP('[1]Réception de commande'!$E$6,'[1]Archive de commande'!$A$8:$A$100000,'[1]Archive de commande'!J18:J100010),VLOOKUP(K12,'Archive de réception'!$A$8:$I$100000,7)) -> #N/A
A12: =J12 -> 13531 | B12: =_xlfn.XLOOKUP('[1]Réception de commande'!$E$6,'[1]Archive de commande'!$A$8:$A$100000,'[1]Archive de commande'!$B$12:$B$100004) -> 3209536 | C12: =_xlfn.XLOOKUP('[1]Réception de commande'!$E$6,'[1]Archive de commande'!$A$8:$A$100000,'[1]Archive de commande'!$C$12:$C$100004) -> Bornier à 2 raccordement mise à la terre PT 2,5-PE | E12: =_xlfn.XLOOKUP('[1]Réception de commande'!$E$6,'[1]Archive de commande'!$A$8:$A$100000,'[1]Archive de commande'!$G$12:$G$100004) -> 25 | F12: 20 | G12: =IF(E12="","",E12-F12) -> 5 | H12: 1353 | I12: 1 | J12: =H12&I12 -> 13531 | K12: =IF($F$4<1,_xlfn.XLOOKUP('[1]Réception de commande'!$E$6,'[1]Archive de commande'!$A$8:$A$100000,'[1]Archive de commande'!J19:J100011),VLOOKUP(K13,'Archive de réception'!$A$8:$I$100000,7)) -> #N/A
A13: =J13 -> 13531 | B13: =_xlfn.XLOOKUP('[1]Réception de commande'!$E$6,'[1]Archive de commande'!$A$8:$A$100000,'[1]Archive de commande'!$B$13:$B$100005) -> 3209578 | C13: =_xlfn.XLOOKUP('[1]Réception de commande'!$E$6,'[1]Archive de commande'!$A$8:$A$100000,'[1]Archive de commande'!$C$13:$C$100005) -> Bornier à 4 raccordements PT 2,5 | E13: =_xlfn.XLOOKUP('[1]Réception de commande'!$E$6,'[1]Archive de commande'!$A$8:$A$100000,'[1]Archive de commande'!$G$13:$G$100005) -> 50 | F13: 50 | G13: =IF(E13="","",E13-F13) -> 0 | H13: 1353 | I13: 1 | J13: =H13&I13 -> 13531 | K13: =IF($F$4<1,_xlfn.XLOOKUP('[1]Réception de commande'!$E$6,'[1]Archive de commande'!$A$8:$A$100000,'[1]Archive de commande'!J20:J100012),VLOOKUP(K14,'Archive de réception'!$A$8:$I$100000,7)) -> #N/A
A14: =J14 -> 13531 | B14: =_xlfn.XLOOKUP('[1]Réception de commande'!$E$6,'[1]Archive de commande'!$A$8:$A$100000,'[1]Archive de commande'!$B$14:$B$100006) -> 3210499 | C14: =_xlfn.XLOOKUP('[1]Réception de commande'!$E$6,'[1]Archive de commande'!$A$8:$A$100000,'[1]Archive de commande'!$C$14:$C$100006) -> Bornier 3 étages à 2 raccordements par étage PT 2,5 | E14: =_xlfn.XLOOKUP('[1]Réception de commande'!$E$6,'[1]Archive de commande'!$A$8:$A$100000,'[1]Archive de commande'!$G$14:$G$100006) -> 50 | F14: 50 | G14: =IF(E14="","",E14-F14) -> 0 | H14: 1353 | I14: 1 | J14: =H14&I14 -> 13531 | K14: =IF($F$4<1,_xlfn.XLOOKUP('[1]Réception de commande'!$E$6,'[1]Archive de commande'!$A$8:$A$100000,'[1]Archive de commande'!J21:J100013),VLOOKUP(K15,'Archive de réception'!$A$8:$I$100000,7)) -> #N/A
A15: =J15 -> 13531 | B15: =_xlfn.XLOOKUP('[1]Réception de commande'!$E$6,'[1]Archive de commande'!$A$8:$A$100000,'[1]Archive de commande'!$B$15:$B$100007) -> 3211647 | C15: =_xlfn.XLOOKUP('[1]Réception de commande'!$E$6,'[1]Archive de commande'!$A$8:$A$100000,'[1]Archive de commande'!$C$15:$C$100007) -> Flasque de fermeture 3 étages à 2 raccordementd PT 2,5 | E15: =_xlfn.XLOOKUP('[1]Réception de commande'!$E$6,'[1]Archive de commande'!$A$8:$A$100000,'[1]Archive de commande'!$G$15:$G$100007) -> 10 | F15: 5 | G15: =IF(E15="","",E15-F15) -> 5 | H15: 1353 | I15: 1 | J15: =H15&I15 -> 13531 | K15: =IF($F$4<1,_xlfn.XLOOKUP('[1]Réception de commande'!$E$6,'[1]Archive de commande'!$A$8:$A$100000,'[1]Archive de commande'!J22:J100014),VLOOKUP(K16,'Archive de réception'!$A$8:$I$100000,7)) -> #N/A
A16: =J16 -> 13531 | B16: =_xlfn.XLOOKUP('[1]Réception de commande'!$E$6,'[1]Archive de commande'!$A$8:$A$100000,'[1]Archive de commande'!$B$16:$B$100008) -> 3211757 | C16: =_xlfn.XLOOKUP('[1]Réception de commande'!$E$6,'[1]Archive de commande'!$A$8:$A$100000,'[1]Archive de commande'!$C$16:$C$100008) -> Bornier à 2 raccordements PT 4 | E16: =_xlfn.XLOOKUP('[1]Réception de commande'!$E$6,'[1]Archive de commande'!$A$8:$A$100000,'[1]Archive de commande'!$G$16:$G$100008) -> 50 | F16: 50 | G16: =IF(E16="","",E16-F16) -> 0 | H16: 1353 | I16: 1 | J16: =H16&I16 -> 13531 | K16: =IF($F$4<1,_xlfn.XLOOKUP('[1]Réception de commande'!$E$6,'[1]Archive de commande'!$A$8:$A$100000,'[1]Archive de commande'!J23:J100015),VLOOKUP(K17,'Archive de réception'!$A$8:$I$100000,7)) -> #N/A
A17: =J17 -> 13531 | B17: =_xlfn.XLOOKUP('[1]Réception de commande'!$E$6,'[1]Archive de commande'!$A$8:$A$100000,'[1]Archive de commande'!$B$17:$B$100009) -> 3211776 | C17: =_xlfn.XLOOKUP('[1]Réception de commande'!$E$6,'[1]Archive de commande'!$A$8:$A$100000,'[1]Archive de commande'!$C$17:$C$100009) -> Bornier à 2 raccordement mise à la terre PT 4-PE | E17: =_xlfn.XLOOKUP('[1]Réception de commande'!$E$6,'[1]Archive de commande'!$A$8:$A$100000,'[1]Archive de commande'!$G$17:$G$100009) -> 25 | F17: 25 | G17: =IF(E17="","",E17-F17) -> 0 | H17: 1353 | I17: 1 | J17: =H17&I17 -> 13531 | K17: =IF($F$4<1,_xlfn.XLOOKUP('[1]Réception de commande'!$E$6,'[1]Archive de commande'!$A$8:$A$100000,'[1]Archive de commande'!J24:J100016),VLOOKUP(K18,'Archive de réception'!$A$8:$I$100000,7)) -> #N/A
A18: =J18 -> 13531 | B18: =_xlfn.XLOOKUP('[1]Réception de commande'!$E$6,'[1]Archive de commande'!$A$8:$A$100000,'[1]Archive de commande'!$B$18:$B$100010) -> 3213056 | C18: =_xlfn.XLOOKUP('[1]Réception de commande'!$E$6,'[1]Archive de commande'!$A$8:$A$100000,'[1]Archive de commande'!$C$18:$C$100010) -> Cavalier de jonction rouge pour bornier senseur FBS 10-3,5 | E18: =_xlfn.XLOOKUP('[1]Réception de commande'!$E$6,'[1]Archive de commande'!$A$8:$A$100000,'[1]Archive de commande'!$G$18:$G$100010) -> 10 | F18: 10 | G18: =IF(E18="","",E18-F18) -> 0 | H18: 1353 | I18: 1 | J18: =H18&I18 -> 13531 | K18: =IF($F$4<1,_xlfn.XLOOKUP('[1]Réception de commande'!$E$6,'[1]Archive de commande'!$A$8:$A$100000,'[1]Archive de commande'!J25:J100017),VLOOKUP(K19,'Archive de réception'!$A$8:$I$100000,7)) -> #N/A
A19: =J19 -> 13531 | B19: =_xlfn.XLOOKUP('[1]Réception de commande'!$E$6,'[1]Archive de commande'!$A$8:$A$100000,'[1]Archive de commande'!$B$19:$B$100011) -> 3213125 | C19: =_xlfn.XLOOKUP('[1]Réception de commande'!$E$6,'[1]Archive de commande'!$A$8:$A$100000,'[1]Archive de commande'!$C$19:$C$100011) -> Cavalier de jonction bleu pour bornier senseur FBS 10-3,5 BU | E19: =_xlfn.XLOOKUP('[1]Réception de commande'!$E$6,'[1]Archive de commande'!$A$8:$A$100000,'[1]Archive de commande'!$G$19:$G$100011) -> 10 | F19: 10 | G19: =IF(E19="","",E19-F19) -> 0 | H19: 1353 | I19: 1 | J19: =H19&I19 -> 13531 | K19: =IF($F$4<1,_xlfn.XLOOKUP('[1]Réception de commande'!$E$6,'[1]Archive de commande'!$A$8:$A$100000,'[1]Archive de commande'!J26:J100018),VLOOKUP(K20,'Archive de réception'!$A$8:$I$100000,7)) -> #N/A
A20: =J20 -> 13531 | B20: =_xlfn.XLOOKUP('[1]Réception de commande'!$E$6,'[1]Archive de commande'!$A$8:$A$100000,'[1]Archive de commande'!$B$20:$B$100012) -> 3240197 | C20: =_xlfn.XLOOKUP('[1]Réception de commande'!$E$6,'[1]Archive de commande'!$A$8:$A$100000,'[1]Archive de commande'!$C$20:$C$100012) -> Goulotte CD 25x80 | E20: =_xlfn.XLOOKUP('[1]Réception de commande'!$E$6,'[1]Archive de commande'!$A$8:$A$100000,'[1]Archive de commande'!$G$20:$G$100012) -> 2 | F20: 2 | G20: =IF(E20="","",E20-F20) -> 0 | H20: 1353 | I20: 1 | J20: =H20&I20 -> 13531 | K20: =IF($F$4<1,_xlfn.XLOOKUP('[1]Réception de commande'!$E$6,'[1]Archive de commande'!$A$8:$A$100000,'[1]Archive de commande'!J27:J100019),VLOOKUP(K21,'Archive de réception'!$A$8:$I$100000,7)) -> #N/A
A21: =J21 -> 13531 | B21: =_xlfn.XLOOKUP('[1]Réception de commande'!$E$6,'[1]Archive de commande'!$A$8:$A$100000,'[1]Archive de commande'!$B$21:$B$100013) -> 3240285 | C21: =_xlfn.XLOOKUP('[1]Réception de commande'!$E$6,'[1]Archive de commande'!$A$8:$A$100000,'[1]Archive de commande'!$C$21:$C$100013) -> Couvercle de goulotte CD 25 | E21: =_xlfn.XLOOKUP('[1]Réception de commande'!$E$6,'[1]Archive de commande'!$A$8:$A$100000,'[1]Archive de commande'!$G$21:$G$100013) -> 2 | F21: 2 | G21: =IF(E21="","",E21-F21) -> 0 | H21: 1353 | I21: 1 | J21: =H21&I21 -> 13531 | K21: =IF($F$4<1,_xlfn.XLOOKUP('[1]Réception de commande'!$E$6,'[1]Archive de commande'!$A$8:$A$100000,'[1]Archive de commande'!J28:J100020),VLOOKUP(K22,'Archive de réception'!$A$8:$I$100000,7)) -> #N/A
A22: =J22 -> 13531 | B22: =_xlfn.XLOOKUP('[1]Réception de commande'!$E$6,'[1]Archive de commande'!$A$8:$A$100000,'[1]Archive de commande'!$B$22:$B$100014) -> 3244410 | C22: =_xlfn.XLOOKUP('[1]Réception de commande'!$E$6,'[1]Archive de commande'!$A$8:$A$100000,'[1]Archive de commande'!$C$22:$C$100014) -> Bornier pour senseur PTIO 1,5/S/3 | E22: =_xlfn.XLOOKUP('[1]Réception de commande'!$E$6,'[1]Archive de commande'!$A$8:$A$100000,'[1]Archive de commande'!$G$22:$G$100014) -> 50 | F22: 50 | G22: =IF(E22="","",E22-F22) -> 0 | H22: 1353 | I22: 1 | J22: =H22&I22 -> 13531 | K22: =IF($F$4<1,_xlfn.XLOOKUP('[1]Réception de commande'!$E$6,'[1]Archive de commande'!$A$8:$A$100000,'[1]Archive de commande'!J29:J100021),VLOOKUP(K23,'Archive de réception'!$A$8:$I$100000,7)) -> #N/A
A23: =J23 -> 13531 | B23: =_xlfn.XLOOKUP('[1]Réception de commande'!$E$6,'[1]Archive de commande'!$A$8:$A$100000,'[1]Archive de commande'!$B$23:$B$100015) -> 3244575 | C23: =_xlfn.XLOOKUP('[1]Réception de commande'!$E$6,'[1]Archive de commande'!$A$8:$A$100000,'[1]Archive de commande'!$C$23:$C$100015) -> Flasque de fermeture pour bornier senseur D-PTIO 1,5/S/3 | E23: =_xlfn.XLOOKUP('[1]Réception de commande'!$E$6,'[1]Archive de commande'!$A$8:$A$100000,'[1]Archive de commande'!$G$23:$G$100015) -> 10 | F23: 10 | G23: =IF(E23="","",E23-F23) -> 0 | H23: 1353 | I23: 1 | J23: =H23&I23 -> 13531 | K23: =IF($F$4<1,_xlfn.XLOOKUP('[1]Réception de commande'!$E$6,'[1]Archive de commande'!$A$8:$A$100000,'[1]Archive de commande'!J30:J100022),VLOOKUP(K24,'Archive de réception'!$A$8:$I$100000,7)) -> #N/A
A24: =J24 -> 13531 | B24: =_xlfn.XLOOKUP('[1]Réception de commande'!$E$6,'[1]Archive de commande'!$A$8:$A$100000,'[1]Archive de commande'!$B$24:$B$100016) -> 3022218 | C24: =_xlfn.XLOOKUP('[1]Réception de commande'!$E$6,'[1]Archive de commande'!$A$8:$A$100000,'[1]Archive de commande'!$C$24:$C$100016) -> Équerre de blocage Clipfix 35 | E24: =_xlfn.XLOOKUP('[1]Réception de commande'!$E$6,'[1]Archive de commande'!$A$8:$A$100000,'[1]Archive de commande'!$G$24:$G$100016) -> 24 | G24: =IF(E24="","",E24-F24) -> 24 | H24: 1353 | I24: 1 | J24: =H24&I24 -> 13531 | K24: =IF($F$4<1,_xlfn.XLOOKUP('[1]Réception de commande'!$E$6,'[1]Archive de commande'!$A$8:$A$100000,'[1]Archive de commande'!J31:J100023),VLOOKUP(K25,'Archive de réception'!$A$8:$I$100000,7)) -> #N/A
A25: =J25 -> 13531 | B25: =_xlfn.XLOOKUP('[1]Réception de commande'!$E$6,'[1]Archive de commande'!$A$8:$A$100000,'[1]Archive de commande'!$B$25:$B$100017) -> 0811969 | C25: =_xlfn.XLOOKUP('[1]Réception de commande'!$E$6,'[1]Archive de commande'!$A$8:$A$100000,'[1]Archive de commande'!$C$25:$C$100017) -> Identification sur équerre de blocage KLM 3 | E25: =_xlfn.XLOOKUP('[1]Réception de commande'!$E$6,'[1]Archive de commande'!$A$8:$A$100000,'[1]Archive de commande'!$G$25:$G$100017) -> 10 | G25: =IF(E25="","",E25-F25) -> 10 | H25: 1353 | I25: 1 | J25: =H25&I25 -> 13531 | K25: =IF($F$4<1,_xlfn.XLOOKUP('[1]Réception de commande'!$E$6,'[1]Archive de commande'!$A$8:$A$100000,'[1]Archive de commande'!J32:J100024),VLOOKUP(K26,'Archive de réception'!$A$8:$I$100000,7)) -> #N/A
A26: =J26 -> 13531 | B26: =_xlfn.XLOOKUP('[1]Réception de commande'!$E$6,'[1]Archive de commande'!$A$8:$A$100000,'[1]Archive de commande'!$B$26:$B$100018) -> 3030417 | C26: =_xlfn.XLOOKUP('[1]Réception de commande'!$E$6,'[1]Archive de commande'!$A$8:$A$100000,'[1]Archive de commande'!$C$26:$C$100018) -> Flasque de fermeture 2 raccordements D-ST 2,5 | E26: =_xlfn.XLOOKUP('[1]Réception de commande'!$E$6,'[1]Archive de commande'!$A$8:$A$100000,'[1]Archive de commande'!$G$26:$G$100018) -> 9 | G26: =IF(E26="","",E26-F26) -> 9 | H26: 1353 | I26: 1 | J26: =H26&I26 -> 13531 | K26: =IF($F$4<1,_xlfn.XLOOKUP('[1]Réception de commande'!$E$6,'[1]Archive de commande'!$A$8:$A$100000,'[1]Archive de commande'!J33:J100025),VLOOKUP(K27,'Archive de réception'!$A$8:$I$100000,7)) -> #N/A
A27: =J27 -> 13531 | B27: =_xlfn.XLOOKUP('[1]Réception de commande'!$E$6,'[1]Archive de commande'!$A$8:$A$100000,'[1]Archive de commande'!$B$27:$B$100019) -> 3030514 | C27: =_xlfn.XLOOKUP('[1]Réception de commande'!$E$6,'[1]Archive de commande'!$A$8:$A$100000,'[1]Archive de commande'!$C$27:$C$100019) -> Flasque de fermeture 4 raccordements PT 2,5 | E27: =_xlfn.XLOOKUP('[1]Réception de commande'!$E$6,'[1]Archive de commande'!$A$8:$A$100000,'[1]Archive de commande'!$G$27:$G$100019) -> 10 | G27: =IF(E27="","",E27-F27) -> 10 | H27: 1353 | I27: 1 | J27: =H27&I27 -> 13531 | K27: =IF($F$4<1,_xlfn.XLOOKUP('[1]Réception de commande'!$E$6,'[1]Archive de commande'!$A$8:$A$100000,'[1]Archive de commande'!J34:J100026),VLOOKUP(K28,'Archive de réception'!$A$8:$I$100000,7)) -> #N/A
A28: =J28 -> 13531 | B28: =_xlfn.XLOOKUP('[1]Réception de commande'!$E$6,'[1]Archive de commande'!$A$8:$A$100000,'[1]Archive de commande'!$B$28:$B$100020) -> 3209536 | C28: =_xlfn.XLOOKUP('[1]Réception de commande'!$E$6,'[1]Archive de commande'!$A$8:$A$100000,'[1]Archive de commande'!$C$28:$C$100020) -> Bornier à 2 raccordement mise à la terre PT 2,5-PE | E28: =_xlfn.XLOOKUP('[1]Réception de commande'!$E$6,'[1]Archive de commande'!$A$8:$A$100000,'[1]Archive de commande'!$G$28:$G$100020) -> 25 | G28: =IF(E28="","",E28-F28) -> 25 | H28: 1353 | I28: 1 | J28: =H28&I28 -> 13531 | K28: =IF($F$4<1,_xlfn.XLOOKUP('[1]Réception de commande'!$E$6,'[1]Archive de commande'!$A$8:$A$100000,'[1]Archive de commande'!J35:J100027),VLOOKUP(K29,'Archive de réception'!$A$8:$I$100000,7)) -> #N/A
A29: =J29 -> 13531 | B29: =_xlfn.XLOOKUP('[1]Réception de commande'!$E$6,'[1]Archive de commande'!$A$8:$A$100000,'[1]Archive de commande'!$B$29:$B$100021) -> 3209578 | C29: =_xlfn.XLOOKUP('[1]Réception de commande'!$E$6,'[1]Archive de commande'!$A$8:$A$100000,'[1]Archive de commande'!$C$29:$C$100021) -> Bornier à 4 raccordements PT 2,5 | E29: =_xlfn.XLOOKUP('[1]Réception de commande'!$E$6,'[1]Archive de commande'!$A$8:$A$100000,'[1]Archive de commande'!$G$29:$G$100021) -> 50 | G29: =IF(E29="","",E29-F29) -> 50 | H29: 1353 | I29: 1 | J29: =H29&I29 -> 13531 | K29: =IF($F$4<1,_xlfn.XLOOKUP('[1]Réception de commande'!$E$6,'[1]Archive de commande'!$A$8:$A$100000,'[1]Archive de commande'!J36:J100028),VLOOKUP(K30,'Archive de réception'!$A$8:$I$100000,7)) -> #N/A
A30: =J30 -> 13531 | B30: =_xlfn.XLOOKUP('[1]Réception de commande'!$E$6,'[1]Archive de commande'!$A$8:$A$100000,'[1]Archive de commande'!$B$30:$B$100022) -> 3210499 | C30: =_xlfn.XLOOKUP('[1]Réception de commande'!$E$6,'[1]Archive de commande'!$A$8:$A$100000,'[1]Archive de commande'!$C$30:$C$100022) -> Bornier 3 étages à 2 raccordements par étage PT 2,5 | E30: =_xlfn.XLOOKUP('[1]Réception de commande'!$E$6,'[1]Archive de commande'!$A$8:$A$100000,'[1]Archive de commande'!$G$30:$G$100022) -> 50 | G30: =IF(E30="","",E30-F30) -> 50 | H30: 1353 | I30: 1 | J30: =H30&I30 -> 13531 | K30: =IF($F$4<1,_xlfn.XLOOKUP('[1]Réception de commande'!$E$6,'[1]Archive de commande'!$A$8:$A$100000,'[1]Archive de commande'!J37:J100029),VLOOKUP(K31,'Archive de réception'!$A$8:$I$100000,7)) -> #N/A
A31: =J31 -> 13531 | B31: =_xlfn.XLOOKUP('[1]Réception de commande'!$E$6,'[1]Archive de commande'!$A$8:$A$100000,'[1]Archive de commande'!$B$31:$B$100023) -> 3211647 | C31: =_xlfn.XLOOKUP('[1]Réception de commande'!$E$6,'[1]Archive de commande'!$A$8:$A$100000,'[1]Archive de commande'!$C$31:$C$100023) -> Flasque de fermeture 3 étages à 2 raccordementd PT 2,5 | E31: =_xlfn.XLOOKUP('[1]Réception de commande'!$E$6,'[1]Archive de commande'!$A$8:$A$100000,'[1]Archive de commande'!$G$31:$G$100023) -> 10 | G31: =IF(E31="","",E31-F31) -> 10 | H31: 1353 | I31: 1 | J31: =H31&I31 -> 13531 | K31: =IF($F$4<1,_xlfn.XLOOKUP('[1]Réception de commande'!$E$6,'[1]Archive de commande'!$A$8:$A$100000,'[1]Archive de commande'!J38:J100030),VLOOKUP(K32,'Archive de réception'!$A$8:$I$100000,7)) -> #N/A
A32: =J32 -> 13531 | B32: =_xlfn.XLOOKUP('[1]Réception de commande'!$E$6,'[1]Archive de commande'!$A$8:$A$100000,'[1]Archive de commande'!$B$32:$B$100024) -> 3211757 | C32: =_xlfn.XLOOKUP('[1]Réception de commande'!$E$6,'[1]Archive de commande'!$A$8:$A$100000,'[1]Archive de commande'!$C$32:$C$100024) -> Bornier à 2 raccordements PT 4 | E32: =_xlfn.XLOOKUP('[1]Réception de commande'!$E$6,'[1]Archive de commande'!$A$8:$A$100000,'[1]Archive de commande'!$G$32:$G$100024) -> 50 | G32: =IF(E32="","",E32-F32) -> 50 | H32: 1353 | I32: 1 | J32: =H32&I32 -> 13531 | K32: =IF($F$4<1,_xlfn.XLOOKUP('[1]Réception de commande'!$E$6,'[1]Archive de commande'!$A$8:$A$100000,'[1]Archive de commande'!J39:J100031),VLOOKUP(K33,'Archive de réception'!$A$8:$I$100000,7)) -> #N/A
A33: =J33 -> 13531 | B33: =_xlfn.XLOOKUP('[1]Réception de commande'!$E$6,'[1]Archive de commande'!$A$8:$A$100000,'[1]Archive de commande'!$B$33:$B$100025) -> 3211776 | C33: =_xlfn.XLOOKUP('[1]Réception de commande'!$E$6,'[1]Archive de commande'!$A$8:$A$100000,'[1]Archive de commande'!$C$33:$C$100025) -> Bornier à 2 raccordement mise à la terre PT 4-PE | E33: =_xlfn.XLOOKUP('[1]Réception de commande'!$E$6,'[1]Archive de commande'!$A$8:$A$100000,'[1]Archive de commande'!$G$33:$G$100025) -> 25 | G33: =IF(E33="","",E33-F33) -> 25 | H33: 1353 | I33: 1 | J33: =H33&I33 -> 13531 | K33: =IF($F$4<1,_xlfn.XLOOKUP('[1]Réception de commande'!$E$6,'[1]Archive de commande'!$A$8:$A$100000,'[1]Archive de commande'!J40:J100032),VLOOKUP(K34,'Archive de réception'!$A$8:$I$100000,7)) -> #N/A
A34: =J34 -> 13531 | B34: =_xlfn.XLOOKUP('[1]Réception de commande'!$E$6,'[1]Archive de commande'!$A$8:$A$100000,'[1]Archive de commande'!$B$34:$B$100026) -> 3213056 | C34: =_xlfn.XLOOKUP('[1]Réception de commande'!$E$6,'[1]Archive de commande'!$A$8:$A$100000,'[1]Archive de commande'!$C$34:$C$100026) -> Cavalier de jonction rouge pour bornier senseur FBS 10-3,5 | E34: =_xlfn.XLOOKUP('[1]Réception de commande'!$E$6,'[1]Archive de commande'!$A$8:$A$100000,'[1]Archive de commande'!$G$34:$G$100026) -> 10 | G34: =IF(E34="","",E34-F34) -> 10 | H34: 1353 | I34: 1 | J34: =H34&I34 -> 13531 | K34: =IF($F$4<1,_xlfn.XLOOKUP('[1]Réception de commande'!$E$6,'[1]Archive de commande'!$A$8:$A$100000,'[1]Archive de commande'!J41:J100033),VLOOKUP(K35,'Archive de réception'!$A$8:$I$100000,7)) -> #N/A
A35: =J35 -> 13531 | B35: =_xlfn.XLOOKUP('[1]Réception de commande'!$E$6,'[1]Archive de commande'!$A$8:$A$100000,'[1]Archive de commande'!$B$35:$B$100027) -> 3213125 | C35: =_xlfn.XLOOKUP('[1]Réception de commande'!$E$6,'[1]Archive de commande'!$A$8:$A$100000,'[1]Archive de commande'!$C$35:$C$100027) -> Cavalier de jonction bleu pour bornier senseur FBS 10-3,5 BU | E35: =_xlfn.XLOOKUP('[1]Réception de commande'!$E$6,'[1]Archive de commande'!$A$8:$A$100000,'[1]Archive de commande'!$G$35:$G$100027) -> 10 | G35: =IF(E35="","",E35-F35) -> 10 | H35: 1353 | I35: 1 | J35: =H35&I35 -> 13531 | K35: =IF($F$4<1,_xlfn.XLOOKUP('[1]Réception de commande'!$E$6,'[1]Archive de commande'!$A$8:$A$100000,'[1]Archive de commande'!J42:J100034),VLOOKUP(K36,'Archive de réception'!$A$8:$I$100000,7)) -> #N/A
A36: =J36 -> 13531 | B36: =_xlfn.XLOOKUP('[1]Réception de commande'!$E$6,'[1]Archive de commande'!$A$8:$A$100000,'[1]Archive de commande'!$B$36:$B$100028) -> 3240197 | C36: =_xlfn.XLOOKUP('[1]Réception de commande'!$E$6,'[1]Archive de commande'!$A$8:$A$100000,'[1]Archive de commande'!$C$36:$C$100028) -> Goulotte CD 25x80 | E36: =_xlfn.XLOOKUP('[1]Réception de commande'!$E$6,'[1]Archive de commande'!$A$8:$A$100000,'[1]Archive de commande'!$G$36:$G$100028) -> 2 | G36: =IF(E36="","",E36-F36) -> 2 | H36: 1353 | I36: 1 | J36: =H36&I36 -> 13531 | K36: =IF($F$4<1,_xlfn.XLOOKUP('[1]Réception de commande'!$E$6,'[1]Archive de commande'!$A$8:$A$100000,'[1]Archive de commande'!J43:J100035),VLOOKUP(K37,'Archive de réception'!$A$8:$I$100000,7)) -> #N/A
A37: =J37 -> 13531 | B37: =_xlfn.XLOOKUP('[1]Réception de commande'!$E$6,'[1]Archive de commande'!$A$8:$A$100000,'[1]Archive de commande'!$B$37:$B$100029) -> 3240285 | C37: =_xlfn.XLOOKUP('[1]Réception de commande'!$E$6,'[1]Archive de commande'!$A$8:$A$100000,'[1]Archive de commande'!$C$37:$C$100029) -> Couvercle de goulotte CD 25 | E37: =_xlfn.XLOOKUP('[1]Réception de commande'!$E$6,'[1]Archive de commande'!$A$8:$A$100000,'[1]Archive de commande'!$G$37:$G$100029) -> 2 | G37: =IF(E37="","",E37-F37) -> 2 | H37: 1353 | I37: 1 | J37: =H37&I37 -> 13531 | K37: =IF($F$4<1,_xlfn.XLOOKUP('[1]Réception de commande'!$E$6,'[1]Archive de commande'!$A$8:$A$100000,'[1]Archive de commande'!J44:J100036),VLOOKUP(K38,'Archive de réception'!$A$8:$I$100000,7)) -> #N/A
A38: =J38 -> 13534 | B38: =_xlfn.XLOOKUP('[1]Réception de commande'!$E$6,'[1]Archive de commande'!$A$8:$A$100000,'[1]Archive de commande'!$B$8:$B$100000) -> 3022218 | C38: =_xlfn.XLOOKUP('[1]Réception de commande'!$E$6,'[1]Archive de commande'!$A$8:$A$100000,'[1]Archive de commande'!$C$8:$C$100000) -> Équerre de blocage Clipfix 35 | E38: =IF($F$4<="",_xlfn.XLOOKUP('[1]Réception de commande'!$E$6,'[1]Archive de commande'!$A$8:$A$100000,'[1]Archive de commande'!H34:H100026),VLOOKUP(AND($G$4,#REF!),'Archive de réception'!$A$8:$I$100000,6)) -> 4 | F38: 24 | G38: =IF(E38="","",E38-F38) -> -20 | H38: 1353 | I38: 4 | J38: =H38&I38 -> 13534 | K38: =IF($F$4<1,_xlfn.XLOOKUP('[1]Réception de commande'!$E$6,'[1]Archive de commande'!$A$8:$A$100000,'[1]Archive de commande'!J45:J100037),VLOOKUP(K39,'Archive de réception'!$A$8:$I$100000,7)) -> #N/A
A39: =J39 -> 13534 | B39: =_xlfn.XLOOKUP('[1]Réception de commande'!$E$6,'[1]Archive de commande'!$A$8:$A$100000,'[1]Archive de commande'!$B$9:$B$100001) -> 0811969 | C39: =_xlfn.XLOOKUP('[1]Réception de commande'!$E$6,'[1]Archive de commande'!$A$8:$A$100000,'[1]Archive de commande'!$C$9:$C$100001) -> Identification sur équerre de blocage KLM 3 | E39: =IF($F$4<="",_xlfn.XLOOKUP('[1]Réception de commande'!$E$6,'[1]Archive de commande'!$A$8:$A$100000,'[1]Archive de commande'!H35:H100027),VLOOKUP(AND($G$4,#REF!),'Archive de réception'!$A$8:$I$100000,6)) -> 4 | F39: 10 | G39: =IF(E39="","",E39-F39) -> -6 | H39: 1353 | I39: 4 | J39: =H39&I39 -> 13534 | K39: =IF($F$4<1,_xlfn.XLOOKUP('[1]Réception de commande'!$E$6,'[1]Archive de commande'!$A$8:$A$100000,'[1]Archive de commande'!J46:J100038),VLOOKUP(K40,'Archive de réception'!$A$8:$I$100000,7)) -> #N/A
A40: =J40 -> 13534 | B40: =_xlfn.XLOOKUP('[1]Réception de commande'!$E$6,'[1]Archive de commande'!$A$8:$A$100000,'[1]Archive de commande'!$B$10:$B$100002) -> 3030417 | C40: =_xlfn.XLOOKUP('[1]Réception de commande'!$E$6,'[1]Archive de commande'!$A$8:$A$100000,'[1]Archive de commande'!$C$10:$C$100002) -> Flasque de fermeture 2 raccordements D-ST 2,5 | E40: =IF($F$4<="",_xlfn.XLOOKUP('[1]Réception de commande'!$E$6,'[1]Archive de commande'!$A$8:$A$100000,'[1]Archive de commande'!H36:H100028),VLOOKUP(AND($G$4,#REF!),'Archive de réception'!$A$8:$I$100000,6)) -> 9.62 | F40: 9 | G40: =IF(E40="","",E40-F40) -> 0.62 | H40: 1353 | I40: 4 | J40: =H40&I40 -> 13534 | K40: =IF($F$4<1,_xlfn.XLOOKUP('[1]Réception de commande'!$E$6,'[1]Archive de commande'!$A$8:$A$100000,'[1]Archive de commande'!J47:J100039),VLOOKUP(K41,'Archive de réception'!$A$8:$I$100000,7)) -> #N/A
A41: =J41 -> 13534 | B41: =_xlfn.XLOOKUP('[1]Réception de commande'!$E$6,'[1]Archive de commande'!$A$8:$A$100000,'[1]Archive de commande'!$B$11:$B$100003) -> 3030514 | C41: =_xlfn.XLOOKUP('[1]Réception de commande'!$E$6,'[1]Archive de commande'!$A$8:$A$100000,'[1]Archive de commande'!$C$11:$C$100003) -> Flasque de fermeture 4 raccordements PT 2,5 | E41: =IF($F$4<="",_xlfn.XLOOKUP('[1]Réception de commande'!$E$6,'[1]Archive de commande'!$A$8:$A$100000,'[1]Archive de commande'!H37:H100029),VLOOKUP(IF('Archive de réception'!$G$4,#REF!),'Archive de réception'!$A$8:$I$100000,6)) -> 1.64 | F41: 5 | G41: =IF(E41="","",E41-F41) -> -3.36 | H41: 1353 | I41: 4 | J41: =H41&I41 -> 13534 | K41: =IF($F$4<1,_xlfn.XLOOKUP('[1]Réception de commande'!$E$6,'[1]Archive de commande'!$A$8:$A$100000,'[1]Archive de commande'!J48:J100040),VLOOKUP(K42,'Archive de réception'!$A$8:$I$100000,7)) -> #N/A
A42: =J42 -> 13534 | B42: =_xlfn.XLOOKUP('[1]Réception de commande'!$E$6,'[1]Archive de commande'!$A$8:$A$100000,'[1]Archive de commande'!$B$12:$B$100004) -> 3209536 | C42: =_xlfn.XLOOKUP('[1]Réception de commande'!$E$6,'[1]Archive de commande'!$A$8:$A$100000,'[1]Archive de commande'!$C$12:$C$100004) -> Bornier à 2 raccordement mise à la terre PT 2,5-PE | E42: =IF($F$4<="",_xlfn.XLOOKUP('[1]Réception de commande'!$E$6,'[1]Archive de commande'!$A$8:$A$100000,'[1]Archive de commande'!H38:H100030),VLOOKUP(AND($G$4,#REF!),'Archive de réception'!$A$8:$I$100000,6)) -> 2.96 | F42: 20 | G42: =IF(E42="","",E42-F42) -> -17.04 | H42: 1353 | I42: 4 | J42: =H42&I42 -> 13534 | K42: =IF($F$4<1,_xlfn.XLOOKUP('[1]Réception de commande'!$E$6,'[1]Archive de commande'!$A$8:$A$100000,'[1]Archive de commande'!J49:J100041),VLOOKUP(K43,'Archive de réception'!$A$8:$I$100000,7)) -> #N/A
A43: =J43 -> 13534 | B43: =_xlfn.XLOOKUP('[1]Réception de commande'!$E$6,'[1]Archive de commande'!$A$8:$A$100000,'[1]Archive de commande'!$B$13:$B$100005) -> 3209578 | C43: =_xlfn.XLOOKUP('[1]Réception de commande'!$E$6,'[1]Archive de commande'!$A$8:$A$100000,'[1]Archive de commande'!$C$13:$C$100005) -> Bornier à 4 raccordements PT 2,5 | E43: =IF($F$4<="",_xlfn.XLOOKUP('[1]Réception de commande'!$E$6,'[1]Archive de commande'!$A$8:$A$100000,'[1]Archive de commande'!H39:H100031),VLOOKUP(AND($G$4,#REF!),'Archive de réception'!$A$8:$I$100000,6)) -> 0.6 | F43: 50 | G43: =IF(E43="","",E43-F43) -> -49.4 | H43: 1353 | I43: 4 | J43: =H43&I43 -> 13534 | K43: =IF($F$4<1,_xlfn.XLOOKUP('[1]Réception de commande'!$E$6,'[1]Archive de commande'!$A$8:$A$100000,'[1]Archive de commande'!J50:J100042),VLOOKUP(K44,'Archive de réception'!$A$8:$I$100000,7)) -> #N/A
...

Sheet Archive de commande
C3: =_xlfn.XLOOKUP('[2]Réception de commande'!$E$6,'Archive de commande'!$A$8:$A$100000,'Archive de commande'!B9:B100001) -> 0811969
C4: =_xlfn.XLOOKUP('[2]Réception de commande'!$E$6,'Archive de commande'!$A$8:$A$100000,'Archive de commande'!B10:B100002) -> 3030417
B5: vdskjlvhbjk | C5: =_xlfn.XLOOKUP('[2]Réception de commande'!$E$6,'Archive de commande'!$A$8:$A$100000,'Archive de commande'!B11:B100003) -> 3030514
B6: bfzdsklvjhndaklj
B7: dfbskljbghdfklj
A8: =L8 -> 1353 | B8: 3022218 | C8: =IF(ISNA(VLOOKUP(B8,'[2]Base de donnée de Pièce'!$C$8:$I$243,2)),"",(VLOOKUP(B8,'[2]Base de donnée de Pièce'!$C$8:$I$243,2))) -> Équerre de blocage Clipfix 35 | G8: 24 | H8: =IF(ISNA(VLOOKUP(B8,'[2]Base de donnée de Pièce'!$C$8:$I$243,6)),"",VLOOKUP(B8,'[2]Base de donnée de Pièce'!$C$8:$I$243,6)) -> 0.6 | J8: =IF(ISNA(VLOOKUP(B8,'[2]Base de donnée de Pièce'!$C$8:$I$243,5)),"",VLOOKUP(B8,'[2]Base de donnée de Pièce'!$C$8:$I$243,5)) -> UN | K8: =IF(ISNA(IF(J8="CT",(H8/100)*G8,IF(J8="UN",(H8/1)*G8,IF(J8="M",(H8/1000)*G8,IF(J8="D",(H8/10)*G8,""))))),"",IF(J8="CT",(H8/100)*G8,IF(J8="UN",(H8/1)*G8,IF(J8="M",(H8/1000)*G8,IF(J8="D",(H8/10)*G8,""))))) -> 14.4 | L8: 1353 | M8: -INV
A9: =L9 -> 1353 | B9: 0811969 | C9: =IF(ISNA(VLOOKUP(B9,'[2]Base de donnée de Pièce'!$C$8:$H$243,2)),"",(VLOOKUP(B9,'[2]Base de donnée de Pièce'!$C$8:$H$243,2))) -> Identification sur équerre de blocage KLM 3 | G9: 10 | H9: =IF(ISNA(VLOOKUP(B9,'[2]Base de donnée de Pièce'!$C$8:$H$243,6)),"",VLOOKUP(B9,'[2]Base de donnée de Pièce'!$C$8:$H$243,6)) -> 0.36 | J9: =IF(ISNA(VLOOKUP(B9,'[2]Base de donnée de Pièce'!$C$8:$H$243,5)),"",VLOOKUP(B9,'[2]Base de donnée de Pièce'!$C$8:$H$243,5)) -> UN | K9: =IF(ISNA(IF(J9="CT",(H9/100)*G9,IF(J9="UN",(H9/1)*G9,IF(J9="M",(H9/1000)*G9,IF(J9="D",(H9/10)*G9,""))))),"",IF(J9="CT",(H9/100)*G9,IF(J9="UN",(H9/1)*G9,IF(J9="M",(H9/1000)*G9,IF(J9="D",(H9/10)*G9,""))))) -> 3.6 | L9: 1353 | M9: -INV
A10: =L10 -> 1353 | B10: 3030417 | C10: =IF(ISNA(VLOOKUP(B10,'[2]Base de donnée de Pièce'!$C$8:$H$243,2)),"",(VLOOKUP(B10,'[2]Base de donnée de Pièce'!$C$8:$H$243,2))) -> Flasque de fermeture 2 raccordements D-ST 2,5 | G10: 9 | H10: =IF(ISNA(VLOOKUP(B10,'[2]Base de donnée de Pièce'!$C$8:$H$243,6)),"",VLOOKUP(B10,'[2]Base de donnée de Pièce'!$C$8:$H$243,6)) -> 0.48 | J10: =IF(ISNA(VLOOKUP(B10,'[2]Base de donnée de Pièce'!$C$8:$H$243,5)),"",VLOOKUP(B10,'[2]Base de donnée de Pièce'!$C$8:$H$243,5)) -> UN | K10: =IF(ISNA(IF(J10="CT",(H10/100)*G10,IF(J10="UN",(H10/1)*G10,IF(J10="M",(H10/1000)*G10,IF(J10="D",(H10/10)*G10,""))))),"",IF(J10="CT",(H10/100)*G10,IF(J10="UN",(H10/1)*G10,IF(J10="M",(H10/1000)*G10,IF(J10="D",(H10/10)*G10,""))))) -> 4.32 | L10: 1353 | M10: -INV
A11: =L11 -> 1353 | B11: 3030514 | C11: =IF(ISNA(VLOOKUP(B11,'[2]Base de donnée de Pièce'!$C$8:$H$243,2)),"",(VLOOKUP(B11,'[2]Base de donnée de Pièce'!$C$8:$H$243,2))) -> Flasque de fermeture 4 raccordements PT 2,5 | G11: 10 | H11: =IF(ISNA(VLOOKUP(B11,'[2]Base de donnée de Pièce'!$C$8:$H$243,6)),"",VLOOKUP(B11,'[2]Base de donnée de Pièce'!$C$8:$H$243,6)) -> 0.5 | J11: =IF(ISNA(VLOOKUP(B11,'[2]Base de donnée de Pièce'!$C$8:$H$243,5)),"",VLOOKUP(B11,'[2]Base de donnée de Pièce'!$C$8:$H$243,5)) -> UN | K11: =IF(ISNA(IF(J11="CT",(H11/100)*G11,IF(J11="UN",(H11/1)*G11,IF(J11="M",(H11/1000)*G11,IF(J11="D",(H11/10)*G11,""))))),"",IF(J11="CT",(H11/100)*G11,IF(J11="UN",(H11/1)*G11,IF(J11="M",(H11/1000)*G11,IF(J11="D",(H11/10)*G11,""))))) -> 5 | L11: 1353 | M11: -INV
A12: =L12 -> 1353 | B12: 3209536 | C12: =IF(ISNA(VLOOKUP(B12,'[2]Base de donnée de Pièce'!$C$8:$H$243,2)),"",(VLOOKUP(B12,'[2]Base de donnée de Pièce'!$C$8:$H$243,2))) -> Bornier à 2 raccordement mise à la terre PT 2,5-PE | G12: 25 | H12: =IF(ISNA(VLOOKUP(B12,'[2]Base de donnée de Pièce'!$C$8:$H$243,6)),"",VLOOKUP(B12,'[2]Base de donnée de Pièce'!$C$8:$H$243,6)) -> 2.96 | J12: =IF(ISNA(VLOOKUP(B12,'[2]Base de donnée de Pièce'!$C$8:$H$243,5)),"",VLOOKUP(B12,'[2]Base de donnée de Pièce'!$C$8:$H$243,5)) -> UN | K12: =IF(ISNA(IF(J12="CT",(H12/100)*G12,IF(J12="UN",(H12/1)*G12,IF(J12="M",(H12/1000)*G12,IF(J12="D",(H12/10)*G12,""))))),"",IF(J12="CT",(H12/100)*G12,IF(J12="UN",(H12/1)*G12,IF(J12="M",(H12/1000)*G12,IF(J12="D",(H12/10)*G12,""))))) -> 74 | L12: 1353 | M12: -INV
A13: =L13 -> 1353 | B13: 3209578 | C13: =IF(ISNA(VLOOKUP(B13,'[2]Base de donnée de Pièce'!$C$8:$H$243,2)),"",(VLOOKUP(B13,'[2]Base de donnée de Pièce'!$C$8:$H$243,2))) -> Bornier à 4 raccordements PT 2,5 | G13: 50 | H13: =IF(ISNA(VLOOKUP(B13,'[2]Base de donnée de Pièce'!$C$8:$H$243,6)),"",VLOOKUP(B13,'[2]Base de donnée de Pièce'!$C$8:$H$243,6)) -> 1.61 | J13: =IF(ISNA(VLOOKUP(B13,'[2]Base de donnée de Pièce'!$C$8:$H$243,5)),"",VLOOKUP(B13,'[2]Base de donnée de Pièce'!$C$8:$H$243,5)) -> UN | K13: =IF(ISNA(IF(J13="CT",(H13/100)*G13,IF(J13="UN",(H13/1)*G13,IF(J13="M",(H13/1000)*G13,IF(J13="D",(H13/10)*G13,""))))),"",IF(J13="CT",(H13/100)*G13,IF(J13="UN",(H13/1)*G13,IF(J13="M",(H13/1000)*G13,IF(J13="D",(H13/10)*G13,""))))) -> 80.5 | L13: 1353 | M13: -INV
A14: =L14 -> 1353 | B14: 3210499 | C14: =IF(ISNA(VLOOKUP(B14,'[2]Base de donnée de Pièce'!$C$8:$H$243,2)),"",(VLOOKUP(B14,'[2]Base de donnée de Pièce'!$C$8:$H$243,2))) -> Bornier 3 étages à 2 raccordements par étage PT 2,5 | G14: 50 | H14: =IF(ISNA(VLOOKUP(B14,'[2]Base de donnée de Pièce'!$C$8:$H$243,6)),"",VLOOKUP(B14,'[2]Base de donnée de Pièce'!$C$8:$H$243,6)) -> 4.1 | J14: =IF(ISNA(VLOOKUP(B14,'[2]Base de donnée de Pièce'!$C$8:$H$243,5)),"",VLOOKUP(B14,'[2]Base de donnée de Pièce'!$C$8:$H$243,5)) -> UN | K14: =IF(ISNA(IF(J14="CT",(H14/100)*G14,IF(J14="UN",(H14/1)*G14,IF(J14="M",(H14/1000)*G14,IF(J14="D",(H14/10)*G14,""))))),"",IF(J14="CT",(H14/100)*G14,IF(J14="UN",(H14/1)*G14,IF(J14="M",(H14/1000)*G14,IF(J14="D",(H14/10)*G14,""))))) -> 205 | L14: 1353 | M14: -INV
A15: =L15 -> 1353 | B15: 3211647 | C15: =IF(ISNA(VLOOKUP(B15,'[2]Base de donnée de Pièce'!$C$8:$H$243,2)),"",(VLOOKUP(B15,'[2]Base de donnée de Pièce'!$C$8:$H$243,2))) -> Flasque de fermeture 3 étages à 2 raccordementd PT 2,5 | G15: 10 | H15: =IF(ISNA(VLOOKUP(B15,'[2]Base de donnée de Pièce'!$C$8:$H$243,6)),"",VLOOKUP(B15,'[2]Base de donnée de Pièce'!$C$8:$H$243,6)) -> 0.85 | J15: =IF(ISNA(VLOOKUP(B15,'[2]Base de donnée de Pièce'!$C$8:$H$243,5)),"",VLOOKUP(B15,'[2]Base de donnée de Pièce'!$C$8:$H$243,5)) -> UN | K15: =IF(ISNA(IF(J15="CT",(H15/100)*G15,IF(J15="UN",(H15/1)*G15,IF(J15="M",(H15/1000)*G15,IF(J15="D",(H15/10)*G15,""))))),"",IF(J15="CT",(H15/100)*G15,IF(J15="UN",(H15/1)*G15,IF(J15="M",(H15/1000)*G15,IF(J15="D",(H15/10)*G15,""))))) -> 8.5 | L15: 1353 | M15: -INV
A16: =L16 -> 1353 | B16: 3211757 | C16: =IF(ISNA(VLOOKUP(B16,'[2]Base de donnée de Pièce'!$C$8:$H$243,2)),"",(VLOOKUP(B16,'[2]Base de donnée de Pièce'!$C$8:$H$243,2))) -> Bornier à 2 raccordements PT 4 | G16: 50 | H16: =IF(ISNA(VLOOKUP(B16,'[2]Base de donnée de Pièce'!$C$8:$H$243,6)),"",VLOOKUP(B16,'[2]Base de donnée de Pièce'!$C$8:$H$243,6)) -> 0.94 | J16: =IF(ISNA(VLOOKUP(B16,'[2]Base de donnée de Pièce'!$C$8:$H$243,5)),"",VLOOKUP(B16,'[2]Base de donnée de Pièce'!$C$8:$H$243,5)) -> UN | K16: =IF(ISNA(IF(J16="CT",(H16/100)*G16,IF(J16="UN",(H16/1)*G16,IF(J16="M",(H16/1000)*G16,IF(J16="D",(H16/10)*G16,""))))),"",IF(J16="CT",(H16/100)*G16,IF(J16="UN",(H16/1)*G16,IF(J16="M",(H16/1000)*G16,IF(J16="D",(H16/10)*G16,""))))) -> 47 | L16: 1353 | M16: -INV
A17: =L17 -> 1353 | B17: 3211776 | C17: =IF(ISNA(VLOOKUP(B17,'[2]Base de donnée de Pièce'!$C$8:$H$243,2)),"",(VLOOKUP(B17,'[2]Base de donnée de Pièce'!$C$8:$H$243,2))) -> Bornier à 2 raccordement mise à la terre PT 4-PE | G17: 25 | H17: =IF(ISNA(VLOOKUP(B17,'[2]Base de donnée de Pièce'!$C$8:$H$243,6)),"",VLOOKUP(B17,'[2]Base de donnée de Pièce'!$C$8:$H$243,6)) -> 4.09 | J17: =IF(ISNA(VLOOKUP(B17,'[2]Base de donnée de Pièce'!$C$8:$H$243,5)),"",VLOOKUP(B17,'[2]Base de donnée de Pièce'!$C$8:$H$243,5)) -> UN | K17: =IF(ISNA(IF(J17="CT",(H17/100)*G17,IF(J17="UN",(H17/1)*G17,IF(J17="M",(H17/1000)*G17,IF(J17="D",(H17/10)*G17,""))))),"",IF(J17="CT",(H17/100)*G17,IF(J17="UN",(H17/1)*G17,IF(J17="M",(H17/1000)*G17,IF(J17="D",(H17/10)*G17,""))))) -> 102.25 | L17: 1353 | M17: -INV
A18: =L18 -> 1353 | B18: 3213056 | C18: =IF(ISNA(VLOOKUP(B18,'[2]Base de donnée de Pièce'!$C$8:$H$243,2)),"",(VLOOKUP(B18,'[2]Base de donnée de Pièce'!$C$8:$H$243,2))) -> Cavalier de jonction rouge pour bornier senseur FBS 10-3,5 | G18: 10 | H18: =IF(ISNA(VLOOKUP(B18,'[2]Base de donnée de Pièce'!$C$8:$H$243,6)),"",VLOOKUP(B18,'[2]Base de donnée de Pièce'!$C$8:$H$243,6)) -> 4 | J18: =IF(ISNA(VLOOKUP(B18,'[2]Base de donnée de Pièce'!$C$8:$H$243,5)),"",VLOOKUP(B18,'[2]Base de donnée de Pièce'!$C$8:$H$243,5)) -> UN | K18: =IF(ISNA(IF(J18="CT",(H18/100)*G18,IF(J18="UN",(H18/1)*G18,IF(J18="M",(H18/1000)*G18,IF(J18="D",(H18/10)*G18,""))))),"",IF(J18="CT",(H18/100)*G18,IF(J18="UN",(H18/1)*G18,IF(J18="M",(H18/1000)*G18,IF(J18="D",(H18/10)*G18,""))))) -> 40 | L18: 1353 | M18: -INV
A19: =L19 -> 1353 | B19: 3213125 | C19: =IF(ISNA(VLOOKUP(B19,'[2]Base de donnée de Pièce'!$C$8:$H$243,2)),"",(VLOOKUP(B19,'[2]Base de donnée de Pièce'!$C$8:$H$243,2))) -> Cavalier de jonction bleu pour bornier senseur FBS 10-3,5 BU | G19: 10 | H19: =IF(ISNA(VLOOKUP(B19,'[2]Base de donnée de Pièce'!$C$8:$H$243,6)),"",VLOOKUP(B19,'[2]Base de donnée de Pièce'!$C$8:$H$243,6)) -> 4 | J19: =IF(ISNA(VLOOKUP(B19,'[2]Base de donnée de Pièce'!$C$8:$H$243,5)),"",VLOOKUP(B19,'[2]Base de donnée de Pièce'!$C$8:$H$243,5)) -> UN | K19: =IF(ISNA(IF(J19="CT",(H19/100)*G19,IF(J19="UN",(H19/1)*G19,IF(J19="M",(H19/1000)*G19,IF(J19="D",(H19/10)*G19,""))))),"",IF(J19="CT",(H19/100)*G19,IF(J19="UN",(H19/1)*G19,IF(J19="M",(H19/1000)*G19,IF(J19="D",(H19/10)*G19,""))))) -> 40 | L19: 1353 | M19: -INV
A20: =L20 -> 1353 | B20: 3240197 | C20: =IF(ISNA(VLOOKUP(B20,'[2]Base de donnée de Pièce'!$C$8:$H$243,2)),"",(VLOOKUP(B20,'[2]Base de donnée de Pièce'!$C$8:$H$243,2))) -> Goulotte CD 25x80 | G20: 2 | H20: =IF(ISNA(VLOOKUP(B20,'[2]Base de donnée de Pièce'!$C$8:$H$243,6)),"",VLOOKUP(B20,'[2]Base de donnée de Pièce'!$C$8:$H$243,6)) -> 9.62 | J20: =IF(ISNA(VLOOKUP(B20,'[2]Base de donnée de Pièce'!$C$8:$H$243,5)),"",VLOOKUP(B20,'[2]Base de donnée de Pièce'!$C$8:$H$243,5)) -> UN | K20: =IF(ISNA(IF(J20="CT",(H20/100)*G20,IF(J20="UN",(H20/1)*G20,IF(J20="M",(H20/1000)*G20,IF(J20="D",(H20/10)*G20,""))))),"",IF(J20="CT",(H20/100)*G20,IF(J20="UN",(H20/1)*G20,IF(J20="M",(H20/1000)*G20,IF(J20="D",(H20/10)*G20,""))))) -> 19.24 | L20: 1353 | M20: -INV
... A23: =L23 -> 1353 | B23: 3244575 | C23: =IF(ISNA(VLOOKUP(B23,'[2]Base de donnée de Pièce'!$C$8:$H$243,2)),"",(VLOOKUP(B23,'[2]Base de donnée de Pièce'!$C$8:$H$243,2))) -> Flasque de fermeture pour bornier senseur D-PTIO 1,5/S/3 | G23: 10 | H23: =IF(ISNA(VLOOKUP(B23,'[2]Base de donnée de Pièce'!$C$8:$H$243,6)),"",VLOOKUP(B23,'[2]Base de donnée de Pièce'!$C$8:$H$243,6)) -> 0.6 | J23: =IF(ISNA(VLOOKUP(B23,'[2]Base de donnée de Pièce'!$C$8:$H$243,5)),"",VLOOKUP(B23,'[2]Base de donnée de Pièce'!$C$8:$H$243,5)) -> UN | K23: =IF(ISNA(IF(J23="CT",(H23/100)*G23,IF(J23="UN",(H23/1)*G23,IF(J23="M",(H23/1000)*G23,IF(J23="D",(H23/10)*G23,""))))),"",IF(J23="CT",(H23/100)*G23,IF(J23="UN",(H23/1)*G23,IF(J23="M",(H23/1000)*G23,IF(J23="D",(H23/10)*G23,""))))) -> 6 | L23: 1353 | M23: -INV
A24: =L24 -> 1354 | B24: 3022218 | C24: =IF(ISNA(VLOOKUP(B24,'[2]Base de donnée de Pièce'!$C$8:$I$243,2)),"",(VLOOKUP(B24,'[2]Base de donnée de Pièce'!$C$8:$I$243,2))) -> Équerre de blocage Clipfix 35 | G24: 24 | H24: =IF(ISNA(VLOOKUP(B24,'[2]Base de donnée de Pièce'!$C$8:$I$243,6)),"",VLOOKUP(B24,'[2]Base de donnée de Pièce'!$C$8:$I$243,6)) -> 0.6 | J24: =IF(ISNA(VLOOKUP(B24,'[2]Base de donnée de Pièce'!$C$8:$I$243,5)),"",VLOOKUP(B24,'[2]Base de donnée de Pièce'!$C$8:$I$243,5)) -> UN | K24: =IF(ISNA(IF(J24="CT",(H24/100)*G24,IF(J24="UN",(H24/1)*G24,IF(J24="M",(H24/1000)*G24,IF(J24="D",(H24/10)*G24,""))))),"",IF(J24="CT",(H24/100)*G24,IF(J24="UN",(H24/1)*G24,IF(J24="M",(H24/1000)*G24,IF(J24="D",(H24/10)*G24,""))))) -> 14.4 | L24: 1354 | M24: -INV
A25: =L25 -> 1354 | B25: 0811969 | C25: =IF(ISNA(VLOOKUP(B25,'[2]Base de donnée de Pièce'!$C$8:$H$243,2)),"",(VLOOKUP(B25,'[2]Base de donnée de Pièce'!$C$8:$H$243,2))) -> Identification sur équerre de blocage KLM 3 | G25: 10 | H25: =IF(ISNA(VLOOKUP(B25,'[2]Base de donnée de Pièce'!$C$8:$H$243,6)),"",VLOOKUP(B25,'[2]Base de donnée de Pièce'!$C$8:$H$243,6)) -> 0.36 | J25: =IF(ISNA(VLOOKUP(B25,'[2]Base de donnée de Pièce'!$C$8:$H$243,5)),"",VLOOKUP(B25,'[2]Base de donnée de Pièce'!$C$8:$H$243,5)) -> UN | K25: =IF(ISNA(IF(J25="CT",(H25/100)*G25,IF(J25="UN",(H25/1)*G25,IF(J25="M",(H25/1000)*G25,IF(J25="D",(H25/10)*G25,""))))),"",IF(J25="CT",(H25/100)*G25,IF(J25="UN",(H25/1)*G25,IF(J25="M",(H25/1000)*G25,IF(J25="D",(H25/10)*G25,""))))) -> 3.6 | L25: 1354 | M25: -INV
A26: =L26 -> 1354 | B26: 3030417 | C26: =IF(ISNA(VLOOKUP(B26,'[2]Base de donnée de Pièce'!$C$8:$H$243,2)),"",(VLOOKUP(B26,'[2]Base de donnée de Pièce'!$C$8:$H$243,2))) -> Flasque de fermeture 2 raccordements D-ST 2,5 | G26: 9 | H26: =IF(ISNA(VLOOKUP(B26,'[2]Base de donnée de Pièce'!$C$8:$H$243,6)),"",VLOOKUP(B26,'[2]Base de donnée de Pièce'!$C$8:$H$243,6)) -> 0.48 | J26: =IF(ISNA(VLOOKUP(B26,'[2]Base de donnée de Pièce'!$C$8:$H$243,5)),"",VLOOKUP(B26,'[2]Base de donnée de Pièce'!$C$8:$H$243,5)) -> UN | K26: =IF(ISNA(IF(J26="CT",(H26/100)*G26,IF(J26="UN",(H26/1)*G26,IF(J26="M",(H26/1000)*G26,IF(J26="D",(H26/10)*G26,""))))),"",IF(J26="CT",(H26/100)*G26,IF(J26="UN",(H26/1)*G26,IF(J26="M",(H26/1000)*G26,IF(J26="D",(H26/10)*G26,""))))) -> 4.32 | L26: 1354 | M26: -INV
A27: =L27 -> 1354 | B27: 3030514 | C27: =IF(ISNA(VLOOKUP(B27,'[2]Base de donnée de Pièce'!$C$8:$H$243,2)),"",(VLOOKUP(B27,'[2]Base de donnée de Pièce'!$C$8:$H$243,2))) -> Flasque de fermeture 4 raccordements PT 2,5 | G27: 10 | H27: =IF(ISNA(VLOOKUP(B27,'[2]Base de donnée de Pièce'!$C$8:$H$243,6)),"",VLOOKUP(B27,'[2]Base de donnée de Pièce'!$C$8:$H$243,6)) -> 0.5 | J27: =IF(ISNA(VLOOKUP(B27,'[2]Base de donnée de Pièce'!$C$8:$H$243,5)),"",VLOOKUP(B27,'[2]Base de donnée de Pièce'!$C$8:$H$243,5)) -> UN | K27: =IF(ISNA(IF(J27="CT",(H27/100)*G27,IF(J27="UN",(H27/1)*G27,IF(J27="M",(H27/1000)*G27,IF(J27="D",(H27/10)*G27,""))))),"",IF(J27="CT",(H27/100)*G27,IF(J27="UN",(H27/1)*G27,IF(J27="M",(H27/1000)*G27,IF(J27="D",(H27/10)*G27,""))))) -> 5 | L27: 1354 | M27: -INV
A28: =L28 -> 1354 | B28: 3209536 | C28: =IF(ISNA(VLOOKUP(B28,'[2]Base de donnée de Pièce'!$C$8:$H$243,2)),"",(VLOOKUP(B28,'[2]Base de donnée de Pièce'!$C$8:$H$243,2))) -> Bornier à 2 raccordement mise à la terre PT 2,5-PE | G28: 25 | H28: =IF(ISNA(VLOOKUP(B28,'[2]Base de donnée de Pièce'!$C$8:$H$243,6)),"",VLOOKUP(B28,'[2]Base de donnée de Pièce'!$C$8:$H$243,6)) -> 2.96 | J28: =IF(ISNA(VLOOKUP(B28,'[2]Base de donnée de Pièce'!$C$8:$H$243,5)),"",VLOOKUP(B28,'[2]Base de donnée de Pièce'!$C$8:$H$243,5)) -> UN | K28: =IF(ISNA(IF(J28="CT",(H28/100)*G28,IF(J28="UN",(H28/1)*G28,IF(J28="M",(H28/1000)*G28,IF(J28="D",(H28/10)*G28,""))))),"",IF(J28="CT",(H28/100)*G28,IF(J28="UN",(H28/1)*G28,IF(J28="M",(H28/1000)*G28,IF(J28="D",(H28/10)*G28,""))))) -> 74 | L28: 1354 | M28: -INV
A29: =L29 -> 1354 | B29: 3209578 | C29: =IF(ISNA(VLOOKUP(B29,'[2]Base de donnée de Pièce'!$C$8:$H$243,2)),"",(VLOOKUP(B29,'[2]Base de donnée de Pièce'!$C$8:$H$243,2))) -> Bornier à 4 raccordements PT 2,5 | G29: 50 | H29: =IF(ISNA(VLOOKUP(B29,'[2]Base de donnée de Pièce'!$C$8:$H$243,6)),"",VLOOKUP(B29,'[2]Base de donnée de Pièce'!$C$8:$H$243,6)) -> 1.61 | J29: =IF(ISNA(VLOOKUP(B29,'[2]Base de donnée de Pièce'!$C$8:$H$243,5)),"",VLOOKUP(B29,'[2]Base de donnée de Pièce'!$C$8:$H$243,5)) -> UN | K29: =IF(ISNA(IF(J29="CT",(H29/100)*G29,IF(J29="UN",(H29/1)*G29,IF(J29="M",(H29/1000)*G29,IF(J29="D",(H29/10)*G29,""))))),"",IF(J29="CT",(H29/100)*G29,IF(J29="UN",(H29/1)*G29,IF(J29="M",(H29/1000)*G29,IF(J29="D",(H29/10)*G29,""))))) -> 80.5 | L29: 1354 | M29: -INV
A30: =L30 -> 1354 | B30: 3210499 | C30: =IF(ISNA(VLOOKUP(B30,'[2]Base de donnée de Pièce'!$C$8:$H$243,2)),"",(VLOOKUP(B30,'[2]Base de donnée de Pièce'!$C$8:$H$243,2))) -> Bornier 3 étages à 2 raccordements par étage PT 2,5 | G30: 50 | H30: =IF(ISNA(VLOOKUP(B30,'[2]Base de donnée de Pièce'!$C$8:$H$243,6)),"",VLOOKUP(B30,'[2]Base de donnée de Pièce'!$C$8:$H$243,6)) -> 4.1 | J30: =IF(ISNA(VLOOKUP(B30,'[2]Base de donnée de Pièce'!$C$8:$H$243,5)),"",VLOOKUP(B30,'[2]Base de donnée de Pièce'!$C$8:$H$243,5)) -> UN | K30: =IF(ISNA(IF(J30="CT",(H30/100)*G30,IF(J30="UN",(H30/1)*G30,IF(J30="M",(H30/1000)*G30,IF(J30="D",(H30/10)*G30,""))))),"",IF(J30="CT",(H30/100)*G30,IF(J30="UN",(H30/1)*G30,IF(J30="M",(H30/1000)*G30,IF(J30="D",(H30/10)*G30,""))))) -> 205 | L30: 1354 | M30: -INV
A31: =L31 -> 1354 | B31: 3211647 | C31: =IF(ISNA(VLOOKUP(B31,'[2]Base de donnée de Pièce'!$C$8:$H$243,2)),"",(VLOOKUP(B31,'[2]Base de donnée de Pièce'!$C$8:$H$243,2))) -> Flasque de fermeture 3 étages à 2 raccordementd PT 2,5 | G31: 10 | H31: =IF(ISNA(VLOOKUP(B31,'[2]Base de donnée de Pièce'!$C$8:$H$243,6)),"",VLOOKUP(B31,'[2]Base de donnée de Pièce'!$C$8:$H$243,6)) -> 0.85 | J31: =IF(ISNA(VLOOKUP(B31,'[2]Base de donnée de Pièce'!$C$8:$H$243,5)),"",VLOOKUP(B31,'[2]Base de donnée de Pièce'!$C$8:$H$243,5)) -> UN | K31: =IF(ISNA(IF(J31="CT",(H31/100)*G31,IF(J31="UN",(H31/1)*G31,IF(J31="M",(H31/1000)*G31,IF(J31="D",(H31/10)*G31,""))))),"",IF(J31="CT",(H31/100)*G31,IF(J31="UN",(H31/1)*G31,IF(J31="M",(H31/1000)*G31,IF(J31="D",(H31/10)*G31,""))))) -> 8.5 | L31: 1354 | M31: -INV
A32: =L32 -> 1354 | B32: 3211757 | C32: =IF(ISNA(VLOOKUP(B32,'[2]Base de donnée de Pièce'!$C$8:$H$243,2)),"",(VLOOKUP(B32,'[2]Base de donnée de Pièce'!$C$8:$H$243,2))) -> Bornier à 2 raccordements PT 4 | G32: 50 | H32: =IF(ISNA(VLOOKUP(B32,'[2]Base de donnée de Pièce'!$C$8:$H$243,6)),"",VLOOKUP(B32,'[2]Base de donnée de Pièce'!$C$8:$H$243,6)) -> 0.94 | J32: =IF(ISNA(VLOOKUP(B32,'[2]Base de donnée de Pièce'!$C$8:$H$243,5)),"",VLOOKUP(B32,'[2]Base de donnée de Pièce'!$C$8:$H$243,5)) -> UN | K32: =IF(ISNA(IF(J32="CT",(H32/100)*G32,IF(J32="UN",(H32/1)*G32,IF(J32="M",(H32/1000)*G32,IF(J32="D",(H32/10)*G32,""))))),"",IF(J32="CT",(H32/100)*G32,IF(J32="UN",(H32/1)*G32,IF(J32="M",(H32/1000)*G32,IF(J32="D",(H32/10)*G32,""))))) -> 47 | L32: 1354 | M32: -INV
A33: =L33 -> 1354 | B33: 3211776 | C33: =IF(ISNA(VLOOKUP(B33,'[2]Base de donnée de Pièce'!$C$8:$H$243,2)),"",(VLOOKUP(B33,'[2]Base de donnée de Pièce'!$C$8:$H$243,2))) -> Bornier à 2 raccordement mise à la terre PT 4-PE | G33: 25 | H33: =IF(ISNA(VLOOKUP(B33,'[2]Base de donnée de Pièce'!$C$8:$H$243,6)),"",VLOOKUP(B33,'[2]Base de donnée de Pièce'!$C$8:$H$243,6)) -> 4.09 | J33: =IF(ISNA(VLOOKUP(B33,'[2]Base de donnée de Pièce'!$C$8:$H$243,5)),"",VLOOKUP(B33,'[2]Base de donnée de Pièce'!$C$8:$H$243,5)) -> UN | K33: =IF(ISNA(IF(J33="CT",(H33/100)*G33,IF(J33="UN",(H33/1)*G33,IF(J33="M",(H33/1000)*G33,IF(J33="D",(H33/10)*G33,""))))),"",IF(J33="CT",(H33/100)*G33,IF(J33="UN",(H33/1)*G33,IF(J33="M",(H33/1000)*G33,IF(J33="D",(H33/10)*G33,""))))) -> 102.25 | L33: 1354 | M33: -INV
A34: =L34 -> 1354 | B34: 3213056 | C34: =IF(ISNA(VLOOKUP(B34,'[2]Base de donnée de Pièce'!$C$8:$H$243,2)),"",(VLOOKUP(B34,'[2]Base de donnée de Pièce'!$C$8:$H$243,2))) -> Cavalier de jonction rouge pour bornier senseur FBS 10-3,5 | G34: 10 | H34: =IF(ISNA(VLOOKUP(B34,'[2]Base de donnée de Pièce'!$C$8:$H$243,6)),"",VLOOKUP(B34,'[2]Base de donnée de Pièce'!$C$8:$H$243,6)) -> 4 | J34: =IF(ISNA(VLOOKUP(B34,'[2]Base de donnée de Pièce'!$C$8:$H$243,5)),"",VLOOKUP(B34,'[2]Base de donnée de Pièce'!$C$8:$H$243,5)) -> UN | K34: =IF(ISNA(IF(J34="CT",(H34/100)*G34,IF(J34="UN",(H34/1)*G34,IF(J34="M",(H34/1000)*G34,IF(J34="D",(H34/10)*G34,""))))),"",IF(J34="CT",(H34/100)*G34,IF(J34="UN",(H34/1)*G34,IF(J34="M",(H34/1000)*G34,IF(J34="D",(H34/10)*G34,""))))) -> 40 | L34: 1354 | M34: -INV
A35: =L35 -> 1354 | B35: 3213125 | C35: =IF(ISNA(VLOOKUP(B35,'[2]Base de donnée de Pièce'!$C$8:$H$243,2)),"",(VLOOKUP(B35,'[2]Base de donnée de Pièce'!$C$8:$H$243,2))) -> Cavalier de jonction bleu pour bornier senseur FBS 10-3,5 BU | G35: 10 | H35: =IF(ISNA(VLOOKUP(B35,'[2]Base de donnée de Pièce'!$C$8:$H$243,6)),"",VLOOKUP(B35,'[2]Base de donnée de Pièce'!$C$8:$H$243,6)) -> 4 | J35: =IF(ISNA(VLOOKUP(B35,'[2]Base de donnée de Pièce'!$C$8:$H$243,5)),"",VLOOKUP(B35,'[2]Base de donnée de Pièce'!$C$8:$H$243,5)) -> UN | K35: =IF(ISNA(IF(J35="CT",(H35/100)*G35,IF(J35="UN",(H35/1)*G35,IF(J35="M",(H35/1000)*G35,IF(J35="D",(H35/10)*G35,""))))),"",IF(J35="CT",(H35/100)*G35,IF(J35="UN",(H35/1)*G35,IF(J35="M",(H35/1000)*G35,IF(J35="D",(H35/10)*G35,""))))) -> 40 | L35: 1354 | M35: -INV
A36: =L36 -> 1354 | B36: 3240197 | C36: =IF(ISNA(VLOOKUP(B36,'[2]Base de donnée de Pièce'!$C$8:$H$243,2)),"",(VLOOKUP(B36,'[2]Base de donnée de Pièce'!$C$8:$H$243,2))) -> Goulotte CD 25x80 | G36: 2 | H36: =IF(ISNA(VLOOKUP(B36,'[2]Base de donnée de Pièce'!$C$8:$H$243,6)),"",VLOOKUP(B36,'[2]Base de donnée de Pièce'!$C$8:$H$243,6)) -> 9.62 | J36: =IF(ISNA(VLOOKUP(B36,'[2]Base de donnée de Pièce'!$C$8:$H$243,5)),"",VLOOKUP(B36,'[2]Base de donnée de Pièce'!$C$8:$H$243,5)) -> UN | K36: =IF(ISNA(IF(J36="CT",(H36/100)*G36,IF(J36="UN",(H36/1)*G36,IF(J36="M",(H36/1000)*G36,IF(J36="D",(H36/10)*G36,""))))),"",IF(J36="CT",(H36/100)*G36,IF(J36="UN",(H36/1)*G36,IF(J36="M",(H36/1000)*G36,IF(J36="D",(H36/10)*G36,""))))) -> 19.24 | L36: 1354 | M36: -INV
... A39: =L39 -> 1354 | B39: 3244575 | C39: =IF(ISNA(VLOOKUP(B39,'[2]Base de donnée de Pièce'!$C$8:$H$243,2)),"",(VLOOKUP(B39,'[2]Base de donnée de Pièce'!$C$8:$H$243,2))) -> Flasque de fermeture pour bornier senseur D-PTIO 1,5/S/3 | G39: 10 | H39: =IF(ISNA(VLOOKUP(B39,'[2]Base de donnée de Pièce'!$C$8:$H$243,6)),"",VLOOKUP(B39,'[2]Base de donnée de Pièce'!$C$8:$H$243,6)) -> 0.6 | J39: =IF(ISNA(VLOOKUP(B39,'[2]Base de donnée de Pièce'!$C$8:$H$243,5)),"",VLOOKUP(B39,'[2]Base de donnée de Pièce'!$C$8:$H$243,5)) -> UN | K39: =IF(ISNA(IF(J39="CT",(H39/100)*G39,IF(J39="UN",(H39/1)*G39,IF(J39="M",(H39/1000)*G39,IF(J39="D",(H39/10)*G39,""))))),"",IF(J39="CT",(H39/100)*G39,IF(J39="UN",(H39/1)*G39,IF(J39="M",(H39/1000)*G39,IF(J39="D",(H39/10)*G39,""))))) -> 6 | L39: 1354 | M39: -INV
A40: =L40 -> 1355 | B40: 3022218 | C40: =IF(ISNA(VLOOKUP(B40,'[2]Base de donnée de Pièce'!$C$8:$I$243,2)),"",(VLOOKUP(B40,'[2]Base de donnée de Pièce'!$C$8:$I$243,2))) -> Équerre de blocage Clipfix 35 | G40: 24 | H40: =IF(ISNA(VLOOKUP(B40,'[2]Base de donnée de Pièce'!$C$8:$I$243,6)),"",VLOOKUP(B40,'[2]Base de donnée de Pièce'!$C$8:$I$243,6)) -> 0.6 | J40: =IF(ISNA(VLOOKUP(B40,'[2]Base de donnée de Pièce'!$C$8:$I$243,5)),"",VLOOKUP(B40,'[2]Base de donnée de Pièce'!$C$8:$I$243,5)) -> UN | K40: =IF(ISNA(IF(J40="CT",(H40/100)*G40,IF(J40="UN",(H40/1)*G40,IF(J40="M",(H40/1000)*G40,IF(J40="D",(H40/10)*G40,""))))),"",IF(J40="CT",(H40/100)*G40,IF(J40="UN",(H40/1)*G40,IF(J40="M",(H40/1000)*G40,IF(J40="D",(H40/10)*G40,""))))) -> 14.4 | L40: 1355 | M40: -INV
A41: =L41 -> 1355 | B41: 0811969 | C41: =IF(ISNA(VLOOKUP(B41,'[2]Base de donnée de Pièce'!$C$8:$H$243,2)),"",(VLOOKUP(B41,'[2]Base de donnée de Pièce'!$C$8:$H$243,2))) -> Identification sur équerre de blocage KLM 3 | G41: 10 | H41: =IF(ISNA(VLOOKUP(B41,'[2]Base de donnée de Pièce'!$C$8:$H$243,6)),"",VLOOKUP(B41,'[2]Base de donnée de Pièce'!$C$8:$H$243,6)) -> 0.36 | J41: =IF(ISNA(VLOOKUP(B41,'[2]Base de donnée de Pièce'!$C$8:$H$243,5)),"",VLOOKUP(B41,'[2]Base de donnée de Pièce'!$C$8:$H$243,5)) -> UN | K41: =IF(ISNA(IF(J41="CT",(H41/100)*G41,IF(J41="UN",(H41/1)*G41,IF(J41="M",(H41/1000)*G41,IF(J41="D",(H41/10)*G41,""))))),"",IF(J41="CT",(H41/100)*G41,IF(J41="UN",(H41/1)*G41,IF(J41="M",(H41/1000)*G41,IF(J41="D",(H41/10)*G41,""))))) -> 3.6 | L41: 1355 | M41: -INV
A42: =L42 -> 1355 | B42: 3030417 | C42: =IF(ISNA(VLOOKUP(B42,'[2]Base de donnée de Pièce'!$C$8:$H$243,2)),"",(VLOOKUP(B42,'[2]Base de donnée de Pièce'!$C$8:$H$243,2))) -> Flasque de fermeture 2 raccordements D-ST 2,5 | G42: 9 | H42: =IF(ISNA(VLOOKUP(B42,'[2]Base de donnée de Pièce'!$C$8:$H$243,6)),"",VLOOKUP(B42,'[2]Base de donnée de Pièce'!$C$8:$H$243,6)) -> 0.48 | J42: =IF(ISNA(VLOOKUP(B42,'[2]Base de donnée de Pièce'!$C$8:$H$243,5)),"",VLOOKUP(B42,'[2]Base de donnée de Pièce'!$C$8:$H$243,5)) -> UN | K42: =IF(ISNA(IF(J42="CT",(H42/100)*G42,IF(J42="UN",(H42/1)*G42,IF(J42="M",(H42/1000)*G42,IF(J42="D",(H42/10)*G42,""))))),"",IF(J42="CT",(H42/100)*G42,IF(J42="UN",(H42/1)*G42,IF(J42="M",(H42/1000)*G42,IF(J42="D",(H42/10)*G42,""))))) -> 4.32 | L42: 1355 | M42: -INV
A43: =L43 -> 1355 | B43: 3030514 | C43: =IF(ISNA(VLOOKUP(B43,'[2]Base de donnée de Pièce'!$C$8:$H$243,2)),"",(VLOOKUP(B43,'[2]Base de donnée de Pièce'!$C$8:$H$243,2))) -> Flasque de fermeture 4 raccordements PT 2,5 | G43: 10 | H43: =IF(ISNA(VLOOKUP(B43,'[2]Base de donnée de Pièce'!$C$8:$H$243,6)),"",VLOOKUP(B43,'[2]Base de donnée de Pièce'!$C$8:$H$243,6)) -> 0.5 | J43: =IF(ISNA(VLOOKUP(B43,'[2]Base de donnée de Pièce'!$C$8:$H$243,5)),"",VLOOKUP(B43,'[2]Base de donnée de Pièce'!$C$8:$H$243,5)) -> UN | K43: =IF(ISNA(IF(J43="CT",(H43/100)*G43,IF(J43="UN",(H43/1)*G43,IF(J43="M",(H43/1000)*G43,IF(J43="D",(H43/10)*G43,""))))),"",IF(J43="CT",(H43/100)*G43,IF(J43="UN",(H43/1)*G43,IF(J43="M",(H43/1000)*G43,IF(J43="D",(H43/10)*G43,""))))) -> 5 | L43: 1355 | M43: -INV
A44: =L44 -> 1355 | B44: 3209536 | C44: =IF(ISNA(VLOOKUP(B44,'[2]Base de donnée de Pièce'!$C$8:$H$243,2)),"",(VLOOKUP(B44,'[2]Base de donnée de Pièce'!$C$8:$H$243,2))) -> Bornier à 2 raccordement mise à la terre PT 2,5-PE | G44: 25 | H44: =IF(ISNA(VLOOKUP(B44,'[2]Base de donnée de Pièce'!$C$8:$H$243,6)),"",VLOOKUP(B44,'[2]Base de donnée de Pièce'!$C$8:$H$243,6)) -> 2.96 | J44: =IF(ISNA(VLOOKUP(B44,'[2]Base de donnée de Pièce'!$C$8:$H$243,5)),"",VLOOKUP(B44,'[2]Base de donnée de Pièce'!$C$8:$H$243,5)) -> UN | K44: =IF(ISNA(IF(J44="CT",(H44/100)*G44,IF(J44="UN",(H44/1)*G44,IF(J44="M",(H44/1000)*G44,IF(J44="D",(H44/10)*G44,""))))),"",IF(J44="CT",(H44/100)*G44,IF(J44="UN",(H44/1)*G44,IF(J44="M",(H44/1000)*G44,IF(J44="D",(H44/10)*G44,""))))) -> 74 | L44: 1355 | M44: -INV
A45: =L45 -> 1355 | B45: 3209578 | C45: =IF(ISNA(VLOOKUP(B45,'[2]Base de donnée de Pièce'!$C$8:$H$243,2)),"",(VLOOKUP(B45,'[2]Base de donnée de Pièce'!$C$8:$H$243,2))) -> Bornier à 4 raccordements PT 2,5 | G45: 50 | H45: =IF(ISNA(VLOOKUP(B45,'[2]Base de donnée de Pièce'!$C$8:$H$243,6)),"",VLOOKUP(B45,'[2]Base de donnée de Pièce'!$C$8:$H$243,6)) -> 1.61 | J45: =IF(ISNA(VLOOKUP(B45,'[2]Base de donnée de Pièce'!$C$8:$H$243,5)),"",VLOOKUP(B45,'[2]Base de donnée de Pièce'!$C$8:$H$243,5)) -> UN | K45: =IF(ISNA(IF(J45="CT",(H45/100)*G45,IF(J45="UN",(H45/1)*G45,IF(J45="M",(H45/1000)*G45,IF(J45="D",(H45/10)*G45,""))))),"",IF(J45="CT",(H45/100)*G45,IF(J45="UN",(H45/1)*G45,IF(J45="M",(H45/1000)*G45,IF(J45="D",(H45/10)*G45,""))))) -> 80.5 | L45: 1355 | M45: -INV
A46: =L46 -> 1355 | B46: 3210499 | C46: =IF(ISNA(VLOOKUP(B46,'[2]Base de donnée de Pièce'!$C$8:$H$243,2)),"",(VLOOKUP(B46,'[2]Base de donnée de Pièce'!$C$8:$H$243,2))) -> Bornier 3 étages à 2 raccordements par étage PT 2,5 | G46: 50 | H46: =IF(ISNA(VLOOKUP(B46,'[2]Base de donnée de Pièce'!$C$8:$H$243,6)),"",VLOOKUP(B46,'[2]Base de donnée de Pièce'!$C$8:$H$243,6)) -> 4.1 | J46: =IF(ISNA(VLOOKUP(B46,'[2]Base de donnée de Pièce'!$C$8:$H$243,5)),"",VLOOKUP(B46,'[2]Base de donnée de Pièce'!$C$8:$H$243,5)) -> UN | K46: =IF(ISNA(IF(J46="CT",(H46/100)*G46,IF(J46="UN",(H46/1)*G46,IF(J46="M",(H46/1000)*G46,IF(J46="D",(H46/10)*G46,""))))),"",IF(J46="CT",(H46/100)*G46,IF(J46="UN",(H46/1)*G46,IF(J46="M",(H46/1000)*G46,IF(J46="D",(H46/10)*G46,""))))) -> 205 | L46: 1355 | M46: -INV
...
