Workbook

Sheet Acceuil
A1: Nom du projet:
A2: Lieu:

Sheet Ensemble
C2: ="Chantier: "&Acceuil!B1&" - "&Acceuil!$B$2 -> Chantier: - | O2: ="Chantier: "&Acceuil!B1&" - "&Acceuil!$B$2 -> Chantier: - | AA2: ="Chantier: "&Acceuil!B1&" - "&Acceuil!$B$2 -> Chantier: - | AM2: ="Chantier: "&Acceuil!B1&" - "&Acceuil!$B$2 -> Chantier: -
C4: =IF(D14="non","Porte"&" "&D10/10&" / "& D11/10&"; sans VR; "&C6,"Porte"&" "&D10/10&" / "& D11/10&"; sans VR; Renforcée; "&C6) -> Porte 0 / 0; sans VR; | O4: ="Fenêtre"&" "&P10/10&" / "& P11/10&"; sans VR; "&O6 -> Fenêtre 0 / 0; sans VR; | AA4: =IF(AB14="non","Porte"&" "&AB10/10&" / "& AB11/10&"; avec VR; "&AA6,"Porte"&" "&AB10/10&" / "& AB11/10&"; avec VR; Renforcée; "&AA6) -> Porte 0 / 0; avec VR; | AM4: ="Fenêtre"&" "&AN10/10&" / "& AN11/10&"; avec VR; "&AM6 -> Fenêtre 0 / 0; avec VR;
C8: Porte Sans Volet Roulant Standard | J8: dimensions extérieures | O8: FENETRE Sans Volet Roulant | V8: dimensions extérieures | AA8: Porte avec Volet Roulant | AH8: dimensions extérieures | AM8: FENETRE avec Volet Roulant | AT8: dimensions extérieures
C9: Nombre: | E9: u | O9: Nombre: | Q9: u | AA9: Nombre: | AC9: u | AM9: Nombre: | AO9: u
C10: Largeur nominale: | E10: mm | J10: =IF(D14="non",D10+120,D10+300) -> 120 | K10: mm | O10: Largeur nominale: | Q10: mm | V10: =P10+120 -> 120 | W10: mm | AA10: Largeur nominale: | AC10: mm | AH10: =IF(AB14="oui",AB10+300,AB10+120) -> 120 | AI10: mm | AM10: Largeur nominale: | AO10: mm | AT10: =AN10+120 -> 120 | AU10: mm
C11: Hauteur nominale: | E11: mm | J11: =IF(D14="non",D12+280,D12+335) -> 2430 | K11: mm | O11: Hauteur nominale: | Q11: mm | V11: =P11+360+50 -> 410 | W11: mm | AA11: Hauteur nominale: | AC11: mm | AH11: =AB11+570 -> 570 | AI11: mm | AM11: Hauteur nominale: | AO11: mm | AT11: =AN11+650+50 -> 700 | AU11: mm
C12: Hauteur linteau: | D12: 2150 | E12: mm | F12: par défaut à 2150mm | H12: =IF(D11=D12,"","Attention hauteur porte différent hauteur linteau") -> Attention hauteur porte différent hauteur linteau | O12: Hauteur linteau: | P12: 2150 | Q12: mm | R12: par défaut à 2150mm | T12: =IF(P319+130<900,"Attention hauteur allège <900","") | AA12: Hauteur linteau: | AB12: 2150 | AC12: mm | AD12: par défaut à 2150mm | AF12: =IF(AB11=AB12,"","Attention hauteur porte différent hauteur linteau") -> Attention hauteur porte différent hauteur linteau | AM12: Hauteur linteau: | AN12: 2150 | AO12: mm | AP12: par défaut à 2150mm | AR12: =IF((AT11+AN319)-AN13=0,"","Attention écart avec linteau de "&(AT11+AN319)-AN13)
C13: Hauteur mur: | D13: 2720 | E13: mm | F13: par défaut à 2720mm | H13: =IF(D13=2720,"","Attention hauteur mur non standard") | O13: Hauteur mur: | P13: 2720 | Q13: mm | R13: par défaut à 2720mm | T13: =IF(P13=2720,"","Attention hauteur mur non standard") | AA13: Hauteur mur: | AB13: 2720 | AC13: mm | AD13: par défaut à 2720mm | AF13: =IF(AB13=2720,"","Attention hauteur mur non standard") | AM13: Hauteur mur: | AN13: 2720 | AO13: mm | AP13: par défaut à 2720mm | AR13: =IF(AN319+130<900,"Attention hauteur allège <900","")
C14: Renforcée | D14: non | H14: =IF(D12=2150,"","Attention hauteur linteau non standard") | T14: =IF(P12=2150,"","Attention hauteur linteau non standard") | AA14: Renforcée | AB14: non | AF14: =IF(AB12=2150,"","Attention hauteur linteau non standard") | AR14: =IF(AN13=2720,"","Attention hauteur mur non standard")
C15: Porte de garage | D15: non | E15: =IF(D15="OUI","changer hauteur linteau à "&D11-45,"") | H15: =IF(D12=D11,"","Problème hauteur porte/hauteur linteau") -> Problème hauteur porte/hauteur linteau | AF15: =IF(AB12=AB11,"","Problème hauteur porte/hauteur linteau") -> Problème hauteur porte/hauteur linteau | AR15: =IF(AN12=2150,"","Attention hauteur linteau non standard")
C17: Désignation | E17: Section | H17: Longueur | J17: unité | K17: unité/1 | O17: Désignation | Q17: Section | T17: Longueur | V17: unité | W17: unité/1 | AA17: Désignation | AC17: Section | AF17: Longueur | AH17: unité | AI17: unité/1 | AM17: Désignation | AO17: Section | AR17: Longueur | AT17: unité | AU17: unité/1
C18: =IF(D14="oui","","Traverses") -> Traverses | D18: =IF(D14="oui","","45") -> 45 | E18: =IF(D14="non","x","") -> x | F18: =IF(D14="oui","",145) -> 145 | H18: =IF(D14="oui","",D10+120) -> 120 | I18: =IF(D14="oui","","mm") -> mm | J18: =IF(D14="oui","",$D$9*K18) -> 0 | K18: =IF(D14="oui","",1) -> 1 | O18: Traverses | P18: 45 | Q18: x | R18: 145 | T18: =P10+120 -> 120 | U18: mm | V18: =$P$9*W18 -> 0 | W18: 2 | AA18: =IF(AB14="oui","Traverses à raboter en 35mm","Traverses") -> Traverses | AB18: =IF(AB14="oui","35","45") -> 45 | AC18: x | AD18: 145 | AF18: =IF(AB14="oui",AB10+300,AB10+120) -> 120 | AG18: mm | AH18: =$AB$9*AI18 -> 0 | AI18: =IF(AB14="oui",1,3) -> 3 | AM18: Traverses | AN18: 45 | AO18: x | AP18: 145 | AR18: =AN10+120 -> 120 | AS18: mm | AT18: =$AN$9*AU18 -> 0 | AU18: 4
C19: =IF(D14="non","Montant avec entailles","Montant sans entailles") -> Montant avec entailles | D19: 45 | E19: x | F19: 145 | H19: =IF(D14="oui",D13,D11+220+15) -> 235 | I19: mm | J19: =$D$9*K19 -> 0 | K19: 2 | O19: Montant avec entaille | P19: 45 | Q19: x | R19: 145 | T19: =P11+270+50 -> 320 | U19: mm | V19: =$P$9*W19 -> 0 | W19: 2 | AA19: =IF(AB14="oui","Montant sans entailles","Montant avec entailles") -> Montant avec entailles | AB19: 45 | AC19: x | AD19: 145 | AF19: =IF(AB14="oui",AB11+535,AB11+435) -> 435 | AG19: mm | AH19: =$AB$9*AI19 -> 0 | AI19: 2 | AM19: Montant avec entaille | AN19: 45 | AO19: x | AP19: 145 | AR19: =AN11+470+50 -> 520 | AS19: mm | AT19: =$AN$9*AU19 -> 0 | AU19: 2
C20: =IF(D14="non","","Montant sans entailles") | D20: =IF(D14="non","",45) | E20: =IF(D14="non","","x") | F20: =IF(D14="non","",145) | H20: =IF(D14="non","",D12+15) | I20: =IF(D14="non","","mm") | J20: =IF(D14="non","",$D$9*K20) | K20: =IF(D14="non","",4) | AA20: =IF(AB14="oui","Montant sans entailles","") | AB20: =IF(AB14="oui","45","") | AC20: =IF(AB14="oui","x","") | AD20: =IF(AB14="oui",145,"") | AF20: =IF(AB14="oui",AB11+215,"") | AG20: =IF(AB14="oui","mm","") | AH20: =IF(AB14="oui",AI20*AB9,"") | AI20: =IF(AB14="oui",4,"")
C22: Linteaux 1 | D22: =IF(D14="non","45","LC 140") -> 45 | E22: x | F22: =IF(D14="non",220,320) -> 220 | H22: =IF(D14="non",D10+120,D10+210) -> 120 | I22: mm | J22: =$D$9*K22 -> 0 | K22: =IF(D14="non",2,1) -> 2 | O22: Linteaux 1 | P22: 45 | Q22: x | R22: 220 | T22: =P10+120 -> 120 | U22: mm | V22: =$P$9*W22 -> 0 | W22: 2 | AA22: Linteaux 1 | AB22: =IF(AB14="oui","LC 140","45") -> 45 | AC22: x | AD22: =IF(AB14="oui","320","220") -> 220 | AF22: =IF(AB14="oui",AB10+210,AB10+120) -> 120 | AG22: mm | AH22: =$AB$9*AI22 -> 0 | AI22: =IF(AB14="oui",1,2) -> 2 | AM22: Linteaux | AN22: 45 | AO22: x | AP22: 220 | AR22: =AN10+120 -> 120 | AS22: mm | AT22: =$AN$9*AU22 -> 0 | AU22: 2
C23: =IF(D14="oui","",IF(D10>1800,"Linteau central","")) | D23: =IF(D14="oui","",IF(D10>1800,"45","")) | E23: =IF(D14="oui","",IF(D10>1800,"x","")) | F23: =IF(D14="oui","",IF(D10>1800,220,"")) | H23: =IF(D14="oui","",IF(D10>1800,D10+120-90,"")) | I23: =IF(D14="oui","",IF(D10>1800,"mm","")) | J23: =IF(D14="oui","",IF(D10>1800,D9*K23,"")) | K23: =IF(D14="oui","",IF(D10>1800,"1","")) | O23: =IF(P10>1800,"Linteau central","") | P23: =IF(P10>1800,"45","") | Q23: =IF(P10>1800,"x","") | R23: =IF(P10>1800,"220","") | T23: =IF(P10>1800,P10+120-90,"") | U23: =IF(P10>1800,"mm","") | V23: =IF(P10>1800,P9*W23,"") | W23: =IF(P10>1800,"1","") | AA23: =IF(AB14="oui","",IF(AB10>1800,"Linteau central","")) | AB23: =IF(AB14="oui","",IF(AB10>1800,"45","")) | AC23: =IF(AA23="","","x") | AD23: =IF(AB14="oui","",IF(AB10>1800,"220","")) | AF23: =IF(AB14="oui","",IF(AB10>1800,AB10+120-90,"")) | AG23: =IF(AB14="oui","",IF(AB10>1800,"mm","")) | AH23: =IF(AB14="oui","",IF(AB10>1800,AB9*AI23,"")) | AI23: =IF(AB14="oui","",IF(AB10>1800,"1","")) | AM23: =IF(AN10>1800,"Linteau central","") | AN23: =IF(AN10>1800,45,"") | AO23: =IF(AN10>1800,"x","") | AP23: =IF(AN10>1800,220,"") | AR23: =IF(AN10>1800,AN10+120-90,"") | AS23: =IF(AN10>1800,"mm","") | AT23: =IF(AN10>1800,AN9*AU23,"") | AU23: =IF(AN10>1800,"1","")
C25: OSB 15mm | D25: ép | G25: Dimensions | J25: unité | K25: unité/1 | O25: OSB 15mm | P25: ép | S25: Dimensions | V25: unité | W25: unité/1 | AA25: OSB 15mm | AB25: ép | AE25: Dimensions | AH25: unité | AI25: unité/1 | AM25: OSB 15mm | AN25: ép | AQ25: Dimensions | AT25: unité | AU25: unité/1
C26: OSB Joue latéral | D26: 15 | F26: 205 | G26: x | H26: =D11 -> 0 | I26: mm | J26: =D9*K26 -> 0 | K26: 2 | O26: OSB Joue latéral | P26: 15 | R26: 205 | S26: x | T26: =P11 -> 0 | U26: mm | V26: =P9*W26 -> 0 | W26: 2 | AA26: OSB Joue latérale | AB26: 15 | AD26: 205 | AE26: x | AF26: =AB11 -> 0 | AG26: mm | AH26: =AB9*AI26 -> 0 | AI26: 2 | AM26: OSB Joue latérale | AN26: 15 | AP26: 205 | AQ26: x | AR26: =AN11 -> 0 | AS26: mm | AT26: =AN9*AU26 -> 0 | AU26: 2
C27: OSB Joue Haute | D27: 15 | F27: 205 | G27: x | H27: =D10+30 -> 30 | I27: mm | J27: =K27*D9 -> 0 | K27: 1 | O27: OSB Joue Haute | P27: 15 | R27: 205 | S27: x | T27: =P10+30 -> 30 | U27: mm | V27: =W27*P9 -> 0 | W27: 1
AA28: OSB 12mm | AB28: ép | AE28: Dimensions | AH28: unité | AI28: unité/1 | AM28: OSB 12mm | AN28: ép | AQ28: Dimensions | AT28: unité | AU28: unité/1
AA29: OSB Intérieur | AB29: 12 | AD29: 395 | AE29: x | AF29: =IF(AB14="oui",AB10+210,AB10+30) -> 30 | AG29: mm | AH29: =AI29*AB9 -> 0 | AI29: 1 | AM29: OSB Intérieur | AN29: 12 | AP29: 395 | AQ29: x | AR29: =AN10+30 -> 30 | AS29: mm | AT29: =AU29*AN9 -> 0 | AU29: 1
AA31: Revêtement avant | AB31: ép | AE31: Dimensions | AH31: unité | AI31: unité/1 | AM31: Revêtement avant | AN31: ép | AQ31: Dimensions | AT31: unité | AU31: unité/1
AE32: CONFORT + | AQ32: CONFORT +
AA33: FIBRE à couper en longueur | AB33: 40 | AD33: 560 | AE33: x | AF33: 590 | AG33: mm | AH33: =AI33*AB9 -> 0 | AI33: =IF(AB14="oui",ROUNDUP((AB10+180)/AD33,0),ROUNDUP(AB10/AD33,0)) -> 0 | AM33: FIBRE à couper en longueur | AN33: 40 | AP33: 560 | AQ33: x | AR33: 590 | AS33: mm | AT33: =AN9*AU33 -> 0 | AU33: =ROUNDUP(AN10/AP33,0) -> 0
AA34: Liteaux | AB34: 27x38 | AF34: 3 | AG34: ml | AH34: =AB9*AI34 -> 0 | AI34: =ROUNDUP(((AH10/600)*(AB13-AB12+40)/1000)/AF34,0) -> 1 | AM34: Liteaux | AN34: 27x38 | AR34: 3 | AS34: ml | AT34: =AN9*AU34 -> 0 | AU34: =ROUNDUP(((AT10/600)*(AN13-AN12+40)/1000)/AR34,0) -> 1
AA35: Pare Pluie | AH35: =ROUNDUP(AB9*AH10*(AB13-AB12+40)/1000000*1.15,1)&" m²" -> 0 m² | AI35: =ROUNDUP(AH10*(AB13-AB12+40)/1000000*1.15,1)&" m²" -> 0,1 m² | AM35: Pare Pluie | AT35: =ROUNDUP(AN9*AT10*(AN13-AN12+40)/1000000*1.15,1)&" m²" -> 0 m² | AU35: =ROUNDUP(AT10*(AN13-AN12+40)/1000000*1.15,1)&" m²" -> 0,1 m²
AE36: RWH | AQ36: RWH
AA37: RWH 16mm | AB37: 16 | AD37: 595 | AE37: x | AF37: =IF(AB14="oui",AB10+210,AB10+30) -> 30 | AG37: mm | AH37: =AI37*AB9 -> 0 | AI37: 1 | AM37: RWH 16mm | AN37: 16 | AP37: 595 | AQ37: x | AR37: =AN10+30 -> 30 | AS37: mm | AT37: =AU37*AN9 -> 0 | AU37: 1
C72: Précadre | O72: Précadre | AA72: Précadre | AM72: Précadre
C74: Montant 1 PC | D74: 0 | E74: 0 | O74: Montant 1 PC | P74: 0 | Q74: =P319+45 -> 2065 | AA74: Montant 1 PC | AB74: 0 | AC74: 0 | AM74: Montant 1 PC | AN74: 0 | AO74: =AN319+45 -> 2065
D75: =D74+45 -> 45 | E75: =E74 -> 0 | P75: =P74+45 -> 45 | Q75: =Q74 -> 2065 | AB75: =AB74+45 -> 45 | AC75: =AC74 -> 0 | AN75: =AN74+45 -> 45 | AO75: =AO74 -> 2065
D76: =D75 -> 45 | E76: =H$19 -> 235 | P76: =P75 -> 45 | Q76: =T$19+Q75 -> 2385 | AB76: =AB75 -> 45 | AC76: =AF$19 -> 435 | AN76: =AN75 -> 45 | AO76: =AR$19+AO74 -> 2585
D77: =D74 -> 0 | E77: =E76 -> 235 | P77: =P74 -> 0 | Q77: =Q76 -> 2385 | AB77: =AB74 -> 0 | AC77: =AC76 -> 435 | AN77: =AN74 -> 0 | AO77: =AO76 -> 2585
D78: =D74 -> 0 | E78: =E74 -> 0 | P78: =P74 -> 0 | Q78: =Q74 -> 2065 | AB78: =AB74 -> 0 | AC78: =AC74 -> 0 | AN78: =AN74 -> 0 | AO78: =AO74 -> 2065
C80: Montant 2 PC | D80: =(J$10-45)+D74 -> 75 | E80: =E74 -> 0 | O80: Montant 2 PC | P80: =(V$10-45)+P74 -> 75 | Q80: =Q74 -> 2065 | AA80: Montant 2 PC | AB80: =(AH$10-45)+AB74 -> 75 | AC80: =AC74 -> 0 | AM80: Montant 2 PC | AN80: =(AT$10-45)+AN74 -> 75 | AO80: =AO74 -> 2065
D81: =(J$10-45)+D75 -> 120 | E81: =E75 -> 0 | P81: =(V$10-45)+P75 -> 120 | Q81: =Q75 -> 2065 | AB81: =(AH$10-45)+AB75 -> 120 | AC81: =AC75 -> 0 | AN81: =(AT$10-45)+AN75 -> 120 | AO81: =AO75 -> 2065
D82: =(J$10-45)+D76 -> 120 | E82: =E76 -> 235 | P82: =(V$10-45)+P76 -> 120 | Q82: =Q76 -> 2385 | AB82: =(AH$10-45)+AB76 -> 120 | AC82: =AC76 -> 435 | AN82: =(AT$10-45)+AN76 -> 120 | AO82: =AO76 -> 2585
D83: =(J$10-45)+D77 -> 75 | E83: =E77 -> 235 | P83: =(V$10-45)+P77 -> 75 | Q83: =Q77 -> 2385 | AB83: =(AH$10-45)+AB77 -> 75 | AC83: =AC77 -> 435 | AN83: =(AT$10-45)+AN77 -> 75 | AO83: =AO77 -> 2585
D84: =(J$10-45)+D78 -> 75 | E84: =E78 -> 0 | P84: =(V$10-45)+P78 -> 75 | Q84: =Q78 -> 2065 | AB84: =(AH$10-45)+AB78 -> 75 | AC84: =AC78 -> 0 | AN84: =(AT$10-45)+AN78 -> 75 | AO84: =AO78 -> 2065
C86: Linteau PC | D86: =IF(D14="oui",45+D74,D74) -> 0 | E86: =D$12+15 -> 2165 | O86: Linteau PC | P86: =P74 -> 0 | Q86: =P$12+15 -> 2165 | AA86: Linteau PC | AB86: =IF(AB14="oui",45+AB74,AB74) -> 0 | AC86: =AB$12+215 -> 2365 | AM86: Linteau PC | AN86: =AN74 -> 0 | AO86: =AN$12+215 -> 2365
...

Sheet Ensemble (2)
C2: ="Chantier: "&Acceuil!B1&" - "&Acceuil!$B$2 -> Chantier: - | O2: ="Chantier: "&Acceuil!B1&" - "&Acceuil!$B$2 -> Chantier: - | AA2: ="Chantier: "&Acceuil!B1&" - "&Acceuil!$B$2 -> Chantier: - | AM2: ="Chantier: "&Acceuil!B1&" - "&Acceuil!$B$2 -> Chantier: -
C4: =IF(D14="non","Porte"&" "&D10/10&" / "& D11/10&"; sans VR; "&C6,"Porte"&" "&D10/10&" / "& D11/10&"; sans VR; Renforcée; "&C6) -> Porte 150 / 215; sans VR; | O4: ="Fenêtre"&" "&P10/10&" / "& P11/10&"; sans VR; "&O6 -> Fenêtre 150 / 90; sans VR; | AA4: =IF(AB14="non","Porte"&" "&AB10/10&" / "& AB11/10&"; avec VR; "&AA6,"Porte"&" "&AB10/10&" / "& AB11/10&"; avec VR; Renforcée; "&AA6) -> Porte 150 / 215; avec VR; | AM4: ="Fenêtre"&" "&AN10/10&" / "& AN11/10&"; avec VR; "&AM6 -> Fenêtre 90 / 80; avec VR;
C8: Porte Sans Volet Roulant Standard | J8: dimensions extérieures | O8: FENETRE Sans Volet Roulant | V8: dimensions extérieures | AA8: Porte avec Volet Roulant | AH8: dimensions extérieures | AM8: FENETRE avec Volet Roulant | AT8: dimensions extérieures
C9: Nombre: | D9: 1 | E9: u | O9: Nombre: | P9: 1 | Q9: u | AA9: Nombre: | AB9: 1 | AC9: u | AM9: Nombre: | AN9: 1 | AO9: u
C10: Largeur nominale: | D10: 1500 | E10: mm | J10: =IF(D14="non",D10+120,D10+300) -> 1620 | K10: mm | O10: Largeur nominale: | P10: 1500 | Q10: mm | V10: =P10+120 -> 1620 | W10: mm | AA10: Largeur nominale: | AB10: 1500 | AC10: mm | AH10: =IF(AB14="oui",AB10+300,AB10+120) -> 1620 | AI10: mm | AM10: Largeur nominale: | AN10: 900 | AO10: mm | AT10: =AN10+120 -> 1020 | AU10: mm
C11: Hauteur nominale: | D11: 2150 | E11: mm | J11: =IF(D14="non",D12+280,D12+335) -> 2430 | K11: mm | O11: Hauteur nominale: | P11: 900 | Q11: mm | V11: =P11+360+50 -> 1310 | W11: mm | AA11: Hauteur nominale: | AB11: 2150 | AC11: mm | AH11: =AB11+570 -> 2720 | AI11: mm | AM11: Hauteur nominale: | AN11: 800 | AO11: mm | AT11: =AN11+650+50 -> 1500 | AU11: mm
C12: Hauteur linteau: | D12: 2150 | E12: mm | F12: par défaut à 2150mm | H12: =IF(D11=D12,"","Attention hauteur porte différent hauteur linteau") | O12: Hauteur linteau: | P12: 2150 | Q12: mm | R12: par défaut à 2150mm | T12: =IF(P319+130<900,"Attention hauteur allège <900","") | AA12: Hauteur linteau: | AB12: 2150 | AC12: mm | AD12: par défaut à 2150mm | AF12: =IF(AB11=AB12,"","Attention hauteur porte différent hauteur linteau") | AM12: Hauteur linteau: | AN12: 2150 | AO12: mm | AP12: par défaut à 2150mm | AR12: =IF((AT11+AN319)-AN13=0,"","Attention écart avec linteau de "&(AT11+AN319)-AN13)
C13: Hauteur mur: | D13: 2720 | E13: mm | F13: par défaut à 2720mm | H13: =IF(D13=2720,"","Attention hauteur mur non standard") | O13: Hauteur mur: | P13: 2720 | Q13: mm | R13: par défaut à 2720mm | T13: =IF(P13=2720,"","Attention hauteur mur non standard") | AA13: Hauteur mur: | AB13: 2720 | AC13: mm | AD13: par défaut à 2720mm | AF13: =IF(AB13=2720,"","Attention hauteur mur non standard") | AM13: Hauteur mur: | AN13: 2720 | AO13: mm | AP13: par défaut à 2720mm | AR13: =IF(AN319+130<900,"Attention hauteur allège <900","")
C14: Renforcée | D14: non | H14: =IF(D12=2150,"","Attention hauteur linteau non standard") | T14: =IF(P12=2150,"","Attention hauteur linteau non standard") | AA14: Renforcée | AB14: non | AF14: =IF(AB12=2150,"","Attention hauteur linteau non standard") | AR14: =IF(AN13=2720,"","Attention hauteur mur non standard")
C15: Porte de garage | D15: non | E15: =IF(D15="OUI","changer hauteur linteau à "&D11-45,"") | H15: =IF(D12=D11,"","Problème hauteur porte/hauteur linteau") | AF15: =IF(AB12=AB11,"","Problème hauteur porte/hauteur linteau") | AR15: =IF(AN12=2150,"","Attention hauteur linteau non standard")
C17: Désignation | E17: Section | H17: Longueur | J17: unité | K17: unité/1 | O17: Désignation | Q17: Section | T17: Longueur | V17: unité | W17: unité/1 | AA17: Désignation | AC17: Section | AF17: Longueur | AH17: unité | AI17: unité/1 | AM17: Désignation | AO17: Section | AR17: Longueur | AT17: unité | AU17: unité/1
C18: =IF(D14="oui","","Traverses") -> Traverses | D18: =IF(D14="oui","","45") -> 45 | E18: =IF(D14="non","x","") -> x | F18: =IF(D14="oui","",145) -> 145 | H18: =IF(D14="oui","",D10+120) -> 1620 | I18: =IF(D14="oui","","mm") -> mm | J18: =IF(D14="oui","",$D$9*K18) -> 1 | K18: =IF(D14="oui","",1) -> 1 | O18: Traverses | P18: 45 | Q18: x | R18: 145 | T18: =P10+120 -> 1620 | U18: mm | V18: =$P$9*W18 -> 2 | W18: 2 | AA18: =IF(AB14="oui","Traverses à raboter en 35mm","Traverses") -> Traverses | AB18: =IF(AB14="oui","35","45") -> 45 | AC18: x | AD18: 145 | AF18: =IF(AB14="oui",AB10+300,AB10+120) -> 1620 | AG18: mm | AH18: =$AB$9*AI18 -> 3 | AI18: =IF(AB14="oui",1,3) -> 3 | AM18: Traverses | AN18: 45 | AO18: x | AP18: 145 | AR18: =AN10+120 -> 1020 | AS18: mm | AT18: =$AN$9*AU18 -> 4 | AU18: 4
C19: =IF(D14="non","Montant avec entailles","Montant sans entailles") -> Montant avec entailles | D19: 45 | E19: x | F19: 145 | H19: =IF(D14="oui",D13,D11+220+15) -> 2385 | I19: mm | J19: =$D$9*K19 -> 2 | K19: 2 | O19: Montant avec entaille | P19: 45 | Q19: x | R19: 145 | T19: =P11+270+50 -> 1220 | U19: mm | V19: =$P$9*W19 -> 2 | W19: 2 | AA19: =IF(AB14="oui","Montant sans entailles","Montant avec entailles") -> Montant avec entailles | AB19: 45 | AC19: x | AD19: 145 | AF19: =IF(AB14="oui",AB11+535,AB11+435) -> 2585 | AG19: mm | AH19: =$AB$9*AI19 -> 2 | AI19: 2 | AM19: Montant avec entaille | AN19: 45 | AO19: x | AP19: 145 | AR19: =AN11+470+50 -> 1320 | AS19: mm | AT19: =$AN$9*AU19 -> 2 | AU19: 2
C20: =IF(D14="non","","Montant sans entailles") | D20: =IF(D14="non","",45) | E20: =IF(D14="non","","x") | F20: =IF(D14="non","",145) | H20: =IF(D14="non","",D12+15) | I20: =IF(D14="non","","mm") | J20: =IF(D14="non","",$D$9*K20) | K20: =IF(D14="non","",4) | AA20: =IF(AB14="oui","Montant sans entailles","") | AB20: =IF(AB14="oui","45","") | AC20: =IF(AB14="oui","x","") | AD20: =IF(AB14="oui",145,"") | AF20: =IF(AB14="oui",AB11+215,"") | AG20: =IF(AB14="oui","mm","") | AH20: =IF(AB14="oui",AI20*AB9,"") | AI20: =IF(AB14="oui",4,"")
C22: Linteaux 1 | D22: =IF(D14="non","45","LC 140") -> 45 | E22: x | F22: =IF(D14="non",220,320) -> 220 | H22: =IF(D14="non",D10+120,D10+210) -> 1620 | I22: mm | J22: =$D$9*K22 -> 2 | K22: =IF(D14="non",2,1) -> 2 | O22: Linteaux 1 | P22: 45 | Q22: x | R22: 220 | T22: =P10+120 -> 1620 | U22: mm | V22: =$P$9*W22 -> 2 | W22: 2 | AA22: Linteaux 1 | AB22: =IF(AB14="oui","LC 140","45") -> 45 | AC22: x | AD22: =IF(AB14="oui","320","220") -> 220 | AF22: =IF(AB14="oui",AB10+210,AB10+120) -> 1620 | AG22: mm | AH22: =$AB$9*AI22 -> 2 | AI22: =IF(AB14="oui",1,2) -> 2 | AM22: Linteaux | AN22: 45 | AO22: x | AP22: 220 | AR22: =AN10+120 -> 1020 | AS22: mm | AT22: =$AN$9*AU22 -> 2 | AU22: 2
C23: =IF(D14="oui","",IF(D10>1800,"Linteau central","")) | D23: =IF(D14="oui","",IF(D10>1800,"45","")) | E23: =IF(D14="oui","",IF(D10>1800,"x","")) | F23: =IF(D14="oui","",IF(D10>1800,220,"")) | H23: =IF(D14="oui","",IF(D10>1800,D10+120-90,"")) | I23: =IF(D14="oui","",IF(D10>1800,"mm","")) | J23: =IF(D14="oui","",IF(D10>1800,D9*K23,"")) | K23: =IF(D14="oui","",IF(D10>1800,"1","")) | O23: =IF(P10>1800,"Linteau central","") | P23: =IF(P10>1800,"45","") | Q23: =IF(P10>1800,"x","") | R23: =IF(P10>1800,"220","") | T23: =IF(P10>1800,P10+120-90,"") | U23: =IF(P10>1800,"mm","") | V23: =IF(P10>1800,P9*W23,"") | W23: =IF(P10>1800,"1","") | AA23: =IF(AB14="oui","",IF(AB10>1800,"Linteau central","")) | AB23: =IF(AB14="oui","",IF(AB10>1800,"45","")) | AC23: =IF(AA23="","","x") | AD23: =IF(AB14="oui","",IF(AB10>1800,"220","")) | AF23: =IF(AB14="oui","",IF(AB10>1800,AB10+120-90,"")) | AG23: =IF(AB14="oui","",IF(AB10>1800,"mm","")) | AH23: =IF(AB14="oui","",IF(AB10>1800,AB9*AI23,"")) | AI23: =IF(AB14="oui","",IF(AB10>1800,"1","")) | AM23: =IF(AN10>1800,"Linteau central","") | AN23: =IF(AN10>1800,45,"") | AO23: =IF(AN10>1800,"x","") | AP23: =IF(AN10>1800,220,"") | AR23: =IF(AN10>1800,AN10+120-90,"") | AS23: =IF(AN10>1800,"mm","") | AT23: =IF(AN10>1800,AN9*AU23,"") | AU23: =IF(AN10>1800,"1","")
C25: OSB 15mm | D25: ép | G25: Dimensions | J25: unité | K25: unité/1 | O25: OSB 15mm | P25: ép | S25: Dimensions | V25: unité | W25: unité/1 | AA25: OSB 15mm | AB25: ép | AE25: Dimensions | AH25: unité | AI25: unité/1 | AM25: OSB 15mm | AN25: ép | AQ25: Dimensions | AT25: unité | AU25: unité/1
C26: OSB Joue latéral | D26: 15 | F26: 205 | G26: x | H26: =D11 -> 2150 | I26: mm | J26: =D9*K26 -> 2 | K26: 2 | O26: OSB Joue latéral | P26: 15 | R26: 205 | S26: x | T26: =P11 -> 900 | U26: mm | V26: =P9*W26 -> 2 | W26: 2 | AA26: OSB Joue latérale | AB26: 15 | AD26: 205 | AE26: x | AF26: =AB11 -> 2150 | AG26: mm | AH26: =AB9*AI26 -> 2 | AI26: 2 | AM26: OSB Joue latérale | AN26: 15 | AP26: 205 | AQ26: x | AR26: =AN11 -> 800 | AS26: mm | AT26: =AN9*AU26 -> 2 | AU26: 2
C27: OSB Joue Haute | D27: 15 | F27: 205 | G27: x | H27: =D10+30 -> 1530 | I27: mm | J27: =K27*D9 -> 1 | K27: 1 | O27: OSB Joue Haute | P27: 15 | R27: 205 | S27: x | T27: =P10+30 -> 1530 | U27: mm | V27: =W27*P9 -> 1 | W27: 1
AA28: OSB 12mm | AB28: ép | AE28: Dimensions | AH28: unité | AI28: unité/1 | AM28: OSB 12mm | AN28: ép | AQ28: Dimensions | AT28: unité | AU28: unité/1
AA29: OSB Intérieur | AB29: 12 | AD29: 395 | AE29: x | AF29: =IF(AB14="oui",AB10+210,AB10+30) -> 1530 | AG29: mm | AH29: =AI29*AB9 -> 1 | AI29: 1 | AM29: OSB Intérieur | AN29: 12 | AP29: 395 | AQ29: x | AR29: =AN10+30 -> 930 | AS29: mm | AT29: =AU29*AN9 -> 1 | AU29: 1
AA31: Revêtement avant | AB31: ép | AE31: Dimensions | AH31: unité | AI31: unité/1 | AM31: Revêtement avant | AN31: ép | AQ31: Dimensions | AT31: unité | AU31: unité/1
AE32: CONFORT + | AQ32: CONFORT +
AA33: FIBRE à couper en longueur | AB33: 40 | AD33: 560 | AE33: x | AF33: 590 | AG33: mm | AH33: =AI33*AB9 -> 3 | AI33: =IF(AB14="oui",ROUNDUP((AB10+180)/AD33,0),ROUNDUP(AB10/AD33,0)) -> 3 | AM33: FIBRE à couper en longueur | AN33: 40 | AP33: 560 | AQ33: x | AR33: 590 | AS33: mm | AT33: =AN9*AU33 -> 2 | AU33: =ROUNDUP(AN10/AP33,0) -> 2
AA34: Liteaux | AB34: 27x38 | AF34: 3 | AG34: ml | AH34: =AB9*AI34 -> 1 | AI34: =ROUNDUP(((AH10/600)*(AB13-AB12+40)/1000)/AF34,0) -> 1 | AM34: Liteaux | AN34: 27x38 | AR34: 3 | AS34: ml | AT34: =AN9*AU34 -> 1 | AU34: =ROUNDUP(((AT10/600)*(AN13-AN12+40)/1000)/AR34,0) -> 1
AA35: Pare Pluie | AH35: =ROUNDUP(AB9*AH10*(AB13-AB12+40)/1000000*1.15,1)&" m²" -> 1,2 m² | AI35: =ROUNDUP(AH10*(AB13-AB12+40)/1000000*1.15,1)&" m²" -> 1,2 m² | AM35: Pare Pluie | AT35: =ROUNDUP(AN9*AT10*(AN13-AN12+40)/1000000*1.15,1)&" m²" -> 0,8 m² | AU35: =ROUNDUP(AT10*(AN13-AN12+40)/1000000*1.15,1)&" m²" -> 0,8 m²
AE36: RWH | AQ36: RWH
AA37: RWH 16mm | AB37: 16 | AD37: 595 | AE37: x | AF37: =IF(AB14="oui",AB10+210,AB10+30) -> 1530 | AG37: mm | AH37: =AI37*AB9 -> 1 | AI37: 1 | AM37: RWH 16mm | AN37: 16 | AP37: 595 | AQ37: x | AR37: =AN10+30 -> 930 | AS37: mm | AT37: =AU37*AN9 -> 1 | AU37: 1
C72: Précadre | O72: Précadre | AA72: Précadre | AM72: Précadre
C74: Montant 1 PC | D74: 0 | E74: 0 | O74: Montant 1 PC | P74: 0 | Q74: =P319+45 -> 1165 | AA74: Montant 1 PC | AB74: 0 | AC74: 0 | AM74: Montant 1 PC | AN74: 0 | AO74: =AN319+45 -> 1265
D75: =D74+45 -> 45 | E75: =E74 -> 0 | P75: =P74+45 -> 45 | Q75: =Q74 -> 1165 | AB75: =AB74+45 -> 45 | AC75: =AC74 -> 0 | AN75: =AN74+45 -> 45 | AO75: =AO74 -> 1265
D76: =D75 -> 45 | E76: =H$19 -> 2385 | P76: =P75 -> 45 | Q76: =T$19+Q75 -> 2385 | AB76: =AB75 -> 45 | AC76: =AF$19 -> 2585 | AN76: =AN75 -> 45 | AO76: =AR$19+AO74 -> 2585
D77: =D74 -> 0 | E77: =E76 -> 2385 | P77: =P74 -> 0 | Q77: =Q76 -> 2385 | AB77: =AB74 -> 0 | AC77: =AC76 -> 2585 | AN77: =AN74 -> 0 | AO77: =AO76 -> 2585
D78: =D74 -> 0 | E78: =E74 -> 0 | P78: =P74 -> 0 | Q78: =Q74 -> 1165 | AB78: =AB74 -> 0 | AC78: =AC74 -> 0 | AN78: =AN74 -> 0 | AO78: =AO74 -> 1265
C80: Montant 2 PC | D80: =(J$10-45)+D74 -> 1575 | E80: =E74 -> 0 | O80: Montant 2 PC | P80: =(V$10-45)+P74 -> 1575 | Q80: =Q74 -> 1165 | AA80: Montant 2 PC | AB80: =(AH$10-45)+AB74 -> 1575 | AC80: =AC74 -> 0 | AM80: Montant 2 PC | AN80: =(AT$10-45)+AN74 -> 975 | AO80: =AO74 -> 1265
D81: =(J$10-45)+D75 -> 1620 | E81: =E75 -> 0 | P81: =(V$10-45)+P75 -> 1620 | Q81: =Q75 -> 1165 | AB81: =(AH$10-45)+AB75 -> 1620 | AC81: =AC75 -> 0 | AN81: =(AT$10-45)+AN75 -> 1020 | AO81: =AO75 -> 1265
D82: =(J$10-45)+D76 -> 1620 | E82: =E76 -> 2385 | P82: =(V$10-45)+P76 -> 1620 | Q82: =Q76 -> 2385 | AB82: =(AH$10-45)+AB76 -> 1620 | AC82: =AC76 -> 2585 | AN82: =(AT$10-45)+AN76 -> 1020 | AO82: =AO76 -> 2585
D83: =(J$10-45)+D77 -> 1575 | E83: =E77 -> 2385 | P83: =(V$10-45)+P77 -> 1575 | Q83: =Q77 -> 2385 | AB83: =(AH$10-45)+AB77 -> 1575 | AC83: =AC77 -> 2585 | AN83: =(AT$10-45)+AN77 -> 975 | AO83: =AO77 -> 2585
D84: =(J$10-45)+D78 -> 1575 | E84: =E78 -> 0 | P84: =(V$10-45)+P78 -> 1575 | Q84: =Q78 -> 1165 | AB84: =(AH$10-45)+AB78 -> 1575 | AC84: =AC78 -> 0 | AN84: =(AT$10-45)+AN78 -> 975 | AO84: =AO78 -> 1265
C86: Linteau PC | D86: =IF(D14="oui",45+D74,D74) -> 0 | E86: =D$12+15 -> 2165 | O86: Linteau PC | P86: =P74 -> 0 | Q86: =P$12+15 -> 2165 | AA86: Linteau PC | AB86: =IF(AB14="oui",45+AB74,AB74) -> 0 | AC86: =AB$12+215 -> 2365 | AM86: Linteau PC | AN86: =AN74 -> 0 | AO86: =AN$12+215 -> 2365
...
