Workbook

Sheet Acceuil
A1: Nom du projet:
A2: Lieu:

Sheet Ensemble
C2: ="Chantier: "&Acceuil!B1&" - "&Acceuil!$B$2 -> Chantier: - | O2: ="Chantier: "&Acceuil!B1&" - "&Acceuil!$B$2 -> Chantier: - | AA2: ="Chantier: "&Acceuil!B1&" - "&Acceuil!$B$2 -> Chantier: - | AM2: ="Chantier: "&Acceuil!B1&" - "&Acceuil!$B$2 -> Chantier: -
C4: =IF(D14="non","Porte"&" "&D10/10&" / "& D11/10&"; sans VR; "&C6,"Porte"&" "&D10/10&" / "& D11/10&"; sans VR; Renforcée; "&C6) -> Porte 0 / 0; sans VR; | O4: ="Fenêtre"&" "&P10/10&" / "& P11/10&"; sans VR; "&O6 -> Fenêtre 0 / 0; sans VR; | AA4: =IF(AB14="non","Porte"&" "&AB10/10&" / "& AB11/10&"; avec VR; "&AA6,"Porte"&" "&AB10/10&" / "& AB11/10&"; avec VR; Renforcée; "&AA6) -> Porte 0 / 0; avec VR; | AM4: ="Fenêtre"&" "&AN10/10&" / "& AN11/10&"; avec VR; "&AM6 -> Fenêtre 0 / 0; avec VR;
C8: Porte Sans Volet Roulant Standard | J8: dimensions extérieures | O8: FENETRE Sans Volet Roulant | V8: dimensions extérieures | AA8: Porte avec Volet Roulant | AH8: dimensions extérieures | AM8: FENETRE avec Volet Roulant | AT8: dimensions extérieures
C9: Nombre: | E9: u | O9: Nombre: | Q9: u | AA9: Nombre: | AC9: u | AM9: Nombre: | AO9: u
C10: Largeur nominale: | E10: mm | J10: =IF(D14="non",D10+120,D10+300) -> 120 | K10: mm | O10: Largeur nominale: | Q10: mm | V10: =P10+120 -> 120 | W10: mm | AA10: Largeur nominale: | AC10: mm | AH10: =IF(AB14="oui",AB10+300,AB10+120) -> 120 | AI10: mm | AM10: Largeur nominale: | AO10: mm | AT10: =AN10+120 -> 120 | AU10: mm
C11: Hauteur nominale: | E11: mm | J11: =IF(D14="non",D12+280,D12+335) -> 2430 | K11: mm | O11: Hauteur nominale: | Q11: mm | V11: =P11+360+50 -> 410 | W11: mm | AA11: Hauteur nominale: | AC11: mm | AH11: =AB11+570 -> 570 | AI11: mm | AM11: Hauteur nominale: | AO11: mm | AT11: =AN11+650+50 -> 700 | AU11: mm
C12: Hauteur linteau: | D12: 2150 | E12: mm | F12: par défaut à 2150mm | H12: =IF(D11=D12,"","Attention hauteur porte différent hauteur linteau") -> Attention hauteur porte différent hauteur linteau | O12: Hauteur linteau: | P12: 2150 | Q12: mm | R12: par défaut à 2150mm | T12: =IF(P319+130<900,"Attention hauteur allège <900","") | AA12: Hauteur linteau: | AB12: 2150 | AC12: mm | AD12: par défaut à 2150mm | AF12: =IF(AB11=AB12,"","Attention hauteur porte différent hauteur linteau") -> Attention hauteur porte différent hauteur linteau | AM12: Hauteur linteau: | AN12: 2150 | AO12: mm | AP12: par défaut à 2150mm | AR12: =IF((AT11+AN319)-AN13=0,"","Attention écart avec linteau de "&(AT11+AN319)-AN13)
C13: Hauteur mur: | D13: 2720 | E13: mm | F13: par défaut à 2720mm | H13: =IF(D13=2720,"","Attention hauteur mur non standard") | O13: Hauteur mur: | P13: 2720 | Q13: mm | R13: par défaut à 2720mm | T13: =IF(P13=2720,"","Attention hauteur mur non standard") | AA13: Hauteur mur: | AB13: 2720 | AC13: mm | AD13: par défaut à 2720mm | AF13: =IF(AB13=2720,"","Attention hauteur mur non standard") | AM13: Hauteur mur: | AN13: 2720 | AO13: mm | AP13: par défaut à 2720mm | AR13: =IF(AN319+130<900,"Attention hauteur allège <900","")
C14: Renforcée | D14: non | H14: =IF(D12=2150,"","Attention hauteur linteau non standard") | T14: =IF(P12=2150,"","Attention hauteur linteau non standard") | AA14: Renforcée | AB14: non | AF14: =IF(AB12=2150,"","Attention hauteur linteau non standard") | AR14: =IF(AN13=2720,"","Attention hauteur mur non standard")
C15: Porte de garage | D15: non | E15: =IF(D15="OUI","changer hauteur linteau à "&D11-45,"") | H15: =IF(D12=D11,"","Problème hauteur porte/hauteur linteau") -> Problème hauteur porte/hauteur linteau | AF15: =IF(AB12=AB11,"","Problème hauteur porte/hauteur linteau") -> Problème hauteur porte/hauteur linteau | AR15: =IF(AN12=2150,"","Attention hauteur linteau non standard")
C17: Désignation | E17: Section | H17: Longueur | J17: unité | K17: unité/1 | O17: Désignation | Q17: Section | T17: Longueur | V17: unité | W17: unité/1 | AA17: Désignation | AC17: Section | AF17: Longueur | AH17: unité | AI17: unité/1 | AM17: Désignation | AO17: Section | AR17: Longueur | AT17: unité | AU17: unité/1
C18: =IF(D14="oui","","Traverses") -> Traverses | D18: =IF(D14="oui","","45") -> 45 | E18: =IF(D14="non","x","") -> x | F18: =IF(D14="oui","",145) -> 145 | H18: =IF(D14="oui","",D10+120) -> 120 | I18: =IF(D14="oui","","mm") -> mm | J18: =IF(D14="oui","",$D$9*K18) -> 0 | K18: =IF(D14="oui","",1) -> 1 | O18: Traverses | P18: 45 | Q18: x | R18: 145 | T18: =P10+120 -> 120 | U18: mm | V18: =$P$9*W18 -> 0 | W18: 2 | AA18: =IF(AB14="oui","Traverses à raboter en 35mm","Traverses") -> Traverses | AB18: =IF(AB14="oui","35","45") -> 45 | AC18: x | AD18: 145 | AF18: =IF(AB14="oui",AB10+300,AB10+120) -> 120 | AG18: mm | AH18: =$AB$9*AI18 -> 0 | AI18: =IF(AB14="oui",1,3) -> 3 | AM18: Traverses | AN18: 45 | AO18: x | AP18: 145 | AR18: =AN10+120 -> 120 | AS18: mm | AT18: =$AN$9*AU18 -> 0 | AU18: 4
C19: =IF(D14="non","Montant avec entailles","Montant sans entailles") -> Montant avec entailles | D19: 45 | E19: x | F19: 145 | H19: =IF(D14="oui",D13,D11+220+15) -> 235 | I19: mm | J19: =$D$9*K19 -> 0 | K19: 2 | O19: Montant avec entaille | P19: 45 | Q19: x | R19: 145 | T19: =P11+270+50 -> 320 | U19: mm | V19: =$P$9*W19 -> 0 | W19: 2 | AA19: =IF(AB14="oui","Montant sans entailles","Montant avec entailles") -> Montant avec entailles | AB19: 45 | AC19: x | AD19: 145 | AF19: =IF(AB14="oui",AB11+535,AB11+435) -> 435 | AG19: mm | AH19: =$AB$9*AI19 -> 0 | AI19: 2 | AM19: Montant avec entaille | AN19: 45 | AO19: x | AP19: 145 | AR19: =AN11+470+50 -> 520 | AS19: mm | AT19: =$AN$9*AU19 -> 0 | AU19: 2
C20: =IF(D14="non","","Montant sans entailles") | D20: =IF(D14="non","",45) | E20: =IF(D14="non","","x") | F20: =IF(D14="non","",145) | H20: =IF(D14="non","",D12+15) | I20: =IF(D14="non","","mm") | J20: =IF(D14="non","",$D$9*K20) | K20: =IF(D14="non","",4) | AA20: =IF(AB14="oui","Montant sans entailles","") | AB20: =IF(AB14="oui","45","") | AC20: =IF(AB14="oui","x","") | AD20: =IF(AB14="oui",145,"") | AF20: =IF(AB14="oui",AB11+215,"") | AG20: =IF(AB14="oui","mm","") | AH20: =IF(AB14="oui",AI20*AB9,"") | AI20: =IF(AB14="oui",4,"")
C22: Linteaux 1 | D22: =IF(D14="non","45","LC 140") -> 45 | E22: x | F22: =IF(D14="non",220,320) -> 220 | H22: =IF(D14="non",D10+120,D10+210) -> 120 | I22: mm | J22: =$D$9*K22 -> 0 | K22: =IF(D14="non",2,1) -> 2 | O22: Linteaux 1 | P22: 45 | Q22: x | R22: 220 | T22: =P10+120 -> 120 | U22: mm | V22: =$P$9*W22 -> 0 | W22: 2 | AA22: Linteaux 1 | AB22: =IF(AB14="oui","LC 140","45") -> 45 | AC22: x | AD22: =IF(AB14="oui","320","220") -> 220 | AF22: =IF(AB14="oui",AB10+210,AB10+120) -> 120 | AG22: mm | AH22: =$AB$9*AI22 -> 0 | AI22: =IF(AB14="oui",1,2) -> 2 | AM22: Linteaux | AN22: 45 | AO22: x | AP22: 220 | AR22: =AN10+120 -> 120 | AS22: mm | AT22: =$AN$9*AU22 -> 0 | AU22: 2
C23: =IF(D14="oui","",IF(D10>1800,"Linteau central","")) | D23: =IF(D14="oui","",IF(D10>1800,"45","")) | E23: =IF(D14="oui","",IF(D10>1800,"x","")) | F23: =IF(D14="oui","",IF(D10>1800,220,"")) | H23: =IF(D14="oui","",IF(D10>1800,D10+120-90,"")) | I23: =IF(D14="oui","",IF(D10>1800,"mm","")) | J23: =IF(D14="oui","",IF(D10>1800,D9*K23,"")) | K23: =IF(D14="oui","",IF(D10>1800,"1","")) | O23: =IF(P10>1800,"Linteau central","") | P23: =IF(P10>1800,"45","") | Q23: =IF(P10>1800,"x","") | R23: =IF(P10>1800,"220","") | T23: =IF(P10>1800,P10+120-90,"") | U23: =IF(P10>1800,"mm","") | V23: =IF(P10>1800,P9*W23,"") | W23: =IF(P10>1800,"1","") | AA23: =IF(AB14="oui","",IF(AB10>1800,"Linteau central","")) | AB23: =IF(AB14="oui","",IF(AB10>1800,"45","")) | AC23: =IF(AA23="","","x") | AD23: =IF(AB14="oui","",IF(AB10>1800,"220","")) | AF23: =IF(AB14="oui","",IF(AB10>1800,AB10+120-90,"")) | AG23: =IF(AB14="oui","",IF(AB10>1800,"mm","")) | AH23: =IF(AB14="oui","",IF(AB10>1800,AB9*AI23,"")) | AI23: =IF(AB14="oui","",IF(AB10>1800,"1","")) | AM23: =IF(AN10>1800,"Linteau central","") | AN23: =IF(AN10>1800,45,"") | AO23: =IF(AN10>1800,"x","") | AP23: =IF(AN10>1800,220,"") | AR23: =IF(AN10>1800,AN10+120-90,"") | AS23: =IF(AN10>1800,"mm","") | AT23: =IF(AN10>1800,AN9*AU23,"") | AU23: =IF(AN10>1800,"1","")
C25: OSB 15mm | D25: ép | G25: Dimensions | J25: unité | K25: unité/1 | O25: OSB 15mm | P25: ép | S25: Dimensions | V25: unité | W25: unité/1 | AA25: OSB 15mm | AB25: ép | AE25: Dimensions | AH25: unité | AI25: unité/1 | AM25: OSB 15mm | AN25: ép | AQ25: Dimensions | AT25: unité | AU25: unité/1
C26: OSB Joue latéral | D26: 15 | F26: 205 | G26: x | H26: =D11 -> 0 | I26: mm | J26: =D9*K26 -> 0 | K26: 2 | O26: OSB Joue latéral | P26: 15 | R26: 205 | S26: x | T26: =P11 -> 0 | U26: mm | V26: =P9*W26 -> 0 | W26: 2 | AA26: OSB Joue latérale | AB26: 15 | AD26: 205 | AE26: x | AF26: =AB11 -> 0 | AG26: mm | AH26: =AB9*AI26 -> 0 | AI26: 2 | AM26: OSB Joue latérale | AN26: 15 | AP26: 205 | AQ26: x | AR26: =AN11 -> 0 | AS26: mm | AT26: =AN9*AU26 -> 0 | AU26: 2
C27: OSB Joue Haute | D27: 15 | F27: 205 | G27: x | H27: =D10+30 -> 30 | I27: mm | J27: =K27*D9 -> 0 | K27: 1 | O27: OSB Joue Haute | P27: 15 | R27: 205 | S27: x | T27: =P10+30 -> 30 | U27: mm | V27: =W27*P9 -> 0 | W27: 1
AA28: OSB 12mm | AB28: ép | AE28: Dimensions | AH28: unité | AI28: unité/1 | AM28: OSB 12mm | AN28: ép | AQ28: Dimensions | AT28: unité | AU28: unité/1
AA29: OSB Intérieur | AB29: 12 | AD29: 395 | AE29: x | AF29: =IF(AB14="oui",AB10+210,AB10+30) -> 30 | AG29: mm | AH29: =AI29*AB9 -> 0 | AI29: 1 | AM29: OSB Intérieur | AN29: 12 | AP29: 395 | AQ29: x | AR29: =AN10+30 -> 30 | AS29: mm | AT29: =AU29*AN9 -> 0 | AU29: 1
AA31: Revêtement avant | AB31: ép | AE31: Dimensions | AH31: unité | AI31: unité/1 | AM31: Revêtement avant | AN31: ép | AQ31: Dimensions | AT31: unité | AU31: unité/1
AE32: CONFORT + | AQ32: CONFORT +
AA33: FIBRE à couper en longueur | AB33: 40 | AD33: 560 | AE33: x | AF33: 590 | AG33: mm | AH33: =AI33*AB9 -> 0 | AI33: =IF(AB14="oui",ROUNDUP((AB10+180)/AD33,0),ROUNDUP(AB10/AD33,0)) -> 0 | AM33: FIBRE à couper en longueur | AN33: 40 | AP33: 560 | AQ33: x | AR33: 590 | AS33: mm | AT33: =AN9*AU33 -> 0 | AU33: =ROUNDUP(AN10/AP33,0) -> 0
AA34: Liteaux | AB34: 27x38 | AF34: 3 | AG34: ml | AH34: =AB9*AI34 -> 0 | AI34: =ROUNDUP(((AH10/600)*(AB13-AB12+40)/1000)/AF34,0) -> 1 | AM34: Liteaux | AN34: 27x38 | AR34: 3 | AS34: ml | AT34: =AN9*AU34 -> 0 | AU34: =ROUNDUP(((AT10/600)*(AN13-AN12+40)/1000)/AR34,0) -> 1
AA35: Pare Pluie | AH35: =ROUNDUP(AB9*AH10*(AB13-AB12+40)/1000000*1.15,1)&" m²" -> 0 m² | AI35: =ROUNDUP(AH10*(AB13-AB12+40)/1000000*1.15,1)&" m²" -> 0,1 m² | AM35: Pare Pluie | AT35: =ROUNDUP(AN9*AT10*(AN13-AN12+40)/1000000*1.15,1)&" m²" -> 0 m² | AU35: =ROUNDUP(AT10*(AN13-AN12+40)/1000000*1.15,1)&" m²" -> 0,1 m²
AE36: RWH | AQ36: RWH
AA37: RWH 16mm | AB37: 16 | AD37: 595 | AE37: x | AF37: =IF(AB14="oui",AB10+210,AB10+30) -> 30 | AG37: mm | AH37: =AI37*AB9 -> 0 | AI37: 1 | AM37: RWH 16mm | AN37: 16 | AP37: 595 | AQ37: x | AR37: =AN10+30 -> 30 | AS37: mm | AT37: =AU37*AN9 -> 0 | AU37: 1
C72: Précadre | O72: Précadre | AA72: Précadre | AM72: Précadre
C74: Montant 1 PC | D74: 0 | E74: 0 | O74: Montant 1 PC | P74: 0 | Q74: =P319+45 -> 2065 | AA74: Montant 1 PC | AB74: 0 | AC74: 0 | AM74: Montant 1 PC | AN74: 0 | AO74: =AN319+45 -> 2065
D75: =D74+45 -> 45 | E75: =E74 -> 0 | P75: =P74+45 -> 45 | Q75: =Q74 -> 2065 | AB75: =AB74+45 -> 45 | AC75: =AC74 -> 0 | AN75: =AN74+45 -> 45 | AO75: =AO74 -> 2065
D76: =D75 -> 45 | E76: =H$19 -> 235 | P76: =P75 -> 45 | Q76: =T$19+Q75 -> 2385 | AB76: =AB75 -> 45 | AC76: =AF$19 -> 435 | AN76: =AN75 -> 45 | AO76: =AR$19+AO74 -> 2585
D77: =D74 -> 0 | E77: =E76 -> 235 | P77: =P74 -> 0 | Q77: =Q76 -> 2385 | AB77: =AB74 -> 0 | AC77: =AC76 -> 435 | AN77: =AN74 -> 0 | AO77: =AO76 -> 2585
D78: =D74 -> 0 | E78: =E74 -> 0 | P78: =P74 -> 0 | Q78: =Q74 -> 2065 | AB78: =AB74 -> 0 | AC78: =AC74 -> 0 | AN78: =AN74 -> 0 | AO78: =AO74 -> 2065
C80: Montant 2 PC | D80: =(J$10-45)+D74 -> 75 | E80: =E74 -> 0 | O80: Montant 2 PC | P80: =(V$10-45)+P74 -> 75 | Q80: =Q74 -> 2065 | AA80: Montant 2 PC | AB80: =(AH$10-45)+AB74 -> 75 | AC80: =AC74 -> 0 | AM80: Montant 2 PC | AN80: =(AT$10-45)+AN74 -> 75 | AO80: =AO74 -> 2065
D81: =(J$10-45)+D75 -> 120 | E81: =E75 -> 0 | P81: =(V$10-45)+P75 -> 120 | Q81: =Q75 -> 2065 | AB81: =(AH$10-45)+AB75 -> 120 | AC81: =AC75 -> 0 | AN81: =(AT$10-45)+AN75 -> 120 | AO81: =AO75 -> 2065
D82: =(J$10-45)+D76 -> 120 | E82: =E76 -> 235 | P82: =(V$10-45)+P76 -> 120 | Q82: =Q76 -> 2385 | AB82: =(AH$10-45)+AB76 -> 120 | AC82: =AC76 -> 435 | AN82: =(AT$10-45)+AN76 -> 120 | AO82: =AO76 -> 2585
D83: =(J$10-45)+D77 -> 75 | E83: =E77 -> 235 | P83: =(V$10-45)+P77 -> 75 | Q83: =Q77 -> 2385 | AB83: =(AH$10-45)+AB77 -> 75 | AC83: =AC77 -> 435 | AN83: =(AT$10-45)+AN77 -> 75 | AO83: =AO77 -> 2585
D84: =(J$10-45)+D78 -> 75 | E84: =E78 -> 0 | P84: =(V$10-45)+P78 -> 75 | Q84: =Q78 -> 2065 | AB84: =(AH$10-45)+AB78 -> 75 | AC84: =AC78 -> 0 | AN84: =(AT$10-45)+AN78 -> 75 | AO84: =AO78 -> 2065
C86: Linteau PC | D86: =IF(D14="oui",45+D74,D74) -> 0 | E86: =D$12+15 -> 2165 | O86: Linteau PC | P86: =P74 -> 0 | Q86: =P$12+15 -> 2165 | AA86: Linteau PC | AB86: =IF(AB14="oui",45+AB74,AB74) -> 0 | AC86: =AB$12+215 -> 2365 | AM86: Linteau PC | AN86: =AN74 -> 0 | AO86: =AN$12+215 -> 2365
D87: =D86+H22 -> 120 | E87: =E86 -> 2165 | P87: =V$10 -> 120 | Q87: =Q86 -> 2165 | AB87: =AF$22+AB86 -> 120 | AC87: =AC86 -> 2365 | AN87: =AT$10 -> 120 | AO87: =AO86 -> 2365
D88: =D87 -> 120 | E88: =E87+F22 -> 2385 | P88: =P87 -> 120 | Q88: =Q87+220 -> 2385 | AB88: =AB87 -> 120 | AC88: =AC87+AD22 -> 2585 | AN88: =AN87 -> 120 | AO88: =AO87+220 -> 2585
D89: =D86 -> 0 | E89: =E88 -> 2385 | P89: =P86 -> 0 | Q89: =Q88 -> 2385 | AB89: =AB86 -> 0 | AC89: =AC88 -> 2585 | AN89: =AN86 -> 0 | AO89: =AO88 -> 2585
D90: =D86 -> 0 | E90: =E86 -> 2165 | P90: =P86 -> 0 | Q90: =Q86 -> 2165 | AB90: =AB86 -> 0 | AC90: =AC86 -> 2365 | AN90: =AN86 -> 0 | AO90: =AO86 -> 2365
C92: Traverse haute PC | D92: =IF(D14="oui","",D74) -> 0 | E92: =IF(D14="oui","",E86+220) -> 2385 | O92: Traverse haute PC | P92: =P74 -> 0 | Q92: =Q86+220 -> 2385 | AA92: Traverse haute PC | AB92: =AB74 -> 0 | AC92: =AC86+AD22 -> 2585 | AM92: Traverse haute PC | AN92: =AN74 -> 0 | AO92: =AO86+220 -> 2585
D93: =IF(D14="oui","",J$10) -> 120 | E93: =E92 -> 2385 | P93: =V$10 -> 120 | Q93: =Q92 -> 2385 | AB93: =AH$10 -> 120 | AC93: =AC92 -> 2585 | AN93: =AT$10 -> 120 | AO93: =AO92 -> 2585
D94: =D93 -> 120 | E94: =IF(D14="oui","",E93+45) -> 2430 | P94: =P93 -> 120 | Q94: =Q93+45 -> 2430 | AB94: =AB93 -> 120 | AC94: =AC93+AB18 -> 2630 | AN94: =AN93 -> 120 | AO94: =AO93+45 -> 2630
D95: =D92 -> 0 | E95: =E94 -> 2430 | P95: =P92 -> 0 | Q95: =Q94 -> 2430 | AB95: =AB92 -> 0 | AC95: =AC94 -> 2630 | AN95: =AN92 -> 0 | AO95: =AO94 -> 2630
D96: =D92 -> 0 | E96: =E92 -> 2385 | P96: =P92 -> 0 | Q96: =Q92 -> 2385 | AB96: =AB92 -> 0 | AC96: =AC92 -> 2585 | AN96: =AN92 -> 0 | AO96: =AO92 -> 2585
C98: Montant complément 1 PC | D98: =IF(D14="non","",D74+45) | E98: =IF(D14="non","",E74) | O98: Traverse basse PC | P98: 0 | Q98: =P319 -> 2020 | AA98: Traverse haute 2 PC | AB98: =IF(AB14="oui","",AB92) -> 0 | AC98: =IF(AB14="oui","",AC92+45) -> 2630 | AM98: Traverse haute 2 PC | AN98: =AN86 -> 0 | AO98: =AO92+45 -> 2630
D99: =IF(D14="non","",D98+45) | E99: =E98 | P99: =V$10 -> 120 | Q99: =Q98 -> 2020 | AB99: =IF(AB14="oui","",AH$10) -> 120 | AC99: =AC98 -> 2630 | AN99: =AT$10 -> 120 | AO99: =AO98 -> 2630
D100: =D99 | E100: =H$20 | P100: =P99 -> 120 | Q100: =Q99+45 -> 2065 | AB100: =AB99 -> 120 | AC100: =IF(AB14="oui","",AC99+45) -> 2675 | AN100: =AN99 -> 120 | AO100: =AO99+45 -> 2675
D101: =D98 | E101: =E100 | P101: =P98 -> 0 | Q101: =Q100 -> 2065 | AB101: =AB98 -> 0 | AC101: =AC100 -> 2675 | AN101: =AN98 -> 0 | AO101: =AO100 -> 2675
D102: =D98 | E102: =E98 | P102: =P98 -> 0 | Q102: =Q98 -> 2020 | AB102: =AB98 -> 0 | AC102: =AC98 -> 2630 | AN102: =AN98 -> 0 | AO102: =AO98 -> 2630
C104: Montant complément 2 PC | D104: =IF(D14="non","",D98+45) | E104: =IF(D14="non","",E80) | AA104: Traverse haute 3 PC | AB104: =IF(AB14="oui","",AB86) -> 0 | AC104: =IF(AB14="oui","",AC98+45) -> 2675 | AM104: Traverse haute 3 PC | AN104: =AN92 -> 0 | AO104: =AO98+45 -> 2675
D105: =IF(D14="non","",D104+45) | E105: =E104 | AB105: =IF(AB14="oui","",AH$10) -> 120 | AC105: =AC104 -> 2675 | AN105: =AT$10 -> 120 | AO105: =AO104 -> 2675
D106: =D105 | E106: =H$20 | AB106: =AB105 -> 120 | AC106: =IF(AB14="oui","",AC105+45) -> 2720 | AN106: =AN105 -> 120 | AO106: =AO105+45 -> 2720
D107: =D104 | E107: =E106 | AB107: =AB104 -> 0 | AC107: =AC106 -> 2720 | AN107: =AN104 -> 0 | AO107: =AO106 -> 2720
D108: =D104 | E108: =E104 | AB108: =AB104 -> 0 | AC108: =AC104 -> 2675 | AN108: =AN104 -> 0 | AO108: =AO104 -> 2675
C110: Montant complément 3 PC | D110: =IF(D14="non","",D80-90) | E110: =IF(D14="non","",E74) | AA110: Montant complément 1 PC | AB110: =IF(AB14="non","",AB74+45) | AC110: =IF(AB14="non","",AC74) | AM110: Traverse basse PC | AN110: 0 | AO110: =AN319 -> 2020
D111: =IF(D14="non","",D110+45) | E111: =E110 | AB111: =IF(AB14="non","",AB110+45) | AC111: =AC110 | AN111: =AT$10 -> 120 | AO111: =AO110 -> 2020
D112: =D111 | E112: =H$20 | AB112: =AB111 | AC112: =AF$20 | AN112: =AN111 -> 120 | AO112: =AO111+45 -> 2065
D113: =D110 | E113: =E112 | AB113: =AB110 | AC113: =AC112 | AN113: =AN110 -> 0 | AO113: =AO112 -> 2065
D114: =D110 | E114: =E110 | AB114: =AB110 | AC114: =AC110 | AN114: =AN110 -> 0 | AO114: =AO110 -> 2020
C116: Montant complément 4 PC | D116: =IF(D14="non","",D110+45) | E116: =IF(D14="non","",E80) | AA116: Montant complément 2 PC | AB116: =IF(AB14="non","",AB110+45) | AC116: =IF(AB14="non","",AC80) | AM116: OSB PC | AN116: 45 | AO116: =AN12 -> 2150
D117: =IF(D14="non","",D116+45) | E117: =E116 | AB117: =IF(AB14="non","",AB116+45) | AC117: =AC116 | AN117: =AR37+AN116 -> 75 | AO117: =AO116 -> 2150
D118: =D117 | E118: =H$20 | AB118: =AB117 | AC118: =AF$20 | AN118: =AN117 -> 75 | AO118: =AO117+AP37 -> 2745
D119: =D116 | E119: =E118 | AB119: =AB116 | AC119: =AC118 | AN119: =AN116 -> 45 | AO119: =AO118 -> 2745
D120: =D116 | E120: =E116 | AB120: =AB116 | AC120: =AC116 | AN120: =AN116 -> 45 | AO120: =AO116 -> 2150
AA122: Montant complément 3 PC | AB122: =IF(AB14="non","",AB80-90) | AC122: =IF(AB14="non","",AC74)
AB123: =IF(AB14="non","",AB122+45) | AC123: =AC122
AB124: =AB123 | AC124: =AF$20
AB125: =AB122 | AC125: =AC124
AB126: =AB122 | AC126: =AC122
AA128: Montant complément 4 PC | AB128: =IF(AB14="non","",AB122+45) | AC128: =IF(AB14="non","",AC80)
AB129: =IF(AB14="non","",AB128+45) | AC129: =AC128
AB130: =AB129 | AC130: =AF$20
AB131: =AB128 | AC131: =AC130
AB132: =AB128 | AC132: =AC128
AA134: OSB PC | AB134: 45 | AC134: =AB12 -> 2150
AB135: =AF37+AB134 -> 75 | AC135: =AC134 -> 2150
AB136: =AB135 -> 75 | AC136: =AC135+AD37 -> 2745
AB137: =AB134 -> 45 | AC137: =AC136 -> 2745
AB138: =AB134 -> 45 | AC138: =AC134 -> 2150
C144: Ligne Linteau | D144: -200 | E144: =D12 -> 2150 | O144: Ligne Linteau | P144: -200 | Q144: =P12 -> 2150 | AA144: Ligne Linteau | AB144: -200 | AC144: =AB12 -> 2150 | AM144: Ligne Linteau | AN144: -300 | AO144: =AN12 -> 2150
D145: =J10+500 -> 620 | E145: =E144 -> 2150 | P145: =V10+500 -> 620 | Q145: =Q144 -> 2150 | AB145: =AH10+500 -> 620 | AC145: =AC144 -> 2150 | AN145: =AT10+500 -> 620 | AO145: =AO144 -> 2150
C147: Ligne altimétrie | D147: -200 | E147: =D13 -> 2720 | O147: Ligne altimétrie | P147: =P144 -> -200 | Q147: =P13 -> 2720 | AA147: Ligne altimétrie | AB147: -200 | AC147: =AB13 -> 2720 | AM147: Ligne altimétrie | AN147: =AN144 -> -300 | AO147: =AN13 -> 2720
D148: =D145 -> 620 | E148: =E147 -> 2720 | P148: =P145 -> 620 | Q148: =Q147 -> 2720 | AB148: =AB145 -> 620 | AC148: =AC147 -> 2720 | AN148: =AN145 -> 620 | AO148: =AO147 -> 2720
C150: Ligne Semelle | D150: -200 | E150: 0 | O150: Ligne Semelle | P150: =P144 -> -200 | Q150: 0 | AA150: Ligne Semelle | AB150: -200 | AC150: 0 | AM150: Ligne Semelle | AN150: =AN144 -> -300 | AO150: 0
D151: =D145 -> 620 | E151: 0 | P151: =P145 -> 620 | Q151: 0 | AB151: =AB145 -> 620 | AC151: 0 | AN151: =AN145 -> 620 | AO151: 0
C153: Ligne Niveau brut | D153: -200 | E153: -45 | O153: Ligne Niveau brut | P153: =P144 -> -200 | Q153: -45 | AA153: Ligne Niveau brut | AB153: -200 | AC153: -45 | AM153: Ligne Niveau brut | AN153: =AN144 -> -300 | AO153: -45
D154: =D148 -> 620 | E154: -45 | P154: =P148 -> 620 | Q154: -45 | AB154: =AB148 -> 620 | AC154: -45 | AN154: =AN148 -> 620 | AO154: -45
C157: ="Chantier: "&Acceuil!B1&" - "&Acceuil!$B$2 -> Chantier: - | O157: ="Chantier: "&Acceuil!B1&" - "&Acceuil!$B$2 -> Chantier: - | AA157: ="Chantier: "&Acceuil!B1&" - "&Acceuil!$B$2 -> Chantier: - | AM157: ="Chantier: "&Acceuil!B1&" - "&Acceuil!$B$2 -> Chantier: -
C159: =IF(C6="","Blocs sur "&C4&C161,"Blocs sur "&C4&"; "&C161) -> Blocs sur Porte 0 / 0; sans VR; | O159: =IF(O6="","Blocs sur "&O4&O161,"Blocs sur "&O4&"; "&O161) -> Blocs sur Fenêtre 0 / 0; sans VR; | AA159: =IF(AA6="","Blocs sur "&AA4&AA161,"Blocs sur "&AA4&"; "&AA161) -> Blocs sur Porte 0 / 0; avec VR; | AM159: =IF(AM6="","Blocs sur "&AM4&AM161,"Blocs sur "&AM4&"; "&AM161) -> Blocs sur Fenêtre 0 / 0; avec VR;
C163: Nombre total: | D163: =D164*D9 -> 0 | J163: ="Poids unitaire: " &ROUNDUP(((F179*H179*(10+9))+(D167*D168*18))/1000000,0)&" Kg" -> Poids unitaire: 1 Kg | O163: Nombre total: | P163: =P164*P9 -> 0 | V163: ="Poids unitaire: " &ROUNDUP(((R179*T179*(10+9))+(P167*P168*18))/1000000,0)&" Kg" -> Poids unitaire: 1 Kg | AA163: Nombre total | AB163: =AB164*AB9 -> 0 | AM163: Nombre total | AN163: =AN164*AN9 -> 0
C164: Nombre de bloc /précadre | D164: 1 | O164: Nombre de bloc /précadre | P164: 1 | AA164: Nombre de bloc /précadre | AB164: 1 | AM164: Nombre de bloc /précadre | AN164: 1
P166: dimensions extérieurs | AB166: dimensions extérieurs | AN166: dimensions extérieurs
C167: Largeur ossature: | D167: =IF(D14="non",(J10-((D164+1)*60))/D164,(J10-90-((D164+1)*60))/D164) -> 0 | E167: mm | O167: Largeur ossature: | P167: =(V10-((P164+1)*60))/P164 -> 0 | Q167: mm | AA167: Largeur ossature | AB167: =(AH10-((AB164+1)*60))/AB164 -> 0 | AC167: mm | AM167: Largeur ossature | AN167: =(AT10-((AN164+1)*60))/AN164 -> 0 | AO167: mm
C168: Hauteur ossature: | D168: =D13-J11 -> 290 | E168: mm | O168: Hauteur ossature: | P168: =P13-V11-P319 -> 290 | Q168: mm | AA168: Hauteur ossature | AB168: =2150-AB12+AB13-2720 -> 0 | AC168: mm | AM168: Hauteur ossature | AN168: =2150-AN12+AN13-2720 -> 0 | AO168: mm
C169: Dépassée gauche: | D169: 27 | E169: mm | O169: Dépassée gauche: | P169: 27 | Q169: mm | AA169: Dépassée gauche | AB169: 27 | AC169: mm | AM169: Dépassée gauche | AN169: 27 | AO169: mm
...

Sheet Ensemble (2)
C2: ="Chantier: "&Acceuil!B1&" - "&Acceuil!$B$2 -> Chantier: - | O2: ="Chantier: "&Acceuil!B1&" - "&Acceuil!$B$2 -> Chantier: - | AA2: ="Chantier: "&Acceuil!B1&" - "&Acceuil!$B$2 -> Chantier: - | AM2: ="Chantier: "&Acceuil!B1&" - "&Acceuil!$B$2 -> Chantier: -
C4: =IF(D14="non","Porte"&" "&D10/10&" / "& D11/10&"; sans VR; "&C6,"Porte"&" "&D10/10&" / "& D11/10&"; sans VR; Renforcée; "&C6) -> Porte 150 / 215; sans VR; | O4: ="Fenêtre"&" "&P10/10&" / "& P11/10&"; sans VR; "&O6 -> Fenêtre 150 / 90; sans VR; | AA4: =IF(AB14="non","Porte"&" "&AB10/10&" / "& AB11/10&"; avec VR; "&AA6,"Porte"&" "&AB10/10&" / "& AB11/10&"; avec VR; Renforcée; "&AA6) -> Porte 150 / 215; avec VR; | AM4: ="Fenêtre"&" "&AN10/10&" / "& AN11/10&"; avec VR; "&AM6 -> Fenêtre 90 / 80; avec VR;
C8: Porte Sans Volet Roulant Standard | J8: dimensions extérieures | O8: FENETRE Sans Volet Roulant | V8: dimensions extérieures | AA8: Porte avec Volet Roulant | AH8: dimensions extérieures | AM8: FENETRE avec Volet Roulant | AT8: dimensions extérieures
C9: Nombre: | D9: 1 | E9: u | O9: Nombre: | P9: 1 | Q9: u | AA9: Nombre: | AB9: 1 | AC9: u | AM9: Nombre: | AN9: 1 | AO9: u
C10: Largeur nominale: | D10: 1500 | E10: mm | J10: =IF(D14="non",D10+120,D10+300) -> 1620 | K10: mm | O10: Largeur nominale: | P10: 1500 | Q10: mm | V10: =P10+120 -> 1620 | W10: mm | AA10: Largeur nominale: | AB10: 1500 | AC10: mm | AH10: =IF(AB14="oui",AB10+300,AB10+120) -> 1620 | AI10: mm | AM10: Largeur nominale: | AN10: 900 | AO10: mm | AT10: =AN10+120 -> 1020 | AU10: mm
C11: Hauteur nominale: | D11: 2150 | E11: mm | J11: =IF(D14="non",D12+280,D12+335) -> 2430 | K11: mm | O11: Hauteur nominale: | P11: 900 | Q11: mm | V11: =P11+360+50 -> 1310 | W11: mm | AA11: Hauteur nominale: | AB11: 2150 | AC11: mm | AH11: =AB11+570 -> 2720 | AI11: mm | AM11: Hauteur nominale: | AN11: 800 | AO11: mm | AT11: =AN11+650+50 -> 1500 | AU11: mm
C12: Hauteur linteau: | D12: 2150 | E12: mm | F12: par défaut à 2150mm | H12: =IF(D11=D12,"","Attention hauteur porte différent hauteur linteau") | O12: Hauteur linteau: | P12: 2150 | Q12: mm | R12: par défaut à 2150mm | T12: =IF(P319+130<900,"Attention hauteur allège <900","") | AA12: Hauteur linteau: | AB12: 2150 | AC12: mm | AD12: par défaut à 2150mm | AF12: =IF(AB11=AB12,"","Attention hauteur porte différent hauteur linteau") | AM12: Hauteur linteau: | AN12: 2150 | AO12: mm | AP12: par défaut à 2150mm | AR12: =IF((AT11+AN319)-AN13=0,"","Attention écart avec linteau de "&(AT11+AN319)-AN13)
C13: Hauteur mur: | D13: 2720 | E13: mm | F13: par défaut à 2720mm | H13: =IF(D13=2720,"","Attention hauteur mur non standard") | O13: Hauteur mur: | P13: 2720 | Q13: mm | R13: par défaut à 2720mm | T13: =IF(P13=2720,"","Attention hauteur mur non standard") | AA13: Hauteur mur: | AB13: 2720 | AC13: mm | AD13: par défaut à 2720mm | AF13: =IF(AB13=2720,"","Attention hauteur mur non standard") | AM13: Hauteur mur: | AN13: 2720 | AO13: mm | AP13: par défaut à 2720mm | AR13: =IF(AN319+130<900,"Attention hauteur allège <900","")
C14: Renforcée | D14: non | H14: =IF(D12=2150,"","Attention hauteur linteau non standard") | T14: =IF(P12=2150,"","Attention hauteur linteau non standard") | AA14: Renforcée | AB14: non | AF14: =IF(AB12=2150,"","Attention hauteur linteau non standard") | AR14: =IF(AN13=2720,"","Attention hauteur mur non standard")
C15: Porte de garage | D15: non | E15: =IF(D15="OUI","changer hauteur linteau à "&D11-45,"") | H15: =IF(D12=D11,"","Problème hauteur porte/hauteur linteau") | AF15: =IF(AB12=AB11,"","Problème hauteur porte/hauteur linteau") | AR15: =IF(AN12=2150,"","Attention hauteur linteau non standard")
C17: Désignation | E17: Section | H17: Longueur | J17: unité | K17: unité/1 | O17: Désignation | Q17: Section | T17: Longueur | V17: unité | W17: unité/1 | AA17: Désignation | AC17: Section | AF17: Longueur | AH17: unité | AI17: unité/1 | AM17: Désignation | AO17: Section | AR17: Longueur | AT17: unité | AU17: unité/1
C18: =IF(D14="oui","","Traverses") -> Traverses | D18: =IF(D14="oui","","45") -> 45 | E18: =IF(D14="non","x","") -> x | F18: =IF(D14="oui","",145) -> 145 | H18: =IF(D14="oui","",D10+120) -> 1620 | I18: =IF(D14="oui","","mm") -> mm | J18: =IF(D14="oui","",$D$9*K18) -> 1 | K18: =IF(D14="oui","",1) -> 1 | O18: Traverses | P18: 45 | Q18: x | R18: 145 | T18: =P10+120 -> 1620 | U18: mm | V18: =$P$9*W18 -> 2 | W18: 2 | AA18: =IF(AB14="oui","Traverses à raboter en 35mm","Traverses") -> Traverses | AB18: =IF(AB14="oui","35","45") -> 45 | AC18: x | AD18: 145 | AF18: =IF(AB14="oui",AB10+300,AB10+120) -> 1620 | AG18: mm | AH18: =$AB$9*AI18 -> 3 | AI18: =IF(AB14="oui",1,3) -> 3 | AM18: Traverses | AN18: 45 | AO18: x | AP18: 145 | AR18: =AN10+120 -> 1020 | AS18: mm | AT18: =$AN$9*AU18 -> 4 | AU18: 4
C19: =IF(D14="non","Montant avec entailles","Montant sans entailles") -> Montant avec entailles | D19: 45 | E19: x | F19: 145 | H19: =IF(D14="oui",D13,D11+220+15) -> 2385 | I19: mm | J19: =$D$9*K19 -> 2 | K19: 2 | O19: Montant avec entaille | P19: 45 | Q19: x | R19: 145 | T19: =P11+270+50 -> 1220 | U19: mm | V19: =$P$9*W19 -> 2 | W19: 2 | AA19: =IF(AB14="oui","Montant sans entailles","Montant avec entailles") -> Montant avec entailles | AB19: 45 | AC19: x | AD19: 145 | AF19: =IF(AB14="oui",AB11+535,AB11+435) -> 2585 | AG19: mm | AH19: =$AB$9*AI19 -> 2 | AI19: 2 | AM19: Montant avec entaille | AN19: 45 | AO19: x | AP19: 145 | AR19: =AN11+470+50 -> 1320 | AS19: mm | AT19: =$AN$9*AU19 -> 2 | AU19: 2
C20: =IF(D14="non","","Montant sans entailles") | D20: =IF(D14="non","",45) | E20: =IF(D14="non","","x") | F20: =IF(D14="non","",145) | H20: =IF(D14="non","",D12+15) | I20: =IF(D14="non","","mm") | J20: =IF(D14="non","",$D$9*K20) | K20: =IF(D14="non","",4) | AA20: =IF(AB14="oui","Montant sans entailles","") | AB20: =IF(AB14="oui","45","") | AC20: =IF(AB14="oui","x","") | AD20: =IF(AB14="oui",145,"") | AF20: =IF(AB14="oui",AB11+215,"") | AG20: =IF(AB14="oui","mm","") | AH20: =IF(AB14="oui",AI20*AB9,"") | AI20: =IF(AB14="oui",4,"")
C22: Linteaux 1 | D22: =IF(D14="non","45","LC 140") -> 45 | E22: x | F22: =IF(D14="non",220,320) -> 220 | H22: =IF(D14="non",D10+120,D10+210) -> 1620 | I22: mm | J22: =$D$9*K22 -> 2 | K22: =IF(D14="non",2,1) -> 2 | O22: Linteaux 1 | P22: 45 | Q22: x | R22: 220 | T22: =P10+120 -> 1620 | U22: mm | V22: =$P$9*W22 -> 2 | W22: 2 | AA22: Linteaux 1 | AB22: =IF(AB14="oui","LC 140","45") -> 45 | AC22: x | AD22: =IF(AB14="oui","320","220") -> 220 | AF22: =IF(AB14="oui",AB10+210,AB10+120) -> 1620 | AG22: mm | AH22: =$AB$9*AI22 -> 2 | AI22: =IF(AB14="oui",1,2) -> 2 | AM22: Linteaux | AN22: 45 | AO22: x | AP22: 220 | AR22: =AN10+120 -> 1020 | AS22: mm | AT22: =$AN$9*AU22 -> 2 | AU22: 2
C23: =IF(D14="oui","",IF(D10>1800,"Linteau central","")) | D23: =IF(D14="oui","",IF(D10>1800,"45","")) | E23: =IF(D14="oui","",IF(D10>1800,"x","")) | F23: =IF(D14="oui","",IF(D10>1800,220,"")) | H23: =IF(D14="oui","",IF(D10>1800,D10+120-90,"")) | I23: =IF(D14="oui","",IF(D10>1800,"mm","")) | J23: =IF(D14="oui","",IF(D10>1800,D9*K23,"")) | K23: =IF(D14="oui","",IF(D10>1800,"1","")) | O23: =IF(P10>1800,"Linteau central","") | P23: =IF(P10>1800,"45","") | Q23: =IF(P10>1800,"x","") | R23: =IF(P10>1800,"220","") | T23: =IF(P10>1800,P10+120-90,"") | U23: =IF(P10>1800,"mm","") | V23: =IF(P10>1800,P9*W23,"") | W23: =IF(P10>1800,"1","") | AA23: =IF(AB14="oui","",IF(AB10>1800,"Linteau central","")) | AB23: =IF(AB14="oui","",IF(AB10>1800,"45","")) | AC23: =IF(AA23="","","x") | AD23: =IF(AB14="oui","",IF(AB10>1800,"220","")) | AF23: =IF(AB14="oui","",IF(AB10>1800,AB10+120-90,"")) | AG23: =IF(AB14="oui","",IF(AB10>1800,"mm","")) | AH23: =IF(AB14="oui","",IF(AB10>1800,AB9*AI23,"")) | AI23: =IF(AB14="oui","",IF(AB10>1800,"1","")) | AM23: =IF(AN10>1800,"Linteau central","") | AN23: =IF(AN10>1800,45,"") | AO23: =IF(AN10>1800,"x","") | AP23: =IF(AN10>1800,220,"") | AR23: =IF(AN10>1800,AN10+120-90,"") | AS23: =IF(AN10>1800,"mm","") | AT23: =IF(AN10>1800,AN9*AU23,"") | AU23: =IF(AN10>1800,"1","")
C25: OSB 15mm | D25: ép | G25: Dimensions | J25: unité | K25: unité/1 | O25: OSB 15mm | P25: ép | S25: Dimensions | V25: unité | W25: unité/1 | AA25: OSB 15mm | AB25: ép | AE25: Dimensions | AH25: unité | AI25: unité/1 | AM25: OSB 15mm | AN25: ép | AQ25: Dimensions | AT25: unité | AU25: unité/1
C26: OSB Joue latéral | D26: 15 | F26: 205 | G26: x | H26: =D11 -> 2150 | I26: mm | J26: =D9*K26 -> 2 | K26: 2 | O26: OSB Joue latéral | P26: 15 | R26: 205 | S26: x | T26: =P11 -> 900 | U26: mm | V26: =P9*W26 -> 2 | W26: 2 | AA26: OSB Joue latérale | AB26: 15 | AD26: 205 | AE26: x | AF26: =AB11 -> 2150 | AG26: mm | AH26: =AB9*AI26 -> 2 | AI26: 2 | AM26: OSB Joue latérale | AN26: 15 | AP26: 205 | AQ26: x | AR26: =AN11 -> 800 | AS26: mm | AT26: =AN9*AU26 -> 2 | AU26: 2
C27: OSB Joue Haute | D27: 15 | F27: 205 | G27: x | H27: =D10+30 -> 1530 | I27: mm | J27: =K27*D9 -> 1 | K27: 1 | O27: OSB Joue Haute | P27: 15 | R27: 205 | S27: x | T27: =P10+30 -> 1530 | U27: mm | V27: =W27*P9 -> 1 | W27: 1
AA28: OSB 12mm | AB28: ép | AE28: Dimensions | AH28: unité | AI28: unité/1 | AM28: OSB 12mm | AN28: ép | AQ28: Dimensions | AT28: unité | AU28: unité/1
AA29: OSB Intérieur | AB29: 12 | AD29: 395 | AE29: x | AF29: =IF(AB14="oui",AB10+210,AB10+30) -> 1530 | AG29: mm | AH29: =AI29*AB9 -> 1 | AI29: 1 | AM29: OSB Intérieur | AN29: 12 | AP29: 395 | AQ29: x | AR29: =AN10+30 -> 930 | AS29: mm | AT29: =AU29*AN9 -> 1 | AU29: 1
AA31: Revêtement avant | AB31: ép | AE31: Dimensions | AH31: unité | AI31: unité/1 | AM31: Revêtement avant | AN31: ép | AQ31: Dimensions | AT31: unité | AU31: unité/1
AE32: CONFORT + | AQ32: CONFORT +
AA33: FIBRE à couper en longueur | AB33: 40 | AD33: 560 | AE33: x | AF33: 590 | AG33: mm | AH33: =AI33*AB9 -> 3 | AI33: =IF(AB14="oui",ROUNDUP((AB10+180)/AD33,0),ROUNDUP(AB10/AD33,0)) -> 3 | AM33: FIBRE à couper en longueur | AN33: 40 | AP33: 560 | AQ33: x | AR33: 590 | AS33: mm | AT33: =AN9*AU33 -> 2 | AU33: =ROUNDUP(AN10/AP33,0) -> 2
AA34: Liteaux | AB34: 27x38 | AF34: 3 | AG34: ml | AH34: =AB9*AI34 -> 1 | AI34: =ROUNDUP(((AH10/600)*(AB13-AB12+40)/1000)/AF34,0) -> 1 | AM34: Liteaux | AN34: 27x38 | AR34: 3 | AS34: ml | AT34: =AN9*AU34 -> 1 | AU34: =ROUNDUP(((AT10/600)*(AN13-AN12+40)/1000)/AR34,0) -> 1
AA35: Pare Pluie | AH35: =ROUNDUP(AB9*AH10*(AB13-AB12+40)/1000000*1.15,1)&" m²" -> 1,2 m² | AI35: =ROUNDUP(AH10*(AB13-AB12+40)/1000000*1.15,1)&" m²" -> 1,2 m² | AM35: Pare Pluie | AT35: =ROUNDUP(AN9*AT10*(AN13-AN12+40)/1000000*1.15,1)&" m²" -> 0,8 m² | AU35: =ROUNDUP(AT10*(AN13-AN12+40)/1000000*1.15,1)&" m²" -> 0,8 m²
AE36: RWH | AQ36: RWH
AA37: RWH 16mm | AB37: 16 | AD37: 595 | AE37: x | AF37: =IF(AB14="oui",AB10+210,AB10+30) -> 1530 | AG37: mm | AH37: =AI37*AB9 -> 1 | AI37: 1 | AM37: RWH 16mm | AN37: 16 | AP37: 595 | AQ37: x | AR37: =AN10+30 -> 930 | AS37: mm | AT37: =AU37*AN9 -> 1 | AU37: 1
C72: Précadre | O72: Précadre | AA72: Précadre | AM72: Précadre
C74: Montant 1 PC | D74: 0 | E74: 0 | O74: Montant 1 PC | P74: 0 | Q74: =P319+45 -> 1165 | AA74: Montant 1 PC | AB74: 0 | AC74: 0 | AM74: Montant 1 PC | AN74: 0 | AO74: =AN319+45 -> 1265
D75: =D74+45 -> 45 | E75: =E74 -> 0 | P75: =P74+45 -> 45 | Q75: =Q74 -> 1165 | AB75: =AB74+45 -> 45 | AC75: =AC74 -> 0 | AN75: =AN74+45 -> 45 | AO75: =AO74 -> 1265
D76: =D75 -> 45 | E76: =H$19 -> 2385 | P76: =P75 -> 45 | Q76: =T$19+Q75 -> 2385 | AB76: =AB75 -> 45 | AC76: =AF$19 -> 2585 | AN76: =AN75 -> 45 | AO76: =AR$19+AO74 -> 2585
D77: =D74 -> 0 | E77: =E76 -> 2385 | P77: =P74 -> 0 | Q77: =Q76 -> 2385 | AB77: =AB74 -> 0 | AC77: =AC76 -> 2585 | AN77: =AN74 -> 0 | AO77: =AO76 -> 2585
D78: =D74 -> 0 | E78: =E74 -> 0 | P78: =P74 -> 0 | Q78: =Q74 -> 1165 | AB78: =AB74 -> 0 | AC78: =AC74 -> 0 | AN78: =AN74 -> 0 | AO78: =AO74 -> 1265
C80: Montant 2 PC | D80: =(J$10-45)+D74 -> 1575 | E80: =E74 -> 0 | O80: Montant 2 PC | P80: =(V$10-45)+P74 -> 1575 | Q80: =Q74 -> 1165 | AA80: Montant 2 PC | AB80: =(AH$10-45)+AB74 -> 1575 | AC80: =AC74 -> 0 | AM80: Montant 2 PC | AN80: =(AT$10-45)+AN74 -> 975 | AO80: =AO74 -> 1265
D81: =(J$10-45)+D75 -> 1620 | E81: =E75 -> 0 | P81: =(V$10-45)+P75 -> 1620 | Q81: =Q75 -> 1165 | AB81: =(AH$10-45)+AB75 -> 1620 | AC81: =AC75 -> 0 | AN81: =(AT$10-45)+AN75 -> 1020 | AO81: =AO75 -> 1265
D82: =(J$10-45)+D76 -> 1620 | E82: =E76 -> 2385 | P82: =(V$10-45)+P76 -> 1620 | Q82: =Q76 -> 2385 | AB82: =(AH$10-45)+AB76 -> 1620 | AC82: =AC76 -> 2585 | AN82: =(AT$10-45)+AN76 -> 1020 | AO82: =AO76 -> 2585
D83: =(J$10-45)+D77 -> 1575 | E83: =E77 -> 2385 | P83: =(V$10-45)+P77 -> 1575 | Q83: =Q77 -> 2385 | AB83: =(AH$10-45)+AB77 -> 1575 | AC83: =AC77 -> 2585 | AN83: =(AT$10-45)+AN77 -> 975 | AO83: =AO77 -> 2585
D84: =(J$10-45)+D78 -> 1575 | E84: =E78 -> 0 | P84: =(V$10-45)+P78 -> 1575 | Q84: =Q78 -> 1165 | AB84: =(AH$10-45)+AB78 -> 1575 | AC84: =AC78 -> 0 | AN84: =(AT$10-45)+AN78 -> 975 | AO84: =AO78 -> 1265
C86: Linteau PC | D86: =IF(D14="oui",45+D74,D74) -> 0 | E86: =D$12+15 -> 2165 | O86: Linteau PC | P86: =P74 -> 0 | Q86: =P$12+15 -> 2165 | AA86: Linteau PC | AB86: =IF(AB14="oui",45+AB74,AB74) -> 0 | AC86: =AB$12+215 -> 2365 | AM86: Linteau PC | AN86: =AN74 -> 0 | AO86: =AN$12+215 -> 2365
D87: =D86+H22 -> 1620 | E87: =E86 -> 2165 | P87: =V$10 -> 1620 | Q87: =Q86 -> 2165 | AB87: =AF$22+AB86 -> 1620 | AC87: =AC86 -> 2365 | AN87: =AT$10 -> 1020 | AO87: =AO86 -> 2365
D88: =D87 -> 1620 | E88: =E87+F22 -> 2385 | P88: =P87 -> 1620 | Q88: =Q87+220 -> 2385 | AB88: =AB87 -> 1620 | AC88: =AC87+AD22 -> 2585 | AN88: =AN87 -> 1020 | AO88: =AO87+220 -> 2585
D89: =D86 -> 0 | E89: =E88 -> 2385 | P89: =P86 -> 0 | Q89: =Q88 -> 2385 | AB89: =AB86 -> 0 | AC89: =AC88 -> 2585 | AN89: =AN86 -> 0 | AO89: =AO88 -> 2585
D90: =D86 -> 0 | E90: =E86 -> 2165 | P90: =P86 -> 0 | Q90: =Q86 -> 2165 | AB90: =AB86 -> 0 | AC90: =AC86 -> 2365 | AN90: =AN86 -> 0 | AO90: =AO86 -> 2365
C92: Traverse haute PC | D92: =IF(D14="oui","",D74) -> 0 | E92: =IF(D14="oui","",E86+220) -> 2385 | O92: Traverse haute PC | P92: =P74 -> 0 | Q92: =Q86+220 -> 2385 | AA92: Traverse haute PC | AB92: =AB74 -> 0 | AC92: =AC86+AD22 -> 2585 | AM92: Traverse haute PC | AN92: =AN74 -> 0 | AO92: =AO86+220 -> 2585
D93: =IF(D14="oui","",J$10) -> 1620 | E93: =E92 -> 2385 | P93: =V$10 -> 1620 | Q93: =Q92 -> 2385 | AB93: =AH$10 -> 1620 | AC93: =AC92 -> 2585 | AN93: =AT$10 -> 1020 | AO93: =AO92 -> 2585
D94: =D93 -> 1620 | E94: =IF(D14="oui","",E93+45) -> 2430 | P94: =P93 -> 1620 | Q94: =Q93+45 -> 2430 | AB94: =AB93 -> 1620 | AC94: =AC93+AB18 -> 2630 | AN94: =AN93 -> 1020 | AO94: =AO93+45 -> 2630
D95: =D92 -> 0 | E95: =E94 -> 2430 | P95: =P92 -> 0 | Q95: =Q94 -> 2430 | AB95: =AB92 -> 0 | AC95: =AC94 -> 2630 | AN95: =AN92 -> 0 | AO95: =AO94 -> 2630
D96: =D92 -> 0 | E96: =E92 -> 2385 | P96: =P92 -> 0 | Q96: =Q92 -> 2385 | AB96: =AB92 -> 0 | AC96: =AC92 -> 2585 | AN96: =AN92 -> 0 | AO96: =AO92 -> 2585
C98: Montant complément 1 PC | D98: =IF(D14="non","",D74+45) | E98: =IF(D14="non","",E74) | O98: Traverse basse PC | P98: 0 | Q98: =P319 -> 1120 | AA98: Traverse haute 2 PC | AB98: =IF(AB14="oui","",AB92) -> 0 | AC98: =IF(AB14="oui","",AC92+45) -> 2630 | AM98: Traverse haute 2 PC | AN98: =AN86 -> 0 | AO98: =AO92+45 -> 2630
D99: =IF(D14="non","",D98+45) | E99: =E98 | P99: =V$10 -> 1620 | Q99: =Q98 -> 1120 | AB99: =IF(AB14="oui","",AH$10) -> 1620 | AC99: =AC98 -> 2630 | AN99: =AT$10 -> 1020 | AO99: =AO98 -> 2630
D100: =D99 | E100: =H$20 | P100: =P99 -> 1620 | Q100: =Q99+45 -> 1165 | AB100: =AB99 -> 1620 | AC100: =IF(AB14="oui","",AC99+45) -> 2675 | AN100: =AN99 -> 1020 | AO100: =AO99+45 -> 2675
D101: =D98 | E101: =E100 | P101: =P98 -> 0 | Q101: =Q100 -> 1165 | AB101: =AB98 -> 0 | AC101: =AC100 -> 2675 | AN101: =AN98 -> 0 | AO101: =AO100 -> 2675
D102: =D98 | E102: =E98 | P102: =P98 -> 0 | Q102: =Q98 -> 1120 | AB102: =AB98 -> 0 | AC102: =AC98 -> 2630 | AN102: =AN98 -> 0 | AO102: =AO98 -> 2630
C104: Montant complément 2 PC | D104: =IF(D14="non","",D98+45) | E104: =IF(D14="non","",E80) | AA104: Traverse haute 3 PC | AB104: =IF(AB14="oui","",AB86) -> 0 | AC104: =IF(AB14="oui","",AC98+45) -> 2675 | AM104: Traverse haute 3 PC | AN104: =AN92 -> 0 | AO104: =AO98+45 -> 2675
D105: =IF(D14="non","",D104+45) | E105: =E104 | AB105: =IF(AB14="oui","",AH$10) -> 1620 | AC105: =AC104 -> 2675 | AN105: =AT$10 -> 1020 | AO105: =AO104 -> 2675
D106: =D105 | E106: =H$20 | AB106: =AB105 -> 1620 | AC106: =IF(AB14="oui","",AC105+45) -> 2720 | AN106: =AN105 -> 1020 | AO106: =AO105+45 -> 2720
D107: =D104 | E107: =E106 | AB107: =AB104 -> 0 | AC107: =AC106 -> 2720 | AN107: =AN104 -> 0 | AO107: =AO106 -> 2720
D108: =D104 | E108: =E104 | AB108: =AB104 -> 0 | AC108: =AC104 -> 2675 | AN108: =AN104 -> 0 | AO108: =AO104 -> 2675
C110: Montant complément 3 PC | D110: =IF(D14="non","",D80-90) | E110: =IF(D14="non","",E74) | AA110: Montant complément 1 PC | AB110: =IF(AB14="non","",AB74+45) | AC110: =IF(AB14="non","",AC74) | AM110: Traverse basse PC | AN110: 0 | AO110: =AN319 -> 1220
D111: =IF(D14="non","",D110+45) | E111: =E110 | AB111: =IF(AB14="non","",AB110+45) | AC111: =AC110 | AN111: =AT$10 -> 1020 | AO111: =AO110 -> 1220
D112: =D111 | E112: =H$20 | AB112: =AB111 | AC112: =AF$20 | AN112: =AN111 -> 1020 | AO112: =AO111+45 -> 1265
D113: =D110 | E113: =E112 | AB113: =AB110 | AC113: =AC112 | AN113: =AN110 -> 0 | AO113: =AO112 -> 1265
D114: =D110 | E114: =E110 | AB114: =AB110 | AC114: =AC110 | AN114: =AN110 -> 0 | AO114: =AO110 -> 1220
C116: Montant complément 4 PC | D116: =IF(D14="non","",D110+45) | E116: =IF(D14="non","",E80) | AA116: Montant complément 2 PC | AB116: =IF(AB14="non","",AB110+45) | AC116: =IF(AB14="non","",AC80) | AM116: OSB PC | AN116: 45 | AO116: =AN12 -> 2150
D117: =IF(D14="non","",D116+45) | E117: =E116 | AB117: =IF(AB14="non","",AB116+45) | AC117: =AC116 | AN117: =AR37+AN116 -> 975 | AO117: =AO116 -> 2150
D118: =D117 | E118: =H$20 | AB118: =AB117 | AC118: =AF$20 | AN118: =AN117 -> 975 | AO118: =AO117+AP37 -> 2745
D119: =D116 | E119: =E118 | AB119: =AB116 | AC119: =AC118 | AN119: =AN116 -> 45 | AO119: =AO118 -> 2745
D120: =D116 | E120: =E116 | AB120: =AB116 | AC120: =AC116 | AN120: =AN116 -> 45 | AO120: =AO116 -> 2150
AA122: Montant complément 3 PC | AB122: =IF(AB14="non","",AB80-90) | AC122: =IF(AB14="non","",AC74)
AB123: =IF(AB14="non","",AB122+45) | AC123: =AC122
AB124: =AB123 | AC124: =AF$20
AB125: =AB122 | AC125: =AC124
AB126: =AB122 | AC126: =AC122
AA128: Montant complément 4 PC | AB128: =IF(AB14="non","",AB122+45) | AC128: =IF(AB14="non","",AC80)
AB129: =IF(AB14="non","",AB128+45) | AC129: =AC128
AB130: =AB129 | AC130: =AF$20
AB131: =AB128 | AC131: =AC130
AB132: =AB128 | AC132: =AC128
AA134: OSB PC | AB134: 45 | AC134: =AB12 -> 2150
AB135: =AF37+AB134 -> 1575 | AC135: =AC134 -> 2150
AB136: =AB135 -> 1575 | AC136: =AC135+AD37 -> 2745
AB137: =AB134 -> 45 | AC137: =AC136 -> 2745
AB138: =AB134 -> 45 | AC138: =AC134 -> 2150
C144: Ligne Linteau | D144: -200 | E144: =D12 -> 2150 | O144: Ligne Linteau | P144: -200 | Q144: =P12 -> 2150 | AA144: Ligne Linteau | AB144: -200 | AC144: =AB12 -> 2150 | AM144: Ligne Linteau | AN144: -300 | AO144: =AN12 -> 2150
D145: =J10+500 -> 2120 | E145: =E144 -> 2150 | P145: =V10+500 -> 2120 | Q145: =Q144 -> 2150 | AB145: =AH10+500 -> 2120 | AC145: =AC144 -> 2150 | AN145: =AT10+500 -> 1520 | AO145: =AO144 -> 2150
C147: Ligne altimétrie | D147: -200 | E147: =D13 -> 2720 | O147: Ligne altimétrie | P147: =P144 -> -200 | Q147: =P13 -> 2720 | AA147: Ligne altimétrie | AB147: -200 | AC147: =AB13 -> 2720 | AM147: Ligne altimétrie | AN147: =AN144 -> -300 | AO147: =AN13 -> 2720
D148: =D145 -> 2120 | E148: =E147 -> 2720 | P148: =P145 -> 2120 | Q148: =Q147 -> 2720 | AB148: =AB145 -> 2120 | AC148: =AC147 -> 2720 | AN148: =AN145 -> 1520 | AO148: =AO147 -> 2720
C150: Ligne Semelle | D150: -200 | E150: 0 | O150: Ligne Semelle | P150: =P144 -> -200 | Q150: 0 | AA150: Ligne Semelle | AB150: -200 | AC150: 0 | AM150: Ligne Semelle | AN150: =AN144 -> -300 | AO150: 0
D151: =D145 -> 2120 | E151: 0 | P151: =P145 -> 2120 | Q151: 0 | AB151: =AB145 -> 2120 | AC151: 0 | AN151: =AN145 -> 1520 | AO151: 0
C153: Ligne Niveau brut | D153: -200 | E153: -45 | O153: Ligne Niveau brut | P153: =P144 -> -200 | Q153: -45 | AA153: Ligne Niveau brut | AB153: -200 | AC153: -45 | AM153: Ligne Niveau brut | AN153: =AN144 -> -300 | AO153: -45
D154: =D148 -> 2120 | E154: -45 | P154: =P148 -> 2120 | Q154: -45 | AB154: =AB148 -> 2120 | AC154: -45 | AN154: =AN148 -> 1520 | AO154: -45
C157: ="Chantier: "&Acceuil!B1&" - "&Acceuil!$B$2 -> Chantier: - | O157: ="Chantier: "&Acceuil!B1&" - "&Acceuil!$B$2 -> Chantier: - | AA157: ="Chantier: "&Acceuil!B1&" - "&Acceuil!$B$2 -> Chantier: - | AM157: ="Chantier: "&Acceuil!B1&" - "&Acceuil!$B$2 -> Chantier: -
C159: =IF(C6="","Blocs sur "&C4&C161,"Blocs sur "&C4&"; "&C161) -> Blocs sur Porte 150 / 215; sans VR; | O159: =IF(O6="","Blocs sur "&O4&O161,"Blocs sur "&O4&"; "&O161) -> Blocs sur Fenêtre 150 / 90; sans VR; | AA159: =IF(AA6="","Blocs sur "&AA4&AA161,"Blocs sur "&AA4&"; "&AA161) -> Blocs sur Porte 150 / 215; avec VR; | AM159: =IF(AM6="","Blocs sur "&AM4&AM161,"Blocs sur "&AM4&"; "&AM161) -> Blocs sur Fenêtre 90 / 80; avec VR;
C163: Nombre total: | D163: =D164*D9 -> 1 | J163: ="Poids unitaire: " &ROUNDUP(((F179*H179*(10+9))+(D167*D168*18))/1000000,0)&" Kg" -> Poids unitaire: 26 Kg | O163: Nombre total: | P163: =P164*P9 -> 1 | V163: ="Poids unitaire: " &ROUNDUP(((R179*T179*(10+9))+(P167*P168*18))/1000000,0)&" Kg" -> Poids unitaire: 26 Kg | AA163: Nombre total | AB163: =AB164*AB9 -> 1 | AM163: Nombre total | AN163: =AN164*AN9 -> 1
C164: Nombre de bloc /précadre | D164: 1 | O164: Nombre de bloc /précadre | P164: 1 | AA164: Nombre de bloc /précadre | AB164: 1 | AM164: Nombre de bloc /précadre | AN164: 1
P166: dimensions extérieurs | AB166: dimensions extérieurs | AN166: dimensions extérieurs
C167: Largeur ossature: | D167: =IF(D14="non",(J10-((D164+1)*60))/D164,(J10-90-((D164+1)*60))/D164) -> 1500 | E167: mm | O167: Largeur ossature: | P167: =(V10-((P164+1)*60))/P164 -> 1500 | Q167: mm | AA167: Largeur ossature | AB167: =(AH10-((AB164+1)*60))/AB164 -> 1500 | AC167: mm | AM167: Largeur ossature | AN167: =(AT10-((AN164+1)*60))/AN164 -> 900 | AO167: mm
C168: Hauteur ossature: | D168: =D13-J11 -> 290 | E168: mm | O168: Hauteur ossature: | P168: =P13-V11-P319 -> 290 | Q168: mm | AA168: Hauteur ossature | AB168: =2150-AB12+AB13-2720 -> 0 | AC168: mm | AM168: Hauteur ossature | AN168: =2150-AN12+AN13-2720 -> 0 | AO168: mm
C169: Dépassée gauche: | D169: 27 | E169: mm | O169: Dépassée gauche: | P169: 27 | Q169: mm | AA169: Dépassée gauche | AB169: 27 | AC169: mm | AM169: Dépassée gauche | AN169: 27 | AO169: mm
...
