Workbook

Sheet récap
A2: nombre de page: | B2: ='1'!H3+'2'!H3 -> 12

Sheet 1
A2: 1 | B2: =" / "&récap!$B$2 -> / 12 | D2: 1 | E2: =" / "&récap!$B$2 -> / 12
B3: 1 / 12 | E3: 5 / 12 | G3: nombre de page: | H3: =COUNT(A2,A8,A14,A20,A26,A32,D2,D8,D14,D20,D26,D32) -> 9
G6: ( en rouge ce que je souhaiterais voir apparaitre
B8: =" / "&récap!$B$2 -> / 12 | E8: =" / "&récap!$B$2 -> / 12
A14: 1 | B14: =" / "&récap!$B$2 -> / 12 | D14: 1 | E14: =" / "&récap!$B$2 -> / 12
B15: 2 / 12 | E15: 6 / 12
B20: =" / "&récap!$B$2 -> / 12 | D20: 1 | E20: =" / "&récap!$B$2 -> / 12
E21: 7 / 12
A26: 1 | B26: =" / "&récap!$B$2 -> / 12 | D26: 1 | E26: =" / "&récap!$B$2 -> / 12
B27: 3 / 12 | E27: 8 / 12
A32: 1 | B32: =" / "&récap!$B$2 -> / 12 | D32: 1 | E32: =" / "&récap!$B$2 -> / 12
B33: 4 / 12 | E33: 9 / 12

Sheet 2
B2: =" / "&récap!$B$2 -> / 12 | D2: 1 | E2: =" / "&récap!$B$2 -> / 12
E3: 11 / 12 | G3: nombre de page: | H3: =COUNT(A2,A8,A14,A20,A26,A32,D2,D8,D14,D20,D26,D32) -> 3
G6: ( en rouge ce que je souhaiterais voir apparaitre
B8: =" / "&récap!$B$2 -> / 12 | E8: =" / "&récap!$B$2 -> / 12
B14: =" / "&récap!$B$2 -> / 12 | E14: =" / "&récap!$B$2 -> / 12
B20: =" / "&récap!$B$2 -> / 12 | E20: =" / "&récap!$B$2 -> / 12
B26: =" / "&récap!$B$2 -> / 12 | E26: =" / "&récap!$B$2 -> / 12
A32: 1 | B32: =" / "&récap!$B$2 -> / 12 | D32: 1 | E32: =" / "&récap!$B$2 -> / 12
B33: 10 / 12 | E33: 12 / 12
