Workbook
Name Aout: [1]Août!#REF!
Name Décem: [1]Décembre!#REF!
Name Jours_affectation: [1]Janvier!#REF!
Name Juillet: [1]Juillet!#REF!
Name Novem: [1]Novembre!#REF!
Name Octo: [1]Octobre!#REF!
Name Sept: [1]Septembre!#REF!

Sheet JUIL 1
B1: Année | D1: =[1]Janvier!$J$1 -> 2015 | F1: Aujourd'hui | H1: =TODAY() -> 42001 | P1: Atteindre
A3: JUILLET | B3: LUNDI | D3: =[1]Juillet!#REF! -> #REF! | E3: MARDI | G3: =[1]Juillet!#REF! -> #REF! | H3: MERCREDI | J3: =[1]Juillet!#REF! -> #REF! | K3: JEUDI | M3: =[1]Juillet!#REF! -> #REF! | N3: VENDREDI | P3: =[1]Juillet!#REF! -> #REF! | Q3: SAMEDI | S3: =[1]Juillet!#REF! -> #REF! | T3: DIMANCHE | V3: =[1]Juillet!#REF! -> #REF!
B4: ELO | C4: CHR | D4: JOS | E4: ELO | F4: CHR | G4: JOS | H4: ELO | I4: CHR | J4: JOS | K4: ELO | L4: CHR | M4: JOS | N4: ELO | O4: CHR | P4: JOS | Q4: ELO | R4: CHR | S4: JOS | T4: ELO | U4: CHR | V4: JOS
A5: 8 8H15
A6: 8H15 8H30 | B6: ACC | F6: ACC
A7: 8H30 8H45 | B7: ACC | F7: ACC
A8: 8H45 9H | D8: ACC
A9: 9H 9H15 | G9: ACC
A10: 9H 15 9H30 | E10: ACC
A11: 9H30 9H45 | B11: ACC
A12: 9H45 10H
A13: 10H 10H15 | C13: ACC
A14: 10H15 10H30 | E14: CA
A15: 10H30 10H45 | B15: Div
A16: 10H45 11H | C16: Div
A17: 11H 11H15 | F17: CA
A18: 11H15 11H30
A19: 11H30 11H45 | B19: CA
A20: 11H45 12H | C20: CA
A21: 12H 12H15
A22: 12H15 12H30 | B22: CM
A23: 12H30 12H45 | D23: CM
A24: 12H45 13H
A25: 13H 13H15 | B25: FORM
A26: 13H15 13H30
A27: 13H30 13H45 | D27: FORM
A28: 13H45 14H
A29: 14H 14H15 | B29: Abs Aut
A30: 14H15 14H30
A31: 14H30 14H45 | D31: Abs Aut
A32: 14H45 15H
A33: 15H 15H15
A34: 15H15 15H30
A35: 15H30 15H45
A36: 15H45 16
A37: 16H 16H15
A38: 16H15 16H30
A39: 16H30 16H45
A40: 16H45 17H
A41: 17H 17H15
...

Sheet 2ème Semestre
A1: Aujourd'hui | C1: =TODAY() -> 42001 | I1: Année | L1: 2015
A3: Juillet | I3: Août | Q3: Septembre
A4: L | B4: M | C4: M | D4: J | E4: V | F4: S | G4: D | I4: L | J4: M | K4: M | L4: J | M4: V | N4: S | O4: D | Q4: L | R4: M | S4: M | T4: J | U4: V | V4: S | W4: D
A5: =[1]Juillet!B3 -> 42184 | B5: =[1]Juillet!C3 -> 42185 | C5: =[1]Juillet!D3 -> 42186 | D5: =[1]Juillet!E3 -> 42187 | E5: =[1]Juillet!F3 -> 42188 | F5: =[1]Juillet!G3 -> 42189 | G5: =[1]Juillet!H3 -> 42190 | I5: =[1]Août!B3 -> 42212 | J5: =[1]Août!C3 -> 42213 | K5: =[1]Août!D3 -> 42214 | L5: =[1]Août!E3 -> 42215 | M5: =[1]Août!F3 -> 42216 | N5: =[1]Août!G3 -> 42217 | O5: =[1]Août!H3 -> 42218 | Q5: =[1]Septembre!B3 -> 42247 | R5: =[1]Septembre!C3 -> 42248 | S5: =[1]Septembre!D3 -> 42249 | T5: =[1]Septembre!E3 -> 42250 | U5: =[1]Septembre!F3 -> 42251 | V5: =[1]Septembre!G3 -> 42252 | W5: =[1]Septembre!H3 -> 42253
A9: =[1]Juillet!B4 -> 42191 | B9: =[1]Juillet!C4 -> 42192 | C9: =[1]Juillet!D4 -> 42193 | D9: =[1]Juillet!E4 -> 42194 | E9: =[1]Juillet!F4 -> 42195 | F9: =[1]Juillet!G4 -> 42196 | G9: =[1]Juillet!H4 -> 42197 | I9: =[1]Août!B4 -> 42219 | J9: =[1]Août!C4 -> 42220 | K9: =[1]Août!D4 -> 42221 | L9: =[1]Août!E4 -> 42222 | M9: =[1]Août!F4 -> 42223 | N9: =[1]Août!G4 -> 42224 | O9: =[1]Août!H4 -> 42225 | Q9: =[1]Septembre!B4 -> 42254 | R9: =[1]Septembre!C4 -> 42255 | S9: =[1]Septembre!D4 -> 42256 | T9: =[1]Septembre!E4 -> 42257 | U9: =[1]Septembre!F4 -> 42258 | V9: =[1]Septembre!G4 -> 42259 | W9: =[1]Septembre!H4 -> 42260
A13: =[1]Juillet!B5 -> 42198 | B13: =[1]Juillet!C5 -> 42199 | C13: =[1]Juillet!D5 -> 42200 | D13: =[1]Juillet!E5 -> 42201 | E13: =[1]Juillet!F5 -> 42202 | F13: =[1]Juillet!G5 -> 42203 | G13: =[1]Juillet!H5 -> 42204 | I13: =[1]Août!B5 -> 42226 | J13: =[1]Août!C5 -> 42227 | K13: =[1]Août!D5 -> 42228 | L13: =[1]Août!E5 -> 42229 | M13: =[1]Août!F5 -> 42230 | N13: =[1]Août!G5 -> 42231 | O13: =[1]Août!H5 -> 42232 | Q13: =[1]Septembre!B5 -> 42261 | R13: =[1]Septembre!C5 -> 42262 | S13: =[1]Septembre!D5 -> 42263 | T13: =[1]Septembre!E5 -> 42264 | U13: =[1]Septembre!F5 -> 42265 | V13: =[1]Septembre!G5 -> 42266 | W13: =[1]Septembre!H5 -> 42267
A17: =[1]Juillet!B6 -> 42205 | B17: =[1]Juillet!C6 -> 42206 | C17: =[1]Juillet!D6 -> 42207 | D17: =[1]Juillet!E6 -> 42208 | E17: =[1]Juillet!F6 -> 42209 | F17: =[1]Juillet!G6 -> 42210 | G17: =[1]Juillet!H6 -> 42211 | I17: =[1]Août!B6 -> 42233 | J17: =[1]Août!C6 -> 42234 | K17: =[1]Août!D6 -> 42235 | L17: =[1]Août!E6 -> 42236 | M17: =[1]Août!F6 -> 42237 | N17: =[1]Août!G6 -> 42238 | O17: =[1]Août!H6 -> 42239 | Q17: =[1]Septembre!B6 -> 42268 | R17: =[1]Septembre!C6 -> 42269 | S17: =[1]Septembre!D6 -> 42270 | T17: =[1]Septembre!E6 -> 42271 | U17: =[1]Septembre!F6 -> 42272 | V17: =[1]Septembre!G6 -> 42273 | W17: =[1]Septembre!H6 -> 42274
A21: =[1]Juillet!B7 -> 42212 | B21: =[1]Juillet!C7 -> 42213 | C21: =[1]Juillet!D7 -> 42214 | D21: =[1]Juillet!E7 -> 42215 | E21: =[1]Juillet!F7 -> 42216 | F21: =[1]Juillet!G7 -> 42217 | G21: =[1]Juillet!H7 -> 42218 | I21: =[1]Août!B7 -> 42240 | J21: =[1]Août!C7 -> 42241 | K21: =[1]Août!D7 -> 42242 | L21: =[1]Août!E7 -> 42243 | M21: =[1]Août!F7 -> 42244 | N21: =[1]Août!G7 -> 42245 | O21: =[1]Août!H7 -> 42246 | Q21: =[1]Septembre!B7 -> 42275 | R21: =[1]Septembre!C7 -> 42276 | S21: =[1]Septembre!D7 -> 42277 | T21: =[1]Septembre!E7 -> 42278 | U21: =[1]Septembre!F7 -> 42279 | V21: =[1]Septembre!G7 -> 42280 | W21: =[1]Septembre!H7 -> 42281
A25: =[1]Juillet!B8 -> 42219 | B25: =[1]Juillet!C8 -> 42220 | C25: =[1]Juillet!D8 -> 42221 | D25: =[1]Juillet!E8 -> 42222 | E25: =[1]Juillet!F8 -> 42223 | F25: =[1]Juillet!G8 -> 42224 | G25: =[1]Juillet!H8 -> 42225 | I25: =[1]Août!B8 -> 42247 | J25: =[1]Août!C8 -> 42248 | K25: =[1]Août!D8 -> 42249 | L25: =[1]Août!E8 -> 42250 | M25: =[1]Août!F8 -> 42251 | N25: =[1]Août!G8 -> 42252 | O25: =[1]Août!H8 -> 42253 | Q25: =[1]Septembre!B8 -> 42282 | R25: =[1]Septembre!C8 -> 42283 | S25: =[1]Septembre!D8 -> 42284 | T25: =[1]Septembre!E8 -> 42285 | U25: =[1]Septembre!F8 -> 42286 | V25: =[1]Septembre!G8 -> 42287 | W25: =[1]Septembre!H8 -> 42288
A30: Octobre | I30: Novembre | Q30: Décembre
A31: L | B31: M | C31: M | D31: J | E31: V | F31: S | G31: D | I31: L | J31: M | K31: M | L31: J | M31: V | N31: S | O31: D | Q31: L | R31: M | S31: M | T31: J | U31: V | V31: S | W31: D
A32: =[1]Octobre!B3 -> 42275 | B32: =[1]Octobre!C3 -> 42276 | C32: =[1]Octobre!D3 -> 42277 | D32: =[1]Octobre!E3 -> 42278 | E32: =[1]Octobre!F3 -> 42279 | F32: =[1]Octobre!G3 -> 42280 | G32: =[1]Octobre!H3 -> 42281 | I32: =[1]Novembre!B3 -> 42303 | J32: =[1]Novembre!C3 -> 42304 | K32: =[1]Novembre!D3 -> 42305 | L32: =[1]Novembre!E3 -> 42306 | M32: =[1]Novembre!F3 -> 42307 | N32: =[1]Novembre!G3 -> 42308 | O32: =[1]Novembre!H3 -> 42309 | Q32: =[1]Décembre!B3 -> 42338 | R32: =[1]Décembre!C3 -> 42339 | S32: =[1]Décembre!D3 -> 42340 | T32: =[1]Décembre!E3 -> 42341 | U32: =[1]Décembre!F3 -> 42342 | V32: =[1]Décembre!G3 -> 42343 | W32: =[1]Décembre!H3 -> 42344
A36: =[1]Octobre!B4 -> 42282 | B36: =[1]Octobre!C4 -> 42283 | C36: =[1]Octobre!D4 -> 42284 | D36: =[1]Octobre!E4 -> 42285 | E36: =[1]Octobre!F4 -> 42286 | F36: =[1]Octobre!G4 -> 42287 | G36: =[1]Octobre!H4 -> 42288 | I36: =[1]Novembre!B4 -> 42310 | J36: =[1]Novembre!C4 -> 42311 | K36: =[1]Novembre!D4 -> 42312 | L36: =[1]Novembre!E4 -> 42313 | M36: =[1]Novembre!F4 -> 42314 | N36: =[1]Novembre!G4 -> 42315 | O36: =[1]Novembre!H4 -> 42316 | Q36: =[1]Décembre!B4 -> 42345 | R36: =[1]Décembre!C4 -> 42346 | S36: =[1]Décembre!D4 -> 42347 | T36: =[1]Décembre!E4 -> 42348 | U36: =[1]Décembre!F4 -> 42349 | V36: =[1]Décembre!G4 -> 42350 | W36: =[1]Décembre!H4 -> 42351
A40: =[1]Octobre!B5 -> 42289 | B40: =[1]Octobre!C5 -> 42290 | C40: =[1]Octobre!D5 -> 42291 | D40: =[1]Octobre!E5 -> 42292 | E40: =[1]Octobre!F5 -> 42293 | F40: =[1]Octobre!G5 -> 42294 | G40: =[1]Octobre!H5 -> 42295 | I40: =[1]Novembre!B5 -> 42317 | J40: =[1]Novembre!C5 -> 42318 | K40: =[1]Novembre!D5 -> 42319 | L40: =[1]Novembre!E5 -> 42320 | M40: =[1]Novembre!F5 -> 42321 | N40: =[1]Novembre!G5 -> 42322 | O40: =[1]Novembre!H5 -> 42323 | Q40: =[1]Décembre!B5 -> 42352 | R40: =[1]Décembre!C5 -> 42353 | S40: =[1]Décembre!D5 -> 42354 | T40: =[1]Décembre!E5 -> 42355 | U40: =[1]Décembre!F5 -> 42356 | V40: =[1]Décembre!G5 -> 42357 | W40: =[1]Décembre!H5 -> 42358
A44: =[1]Octobre!B6 -> 42296 | B44: =[1]Octobre!C6 -> 42297 | C44: =[1]Octobre!D6 -> 42298 | D44: =[1]Octobre!E6 -> 42299 | E44: =[1]Octobre!F6 -> 42300 | F44: =[1]Octobre!G6 -> 42301 | G44: =[1]Octobre!H6 -> 42302 | I44: =[1]Novembre!B6 -> 42324 | J44: =[1]Novembre!C6 -> 42325 | K44: =[1]Novembre!D6 -> 42326 | L44: =[1]Novembre!E6 -> 42327 | M44: =[1]Novembre!F6 -> 42328 | N44: =[1]Novembre!G6 -> 42329 | O44: =[1]Novembre!H6 -> 42330 | Q44: =[1]Décembre!B6 -> 42359 | R44: =[1]Décembre!C6 -> 42360 | S44: =[1]Décembre!D6 -> 42361 | T44: =[1]Décembre!E6 -> 42362 | U44: =[1]Décembre!F6 -> 42363 | V44: =[1]Décembre!G6 -> 42364 | W44: =[1]Décembre!H6 -> 42365
A48: =[1]Octobre!B7 -> 42303 | B48: =[1]Octobre!C7 -> 42304 | C48: =[1]Octobre!D7 -> 42305 | D48: =[1]Octobre!E7 -> 42306 | E48: =[1]Octobre!F7 -> 42307 | F48: =[1]Octobre!G7 -> 42308 | G48: =[1]Octobre!H7 -> 42309 | I48: =[1]Novembre!B7 -> 42331 | J48: =[1]Novembre!C7 -> 42332 | K48: =[1]Novembre!D7 -> 42333 | L48: =[1]Novembre!E7 -> 42334 | M48: =[1]Novembre!F7 -> 42335 | N48: =[1]Novembre!G7 -> 42336 | O48: =[1]Novembre!H7 -> 42337 | Q48: =[1]Décembre!B7 -> 42366 | R48: =[1]Décembre!C7 -> 42367 | S48: =[1]Décembre!D7 -> 42368 | T48: =[1]Décembre!E7 -> 42369 | U48: =[1]Décembre!F7 -> 42370 | V48: =[1]Décembre!G7 -> 42371 | W48: =[1]Décembre!H7 -> 42372
A52: =[1]Octobre!B8 -> 42310 | B52: =[1]Octobre!C8 -> 42311 | C52: =[1]Octobre!D8 -> 42312 | D52: =[1]Octobre!E8 -> 42313 | E52: =[1]Octobre!F8 -> 42314 | F52: =[1]Octobre!G8 -> 42315 | G52: =[1]Octobre!H8 -> 42316 | I52: =[1]Novembre!B8 -> 42338 | J52: =[1]Novembre!C8 -> 42339 | K52: =[1]Novembre!D8 -> 42340 | L52: =[1]Novembre!E8 -> 42341 | M52: =[1]Novembre!F8 -> 42342 | N52: =[1]Novembre!G8 -> 42343 | O52: =[1]Novembre!H8 -> 42344 | Q52: =[1]Décembre!B8 -> 42373 | R52: =[1]Décembre!C8 -> 42374 | S52: =[1]Décembre!D8 -> 42375 | T52: =[1]Décembre!E8 -> 42376 | U52: =[1]Décembre!F8 -> 42377 | V52: =[1]Décembre!G8 -> 42378 | W52: =[1]Décembre!H8 -> 42379
