Workbook
Name Report: Variables!$B$9
Name Sem: Variables!$B$4
Name Vis: Variables!$B$6
Name Conq: Variables!$B$10
Name Nom: Variables!$B$3
Name Emis: Variables!$B$5
Name Horo: Variables!$B$1
Name Argu: Variables!$B$7
Name Renouv: Variables!$B$8

Sheet Feuille1
A1: Horodateur | B1: Votre nom | C1: Nombre d'appel émis (Total) | D1: Nombre d'appel émis pour 2V | E1: Nombre d'appel émis avec argumentaire | F1: Nombre d'appel émis pour renouvellement | G1: Nombre d'appel émis pour report | H1: Nombre d'appel émis pour conquête
A2: 42009 | B2: Geneviève | C2: 100 | D2: 2 | E2: 50 | F2: 10 | G2: 5 | H2: 25
A3: 42040 | B3: Ophélie | C3: 200 | D3: 50 | E3: 20 | F3: 30 | G3: 40 | H3: 90

Sheet Feuille2
A1: Date | B1: Semaine
A2: 42005 | B2: 1
A3: 42006 | B3: 1
A4: 42007 | B4: 1
A5: 42008 | B5: 2
A6: 42009 | B6: 2
A7: 42010 | B7: 2
A8: 42011 | B8: 2
A9: 42012 | B9: 2
A10: 42013 | B10: 2
A11: 42014 | B11: 2
A12: 42015 | B12: 3
A13: 42016 | B13: 3
... A366: 42369 | B366: 53

Sheet Nb_emis
A1: Nombre d'appel emis
A2: Semaine | B2: Ophélie | C2: Delphine | D2: Geneviève | E2: Séverine
A3: 1 | B3: =SUMPRODUCT((Sem=$A3)*(Nom=B$2),Emis) -> 0 | C3: =SUMPRODUCT((Sem=$A3)*(Nom=C$2),Emis) -> 0 | D3: =SUMPRODUCT((Sem=$A3)*(Nom=D$2),Emis) -> 0 | E3: =SUMPRODUCT((Sem=$A3)*(Nom=E$2),Emis) -> 0
A4: 2 | B4: =SUMPRODUCT((Sem=$A4)*(Nom=B$2),Emis) -> 0 | C4: =SUMPRODUCT((Sem=$A4)*(Nom=C$2),Emis) -> 0 | D4: =SUMPRODUCT((Sem=$A4)*(Nom=D$2),Emis) -> 100 | E4: =SUMPRODUCT((Sem=$A4)*(Nom=E$2),Emis) -> 0
A5: 3 | B5: =SUMPRODUCT((Sem=$A5)*(Nom=B$2),Emis) -> 0 | C5: =SUMPRODUCT((Sem=$A5)*(Nom=C$2),Emis) -> 0 | D5: =SUMPRODUCT((Sem=$A5)*(Nom=D$2),Emis) -> 0 | E5: =SUMPRODUCT((Sem=$A5)*(Nom=E$2),Emis) -> 0
A6: 4 | B6: =SUMPRODUCT((Sem=$A6)*(Nom=B$2),Emis) -> 0 | C6: =SUMPRODUCT((Sem=$A6)*(Nom=C$2),Emis) -> 0 | D6: =SUMPRODUCT((Sem=$A6)*(Nom=D$2),Emis) -> 0 | E6: =SUMPRODUCT((Sem=$A6)*(Nom=E$2),Emis) -> 0
A7: 5 | B7: =SUMPRODUCT((Sem=$A7)*(Nom=B$2),Emis) -> 0 | C7: =SUMPRODUCT((Sem=$A7)*(Nom=C$2),Emis) -> 0 | D7: =SUMPRODUCT((Sem=$A7)*(Nom=D$2),Emis) -> 0 | E7: =SUMPRODUCT((Sem=$A7)*(Nom=E$2),Emis) -> 0
A8: 6 | B8: =SUMPRODUCT((Sem=$A8)*(Nom=B$2),Emis) -> 0 | C8: =SUMPRODUCT((Sem=$A8)*(Nom=C$2),Emis) -> 0 | D8: =SUMPRODUCT((Sem=$A8)*(Nom=D$2),Emis) -> 0 | E8: =SUMPRODUCT((Sem=$A8)*(Nom=E$2),Emis) -> 0
A9: 7 | B9: =SUMPRODUCT((Sem=$A9)*(Nom=B$2),Emis) -> 0 | C9: =SUMPRODUCT((Sem=$A9)*(Nom=C$2),Emis) -> 0 | D9: =SUMPRODUCT((Sem=$A9)*(Nom=D$2),Emis) -> 0 | E9: =SUMPRODUCT((Sem=$A9)*(Nom=E$2),Emis) -> 0
A10: 8 | B10: =SUMPRODUCT((Sem=$A10)*(Nom=B$2),Emis) -> 0 | C10: =SUMPRODUCT((Sem=$A10)*(Nom=C$2),Emis) -> 0 | D10: =SUMPRODUCT((Sem=$A10)*(Nom=D$2),Emis) -> 0 | E10: =SUMPRODUCT((Sem=$A10)*(Nom=E$2),Emis) -> 0
A11: 9 | B11: =SUMPRODUCT((Sem=$A11)*(Nom=B$2),Emis) -> 0 | C11: =SUMPRODUCT((Sem=$A11)*(Nom=C$2),Emis) -> 0 | D11: =SUMPRODUCT((Sem=$A11)*(Nom=D$2),Emis) -> 0 | E11: =SUMPRODUCT((Sem=$A11)*(Nom=E$2),Emis) -> 0
A12: 10 | B12: =SUMPRODUCT((Sem=$A12)*(Nom=B$2),Emis) -> 0 | C12: =SUMPRODUCT((Sem=$A12)*(Nom=C$2),Emis) -> 0 | D12: =SUMPRODUCT((Sem=$A12)*(Nom=D$2),Emis) -> 0 | E12: =SUMPRODUCT((Sem=$A12)*(Nom=E$2),Emis) -> 0
A13: 11 | B13: =SUMPRODUCT((Sem=$A13)*(Nom=B$2),Emis) -> 0 | C13: =SUMPRODUCT((Sem=$A13)*(Nom=C$2),Emis) -> 0 | D13: =SUMPRODUCT((Sem=$A13)*(Nom=D$2),Emis) -> 0 | E13: =SUMPRODUCT((Sem=$A13)*(Nom=E$2),Emis) -> 0
A14: 12 | B14: =SUMPRODUCT((Sem=$A14)*(Nom=B$2),Emis) -> 0 | C14: =SUMPRODUCT((Sem=$A14)*(Nom=C$2),Emis) -> 0 | D14: =SUMPRODUCT((Sem=$A14)*(Nom=D$2),Emis) -> 0 | E14: =SUMPRODUCT((Sem=$A14)*(Nom=E$2),Emis) -> 0
... A54: 52 | B54: =SUMPRODUCT((Sem=$A54)*(Nom=B$2),Emis) -> 0 | C54: =SUMPRODUCT((Sem=$A54)*(Nom=C$2),Emis) -> 0 | D54: =SUMPRODUCT((Sem=$A54)*(Nom=D$2),Emis) -> 0 | E54: =SUMPRODUCT((Sem=$A54)*(Nom=E$2),Emis) -> 0

Sheet Nb_2V
A1: Nombre d'appel emis pour 2V
A2: Semaine | B2: Ophélie | C2: Delphine | D2: Geneviève | E2: Séverine
A3: 1 | B3: =SUMPRODUCT((Sem=$A3)*(Nom=B$2),Vis) -> 0 | C3: =SUMPRODUCT((Sem=$A3)*(Nom=C$2),Vis) -> 0 | D3: =SUMPRODUCT((Sem=$A3)*(Nom=D$2),Vis) -> 0 | E3: =SUMPRODUCT((Sem=$A3)*(Nom=E$2),Vis) -> 0
A4: 2 | B4: =SUMPRODUCT((Sem=$A4)*(Nom=B$2),Vis) -> 0 | C4: =SUMPRODUCT((Sem=$A4)*(Nom=C$2),Vis) -> 0 | D4: =SUMPRODUCT((Sem=$A4)*(Nom=D$2),Vis) -> 2 | E4: =SUMPRODUCT((Sem=$A4)*(Nom=E$2),Vis) -> 0
A5: 3 | B5: =SUMPRODUCT((Sem=$A5)*(Nom=B$2),Vis) -> 0 | C5: =SUMPRODUCT((Sem=$A5)*(Nom=C$2),Vis) -> 0 | D5: =SUMPRODUCT((Sem=$A5)*(Nom=D$2),Vis) -> 0 | E5: =SUMPRODUCT((Sem=$A5)*(Nom=E$2),Vis) -> 0
A6: 4 | B6: =SUMPRODUCT((Sem=$A6)*(Nom=B$2),Vis) -> 0 | C6: =SUMPRODUCT((Sem=$A6)*(Nom=C$2),Vis) -> 0 | D6: =SUMPRODUCT((Sem=$A6)*(Nom=D$2),Vis) -> 0 | E6: =SUMPRODUCT((Sem=$A6)*(Nom=E$2),Vis) -> 0
A7: 5 | B7: =SUMPRODUCT((Sem=$A7)*(Nom=B$2),Vis) -> 0 | C7: =SUMPRODUCT((Sem=$A7)*(Nom=C$2),Vis) -> 0 | D7: =SUMPRODUCT((Sem=$A7)*(Nom=D$2),Vis) -> 0 | E7: =SUMPRODUCT((Sem=$A7)*(Nom=E$2),Vis) -> 0
A8: 6 | B8: =SUMPRODUCT((Sem=$A8)*(Nom=B$2),Vis) -> 0 | C8: =SUMPRODUCT((Sem=$A8)*(Nom=C$2),Vis) -> 0 | D8: =SUMPRODUCT((Sem=$A8)*(Nom=D$2),Vis) -> 0 | E8: =SUMPRODUCT((Sem=$A8)*(Nom=E$2),Vis) -> 0
A9: 7 | B9: =SUMPRODUCT((Sem=$A9)*(Nom=B$2),Vis) -> 0 | C9: =SUMPRODUCT((Sem=$A9)*(Nom=C$2),Vis) -> 0 | D9: =SUMPRODUCT((Sem=$A9)*(Nom=D$2),Vis) -> 0 | E9: =SUMPRODUCT((Sem=$A9)*(Nom=E$2),Vis) -> 0
A10: 8 | B10: =SUMPRODUCT((Sem=$A10)*(Nom=B$2),Vis) -> 0 | C10: =SUMPRODUCT((Sem=$A10)*(Nom=C$2),Vis) -> 0 | D10: =SUMPRODUCT((Sem=$A10)*(Nom=D$2),Vis) -> 0 | E10: =SUMPRODUCT((Sem=$A10)*(Nom=E$2),Vis) -> 0
A11: 9 | B11: =SUMPRODUCT((Sem=$A11)*(Nom=B$2),Vis) -> 0 | C11: =SUMPRODUCT((Sem=$A11)*(Nom=C$2),Vis) -> 0 | D11: =SUMPRODUCT((Sem=$A11)*(Nom=D$2),Vis) -> 0 | E11: =SUMPRODUCT((Sem=$A11)*(Nom=E$2),Vis) -> 0
A12: 10 | B12: =SUMPRODUCT((Sem=$A12)*(Nom=B$2),Vis) -> 0 | C12: =SUMPRODUCT((Sem=$A12)*(Nom=C$2),Vis) -> 0 | D12: =SUMPRODUCT((Sem=$A12)*(Nom=D$2),Vis) -> 0 | E12: =SUMPRODUCT((Sem=$A12)*(Nom=E$2),Vis) -> 0
A13: 11 | B13: =SUMPRODUCT((Sem=$A13)*(Nom=B$2),Vis) -> 0 | C13: =SUMPRODUCT((Sem=$A13)*(Nom=C$2),Vis) -> 0 | D13: =SUMPRODUCT((Sem=$A13)*(Nom=D$2),Vis) -> 0 | E13: =SUMPRODUCT((Sem=$A13)*(Nom=E$2),Vis) -> 0
A14: 12 | B14: =SUMPRODUCT((Sem=$A14)*(Nom=B$2),Vis) -> 0 | C14: =SUMPRODUCT((Sem=$A14)*(Nom=C$2),Vis) -> 0 | D14: =SUMPRODUCT((Sem=$A14)*(Nom=D$2),Vis) -> 0 | E14: =SUMPRODUCT((Sem=$A14)*(Nom=E$2),Vis) -> 0
... A54: 52 | B54: =SUMPRODUCT((Sem=$A54)*(Nom=B$2),Vis) -> 0 | C54: =SUMPRODUCT((Sem=$A54)*(Nom=C$2),Vis) -> 0 | D54: =SUMPRODUCT((Sem=$A54)*(Nom=D$2),Vis) -> 0 | E54: =SUMPRODUCT((Sem=$A54)*(Nom=E$2),Vis) -> 0

Sheet Nb_argu
A1: Nombre d'appel emis pour argumentaire
A2: Semaine | B2: Ophélie | C2: Delphine | D2: Geneviève | E2: Séverine
A3: 1 | B3: =SUMPRODUCT((Sem=$A3)*(Nom=B$2),Argu) -> 0 | C3: =SUMPRODUCT((Sem=$A3)*(Nom=C$2),Argu) -> 0 | D3: =SUMPRODUCT((Sem=$A3)*(Nom=D$2),Argu) -> 0 | E3: =SUMPRODUCT((Sem=$A3)*(Nom=E$2),Argu) -> 0
A4: 2 | B4: =SUMPRODUCT((Sem=$A4)*(Nom=B$2),Argu) -> 0 | C4: =SUMPRODUCT((Sem=$A4)*(Nom=C$2),Argu) -> 0 | D4: =SUMPRODUCT((Sem=$A4)*(Nom=D$2),Argu) -> 50 | E4: =SUMPRODUCT((Sem=$A4)*(Nom=E$2),Argu) -> 0
A5: 3 | B5: =SUMPRODUCT((Sem=$A5)*(Nom=B$2),Argu) -> 0 | C5: =SUMPRODUCT((Sem=$A5)*(Nom=C$2),Argu) -> 0 | D5: =SUMPRODUCT((Sem=$A5)*(Nom=D$2),Argu) -> 0 | E5: =SUMPRODUCT((Sem=$A5)*(Nom=E$2),Argu) -> 0
A6: 4 | B6: =SUMPRODUCT((Sem=$A6)*(Nom=B$2),Argu) -> 0 | C6: =SUMPRODUCT((Sem=$A6)*(Nom=C$2),Argu) -> 0 | D6: =SUMPRODUCT((Sem=$A6)*(Nom=D$2),Argu) -> 0 | E6: =SUMPRODUCT((Sem=$A6)*(Nom=E$2),Argu) -> 0
A7: 5 | B7: =SUMPRODUCT((Sem=$A7)*(Nom=B$2),Argu) -> 0 | C7: =SUMPRODUCT((Sem=$A7)*(Nom=C$2),Argu) -> 0 | D7: =SUMPRODUCT((Sem=$A7)*(Nom=D$2),Argu) -> 0 | E7: =SUMPRODUCT((Sem=$A7)*(Nom=E$2),Argu) -> 0
A8: 6 | B8: =SUMPRODUCT((Sem=$A8)*(Nom=B$2),Argu) -> 0 | C8: =SUMPRODUCT((Sem=$A8)*(Nom=C$2),Argu) -> 0 | D8: =SUMPRODUCT((Sem=$A8)*(Nom=D$2),Argu) -> 0 | E8: =SUMPRODUCT((Sem=$A8)*(Nom=E$2),Argu) -> 0
A9: 7 | B9: =SUMPRODUCT((Sem=$A9)*(Nom=B$2),Argu) -> 0 | C9: =SUMPRODUCT((Sem=$A9)*(Nom=C$2),Argu) -> 0 | D9: =SUMPRODUCT((Sem=$A9)*(Nom=D$2),Argu) -> 0 | E9: =SUMPRODUCT((Sem=$A9)*(Nom=E$2),Argu) -> 0
A10: 8 | B10: =SUMPRODUCT((Sem=$A10)*(Nom=B$2),Argu) -> 0 | C10: =SUMPRODUCT((Sem=$A10)*(Nom=C$2),Argu) -> 0 | D10: =SUMPRODUCT((Sem=$A10)*(Nom=D$2),Argu) -> 0 | E10: =SUMPRODUCT((Sem=$A10)*(Nom=E$2),Argu) -> 0
A11: 9 | B11: =SUMPRODUCT((Sem=$A11)*(Nom=B$2),Argu) -> 0 | C11: =SUMPRODUCT((Sem=$A11)*(Nom=C$2),Argu) -> 0 | D11: =SUMPRODUCT((Sem=$A11)*(Nom=D$2),Argu) -> 0 | E11: =SUMPRODUCT((Sem=$A11)*(Nom=E$2),Argu) -> 0
A12: 10 | B12: =SUMPRODUCT((Sem=$A12)*(Nom=B$2),Argu) -> 0 | C12: =SUMPRODUCT((Sem=$A12)*(Nom=C$2),Argu) -> 0 | D12: =SUMPRODUCT((Sem=$A12)*(Nom=D$2),Argu) -> 0 | E12: =SUMPRODUCT((Sem=$A12)*(Nom=E$2),Argu) -> 0
A13: 11 | B13: =SUMPRODUCT((Sem=$A13)*(Nom=B$2),Argu) -> 0 | C13: =SUMPRODUCT((Sem=$A13)*(Nom=C$2),Argu) -> 0 | D13: =SUMPRODUCT((Sem=$A13)*(Nom=D$2),Argu) -> 0 | E13: =SUMPRODUCT((Sem=$A13)*(Nom=E$2),Argu) -> 0
A14: 12 | B14: =SUMPRODUCT((Sem=$A14)*(Nom=B$2),Argu) -> 0 | C14: =SUMPRODUCT((Sem=$A14)*(Nom=C$2),Argu) -> 0 | D14: =SUMPRODUCT((Sem=$A14)*(Nom=D$2),Argu) -> 0 | E14: =SUMPRODUCT((Sem=$A14)*(Nom=E$2),Argu) -> 0
... A54: 52 | B54: =SUMPRODUCT((Sem=$A54)*(Nom=B$2),Argu) -> 0 | C54: =SUMPRODUCT((Sem=$A54)*(Nom=C$2),Argu) -> 0 | D54: =SUMPRODUCT((Sem=$A54)*(Nom=D$2),Argu) -> 0 | E54: =SUMPRODUCT((Sem=$A54)*(Nom=E$2),Argu) -> 0

Sheet Nb_renouv
A1: Nombre d'appel emis pour renouvellement
A2: Semaine | B2: Ophélie | C2: Delphine | D2: Geneviève | E2: Séverine
A3: 1 | B3: =SUMPRODUCT((Sem=$A3)*(Nom=B$2),Renouv) -> 0 | C3: =SUMPRODUCT((Sem=$A3)*(Nom=C$2),Renouv) -> 0 | D3: =SUMPRODUCT((Sem=$A3)*(Nom=D$2),Renouv) -> 0 | E3: =SUMPRODUCT((Sem=$A3)*(Nom=E$2),Renouv) -> 0
A4: 2 | B4: =SUMPRODUCT((Sem=$A4)*(Nom=B$2),Renouv) -> 0 | C4: =SUMPRODUCT((Sem=$A4)*(Nom=C$2),Renouv) -> 0 | D4: =SUMPRODUCT((Sem=$A4)*(Nom=D$2),Renouv) -> 10 | E4: =SUMPRODUCT((Sem=$A4)*(Nom=E$2),Renouv) -> 0
A5: 3 | B5: =SUMPRODUCT((Sem=$A5)*(Nom=B$2),Renouv) -> 0 | C5: =SUMPRODUCT((Sem=$A5)*(Nom=C$2),Renouv) -> 0 | D5: =SUMPRODUCT((Sem=$A5)*(Nom=D$2),Renouv) -> 0 | E5: =SUMPRODUCT((Sem=$A5)*(Nom=E$2),Renouv) -> 0
A6: 4 | B6: =SUMPRODUCT((Sem=$A6)*(Nom=B$2),Renouv) -> 0 | C6: =SUMPRODUCT((Sem=$A6)*(Nom=C$2),Renouv) -> 0 | D6: =SUMPRODUCT((Sem=$A6)*(Nom=D$2),Renouv) -> 0 | E6: =SUMPRODUCT((Sem=$A6)*(Nom=E$2),Renouv) -> 0
A7: 5 | B7: =SUMPRODUCT((Sem=$A7)*(Nom=B$2),Renouv) -> 0 | C7: =SUMPRODUCT((Sem=$A7)*(Nom=C$2),Renouv) -> 0 | D7: =SUMPRODUCT((Sem=$A7)*(Nom=D$2),Renouv) -> 0 | E7: =SUMPRODUCT((Sem=$A7)*(Nom=E$2),Renouv) -> 0
A8: 6 | B8: =SUMPRODUCT((Sem=$A8)*(Nom=B$2),Renouv) -> 0 | C8: =SUMPRODUCT((Sem=$A8)*(Nom=C$2),Renouv) -> 0 | D8: =SUMPRODUCT((Sem=$A8)*(Nom=D$2),Renouv) -> 0 | E8: =SUMPRODUCT((Sem=$A8)*(Nom=E$2),Renouv) -> 0
A9: 7 | B9: =SUMPRODUCT((Sem=$A9)*(Nom=B$2),Renouv) -> 0 | C9: =SUMPRODUCT((Sem=$A9)*(Nom=C$2),Renouv) -> 0 | D9: =SUMPRODUCT((Sem=$A9)*(Nom=D$2),Renouv) -> 0 | E9: =SUMPRODUCT((Sem=$A9)*(Nom=E$2),Renouv) -> 0
A10: 8 | B10: =SUMPRODUCT((Sem=$A10)*(Nom=B$2),Renouv) -> 0 | C10: =SUMPRODUCT((Sem=$A10)*(Nom=C$2),Renouv) -> 0 | D10: =SUMPRODUCT((Sem=$A10)*(Nom=D$2),Renouv) -> 0 | E10: =SUMPRODUCT((Sem=$A10)*(Nom=E$2),Renouv) -> 0
A11: 9 | B11: =SUMPRODUCT((Sem=$A11)*(Nom=B$2),Renouv) -> 0 | C11: =SUMPRODUCT((Sem=$A11)*(Nom=C$2),Renouv) -> 0 | D11: =SUMPRODUCT((Sem=$A11)*(Nom=D$2),Renouv) -> 0 | E11: =SUMPRODUCT((Sem=$A11)*(Nom=E$2),Renouv) -> 0
A12: 10 | B12: =SUMPRODUCT((Sem=$A12)*(Nom=B$2),Renouv) -> 0 | C12: =SUMPRODUCT((Sem=$A12)*(Nom=C$2),Renouv) -> 0 | D12: =SUMPRODUCT((Sem=$A12)*(Nom=D$2),Renouv) -> 0 | E12: =SUMPRODUCT((Sem=$A12)*(Nom=E$2),Renouv) -> 0
A13: 11 | B13: =SUMPRODUCT((Sem=$A13)*(Nom=B$2),Renouv) -> 0 | C13: =SUMPRODUCT((Sem=$A13)*(Nom=C$2),Renouv) -> 0 | D13: =SUMPRODUCT((Sem=$A13)*(Nom=D$2),Renouv) -> 0 | E13: =SUMPRODUCT((Sem=$A13)*(Nom=E$2),Renouv) -> 0
A14: 12 | B14: =SUMPRODUCT((Sem=$A14)*(Nom=B$2),Renouv) -> 0 | C14: =SUMPRODUCT((Sem=$A14)*(Nom=C$2),Renouv) -> 0 | D14: =SUMPRODUCT((Sem=$A14)*(Nom=D$2),Renouv) -> 0 | E14: =SUMPRODUCT((Sem=$A14)*(Nom=E$2),Renouv) -> 0
... A54: 52 | B54: =SUMPRODUCT((Sem=$A54)*(Nom=B$2),Renouv) -> 0 | C54: =SUMPRODUCT((Sem=$A54)*(Nom=C$2),Renouv) -> 0 | D54: =SUMPRODUCT((Sem=$A54)*(Nom=D$2),Renouv) -> 0 | E54: =SUMPRODUCT((Sem=$A54)*(Nom=E$2),Renouv) -> 0

Sheet Nb_report
A1: Nombre d'appel emis pour report
A2: Semaine | B2: Ophélie | C2: Delphine | D2: Geneviève | E2: Séverine
A3: 1 | B3: =SUMPRODUCT((Sem=$A3)*(Nom=B$2),Report) -> 0 | C3: =SUMPRODUCT((Sem=$A3)*(Nom=C$2),Report) -> 0 | D3: =SUMPRODUCT((Sem=$A3)*(Nom=D$2),Report) -> 0 | E3: =SUMPRODUCT((Sem=$A3)*(Nom=E$2),Report) -> 0
A4: 2 | B4: =SUMPRODUCT((Sem=$A4)*(Nom=B$2),Report) -> 0 | C4: =SUMPRODUCT((Sem=$A4)*(Nom=C$2),Report) -> 0 | D4: =SUMPRODUCT((Sem=$A4)*(Nom=D$2),Report) -> 5 | E4: =SUMPRODUCT((Sem=$A4)*(Nom=E$2),Report) -> 0
A5: 3 | B5: =SUMPRODUCT((Sem=$A5)*(Nom=B$2),Report) -> 0 | C5: =SUMPRODUCT((Sem=$A5)*(Nom=C$2),Report) -> 0 | D5: =SUMPRODUCT((Sem=$A5)*(Nom=D$2),Report) -> 0 | E5: =SUMPRODUCT((Sem=$A5)*(Nom=E$2),Report) -> 0
A6: 4 | B6: =SUMPRODUCT((Sem=$A6)*(Nom=B$2),Report) -> 0 | C6: =SUMPRODUCT((Sem=$A6)*(Nom=C$2),Report) -> 0 | D6: =SUMPRODUCT((Sem=$A6)*(Nom=D$2),Report) -> 0 | E6: =SUMPRODUCT((Sem=$A6)*(Nom=E$2),Report) -> 0
A7: 5 | B7: =SUMPRODUCT((Sem=$A7)*(Nom=B$2),Report) -> 0 | C7: =SUMPRODUCT((Sem=$A7)*(Nom=C$2),Report) -> 0 | D7: =SUMPRODUCT((Sem=$A7)*(Nom=D$2),Report) -> 0 | E7: =SUMPRODUCT((Sem=$A7)*(Nom=E$2),Report) -> 0
A8: 6 | B8: =SUMPRODUCT((Sem=$A8)*(Nom=B$2),Report) -> 0 | C8: =SUMPRODUCT((Sem=$A8)*(Nom=C$2),Report) -> 0 | D8: =SUMPRODUCT((Sem=$A8)*(Nom=D$2),Report) -> 0 | E8: =SUMPRODUCT((Sem=$A8)*(Nom=E$2),Report) -> 0
A9: 7 | B9: =SUMPRODUCT((Sem=$A9)*(Nom=B$2),Report) -> 0 | C9: =SUMPRODUCT((Sem=$A9)*(Nom=C$2),Report) -> 0 | D9: =SUMPRODUCT((Sem=$A9)*(Nom=D$2),Report) -> 0 | E9: =SUMPRODUCT((Sem=$A9)*(Nom=E$2),Report) -> 0
A10: 8 | B10: =SUMPRODUCT((Sem=$A10)*(Nom=B$2),Report) -> 0 | C10: =SUMPRODUCT((Sem=$A10)*(Nom=C$2),Report) -> 0 | D10: =SUMPRODUCT((Sem=$A10)*(Nom=D$2),Report) -> 0 | E10: =SUMPRODUCT((Sem=$A10)*(Nom=E$2),Report) -> 0
A11: 9 | B11: =SUMPRODUCT((Sem=$A11)*(Nom=B$2),Report) -> 0 | C11: =SUMPRODUCT((Sem=$A11)*(Nom=C$2),Report) -> 0 | D11: =SUMPRODUCT((Sem=$A11)*(Nom=D$2),Report) -> 0 | E11: =SUMPRODUCT((Sem=$A11)*(Nom=E$2),Report) -> 0
A12: 10 | B12: =SUMPRODUCT((Sem=$A12)*(Nom=B$2),Report) -> 0 | C12: =SUMPRODUCT((Sem=$A12)*(Nom=C$2),Report) -> 0 | D12: =SUMPRODUCT((Sem=$A12)*(Nom=D$2),Report) -> 0 | E12: =SUMPRODUCT((Sem=$A12)*(Nom=E$2),Report) -> 0
A13: 11 | B13: =SUMPRODUCT((Sem=$A13)*(Nom=B$2),Report) -> 0 | C13: =SUMPRODUCT((Sem=$A13)*(Nom=C$2),Report) -> 0 | D13: =SUMPRODUCT((Sem=$A13)*(Nom=D$2),Report) -> 0 | E13: =SUMPRODUCT((Sem=$A13)*(Nom=E$2),Report) -> 0
A14: 12 | B14: =SUMPRODUCT((Sem=$A14)*(Nom=B$2),Report) -> 0 | C14: =SUMPRODUCT((Sem=$A14)*(Nom=C$2),Report) -> 0 | D14: =SUMPRODUCT((Sem=$A14)*(Nom=D$2),Report) -> 0 | E14: =SUMPRODUCT((Sem=$A14)*(Nom=E$2),Report) -> 0
... A54: 52 | B54: =SUMPRODUCT((Sem=$A54)*(Nom=B$2),Report) -> 0 | C54: =SUMPRODUCT((Sem=$A54)*(Nom=C$2),Report) -> 0 | D54: =SUMPRODUCT((Sem=$A54)*(Nom=D$2),Report) -> 0 | E54: =SUMPRODUCT((Sem=$A54)*(Nom=E$2),Report) -> 0

Sheet Nb_conquete
A1: Nombre d'appel emis pour conquête
A2: Semaine | B2: Ophélie | C2: Delphine | D2: Geneviève | E2: Séverine
A3: 1 | B3: =SUMPRODUCT((Sem=$A3)*(Nom=B$2),Conq) -> 0 | C3: =SUMPRODUCT((Sem=$A3)*(Nom=C$2),Conq) -> 0 | D3: =SUMPRODUCT((Sem=$A3)*(Nom=D$2),Conq) -> 0 | E3: =SUMPRODUCT((Sem=$A3)*(Nom=E$2),Conq) -> 0
A4: 2 | B4: =SUMPRODUCT((Sem=$A4)*(Nom=B$2),Conq) -> 0 | C4: =SUMPRODUCT((Sem=$A4)*(Nom=C$2),Conq) -> 0 | D4: =SUMPRODUCT((Sem=$A4)*(Nom=D$2),Conq) -> 25 | E4: =SUMPRODUCT((Sem=$A4)*(Nom=E$2),Conq) -> 0
A5: 3 | B5: =SUMPRODUCT((Sem=$A5)*(Nom=B$2),Conq) -> 0 | C5: =SUMPRODUCT((Sem=$A5)*(Nom=C$2),Conq) -> 0 | D5: =SUMPRODUCT((Sem=$A5)*(Nom=D$2),Conq) -> 0 | E5: =SUMPRODUCT((Sem=$A5)*(Nom=E$2),Conq) -> 0
A6: 4 | B6: =SUMPRODUCT((Sem=$A6)*(Nom=B$2),Conq) -> 0 | C6: =SUMPRODUCT((Sem=$A6)*(Nom=C$2),Conq) -> 0 | D6: =SUMPRODUCT((Sem=$A6)*(Nom=D$2),Conq) -> 0 | E6: =SUMPRODUCT((Sem=$A6)*(Nom=E$2),Conq) -> 0
A7: 5 | B7: =SUMPRODUCT((Sem=$A7)*(Nom=B$2),Conq) -> 0 | C7: =SUMPRODUCT((Sem=$A7)*(Nom=C$2),Conq) -> 0 | D7: =SUMPRODUCT((Sem=$A7)*(Nom=D$2),Conq) -> 0 | E7: =SUMPRODUCT((Sem=$A7)*(Nom=E$2),Conq) -> 0
A8: 6 | B8: =SUMPRODUCT((Sem=$A8)*(Nom=B$2),Conq) -> 0 | C8: =SUMPRODUCT((Sem=$A8)*(Nom=C$2),Conq) -> 0 | D8: =SUMPRODUCT((Sem=$A8)*(Nom=D$2),Conq) -> 0 | E8: =SUMPRODUCT((Sem=$A8)*(Nom=E$2),Conq) -> 0
A9: 7 | B9: =SUMPRODUCT((Sem=$A9)*(Nom=B$2),Conq) -> 0 | C9: =SUMPRODUCT((Sem=$A9)*(Nom=C$2),Conq) -> 0 | D9: =SUMPRODUCT((Sem=$A9)*(Nom=D$2),Conq) -> 0 | E9: =SUMPRODUCT((Sem=$A9)*(Nom=E$2),Conq) -> 0
A10: 8 | B10: =SUMPRODUCT((Sem=$A10)*(Nom=B$2),Conq) -> 0 | C10: =SUMPRODUCT((Sem=$A10)*(Nom=C$2),Conq) -> 0 | D10: =SUMPRODUCT((Sem=$A10)*(Nom=D$2),Conq) -> 0 | E10: =SUMPRODUCT((Sem=$A10)*(Nom=E$2),Conq) -> 0
A11: 9 | B11: =SUMPRODUCT((Sem=$A11)*(Nom=B$2),Conq) -> 0 | C11: =SUMPRODUCT((Sem=$A11)*(Nom=C$2),Conq) -> 0 | D11: =SUMPRODUCT((Sem=$A11)*(Nom=D$2),Conq) -> 0 | E11: =SUMPRODUCT((Sem=$A11)*(Nom=E$2),Conq) -> 0
A12: 10 | B12: =SUMPRODUCT((Sem=$A12)*(Nom=B$2),Conq) -> 0 | C12: =SUMPRODUCT((Sem=$A12)*(Nom=C$2),Conq) -> 0 | D12: =SUMPRODUCT((Sem=$A12)*(Nom=D$2),Conq) -> 0 | E12: =SUMPRODUCT((Sem=$A12)*(Nom=E$2),Conq) -> 0
A13: 11 | B13: =SUMPRODUCT((Sem=$A13)*(Nom=B$2),Conq) -> 0 | C13: =SUMPRODUCT((Sem=$A13)*(Nom=C$2),Conq) -> 0 | D13: =SUMPRODUCT((Sem=$A13)*(Nom=D$2),Conq) -> 0 | E13: =SUMPRODUCT((Sem=$A13)*(Nom=E$2),Conq) -> 0
A14: 12 | B14: =SUMPRODUCT((Sem=$A14)*(Nom=B$2),Conq) -> 0 | C14: =SUMPRODUCT((Sem=$A14)*(Nom=C$2),Conq) -> 0 | D14: =SUMPRODUCT((Sem=$A14)*(Nom=D$2),Conq) -> 0 | E14: =SUMPRODUCT((Sem=$A14)*(Nom=E$2),Conq) -> 0
... A54: 52 | B54: =SUMPRODUCT((Sem=$A54)*(Nom=B$2),Conq) -> 0 | C54: =SUMPRODUCT((Sem=$A54)*(Nom=C$2),Conq) -> 0 | D54: =SUMPRODUCT((Sem=$A54)*(Nom=D$2),Conq) -> 0 | E54: =SUMPRODUCT((Sem=$A54)*(Nom=E$2),Conq) -> 0

Sheet Recapitulatif
A1: NOM | B1: NBRE D'APPELS | C1: NBRE D'ARGU | D1: RDV CONQUETE | E1: ARGU/APPELS | F1: RDV/ARGU
A2: S49 | G2: Feuille en Construction ....
A3: Delphine | B3: 214 | C3: 19 | D3: 9 | E3: 0.0888 | F3: 0.4737
A4: Geneviève | B4: 195 | C4: 16 | D4: 6 | E4: 0.0821 | F4: 0.375
A5: Ophélie | B5: 402 | C5: 49 | D5: 12 | E5: 0.1219 | F5: 0.2449
A6: Séverine | B6: 280 | C6: 9 | D6: 2 | E6: 0.0321 | F6: 0.2222
A7: TOTAL | B7: 1091 | C7: 93 | D7: 29 | E7: 0.0852 | F7: 0.3118
A8: NOM | B8: NBRE D'APPELS | C8: NBRE D'ARGU | D8: RDV CONQUETE | E8: ARGU/APPELS | F8: RDV/ARGU
A9: S50
A10: Delphine | B10: 988.1 | C10: 79.5 | D10: 22.4 | E10: 0.06486 | F10: 0.18254
A11: Geneviève | B11: 1172 | C11: 93.6 | D11: 26 | E11: 0.05914 | F11: 0.13488
A12: Ophélie | B12: 1355.9 | C12: 107.7 | D12: 29.6 | E12: 0.05342 | F12: 0.08722
A13: Séverine | B13: 1539.8 | C13: 121.8 | D13: 33.2 | E13: 0.0477 | F13: 0.03956
A14: TOTAL | B14: 1723.7 | C14: 135.9 | D14: 36.8 | E14: 0.04198 | F14: -0.0081

Sheet Variables
A1: Horo | B1: =OFFSET(Feuille1!$A$2,,,COUNTA(Feuille1!$A:$A)-1) -> 05/01/2015
B2: 42040
A3: Nom | B3: =OFFSET(Feuille1!$B$2,,,COUNTA(Horo)) -> Geneviève
A4: Sem | B4: =OFFSET(Feuille2!$B$2,,,COUNTA(Horo))+1 -> 2
A5: Emis | B5: =OFFSET(Feuille1!$C$2,,,COUNTA(Horo)) -> 100
A6: Vis | B6: =OFFSET(Feuille1!$D$2,,,COUNTA(Horo)) -> 2
A7: Argu | B7: =OFFSET(Feuille1!$E$2,,,COUNTA(Horo)) -> 50
A8: Renouv | B8: =OFFSET(Feuille1!$F$2,,,COUNTA(Horo)) -> 10
A9: Report | B9: =OFFSET(Feuille1!$G$2,,,COUNTA(Horo)) -> 5
A10: Conq | B10: =OFFSET(Feuille1!$H$2,,,COUNTA(Horo)) -> 25
