Workbook

Sheet Sommaire
A1: Horaire Hebdo vendeur | D1: 1.53125 | G1: Heures cumulées dues | J1: =L1-M1 -> -0.041666667 | K1: 0 Heures | L1: 0.041666667 | M1: 0.083333333
A2: Horaire Hebdo responsable | D2: 1.7083333 | G2: Heures cumulées acquises | J2: 0.041666667
B4: lundi | D4: mardi | F4: mercredi | H4: jeudi | J4: vendredi | L4: samedi
A5: vendeur 1 | B5: 0.375 | C5: 0.5 | D5: 0.375 | E5: 0.5 | F5: 0.375 | G5: 0.5 | H5: 0.375 | I5: 0.5 | J5: 0.375 | K5: 0.5 | L5: 0.375 | M5: 0.5 | N5: Total Hebdo | O5: Heures cumulées S-1 | P5: Heures cumulées semaine S | Q5: Total Heures cumulées
D6: 0.58333333 | E6: 0.79166667 | F6: 0.58333333 | G6: 0.79166667 | H6: 0.58333333 | I6: 0.79166667 | J6: 0.58333333 | K6: 0.79166667 | L6: 0.58333333 | M6: 0.79166667
B7: =(C5-B5)+(C6-B6) -> 0.125 | D7: =(E5-D5)+(E6-D6) -> 0.33333333 | F7: =(G5-F5)+(G6-F6) -> 0.33333333 | H7: =(I5-H5)+(I6-H6) -> 0.33333333 | J7: =(K5-J5)+(K6-J6) -> 0.33333333 | L7: =(M5-L5)+(M6-L6) -> 0.33333333 | N7: =SUM(B7:M7) -> 1.7916667 | P7: =N7-$D$1 -> 0.26041667 | Q7: =(O7+P7) -> 0.26041667
A8: vendeur 2 | N8: Total Hebdo | O8: Heures cumulées S-1 | P8: Heures cumulées S | Q8: Total Heures cumulées
B10: =(C8-B8)+(C9-B9) -> 0 | D10: =(E8-D8)+(E9-D9) -> 0 | F10: =(G8-F8)+(G9-F9) -> 0 | H10: =(I8-H8)+(I9-H9) -> 0 | J10: =(K8-J8)+(K9-J9) -> 0 | L10: =(M8-L8)+(M9-L9) -> 0 | N10: =SUM(B10:M10) -> 0 | P10: =N10-$D$2 -> -1.7083333 | Q10: =(O10+P10) -> -1.7083333
A11: Vendeur 3 | N11: Total Hebdo | O11: Heures cumulées S-1 | P11: Heures cumulées S | Q11: Total Heures cumulées
B13: =(C11-B11)+(C12-B12) -> 0 | D13: =(E11-D11)+(E12-D12) -> 0 | F13: =(G11-F11)+(G12-F12) -> 0 | H13: =(I11-H11)+(I12-H12) -> 0 | J13: =(K11-J11)+(K12-J12) -> 0 | L13: =(M11-L11)+(M12-L12) -> 0 | N13: =SUM(B13:M13) -> 0 | P13: =N13-$D$1 -> -1.53125 | Q13: =(O13+P13) -> -1.53125

Sheet Feuil1
A1: Horaire Hebdo vendeur | D1: 1.53125 | G1: Heures cumulées dues | J1: =L1-M1 -> -0.041666667 | K1: 0 Heures | L1: 0.041666667 | M1: 0.083333333
A2: Horaire Hebdo responsable | D2: 1.7083333 | G2: Heures cumulées acquises | J2: 0.041666667
B4: lundi | D4: mardi | F4: mercredi | H4: jeudi | J4: vendredi | L4: samedi
A5: Elembert | B5: =Sommaire!C5-Sommaire!B5 -> 0.125 | D5: =Sommaire!E5-Sommaire!D5 -> 0.125 | F5: =Sommaire!G5-Sommaire!F5 -> 0.125 | H5: =Sommaire!I5-Sommaire!H5 -> 0.125 | J5: =Sommaire!K5-Sommaire!J5 -> 0.125 | L5: =Sommaire!M5-Sommaire!L5 -> 0.125
B6: =Sommaire!C6-Sommaire!B6 -> 0 | D6: =Sommaire!E6-Sommaire!D6 -> 0.20833333 | F6: =Sommaire!G6-Sommaire!F6 -> 0.20833333 | H6: =Sommaire!I6-Sommaire!H6 -> 0.20833333 | J6: =Sommaire!K6-Sommaire!J6 -> 0.20833333 | L6: =Sommaire!M6-Sommaire!L6 -> 0.20833333
A8: Goulard | B8: =Sommaire!C8-Sommaire!B8 -> 0 | D8: =Sommaire!E8-Sommaire!D8 -> 0 | F8: =Sommaire!G8-Sommaire!F8 -> 0 | H8: =Sommaire!I8-Sommaire!H8 -> 0 | J8: =Sommaire!K8-Sommaire!J8 -> 0 | L8: =Sommaire!M8-Sommaire!L8 -> 0
B9: =Sommaire!C9-Sommaire!B9 -> 0 | D9: =Sommaire!E9-Sommaire!D9 -> 0 | F9: =Sommaire!G9-Sommaire!F9 -> 0 | H9: =Sommaire!I9-Sommaire!H9 -> 0 | J9: =Sommaire!K9-Sommaire!J9 -> 0 | L9: =Sommaire!M9-Sommaire!L9 -> 0
A11: Vendeur 3 | B11: =Sommaire!C11-Sommaire!B11 -> 0 | D11: =Sommaire!E11-Sommaire!D11 -> 0 | F11: =Sommaire!G11-Sommaire!F11 -> 0 | H11: =Sommaire!I11-Sommaire!H11 -> 0 | J11: =Sommaire!K11-Sommaire!J11 -> 0 | L11: =Sommaire!M11-Sommaire!L11 -> 0
B12: =Sommaire!C12-Sommaire!B12 -> 0 | D12: =Sommaire!E12-Sommaire!D12 -> 0 | F12: =Sommaire!G12-Sommaire!F12 -> 0 | H12: =Sommaire!I12-Sommaire!H12 -> 0 | J12: =Sommaire!K12-Sommaire!J12 -> 0 | L12: =Sommaire!M12-Sommaire!L12 -> 0
