Workbook

Sheet Statistique
A1: FAFI@HOME
A4: Statistiques
A7: 1 | B7: Joueurs | D7: Part | E7: J | F7: V | G7: P | H7: N | I7: BM | J7: BE | K7: Dif
A8: 2 | B8: bqys | D8: 1 | I8: =SUM(FAFIone!AH15) -> 17 | J8: =SUM(FAFIone!AI15) -> 6 | K8: =SUM(I8-J8) -> 11
A9: 3 | B9: akai005 | D9: 1 | I9: =SUM(FAFIone!AH19) -> 10 | J9: =SUM(FAFIone!AI19) -> 9 | K9: =SUM(I9-J9) -> 1
A10: 4 | B10: sethem | D10: 1 | I10: =SUM(FAFIone!AH20) -> 2 | J10: =SUM(FAFIone!AI20) -> 15 | K10: =SUM(I10-J10) -> -13
A11: 5 | B11: magik | K11: =SUM(I11-J11) -> 0
A12: 6 | B12: african | K12: =SUM(I12-J12) -> 0
A13: 7 | B13: dams | D13: 1 | I13: =SUM(FAFIone!AH18) -> 5 | J13: =SUM(FAFIone!AI18) -> 10 | K13: =SUM(I13-J13) -> -5
A14: 8 | B14: nemesis | D14: 1 | I14: =SUM(FAFIone!AH16) -> 24 | J14: =SUM(FAFIone!AI16) -> 11 | K14: =SUM(I14-J14) -> 13
A15: 9 | B15: xyoremi | D15: 1 | I15: =SUM(FAFIone!AH17) -> 6 | J15: =SUM(FAFIone!AI17) -> 13 | K15: =SUM(I15-J15) -> -7
A16: 10

Sheet FAFIone
A1: FAFI@HOME 1
A4: Phase de groupes
B7: Groupe A | D7: J | E7: V | F7: N | G7: D | H7: BM | I7: BE | J7: Dif | K7: Pts | O7: Groupe B | Q7: J | R7: V | S7: N | T7: D | U7: BM | V7: BE | W7: Dif | X7: Pts
A8: =RANK(K8,$K$8:$K$10) -> 1 | B8: =A100 -> bqys | H8: =SUM(G14,H15,G18,H19) -> 9 | I8: =SUM(H14,G15,H18,G19) -> 1 | J8: =(H8-I8) -> 8 | K8: =SUM(L14,M15,L18,M19) -> 10 | N8: =RANK(X8,$X$8:$X$10) -> 1 | O8: =A106 -> nemesis | U8: =SUM(T14,U15,T18,U19) -> 13 | V8: =SUM(U14,T15,U18,T19) -> 5 | W8: =(U8-V8) -> 8 | X8: =SUM(Y14,Z15,Y18,Z19) -> 10
A9: =RANK(K9,$K$8:$K$10) -> 3 | B9: =A102 -> sethem | H9: =SUM(H14,G16,H17,G19) -> 1 | I9: =SUM(G14,H16,G17,H19) -> 11 | J9: =(H9-I9) -> -10 | K9: =SUM(M14,L16,M17,L19) -> 0 | N9: =RANK(X9,$X$8:$X$10) -> 2 | O9: =A107 -> xyoremi | U9: =SUM(U14,T16,U17,T19) -> 4 | V9: =SUM(T14,U16,T17,U19) -> 10 | W9: =(U9-V9) -> -6 | X9: =SUM(Z14,Y16,Z17,Y19) -> 4
A10: =RANK(K10,$K$8:$K$10) -> 2 | B10: =A105 -> dams | H10: =SUM(G15,H16,G17,H18) -> 4 | I10: =SUM(H15,G16,H17,G18) -> 2 | J10: =(H10-I10) -> 2 | K10: =SUM(L15,M16,L17,M18) -> 7 | N10: =RANK(X10,$X$8:$X$10) -> 3 | O10: =A101 -> akai005 | U10: =SUM(T15,U16,T17,U18) -> 6 | V10: =SUM(U15,T16,U17,T18) -> 8 | W10: =(U10-V10) -> -2 | X10: =SUM(Y15,Z16,Y17,Z18) -> 3
B13: Matchs | O13: Matchs
D14: =B8 -> bqys | G14: 5 | H14: 1 | I14: =B9 -> sethem | L14: =IF(AND(G14="",H14=""),"",IF(G14>H14,3,IF(G14=H14,1,0))) -> 3 | M14: =IF(AND(G14="",H14=""),"",IF(G14<H14,3,IF(G14=H14,1,0))) -> 0 | Q14: =O8 -> nemesis | T14: 2 | U14: 2 | V14: =O9 -> xyoremi | Y14: =IF(AND(T14="",U14=""),"",IF(T14>U14,3,IF(T14=U14,1,0))) -> 1 | Z14: =IF(AND(T14="",U14=""),"",IF(T14<U14,3,IF(T14=U14,1,0))) -> 1 | AC14: Classement | AD14: J | AE14: V | AF14: N | AG14: D | AH14: BM | AI14: BE | AJ14: Dif
D15: =B10 -> dams | G15: 0 | H15: 0 | I15: =B8 -> bqys | L15: =IF(AND(G15="",H15=""),"",IF(G15>H15,3,IF(G15=H15,1,0))) -> 1 | M15: =IF(AND(G15="",H15=""),"",IF(G15<H15,3,IF(G15=H15,1,0))) -> 1 | Q15: =O10 -> akai005 | T15: 0 | U15: 1 | V15: =O8 -> nemesis | Y15: =IF(AND(T15="",U15=""),"",IF(T15>U15,3,IF(T15=U15,1,0))) -> 0 | Z15: =IF(AND(T15="",U15=""),"",IF(T15<U15,3,IF(T15=U15,1,0))) -> 3 | AB15: 1 | AC15: =Q31 -> bqys | AH15: =SUM(H8,G25,H26,T31) -> 17 | AI15: =SUM(I8,H25,G26,U31) -> 6 | AJ15: =(AH15-AI15) -> 11
D16: =B9 -> sethem | G16: 0 | H16: 2 | I16: =B10 -> dams | L16: =IF(AND(G16="",H16=""),"",IF(G16>H16,3,IF(G16=H16,1,0))) -> 0 | M16: =IF(AND(G16="",H16=""),"",IF(G16<H16,3,IF(G16=H16,1,0))) -> 3 | Q16: =O9 -> xyoremi | T16: 0 | U16: 2 | V16: =O10 -> akai005 | Y16: =IF(AND(T16="",U16=""),"",IF(T16>U16,3,IF(T16=U16,1,0))) -> 0 | Z16: =IF(AND(T16="",U16=""),"",IF(T16<U16,3,IF(T16=U16,1,0))) -> 3 | AB16: 2 | AC16: =V31 -> nemesis | AH16: =SUM(U8,G30,H31,U31) -> 24 | AI16: =SUM(V8,H30,G31,T31) -> 11 | AJ16: =(AH16-AI16) -> 13
D17: =B10 -> dams | G17: 2 | H17: 0 | I17: =B9 -> sethem | L17: =IF(AND(G17="",H17=""),"",IF(G17>H17,3,IF(G17=H17,1,0))) -> 3 | M17: =IF(AND(G17="",H17=""),"",IF(G17<H17,3,IF(G17=H17,1,0))) -> 0 | Q17: =O10 -> akai005 | T17: 1 | U17: 2 | V17: =O9 -> xyoremi | Y17: =IF(AND(T17="",U17=""),"",IF(T17>U17,3,IF(T17=U17,1,0))) -> 0 | Z17: =IF(AND(T17="",U17=""),"",IF(T17<U17,3,IF(T17=U17,1,0))) -> 3 | AB17: 3 | AC17: =Q28 -> xyoremi | AH17: =SUM(U9,H25,G26,T28) -> 6 | AI17: =SUM(V9,G25,H26,U28) -> 13 | AJ17: =(AH17-AI17) -> -7
D18: =B8 -> bqys | G18: 2 | H18: 0 | I18: =B10 -> dams | L18: =IF(AND(G18="",H18=""),"",IF(G18>H18,3,IF(G18=H18,1,0))) -> 3 | M18: =IF(AND(G18="",H18=""),"",IF(G18<H18,3,IF(G18=H18,1,0))) -> 0 | Q18: =O8 -> nemesis | T18: 5 | U18: 3 | V18: =O10 -> akai005 | Y18: =IF(AND(T18="",U18=""),"",IF(T18>U18,3,IF(T18=U18,1,0))) -> 3 | Z18: =IF(AND(T18="",U18=""),"",IF(T18<U18,3,IF(T18=U18,1,0))) -> 0 | AB18: 4 | AC18: =V28 -> dams | AH18: =SUM(H10,H30,G31,U28) -> 5 | AI18: =SUM(I10,G30,H31,T28) -> 10 | AJ18: =(AH18-AI18) -> -5
D19: =B9 -> sethem | G19: 0 | H19: 2 | I19: =B8 -> bqys | L19: =IF(AND(G19="",H19=""),"",IF(G19>H19,3,IF(G19=H19,1,0))) -> 0 | M19: =IF(AND(G19="",H19=""),"",IF(G19<H19,3,IF(G19=H19,1,0))) -> 3 | Q19: =O9 -> xyoremi | T19: 0 | U19: 5 | V19: =O8 -> nemesis | Y19: =IF(AND(T19="",U19=""),"",IF(T19>U19,3,IF(T19=U19,1,0))) -> 0 | Z19: =IF(AND(T19="",U19=""),"",IF(T19<U19,3,IF(T19=U19,1,0))) -> 3 | AB19: 5 | AC19: =V25 -> akai005 | AH19: =SUM(U10,U25) -> 10 | AI19: =SUM(V10,T25) -> 9 | AJ19: =(AH19-AI19) -> 1
AB20: 6 | AC20: =Q25 -> sethem | AH20: =SUM(H9,T25) -> 2 | AI20: =SUM(I9,U25) -> 15 | AJ20: =(AH20-AI20) -> -13
A21: Phase finales
D24: Demi-finale | Q24: 5eme place
D25: =B8 -> bqys | G25: 1 | H25: 1 | I25: =O9 -> xyoremi | Q25: =B9 -> sethem | T25: 1 | U25: 4 | V25: =O10 -> akai005
D26: =O9 -> xyoremi | G26: 0 | H26: 2 | I26: =B8 -> bqys
Q27: Petite finale
Q28: =O9 -> xyoremi | T28: 1 | U28: 0 | V28: =B10 -> dams
D29: Demi-finale
D30: =O8 -> nemesis | G30: 3 | H30: 1 | I30: =B10 -> dams | Q30: FINALE
D31: =B10 -> dams | G31: 0 | H31: 4 | I31: =O8 -> nemesis | Q31: =B8 -> bqys | T31: 5 | U31: 4 | V31: =O8 -> nemesis
A100: =Statistique!B8 -> bqys
A101: =Statistique!B9 -> akai005
A102: =Statistique!B10 -> sethem
A103: =Statistique!B11 -> magik
A104: =Statistique!B12 -> african
A105: =Statistique!B13 -> dams
A106: =Statistique!B14 -> nemesis
A107: =Statistique!B15 -> xyoremi
