Workbook

Sheet Feuil1
A1: maxplayers set to 32
A2: Steam config directory: C:\Program Files (x86)\Steam\steamapps\common\Source SDK Base 2007\platform\config
A3: ILocalize::AddFile() failed to load file "resource/ahl2_french.txt".
A4: Convar r_rootlod has conflicting FCVAR_CHEAT flags (child: FCVAR_CHEAT, parent: no FCVAR_CHEAT, parent wins)
A5: Convar r_eyeglintlodpixels has conflicting FCVAR_CHEAT flags (child: FCVAR_CHEAT, parent: no FCVAR_CHEAT, parent wins)
A6: Convar r_skin has conflicting FCVAR_CHEAT flags (child: no FCVAR_CHEAT, parent: FCVAR_CHEAT, parent wins)
A7: Convar mat_softwareskin has conflicting FCVAR_CHEAT flags (child: no FCVAR_CHEAT, parent: FCVAR_CHEAT, parent wins)
A8: ILocalize::AddFile() failed to load file "resource/sdktemplate_french.txt".
A9: maxplayers set to 8
A10: Adding master server 208.64.200.65:27015
A11: Adding master server 208.64.200.39:27011
A12: maxplayers set to 8
... A18: SOLID_VPHYSICS static prop with no vphysics model! (models/props/cs_office/doorknobb.mdl)
A19: SOLID_VPHYSICS static prop with no vphysics model! (models/props/cs_office/doorknobb.mdl) | K19: {=IFERROR(ADDRESS(SMALL(IF(Feuil1!$A$1:$A$5000="AHL2 Deathmatch",ROW($A$1:$A$5000)),ROWS($1:1)),1),"")}
A20: SOLID_VPHYSICS static prop with no vphysics model! (models/props/cs_office/doorknob.mdl)
A21: SOLID_VPHYSICS static prop with no vphysics model! (models/props/cs_office/doorknobb.mdl)
A22: SOLID_VPHYSICS static prop with no vphysics model! (models/props/cs_office/doorknobb.mdl)
A23: SOLID_VPHYSICS static prop with no vphysics model! (models/props/cs_office/doorknob.mdl)
A24: SOLID_VPHYSICS static prop with no vphysics model! (models/props/cs_office/doorknobb.mdl)
A25: SOLID_VPHYSICS static prop with no vphysics model! (models/props/cs_office/doorknob.mdl)
A26: SOLID_VPHYSICS static prop with no vphysics model! (models/props/cs_office/doorknobb.mdl)
A27: SOLID_VPHYSICS static prop with no vphysics model! (models/props/cs_office/doorknobb.mdl)
A28: SOLID_VPHYSICS static prop with no vphysics model! (models/props/cs_office/doorknobb.mdl)
A29: SOLID_VPHYSICS static prop with no vphysics model! (models/props/cs_office/doorknob.mdl)
A30: SOLID_VPHYSICS static prop with no vphysics model! (models/props/cs_office/doorknob.mdl)
A31: SOLID_VPHYSICS static prop with no vphysics model! (models/props/cs_office/doorknobb.mdl)
... A57: SOLID_VPHYSICS static prop with no vphysics model! (models/props/cs_office/doorknobb.mdl)
A58: exec: couldn't exec skill1.cfg | K58: AHL2 Deathmatch
A59: Executing listen server config file
A60: SERVER Gamerules: entering state 'AHLS_ROUND_STATE_INIT'
A61: Attempted to create unknown entity type weapon_smg1!
A62: Can't init weapon_smg1
A63: exec: couldn't exec listenserver.cfg
A64: SERVER Gamerules: entering state 'AHLS_ROUND_STATE_PREGAME'
A65: SERVER Gamerules: entering state 'AHLS_ROUND_STATE_STARTGAME'
A66: SERVER Gamerules: entering state 'AHLS_ROUND_STATE_RND_RUNNING'
A68: AHL2 Deathmatch
A69: Map: ahl2_killakorpb2
A70: Players: 1 / 8
A71: Build: 4104
...

Sheet Feuil2
A1: Fred | B1: a tué JM | C1: a tué Arno | D1: Total | F1: JM | G1: a tué Fred | H1: a tué Arno | I1: Total | K1: Arno | L1: a tué Fred | M1: a tué JM | N1: Total
A2: Barreta 9mm | B2: =COUNTIF(Feuil1!A1:'Feuil1'!A5000, "Fredowulf killed Casimir la Grenade with pistol_9mm.") -> 0 | C2: =COUNTIF(Feuil1!A1:'Feuil1'!A5000, "Fredowulf killed Arnoreka with pistol_9mm.") -> 0 | D2: =SUM(B2:C2) -> 0 | F2: Barreta 9mm | G2: =COUNTIF(Feuil1!A1:'Feuil1'!A5000, "Casimir la Grenade killed Fredowulf with pistol_9mm.") -> 0 | H2: =COUNTIF(Feuil1!A1:'Feuil1'!A5000, "Casimir la Grenade killed Arnoreka with pistol_9mm.") -> 0 | I2: =SUM(G2:H2) -> 0 | K2: Barreta 9mm | L2: =COUNTIF(Feuil1!A1:'Feuil1'!A5000, "Arnoreka killed Fredowulf with pistol_9mm.") -> 0 | M2: =COUNTIF(Feuil1!A1:'Feuil1'!A5000, "Arnoreka killed Casimir la Grenade with pistol_9mm.") -> 0 | N2: =SUM(L2:M2) -> 0
A3: Colt 45ACP | B3: =COUNTIF(Feuil1!A1:'Feuil1'!A5000, "Fredowulf killed Casimir la Grenade with pistol_45ACP.") -> 0 | C3: =COUNTIF(Feuil1!A1:'Feuil1'!A5000, "Fredowulf killed Arnoreka with pistol_45ACP.") -> 0 | D3: =SUM(B3:C3) -> 0 | F3: Colt 45ACP | G3: =COUNTIF(Feuil1!A1:'Feuil1'!A5000, "Casimir la Grenade killed Fredowulf with pistol_45ACP.") -> 0 | H3: =COUNTIF(Feuil1!A1:'Feuil1'!A5000, "Casimir la Grenade killed Arnoreka with pistol_45ACP.") -> 0 | I3: =SUM(G3:H3) -> 0 | K3: Colt 45ACP | L3: =COUNTIF(Feuil1!A1:'Feuil1'!A5000, "Arnoreka killed Fredowulf with pistol_45ACP.") -> 0 | M3: =COUNTIF(Feuil1!A1:'Feuil1'!A5000, "Arnoreka killed Casimir la Grenade with pistol_45ACP.") -> 0 | N3: =SUM(L3:M3) -> 0
A4: Magnum | B4: =COUNTIF(Feuil1!A1:'Feuil1'!A5000, "Fredowulf killed Casimir la Grenade with revolver.") -> 13 | C4: =COUNTIF(Feuil1!A1:'Feuil1'!A5000, "Fredowulf killed Arnoreka with revolver.") -> 0 | D4: =SUM(B4:C4) -> 13 | F4: Magnum | G4: =COUNTIF(Feuil1!A1:'Feuil1'!A5000, "Casimir la Grenade killed Fredowulf with revolver.") -> 1 | H4: =COUNTIF(Feuil1!A1:'Feuil1'!A5000, "Casimir la Grenade killed Arnoreka with revolver.") -> 0 | I4: =SUM(G4:H4) -> 1 | K4: Magnum | L4: =COUNTIF(Feuil1!A1:'Feuil1'!A5000, "Arnoreka killed Fredowulf with revolver.") -> 0 | M4: =COUNTIF(Feuil1!A1:'Feuil1'!A5000, "Arnoreka killed Casimir la Grenade with revolver.") -> 0 | N4: =SUM(L4:M4) -> 0
A5: Desert Eagle 50AE | B5: =COUNTIF(Feuil1!A1:'Feuil1'!A5000, "Fredowulf killed Casimir la Grenade with pistol_50AE.") -> 0 | C5: =COUNTIF(Feuil1!A1:'Feuil1'!A5000, "Fredowulf killed Arnoreka with pistol_50AE.") -> 0 | D5: =SUM(B5:C5) -> 0 | F5: Desert Eagle 50AE | G5: =COUNTIF(Feuil1!A1:'Feuil1'!A5000, "Casimir la Grenade killed Fredowulf with pistol_50AE.") -> 0 | H5: =COUNTIF(Feuil1!A1:'Feuil1'!A5000, "Casimir la Grenade killed Arnoreka with pistol_50AE.") -> 0 | I5: =SUM(G5:H5) -> 0 | K5: Desert Eagle 50AE | L5: =COUNTIF(Feuil1!A1:'Feuil1'!A5000, "Arnoreka killed Fredowulf with pistol_50AE.") -> 0 | M5: =COUNTIF(Feuil1!A1:'Feuil1'!A5000, "Arnoreka killed Casimir la Grenade with pistol_50AE.") -> 0 | N5: =SUM(L5:M5) -> 0
A6: Akimbo 9mm | B6: =COUNTIF(Feuil1!A1:'Feuil1'!A5000, "Fredowulf killed Casimir la Grenade with pistol_9mm_akimbo.") -> 1 | C6: =COUNTIF(Feuil1!A1:'Feuil1'!A5000, "Fredowulf killed Arnoreka with pistol_9mm_akimbo.") -> 0 | D6: =SUM(B6:C6) -> 1 | F6: Akimbo 9mm | G6: =COUNTIF(Feuil1!A1:'Feuil1'!A5000, "Casimir la Grenade killed Fredowulf with pistol_9mm_akimbo.") -> 0 | H6: =COUNTIF(Feuil1!A1:'Feuil1'!A5000, "Casimir la Grenade killed Arnoreka with pistol_9mm_akimbo.") -> 0 | I6: =SUM(G6:H6) -> 0 | K6: Akimbo 9mm | L6: =COUNTIF(Feuil1!A1:'Feuil1'!A5000, "Arnoreka killed Fredowulf with pistol_9mm_akimbo.") -> 0 | M6: =COUNTIF(Feuil1!A1:'Feuil1'!A5000, "Arnoreka killed Casimir la Grenade with pistol_9mm_akimbo.") -> 0 | N6: =SUM(L6:M6) -> 0
A7: Akimbo 45ACP | B7: =COUNTIF(Feuil1!A1:'Feuil1'!A5000, "Fredowulf killed Casimir la Grenade with pistol_45ACP_akimbo.") -> 0 | C7: =COUNTIF(Feuil1!A1:'Feuil1'!A5000, "Fredowulf killed Arnoreka with pistol_45ACP_akimbo.") -> 0 | D7: =SUM(B7:C7) -> 0 | F7: Akimbo 45ACP | G7: =COUNTIF(Feuil1!A1:'Feuil1'!A5000, "Casimir la Grenade killed Fredowulf with pistol_45ACP_akimbo.") -> 0 | H7: =COUNTIF(Feuil1!A1:'Feuil1'!A5000, "Casimir la Grenade killed Arnoreka with pistol_45ACP_akimbo.") -> 0 | I7: =SUM(G7:H7) -> 0 | K7: Akimbo 45ACP | L7: =COUNTIF(Feuil1!A1:'Feuil1'!A5000, "Arnoreka killed Fredowulf with pistol_45ACP_akimbo.") -> 0 | M7: =COUNTIF(Feuil1!A1:'Feuil1'!A5000, "Arnoreka killed Casimir la Grenade with pistol_45ACP_akimbo.") -> 0 | N7: =SUM(L7:M7) -> 0
A8: Kung-Fu | B8: =COUNTIF(Feuil1!A1:'Feuil1'!A5000, "Fredowulf killed Casimir la Grenade with kungfu.") -> 0 | C8: =COUNTIF(Feuil1!A1:'Feuil1'!A5000, "Fredowulf killed Arnoreka with kungfu.") -> 0 | D8: =SUM(B8:C8) -> 0 | F8: Kung-Fu | G8: =COUNTIF(Feuil1!A1:'Feuil1'!A5000, "Casimir la Grenade killed Fredowulf with kungfu.") -> 0 | H8: =COUNTIF(Feuil1!A1:'Feuil1'!A5000, "Casimir la Grenade killed Arnoreka with kungfu.") -> 0 | I8: =SUM(G8:H8) -> 0 | K8: Kung-Fu | L8: =COUNTIF(Feuil1!A1:'Feuil1'!A5000, "Arnoreka killed Fredowulf with kungfu.") -> 0 | M8: =COUNTIF(Feuil1!A1:'Feuil1'!A5000, "Arnoreka killed Casimir la Grenade with kungfu.") -> 0 | N8: =SUM(L8:M8) -> 0
A9: Grenade | B9: =COUNTIF(Feuil1!A1:'Feuil1'!A5000, "Fredowulf killed Casimir la Grenade with grenade.") -> 1 | C9: =COUNTIF(Feuil1!A1:'Feuil1'!A5000, "Fredowulf killed Arnoreka with grenade.") -> 0 | D9: =SUM(B9:C9) -> 1 | F9: Grenade | G9: =COUNTIF(Feuil1!A1:'Feuil1'!A5000, "Casimir la Grenade killed Fredowulf with grenade.") -> 1 | H9: =COUNTIF(Feuil1!A1:'Feuil1'!A5000, "Casimir la Grenade killed Arnoreka with grenade.") -> 0 | I9: =SUM(G9:H9) -> 1 | K9: Grenade | L9: =COUNTIF(Feuil1!A1:'Feuil1'!A5000, "Arnoreka killed Fredowulf with grenade.") -> 0 | M9: =COUNTIF(Feuil1!A1:'Feuil1'!A5000, "Arnoreka killed Casimir la Grenade with grenade.") -> 0 | N9: =SUM(L9:M9) -> 0
A10: Couteau | B10: =COUNTIF(Feuil1!A1:'Feuil1'!A5000, "Fredowulf killed Casimir la Grenade with knife.") -> 0 | C10: =COUNTIF(Feuil1!A1:'Feuil1'!A5000, "Fredowulf killed Arnoreka with knife.") -> 0 | D10: =SUM(B10:C10) -> 0 | F10: Couteau | G10: =COUNTIF(Feuil1!A1:'Feuil1'!A5000, "Casimir la Grenade killed Fredowulf with knife.") -> 0 | H10: =COUNTIF(Feuil1!A1:'Feuil1'!A5000, "Casimir la Grenade killed Arnoreka with knife.") -> 0 | I10: =SUM(G10:H10) -> 0 | K10: Couteau | L10: =COUNTIF(Feuil1!A1:'Feuil1'!A5000, "Arnoreka killed Fredowulf with knife.") -> 0 | M10: =COUNTIF(Feuil1!A1:'Feuil1'!A5000, "Arnoreka killed Casimir la Grenade with knife.") -> 0 | N10: =SUM(L10:M10) -> 0
A11: Fusil d'assaut | B11: =COUNTIF(Feuil1!A1:'Feuil1'!A5000, "Fredowulf killed Casimir la Grenade with assaultrifle.") -> 0 | C11: =COUNTIF(Feuil1!A1:'Feuil1'!A5000, "Fredowulf killed Arnoreka with assaultrifle.") -> 0 | D11: =SUM(B11:C11) -> 0 | F11: Fusil d'assaut | G11: =COUNTIF(Feuil1!A1:'Feuil1'!A5000, "Casimir la Grenade killed Fredowulf with assaultrifle.") -> 7 | H11: =COUNTIF(Feuil1!A1:'Feuil1'!A5000, "Casimir la Grenade killed Arnoreka with assaultrifle.") -> 0 | I11: =SUM(G11:H11) -> 7 | K11: Fusil d'assaut | L11: =COUNTIF(Feuil1!A1:'Feuil1'!A5000, "Arnoreka killed Fredowulf with assaultrifle.") -> 0 | M11: =COUNTIF(Feuil1!A1:'Feuil1'!A5000, "Arnoreka killed Casimir la Grenade with assaultrifle.") -> 0 | N11: =SUM(L11:M11) -> 0
A12: Shotgun | B12: =COUNTIF(Feuil1!A1:'Feuil1'!A5000, "Fredowulf killed Casimir la Grenade with shotgun.") -> 0 | C12: =COUNTIF(Feuil1!A1:'Feuil1'!A5000, "Fredowulf killed Arnoreka with shotgun.") -> 0 | D12: =SUM(B12:C12) -> 0 | F12: Shotgun | G12: =COUNTIF(Feuil1!A1:'Feuil1'!A5000, "Casimir la Grenade killed Fredowulf with shotgun.") -> 0 | H12: =COUNTIF(Feuil1!A1:'Feuil1'!A5000, "Casimir la Grenade killed Arnoreka with shotgun.") -> 0 | I12: =SUM(G12:H12) -> 0 | K12: Shotgun | L12: =COUNTIF(Feuil1!A1:'Feuil1'!A5000, "Arnoreka killed Fredowulf with shotgun.") -> 0 | M12: =COUNTIF(Feuil1!A1:'Feuil1'!A5000, "Arnoreka killed Casimir la Grenade with shotgun.") -> 0 | N12: =SUM(L12:M12) -> 0
A13: Sniper Rifle | B13: =COUNTIF(Feuil1!A1:'Feuil1'!A5000, "Fredowulf killed Casimir la Grenade with snipperrifle.") -> 0 | C13: =COUNTIF(Feuil1!A1:'Feuil1'!A5000, "Fredowulf killed Arnoreka with snipperrifle.") -> 0 | D13: =SUM(B13:C13) -> 0 | F13: Sniper Rifle | G13: =COUNTIF(Feuil1!A1:'Feuil1'!A5000, "Casimir la Grenade killed Fredowulf with snipperrifle.") -> 0 | H13: =COUNTIF(Feuil1!A1:'Feuil1'!A5000, "Casimir la Grenade killed Arnoreka with snipperrifle.") -> 0 | I13: =SUM(G13:H13) -> 0 | K13: Sniper Rifle | L13: =COUNTIF(Feuil1!A1:'Feuil1'!A5000, "Arnoreka killed Fredowulf with snipperrifle.") -> 0 | M13: =COUNTIF(Feuil1!A1:'Feuil1'!A5000, "Arnoreka killed Casimir la Grenade with snipperrifle.") -> 0 | N13: =SUM(L13:M13) -> 0
A14: Submachinegun | B14: =COUNTIF(Feuil1!A1:'Feuil1'!A5000, "Fredowulf killed Casimir la Grenade with submachinegun.") -> 0 | C14: =COUNTIF(Feuil1!A1:'Feuil1'!A5000, "Fredowulf killed Arnoreka with submachinegun.") -> 0 | D14: =SUM(B14:C14) -> 0 | F14: Submachinegun | G14: =COUNTIF(Feuil1!A1:'Feuil1'!A5000, "Casimir la Grenade killed Fredowulf with submachinegun.") -> 0 | H14: =COUNTIF(Feuil1!A1:'Feuil1'!A5000, "Casimir la Grenade killed Arnoreka with submachinegun.") -> 0 | I14: =SUM(G14:H14) -> 0 | K14: Submachinegun | L14: =COUNTIF(Feuil1!A1:'Feuil1'!A5000, "Arnoreka killed Fredowulf with submachinegun.") -> 0 | M14: =COUNTIF(Feuil1!A1:'Feuil1'!A5000, "Arnoreka killed Casimir la Grenade with submachinegun.") -> 0 | N14: =SUM(L14:M14) -> 0
A15: Sawnoff | B15: =COUNTIF(Feuil1!A1:'Feuil1'!A5000, "Fredowulf killed Casimir la Grenade with sawnoff.") -> 13 | C15: =COUNTIF(Feuil1!A1:'Feuil1'!A5000, "Fredowulf killed Arnoreka with sawnoff.") -> 0 | D15: =SUM(B15:C15) -> 13 | F15: Sawnoff | G15: =COUNTIF(Feuil1!A1:'Feuil1'!A5000, "Casimir la Grenade killed Fredowulf with sawnoff.") -> 0 | H15: =COUNTIF(Feuil1!A1:'Feuil1'!A5000, "Casimir la Grenade killed Arnoreka with sawnoff.") -> 0 | I15: =SUM(G15:H15) -> 0 | K15: Sawnoff | L15: =COUNTIF(Feuil1!A1:'Feuil1'!A5000, "Arnoreka killed Fredowulf with sawnoff.") -> 0 | M15: =COUNTIF(Feuil1!A1:'Feuil1'!A5000, "Arnoreka killed Casimir la Grenade with sawnoff.") -> 0 | N15: =SUM(L15:M15) -> 0
A16: Headshot | B16: =COUNTIF(Feuil1!A1:'Feuil1'!A5000, "Fredowulf killed Casimir la Grenade with headshot.") -> 4 | C16: =COUNTIF(Feuil1!A1:'Feuil1'!A5000, "Fredowulf killed Arnoreka with headshot.") -> 0 | D16: =SUM(B16:C16) -> 4 | F16: Headshot | G16: =COUNTIF(Feuil1!A1:'Feuil1'!A5000, "Casimir la Grenade killed Fredowulf with headshot.") -> 8 | H16: =COUNTIF(Feuil1!A1:'Feuil1'!A5000, "Casimir la Grenade killed Arnoreka with headshot.") -> 0 | I16: =SUM(G16:H16) -> 8 | K16: Headshot | L16: =COUNTIF(Feuil1!A1:'Feuil1'!A5000, "Arnoreka killed Fredowulf with headshot.") -> 0 | M16: =COUNTIF(Feuil1!A1:'Feuil1'!A5000, "Arnoreka killed Casimir la Grenade with headshot.") -> 0 | N16: =SUM(L16:M16) -> 0
A18: Somme | B18: =SUM(B2:B16) -> 32 | C18: =SUM(C2:C16) -> 0 | D18: =SUM(B18:C18) -> 32 | F18: Somme | G18: =SUM(G2:G16) -> 17 | H18: =SUM(H2:H16) -> 0 | I18: =SUM(G18:H18) -> 17 | K18: Somme | L18: =SUM(L2:L16) -> 0 | M18: =SUM(M2:M16) -> 0 | N18: =SUM(L18:M18) -> 0
A21: Fred | F21: JM | K21: Arno
A22: Tué par chute | B22: =COUNTIF(Feuil1!A1:'Feuil1'!A5000, "Fredowulf died.") -> 0 | F22: Tué par chute | G22: =COUNTIF(Feuil1!A1:'Feuil1'!A5000, "Casimir la Grenade died.") -> 0 | K22: Tué par chute | L22: =COUNTIF(Feuil1!A1:'Feuil1'!A5000, "Arnoreka died.") -> 0
A23: Tué par sa grenade | B23: =COUNTIF(Feuil1!A1:'Feuil1'!A5000, "Fredowulf suicided.") -> 0 | F23: Tué par sa grenade | G23: =COUNTIF(Feuil1!A1:'Feuil1'!A5000, "Casimir la Grenade suicided.") -> 2 | K23: Tué par sa grenade | L23: =COUNTIF(Feuil1!A1:'Feuil1'!A5000, "Arnoreka suicided.") -> 0
A24: Tué par JM | B24: =G18 -> 17 | F24: Tué par Fred | G24: =B18 -> 32 | K24: Tué par Fred | L24: =C18 -> 0
A25: Tué par Arno | B25: =(L18) -> 0 | F25: Tué par Arno | G25: =M18 -> 0 | K25: Tué par JM | L25: =H18 -> 0
A26: Total morts | B26: =SUM(B22:B25) -> 17 | F26: Total morts | G26: =SUM(G22:G25) -> 34 | K26: Total morts | L26: =SUM(L22:L25) -> 0
A30: Nombre de niveaux | B30: =COUNTIF(Feuil1!A1:'Feuil1'!A5000,"AHL2 Deathmatch") -> 14 | G30: {=IFERROR(ADDRESS(SMALL(IF(Feuil1!$A$1:'Feuil1'!$A$5000="AHL2 Deathmatch",ROW(Feuil1!$A$1:'Feuil1'!$A$5000)),ROWS($1:1)),1),"")}
A31: Durée d'une map | B31: 5
A32: Durée de la session | B32: =B30*B31 -> 70

Sheet Feuil3
A1: banane
A2: banane
F8: =IFERROR(ADDRESS(SMALL(IF(A1:A2="BANANE",ROW(A1:A2)),ROWS($1:1)),1),"")
A25: =IF(Feuil1!A25="AHL2 Deathmatch", ROW(Feuil1!A25)) -> FALSE
A26: =IF(Feuil1!A26="AHL2 Deathmatch", ROW(Feuil1!A26)) -> FALSE
A27: =IF(Feuil1!A27="AHL2 Deathmatch", ROW(Feuil1!A27)) -> FALSE
A28: =IF(Feuil1!A28="AHL2 Deathmatch", ROW(Feuil1!A28)) -> FALSE
A29: =IF(Feuil1!A29="AHL2 Deathmatch", ROW(Feuil1!A29)) -> FALSE
A30: =IF(Feuil1!A30="AHL2 Deathmatch", ROW(Feuil1!A30)) -> FALSE
A31: =IF(Feuil1!A31="AHL2 Deathmatch", ROW(Feuil1!A31)) -> FALSE
A32: =IF(Feuil1!A32="AHL2 Deathmatch", ROW(Feuil1!A32)) -> FALSE
A33: =IF(Feuil1!A33="AHL2 Deathmatch", ROW(Feuil1!A33)) -> FALSE
A34: =IF(Feuil1!A34="AHL2 Deathmatch", ROW(Feuil1!A34)) -> FALSE
A35: =IF(Feuil1!A35="AHL2 Deathmatch", ROW(Feuil1!A35)) -> FALSE
A36: =IF(Feuil1!A36="AHL2 Deathmatch", ROW(Feuil1!A36)) -> FALSE
... A5742: =IF(Feuil1!A5742="AHL2 Deathmatch", ROW(Feuil1!A5742)) -> FALSE
